{"text_format":"1","workbook":"xlsx","n_sheets":3,"sheets":["Main","Symbols","IUSG"],"not_rendered":{"charts":2,"images":3,"macros":1,"external_links":0,"defined_names":0,"comments":0,"pivot_tables":0},"unopened":[],"bounds":{"document_bytes":16777216,"sheet_cells":100000,"rows_first":2000,"rows_last":500,"rows_between":2000,"halvings":0,"cell_chars":16384,"cell_head_chars":4096},"cells_cut":0,"cells_raw":0,"read":"whole","date_system":"1900"}

{"sheet":"Main","index":0,"n_rows":50,"n_cols":28,"rows_kept":50,"cut":false,"hidden":false,"merged":[[48,9,48,21],[45,2,45,6],[45,14,45,15],[46,2,46,6],[46,14,46,15],[47,2,47,6],[47,14,47,15],[42,2,42,6],[42,14,42,15],[43,2,43,6],[43,14,43,15],[44,2,44,6],[44,14,44,15],[39,2,39,6],[39,14,39,15],[40,2,40,6],[40,14,40,15],[41,2,41,6],[41,14,41,15],[36,2,36,6],[36,14,36,15],[37,2,37,6],[37,14,37,15],[38,2,38,6],[38,14,38,15],[33,2,33,6],[33,14,33,15],[34,2,34,6],[34,14,34,15],[35,2,35,6],[35,14,35,15],[30,2,30,6],[30,14,30,15],[31,2,31,6],[31,14,31,15],[32,2,32,6],[32,14,32,15],[26,18,26,30],[27,2,27,6],[27,14,27,15],[28,2,28,6],[28,14,28,15],[29,2,29,6],[29,14,29,15],[24,2,24,6],[24,14,24,15],[25,2,25,6],[25,14,25,15],[26,2,26,6],[26,14,26,15],[21,2,21,6],[21,14,21,15],[22,2,22,6],[22,14,22,15],[23,2,23,6],[23,14,23,15],[18,2,18,6],[18,14,18,15],[19,2,19,6],[19,14,19,15],[20,2,20,6],[20,14,20,15],[15,2,15,6],[15,14,15,15],[16,2,16,6],[16,14,16,15],[17,2,17,6],[17,14,17,15],[12,2,12,6],[12,14,12,15],[13,2,13,6],[13,14,13,15],[14,2,14,6],[14,14,14,15],[9,2,9,6],[9,14,9,15],[10,2,10,6],[10,14,10,15],[11,2,11,6],[11,14,11,15],[6,2,6,6],[6,14,6,15],[7,2,7,6],[7,14,7,15],[8,2,8,6],[8,14,8,15],[5,2,5,6],[5,14,5,15],[1,1,2,4],[1,5,2,26],[1,27,2,30],[4,1,4,16],[4,18,4,30]]}
[]
[null,null,null,null,null,"CQG iShares Core S&P U.S. Growth ETF Performance",null,null,null,null,null,null,null,null,null,null,null,null,null,null,null,null,null,null,null,null,null,{"$f":"RTD(\"cqg.rtd\", ,\"SystemInfo\", \"Linetime\")","v":45736.309537037043}]
[]
[]
[null,"Exchange Traded Funds Performance",null,null,null,null,null,null,null,null,null,null,null,null,null,null,null,null,"Top 15 Performing Companies "]
[null,"Symbol","Description",null,null,null,null,"Last","NC","%NC","NC/ATR","Open","High","Low","Volume",null,"Ratio"]
[null,"IUSG",{"$f":"IFERROR(RTD(\"cqg.rtd\", ,\"ContractData\",B7, \"LongDescription\",, \"T\"),\"\")","v":"iShares Core U.S. Growth ETF"},null,null,null,null,{"$f":"IFERROR(RTD(\"cqg.rtd\", ,\"ContractData\",B7, \"LastTradeToday\",, \"T\"),\"\")","v":""},{"$f":"IFERROR(RTD(\"cqg.rtd\", ,\"ContractData\",B7, \"NetLastTradeToday\",, \"T\"),\"\")","v":""},{"$f":"IFERROR(RTD(\"cqg.rtd\", ,\"ContractData\",B7, \"PerCentNetLastTrade\",, \"T\")/100,\"\")","v":""},{"$f":" IFERROR(I7/RTD(\"cqg.rtd\",,\"StudyData\",B7, \"ATR\", \"MaType=Sim,Period=10\", \"ATR\",\"D\",\"-1\",\"ALL\",,,\"FALSE\",\"T\")/100,\"\")","v":""},{"$f":"IFERROR(RTD(\"cqg.rtd\", ,\"ContractData\",B7, \"OPen\",, \"T\"),\"\")","v":""},{"$f":"IFERROR(RTD(\"cqg.rtd\", ,\"ContractData\", B7, \"HIgh\",, \"T\"),\"\")","v":""},{"$f":"IFERROR(RTD(\"cqg.rtd\", ,\"ContractData\",B7, \"LOw\",, \"T\"),\"\")","v":""},{"$f":"IFERROR(RTD(\"cqg.rtd\", ,\"ContractData\",B7, \"T_CVol\",, \"T\"),\"\")","v":28},null,{"$f":" IFERROR(O7/RTD(\"cqg.rtd\",,\"StudyData\",B7, \"MA\", \"InputChoice=Vol,MAType=Sim,Period=21\", \"MA\",\"D\",\"-1\",\"all\",,,,\"T\"),\"\")","v":3.952870755579813E-5}]
[null,"SPY",{"$f":"IFERROR(RTD(\"cqg.rtd\", ,\"ContractData\",B8, \"LongDescription\",, \"T\"),\"\")","v":"SPDR S&P 500"},null,null,null,null,{"$f":"IFERROR(RTD(\"cqg.rtd\", ,\"ContractData\",B8, \"LastTradeToday\",, \"T\"),\"\")","v":""},{"$f":"IFERROR(RTD(\"cqg.rtd\", ,\"ContractData\",B8, \"NetLastTradeToday\",, \"T\"),\"\")","v":""},{"$f":"IFERROR(RTD(\"cqg.rtd\", ,\"ContractData\",B8, \"PerCentNetLastTrade\",, \"T\")/100,\"\")","v":""},{"$f":" IFERROR(I8/RTD(\"cqg.rtd\",,\"StudyData\",B8, \"ATR\", \"MaType=Sim,Period=10\", \"ATR\",\"D\",\"-1\",\"ALL\",,,\"FALSE\",\"T\")/100,\"\")","v":""},{"$f":"IFERROR(RTD(\"cqg.rtd\", ,\"ContractData\",B8, \"OPen\",, \"T\"),\"\")","v":""},{"$f":"IFERROR(RTD(\"cqg.rtd\", ,\"ContractData\", B8, \"HIgh\",, \"T\"),\"\")","v":""},{"$f":"IFERROR(RTD(\"cqg.rtd\", ,\"ContractData\",B8, \"LOw\",, \"T\"),\"\")","v":""},{"$f":"IFERROR(RTD(\"cqg.rtd\", ,\"ContractData\",B8, \"T_CVol\",, \"T\"),\"\")","v":1017881},null,{"$f":" IFERROR(O8/RTD(\"cqg.rtd\",,\"StudyData\",B8, \"MA\", \"InputChoice=Vol,MAType=Sim,Period=21\", \"MA\",\"D\",\"-1\",\"all\",,,,\"T\"),\"\")","v":1.4736040090156452E-2}]
[null,"XLF",{"$f":"IFERROR(RTD(\"cqg.rtd\", ,\"ContractData\",B9, \"LongDescription\",, \"T\"),\"\")","v":"Financial Select Sector SPDR"},null,null,null,null,{"$f":"IFERROR(RTD(\"cqg.rtd\", ,\"ContractData\",B9, \"LastTradeToday\",, \"T\"),\"\")","v":""},{"$f":"IFERROR(RTD(\"cqg.rtd\", ,\"ContractData\",B9, \"NetLastTradeToday\",, \"T\"),\"\")","v":""},{"$f":"IFERROR(RTD(\"cqg.rtd\", ,\"ContractData\",B9, \"PerCentNetLastTrade\",, \"T\")/100,\"\")","v":""},{"$f":" IFERROR(I9/RTD(\"cqg.rtd\",,\"StudyData\",B9, \"ATR\", \"MaType=Sim,Period=10\", \"ATR\",\"D\",\"-1\",\"ALL\",,,\"FALSE\",\"T\")/100,\"\")","v":""},{"$f":"IFERROR(RTD(\"cqg.rtd\", ,\"ContractData\",B9, \"OPen\",, \"T\"),\"\")","v":""},{"$f":"IFERROR(RTD(\"cqg.rtd\", ,\"ContractData\", B9, \"HIgh\",, \"T\"),\"\")","v":""},{"$f":"IFERROR(RTD(\"cqg.rtd\", ,\"ContractData\",B9, \"LOw\",, \"T\"),\"\")","v":""},{"$f":"IFERROR(RTD(\"cqg.rtd\", ,\"ContractData\",B9, \"T_CVol\",, \"T\"),\"\")","v":149097},null,{"$f":" IFERROR(O9/RTD(\"cqg.rtd\",,\"StudyData\",B9, \"MA\", \"InputChoice=Vol,MAType=Sim,Period=21\", \"MA\",\"D\",\"-1\",\"all\",,,,\"T\"),\"\")","v":2.6039578572290166E-3}]
[null,"IWF",{"$f":"IFERROR(RTD(\"cqg.rtd\", ,\"ContractData\",B10, \"LongDescription\",, \"T\"),\"\")","v":"iShares Russell 1000 Growth ETF"},null,null,null,null,{"$f":"IFERROR(RTD(\"cqg.rtd\", ,\"ContractData\",B10, \"LastTradeToday\",, \"T\"),\"\")","v":""},{"$f":"IFERROR(RTD(\"cqg.rtd\", ,\"ContractData\",B10, \"NetLastTradeToday\",, \"T\"),\"\")","v":""},{"$f":"IFERROR(RTD(\"cqg.rtd\", ,\"ContractData\",B10, \"PerCentNetLastTrade\",, \"T\")/100,\"\")","v":""},{"$f":" IFERROR(I10/RTD(\"cqg.rtd\",,\"StudyData\",B10, \"ATR\", \"MaType=Sim,Period=10\", \"ATR\",\"D\",\"-1\",\"ALL\",,,\"FALSE\",\"T\")/100,\"\")","v":""},{"$f":"IFERROR(RTD(\"cqg.rtd\", ,\"ContractData\",B10, \"OPen\",, \"T\"),\"\")","v":""},{"$f":"IFERROR(RTD(\"cqg.rtd\", ,\"ContractData\", B10, \"HIgh\",, \"T\"),\"\")","v":""},{"$f":"IFERROR(RTD(\"cqg.rtd\", ,\"ContractData\",B10, \"LOw\",, \"T\"),\"\")","v":""},{"$f":"IFERROR(RTD(\"cqg.rtd\", ,\"ContractData\",B10, \"T_CVol\",, \"T\"),\"\")","v":26},null,{"$f":" IFERROR(O10/RTD(\"cqg.rtd\",,\"StudyData\",B10, \"MA\", \"InputChoice=Vol,MAType=Sim,Period=21\", \"MA\",\"D\",\"-1\",\"all\",,,,\"T\"),\"\")","v":1.3343921466183162E-5}]
[null,"XLRE",{"$f":"IFERROR(RTD(\"cqg.rtd\", ,\"ContractData\",B11, \"LongDescription\",, \"T\"),\"\")","v":"Real Estate Select Sector SPDR"},null,null,null,null,{"$f":"IFERROR(RTD(\"cqg.rtd\", ,\"ContractData\",B11, \"LastTradeToday\",, \"T\"),\"\")","v":""},{"$f":"IFERROR(RTD(\"cqg.rtd\", ,\"ContractData\",B11, \"NetLastTradeToday\",, \"T\"),\"\")","v":""},{"$f":"IFERROR(RTD(\"cqg.rtd\", ,\"ContractData\",B11, \"PerCentNetLastTrade\",, \"T\")/100,\"\")","v":""},{"$f":" IFERROR(I11/RTD(\"cqg.rtd\",,\"StudyData\",B11, \"ATR\", \"MaType=Sim,Period=10\", \"ATR\",\"D\",\"-1\",\"ALL\",,,\"FALSE\",\"T\")/100,\"\")","v":""},{"$f":"IFERROR(RTD(\"cqg.rtd\", ,\"ContractData\",B11, \"OPen\",, \"T\"),\"\")","v":""},{"$f":"IFERROR(RTD(\"cqg.rtd\", ,\"ContractData\", B11, \"HIgh\",, \"T\"),\"\")","v":""},{"$f":"IFERROR(RTD(\"cqg.rtd\", ,\"ContractData\",B11, \"LOw\",, \"T\"),\"\")","v":""},{"$f":"IFERROR(RTD(\"cqg.rtd\", ,\"ContractData\",B11, \"T_CVol\",, \"T\"),\"\")","v":882},null,{"$f":" IFERROR(O11/RTD(\"cqg.rtd\",,\"StudyData\",B11, \"MA\", \"InputChoice=Vol,MAType=Sim,Period=21\", \"MA\",\"D\",\"-1\",\"all\",,,,\"T\"),\"\")","v":1.4750610867775765E-4}]
[null,"IWM",{"$f":"IFERROR(RTD(\"cqg.rtd\", ,\"ContractData\",B12, \"LongDescription\",, \"T\"),\"\")","v":"iShares Russell 2000 ETF"},null,null,null,null,{"$f":"IFERROR(RTD(\"cqg.rtd\", ,\"ContractData\",B12, \"LastTradeToday\",, \"T\"),\"\")","v":""},{"$f":"IFERROR(RTD(\"cqg.rtd\", ,\"ContractData\",B12, \"NetLastTradeToday\",, \"T\"),\"\")","v":""},{"$f":"IFERROR(RTD(\"cqg.rtd\", ,\"ContractData\",B12, \"PerCentNetLastTrade\",, \"T\")/100,\"\")","v":""},{"$f":" IFERROR(I12/RTD(\"cqg.rtd\",,\"StudyData\",B12, \"ATR\", \"MaType=Sim,Period=10\", \"ATR\",\"D\",\"-1\",\"ALL\",,,\"FALSE\",\"T\")/100,\"\")","v":""},{"$f":"IFERROR(RTD(\"cqg.rtd\", ,\"ContractData\",B12, \"OPen\",, \"T\"),\"\")","v":""},{"$f":"IFERROR(RTD(\"cqg.rtd\", ,\"ContractData\", B12, \"HIgh\",, \"T\"),\"\")","v":""},{"$f":"IFERROR(RTD(\"cqg.rtd\", ,\"ContractData\",B12, \"LOw\",, \"T\"),\"\")","v":""},{"$f":"IFERROR(RTD(\"cqg.rtd\", ,\"ContractData\",B12, \"T_CVol\",, \"T\"),\"\")","v":417254},null,{"$f":" IFERROR(O12/RTD(\"cqg.rtd\",,\"StudyData\",B12, \"MA\", \"InputChoice=Vol,MAType=Sim,Period=21\", \"MA\",\"D\",\"-1\",\"all\",,,,\"T\"),\"\")","v":1.2230103561147145E-2}]
[null,"IWO",{"$f":"IFERROR(RTD(\"cqg.rtd\", ,\"ContractData\",B13, \"LongDescription\",, \"T\"),\"\")","v":"iShares Russell 2000 Growth ETF"},null,null,null,null,{"$f":"IFERROR(RTD(\"cqg.rtd\", ,\"ContractData\",B13, \"LastTradeToday\",, \"T\"),\"\")","v":""},{"$f":"IFERROR(RTD(\"cqg.rtd\", ,\"ContractData\",B13, \"NetLastTradeToday\",, \"T\"),\"\")","v":""},{"$f":"IFERROR(RTD(\"cqg.rtd\", ,\"ContractData\",B13, \"PerCentNetLastTrade\",, \"T\")/100,\"\")","v":""},{"$f":" IFERROR(I13/RTD(\"cqg.rtd\",,\"StudyData\",B13, \"ATR\", \"MaType=Sim,Period=10\", \"ATR\",\"D\",\"-1\",\"ALL\",,,\"FALSE\",\"T\")/100,\"\")","v":""},{"$f":"IFERROR(RTD(\"cqg.rtd\", ,\"ContractData\",B13, \"OPen\",, \"T\"),\"\")","v":""},{"$f":"IFERROR(RTD(\"cqg.rtd\", ,\"ContractData\", B13, \"HIgh\",, \"T\"),\"\")","v":""},{"$f":"IFERROR(RTD(\"cqg.rtd\", ,\"ContractData\",B13, \"LOw\",, \"T\"),\"\")","v":""},{"$f":"IFERROR(RTD(\"cqg.rtd\", ,\"ContractData\",B13, \"T_CVol\",, \"T\"),\"\")","v":28},null,{"$f":" IFERROR(O13/RTD(\"cqg.rtd\",,\"StudyData\",B13, \"MA\", \"InputChoice=Vol,MAType=Sim,Period=21\", \"MA\",\"D\",\"-1\",\"all\",,,,\"T\"),\"\")","v":5.4144548817986759E-5}]
[null,"QQQ",{"$f":"IFERROR(RTD(\"cqg.rtd\", ,\"ContractData\",B14, \"LongDescription\",, \"T\"),\"\")","v":"Invesco QQQ Trust Series 1"},null,null,null,null,{"$f":"IFERROR(RTD(\"cqg.rtd\", ,\"ContractData\",B14, \"LastTradeToday\",, \"T\"),\"\")","v":""},{"$f":"IFERROR(RTD(\"cqg.rtd\", ,\"ContractData\",B14, \"NetLastTradeToday\",, \"T\"),\"\")","v":""},{"$f":"IFERROR(RTD(\"cqg.rtd\", ,\"ContractData\",B14, \"PerCentNetLastTrade\",, \"T\")/100,\"\")","v":""},{"$f":" IFERROR(I14/RTD(\"cqg.rtd\",,\"StudyData\",B14, \"ATR\", \"MaType=Sim,Period=10\", \"ATR\",\"D\",\"-1\",\"ALL\",,,\"FALSE\",\"T\")/100,\"\")","v":""},{"$f":"IFERROR(RTD(\"cqg.rtd\", ,\"ContractData\",B14, \"OPen\",, \"T\"),\"\")","v":""},{"$f":"IFERROR(RTD(\"cqg.rtd\", ,\"ContractData\", B14, \"HIgh\",, \"T\"),\"\")","v":""},{"$f":"IFERROR(RTD(\"cqg.rtd\", ,\"ContractData\",B14, \"LOw\",, \"T\"),\"\")","v":""},{"$f":"IFERROR(RTD(\"cqg.rtd\", ,\"ContractData\",B14, \"T_CVol\",, \"T\"),\"\")","v":1256642},null,{"$f":" IFERROR(O14/RTD(\"cqg.rtd\",,\"StudyData\",B14, \"MA\", \"InputChoice=Vol,MAType=Sim,Period=21\", \"MA\",\"D\",\"-1\",\"all\",,,,\"T\"),\"\")","v":2.6666016672698922E-2}]
[null,"XLE",{"$f":"IFERROR(RTD(\"cqg.rtd\", ,\"ContractData\",B15, \"LongDescription\",, \"T\"),\"\")","v":"Energy Select Sector SPDR"},null,null,null,null,{"$f":"IFERROR(RTD(\"cqg.rtd\", ,\"ContractData\",B15, \"LastTradeToday\",, \"T\"),\"\")","v":""},{"$f":"IFERROR(RTD(\"cqg.rtd\", ,\"ContractData\",B15, \"NetLastTradeToday\",, \"T\"),\"\")","v":""},{"$f":"IFERROR(RTD(\"cqg.rtd\", ,\"ContractData\",B15, \"PerCentNetLastTrade\",, \"T\")/100,\"\")","v":""},{"$f":" IFERROR(I15/RTD(\"cqg.rtd\",,\"StudyData\",B15, \"ATR\", \"MaType=Sim,Period=10\", \"ATR\",\"D\",\"-1\",\"ALL\",,,\"FALSE\",\"T\")/100,\"\")","v":""},{"$f":"IFERROR(RTD(\"cqg.rtd\", ,\"ContractData\",B15, \"OPen\",, \"T\"),\"\")","v":""},{"$f":"IFERROR(RTD(\"cqg.rtd\", ,\"ContractData\", B15, \"HIgh\",, \"T\"),\"\")","v":""},{"$f":"IFERROR(RTD(\"cqg.rtd\", ,\"ContractData\",B15, \"LOw\",, \"T\"),\"\")","v":""},{"$f":"IFERROR(RTD(\"cqg.rtd\", ,\"ContractData\",B15, \"T_CVol\",, \"T\"),\"\")","v":15861},null,{"$f":" IFERROR(O15/RTD(\"cqg.rtd\",,\"StudyData\",B15, \"MA\", \"InputChoice=Vol,MAType=Sim,Period=21\", \"MA\",\"D\",\"-1\",\"all\",,,,\"T\"),\"\")","v":9.1978319978668868E-4}]
[null,"USO",{"$f":"IFERROR(RTD(\"cqg.rtd\", ,\"ContractData\",B16, \"LongDescription\",, \"T\"),\"\")","v":"United States Oil Fund"},null,null,null,null,{"$f":"IFERROR(RTD(\"cqg.rtd\", ,\"ContractData\",B16, \"LastTradeToday\",, \"T\"),\"\")","v":""},{"$f":"IFERROR(RTD(\"cqg.rtd\", ,\"ContractData\",B16, \"NetLastTradeToday\",, \"T\"),\"\")","v":""},{"$f":"IFERROR(RTD(\"cqg.rtd\", ,\"ContractData\",B16, \"PerCentNetLastTrade\",, \"T\")/100,\"\")","v":""},{"$f":" IFERROR(I16/RTD(\"cqg.rtd\",,\"StudyData\",B16, \"ATR\", \"MaType=Sim,Period=10\", \"ATR\",\"D\",\"-1\",\"ALL\",,,\"FALSE\",\"T\")/100,\"\")","v":""},{"$f":"IFERROR(RTD(\"cqg.rtd\", ,\"ContractData\",B16, \"OPen\",, \"T\"),\"\")","v":""},{"$f":"IFERROR(RTD(\"cqg.rtd\", ,\"ContractData\", B16, \"HIgh\",, \"T\"),\"\")","v":""},{"$f":"IFERROR(RTD(\"cqg.rtd\", ,\"ContractData\",B16, \"LOw\",, \"T\"),\"\")","v":""},{"$f":"IFERROR(RTD(\"cqg.rtd\", ,\"ContractData\",B16, \"T_CVol\",, \"T\"),\"\")","v":51073},null,{"$f":" IFERROR(O16/RTD(\"cqg.rtd\",,\"StudyData\",B16, \"MA\", \"InputChoice=Vol,MAType=Sim,Period=21\", \"MA\",\"D\",\"-1\",\"all\",,,,\"T\"),\"\")","v":1.9458392623665523E-2}]
[null,null,"Top 15 Description",null,null,null,null,"Last","NC","%NC","NC/ATR","Open","High","Low","Volume",null,"Ratio"]
[{"$f":"TRIM(IUSG!I1)","v":""},"News",{"$f":"IFERROR(RTD(\"cqg.rtd\", ,\"ContractData\",A18, \"LongDescription\",, \"T\")&\" (\"&RIGHT(A18,LEN(A18)-5)&\")\",\"\")","v":""},null,null,null,null,{"$f":"IFERROR(RTD(\"cqg.rtd\", ,\"ContractData\",A18, \"LastTradeToday\",, \"T\"),\"\")","v":"Obligatory parameter <contract>(position - 1) is not specified"},{"$f":"IFERROR(RTD(\"cqg.rtd\", ,\"ContractData\",A18, \"NetLastTradeToday\",, \"T\"),\"\")","v":"Obligatory parameter <contract>(position - 1) is not specified"},{"$f":"IFERROR(RTD(\"cqg.rtd\", ,\"ContractData\",A18, \"PerCentNetLastTrade\",, \"T\")/100,\"\")","v":""},{"$f":" IFERROR(I18/RTD(\"cqg.rtd\",,\"StudyData\",A18, \"ATR\", \"MaType=Sim,Period=10\", \"ATR\",\"D\",\"-1\",\"ALL\",,,\"FALSE\",\"T\")/100,\"\")","v":""},{"$f":"IFERROR(RTD(\"cqg.rtd\", ,\"ContractData\",A18, \"OPen\",, \"T\"),\"\")","v":"Obligatory parameter <contract>(position - 1) is not specified"},{"$f":"IFERROR(RTD(\"cqg.rtd\", ,\"ContractData\", A18, \"HIgh\",, \"T\"),\"\")","v":"Obligatory parameter <contract>(position - 1) is not specified"},{"$f":"IFERROR(RTD(\"cqg.rtd\", ,\"ContractData\",A18, \"LOw\",, \"T\"),\"\")","v":"Obligatory parameter <contract>(position - 1) is not specified"},{"$f":"IFERROR(RTD(\"cqg.rtd\", ,\"ContractData\",A18, \"T_CVol\",, \"T\"),\"\")","v":"Obligatory parameter <contract>(position - 1) is not specified"},null,{"$f":" IFERROR(O18/RTD(\"cqg.rtd\",,\"StudyData\",A18, \"MA\", \"InputChoice=Vol,MAType=Sim,Period=21\", \"MA\",\"D\",\"-1\",\"all\",,,,\"T\"),\"\")","v":""},{"$f":"IUSG!Q1","v":""}]
[{"$f":"TRIM(IUSG!I2)","v":""},"News",{"$f":"IFERROR(RTD(\"cqg.rtd\", ,\"ContractData\",A19, \"LongDescription\",, \"T\")&\" (\"&RIGHT(A19,LEN(A19)-5)&\")\",\"\")","v":""},null,null,null,null,{"$f":"IFERROR(RTD(\"cqg.rtd\", ,\"ContractData\",A19, \"LastTradeToday\",, \"T\"),\"\")","v":"Obligatory parameter <contract>(position - 1) is not specified"},{"$f":"IFERROR(RTD(\"cqg.rtd\", ,\"ContractData\",A19, \"NetLastTradeToday\",, \"T\"),\"\")","v":"Obligatory parameter <contract>(position - 1) is not specified"},{"$f":"IFERROR(RTD(\"cqg.rtd\", ,\"ContractData\",A19, \"PerCentNetLastTrade\",, \"T\")/100,\"\")","v":""},{"$f":" IFERROR(I19/RTD(\"cqg.rtd\",,\"StudyData\",A19, \"ATR\", \"MaType=Sim,Period=10\", \"ATR\",\"D\",\"-1\",\"ALL\",,,\"FALSE\",\"T\")/100,\"\")","v":""},{"$f":"IFERROR(RTD(\"cqg.rtd\", ,\"ContractData\",A19, \"OPen\",, \"T\"),\"\")","v":"Obligatory parameter <contract>(position - 1) is not specified"},{"$f":"IFERROR(RTD(\"cqg.rtd\", ,\"ContractData\", A19, \"HIgh\",, \"T\"),\"\")","v":"Obligatory parameter <contract>(position - 1) is not specified"},{"$f":"IFERROR(RTD(\"cqg.rtd\", ,\"ContractData\",A19, \"LOw\",, \"T\"),\"\")","v":"Obligatory parameter <contract>(position - 1) is not specified"},{"$f":"IFERROR(RTD(\"cqg.rtd\", ,\"ContractData\",A19, \"T_CVol\",, \"T\"),\"\")","v":"Obligatory parameter <contract>(position - 1) is not specified"},null,{"$f":" IFERROR(O19/RTD(\"cqg.rtd\",,\"StudyData\",A19, \"MA\", \"InputChoice=Vol,MAType=Sim,Period=21\", \"MA\",\"D\",\"-1\",\"all\",,,,\"T\"),\"\")","v":""},{"$f":"IUSG!Q2","v":""}]
[{"$f":"TRIM(IUSG!I3)","v":""},"News",{"$f":"IFERROR(RTD(\"cqg.rtd\", ,\"ContractData\",A20, \"LongDescription\",, \"T\")&\" (\"&RIGHT(A20,LEN(A20)-5)&\")\",\"\")","v":""},null,null,null,null,{"$f":"IFERROR(RTD(\"cqg.rtd\", ,\"ContractData\",A20, \"LastTradeToday\",, \"T\"),\"\")","v":"Obligatory parameter <contract>(position - 1) is not specified"},{"$f":"IFERROR(RTD(\"cqg.rtd\", ,\"ContractData\",A20, \"NetLastTradeToday\",, \"T\"),\"\")","v":"Obligatory parameter <contract>(position - 1) is not specified"},{"$f":"IFERROR(RTD(\"cqg.rtd\", ,\"ContractData\",A20, \"PerCentNetLastTrade\",, \"T\")/100,\"\")","v":""},{"$f":" IFERROR(I20/RTD(\"cqg.rtd\",,\"StudyData\",A20, \"ATR\", \"MaType=Sim,Period=10\", \"ATR\",\"D\",\"-1\",\"ALL\",,,\"FALSE\",\"T\")/100,\"\")","v":""},{"$f":"IFERROR(RTD(\"cqg.rtd\", ,\"ContractData\",A20, \"OPen\",, \"T\"),\"\")","v":"Obligatory parameter <contract>(position - 1) is not specified"},{"$f":"IFERROR(RTD(\"cqg.rtd\", ,\"ContractData\", A20, \"HIgh\",, \"T\"),\"\")","v":"Obligatory parameter <contract>(position - 1) is not specified"},{"$f":"IFERROR(RTD(\"cqg.rtd\", ,\"ContractData\",A20, \"LOw\",, \"T\"),\"\")","v":"Obligatory parameter <contract>(position - 1) is not specified"},{"$f":"IFERROR(RTD(\"cqg.rtd\", ,\"ContractData\",A20, \"T_CVol\",, \"T\"),\"\")","v":"Obligatory parameter <contract>(position - 1) is not specified"},null,{"$f":" IFERROR(O20/RTD(\"cqg.rtd\",,\"StudyData\",A20, \"MA\", \"InputChoice=Vol,MAType=Sim,Period=21\", \"MA\",\"D\",\"-1\",\"all\",,,,\"T\"),\"\")","v":""},{"$f":"IUSG!Q3","v":""}]
[{"$f":"TRIM(IUSG!I4)","v":""},"News",{"$f":"IFERROR(RTD(\"cqg.rtd\", ,\"ContractData\",A21, \"LongDescription\",, \"T\")&\" (\"&RIGHT(A21,LEN(A21)-5)&\")\",\"\")","v":""},null,null,null,null,{"$f":"IFERROR(RTD(\"cqg.rtd\", ,\"ContractData\",A21, \"LastTradeToday\",, \"T\"),\"\")","v":"Obligatory parameter <contract>(position - 1) is not specified"},{"$f":"IFERROR(RTD(\"cqg.rtd\", ,\"ContractData\",A21, \"NetLastTradeToday\",, \"T\"),\"\")","v":"Obligatory parameter <contract>(position - 1) is not specified"},{"$f":"IFERROR(RTD(\"cqg.rtd\", ,\"ContractData\",A21, \"PerCentNetLastTrade\",, \"T\")/100,\"\")","v":""},{"$f":" IFERROR(I21/RTD(\"cqg.rtd\",,\"StudyData\",A21, \"ATR\", \"MaType=Sim,Period=10\", \"ATR\",\"D\",\"-1\",\"ALL\",,,\"FALSE\",\"T\")/100,\"\")","v":""},{"$f":"IFERROR(RTD(\"cqg.rtd\", ,\"ContractData\",A21, \"OPen\",, \"T\"),\"\")","v":"Obligatory parameter <contract>(position - 1) is not specified"},{"$f":"IFERROR(RTD(\"cqg.rtd\", ,\"ContractData\", A21, \"HIgh\",, \"T\"),\"\")","v":"Obligatory parameter <contract>(position - 1) is not specified"},{"$f":"IFERROR(RTD(\"cqg.rtd\", ,\"ContractData\",A21, \"LOw\",, \"T\"),\"\")","v":"Obligatory parameter <contract>(position - 1) is not specified"},{"$f":"IFERROR(RTD(\"cqg.rtd\", ,\"ContractData\",A21, \"T_CVol\",, \"T\"),\"\")","v":"Obligatory parameter <contract>(position - 1) is not specified"},null,{"$f":" IFERROR(O21/RTD(\"cqg.rtd\",,\"StudyData\",A21, \"MA\", \"InputChoice=Vol,MAType=Sim,Period=21\", \"MA\",\"D\",\"-1\",\"all\",,,,\"T\"),\"\")","v":""},{"$f":"IUSG!Q4","v":""}]
[{"$f":"TRIM(IUSG!I5)","v":""},"News",{"$f":"IFERROR(RTD(\"cqg.rtd\", ,\"ContractData\",A22, \"LongDescription\",, \"T\")&\" (\"&RIGHT(A22,LEN(A22)-5)&\")\",\"\")","v":""},null,null,null,null,{"$f":"IFERROR(RTD(\"cqg.rtd\", ,\"ContractData\",A22, \"LastTradeToday\",, \"T\"),\"\")","v":"Obligatory parameter <contract>(position - 1) is not specified"},{"$f":"IFERROR(RTD(\"cqg.rtd\", ,\"ContractData\",A22, \"NetLastTradeToday\",, \"T\"),\"\")","v":"Obligatory parameter <contract>(position - 1) is not specified"},{"$f":"IFERROR(RTD(\"cqg.rtd\", ,\"ContractData\",A22, \"PerCentNetLastTrade\",, \"T\")/100,\"\")","v":""},{"$f":" IFERROR(I22/RTD(\"cqg.rtd\",,\"StudyData\",A22, \"ATR\", \"MaType=Sim,Period=10\", \"ATR\",\"D\",\"-1\",\"ALL\",,,\"FALSE\",\"T\")/100,\"\")","v":""},{"$f":"IFERROR(RTD(\"cqg.rtd\", ,\"ContractData\",A22, \"OPen\",, \"T\"),\"\")","v":"Obligatory parameter <contract>(position - 1) is not specified"},{"$f":"IFERROR(RTD(\"cqg.rtd\", ,\"ContractData\", A22, \"HIgh\",, \"T\"),\"\")","v":"Obligatory parameter <contract>(position - 1) is not specified"},{"$f":"IFERROR(RTD(\"cqg.rtd\", ,\"ContractData\",A22, \"LOw\",, \"T\"),\"\")","v":"Obligatory parameter <contract>(position - 1) is not specified"},{"$f":"IFERROR(RTD(\"cqg.rtd\", ,\"ContractData\",A22, \"T_CVol\",, \"T\"),\"\")","v":"Obligatory parameter <contract>(position - 1) is not specified"},null,{"$f":" IFERROR(O22/RTD(\"cqg.rtd\",,\"StudyData\",A22, \"MA\", \"InputChoice=Vol,MAType=Sim,Period=21\", \"MA\",\"D\",\"-1\",\"all\",,,,\"T\"),\"\")","v":""},{"$f":"IUSG!Q5","v":""}]
[{"$f":"TRIM(IUSG!I6)","v":""},"News",{"$f":"IFERROR(RTD(\"cqg.rtd\", ,\"ContractData\",A23, \"LongDescription\",, \"T\")&\" (\"&RIGHT(A23,LEN(A23)-5)&\")\",\"\")","v":""},null,null,null,null,{"$f":"IFERROR(RTD(\"cqg.rtd\", ,\"ContractData\",A23, \"LastTradeToday\",, \"T\"),\"\")","v":"Obligatory parameter <contract>(position - 1) is not specified"},{"$f":"IFERROR(RTD(\"cqg.rtd\", ,\"ContractData\",A23, \"NetLastTradeToday\",, \"T\"),\"\")","v":"Obligatory parameter <contract>(position - 1) is not specified"},{"$f":"IFERROR(RTD(\"cqg.rtd\", ,\"ContractData\",A23, \"PerCentNetLastTrade\",, \"T\")/100,\"\")","v":""},{"$f":" IFERROR(I23/RTD(\"cqg.rtd\",,\"StudyData\",A23, \"ATR\", \"MaType=Sim,Period=10\", \"ATR\",\"D\",\"-1\",\"ALL\",,,\"FALSE\",\"T\")/100,\"\")","v":""},{"$f":"IFERROR(RTD(\"cqg.rtd\", ,\"ContractData\",A23, \"OPen\",, \"T\"),\"\")","v":"Obligatory parameter <contract>(position - 1) is not specified"},{"$f":"IFERROR(RTD(\"cqg.rtd\", ,\"ContractData\", A23, \"HIgh\",, \"T\"),\"\")","v":"Obligatory parameter <contract>(position - 1) is not specified"},{"$f":"IFERROR(RTD(\"cqg.rtd\", ,\"ContractData\",A23, \"LOw\",, \"T\"),\"\")","v":"Obligatory parameter <contract>(position - 1) is not specified"},{"$f":"IFERROR(RTD(\"cqg.rtd\", ,\"ContractData\",A23, \"T_CVol\",, \"T\"),\"\")","v":"Obligatory parameter <contract>(position - 1) is not specified"},null,{"$f":" IFERROR(O23/RTD(\"cqg.rtd\",,\"StudyData\",A23, \"MA\", \"InputChoice=Vol,MAType=Sim,Period=21\", \"MA\",\"D\",\"-1\",\"all\",,,,\"T\"),\"\")","v":""},{"$f":"IUSG!Q6","v":""}]
[{"$f":"TRIM(IUSG!I7)","v":""},"News",{"$f":"IFERROR(RTD(\"cqg.rtd\", ,\"ContractData\",A24, \"LongDescription\",, \"T\")&\" (\"&RIGHT(A24,LEN(A24)-5)&\")\",\"\")","v":""},null,null,null,null,{"$f":"IFERROR(RTD(\"cqg.rtd\", ,\"ContractData\",A24, \"LastTradeToday\",, \"T\"),\"\")","v":"Obligatory parameter <contract>(position - 1) is not specified"},{"$f":"IFERROR(RTD(\"cqg.rtd\", ,\"ContractData\",A24, \"NetLastTradeToday\",, \"T\"),\"\")","v":"Obligatory parameter <contract>(position - 1) is not specified"},{"$f":"IFERROR(RTD(\"cqg.rtd\", ,\"ContractData\",A24, \"PerCentNetLastTrade\",, \"T\")/100,\"\")","v":""},{"$f":" IFERROR(I24/RTD(\"cqg.rtd\",,\"StudyData\",A24, \"ATR\", \"MaType=Sim,Period=10\", \"ATR\",\"D\",\"-1\",\"ALL\",,,\"FALSE\",\"T\")/100,\"\")","v":""},{"$f":"IFERROR(RTD(\"cqg.rtd\", ,\"ContractData\",A24, \"OPen\",, \"T\"),\"\")","v":"Obligatory parameter <contract>(position - 1) is not specified"},{"$f":"IFERROR(RTD(\"cqg.rtd\", ,\"ContractData\", A24, \"HIgh\",, \"T\"),\"\")","v":"Obligatory parameter <contract>(position - 1) is not specified"},{"$f":"IFERROR(RTD(\"cqg.rtd\", ,\"ContractData\",A24, \"LOw\",, \"T\"),\"\")","v":"Obligatory parameter <contract>(position - 1) is not specified"},{"$f":"IFERROR(RTD(\"cqg.rtd\", ,\"ContractData\",A24, \"T_CVol\",, \"T\"),\"\")","v":"Obligatory parameter <contract>(position - 1) is not specified"},null,{"$f":" IFERROR(O24/RTD(\"cqg.rtd\",,\"StudyData\",A24, \"MA\", \"InputChoice=Vol,MAType=Sim,Period=21\", \"MA\",\"D\",\"-1\",\"all\",,,,\"T\"),\"\")","v":""},{"$f":"IUSG!Q7","v":""}]
[{"$f":"TRIM(IUSG!I8)","v":""},"News",{"$f":"IFERROR(RTD(\"cqg.rtd\", ,\"ContractData\",A25, \"LongDescription\",, \"T\")&\" (\"&RIGHT(A25,LEN(A25)-5)&\")\",\"\")","v":""},null,null,null,null,{"$f":"IFERROR(RTD(\"cqg.rtd\", ,\"ContractData\",A25, \"LastTradeToday\",, \"T\"),\"\")","v":"Obligatory parameter <contract>(position - 1) is not specified"},{"$f":"IFERROR(RTD(\"cqg.rtd\", ,\"ContractData\",A25, \"NetLastTradeToday\",, \"T\"),\"\")","v":"Obligatory parameter <contract>(position - 1) is not specified"},{"$f":"IFERROR(RTD(\"cqg.rtd\", ,\"ContractData\",A25, \"PerCentNetLastTrade\",, \"T\")/100,\"\")","v":""},{"$f":" IFERROR(I25/RTD(\"cqg.rtd\",,\"StudyData\",A25, \"ATR\", \"MaType=Sim,Period=10\", \"ATR\",\"D\",\"-1\",\"ALL\",,,\"FALSE\",\"T\")/100,\"\")","v":""},{"$f":"IFERROR(RTD(\"cqg.rtd\", ,\"ContractData\",A25, \"OPen\",, \"T\"),\"\")","v":"Obligatory parameter <contract>(position - 1) is not specified"},{"$f":"IFERROR(RTD(\"cqg.rtd\", ,\"ContractData\", A25, \"HIgh\",, \"T\"),\"\")","v":"Obligatory parameter <contract>(position - 1) is not specified"},{"$f":"IFERROR(RTD(\"cqg.rtd\", ,\"ContractData\",A25, \"LOw\",, \"T\"),\"\")","v":"Obligatory parameter <contract>(position - 1) is not specified"},{"$f":"IFERROR(RTD(\"cqg.rtd\", ,\"ContractData\",A25, \"T_CVol\",, \"T\"),\"\")","v":"Obligatory parameter <contract>(position - 1) is not specified"},null,{"$f":" IFERROR(O25/RTD(\"cqg.rtd\",,\"StudyData\",A25, \"MA\", \"InputChoice=Vol,MAType=Sim,Period=21\", \"MA\",\"D\",\"-1\",\"all\",,,,\"T\"),\"\")","v":""},{"$f":"IUSG!Q8","v":""}]
[{"$f":"TRIM(IUSG!I9)","v":""},"News",{"$f":"IFERROR(RTD(\"cqg.rtd\", ,\"ContractData\",A26, \"LongDescription\",, \"T\")&\" (\"&RIGHT(A26,LEN(A26)-5)&\")\",\"\")","v":""},null,null,null,null,{"$f":"IFERROR(RTD(\"cqg.rtd\", ,\"ContractData\",A26, \"LastTradeToday\",, \"T\"),\"\")","v":"Obligatory parameter <contract>(position - 1) is not specified"},{"$f":"IFERROR(RTD(\"cqg.rtd\", ,\"ContractData\",A26, \"NetLastTradeToday\",, \"T\"),\"\")","v":"Obligatory parameter <contract>(position - 1) is not specified"},{"$f":"IFERROR(RTD(\"cqg.rtd\", ,\"ContractData\",A26, \"PerCentNetLastTrade\",, \"T\")/100,\"\")","v":""},{"$f":" IFERROR(I26/RTD(\"cqg.rtd\",,\"StudyData\",A26, \"ATR\", \"MaType=Sim,Period=10\", \"ATR\",\"D\",\"-1\",\"ALL\",,,\"FALSE\",\"T\")/100,\"\")","v":""},{"$f":"IFERROR(RTD(\"cqg.rtd\", ,\"ContractData\",A26, \"OPen\",, \"T\"),\"\")","v":"Obligatory parameter <contract>(position - 1) is not specified"},{"$f":"IFERROR(RTD(\"cqg.rtd\", ,\"ContractData\", A26, \"HIgh\",, \"T\"),\"\")","v":"Obligatory parameter <contract>(position - 1) is not specified"},{"$f":"IFERROR(RTD(\"cqg.rtd\", ,\"ContractData\",A26, \"LOw\",, \"T\"),\"\")","v":"Obligatory parameter <contract>(position - 1) is not specified"},{"$f":"IFERROR(RTD(\"cqg.rtd\", ,\"ContractData\",A26, \"T_CVol\",, \"T\"),\"\")","v":"Obligatory parameter <contract>(position - 1) is not specified"},null,{"$f":" IFERROR(O26/RTD(\"cqg.rtd\",,\"StudyData\",A26, \"MA\", \"InputChoice=Vol,MAType=Sim,Period=21\", \"MA\",\"D\",\"-1\",\"all\",,,,\"T\"),\"\")","v":""},{"$f":"IUSG!Q9","v":""}]
[{"$f":"TRIM(IUSG!I10)","v":""},"News",{"$f":"IFERROR(RTD(\"cqg.rtd\", ,\"ContractData\",A27, \"LongDescription\",, \"T\")&\" (\"&RIGHT(A27,LEN(A27)-5)&\")\",\"\")","v":""},null,null,null,null,{"$f":"IFERROR(RTD(\"cqg.rtd\", ,\"ContractData\",A27, \"LastTradeToday\",, \"T\"),\"\")","v":"Obligatory parameter <contract>(position - 1) is not specified"},{"$f":"IFERROR(RTD(\"cqg.rtd\", ,\"ContractData\",A27, \"NetLastTradeToday\",, \"T\"),\"\")","v":"Obligatory parameter <contract>(position - 1) is not specified"},{"$f":"IFERROR(RTD(\"cqg.rtd\", ,\"ContractData\",A27, \"PerCentNetLastTrade\",, \"T\")/100,\"\")","v":""},{"$f":" IFERROR(I27/RTD(\"cqg.rtd\",,\"StudyData\",A27, \"ATR\", \"MaType=Sim,Period=10\", \"ATR\",\"D\",\"-1\",\"ALL\",,,\"FALSE\",\"T\")/100,\"\")","v":""},{"$f":"IFERROR(RTD(\"cqg.rtd\", ,\"ContractData\",A27, \"OPen\",, \"T\"),\"\")","v":"Obligatory parameter <contract>(position - 1) is not specified"},{"$f":"IFERROR(RTD(\"cqg.rtd\", ,\"ContractData\", A27, \"HIgh\",, \"T\"),\"\")","v":"Obligatory parameter <contract>(position - 1) is not specified"},{"$f":"IFERROR(RTD(\"cqg.rtd\", ,\"ContractData\",A27, \"LOw\",, \"T\"),\"\")","v":"Obligatory parameter <contract>(position - 1) is not specified"},{"$f":"IFERROR(RTD(\"cqg.rtd\", ,\"ContractData\",A27, \"T_CVol\",, \"T\"),\"\")","v":"Obligatory parameter <contract>(position - 1) is not specified"},null,{"$f":" IFERROR(O27/RTD(\"cqg.rtd\",,\"StudyData\",A27, \"MA\", \"InputChoice=Vol,MAType=Sim,Period=21\", \"MA\",\"D\",\"-1\",\"all\",,,,\"T\"),\"\")","v":""},{"$f":"IUSG!Q10","v":""},"Bottom 15 Performing Companies "]
[{"$f":"TRIM(IUSG!I11)","v":""},"News",{"$f":"IFERROR(RTD(\"cqg.rtd\", ,\"ContractData\",A28, \"LongDescription\",, \"T\")&\" (\"&RIGHT(A28,LEN(A28)-5)&\")\",\"\")","v":""},null,null,null,null,{"$f":"IFERROR(RTD(\"cqg.rtd\", ,\"ContractData\",A28, \"LastTradeToday\",, \"T\"),\"\")","v":"Obligatory parameter <contract>(position - 1) is not specified"},{"$f":"IFERROR(RTD(\"cqg.rtd\", ,\"ContractData\",A28, \"NetLastTradeToday\",, \"T\"),\"\")","v":"Obligatory parameter <contract>(position - 1) is not specified"},{"$f":"IFERROR(RTD(\"cqg.rtd\", ,\"ContractData\",A28, \"PerCentNetLastTrade\",, \"T\")/100,\"\")","v":""},{"$f":" IFERROR(I28/RTD(\"cqg.rtd\",,\"StudyData\",A28, \"ATR\", \"MaType=Sim,Period=10\", \"ATR\",\"D\",\"-1\",\"ALL\",,,\"FALSE\",\"T\")/100,\"\")","v":""},{"$f":"IFERROR(RTD(\"cqg.rtd\", ,\"ContractData\",A28, \"OPen\",, \"T\"),\"\")","v":"Obligatory parameter <contract>(position - 1) is not specified"},{"$f":"IFERROR(RTD(\"cqg.rtd\", ,\"ContractData\", A28, \"HIgh\",, \"T\"),\"\")","v":"Obligatory parameter <contract>(position - 1) is not specified"},{"$f":"IFERROR(RTD(\"cqg.rtd\", ,\"ContractData\",A28, \"LOw\",, \"T\"),\"\")","v":"Obligatory parameter <contract>(position - 1) is not specified"},{"$f":"IFERROR(RTD(\"cqg.rtd\", ,\"ContractData\",A28, \"T_CVol\",, \"T\"),\"\")","v":"Obligatory parameter <contract>(position - 1) is not specified"},null,{"$f":" IFERROR(O28/RTD(\"cqg.rtd\",,\"StudyData\",A28, \"MA\", \"InputChoice=Vol,MAType=Sim,Period=21\", \"MA\",\"D\",\"-1\",\"all\",,,,\"T\"),\"\")","v":""},{"$f":"IUSG!Q11","v":""}]
[{"$f":"TRIM(IUSG!I12)","v":""},"News",{"$f":"IFERROR(RTD(\"cqg.rtd\", ,\"ContractData\",A29, \"LongDescription\",, \"T\")&\" (\"&RIGHT(A29,LEN(A29)-5)&\")\",\"\")","v":""},null,null,null,null,{"$f":"IFERROR(RTD(\"cqg.rtd\", ,\"ContractData\",A29, \"LastTradeToday\",, \"T\"),\"\")","v":"Obligatory parameter <contract>(position - 1) is not specified"},{"$f":"IFERROR(RTD(\"cqg.rtd\", ,\"ContractData\",A29, \"NetLastTradeToday\",, \"T\"),\"\")","v":"Obligatory parameter <contract>(position - 1) is not specified"},{"$f":"IFERROR(RTD(\"cqg.rtd\", ,\"ContractData\",A29, \"PerCentNetLastTrade\",, \"T\")/100,\"\")","v":""},{"$f":" IFERROR(I29/RTD(\"cqg.rtd\",,\"StudyData\",A29, \"ATR\", \"MaType=Sim,Period=10\", \"ATR\",\"D\",\"-1\",\"ALL\",,,\"FALSE\",\"T\")/100,\"\")","v":""},{"$f":"IFERROR(RTD(\"cqg.rtd\", ,\"ContractData\",A29, \"OPen\",, \"T\"),\"\")","v":"Obligatory parameter <contract>(position - 1) is not specified"},{"$f":"IFERROR(RTD(\"cqg.rtd\", ,\"ContractData\", A29, \"HIgh\",, \"T\"),\"\")","v":"Obligatory parameter <contract>(position - 1) is not specified"},{"$f":"IFERROR(RTD(\"cqg.rtd\", ,\"ContractData\",A29, \"LOw\",, \"T\"),\"\")","v":"Obligatory parameter <contract>(position - 1) is not specified"},{"$f":"IFERROR(RTD(\"cqg.rtd\", ,\"ContractData\",A29, \"T_CVol\",, \"T\"),\"\")","v":"Obligatory parameter <contract>(position - 1) is not specified"},null,{"$f":" IFERROR(O29/RTD(\"cqg.rtd\",,\"StudyData\",A29, \"MA\", \"InputChoice=Vol,MAType=Sim,Period=21\", \"MA\",\"D\",\"-1\",\"all\",,,,\"T\"),\"\")","v":""},{"$f":"IUSG!Q12","v":""}]
[{"$f":"TRIM(IUSG!I13)","v":""},"News",{"$f":"IFERROR(RTD(\"cqg.rtd\", ,\"ContractData\",A30, \"LongDescription\",, \"T\")&\" (\"&RIGHT(A30,LEN(A30)-5)&\")\",\"\")","v":""},null,null,null,null,{"$f":"IFERROR(RTD(\"cqg.rtd\", ,\"ContractData\",A30, \"LastTradeToday\",, \"T\"),\"\")","v":"Obligatory parameter <contract>(position - 1) is not specified"},{"$f":"IFERROR(RTD(\"cqg.rtd\", ,\"ContractData\",A30, \"NetLastTradeToday\",, \"T\"),\"\")","v":"Obligatory parameter <contract>(position - 1) is not specified"},{"$f":"IFERROR(RTD(\"cqg.rtd\", ,\"ContractData\",A30, \"PerCentNetLastTrade\",, \"T\")/100,\"\")","v":""},{"$f":" IFERROR(I30/RTD(\"cqg.rtd\",,\"StudyData\",A30, \"ATR\", \"MaType=Sim,Period=10\", \"ATR\",\"D\",\"-1\",\"ALL\",,,\"FALSE\",\"T\")/100,\"\")","v":""},{"$f":"IFERROR(RTD(\"cqg.rtd\", ,\"ContractData\",A30, \"OPen\",, \"T\"),\"\")","v":"Obligatory parameter <contract>(position - 1) is not specified"},{"$f":"IFERROR(RTD(\"cqg.rtd\", ,\"ContractData\", A30, \"HIgh\",, \"T\"),\"\")","v":"Obligatory parameter <contract>(position - 1) is not specified"},{"$f":"IFERROR(RTD(\"cqg.rtd\", ,\"ContractData\",A30, \"LOw\",, \"T\"),\"\")","v":"Obligatory parameter <contract>(position - 1) is not specified"},{"$f":"IFERROR(RTD(\"cqg.rtd\", ,\"ContractData\",A30, \"T_CVol\",, \"T\"),\"\")","v":"Obligatory parameter <contract>(position - 1) is not specified"},null,{"$f":" IFERROR(O30/RTD(\"cqg.rtd\",,\"StudyData\",A30, \"MA\", \"InputChoice=Vol,MAType=Sim,Period=21\", \"MA\",\"D\",\"-1\",\"all\",,,,\"T\"),\"\")","v":""},{"$f":"IUSG!Q13","v":""}]
[{"$f":"TRIM(IUSG!I14)","v":""},"News",{"$f":"IFERROR(RTD(\"cqg.rtd\", ,\"ContractData\",A31, \"LongDescription\",, \"T\")&\" (\"&RIGHT(A31,LEN(A31)-5)&\")\",\"\")","v":""},null,null,null,null,{"$f":"IFERROR(RTD(\"cqg.rtd\", ,\"ContractData\",A31, \"LastTradeToday\",, \"T\"),\"\")","v":"Obligatory parameter <contract>(position - 1) is not specified"},{"$f":"IFERROR(RTD(\"cqg.rtd\", ,\"ContractData\",A31, \"NetLastTradeToday\",, \"T\"),\"\")","v":"Obligatory parameter <contract>(position - 1) is not specified"},{"$f":"IFERROR(RTD(\"cqg.rtd\", ,\"ContractData\",A31, \"PerCentNetLastTrade\",, \"T\")/100,\"\")","v":""},{"$f":" IFERROR(I31/RTD(\"cqg.rtd\",,\"StudyData\",A31, \"ATR\", \"MaType=Sim,Period=10\", \"ATR\",\"D\",\"-1\",\"ALL\",,,\"FALSE\",\"T\")/100,\"\")","v":""},{"$f":"IFERROR(RTD(\"cqg.rtd\", ,\"ContractData\",A31, \"OPen\",, \"T\"),\"\")","v":"Obligatory parameter <contract>(position - 1) is not specified"},{"$f":"IFERROR(RTD(\"cqg.rtd\", ,\"ContractData\", A31, \"HIgh\",, \"T\"),\"\")","v":"Obligatory parameter <contract>(position - 1) is not specified"},{"$f":"IFERROR(RTD(\"cqg.rtd\", ,\"ContractData\",A31, \"LOw\",, \"T\"),\"\")","v":"Obligatory parameter <contract>(position - 1) is not specified"},{"$f":"IFERROR(RTD(\"cqg.rtd\", ,\"ContractData\",A31, \"T_CVol\",, \"T\"),\"\")","v":"Obligatory parameter <contract>(position - 1) is not specified"},null,{"$f":" IFERROR(O31/RTD(\"cqg.rtd\",,\"StudyData\",A31, \"MA\", \"InputChoice=Vol,MAType=Sim,Period=21\", \"MA\",\"D\",\"-1\",\"all\",,,,\"T\"),\"\")","v":""},{"$f":"IUSG!Q14","v":""}]
[{"$f":"TRIM(IUSG!I15)","v":""},"News",{"$f":"IFERROR(RTD(\"cqg.rtd\", ,\"ContractData\",A32, \"LongDescription\",, \"T\")&\" (\"&RIGHT(A32,LEN(A32)-5)&\")\",\"\")","v":""},null,null,null,null,{"$f":"IFERROR(RTD(\"cqg.rtd\", ,\"ContractData\",A32, \"LastTradeToday\",, \"T\"),\"\")","v":"Obligatory parameter <contract>(position - 1) is not specified"},{"$f":"IFERROR(RTD(\"cqg.rtd\", ,\"ContractData\",A32, \"NetLastTradeToday\",, \"T\"),\"\")","v":"Obligatory parameter <contract>(position - 1) is not specified"},{"$f":"IFERROR(RTD(\"cqg.rtd\", ,\"ContractData\",A32, \"PerCentNetLastTrade\",, \"T\")/100,\"\")","v":""},{"$f":" IFERROR(I32/RTD(\"cqg.rtd\",,\"StudyData\",A32, \"ATR\", \"MaType=Sim,Period=10\", \"ATR\",\"D\",\"-1\",\"ALL\",,,\"FALSE\",\"T\")/100,\"\")","v":""},{"$f":"IFERROR(RTD(\"cqg.rtd\", ,\"ContractData\",A32, \"OPen\",, \"T\"),\"\")","v":"Obligatory parameter <contract>(position - 1) is not specified"},{"$f":"IFERROR(RTD(\"cqg.rtd\", ,\"ContractData\", A32, \"HIgh\",, \"T\"),\"\")","v":"Obligatory parameter <contract>(position - 1) is not specified"},{"$f":"IFERROR(RTD(\"cqg.rtd\", ,\"ContractData\",A32, \"LOw\",, \"T\"),\"\")","v":"Obligatory parameter <contract>(position - 1) is not specified"},{"$f":"IFERROR(RTD(\"cqg.rtd\", ,\"ContractData\",A32, \"T_CVol\",, \"T\"),\"\")","v":"Obligatory parameter <contract>(position - 1) is not specified"},null,{"$f":" IFERROR(O32/RTD(\"cqg.rtd\",,\"StudyData\",A32, \"MA\", \"InputChoice=Vol,MAType=Sim,Period=21\", \"MA\",\"D\",\"-1\",\"all\",,,,\"T\"),\"\")","v":""},{"$f":"IUSG!Q15","v":""}]
[null,null,"Bottom 15 Description",null,null,null,null,"Last","NC","%NC","NC/ATR","Open","High","Low","Volume",null,"Ratio"]
[{"$f":"TRIM(IUSG!N15)","v":""},"News",{"$f":"IFERROR(RTD(\"cqg.rtd\", ,\"ContractData\",A34, \"LongDescription\",, \"T\")&\" (\"&RIGHT(A34,LEN(A34)-5)&\")\",\"\")","v":""},null,null,null,null,{"$f":"IFERROR(RTD(\"cqg.rtd\", ,\"ContractData\",A34, \"LastTradeToday\",, \"T\"),\"\")","v":"Obligatory parameter <contract>(position - 1) is not specified"},{"$f":"IFERROR(RTD(\"cqg.rtd\", ,\"ContractData\",A34, \"NetLastTradeToday\",, \"T\"),\"\")","v":"Obligatory parameter <contract>(position - 1) is not specified"},{"$f":"IFERROR(RTD(\"cqg.rtd\", ,\"ContractData\",A34, \"PerCentNetLastTrade\",, \"T\")/100,\"\")","v":""},{"$f":"IFERROR( I34/RTD(\"cqg.rtd\",,\"StudyData\",A34, \"ATR\", \"MaType=Sim,Period=10\", \"ATR\",\"D\",\"-1\",\"ALL\",,,\"FALSE\",\"T\")/100,\"\")","v":""},{"$f":"IFERROR(RTD(\"cqg.rtd\", ,\"ContractData\",A34, \"OPen\",, \"T\"),\"\")","v":"Obligatory parameter <contract>(position - 1) is not specified"},{"$f":"IFERROR(RTD(\"cqg.rtd\", ,\"ContractData\", A34, \"HIgh\",, \"T\"),\"\")","v":"Obligatory parameter <contract>(position - 1) is not specified"},{"$f":"IFERROR(RTD(\"cqg.rtd\", ,\"ContractData\",A34, \"LOw\",, \"T\"),\"\")","v":"Obligatory parameter <contract>(position - 1) is not specified"},{"$f":"IFERROR(RTD(\"cqg.rtd\", ,\"ContractData\",A34, \"T_CVol\",, \"T\"),\"\")","v":"Obligatory parameter <contract>(position - 1) is not specified"},null,{"$f":" IFERROR(O34/RTD(\"cqg.rtd\",,\"StudyData\",A34, \"MA\", \"InputChoice=Vol,MAType=Sim,Period=21\", \"MA\",\"D\",\"-1\",\"all\",,,,\"T\"),\"\")","v":""},{"$f":"IUSG!AB1","v":""}]
[{"$f":"TRIM(IUSG!N14)","v":""},"News",{"$f":"IFERROR(RTD(\"cqg.rtd\", ,\"ContractData\",A35, \"LongDescription\",, \"T\")&\" (\"&RIGHT(A35,LEN(A35)-5)&\")\",\"\")","v":""},null,null,null,null,{"$f":"IFERROR(RTD(\"cqg.rtd\", ,\"ContractData\",A35, \"LastTradeToday\",, \"T\"),\"\")","v":"Obligatory parameter <contract>(position - 1) is not specified"},{"$f":"IFERROR(RTD(\"cqg.rtd\", ,\"ContractData\",A35, \"NetLastTradeToday\",, \"T\"),\"\")","v":"Obligatory parameter <contract>(position - 1) is not specified"},{"$f":"IFERROR(RTD(\"cqg.rtd\", ,\"ContractData\",A35, \"PerCentNetLastTrade\",, \"T\")/100,\"\")","v":""},{"$f":"IFERROR( I35/RTD(\"cqg.rtd\",,\"StudyData\",A35, \"ATR\", \"MaType=Sim,Period=10\", \"ATR\",\"D\",\"-1\",\"ALL\",,,\"FALSE\",\"T\")/100,\"\")","v":""},{"$f":"IFERROR(RTD(\"cqg.rtd\", ,\"ContractData\",A35, \"OPen\",, \"T\"),\"\")","v":"Obligatory parameter <contract>(position - 1) is not specified"},{"$f":"IFERROR(RTD(\"cqg.rtd\", ,\"ContractData\", A35, \"HIgh\",, \"T\"),\"\")","v":"Obligatory parameter <contract>(position - 1) is not specified"},{"$f":"IFERROR(RTD(\"cqg.rtd\", ,\"ContractData\",A35, \"LOw\",, \"T\"),\"\")","v":"Obligatory parameter <contract>(position - 1) is not specified"},{"$f":"IFERROR(RTD(\"cqg.rtd\", ,\"ContractData\",A35, \"T_CVol\",, \"T\"),\"\")","v":"Obligatory parameter <contract>(position - 1) is not specified"},null,{"$f":" IFERROR(O35/RTD(\"cqg.rtd\",,\"StudyData\",A35, \"MA\", \"InputChoice=Vol,MAType=Sim,Period=21\", \"MA\",\"D\",\"-1\",\"all\",,,,\"T\"),\"\")","v":""},{"$f":"IUSG!AB2","v":""}]
[{"$f":"TRIM(IUSG!N13)","v":""},"News",{"$f":"IFERROR(RTD(\"cqg.rtd\", ,\"ContractData\",A36, \"LongDescription\",, \"T\")&\" (\"&RIGHT(A36,LEN(A36)-5)&\")\",\"\")","v":""},null,null,null,null,{"$f":"IFERROR(RTD(\"cqg.rtd\", ,\"ContractData\",A36, \"LastTradeToday\",, \"T\"),\"\")","v":"Obligatory parameter <contract>(position - 1) is not specified"},{"$f":"IFERROR(RTD(\"cqg.rtd\", ,\"ContractData\",A36, \"NetLastTradeToday\",, \"T\"),\"\")","v":"Obligatory parameter <contract>(position - 1) is not specified"},{"$f":"IFERROR(RTD(\"cqg.rtd\", ,\"ContractData\",A36, \"PerCentNetLastTrade\",, \"T\")/100,\"\")","v":""},{"$f":"IFERROR( I36/RTD(\"cqg.rtd\",,\"StudyData\",A36, \"ATR\", \"MaType=Sim,Period=10\", \"ATR\",\"D\",\"-1\",\"ALL\",,,\"FALSE\",\"T\")/100,\"\")","v":""},{"$f":"IFERROR(RTD(\"cqg.rtd\", ,\"ContractData\",A36, \"OPen\",, \"T\"),\"\")","v":"Obligatory parameter <contract>(position - 1) is not specified"},{"$f":"IFERROR(RTD(\"cqg.rtd\", ,\"ContractData\", A36, \"HIgh\",, \"T\"),\"\")","v":"Obligatory parameter <contract>(position - 1) is not specified"},{"$f":"IFERROR(RTD(\"cqg.rtd\", ,\"ContractData\",A36, \"LOw\",, \"T\"),\"\")","v":"Obligatory parameter <contract>(position - 1) is not specified"},{"$f":"IFERROR(RTD(\"cqg.rtd\", ,\"ContractData\",A36, \"T_CVol\",, \"T\"),\"\")","v":"Obligatory parameter <contract>(position - 1) is not specified"},null,{"$f":" IFERROR(O36/RTD(\"cqg.rtd\",,\"StudyData\",A36, \"MA\", \"InputChoice=Vol,MAType=Sim,Period=21\", \"MA\",\"D\",\"-1\",\"all\",,,,\"T\"),\"\")","v":""},{"$f":"IUSG!AB3","v":""}]
[{"$f":"TRIM(IUSG!N12)","v":""},"News",{"$f":"IFERROR(RTD(\"cqg.rtd\", ,\"ContractData\",A37, \"LongDescription\",, \"T\")&\" (\"&RIGHT(A37,LEN(A37)-5)&\")\",\"\")","v":""},null,null,null,null,{"$f":"IFERROR(RTD(\"cqg.rtd\", ,\"ContractData\",A37, \"LastTradeToday\",, \"T\"),\"\")","v":"Obligatory parameter <contract>(position - 1) is not specified"},{"$f":"IFERROR(RTD(\"cqg.rtd\", ,\"ContractData\",A37, \"NetLastTradeToday\",, \"T\"),\"\")","v":"Obligatory parameter <contract>(position - 1) is not specified"},{"$f":"IFERROR(RTD(\"cqg.rtd\", ,\"ContractData\",A37, \"PerCentNetLastTrade\",, \"T\")/100,\"\")","v":""},{"$f":"IFERROR( I37/RTD(\"cqg.rtd\",,\"StudyData\",A37, \"ATR\", \"MaType=Sim,Period=10\", \"ATR\",\"D\",\"-1\",\"ALL\",,,\"FALSE\",\"T\")/100,\"\")","v":""},{"$f":"IFERROR(RTD(\"cqg.rtd\", ,\"ContractData\",A37, \"OPen\",, \"T\"),\"\")","v":"Obligatory parameter <contract>(position - 1) is not specified"},{"$f":"IFERROR(RTD(\"cqg.rtd\", ,\"ContractData\", A37, \"HIgh\",, \"T\"),\"\")","v":"Obligatory parameter <contract>(position - 1) is not specified"},{"$f":"IFERROR(RTD(\"cqg.rtd\", ,\"ContractData\",A37, \"LOw\",, \"T\"),\"\")","v":"Obligatory parameter <contract>(position - 1) is not specified"},{"$f":"IFERROR(RTD(\"cqg.rtd\", ,\"ContractData\",A37, \"T_CVol\",, \"T\"),\"\")","v":"Obligatory parameter <contract>(position - 1) is not specified"},null,{"$f":" IFERROR(O37/RTD(\"cqg.rtd\",,\"StudyData\",A37, \"MA\", \"InputChoice=Vol,MAType=Sim,Period=21\", \"MA\",\"D\",\"-1\",\"all\",,,,\"T\"),\"\")","v":""},{"$f":"IUSG!AB4","v":""}]
[{"$f":"TRIM(IUSG!N11)","v":""},"News",{"$f":"IFERROR(RTD(\"cqg.rtd\", ,\"ContractData\",A38, \"LongDescription\",, \"T\")&\" (\"&RIGHT(A38,LEN(A38)-5)&\")\",\"\")","v":""},null,null,null,null,{"$f":"IFERROR(RTD(\"cqg.rtd\", ,\"ContractData\",A38, \"LastTradeToday\",, \"T\"),\"\")","v":"Obligatory parameter <contract>(position - 1) is not specified"},{"$f":"IFERROR(RTD(\"cqg.rtd\", ,\"ContractData\",A38, \"NetLastTradeToday\",, \"T\"),\"\")","v":"Obligatory parameter <contract>(position - 1) is not specified"},{"$f":"IFERROR(RTD(\"cqg.rtd\", ,\"ContractData\",A38, \"PerCentNetLastTrade\",, \"T\")/100,\"\")","v":""},{"$f":"IFERROR( I38/RTD(\"cqg.rtd\",,\"StudyData\",A38, \"ATR\", \"MaType=Sim,Period=10\", \"ATR\",\"D\",\"-1\",\"ALL\",,,\"FALSE\",\"T\")/100,\"\")","v":""},{"$f":"IFERROR(RTD(\"cqg.rtd\", ,\"ContractData\",A38, \"OPen\",, \"T\"),\"\")","v":"Obligatory parameter <contract>(position - 1) is not specified"},{"$f":"IFERROR(RTD(\"cqg.rtd\", ,\"ContractData\", A38, \"HIgh\",, \"T\"),\"\")","v":"Obligatory parameter <contract>(position - 1) is not specified"},{"$f":"IFERROR(RTD(\"cqg.rtd\", ,\"ContractData\",A38, \"LOw\",, \"T\"),\"\")","v":"Obligatory parameter <contract>(position - 1) is not specified"},{"$f":"IFERROR(RTD(\"cqg.rtd\", ,\"ContractData\",A38, \"T_CVol\",, \"T\"),\"\")","v":"Obligatory parameter <contract>(position - 1) is not specified"},null,{"$f":" IFERROR(O38/RTD(\"cqg.rtd\",,\"StudyData\",A38, \"MA\", \"InputChoice=Vol,MAType=Sim,Period=21\", \"MA\",\"D\",\"-1\",\"all\",,,,\"T\"),\"\")","v":""},{"$f":"IUSG!AB5","v":""}]
[{"$f":"TRIM(IUSG!N10)","v":""},"News",{"$f":"IFERROR(RTD(\"cqg.rtd\", ,\"ContractData\",A39, \"LongDescription\",, \"T\")&\" (\"&RIGHT(A39,LEN(A39)-5)&\")\",\"\")","v":""},null,null,null,null,{"$f":"IFERROR(RTD(\"cqg.rtd\", ,\"ContractData\",A39, \"LastTradeToday\",, \"T\"),\"\")","v":"Obligatory parameter <contract>(position - 1) is not specified"},{"$f":"IFERROR(RTD(\"cqg.rtd\", ,\"ContractData\",A39, \"NetLastTradeToday\",, \"T\"),\"\")","v":"Obligatory parameter <contract>(position - 1) is not specified"},{"$f":"IFERROR(RTD(\"cqg.rtd\", ,\"ContractData\",A39, \"PerCentNetLastTrade\",, \"T\")/100,\"\")","v":""},{"$f":"IFERROR( I39/RTD(\"cqg.rtd\",,\"StudyData\",A39, \"ATR\", \"MaType=Sim,Period=10\", \"ATR\",\"D\",\"-1\",\"ALL\",,,\"FALSE\",\"T\")/100,\"\")","v":""},{"$f":"IFERROR(RTD(\"cqg.rtd\", ,\"ContractData\",A39, \"OPen\",, \"T\"),\"\")","v":"Obligatory parameter <contract>(position - 1) is not specified"},{"$f":"IFERROR(RTD(\"cqg.rtd\", ,\"ContractData\", A39, \"HIgh\",, \"T\"),\"\")","v":"Obligatory parameter <contract>(position - 1) is not specified"},{"$f":"IFERROR(RTD(\"cqg.rtd\", ,\"ContractData\",A39, \"LOw\",, \"T\"),\"\")","v":"Obligatory parameter <contract>(position - 1) is not specified"},{"$f":"IFERROR(RTD(\"cqg.rtd\", ,\"ContractData\",A39, \"T_CVol\",, \"T\"),\"\")","v":"Obligatory parameter <contract>(position - 1) is not specified"},null,{"$f":" IFERROR(O39/RTD(\"cqg.rtd\",,\"StudyData\",A39, \"MA\", \"InputChoice=Vol,MAType=Sim,Period=21\", \"MA\",\"D\",\"-1\",\"all\",,,,\"T\"),\"\")","v":""},{"$f":"IUSG!AB6","v":""}]
[{"$f":"TRIM(IUSG!N9)","v":""},"News",{"$f":"IFERROR(RTD(\"cqg.rtd\", ,\"ContractData\",A40, \"LongDescription\",, \"T\")&\" (\"&RIGHT(A40,LEN(A40)-5)&\")\",\"\")","v":""},null,null,null,null,{"$f":"IFERROR(RTD(\"cqg.rtd\", ,\"ContractData\",A40, \"LastTradeToday\",, \"T\"),\"\")","v":"Obligatory parameter <contract>(position - 1) is not specified"},{"$f":"IFERROR(RTD(\"cqg.rtd\", ,\"ContractData\",A40, \"NetLastTradeToday\",, \"T\"),\"\")","v":"Obligatory parameter <contract>(position - 1) is not specified"},{"$f":"IFERROR(RTD(\"cqg.rtd\", ,\"ContractData\",A40, \"PerCentNetLastTrade\",, \"T\")/100,\"\")","v":""},{"$f":"IFERROR( I40/RTD(\"cqg.rtd\",,\"StudyData\",A40, \"ATR\", \"MaType=Sim,Period=10\", \"ATR\",\"D\",\"-1\",\"ALL\",,,\"FALSE\",\"T\")/100,\"\")","v":""},{"$f":"IFERROR(RTD(\"cqg.rtd\", ,\"ContractData\",A40, \"OPen\",, \"T\"),\"\")","v":"Obligatory parameter <contract>(position - 1) is not specified"},{"$f":"IFERROR(RTD(\"cqg.rtd\", ,\"ContractData\", A40, \"HIgh\",, \"T\"),\"\")","v":"Obligatory parameter <contract>(position - 1) is not specified"},{"$f":"IFERROR(RTD(\"cqg.rtd\", ,\"ContractData\",A40, \"LOw\",, \"T\"),\"\")","v":"Obligatory parameter <contract>(position - 1) is not specified"},{"$f":"IFERROR(RTD(\"cqg.rtd\", ,\"ContractData\",A40, \"T_CVol\",, \"T\"),\"\")","v":"Obligatory parameter <contract>(position - 1) is not specified"},null,{"$f":" IFERROR(O40/RTD(\"cqg.rtd\",,\"StudyData\",A40, \"MA\", \"InputChoice=Vol,MAType=Sim,Period=21\", \"MA\",\"D\",\"-1\",\"all\",,,,\"T\"),\"\")","v":""},{"$f":"IUSG!AB7","v":""}]
[{"$f":"TRIM(IUSG!N8)","v":""},"News",{"$f":"IFERROR(RTD(\"cqg.rtd\", ,\"ContractData\",A41, \"LongDescription\",, \"T\")&\" (\"&RIGHT(A41,LEN(A41)-5)&\")\",\"\")","v":""},null,null,null,null,{"$f":"IFERROR(RTD(\"cqg.rtd\", ,\"ContractData\",A41, \"LastTradeToday\",, \"T\"),\"\")","v":"Obligatory parameter <contract>(position - 1) is not specified"},{"$f":"IFERROR(RTD(\"cqg.rtd\", ,\"ContractData\",A41, \"NetLastTradeToday\",, \"T\"),\"\")","v":"Obligatory parameter <contract>(position - 1) is not specified"},{"$f":"IFERROR(RTD(\"cqg.rtd\", ,\"ContractData\",A41, \"PerCentNetLastTrade\",, \"T\")/100,\"\")","v":""},{"$f":"IFERROR( I41/RTD(\"cqg.rtd\",,\"StudyData\",A41, \"ATR\", \"MaType=Sim,Period=10\", \"ATR\",\"D\",\"-1\",\"ALL\",,,\"FALSE\",\"T\")/100,\"\")","v":""},{"$f":"IFERROR(RTD(\"cqg.rtd\", ,\"ContractData\",A41, \"OPen\",, \"T\"),\"\")","v":"Obligatory parameter <contract>(position - 1) is not specified"},{"$f":"IFERROR(RTD(\"cqg.rtd\", ,\"ContractData\", A41, \"HIgh\",, \"T\"),\"\")","v":"Obligatory parameter <contract>(position - 1) is not specified"},{"$f":"IFERROR(RTD(\"cqg.rtd\", ,\"ContractData\",A41, \"LOw\",, \"T\"),\"\")","v":"Obligatory parameter <contract>(position - 1) is not specified"},{"$f":"IFERROR(RTD(\"cqg.rtd\", ,\"ContractData\",A41, \"T_CVol\",, \"T\"),\"\")","v":"Obligatory parameter <contract>(position - 1) is not specified"},null,{"$f":" IFERROR(O41/RTD(\"cqg.rtd\",,\"StudyData\",A41, \"MA\", \"InputChoice=Vol,MAType=Sim,Period=21\", \"MA\",\"D\",\"-1\",\"all\",,,,\"T\"),\"\")","v":""},{"$f":"IUSG!AB8","v":""}]
[{"$f":"TRIM(IUSG!N7)","v":""},"News",{"$f":"IFERROR(RTD(\"cqg.rtd\", ,\"ContractData\",A42, \"LongDescription\",, \"T\")&\" (\"&RIGHT(A42,LEN(A42)-5)&\")\",\"\")","v":""},null,null,null,null,{"$f":"IFERROR(RTD(\"cqg.rtd\", ,\"ContractData\",A42, \"LastTradeToday\",, \"T\"),\"\")","v":"Obligatory parameter <contract>(position - 1) is not specified"},{"$f":"IFERROR(RTD(\"cqg.rtd\", ,\"ContractData\",A42, \"NetLastTradeToday\",, \"T\"),\"\")","v":"Obligatory parameter <contract>(position - 1) is not specified"},{"$f":"IFERROR(RTD(\"cqg.rtd\", ,\"ContractData\",A42, \"PerCentNetLastTrade\",, \"T\")/100,\"\")","v":""},{"$f":"IFERROR( I42/RTD(\"cqg.rtd\",,\"StudyData\",A42, \"ATR\", \"MaType=Sim,Period=10\", \"ATR\",\"D\",\"-1\",\"ALL\",,,\"FALSE\",\"T\")/100,\"\")","v":""},{"$f":"IFERROR(RTD(\"cqg.rtd\", ,\"ContractData\",A42, \"OPen\",, \"T\"),\"\")","v":"Obligatory parameter <contract>(position - 1) is not specified"},{"$f":"IFERROR(RTD(\"cqg.rtd\", ,\"ContractData\", A42, \"HIgh\",, \"T\"),\"\")","v":"Obligatory parameter <contract>(position - 1) is not specified"},{"$f":"IFERROR(RTD(\"cqg.rtd\", ,\"ContractData\",A42, \"LOw\",, \"T\"),\"\")","v":"Obligatory parameter <contract>(position - 1) is not specified"},{"$f":"IFERROR(RTD(\"cqg.rtd\", ,\"ContractData\",A42, \"T_CVol\",, \"T\"),\"\")","v":"Obligatory parameter <contract>(position - 1) is not specified"},null,{"$f":" IFERROR(O42/RTD(\"cqg.rtd\",,\"StudyData\",A42, \"MA\", \"InputChoice=Vol,MAType=Sim,Period=21\", \"MA\",\"D\",\"-1\",\"all\",,,,\"T\"),\"\")","v":""},{"$f":"IUSG!AB9","v":""}]
[{"$f":"TRIM(IUSG!N6)","v":""},"News",{"$f":"IFERROR(RTD(\"cqg.rtd\", ,\"ContractData\",A43, \"LongDescription\",, \"T\")&\" (\"&RIGHT(A43,LEN(A43)-5)&\")\",\"\")","v":""},null,null,null,null,{"$f":"IFERROR(RTD(\"cqg.rtd\", ,\"ContractData\",A43, \"LastTradeToday\",, \"T\"),\"\")","v":"Obligatory parameter <contract>(position - 1) is not specified"},{"$f":"IFERROR(RTD(\"cqg.rtd\", ,\"ContractData\",A43, \"NetLastTradeToday\",, \"T\"),\"\")","v":"Obligatory parameter <contract>(position - 1) is not specified"},{"$f":"IFERROR(RTD(\"cqg.rtd\", ,\"ContractData\",A43, \"PerCentNetLastTrade\",, \"T\")/100,\"\")","v":""},{"$f":"IFERROR( I43/RTD(\"cqg.rtd\",,\"StudyData\",A43, \"ATR\", \"MaType=Sim,Period=10\", \"ATR\",\"D\",\"-1\",\"ALL\",,,\"FALSE\",\"T\")/100,\"\")","v":""},{"$f":"IFERROR(RTD(\"cqg.rtd\", ,\"ContractData\",A43, \"OPen\",, \"T\"),\"\")","v":"Obligatory parameter <contract>(position - 1) is not specified"},{"$f":"IFERROR(RTD(\"cqg.rtd\", ,\"ContractData\", A43, \"HIgh\",, \"T\"),\"\")","v":"Obligatory parameter <contract>(position - 1) is not specified"},{"$f":"IFERROR(RTD(\"cqg.rtd\", ,\"ContractData\",A43, \"LOw\",, \"T\"),\"\")","v":"Obligatory parameter <contract>(position - 1) is not specified"},{"$f":"IFERROR(RTD(\"cqg.rtd\", ,\"ContractData\",A43, \"T_CVol\",, \"T\"),\"\")","v":"Obligatory parameter <contract>(position - 1) is not specified"},null,{"$f":" IFERROR(O43/RTD(\"cqg.rtd\",,\"StudyData\",A43, \"MA\", \"InputChoice=Vol,MAType=Sim,Period=21\", \"MA\",\"D\",\"-1\",\"all\",,,,\"T\"),\"\")","v":""},{"$f":"IUSG!AB10","v":""}]
[{"$f":"TRIM(IUSG!N5)","v":""},"News",{"$f":"IFERROR(RTD(\"cqg.rtd\", ,\"ContractData\",A44, \"LongDescription\",, \"T\")&\" (\"&RIGHT(A44,LEN(A44)-5)&\")\",\"\")","v":""},null,null,null,null,{"$f":"IFERROR(RTD(\"cqg.rtd\", ,\"ContractData\",A44, \"LastTradeToday\",, \"T\"),\"\")","v":"Obligatory parameter <contract>(position - 1) is not specified"},{"$f":"IFERROR(RTD(\"cqg.rtd\", ,\"ContractData\",A44, \"NetLastTradeToday\",, \"T\"),\"\")","v":"Obligatory parameter <contract>(position - 1) is not specified"},{"$f":"IFERROR(RTD(\"cqg.rtd\", ,\"ContractData\",A44, \"PerCentNetLastTrade\",, \"T\")/100,\"\")","v":""},{"$f":"IFERROR( I44/RTD(\"cqg.rtd\",,\"StudyData\",A44, \"ATR\", \"MaType=Sim,Period=10\", \"ATR\",\"D\",\"-1\",\"ALL\",,,\"FALSE\",\"T\")/100,\"\")","v":""},{"$f":"IFERROR(RTD(\"cqg.rtd\", ,\"ContractData\",A44, \"OPen\",, \"T\"),\"\")","v":"Obligatory parameter <contract>(position - 1) is not specified"},{"$f":"IFERROR(RTD(\"cqg.rtd\", ,\"ContractData\", A44, \"HIgh\",, \"T\"),\"\")","v":"Obligatory parameter <contract>(position - 1) is not specified"},{"$f":"IFERROR(RTD(\"cqg.rtd\", ,\"ContractData\",A44, \"LOw\",, \"T\"),\"\")","v":"Obligatory parameter <contract>(position - 1) is not specified"},{"$f":"IFERROR(RTD(\"cqg.rtd\", ,\"ContractData\",A44, \"T_CVol\",, \"T\"),\"\")","v":"Obligatory parameter <contract>(position - 1) is not specified"},null,{"$f":" IFERROR(O44/RTD(\"cqg.rtd\",,\"StudyData\",A44, \"MA\", \"InputChoice=Vol,MAType=Sim,Period=21\", \"MA\",\"D\",\"-1\",\"all\",,,,\"T\"),\"\")","v":""},{"$f":"IUSG!AB11","v":""}]
[{"$f":"TRIM(IUSG!N4)","v":""},"News",{"$f":"IFERROR(RTD(\"cqg.rtd\", ,\"ContractData\",A45, \"LongDescription\",, \"T\")&\" (\"&RIGHT(A45,LEN(A45)-5)&\")\",\"\")","v":""},null,null,null,null,{"$f":"IFERROR(RTD(\"cqg.rtd\", ,\"ContractData\",A45, \"LastTradeToday\",, \"T\"),\"\")","v":"Obligatory parameter <contract>(position - 1) is not specified"},{"$f":"IFERROR(RTD(\"cqg.rtd\", ,\"ContractData\",A45, \"NetLastTradeToday\",, \"T\"),\"\")","v":"Obligatory parameter <contract>(position - 1) is not specified"},{"$f":"IFERROR(RTD(\"cqg.rtd\", ,\"ContractData\",A45, \"PerCentNetLastTrade\",, \"T\")/100,\"\")","v":""},{"$f":"IFERROR( I45/RTD(\"cqg.rtd\",,\"StudyData\",A45, \"ATR\", \"MaType=Sim,Period=10\", \"ATR\",\"D\",\"-1\",\"ALL\",,,\"FALSE\",\"T\")/100,\"\")","v":""},{"$f":"IFERROR(RTD(\"cqg.rtd\", ,\"ContractData\",A45, \"OPen\",, \"T\"),\"\")","v":"Obligatory parameter <contract>(position - 1) is not specified"},{"$f":"IFERROR(RTD(\"cqg.rtd\", ,\"ContractData\", A45, \"HIgh\",, \"T\"),\"\")","v":"Obligatory parameter <contract>(position - 1) is not specified"},{"$f":"IFERROR(RTD(\"cqg.rtd\", ,\"ContractData\",A45, \"LOw\",, \"T\"),\"\")","v":"Obligatory parameter <contract>(position - 1) is not specified"},{"$f":"IFERROR(RTD(\"cqg.rtd\", ,\"ContractData\",A45, \"T_CVol\",, \"T\"),\"\")","v":"Obligatory parameter <contract>(position - 1) is not specified"},null,{"$f":" IFERROR(O45/RTD(\"cqg.rtd\",,\"StudyData\",A45, \"MA\", \"InputChoice=Vol,MAType=Sim,Period=21\", \"MA\",\"D\",\"-1\",\"all\",,,,\"T\"),\"\")","v":""},{"$f":"IUSG!AB12","v":""}]
[{"$f":"TRIM(IUSG!N3)","v":""},"News",{"$f":"IFERROR(RTD(\"cqg.rtd\", ,\"ContractData\",A46, \"LongDescription\",, \"T\")&\" (\"&RIGHT(A46,LEN(A46)-5)&\")\",\"\")","v":""},null,null,null,null,{"$f":"IFERROR(RTD(\"cqg.rtd\", ,\"ContractData\",A46, \"LastTradeToday\",, \"T\"),\"\")","v":"Obligatory parameter <contract>(position - 1) is not specified"},{"$f":"IFERROR(RTD(\"cqg.rtd\", ,\"ContractData\",A46, \"NetLastTradeToday\",, \"T\"),\"\")","v":"Obligatory parameter <contract>(position - 1) is not specified"},{"$f":"IFERROR(RTD(\"cqg.rtd\", ,\"ContractData\",A46, \"PerCentNetLastTrade\",, \"T\")/100,\"\")","v":""},{"$f":"IFERROR( I46/RTD(\"cqg.rtd\",,\"StudyData\",A46, \"ATR\", \"MaType=Sim,Period=10\", \"ATR\",\"D\",\"-1\",\"ALL\",,,\"FALSE\",\"T\")/100,\"\")","v":""},{"$f":"IFERROR(RTD(\"cqg.rtd\", ,\"ContractData\",A46, \"OPen\",, \"T\"),\"\")","v":"Obligatory parameter <contract>(position - 1) is not specified"},{"$f":"IFERROR(RTD(\"cqg.rtd\", ,\"ContractData\", A46, \"HIgh\",, \"T\"),\"\")","v":"Obligatory parameter <contract>(position - 1) is not specified"},{"$f":"IFERROR(RTD(\"cqg.rtd\", ,\"ContractData\",A46, \"LOw\",, \"T\"),\"\")","v":"Obligatory parameter <contract>(position - 1) is not specified"},{"$f":"IFERROR(RTD(\"cqg.rtd\", ,\"ContractData\",A46, \"T_CVol\",, \"T\"),\"\")","v":"Obligatory parameter <contract>(position - 1) is not specified"},null,{"$f":" IFERROR(O46/RTD(\"cqg.rtd\",,\"StudyData\",A46, \"MA\", \"InputChoice=Vol,MAType=Sim,Period=21\", \"MA\",\"D\",\"-1\",\"all\",,,,\"T\"),\"\")","v":""},{"$f":"IUSG!AB13","v":""}]
[{"$f":"TRIM(IUSG!N2)","v":""},"News",{"$f":"IFERROR(RTD(\"cqg.rtd\", ,\"ContractData\",A47, \"LongDescription\",, \"T\")&\" (\"&RIGHT(A47,LEN(A47)-5)&\")\",\"\")","v":""},null,null,null,null,{"$f":"IFERROR(RTD(\"cqg.rtd\", ,\"ContractData\",A47, \"LastTradeToday\",, \"T\"),\"\")","v":"Obligatory parameter <contract>(position - 1) is not specified"},{"$f":"IFERROR(RTD(\"cqg.rtd\", ,\"ContractData\",A47, \"NetLastTradeToday\",, \"T\"),\"\")","v":"Obligatory parameter <contract>(position - 1) is not specified"},{"$f":"IFERROR(RTD(\"cqg.rtd\", ,\"ContractData\",A47, \"PerCentNetLastTrade\",, \"T\")/100,\"\")","v":""},{"$f":"IFERROR( I47/RTD(\"cqg.rtd\",,\"StudyData\",A47, \"ATR\", \"MaType=Sim,Period=10\", \"ATR\",\"D\",\"-1\",\"ALL\",,,\"FALSE\",\"T\")/100,\"\")","v":""},{"$f":"IFERROR(RTD(\"cqg.rtd\", ,\"ContractData\",A47, \"OPen\",, \"T\"),\"\")","v":"Obligatory parameter <contract>(position - 1) is not specified"},{"$f":"IFERROR(RTD(\"cqg.rtd\", ,\"ContractData\", A47, \"HIgh\",, \"T\"),\"\")","v":"Obligatory parameter <contract>(position - 1) is not specified"},{"$f":"IFERROR(RTD(\"cqg.rtd\", ,\"ContractData\",A47, \"LOw\",, \"T\"),\"\")","v":"Obligatory parameter <contract>(position - 1) is not specified"},{"$f":"IFERROR(RTD(\"cqg.rtd\", ,\"ContractData\",A47, \"T_CVol\",, \"T\"),\"\")","v":"Obligatory parameter <contract>(position - 1) is not specified"},null,{"$f":" IFERROR(O47/RTD(\"cqg.rtd\",,\"StudyData\",A47, \"MA\", \"InputChoice=Vol,MAType=Sim,Period=21\", \"MA\",\"D\",\"-1\",\"all\",,,,\"T\"),\"\")","v":""},{"$f":"IUSG!AB14","v":""}]
[{"$f":"TRIM(IUSG!N1)","v":""},"News",{"$f":"IFERROR(RTD(\"cqg.rtd\", ,\"ContractData\",A48, \"LongDescription\",, \"T\")&\" (\"&RIGHT(A48,LEN(A48)-5)&\")\",\"\")","v":""},null,null,null,null,{"$f":"IFERROR(RTD(\"cqg.rtd\", ,\"ContractData\",A48, \"LastTradeToday\",, \"T\"),\"\")","v":"Obligatory parameter <contract>(position - 1) is not specified"},{"$f":"IFERROR(RTD(\"cqg.rtd\", ,\"ContractData\",A48, \"NetLastTradeToday\",, \"T\"),\"\")","v":"Obligatory parameter <contract>(position - 1) is not specified"},{"$f":"IFERROR(RTD(\"cqg.rtd\", ,\"ContractData\",A48, \"PerCentNetLastTrade\",, \"T\")/100,\"\")","v":""},{"$f":"IFERROR( I48/RTD(\"cqg.rtd\",,\"StudyData\",A48, \"ATR\", \"MaType=Sim,Period=10\", \"ATR\",\"D\",\"-1\",\"ALL\",,,\"FALSE\",\"T\")/100,\"\")","v":""},{"$f":"IFERROR(RTD(\"cqg.rtd\", ,\"ContractData\",A48, \"OPen\",, \"T\"),\"\")","v":"Obligatory parameter <contract>(position - 1) is not specified"},{"$f":"IFERROR(RTD(\"cqg.rtd\", ,\"ContractData\", A48, \"HIgh\",, \"T\"),\"\")","v":"Obligatory parameter <contract>(position - 1) is not specified"},{"$f":"IFERROR(RTD(\"cqg.rtd\", ,\"ContractData\",A48, \"LOw\",, \"T\"),\"\")","v":"Obligatory parameter <contract>(position - 1) is not specified"},{"$f":"IFERROR(RTD(\"cqg.rtd\", ,\"ContractData\",A48, \"T_CVol\",, \"T\"),\"\")","v":"Obligatory parameter <contract>(position - 1) is not specified"},null,{"$f":" IFERROR(O48/RTD(\"cqg.rtd\",,\"StudyData\",A48, \"MA\", \"InputChoice=Vol,MAType=Sim,Period=21\", \"MA\",\"D\",\"-1\",\"all\",,,,\"T\"),\"\")","v":""},{"$f":"IUSG!AB15","v":""}]
[null,null,"CQG Inc.,   Copyright © 2025",null,null,null,"Designed by Thom Hartle",null,null,"iShares is a registered trademark of BlackRock, Inc. S&P® is a registered trademark of Standard & Poor’s Financial Services LLC",null,null,null,null,null,null,null,null,null,null,null,null,{"$f":"IUSG!H450","v":1},"of the stocks in the ETF are higher today"]
[null,null," "]

{"sheet":"Symbols","index":1,"n_rows":564,"n_cols":5,"rows_kept":564,"cut":false,"hidden":true,"merged":[]}
[{"$f":"RTD(\"cqg.rtd\", ,\"ContractData\",B1, \"LongDescription\",, \"T\")","v":"American Airlines Group Inc."},"S.US.AAL",null,null,{"$error":"#N/A"}]
[{"$f":"RTD(\"cqg.rtd\", ,\"ContractData\",B2, \"LongDescription\",, \"T\")","v":"AAON"},"S.US.AAON",null,null,{"$error":"#N/A"}]
[{"$f":"RTD(\"cqg.rtd\", ,\"ContractData\",B3, \"LongDescription\",, \"T\")","v":"Apple Inc"},"S.US.AAPL",null,null,{"$error":"#N/A"}]
[{"$f":"RTD(\"cqg.rtd\", ,\"ContractData\",B4, \"LongDescription\",, \"T\")","v":"AbbVie Inc."},"S.US.ABBV",null,null,{"$error":"#N/A"}]
[{"$f":"RTD(\"cqg.rtd\", ,\"ContractData\",B5, \"LongDescription\",, \"T\")","v":"Airbnb, Inc. Class A"},"S.US.ABNB",null,null,{"$error":"#N/A"}]
[{"$f":"RTD(\"cqg.rtd\", ,\"ContractData\",B6, \"LongDescription\",, \"T\")","v":"Arch Capital Grp Ltd"},"S.US.ACGL",null,null,{"$error":"#N/A"}]
[{"$f":"RTD(\"cqg.rtd\", ,\"ContractData\",B7, \"LongDescription\",, \"T\")","v":"AECOM"},"S.US.ACM",null,null,{"$error":"#N/A"}]
[{"$f":"RTD(\"cqg.rtd\", ,\"ContractData\",B8, \"LongDescription\",, \"T\")","v":"Adobe Inc."},"S.US.ADBE",null,null,{"$error":"#N/A"}]
[{"$f":"RTD(\"cqg.rtd\", ,\"ContractData\",B9, \"LongDescription\",, \"T\")","v":"AGREE REALTY CORP"},"S.US.ADC",null,null,{"$error":"#N/A"}]
[{"$f":"RTD(\"cqg.rtd\", ,\"ContractData\",B10, \"LongDescription\",, \"T\")","v":"Auto Data Processing Inc"},"S.US.ADP",null,null,{"$error":"#N/A"}]
[{"$f":"RTD(\"cqg.rtd\", ,\"ContractData\",B11, \"LongDescription\",, \"T\")","v":"Autodesk Inc"},"S.US.ADSK",null,null,{"$error":"#N/A"}]
[{"$f":"RTD(\"cqg.rtd\", ,\"ContractData\",B12, \"LongDescription\",, \"T\")","v":"AFG Fincl Grp Hldg Co"},"S.US.AFG",null,null,{"$error":"#N/A"}]
[{"$f":"RTD(\"cqg.rtd\", ,\"ContractData\",B13, \"LongDescription\",, \"T\")","v":"Applied Indust Tech Inc"},"S.US.AIT",null,null,{"$error":"#N/A"}]
[{"$f":"RTD(\"cqg.rtd\", ,\"ContractData\",B14, \"LongDescription\",, \"T\")","v":"Arthur J Gallagher Co"},"S.US.AJG",null,null,{"$error":"#N/A"}]
[{"$f":"RTD(\"cqg.rtd\", ,\"ContractData\",B15, \"LongDescription\",, \"T\")","v":"Allegro MicroSystems, Inc."},"S.US.ALGM",null,null,{"$error":"#N/A"}]
[{"$f":"RTD(\"cqg.rtd\", ,\"ContractData\",B16, \"LongDescription\",, \"T\")","v":"Allegion plc"},"S.US.ALLE",null,null,{"$error":"#N/A"}]
[{"$f":"RTD(\"cqg.rtd\", ,\"ContractData\",B17, \"LongDescription\",, \"T\")","v":"Altair Engineering Inc. Class A"},"S.US.ALTR",null,null,{"$error":"#N/A"}]
[{"$f":"RTD(\"cqg.rtd\", ,\"ContractData\",B18, \"LongDescription\",, \"T\")","v":"Antero Resources Midstream LLC"},"S.US.AM",null,null,{"$error":"#N/A"}]
[{"$f":"RTD(\"cqg.rtd\", ,\"ContractData\",B19, \"LongDescription\",, \"T\")","v":"Applied Materials Inc"},"S.US.AMAT",null,null,{"$error":"#N/A"}]
[{"$f":"RTD(\"cqg.rtd\", ,\"ContractData\",B20, \"LongDescription\",, \"T\")","v":"Ametek Inc New"},"S.US.AME",null,null,{"$error":"#N/A"}]
[{"$f":"RTD(\"cqg.rtd\", ,\"ContractData\",B21, \"LongDescription\",, \"T\")","v":"Affiliated Managers Grp Inc"},"S.US.AMG",null,null,{"$error":"#N/A"}]
[{"$f":"RTD(\"cqg.rtd\", ,\"ContractData\",B22, \"LongDescription\",, \"T\")","v":"Amgen Inc"},"S.US.AMGN",null,null,{"$error":"#N/A"}]
[{"$f":"RTD(\"cqg.rtd\", ,\"ContractData\",B23, \"LongDescription\",, \"T\")","v":"American Homes4Rent"},"S.US.AMH",null,null,{"$error":"#N/A"}]
[{"$f":"RTD(\"cqg.rtd\", ,\"ContractData\",B24, \"LongDescription\",, \"T\")","v":"Ameriprise Financial Inc"},"S.US.AMP",null,null,{"$error":"#N/A"}]
[{"$f":"RTD(\"cqg.rtd\", ,\"ContractData\",B25, \"LongDescription\",, \"T\")","v":"Amazon.com Inc"},"S.US.AMZN",null,null,{"$error":"#N/A"}]
[{"$f":"RTD(\"cqg.rtd\", ,\"ContractData\",B26, \"LongDescription\",, \"T\")","v":"Arista Networks, Inc."},"S.US.ANET",null,null,{"$error":"#N/A"}]
[{"$f":"RTD(\"cqg.rtd\", ,\"ContractData\",B27, \"LongDescription\",, \"T\")","v":"Abercrombie & Fitch"},"S.US.ANF",null,null,{"$error":"#N/A"}]
[{"$f":"RTD(\"cqg.rtd\", ,\"ContractData\",B28, \"LongDescription\",, \"T\")","v":"ANSYS Inc"},"S.US.ANSS",null,null,{"$error":"#N/A"}]
[{"$f":"RTD(\"cqg.rtd\", ,\"ContractData\",B29, \"LongDescription\",, \"T\")","v":"AON Corporation"},"S.US.AON",null,null,{"$error":"#N/A"}]
[{"$f":"RTD(\"cqg.rtd\", ,\"ContractData\",B30, \"LongDescription\",, \"T\")","v":"Amphenol"},"S.US.APH",null,null,{"$error":"#N/A"}]
[{"$f":"RTD(\"cqg.rtd\", ,\"ContractData\",B31, \"LongDescription\",, \"T\")","v":"Apollo Global Management, LLC"},"S.US.APO",null,null,{"$error":"#N/A"}]
[{"$f":"RTD(\"cqg.rtd\", ,\"ContractData\",B32, \"LongDescription\",, \"T\")","v":"AppFolio, Inc."},"S.US.APPF",null,null,{"$error":"#N/A"}]
[{"$f":"RTD(\"cqg.rtd\", ,\"ContractData\",B33, \"LongDescription\",, \"T\")","v":"AptarGroup Inc"},"S.US.ATR",null,null,{"$error":"#N/A"}]
[{"$f":"RTD(\"cqg.rtd\", ,\"ContractData\",B34, \"LongDescription\",, \"T\")","v":"AvalonBay Communities, Inc."},"S.US.AVB",null,null,{"$error":"#N/A"}]
[{"$f":"RTD(\"cqg.rtd\", ,\"ContractData\",B35, \"LongDescription\",, \"T\")","v":"Broadcom Inc."},"S.US.AVGO",null,null,{"$error":"#N/A"}]
[{"$f":"RTD(\"cqg.rtd\", ,\"ContractData\",B36, \"LongDescription\",, \"T\")","v":"Axon Enterprise, Inc."},"S.US.AXON",null,null,{"$error":"#N/A"}]
[{"$f":"RTD(\"cqg.rtd\", ,\"ContractData\",B37, \"LongDescription\",, \"T\")","v":"American Express Co"},"S.US.AXP",null,null,{"$error":"#N/A"}]
[{"$f":"RTD(\"cqg.rtd\", ,\"ContractData\",B38, \"LongDescription\",, \"T\")","v":"Axalta Coating Systems Ltd."},"S.US.AXTA",null,null,{"$error":"#N/A"}]
[{"$f":"RTD(\"cqg.rtd\", ,\"ContractData\",B39, \"LongDescription\",, \"T\")","v":"Acuity Brands Inc"},"S.US.AYI",null,null,{"$error":"#N/A"}]
[{"$f":"RTD(\"cqg.rtd\", ,\"ContractData\",B40, \"LongDescription\",, \"T\")","v":"Autozone Inc"},"S.US.AZO",null,null,{"$error":"#N/A"}]
[{"$f":"RTD(\"cqg.rtd\", ,\"ContractData\",B41, \"LongDescription\",, \"T\")","v":"Brinks Company"},"S.US.BCO",null,null,{"$error":"#N/A"}]
[{"$f":"RTD(\"cqg.rtd\", ,\"ContractData\",B42, \"LongDescription\",, \"T\")","v":"Belden Inc."},"S.US.BDC",null,null,{"$error":"#N/A"}]
[{"$f":"RTD(\"cqg.rtd\", ,\"ContractData\",B43, \"LongDescription\",, \"T\")","v":"BJ's Wholesale Club Holdings, Inc."},"S.US.BJ",null,null,{"$error":"#N/A"}]
[{"$f":"RTD(\"cqg.rtd\", ,\"ContractData\",B44, \"LongDescription\",, \"T\")","v":"Bank of New York Co Inc"},"S.US.BK",null,null,{"$error":"#N/A"}]
[{"$f":"RTD(\"cqg.rtd\", ,\"ContractData\",B45, \"LongDescription\",, \"T\")","v":"Booking Holdings Inc."},"S.US.BKNG",null,null,{"$error":"#N/A"}]
[{"$f":"RTD(\"cqg.rtd\", ,\"ContractData\",B46, \"LongDescription\",, \"T\")","v":"TopBuild Corp."},"S.US.BLD",null,null,{"$error":"#N/A"}]
[{"$f":"RTD(\"cqg.rtd\", ,\"ContractData\",B47, \"LongDescription\",, \"T\")","v":"Builders FirstSource Inc"},"S.US.BLDR",null,null,{"$error":"#N/A"}]
[{"$f":"RTD(\"cqg.rtd\", ,\"ContractData\",B48, \"LongDescription\",, \"T\")","v":"Blackbaud Inc"},"S.US.BLKB",null,null,{"$error":"#N/A"}]
[{"$f":"RTD(\"cqg.rtd\", ,\"ContractData\",B49, \"LongDescription\",, \"T\")","v":"Broadridge Financial Solutions"},"S.US.BR",null,null,{"$error":"#N/A"}]
[{"$f":"RTD(\"cqg.rtd\", ,\"ContractData\",B50, \"LongDescription\",, \"T\")","v":"BellRing Brands, LLC"},"S.US.BRBR",null,null,{"$error":"#N/A"}]
[{"$f":"RTD(\"cqg.rtd\", ,\"ContractData\",B51, \"LongDescription\",, \"T\")","v":"Berkshire Hathaway Inc. ClsB"},"S.US.BRKB",null,null,{"$error":"#N/A"}]
[{"$f":"RTD(\"cqg.rtd\", ,\"ContractData\",B52, \"LongDescription\",, \"T\")","v":"Bruker Corp"},"S.US.BRKR",null,null,{"$error":"#N/A"}]
[{"$f":"RTD(\"cqg.rtd\", ,\"ContractData\",B53, \"LongDescription\",, \"T\")","v":"BROWN AND BROWN INC"},"S.US.BRO",null,null,{"$error":"#N/A"}]
[{"$f":"RTD(\"cqg.rtd\", ,\"ContractData\",B54, \"LongDescription\",, \"T\")","v":"Brixmor Property Group, Inc."},"S.US.BRX",null,null,{"$error":"#N/A"}]
[{"$f":"RTD(\"cqg.rtd\", ,\"ContractData\",B55, \"LongDescription\",, \"T\")","v":"Boston Scientific Corp"},"S.US.BSX",null,null,{"$error":"#N/A"}]
[{"$f":"RTD(\"cqg.rtd\", ,\"ContractData\",B56, \"LongDescription\",, \"T\")","v":"Burlington Stores, Inc."},"S.US.BURL",null,null,{"$error":"#N/A"}]
[{"$f":"RTD(\"cqg.rtd\", ,\"ContractData\",B57, \"LongDescription\",, \"T\")","v":"BWX Technologies, Inc."},"S.US.BWXT",null,null,{"$error":"#N/A"}]
[{"$f":"RTD(\"cqg.rtd\", ,\"ContractData\",B58, \"LongDescription\",, \"T\")","v":"Boyd Gaming Corp"},"S.US.BYD",null,null,{"$error":"#N/A"}]
[{"$f":"RTD(\"cqg.rtd\", ,\"ContractData\",B59, \"LongDescription\",, \"T\")","v":"CACI International"},"S.US.CACI",null,null,{"$error":"#N/A"}]
[{"$f":"RTD(\"cqg.rtd\", ,\"ContractData\",B60, \"LongDescription\",, \"T\")","v":"Carrier Global Corporation"},"S.US.CARR",null,null,{"$error":"#N/A"}]
[{"$f":"RTD(\"cqg.rtd\", ,\"ContractData\",B61, \"LongDescription\",, \"T\")","v":"Maplebear Inc."},"S.US.CART",null,null,{"$error":"#N/A"}]
[{"$f":"RTD(\"cqg.rtd\", ,\"ContractData\",B62, \"LongDescription\",, \"T\")","v":"Caseys General Stores Inc"},"S.US.CASY",null,null,{"$error":"#N/A"}]
[{"$f":"RTD(\"cqg.rtd\", ,\"ContractData\",B63, \"LongDescription\",, \"T\")","v":"Caterpillar Inc"},"S.US.CAT",null,null,{"$error":"#N/A"}]
[{"$f":"RTD(\"cqg.rtd\", ,\"ContractData\",B64, \"LongDescription\",, \"T\")","v":"CBRE Group, Inc."},"S.US.CBRE",null,null,{"$error":"#N/A"}]
[{"$f":"RTD(\"cqg.rtd\", ,\"ContractData\",B65, \"LongDescription\",, \"T\")","v":"Commerce Bancshares Inc"},"S.US.CBSH",null,null,{"$error":"#N/A"}]
[{"$f":"RTD(\"cqg.rtd\", ,\"ContractData\",B66, \"LongDescription\",, \"T\")","v":"Cabot Corporation"},"S.US.CBT",null,null,{"$error":"#N/A"}]
[{"$f":"RTD(\"cqg.rtd\", ,\"ContractData\",B67, \"LongDescription\",, \"T\")","v":"Carnival Corp"},"S.US.CCL",null,null,{"$error":"#N/A"}]
[{"$f":"RTD(\"cqg.rtd\", ,\"ContractData\",B68, \"LongDescription\",, \"T\")","v":"Cadence Design Systems, Inc"},"S.US.CDNS",null,null,{"$error":"#N/A"}]
[{"$f":"RTD(\"cqg.rtd\", ,\"ContractData\",B69, \"LongDescription\",, \"T\")","v":"COPT Defense Properties"},"S.US.CDP",null,null,{"$error":"#N/A"}]
[{"$f":"RTD(\"cqg.rtd\", ,\"ContractData\",B70, \"LongDescription\",, \"T\")","v":"Constellation Energy Corporation"},"S.US.CEG",null,null,{"$error":"#N/A"}]
[{"$f":"RTD(\"cqg.rtd\", ,\"ContractData\",B71, \"LongDescription\",, \"T\")","v":"Celsius Holdings, Inc."},"S.US.CELH",null,null,{"$error":"#N/A"}]
[{"$f":"RTD(\"cqg.rtd\", ,\"ContractData\",B72, \"LongDescription\",, \"T\")","v":"Cullen Frost Bankers Inc"},"S.US.CFR",null,null,{"$error":"#N/A"}]
[{"$f":"RTD(\"cqg.rtd\", ,\"ContractData\",B73, \"LongDescription\",, \"T\")","v":"The Carlyle Group L.P."},"S.US.CG",null,null,{"$error":"#N/A"}]
[{"$f":"RTD(\"cqg.rtd\", ,\"ContractData\",B74, \"LongDescription\",, \"T\")","v":"Cognex Corp"},"S.US.CGNX",null,null,{"$error":"#N/A"}]
[{"$f":"RTD(\"cqg.rtd\", ,\"ContractData\",B75, \"LongDescription\",, \"T\")","v":"Churchill Downs"},"S.US.CHDN",null,null,{"$error":"#N/A"}]
[{"$f":"RTD(\"cqg.rtd\", ,\"ContractData\",B76, \"LongDescription\",, \"T\")","v":"Chemed Corp"},"S.US.CHE",null,null,{"$error":"#N/A"}]
[{"$f":"RTD(\"cqg.rtd\", ,\"ContractData\",B77, \"LongDescription\",, \"T\")","v":"Choice Hotels Internatl Inc"},"S.US.CHH",null,null,{"$error":"#N/A"}]
[{"$f":"RTD(\"cqg.rtd\", ,\"ContractData\",B78, \"LongDescription\",, \"T\")","v":"Chewy, Inc"},"S.US.CHWY",null,null,{"$error":"#N/A"}]
[{"$f":"RTD(\"cqg.rtd\", ,\"ContractData\",B79, \"LongDescription\",, \"T\")","v":"ChampionX Corporation"},"S.US.CHX",null,null,{"$error":"#N/A"}]
[{"$f":"RTD(\"cqg.rtd\", ,\"ContractData\",B80, \"LongDescription\",, \"T\")","v":"Ciena Corp"},"S.US.CIEN",null,null,{"$error":"#N/A"}]
[{"$f":"RTD(\"cqg.rtd\", ,\"ContractData\",B81, \"LongDescription\",, \"T\")","v":"Cincinnati Fincl Corp"},"S.US.CINF",null,null,{"$error":"#N/A"}]
[{"$f":"RTD(\"cqg.rtd\", ,\"ContractData\",B82, \"LongDescription\",, \"T\")","v":"Colgate-Palmolive Co"},"S.US.CL",null,null,{"$error":"#N/A"}]
[{"$f":"RTD(\"cqg.rtd\", ,\"ContractData\",B83, \"LongDescription\",, \"T\")","v":"Clean Harbors, Inc."},"S.US.CLH",null,null,{"$error":"#N/A"}]
[{"$f":"RTD(\"cqg.rtd\", ,\"ContractData\",B84, \"LongDescription\",, \"T\")","v":"Chipotle Mexican Grill"},"S.US.CMG",null,null,{"$error":"#N/A"}]
[{"$f":"RTD(\"cqg.rtd\", ,\"ContractData\",B85, \"LongDescription\",, \"T\")","v":"Cummins Inc"},"S.US.CMI",null,null,{"$error":"#N/A"}]
[{"$f":"RTD(\"cqg.rtd\", ,\"ContractData\",B86, \"LongDescription\",, \"T\")","v":"Core & Main, Inc."},"S.US.CNM",null,null,{"$error":"#N/A"}]
[{"$f":"RTD(\"cqg.rtd\", ,\"ContractData\",B87, \"LongDescription\",, \"T\")","v":"CNX Resources Corporation"},"S.US.CNX",null,null,{"$error":"#N/A"}]
[{"$f":"RTD(\"cqg.rtd\", ,\"ContractData\",B88, \"LongDescription\",, \"T\")","v":"Coherent Inc."},"S.US.COHR",null,null,{"$error":"#N/A"}]
[{"$f":"RTD(\"cqg.rtd\", ,\"ContractData\",B89, \"LongDescription\",, \"T\")","v":"Coca-Cola Consolidated, Inc."},"S.US.COKE",null,null,{"$error":"#N/A"}]
[{"$f":"RTD(\"cqg.rtd\", ,\"ContractData\",B90, \"LongDescription\",, \"T\")","v":"Costco Wholesale Corp"},"S.US.COST",null,null,{"$error":"#N/A"}]
[{"$f":"RTD(\"cqg.rtd\", ,\"ContractData\",B91, \"LongDescription\",, \"T\")","v":"Corpay, Inc."},"S.US.CPAY",null,null,{"$error":"#N/A"}]
[{"$f":"RTD(\"cqg.rtd\", ,\"ContractData\",B92, \"LongDescription\",, \"T\")","v":"Copart Inc"},"S.US.CPRT",null,null,{"$error":"#N/A"}]
[{"$f":"RTD(\"cqg.rtd\", ,\"ContractData\",B93, \"LongDescription\",, \"T\")","v":"Camden Property Trust"},"S.US.CPT",null,null,{"$error":"#N/A"}]
[{"$f":"RTD(\"cqg.rtd\", ,\"ContractData\",B94, \"LongDescription\",, \"T\")","v":"Crane Holdings, Co."},"S.US.CR",null,null,{"$error":"#N/A"}]
[{"$f":"RTD(\"cqg.rtd\", ,\"ContractData\",B95, \"LongDescription\",, \"T\")","v":"Salesforce, Inc."},"S.US.CRM",null,null,{"$error":"#N/A"}]
[{"$f":"RTD(\"cqg.rtd\", ,\"ContractData\",B96, \"LongDescription\",, \"T\")","v":"Crocs Inc"},"S.US.CROX",null,null,{"$error":"#N/A"}]
[{"$f":"RTD(\"cqg.rtd\", ,\"ContractData\",B97, \"LongDescription\",, \"T\")","v":"Carpenter Technology Corp"},"S.US.CRS",null,null,{"$error":"#N/A"}]
[{"$f":"RTD(\"cqg.rtd\", ,\"ContractData\",B98, \"LongDescription\",, \"T\")","v":"Cirrus Logic Inc"},"S.US.CRUS",null,null,{"$error":"#N/A"}]
[{"$f":"RTD(\"cqg.rtd\", ,\"ContractData\",B99, \"LongDescription\",, \"T\")","v":"CrowdStrike Holdings, Inc. Class A"},"S.US.CRWD",null,null,{"$error":"#N/A"}]
[{"$f":"RTD(\"cqg.rtd\", ,\"ContractData\",B100, \"LongDescription\",, \"T\")","v":"Carlisle Cos Inc"},"S.US.CSL",null,null,{"$error":"#N/A"}]
[{"$f":"RTD(\"cqg.rtd\", ,\"ContractData\",B101, \"LongDescription\",, \"T\")","v":"CSX Corporation"},"S.US.CSX",null,null,{"$error":"#N/A"}]
[{"$f":"RTD(\"cqg.rtd\", ,\"ContractData\",B102, \"LongDescription\",, \"T\")","v":"Cintas Corp"},"S.US.CTAS",null,null,{"$error":"#N/A"}]
[{"$f":"RTD(\"cqg.rtd\", ,\"ContractData\",B103, \"LongDescription\",, \"T\")","v":"Cubesmart"},"S.US.CUBE",null,null,{"$error":"#N/A"}]
[{"$f":"RTD(\"cqg.rtd\", ,\"ContractData\",B104, \"LongDescription\",, \"T\")","v":"CommVault Systems Inc"},"S.US.CVLT",null,null,{"$error":"#N/A"}]
[{"$f":"RTD(\"cqg.rtd\", ,\"ContractData\",B105, \"LongDescription\",, \"T\")","v":"Curtiss-Wright Corporation"},"S.US.CW",null,null,{"$error":"#N/A"}]
[{"$f":"RTD(\"cqg.rtd\", ,\"ContractData\",B106, \"LongDescription\",, \"T\")","v":"Crane NXT, Co."},"S.US.CXT",null,null,{"$error":"#N/A"}]
[{"$f":"RTD(\"cqg.rtd\", ,\"ContractData\",B107, \"LongDescription\",, \"T\")","v":"Cytokinetics Inc"},"S.US.CYTK",null,null,{"$error":"#N/A"}]
[{"$f":"RTD(\"cqg.rtd\", ,\"ContractData\",B108, \"LongDescription\",, \"T\")","v":"Delta Airlines, Inc."},"S.US.DAL",null,null,{"$error":"#N/A"}]
[{"$f":"RTD(\"cqg.rtd\", ,\"ContractData\",B109, \"LongDescription\",, \"T\")","v":"Dayforce Inc."},"S.US.DAY",null,null,{"$error":"#N/A"}]
[{"$f":"RTD(\"cqg.rtd\", ,\"ContractData\",B110, \"LongDescription\",, \"T\")","v":"Dropbox, Inc. Class A"},"S.US.DBX",null,null,{"$error":"#N/A"}]
[{"$f":"RTD(\"cqg.rtd\", ,\"ContractData\",B111, \"LongDescription\",, \"T\")","v":"Donaldson Company Inc"},"S.US.DCI",null,null,{"$error":"#N/A"}]
[{"$f":"RTD(\"cqg.rtd\", ,\"ContractData\",B112, \"LongDescription\",, \"T\")","v":"Deere & Company"},"S.US.DE",null,null,{"$error":"#N/A"}]
[{"$f":"RTD(\"cqg.rtd\", ,\"ContractData\",B113, \"LongDescription\",, \"T\")","v":"Deckers Outdoor Corp"},"S.US.DECK",null,null,{"$error":"#N/A"}]
[{"$f":"RTD(\"cqg.rtd\", ,\"ContractData\",B114, \"LongDescription\",, \"T\")","v":"Dell Technologies Inc."},"S.US.DELL",null,null,{"$error":"#N/A"}]
[{"$f":"RTD(\"cqg.rtd\", ,\"ContractData\",B115, \"LongDescription\",, \"T\")","v":"Discover Financial Services"},"S.US.DFS",null,null,{"$error":"#N/A"}]
[{"$f":"RTD(\"cqg.rtd\", ,\"ContractData\",B116, \"LongDescription\",, \"T\")","v":"Dicks Sporting Goods Inc."},"S.US.DKS",null,null,{"$error":"#N/A"}]
[{"$f":"RTD(\"cqg.rtd\", ,\"ContractData\",B117, \"LongDescription\",, \"T\")","v":"Doximity, Inc."},"S.US.DOCS",null,null,{"$error":"#N/A"}]
[{"$f":"RTD(\"cqg.rtd\", ,\"ContractData\",B118, \"LongDescription\",, \"T\")","v":"DocuSign, Inc."},"S.US.DOCU",null,null,{"$error":"#N/A"}]
[{"$f":"RTD(\"cqg.rtd\", ,\"ContractData\",B119, \"LongDescription\",, \"T\")","v":"Dover Corporation"},"S.US.DOV",null,null,{"$error":"#N/A"}]
[{"$f":"RTD(\"cqg.rtd\", ,\"ContractData\",B120, \"LongDescription\",, \"T\")","v":"Dominos Pizza, Inc."},"S.US.DPZ",null,null,{"$error":"#N/A"}]
[{"$f":"RTD(\"cqg.rtd\", ,\"ContractData\",B121, \"LongDescription\",, \"T\")","v":"Darden Restaurants Inc"},"S.US.DRI",null,null,{"$error":"#N/A"}]
[{"$f":"RTD(\"cqg.rtd\", ,\"ContractData\",B122, \"LongDescription\",, \"T\")","v":"Dynatrace Holdings LLC"},"S.US.DT",null,null,{"$error":"#N/A"}]
[{"$f":"RTD(\"cqg.rtd\", ,\"ContractData\",B123, \"LongDescription\",, \"T\")","v":"DT Midstream"},"S.US.DTM",null,null,{"$error":"#N/A"}]
[{"$f":"RTD(\"cqg.rtd\", ,\"ContractData\",B124, \"LongDescription\",, \"T\")","v":"Duolingo, Inc. Class A"},"S.US.DUOL",null,null,{"$error":"#N/A"}]
[{"$f":"RTD(\"cqg.rtd\", ,\"ContractData\",B125, \"LongDescription\",, \"T\")","v":"DaVita Inc."},"S.US.DVA",null,null,{"$error":"#N/A"}]
[{"$f":"RTD(\"cqg.rtd\", ,\"ContractData\",B126, \"LongDescription\",, \"T\")","v":"DexCom Inc"},"S.US.DXCM",null,null,{"$error":"#N/A"}]
[{"$f":"RTD(\"cqg.rtd\", ,\"ContractData\",B127, \"LongDescription\",, \"T\")","v":"Electronic Arts"},"S.US.EA",null,null,{"$error":"#N/A"}]
[{"$f":"RTD(\"cqg.rtd\", ,\"ContractData\",B128, \"LongDescription\",, \"T\")","v":"eBay Inc"},"S.US.EBAY",null,null,{"$error":"#N/A"}]
[{"$f":"RTD(\"cqg.rtd\", ,\"ContractData\",B129, \"LongDescription\",, \"T\")","v":"Ecolab Inc"},"S.US.ECL",null,null,{"$error":"#N/A"}]
[{"$f":"RTD(\"cqg.rtd\", ,\"ContractData\",B130, \"LongDescription\",, \"T\")","v":"Euronet Worldwide Inc"},"S.US.EEFT",null,null,{"$error":"#N/A"}]
[{"$f":"RTD(\"cqg.rtd\", ,\"ContractData\",B131, \"LongDescription\",, \"T\")","v":"Eastgroup Properites Inc"},"S.US.EGP",null,null,{"$error":"#N/A"}]
[{"$f":"RTD(\"cqg.rtd\", ,\"ContractData\",B132, \"LongDescription\",, \"T\")","v":"Encompass Health Corporation"},"S.US.EHC",null,null,{"$error":"#N/A"}]
[{"$f":"RTD(\"cqg.rtd\", ,\"ContractData\",B133, \"LongDescription\",, \"T\")","v":"e.l.f. Beauty, Inc."},"S.US.ELF",null,null,{"$error":"#N/A"}]
[{"$f":"RTD(\"cqg.rtd\", ,\"ContractData\",B134, \"LongDescription\",, \"T\")","v":"Equity Lifestyle Property Inc"},"S.US.ELS",null,null,{"$error":"#N/A"}]
[{"$f":"RTD(\"cqg.rtd\", ,\"ContractData\",B135, \"LongDescription\",, \"T\")","v":"EMCOR Group"},"S.US.EME",null,null,{"$error":"#N/A"}]
[{"$f":"RTD(\"cqg.rtd\", ,\"ContractData\",B136, \"LongDescription\",, \"T\")","v":"Emerson Electric Co"},"S.US.EMR",null,null,{"$error":"#N/A"}]
[{"$f":"RTD(\"cqg.rtd\", ,\"ContractData\",B137, \"LongDescription\",, \"T\")","v":"The Ensign Group, Inc."},"S.US.ENSG",null,null,{"$error":"#N/A"}]
[{"$f":"RTD(\"cqg.rtd\", ,\"ContractData\",B138, \"LongDescription\",, \"T\")","v":"Entegris Inc"},"S.US.ENTG",null,null,{"$error":"#N/A"}]
[{"$f":"RTD(\"cqg.rtd\", ,\"ContractData\",B139, \"LongDescription\",, \"T\")","v":"Equitable Holdings, Inc."},"S.US.EQH",null,null,{"$error":"#N/A"}]
[{"$f":"RTD(\"cqg.rtd\", ,\"ContractData\",B140, \"LongDescription\",, \"T\")","v":"Equinix Inc"},"S.US.EQIX",null,null,{"$error":"#N/A"}]
[{"$f":"RTD(\"cqg.rtd\", ,\"ContractData\",B141, \"LongDescription\",, \"T\")","v":"Erie Indemnity Co"},"S.US.ERIE",null,null,{"$error":"#N/A"}]
[{"$f":"RTD(\"cqg.rtd\", ,\"ContractData\",B142, \"LongDescription\",, \"T\")","v":"ESAB Corporation"},"S.US.ESAB",null,null,{"$error":"#N/A"}]
[{"$f":"RTD(\"cqg.rtd\", ,\"ContractData\",B143, \"LongDescription\",, \"T\")","v":"Essex Property Trust Inc"},"S.US.ESS",null,null,{"$error":"#N/A"}]
[{"$f":"RTD(\"cqg.rtd\", ,\"ContractData\",B144, \"LongDescription\",, \"T\")","v":"Eaton Corporation"},"S.US.ETN",null,null,{"$error":"#N/A"}]
[{"$f":"RTD(\"cqg.rtd\", ,\"ContractData\",B145, \"LongDescription\",, \"T\")","v":"Evercore Inc."},"S.US.EVR",null,null,{"$error":"#N/A"}]
[{"$f":"RTD(\"cqg.rtd\", ,\"ContractData\",B146, \"LongDescription\",, \"T\")","v":"East West Bancorp"},"S.US.EWBC",null,null,{"$error":"#N/A"}]
[{"$f":"RTD(\"cqg.rtd\", ,\"ContractData\",B147, \"LongDescription\",, \"T\")","v":"Exelixis, Inc."},"S.US.EXEL",null,null,{"$error":"#N/A"}]
[{"$f":"RTD(\"cqg.rtd\", ,\"ContractData\",B148, \"LongDescription\",, \"T\")","v":"Exlservice Holdings Inc"},"S.US.EXLS",null,null,{"$error":"#N/A"}]
[{"$f":"RTD(\"cqg.rtd\", ,\"ContractData\",B149, \"LongDescription\",, \"T\")","v":"Eagle Materials Inc"},"S.US.EXP",null,null,{"$error":"#N/A"}]
[{"$f":"RTD(\"cqg.rtd\", ,\"ContractData\",B150, \"LongDescription\",, \"T\")","v":"Expedia Group, Inc."},"S.US.EXPE",null,null,{"$error":"#N/A"}]
[{"$f":"RTD(\"cqg.rtd\", ,\"ContractData\",B151, \"LongDescription\",, \"T\")","v":"Exponent"},"S.US.EXPO",null,null,{"$error":"#N/A"}]
[{"$f":"RTD(\"cqg.rtd\", ,\"ContractData\",B152, \"LongDescription\",, \"T\")","v":"Extra Space Storage Inc"},"S.US.EXR",null,null,{"$error":"#N/A"}]
[{"$f":"RTD(\"cqg.rtd\", ,\"ContractData\",B153, \"LongDescription\",, \"T\")","v":"Fastenal Co"},"S.US.FAST",null,null,{"$error":"#N/A"}]
[{"$f":"RTD(\"cqg.rtd\", ,\"ContractData\",B154, \"LongDescription\",, \"T\")","v":"FirstCash, Inc."},"S.US.FCFS",null,null,{"$error":"#N/A"}]
[{"$f":"RTD(\"cqg.rtd\", ,\"ContractData\",B155, \"LongDescription\",, \"T\")","v":"Factet Research"},"S.US.FDS",null,null,{"$error":"#N/A"}]
[{"$f":"RTD(\"cqg.rtd\", ,\"ContractData\",B156, \"LongDescription\",, \"T\")","v":"First Financial Bankshares Inc"},"S.US.FFIN",null,null,{"$error":"#N/A"}]
[{"$f":"RTD(\"cqg.rtd\", ,\"ContractData\",B157, \"LongDescription\",, \"T\")","v":"F5, Inc."},"S.US.FFIV",null,null,{"$error":"#N/A"}]
[{"$f":"RTD(\"cqg.rtd\", ,\"ContractData\",B158, \"LongDescription\",, \"T\")","v":"Federated Hermes, Inc."},"S.US.FHI",null,null,{"$error":"#N/A"}]
[{"$f":"RTD(\"cqg.rtd\", ,\"ContractData\",B159, \"LongDescription\",, \"T\")","v":"Fiserv, Inc."},"S.US.FI",null,null,{"$error":"#N/A"}]
[{"$f":"RTD(\"cqg.rtd\", ,\"ContractData\",B160, \"LongDescription\",, \"T\")","v":"Fair Isaac Inc"},"S.US.FICO",null,null,{"$error":"#N/A"}]
[{"$f":"RTD(\"cqg.rtd\", ,\"ContractData\",B161, \"LongDescription\",, \"T\")","v":"Comfort Systems USA Inc"},"S.US.FIX",null,null,{"$error":"#N/A"}]
[{"$f":"RTD(\"cqg.rtd\", ,\"ContractData\",B162, \"LongDescription\",, \"T\")","v":"Flowserve Corp"},"S.US.FLS",null,null,{"$error":"#N/A"}]
[{"$f":"RTD(\"cqg.rtd\", ,\"ContractData\",B163, \"LongDescription\",, \"T\")","v":"Fabrinet"},"S.US.FN",null,null,{"$error":"#N/A"}]
[{"$f":"RTD(\"cqg.rtd\", ,\"ContractData\",B164, \"LongDescription\",, \"T\")","v":"Floor And Decor Holdings, Inc."},"S.US.FND",null,null,{"$error":"#N/A"}]
[{"$f":"RTD(\"cqg.rtd\", ,\"ContractData\",B165, \"LongDescription\",, \"T\")","v":"Shift4 Payments, Inc"},"S.US.FOUR",null,null,{"$error":"#N/A"}]
[{"$f":"RTD(\"cqg.rtd\", ,\"ContractData\",B166, \"LongDescription\",, \"T\")","v":"First Industrial Reality Trust Inc"},"S.US.FR",null,null,{"$error":"#N/A"}]
[{"$f":"RTD(\"cqg.rtd\", ,\"ContractData\",B167, \"LongDescription\",, \"T\")","v":"First Solar, Inc"},"S.US.FSLR",null,null,{"$error":"#N/A"}]
[{"$f":"RTD(\"cqg.rtd\", ,\"ContractData\",B168, \"LongDescription\",, \"T\")","v":"Fortinet, Inc."},"S.US.FTNT",null,null,{"$error":"#N/A"}]
[{"$f":"RTD(\"cqg.rtd\", ,\"ContractData\",B169, \"LongDescription\",, \"T\")","v":"Genpact Limited"},"S.US.G",null,null,{"$error":"#N/A"}]
[{"$f":"RTD(\"cqg.rtd\", ,\"ContractData\",B170, \"LongDescription\",, \"T\")","v":"GATX Corporation"},"S.US.GATX",null,null,{"$error":"#N/A"}]
[{"$f":"RTD(\"cqg.rtd\", ,\"ContractData\",B171, \"LongDescription\",, \"T\")","v":"Glacier Bancorp Inc"},"S.US.GBCI",null,null,{"$error":"#N/A"}]
[{"$f":"RTD(\"cqg.rtd\", ,\"ContractData\",B172, \"LongDescription\",, \"T\")","v":"GoDaddy Inc."},"S.US.GDDY",null,null,{"$error":"#N/A"}]
[{"$f":"RTD(\"cqg.rtd\", ,\"ContractData\",B173, \"LongDescription\",, \"T\")","v":"General Electric Co"},"S.US.GE",null,null,{"$error":"#N/A"}]
[{"$f":"RTD(\"cqg.rtd\", ,\"ContractData\",B174, \"LongDescription\",, \"T\")","v":"Gen Digital Inc."},"S.US.GEN",null,null,{"$error":"#N/A"}]
[{"$f":"RTD(\"cqg.rtd\", ,\"ContractData\",B175, \"LongDescription\",, \"T\")","v":"GE Vernova Inc."},"S.US.GEV",null,null,{"$error":"#N/A"}]
[{"$f":"RTD(\"cqg.rtd\", ,\"ContractData\",B176, \"LongDescription\",, \"T\")","v":"Graco Inc"},"S.US.GGG",null,null,{"$error":"#N/A"}]
[{"$f":"RTD(\"cqg.rtd\", ,\"ContractData\",B177, \"LongDescription\",, \"T\")","v":"Gaming and Leisure Properties, Inc."},"S.US.GLPI",null,null,{"$error":"#N/A"}]
[{"$f":"RTD(\"cqg.rtd\", ,\"ContractData\",B178, \"LongDescription\",, \"T\")","v":"Gamestop Corporation"},"S.US.GME",null,null,{"$error":"#N/A"}]
[{"$f":"RTD(\"cqg.rtd\", ,\"ContractData\",B179, \"LongDescription\",, \"T\")","v":"Globus Medical, Inc."},"S.US.GMED",null,null,{"$error":"#N/A"}]
[{"$f":"RTD(\"cqg.rtd\", ,\"ContractData\",B180, \"LongDescription\",, \"T\")","v":"Generac Holdings Inc."},"S.US.GNRC",null,null,{"$error":"#N/A"}]
[{"$f":"RTD(\"cqg.rtd\", ,\"ContractData\",B181, \"LongDescription\",, \"T\")","v":"Gentex Corporation"},"S.US.GNTX",null,null,{"$error":"#N/A"}]
[{"$f":"RTD(\"cqg.rtd\", ,\"ContractData\",B182, \"LongDescription\",, \"T\")","v":"Alphabet, Inc. Class C"},"S.US.GOOG",null,null,{"$error":"#N/A"}]
[{"$f":"RTD(\"cqg.rtd\", ,\"ContractData\",B183, \"LongDescription\",, \"T\")","v":"Alphabet, Inc. Class A"},"S.US.GOOGL",null,null,{"$error":"#N/A"}]
[{"$f":"RTD(\"cqg.rtd\", ,\"ContractData\",B184, \"LongDescription\",, \"T\")","v":"Graphic Packaging Holding Company"},"S.US.GPK",null,null,{"$error":"#N/A"}]
[{"$f":"RTD(\"cqg.rtd\", ,\"ContractData\",B185, \"LongDescription\",, \"T\")","v":"Garmin Ltd"},"S.US.GRMN",null,null,{"$error":"#N/A"}]
[{"$f":"RTD(\"cqg.rtd\", ,\"ContractData\",B186, \"LongDescription\",, \"T\")","v":"Chart Industries, Inc"},"S.US.GTLS",null,null,{"$error":"#N/A"}]
[{"$f":"RTD(\"cqg.rtd\", ,\"ContractData\",B187, \"LongDescription\",, \"T\")","v":"Guidewire Software, Inc."},"S.US.GWRE",null,null,{"$error":"#N/A"}]
[{"$f":"RTD(\"cqg.rtd\", ,\"ContractData\",B188, \"LongDescription\",, \"T\")","v":"Grainger (WW) Inc"},"S.US.GWW",null,null,{"$error":"#N/A"}]
[{"$f":"RTD(\"cqg.rtd\", ,\"ContractData\",B189, \"LongDescription\",, \"T\")","v":"Hyatt Hotels"},"S.US.H",null,null,{"$error":"#N/A"}]
[{"$f":"RTD(\"cqg.rtd\", ,\"ContractData\",B190, \"LongDescription\",, \"T\")","v":"Haemonetics Corp"},"S.US.HAE",null,null,{"$error":"#N/A"}]
[{"$f":"RTD(\"cqg.rtd\", ,\"ContractData\",B191, \"LongDescription\",, \"T\")","v":"Halozyme Therapeutics"},"S.US.HALO",null,null,{"$error":"#N/A"}]
[{"$f":"RTD(\"cqg.rtd\", ,\"ContractData\",B192, \"LongDescription\",, \"T\")","v":"HCA Holdings Inc."},"S.US.HCA",null,null,{"$error":"#N/A"}]
[{"$f":"RTD(\"cqg.rtd\", ,\"ContractData\",B193, \"LongDescription\",, \"T\")","v":"Home Depot, Inc."},"S.US.HD",null,null,{"$error":"#N/A"}]
[{"$f":"RTD(\"cqg.rtd\", ,\"ContractData\",B194, \"LongDescription\",, \"T\")","v":"Hess Corporation"},"S.US.HES",null,null,{"$error":"#N/A"}]
[{"$f":"RTD(\"cqg.rtd\", ,\"ContractData\",B195, \"LongDescription\",, \"T\")","v":"Hilton Grand Vacations Inc."},"S.US.HGV",null,null,{"$error":"#N/A"}]
[{"$f":"RTD(\"cqg.rtd\", ,\"ContractData\",B196, \"LongDescription\",, \"T\")","v":"The Hartford Insurance Group, Inc."},"S.US.HIG",null,null,{"$error":"#N/A"}]
[{"$f":"RTD(\"cqg.rtd\", ,\"ContractData\",B197, \"LongDescription\",, \"T\")","v":"Houlihan Lokey, Inc."},"S.US.HLI",null,null,{"$error":"#N/A"}]
[{"$f":"RTD(\"cqg.rtd\", ,\"ContractData\",B198, \"LongDescription\",, \"T\")","v":"Hamilton Lane Incorporated Class A"},"S.US.HLNE",null,null,{"$error":"#N/A"}]
[{"$f":"RTD(\"cqg.rtd\", ,\"ContractData\",B199, \"LongDescription\",, \"T\")","v":"Hilton Inc."},"S.US.HLT",null,null,{"$error":"#N/A"}]
[{"$f":"RTD(\"cqg.rtd\", ,\"ContractData\",B200, \"LongDescription\",, \"T\")","v":"Home BancShares Inc"},"S.US.HOMB",null,null,{"$error":"#N/A"}]
[{"$f":"RTD(\"cqg.rtd\", ,\"ContractData\",B201, \"LongDescription\",, \"T\")","v":"HealthEquity, Inc."},"S.US.HQY",null,null,{"$error":"#N/A"}]
[{"$f":"RTD(\"cqg.rtd\", ,\"ContractData\",B202, \"LongDescription\",, \"T\")","v":"Block (H&R) Inc"},"S.US.HRB",null,null,{"$error":"#N/A"}]
[{"$f":"RTD(\"cqg.rtd\", ,\"ContractData\",B203, \"LongDescription\",, \"T\")","v":"Host Hotels & Resorts Inc"},"S.US.HST",null,null,{"$error":"#N/A"}]
[{"$f":"RTD(\"cqg.rtd\", ,\"ContractData\",B204, \"LongDescription\",, \"T\")","v":"Hubbell Inc Cls B"},"S.US.HUBB",null,null,{"$error":"#N/A"}]
[{"$f":"RTD(\"cqg.rtd\", ,\"ContractData\",B205, \"LongDescription\",, \"T\")","v":"Howmet Aerospace Inc."},"S.US.HWM",null,null,{"$error":"#N/A"}]
[{"$f":"RTD(\"cqg.rtd\", ,\"ContractData\",B206, \"LongDescription\",, \"T\")","v":"Hexcel Corp"},"S.US.HXL",null,null,{"$error":"#N/A"}]
[{"$f":"RTD(\"cqg.rtd\", ,\"ContractData\",B207, \"LongDescription\",, \"T\")","v":"Interactive Brokers Group, Inc."},"S.US.IBKR",null,null,{"$error":"#N/A"}]
[{"$f":"RTD(\"cqg.rtd\", ,\"ContractData\",B208, \"LongDescription\",, \"T\")","v":"International Business Machines"},"S.US.IBM",null,null,{"$error":"#N/A"}]
[{"$f":"RTD(\"cqg.rtd\", ,\"ContractData\",B209, \"LongDescription\",, \"T\")","v":"Internatl Bancshares Corp"},"S.US.IBOC",null,null,{"$error":"#N/A"}]
[{"$f":"RTD(\"cqg.rtd\", ,\"ContractData\",B210, \"LongDescription\",, \"T\")","v":"Intercontinental, Inc."},"S.US.ICE",null,null,{"$error":"#N/A"}]
[{"$f":"RTD(\"cqg.rtd\", ,\"ContractData\",B211, \"LongDescription\",, \"T\")","v":"Idacorp Inc Hldg Co"},"S.US.IDA",null,null,{"$error":"#N/A"}]
[{"$f":"RTD(\"cqg.rtd\", ,\"ContractData\",B212, \"LongDescription\",, \"T\")","v":"Illumina Inc"},"S.US.ILMN",null,null,{"$error":"#N/A"}]
[{"$f":"RTD(\"cqg.rtd\", ,\"ContractData\",B213, \"LongDescription\",, \"T\")","v":"Incyte Corporation"},"S.US.INCY",null,null,{"$error":"#N/A"}]
[{"$f":"RTD(\"cqg.rtd\", ,\"ContractData\",B214, \"LongDescription\",, \"T\")","v":"Ingredion Incorporated"},"S.US.INGR",null,null,{"$error":"#N/A"}]
[{"$f":"RTD(\"cqg.rtd\", ,\"ContractData\",B215, \"LongDescription\",, \"T\")","v":"Intuit Corp"},"S.US.INTU",null,null,{"$error":"#N/A"}]
[{"$f":"RTD(\"cqg.rtd\", ,\"ContractData\",B216, \"LongDescription\",, \"T\")","v":"Ingersoll Rand Inc."},"S.US.IR",null,null,{"$error":"#N/A"}]
[{"$f":"RTD(\"cqg.rtd\", ,\"ContractData\",B217, \"LongDescription\",, \"T\")","v":"Iridium Communications Inc"},"S.US.IRDM",null,null,{"$error":"#N/A"}]
[{"$f":"RTD(\"cqg.rtd\", ,\"ContractData\",B218, \"LongDescription\",, \"T\")","v":"Iron Mountain Inc"},"S.US.IRM",null,null,{"$error":"#N/A"}]
[{"$f":"RTD(\"cqg.rtd\", ,\"ContractData\",B219, \"LongDescription\",, \"T\")","v":"Independence Realty Trust, Inc."},"S.US.IRT",null,null,{"$error":"#N/A"}]
[{"$f":"RTD(\"cqg.rtd\", ,\"ContractData\",B220, \"LongDescription\",, \"T\")","v":"Intuitive Surgical Inc"},"S.US.ISRG",null,null,{"$error":"#N/A"}]
[{"$f":"RTD(\"cqg.rtd\", ,\"ContractData\",B221, \"LongDescription\",, \"T\")","v":"Gartner Group"},"S.US.IT",null,null,{"$error":"#N/A"}]
[{"$f":"RTD(\"cqg.rtd\", ,\"ContractData\",B222, \"LongDescription\",, \"T\")","v":"ITT Inc."},"S.US.ITT",null,null,{"$error":"#N/A"}]
[{"$f":"RTD(\"cqg.rtd\", ,\"ContractData\",B223, \"LongDescription\",, \"T\")","v":"Illinois Tools Works Inc"},"S.US.ITW",null,null,{"$error":"#N/A"}]
[{"$f":"RTD(\"cqg.rtd\", ,\"ContractData\",B224, \"LongDescription\",, \"T\")","v":"Jefferies Financial Group Inc."},"S.US.JEF",null,null,{"$error":"#N/A"}]
[{"$f":"RTD(\"cqg.rtd\", ,\"ContractData\",B225, \"LongDescription\",, \"T\")","v":"Janus Henderson Group plc"},"S.US.JHG",null,null,{"$error":"#N/A"}]
[{"$f":"RTD(\"cqg.rtd\", ,\"ContractData\",B226, \"LongDescription\",, \"T\")","v":"Jack Henry/Associates Inc"},"S.US.JKHY",null,null,{"$error":"#N/A"}]
[{"$f":"RTD(\"cqg.rtd\", ,\"ContractData\",B227, \"LongDescription\",, \"T\")","v":"Jones Lang LaSalle Inc"},"S.US.JLL",null,null,{"$error":"#N/A"}]
[{"$f":"RTD(\"cqg.rtd\", ,\"ContractData\",B228, \"LongDescription\",, \"T\")","v":"JPMorgan Chase & Co."},"S.US.JPM",null,null,{"$error":"#N/A"}]
[{"$f":"RTD(\"cqg.rtd\", ,\"ContractData\",B229, \"LongDescription\",, \"T\")","v":"Kaufman&Broad Home Corp"},"S.US.KBH",null,null,{"$error":"#N/A"}]
[{"$f":"RTD(\"cqg.rtd\", ,\"ContractData\",B230, \"LongDescription\",, \"T\")","v":"KBR, Inc"},"S.US.KBR",null,null,{"$error":"#N/A"}]
[{"$f":"RTD(\"cqg.rtd\", ,\"ContractData\",B231, \"LongDescription\",, \"T\")","v":"Kyndryl Holdings, Inc."},"S.US.KD",null,null,{"$error":"#N/A"}]
[{"$f":"RTD(\"cqg.rtd\", ,\"ContractData\",B232, \"LongDescription\",, \"T\")","v":"Kirby Corporation"},"S.US.KEX",null,null,{"$error":"#N/A"}]
[{"$f":"RTD(\"cqg.rtd\", ,\"ContractData\",B233, \"LongDescription\",, \"T\")","v":"KKR & Co. Inc."},"S.US.KKR",null,null,{"$error":"#N/A"}]
[{"$f":"RTD(\"cqg.rtd\", ,\"ContractData\",B234, \"LongDescription\",, \"T\")","v":"KLA Corporation"},"S.US.KLAC",null,null,{"$error":"#N/A"}]
[{"$f":"RTD(\"cqg.rtd\", ,\"ContractData\",B235, \"LongDescription\",, \"T\")","v":"Knife River Corporation"},"S.US.KNF",null,null,{"$error":"#N/A"}]
[{"$f":"RTD(\"cqg.rtd\", ,\"ContractData\",B236, \"LongDescription\",, \"T\")","v":"Kinsale Capital Group, Inc."},"S.US.KNSL",null,null,{"$error":"#N/A"}]
[{"$f":"RTD(\"cqg.rtd\", ,\"ContractData\",B237, \"LongDescription\",, \"T\")","v":"Kite Realty Group Trust"},"S.US.KRG",null,null,{"$error":"#N/A"}]
[{"$f":"RTD(\"cqg.rtd\", ,\"ContractData\",B238, \"LongDescription\",, \"T\")","v":"Lamar Advertising Co"},"S.US.LAMR",null,null,{"$error":"#N/A"}]
[{"$f":"RTD(\"cqg.rtd\", ,\"ContractData\",B239, \"LongDescription\",, \"T\")","v":"Lancaster Colony Corp"},"S.US.LANC",null,null,{"$error":"#N/A"}]
[{"$f":"RTD(\"cqg.rtd\", ,\"ContractData\",B240, \"LongDescription\",, \"T\")","v":"Leidos Holdings, Inc."},"S.US.LDOS",null,null,{"$error":"#N/A"}]
[{"$f":"RTD(\"cqg.rtd\", ,\"ContractData\",B241, \"LongDescription\",, \"T\")","v":"Lincoln Electric Hldgs Inc"},"S.US.LECO",null,null,{"$error":"#N/A"}]
[{"$f":"RTD(\"cqg.rtd\", ,\"ContractData\",B242, \"LongDescription\",, \"T\")","v":"Lennox Internatl"},"S.US.LII",null,null,{"$error":"#N/A"}]
[{"$f":"RTD(\"cqg.rtd\", ,\"ContractData\",B243, \"LongDescription\",, \"T\")","v":"Lumentum Holdings Inc."},"S.US.LITE",null,null,{"$error":"#N/A"}]
[{"$f":"RTD(\"cqg.rtd\", ,\"ContractData\",B244, \"LongDescription\",, \"T\")","v":"LivaNova PLC"},"S.US.LIVN",null,null,{"$error":"#N/A"}]
[{"$f":"RTD(\"cqg.rtd\", ,\"ContractData\",B245, \"LongDescription\",, \"T\")","v":"Lilly (Eli) & Company"},"S.US.LLY",null,null,{"$error":"#N/A"}]
[{"$f":"RTD(\"cqg.rtd\", ,\"ContractData\",B246, \"LongDescription\",, \"T\")","v":"Lantheus Holdings, Inc."},"S.US.LNTH",null,null,{"$error":"#N/A"}]
[{"$f":"RTD(\"cqg.rtd\", ,\"ContractData\",B247, \"LongDescription\",, \"T\")","v":"Light & Wonder, Inc."},"S.US.LNW",null,null,{"$error":"#N/A"}]
[{"$f":"RTD(\"cqg.rtd\", ,\"ContractData\",B248, \"LongDescription\",, \"T\")","v":"Grand Canyon Education Inc"},"S.US.LOPE",null,null,{"$error":"#N/A"}]
[{"$f":"RTD(\"cqg.rtd\", ,\"ContractData\",B249, \"LongDescription\",, \"T\")","v":"Louisiana-Pacific Corp"},"S.US.LPX",null,null,{"$error":"#N/A"}]
[{"$f":"RTD(\"cqg.rtd\", ,\"ContractData\",B250, \"LongDescription\",, \"T\")","v":"Lattice Semiconductor"},"S.US.LSCC",null,null,{"$error":"#N/A"}]
[{"$f":"RTD(\"cqg.rtd\", ,\"ContractData\",B251, \"LongDescription\",, \"T\")","v":"Lululemon Athletica Inc"},"S.US.LULU",null,null,{"$error":"#N/A"}]
[{"$f":"RTD(\"cqg.rtd\", ,\"ContractData\",B252, \"LongDescription\",, \"T\")","v":"Las Vegas Sands Corp"},"S.US.LVS",null,null,{"$error":"#N/A"}]
[{"$f":"RTD(\"cqg.rtd\", ,\"ContractData\",B253, \"LongDescription\",, \"T\")","v":"Live Nation Entertainment Inc"},"S.US.LYV",null,null,{"$error":"#N/A"}]
[{"$f":"RTD(\"cqg.rtd\", ,\"ContractData\",B254, \"LongDescription\",, \"T\")","v":"Mastercard Inc."},"S.US.MA",null,null,{"$error":"#N/A"}]
[{"$f":"RTD(\"cqg.rtd\", ,\"ContractData\",B255, \"LongDescription\",, \"T\")","v":"Mid-America Apt Communities Inc"},"S.US.MAA",null,null,{"$error":"#N/A"}]
[{"$f":"RTD(\"cqg.rtd\", ,\"ContractData\",B256, \"LongDescription\",, \"T\")","v":"Manhattan Assoc"},"S.US.MANH",null,null,{"$error":"#N/A"}]
[{"$f":"RTD(\"cqg.rtd\", ,\"ContractData\",B257, \"LongDescription\",, \"T\")","v":"Marriot International, Inc."},"S.US.MAR",null,null,{"$error":"#N/A"}]
[{"$f":"RTD(\"cqg.rtd\", ,\"ContractData\",B258, \"LongDescription\",, \"T\")","v":"Masco Corporation"},"S.US.MAS",null,null,{"$error":"#N/A"}]
[{"$f":"RTD(\"cqg.rtd\", ,\"ContractData\",B259, \"LongDescription\",, \"T\")","v":"Masimo Corporation"},"S.US.MASI",null,null,{"$error":"#N/A"}]
[{"$f":"RTD(\"cqg.rtd\", ,\"ContractData\",B260, \"LongDescription\",, \"T\")","v":"Moodys Corp"},"S.US.MCO",null,null,{"$error":"#N/A"}]
[{"$f":"RTD(\"cqg.rtd\", ,\"ContractData\",B261, \"LongDescription\",, \"T\")","v":"Medpace Holdings, Inc."},"S.US.MEDP",null,null,{"$error":"#N/A"}]
[{"$f":"RTD(\"cqg.rtd\", ,\"ContractData\",B262, \"LongDescription\",, \"T\")","v":"Meta Platforms, Inc."},"S.US.META",null,null,{"$error":"#N/A"}]
[{"$f":"RTD(\"cqg.rtd\", ,\"ContractData\",B263, \"LongDescription\",, \"T\")","v":"MKS Instruments Inc"},"S.US.MKSI",null,null,{"$error":"#N/A"}]
[{"$f":"RTD(\"cqg.rtd\", ,\"ContractData\",B264, \"LongDescription\",, \"T\")","v":"Mueller Industries"},"S.US.MLI",null,null,{"$error":"#N/A"}]
[{"$f":"RTD(\"cqg.rtd\", ,\"ContractData\",B265, \"LongDescription\",, \"T\")","v":"Martin Marietta Materials Inc"},"S.US.MLM",null,null,{"$error":"#N/A"}]
[{"$f":"RTD(\"cqg.rtd\", ,\"ContractData\",B266, \"LongDescription\",, \"T\")","v":"Marsh & McLennan Cos Inc"},"S.US.MMC",null,null,{"$error":"#N/A"}]
[{"$f":"RTD(\"cqg.rtd\", ,\"ContractData\",B267, \"LongDescription\",, \"T\")","v":"Monster Beverage Corporation"},"S.US.MNST",null,null,{"$error":"#N/A"}]
[{"$f":"RTD(\"cqg.rtd\", ,\"ContractData\",B268, \"LongDescription\",, \"T\")","v":"Altria Group Inc"},"S.US.MO",null,null,{"$error":"#N/A"}]
[{"$f":"RTD(\"cqg.rtd\", ,\"ContractData\",B269, \"LongDescription\",, \"T\")","v":"Morningstar Inc"},"S.US.MORN",null,null,{"$error":"#N/A"}]
[{"$f":"RTD(\"cqg.rtd\", ,\"ContractData\",B270, \"LongDescription\",, \"T\")","v":"Monolithic Power Systems Inc"},"S.US.MPWR",null,null,{"$error":"#N/A"}]
[{"$f":"RTD(\"cqg.rtd\", ,\"ContractData\",B271, \"LongDescription\",, \"T\")","v":"Morgan Stanley"},"S.US.MS",null,null,{"$error":"#N/A"}]
[{"$f":"RTD(\"cqg.rtd\", ,\"ContractData\",B272, \"LongDescription\",, \"T\")","v":"MSA Safety Incorporated"},"S.US.MSA",null,null,{"$error":"#N/A"}]
[{"$f":"RTD(\"cqg.rtd\", ,\"ContractData\",B273, \"LongDescription\",, \"T\")","v":"MSCI, Inc."},"S.US.MSCI",null,null,{"$error":"#N/A"}]
[{"$f":"RTD(\"cqg.rtd\", ,\"ContractData\",B274, \"LongDescription\",, \"T\")","v":"Microsoft Corporation"},"S.US.MSFT",null,null,{"$error":"#N/A"}]
[{"$f":"RTD(\"cqg.rtd\", ,\"ContractData\",B275, \"LongDescription\",, \"T\")","v":"Motorola Solutions, Inc."},"S.US.MSI",null,null,{"$error":"#N/A"}]
[{"$f":"RTD(\"cqg.rtd\", ,\"ContractData\",B276, \"LongDescription\",, \"T\")","v":"Mettler-Toledo Internatl Inc"},"S.US.MTD",null,null,{"$error":"#N/A"}]
[{"$f":"RTD(\"cqg.rtd\", ,\"ContractData\",B277, \"LongDescription\",, \"T\")","v":"Matador Resources Company"},"S.US.MTDR",null,null,{"$error":"#N/A"}]
[{"$f":"RTD(\"cqg.rtd\", ,\"ContractData\",B278, \"LongDescription\",, \"T\")","v":"MGIC Investment Corp"},"S.US.MTG",null,null,{"$error":"#N/A"}]
[{"$f":"RTD(\"cqg.rtd\", ,\"ContractData\",B279, \"LongDescription\",, \"T\")","v":"Vail Resorts Inc"},"S.US.MTN",null,null,{"$error":"#N/A"}]
[{"$f":"RTD(\"cqg.rtd\", ,\"ContractData\",B280, \"LongDescription\",, \"T\")","v":"MACOM Technology Solutions Holdings, Inc."},"S.US.MTSI",null,null,{"$error":"#N/A"}]
[{"$f":"RTD(\"cqg.rtd\", ,\"ContractData\",B281, \"LongDescription\",, \"T\")","v":"MasTec Inc"},"S.US.MTZ",null,null,{"$error":"#N/A"}]
[{"$f":"RTD(\"cqg.rtd\", ,\"ContractData\",B282, \"LongDescription\",, \"T\")","v":"Murphy USA, Inc."},"S.US.MUSA",null,null,{"$error":"#N/A"}]
[{"$f":"RTD(\"cqg.rtd\", ,\"ContractData\",B283, \"LongDescription\",, \"T\")","v":"Neurocrine Biosciences Inc"},"S.US.NBIX",null,null,{"$error":"#N/A"}]
[{"$f":"RTD(\"cqg.rtd\", ,\"ContractData\",B284, \"LongDescription\",, \"T\")","v":"Norwegian Cruise Line"},"S.US.NCLH",null,null,{"$error":"#N/A"}]
[{"$f":"RTD(\"cqg.rtd\", ,\"ContractData\",B285, \"LongDescription\",, \"T\")","v":"Nasdaq, Inc."},"S.US.NDAQ",null,null,{"$error":"#N/A"}]
[{"$f":"RTD(\"cqg.rtd\", ,\"ContractData\",B286, \"LongDescription\",, \"T\")","v":"Nextera Energy, Inc."},"S.US.NEE",null,null,{"$error":"#N/A"}]
[{"$f":"RTD(\"cqg.rtd\", ,\"ContractData\",B287, \"LongDescription\",, \"T\")","v":"Newmarket Corporation Holding Company"},"S.US.NEU",null,null,{"$error":"#N/A"}]
[{"$f":"RTD(\"cqg.rtd\", ,\"ContractData\",B288, \"LongDescription\",, \"T\")","v":"Netflix Inc"},"S.US.NFLX",null,null,{"$error":"#N/A"}]
[{"$f":"RTD(\"cqg.rtd\", ,\"ContractData\",B289, \"LongDescription\",, \"T\")","v":"Novanta Inc."},"S.US.NOVT",null,null,{"$error":"#N/A"}]
[{"$f":"RTD(\"cqg.rtd\", ,\"ContractData\",B290, \"LongDescription\",, \"T\")","v":"ServiceNow, Inc."},"S.US.NOW",null,null,{"$error":"#N/A"}]
[{"$f":"RTD(\"cqg.rtd\", ,\"ContractData\",B291, \"LongDescription\",, \"T\")","v":"NRG Energy Inc"},"S.US.NRG",null,null,{"$error":"#N/A"}]
[{"$f":"RTD(\"cqg.rtd\", ,\"ContractData\",B292, \"LongDescription\",, \"T\")","v":"National Storage Affiliates Trust"},"S.US.NSA",null,null,{"$error":"#N/A"}]
[{"$f":"RTD(\"cqg.rtd\", ,\"ContractData\",B293, \"LongDescription\",, \"T\")","v":"NetApp inc."},"S.US.NTAP",null,null,{"$error":"#N/A"}]
[{"$f":"RTD(\"cqg.rtd\", ,\"ContractData\",B294, \"LongDescription\",, \"T\")","v":"NVIDIA Corp"},"S.US.NVDA",null,null,{"$error":"#N/A"}]
[{"$f":"RTD(\"cqg.rtd\", ,\"ContractData\",B295, \"LongDescription\",, \"T\")","v":"NVR Inc"},"S.US.NVR",null,null,{"$error":"#N/A"}]
[{"$f":"RTD(\"cqg.rtd\", ,\"ContractData\",B296, \"LongDescription\",, \"T\")","v":"NAVTEQ Corp"},"S.US.NVT",null,null,{"$error":"#N/A"}]
[{"$f":"RTD(\"cqg.rtd\", ,\"ContractData\",B297, \"LongDescription\",, \"T\")","v":"NXP Semiconductors N.V."},"S.US.NXPI",null,null,{"$error":"#N/A"}]
[{"$f":"RTD(\"cqg.rtd\", ,\"ContractData\",B298, \"LongDescription\",, \"T\")","v":"New York Times Co ClsA"},"S.US.NYT",null,null,{"$error":"#N/A"}]
[{"$f":"RTD(\"cqg.rtd\", ,\"ContractData\",B299, \"LongDescription\",, \"T\")","v":"Owens Corning"},"S.US.OC",null,null,{"$error":"#N/A"}]
[{"$f":"RTD(\"cqg.rtd\", ,\"ContractData\",B300, \"LongDescription\",, \"T\")","v":"Old Dominion Freight Line Inc"},"S.US.ODFL",null,null,{"$error":"#N/A"}]
[{"$f":"RTD(\"cqg.rtd\", ,\"ContractData\",B301, \"LongDescription\",, \"T\")","v":"Omega Hlthcare Investors Inc"},"S.US.OHI",null,null,{"$error":"#N/A"}]
[{"$f":"RTD(\"cqg.rtd\", ,\"ContractData\",B302, \"LongDescription\",, \"T\")","v":"ONEOK Inc New"},"S.US.OKE",null,null,{"$error":"#N/A"}]
[{"$f":"RTD(\"cqg.rtd\", ,\"ContractData\",B303, \"LongDescription\",, \"T\")","v":"Universal Display Corporation"},"S.US.OLED",null,null,{"$error":"#N/A"}]
[{"$f":"RTD(\"cqg.rtd\", ,\"ContractData\",B304, \"LongDescription\",, \"T\")","v":"Ollie's Bargain Outlet Holdings, Inc."},"S.US.OLLI",null,null,{"$error":"#N/A"}]
[{"$f":"RTD(\"cqg.rtd\", ,\"ContractData\",B305, \"LongDescription\",, \"T\")","v":"Onto Innovation Inc."},"S.US.ONTO",null,null,{"$error":"#N/A"}]
[{"$f":"RTD(\"cqg.rtd\", ,\"ContractData\",B306, \"LongDescription\",, \"T\")","v":"Ormat Technologies Inc"},"S.US.ORA",null,null,{"$error":"#N/A"}]
[{"$f":"RTD(\"cqg.rtd\", ,\"ContractData\",B307, \"LongDescription\",, \"T\")","v":"Oracle Corporation"},"S.US.ORCL",null,null,{"$error":"#N/A"}]
[{"$f":"RTD(\"cqg.rtd\", ,\"ContractData\",B308, \"LongDescription\",, \"T\")","v":"OReilly Automotive Inc"},"S.US.ORLY",null,null,{"$error":"#N/A"}]
[{"$f":"RTD(\"cqg.rtd\", ,\"ContractData\",B309, \"LongDescription\",, \"T\")","v":"Palo Alto Networks, Inc."},"S.US.PANW",null,null,{"$error":"#N/A"}]
[{"$f":"RTD(\"cqg.rtd\", ,\"ContractData\",B310, \"LongDescription\",, \"T\")","v":"Paycom Software, Inc."},"S.US.PAYC",null,null,{"$error":"#N/A"}]
[{"$f":"RTD(\"cqg.rtd\", ,\"ContractData\",B311, \"LongDescription\",, \"T\")","v":"Paychex Inc"},"S.US.PAYX",null,null,{"$error":"#N/A"}]
[{"$f":"RTD(\"cqg.rtd\", ,\"ContractData\",B312, \"LongDescription\",, \"T\")","v":"PACCAR Inc"},"S.US.PCAR",null,null,{"$error":"#N/A"}]
[{"$f":"RTD(\"cqg.rtd\", ,\"ContractData\",B313, \"LongDescription\",, \"T\")","v":"Paylocity Holding Corporation"},"S.US.PCTY",null,null,{"$error":"#N/A"}]
[{"$f":"RTD(\"cqg.rtd\", ,\"ContractData\",B314, \"LongDescription\",, \"T\")","v":"Pub Svc Entrpr Grp Inc"},"S.US.PEG",null,null,{"$error":"#N/A"}]
[{"$f":"RTD(\"cqg.rtd\", ,\"ContractData\",B315, \"LongDescription\",, \"T\")","v":"Penumbra, Inc."},"S.US.PEN",null,null,{"$error":"#N/A"}]
[{"$f":"RTD(\"cqg.rtd\", ,\"ContractData\",B316, \"LongDescription\",, \"T\")","v":"Progressive Corp"},"S.US.PGR",null,null,{"$error":"#N/A"}]
[{"$f":"RTD(\"cqg.rtd\", ,\"ContractData\",B317, \"LongDescription\",, \"T\")","v":"Parker-Hannifin Corp"},"S.US.PH",null,null,{"$error":"#N/A"}]
[{"$f":"RTD(\"cqg.rtd\", ,\"ContractData\",B318, \"LongDescription\",, \"T\")","v":"PulteGroup Inc"},"S.US.PHM",null,null,{"$error":"#N/A"}]
[{"$f":"RTD(\"cqg.rtd\", ,\"ContractData\",B319, \"LongDescription\",, \"T\")","v":"Park Hotels & Resorts Inc."},"S.US.PK",null,null,{"$error":"#N/A"}]
[{"$f":"RTD(\"cqg.rtd\", ,\"ContractData\",B320, \"LongDescription\",, \"T\")","v":"Packaging Corp of America"},"S.US.PKG",null,null,{"$error":"#N/A"}]
[{"$f":"RTD(\"cqg.rtd\", ,\"ContractData\",B321, \"LongDescription\",, \"T\")","v":"Planet Fitness, Inc."},"S.US.PLNT",null,null,{"$error":"#N/A"}]
[{"$f":"RTD(\"cqg.rtd\", ,\"ContractData\",B322, \"LongDescription\",, \"T\")","v":"Palantir Technologies Inc."},"S.US.PLTR",null,null,{"$error":"#N/A"}]
[{"$f":"RTD(\"cqg.rtd\", ,\"ContractData\",B323, \"LongDescription\",, \"T\")","v":"Philip Morris International"},"S.US.PM",null,null,{"$error":"#N/A"}]
[{"$f":"RTD(\"cqg.rtd\", ,\"ContractData\",B324, \"LongDescription\",, \"T\")","v":"Pinnacle Financial Partners Inc"},"S.US.PNFP",null,null,{"$error":"#N/A"}]
[{"$f":"RTD(\"cqg.rtd\", ,\"ContractData\",B325, \"LongDescription\",, \"T\")","v":"Pentair Ltd."},"S.US.PNR",null,null,{"$error":"#N/A"}]
[{"$f":"RTD(\"cqg.rtd\", ,\"ContractData\",B326, \"LongDescription\",, \"T\")","v":"Insulet Corporation"},"S.US.PODD",null,null,{"$error":"#N/A"}]
[{"$f":"RTD(\"cqg.rtd\", ,\"ContractData\",B327, \"LongDescription\",, \"T\")","v":"Post Holdings, Inc."},"S.US.POST",null,null,{"$error":"#N/A"}]
[{"$f":"RTD(\"cqg.rtd\", ,\"ContractData\",B328, \"LongDescription\",, \"T\")","v":"Power Integrations Inc"},"S.US.POWI",null,null,{"$error":"#N/A"}]
[{"$f":"RTD(\"cqg.rtd\", ,\"ContractData\",B329, \"LongDescription\",, \"T\")","v":"Pilgrim's Pride Corporation"},"S.US.PPC",null,null,{"$error":"#N/A"}]
[{"$f":"RTD(\"cqg.rtd\", ,\"ContractData\",B330, \"LongDescription\",, \"T\")","v":"PPL Corp"},"S.US.PPL",null,null,{"$error":"#N/A"}]
[{"$f":"RTD(\"cqg.rtd\", ,\"ContractData\",B331, \"LongDescription\",, \"T\")","v":"Permian Resources Corporation Class A"},"S.US.PR",null,null,{"$error":"#N/A"}]
[{"$f":"RTD(\"cqg.rtd\", ,\"ContractData\",B332, \"LongDescription\",, \"T\")","v":"Primerica, Inc."},"S.US.PRI",null,null,{"$error":"#N/A"}]
[{"$f":"RTD(\"cqg.rtd\", ,\"ContractData\",B333, \"LongDescription\",, \"T\")","v":"Public Storage Inc"},"S.US.PSA",null,null,{"$error":"#N/A"}]
[{"$f":"RTD(\"cqg.rtd\", ,\"ContractData\",B334, \"LongDescription\",, \"T\")","v":"Parsons Corporation"},"S.US.PSN",null,null,{"$error":"#N/A"}]
[{"$f":"RTD(\"cqg.rtd\", ,\"ContractData\",B335, \"LongDescription\",, \"T\")","v":"Pure Storage, Inc."},"S.US.PSTG",null,null,{"$error":"#N/A"}]
[{"$f":"RTD(\"cqg.rtd\", ,\"ContractData\",B336, \"LongDescription\",, \"T\")","v":"PTC Inc"},"S.US.PTC",null,null,{"$error":"#N/A"}]
[{"$f":"RTD(\"cqg.rtd\", ,\"ContractData\",B337, \"LongDescription\",, \"T\")","v":"Quanta Services Inc"},"S.US.PWR",null,null,{"$error":"#N/A"}]
[{"$f":"RTD(\"cqg.rtd\", ,\"ContractData\",B338, \"LongDescription\",, \"T\")","v":"PayPal Holdings, Inc."},"S.US.PYPL",null,null,{"$error":"#N/A"}]
[{"$f":"RTD(\"cqg.rtd\", ,\"ContractData\",B339, \"LongDescription\",, \"T\")","v":"Qualys, Inc. Common Stock"},"S.US.QLYS",null,null,{"$error":"#N/A"}]
[{"$f":"RTD(\"cqg.rtd\", ,\"ContractData\",B340, \"LongDescription\",, \"T\")","v":"Ryder Systems Inc"},"S.US.R",null,null,{"$error":"#N/A"}]
[{"$f":"RTD(\"cqg.rtd\", ,\"ContractData\",B341, \"LongDescription\",, \"T\")","v":"RB Global Inc."},"S.US.RBA",null,null,{"$error":"#N/A"}]
[{"$f":"RTD(\"cqg.rtd\", ,\"ContractData\",B342, \"LongDescription\",, \"T\")","v":"RBC Bearings Incorporated"},"S.US.RBC",null,null,{"$error":"#N/A"}]
[{"$f":"RTD(\"cqg.rtd\", ,\"ContractData\",B343, \"LongDescription\",, \"T\")","v":"Royal Caribbean Group"},"S.US.RCL",null,null,{"$error":"#N/A"}]
[{"$f":"RTD(\"cqg.rtd\", ,\"ContractData\",B344, \"LongDescription\",, \"T\")","v":"Repligen Corp"},"S.US.RGEN",null,null,{"$error":"#N/A"}]
[{"$f":"RTD(\"cqg.rtd\", ,\"ContractData\",B345, \"LongDescription\",, \"T\")","v":"Royal Gold Inc"},"S.US.RGLD",null,null,{"$error":"#N/A"}]
[{"$f":"RTD(\"cqg.rtd\", ,\"ContractData\",B346, \"LongDescription\",, \"T\")","v":"RH"},"S.US.RH",null,null,{"$error":"#N/A"}]
[{"$f":"RTD(\"cqg.rtd\", ,\"ContractData\",B347, \"LongDescription\",, \"T\")","v":"Raymond James Fincl Inc"},"S.US.RJF",null,null,{"$error":"#N/A"}]
[{"$f":"RTD(\"cqg.rtd\", ,\"ContractData\",B348, \"LongDescription\",, \"T\")","v":"Ralph Lauren Corporation"},"S.US.RL",null,null,{"$error":"#N/A"}]
[{"$f":"RTD(\"cqg.rtd\", ,\"ContractData\",B349, \"LongDescription\",, \"T\")","v":"RLI Corp"},"S.US.RLI",null,null,{"$error":"#N/A"}]
[{"$f":"RTD(\"cqg.rtd\", ,\"ContractData\",B350, \"LongDescription\",, \"T\")","v":"Rambus Inc"},"S.US.RMBS",null,null,{"$error":"#N/A"}]
[{"$f":"RTD(\"cqg.rtd\", ,\"ContractData\",B351, \"LongDescription\",, \"T\")","v":"Resmed Inc"},"S.US.RMD",null,null,{"$error":"#N/A"}]
[{"$f":"RTD(\"cqg.rtd\", ,\"ContractData\",B352, \"LongDescription\",, \"T\")","v":"RenaissanceRe Hldgs Ltd"},"S.US.RNR",null,null,{"$error":"#N/A"}]
[{"$f":"RTD(\"cqg.rtd\", ,\"ContractData\",B353, \"LongDescription\",, \"T\")","v":"Roivant Sciences Ltd."},"S.US.ROIV",null,null,{"$error":"#N/A"}]
[{"$f":"RTD(\"cqg.rtd\", ,\"ContractData\",B354, \"LongDescription\",, \"T\")","v":"Rollins Inc"},"S.US.ROL",null,null,{"$error":"#N/A"}]
[{"$f":"RTD(\"cqg.rtd\", ,\"ContractData\",B355, \"LongDescription\",, \"T\")","v":"RPM Inc"},"S.US.RPM",null,null,{"$error":"#N/A"}]
[{"$f":"RTD(\"cqg.rtd\", ,\"ContractData\",B356, \"LongDescription\",, \"T\")","v":"Range Resources Corp"},"S.US.RRC",null,null,{"$error":"#N/A"}]
[{"$f":"RTD(\"cqg.rtd\", ,\"ContractData\",B357, \"LongDescription\",, \"T\")","v":"Republic Services Inc ClA"},"S.US.RSG",null,null,{"$error":"#N/A"}]
[{"$f":"RTD(\"cqg.rtd\", ,\"ContractData\",B358, \"LongDescription\",, \"T\")","v":"RTX Corporation"},"S.US.RTX",null,null,{"$error":"#N/A"}]
[{"$f":"RTD(\"cqg.rtd\", ,\"ContractData\",B359, \"LongDescription\",, \"T\")","v":"Ryan Specialty Group Holdings, Inc."},"S.US.RYAN",null,null,{"$error":"#N/A"}]
[{"$f":"RTD(\"cqg.rtd\", ,\"ContractData\",B360, \"LongDescription\",, \"T\")","v":"Saia, Inc"},"S.US.SAIA",null,null,{"$error":"#N/A"}]
[{"$f":"RTD(\"cqg.rtd\", ,\"ContractData\",B361, \"LongDescription\",, \"T\")","v":"Service Corporation Intl"},"S.US.SCI",null,null,{"$error":"#N/A"}]
[{"$f":"RTD(\"cqg.rtd\", ,\"ContractData\",B362, \"LongDescription\",, \"T\")","v":"SEI Investments Co"},"S.US.SEIC",null,null,{"$error":"#N/A"}]
[{"$f":"RTD(\"cqg.rtd\", ,\"ContractData\",B363, \"LongDescription\",, \"T\")","v":"Stifel Financial Corporation"},"S.US.SF",null,null,{"$error":"#N/A"}]
[{"$f":"RTD(\"cqg.rtd\", ,\"ContractData\",B364, \"LongDescription\",, \"T\")","v":"Sprouts Farmers Market, Inc."},"S.US.SFM",null,null,{"$error":"#N/A"}]
[{"$f":"RTD(\"cqg.rtd\", ,\"ContractData\",B365, \"LongDescription\",, \"T\")","v":"Somnigroup International Inc."},"S.US.SGI",null,null,{"$error":"#N/A"}]
[{"$f":"RTD(\"cqg.rtd\", ,\"ContractData\",B366, \"LongDescription\",, \"T\")","v":"Sotera Health Company"},"S.US.SHC",null,null,{"$error":"#N/A"}]
[{"$f":"RTD(\"cqg.rtd\", ,\"ContractData\",B367, \"LongDescription\",, \"T\")","v":"Sherwin-Williams Co"},"S.US.SHW",null,null,{"$error":"#N/A"}]
[{"$f":"RTD(\"cqg.rtd\", ,\"ContractData\",B368, \"LongDescription\",, \"T\")","v":"Silicon Laboratories"},"S.US.SLAB",null,null,{"$error":"#N/A"}]
[{"$f":"RTD(\"cqg.rtd\", ,\"ContractData\",B369, \"LongDescription\",, \"T\")","v":"SLM Corporation"},"S.US.SLM",null,null,{"$error":"#N/A"}]
[{"$f":"RTD(\"cqg.rtd\", ,\"ContractData\",B370, \"LongDescription\",, \"T\")","v":"Super Micro Computer"},"S.US.SMCI",null,null,{"$error":"#N/A"}]
[{"$f":"RTD(\"cqg.rtd\", ,\"ContractData\",B371, \"LongDescription\",, \"T\")","v":"Scotts Co (The)"},"S.US.SMG",null,null,{"$error":"#N/A"}]
[{"$f":"RTD(\"cqg.rtd\", ,\"ContractData\",B372, \"LongDescription\",, \"T\")","v":"Synopsis"},"S.US.SNPS",null,null,{"$error":"#N/A"}]
[{"$f":"RTD(\"cqg.rtd\", ,\"ContractData\",B373, \"LongDescription\",, \"T\")","v":"Synovous Fin Corp"},"S.US.SNV",null,null,{"$error":"#N/A"}]
[{"$f":"RTD(\"cqg.rtd\", ,\"ContractData\",B374, \"LongDescription\",, \"T\")","v":"Simon Property Grp"},"S.US.SPG",null,null,{"$error":"#N/A"}]
[{"$f":"RTD(\"cqg.rtd\", ,\"ContractData\",B375, \"LongDescription\",, \"T\")","v":"S&P Global Inc."},"S.US.SPGI",null,null,{"$error":"#N/A"}]
[{"$f":"RTD(\"cqg.rtd\", ,\"ContractData\",B376, \"LongDescription\",, \"T\")","v":"Sarepta Therapeutics, Inc."},"S.US.SRPT",null,null,{"$error":"#N/A"}]
[{"$f":"RTD(\"cqg.rtd\", ,\"ContractData\",B377, \"LongDescription\",, \"T\")","v":"Simpson Manufacturing Co Inc"},"S.US.SSD",null,null,{"$error":"#N/A"}]
[{"$f":"RTD(\"cqg.rtd\", ,\"ContractData\",B378, \"LongDescription\",, \"T\")","v":"Synchrony Financial"},"S.US.SYF",null,null,{"$error":"#N/A"}]
[{"$f":"RTD(\"cqg.rtd\", ,\"ContractData\",B379, \"LongDescription\",, \"T\")","v":"Stryker Corp"},"S.US.SYK",null,null,{"$error":"#N/A"}]
[{"$f":"RTD(\"cqg.rtd\", ,\"ContractData\",B380, \"LongDescription\",, \"T\")","v":"Teradata Corporation"},"S.US.TDC",null,null,{"$error":"#N/A"}]
[{"$f":"RTD(\"cqg.rtd\", ,\"ContractData\",B381, \"LongDescription\",, \"T\")","v":"TransDigm Group"},"S.US.TDG",null,null,{"$error":"#N/A"}]
[{"$f":"RTD(\"cqg.rtd\", ,\"ContractData\",B382, \"LongDescription\",, \"T\")","v":"Tenet Healthcare Corp"},"S.US.THC",null,null,{"$error":"#N/A"}]
[{"$f":"RTD(\"cqg.rtd\", ,\"ContractData\",B383, \"LongDescription\",, \"T\")","v":"TJX Companies Inc"},"S.US.TJX",null,null,{"$error":"#N/A"}]
[{"$f":"RTD(\"cqg.rtd\", ,\"ContractData\",B384, \"LongDescription\",, \"T\")","v":"TKO Group Holdings, Inc."},"S.US.TKO",null,null,{"$error":"#N/A"}]
[{"$f":"RTD(\"cqg.rtd\", ,\"ContractData\",B385, \"LongDescription\",, \"T\")","v":"T-Mobile US, Inc."},"S.US.TMUS",null,null,{"$error":"#N/A"}]
[{"$f":"RTD(\"cqg.rtd\", ,\"ContractData\",B386, \"LongDescription\",, \"T\")","v":"Travel + Leisure Co."},"S.US.TNL",null,null,{"$error":"#N/A"}]
[{"$f":"RTD(\"cqg.rtd\", ,\"ContractData\",B387, \"LongDescription\",, \"T\")","v":"Toll Brothers Inc"},"S.US.TOL",null,null,{"$error":"#N/A"}]
[{"$f":"RTD(\"cqg.rtd\", ,\"ContractData\",B388, \"LongDescription\",, \"T\")","v":"TEXAS PACIFIC LAND TR"},"S.US.TPL",null,null,{"$error":"#N/A"}]
[{"$f":"RTD(\"cqg.rtd\", ,\"ContractData\",B389, \"LongDescription\",, \"T\")","v":"Tapestry, Inc."},"S.US.TPR",null,null,{"$error":"#N/A"}]
[{"$f":"RTD(\"cqg.rtd\", ,\"ContractData\",B390, \"LongDescription\",, \"T\")","v":"Trex Company Inc"},"S.US.TREX",null,null,{"$error":"#N/A"}]
[{"$f":"RTD(\"cqg.rtd\", ,\"ContractData\",B391, \"LongDescription\",, \"T\")","v":"Targa Resources Corp"},"S.US.TRGP",null,null,{"$error":"#N/A"}]
[{"$f":"RTD(\"cqg.rtd\", ,\"ContractData\",B392, \"LongDescription\",, \"T\")","v":"Trimble Inc."},"S.US.TRMB",null,null,{"$error":"#N/A"}]
[{"$f":"RTD(\"cqg.rtd\", ,\"ContractData\",B393, \"LongDescription\",, \"T\")","v":"Tractor Supply Co"},"S.US.TSCO",null,null,{"$error":"#N/A"}]
[{"$f":"RTD(\"cqg.rtd\", ,\"ContractData\",B394, \"LongDescription\",, \"T\")","v":"Tesla Inc."},"S.US.TSLA",null,null,{"$error":"#N/A"}]
[{"$f":"RTD(\"cqg.rtd\", ,\"ContractData\",B395, \"LongDescription\",, \"T\")","v":"Trane Technologies plc"},"S.US.TT",null,null,{"$error":"#N/A"}]
[{"$f":"RTD(\"cqg.rtd\", ,\"ContractData\",B396, \"LongDescription\",, \"T\")","v":"The Toro Company"},"S.US.TTC",null,null,{"$error":"#N/A"}]
[{"$f":"RTD(\"cqg.rtd\", ,\"ContractData\",B397, \"LongDescription\",, \"T\")","v":"Tetra Tech Inc"},"S.US.TTEK",null,null,{"$error":"#N/A"}]
[{"$f":"RTD(\"cqg.rtd\", ,\"ContractData\",B398, \"LongDescription\",, \"T\")","v":"Texas Roadhouse, Inc."},"S.US.TXRH",null,null,{"$error":"#N/A"}]
[{"$f":"RTD(\"cqg.rtd\", ,\"ContractData\",B399, \"LongDescription\",, \"T\")","v":"TYLER TECHNOLOGIES INC"},"S.US.TYL",null,null,{"$error":"#N/A"}]
[{"$f":"RTD(\"cqg.rtd\", ,\"ContractData\",B400, \"LongDescription\",, \"T\")","v":"UAL Continental Holdings, Inc."},"S.US.UAL",null,null,{"$error":"#N/A"}]
[{"$f":"RTD(\"cqg.rtd\", ,\"ContractData\",B401, \"LongDescription\",, \"T\")","v":"Uber Technologies, Inc."},"S.US.UBER",null,null,{"$error":"#N/A"}]
[{"$f":"RTD(\"cqg.rtd\", ,\"ContractData\",B402, \"LongDescription\",, \"T\")","v":"United Dominion Realty Trust"},"S.US.UDR",null,null,{"$error":"#N/A"}]
[{"$f":"RTD(\"cqg.rtd\", ,\"ContractData\",B403, \"LongDescription\",, \"T\")","v":"UMB Financial Corp"},"S.US.UMBF",null,null,{"$error":"#N/A"}]
[{"$f":"RTD(\"cqg.rtd\", ,\"ContractData\",B404, \"LongDescription\",, \"T\")","v":"United Rentals Inc"},"S.US.URI",null,null,{"$error":"#N/A"}]
[{"$f":"RTD(\"cqg.rtd\", ,\"ContractData\",B405, \"LongDescription\",, \"T\")","v":"ProShares Ultra Semiconductors"},"S.US.USD",null,null,{"$error":"#N/A"}]
[{"$f":"RTD(\"cqg.rtd\", ,\"ContractData\",B406, \"LongDescription\",, \"T\")","v":"United Therapeutics Corp"},"S.US.UTHR",null,null,{"$error":"#N/A"}]
[{"$f":"RTD(\"cqg.rtd\", ,\"ContractData\",B407, \"LongDescription\",, \"T\")","v":"Visa Inc."},"S.US.V",null,null,{"$error":"#N/A"}]
[{"$f":"RTD(\"cqg.rtd\", ,\"ContractData\",B408, \"LongDescription\",, \"T\")","v":"Valaris Limited"},"S.US.VAL",null,null,{"$error":"#N/A"}]
[{"$f":"RTD(\"cqg.rtd\", ,\"ContractData\",B409, \"LongDescription\",, \"T\")","v":"Veralto Corporation"},"S.US.VLTO",null,null,{"$error":"#N/A"}]
[{"$f":"RTD(\"cqg.rtd\", ,\"ContractData\",B410, \"LongDescription\",, \"T\")","v":"Vulcan Material Co"},"S.US.VMC",null,null,{"$error":"#N/A"}]
[{"$f":"RTD(\"cqg.rtd\", ,\"ContractData\",B411, \"LongDescription\",, \"T\")","v":"Valmont Industries Inc"},"S.US.VMI",null,null,{"$error":"#N/A"}]
[{"$f":"RTD(\"cqg.rtd\", ,\"ContractData\",B412, \"LongDescription\",, \"T\")","v":"Vornado Realty Trust"},"S.US.VNO",null,null,{"$error":"#N/A"}]
[{"$f":"RTD(\"cqg.rtd\", ,\"ContractData\",B413, \"LongDescription\",, \"T\")","v":"Viper Energy Partners LP"},"S.US.VNOM",null,null,{"$error":"#N/A"}]
[{"$f":"RTD(\"cqg.rtd\", ,\"ContractData\",B414, \"LongDescription\",, \"T\")","v":"Vontier Corporation"},"S.US.VNT",null,null,{"$error":"#N/A"}]
[{"$f":"RTD(\"cqg.rtd\", ,\"ContractData\",B415, \"LongDescription\",, \"T\")","v":"VOYA Financial, Inc."},"S.US.VOYA",null,null,{"$error":"#N/A"}]
[{"$f":"RTD(\"cqg.rtd\", ,\"ContractData\",B416, \"LongDescription\",, \"T\")","v":"Verisk Analytics, Inc."},"S.US.VRSK",null,null,{"$error":"#N/A"}]
[{"$f":"RTD(\"cqg.rtd\", ,\"ContractData\",B417, \"LongDescription\",, \"T\")","v":"Vertex Pharmaceuticals Incorporated"},"S.US.VRTX",null,null,{"$error":"#N/A"}]
[{"$f":"RTD(\"cqg.rtd\", ,\"ContractData\",B418, \"LongDescription\",, \"T\")","v":"Vistra Corp."},"S.US.VST",null,null,{"$error":"#N/A"}]
[{"$f":"RTD(\"cqg.rtd\", ,\"ContractData\",B419, \"LongDescription\",, \"T\")","v":"Valvoline Inc."},"S.US.VVV",null,null,{"$error":"#N/A"}]
[{"$f":"RTD(\"cqg.rtd\", ,\"ContractData\",B420, \"LongDescription\",, \"T\")","v":"Westinghouse Air Brake Co"},"S.US.WAB",null,null,{"$error":"#N/A"}]
[{"$f":"RTD(\"cqg.rtd\", ,\"ContractData\",B421, \"LongDescription\",, \"T\")","v":"Western Alliance Bancorporation"},"S.US.WAL",null,null,{"$error":"#N/A"}]
[{"$f":"RTD(\"cqg.rtd\", ,\"ContractData\",B422, \"LongDescription\",, \"T\")","v":"Waters Corporation"},"S.US.WAT",null,null,{"$error":"#N/A"}]
[{"$f":"RTD(\"cqg.rtd\", ,\"ContractData\",B423, \"LongDescription\",, \"T\")","v":"Workday, Inc."},"S.US.WDAY",null,null,{"$error":"#N/A"}]
[{"$f":"RTD(\"cqg.rtd\", ,\"ContractData\",B424, \"LongDescription\",, \"T\")","v":"Welltower Inc."},"S.US.WELL",null,null,{"$error":"#N/A"}]
[{"$f":"RTD(\"cqg.rtd\", ,\"ContractData\",B425, \"LongDescription\",, \"T\")","v":"The Wendy's Company"},"S.US.WEN",null,null,{"$error":"#N/A"}]
[{"$f":"RTD(\"cqg.rtd\", ,\"ContractData\",B426, \"LongDescription\",, \"T\")","v":"WEX Inc"},"S.US.WEX",null,null,{"$error":"#N/A"}]
[{"$f":"RTD(\"cqg.rtd\", ,\"ContractData\",B427, \"LongDescription\",, \"T\")","v":"Weatherford International plc"},"S.US.WFRD",null,null,{"$error":"#N/A"}]
[{"$f":"RTD(\"cqg.rtd\", ,\"ContractData\",B428, \"LongDescription\",, \"T\")","v":"WSP Holdings Limited"},"S.US.WH",null,null,{"$error":"#N/A"}]
[{"$f":"RTD(\"cqg.rtd\", ,\"ContractData\",B429, \"LongDescription\",, \"T\")","v":"Wingstop Inc."},"S.US.WING",null,null,{"$error":"#N/A"}]
[{"$f":"RTD(\"cqg.rtd\", ,\"ContractData\",B430, \"LongDescription\",, \"T\")","v":"Waste Mgmt Inc New"},"S.US.WM",null,null,{"$error":"#N/A"}]
[{"$f":"RTD(\"cqg.rtd\", ,\"ContractData\",B431, \"LongDescription\",, \"T\")","v":"Williams Companies Inc"},"S.US.WMB",null,null,{"$error":"#N/A"}]
[{"$f":"RTD(\"cqg.rtd\", ,\"ContractData\",B432, \"LongDescription\",, \"T\")","v":"Warner Music Group Corp. Class A"},"S.US.WMG",null,null,{"$error":"#N/A"}]
[{"$f":"RTD(\"cqg.rtd\", ,\"ContractData\",B433, \"LongDescription\",, \"T\")","v":"Advanced Drainage Systems, Inc."},"S.US.WMS",null,null,{"$error":"#N/A"}]
[{"$f":"RTD(\"cqg.rtd\", ,\"ContractData\",B434, \"LongDescription\",, \"T\")","v":"Walmart Inc."},"S.US.WMT",null,null,{"$error":"#N/A"}]
[{"$f":"RTD(\"cqg.rtd\", ,\"ContractData\",B435, \"LongDescription\",, \"T\")","v":"WR Berkley Corp"},"S.US.WRB",null,null,{"$error":"#N/A"}]
[{"$f":"RTD(\"cqg.rtd\", ,\"ContractData\",B436, \"LongDescription\",, \"T\")","v":"Williams-Sonoma Inc"},"S.US.WSM",null,null,{"$error":"#N/A"}]
[{"$f":"RTD(\"cqg.rtd\", ,\"ContractData\",B437, \"LongDescription\",, \"T\")","v":"Watsco Inc"},"S.US.WSO",null,null,{"$error":"#N/A"}]
[{"$f":"RTD(\"cqg.rtd\", ,\"ContractData\",B438, \"LongDescription\",, \"T\")","v":"Wintrust Financial Corp"},"S.US.WTFC",null,null,{"$error":"#N/A"}]
[{"$f":"RTD(\"cqg.rtd\", ,\"ContractData\",B439, \"LongDescription\",, \"T\")","v":"Watts Water Technologies"},"S.US.WTS",null,null,{"$error":"#N/A"}]
[{"$f":"RTD(\"cqg.rtd\", ,\"ContractData\",B440, \"LongDescription\",, \"T\")","v":"Willis Towers Watson"},"S.US.WTW",null,null,{"$error":"#N/A"}]
[{"$f":"RTD(\"cqg.rtd\", ,\"ContractData\",B441, \"LongDescription\",, \"T\")","v":"Woodward, Inc."},"S.US.WWD",null,null,{"$error":"#N/A"}]
[{"$f":"RTD(\"cqg.rtd\", ,\"ContractData\",B442, \"LongDescription\",, \"T\")","v":"Wynn Resorts Ltd"},"S.US.WYNN",null,null,{"$error":"#N/A"}]
[{"$f":"RTD(\"cqg.rtd\", ,\"ContractData\",B443, \"LongDescription\",, \"T\")","v":"XPO Inc."},"S.US.XPO",null,null,{"$error":"#N/A"}]
[{"$f":"RTD(\"cqg.rtd\", ,\"ContractData\",B444, \"LongDescription\",, \"T\")","v":"Yeti Holdings, Inc."},"S.US.YETI",null,null,{"$error":"#N/A"}]
[{"$f":"RTD(\"cqg.rtd\", ,\"ContractData\",B445, \"LongDescription\",, \"T\")","v":"Yum Brands Inc"},"S.US.YUM",null,null,{"$error":"#N/A"}]
[{"$f":"RTD(\"cqg.rtd\", ,\"ContractData\",B446, \"LongDescription\",, \"T\")","v":"Zebra Technologies Corp"},"S.US.ZBRA",null,null,{"$error":"#N/A"}]
[{"$f":"RTD(\"cqg.rtd\", ,\"ContractData\",B447, \"LongDescription\",, \"T\")","v":"Zions Bancorp"},"S.US.ZION",null,null,{"$error":"#N/A"}]
[null,null,null,null,{"$error":"#N/A"}]
[null,null,null,null,{"$error":"#N/A"}]
[null,null,null,null,{"$error":"#N/A"}]
[null,null,null,null,{"$error":"#N/A"}]
[null,null,null,null,{"$error":"#N/A"}]
[null,null,null,null,{"$error":"#N/A"}]
[null,null,null,null,{"$error":"#N/A"}]
[null,null,null,null,{"$error":"#N/A"}]
[null,null,null,null,{"$error":"#N/A"}]
[null,null,null,null,{"$error":"#N/A"}]
[null,null,null,null,{"$error":"#N/A"}]
[null,null,null,null,{"$error":"#N/A"}]
[null,null,null,null,{"$error":"#N/A"}]
[null,null,null,null,{"$error":"#N/A"}]
[null,null,null,null,{"$error":"#N/A"}]
[null,null,null,null,{"$error":"#N/A"}]
[null,null,null,null,{"$error":"#N/A"}]
[null,null,null,null,{"$error":"#N/A"}]
[null,null,null,null,{"$error":"#N/A"}]
[null,null,null,null,{"$error":"#N/A"}]
[null,null,null,null,{"$error":"#N/A"}]
[null,null,null,null,{"$error":"#N/A"}]
[null,null,null,null,{"$error":"#N/A"}]
[null,null,null,null,{"$error":"#N/A"}]
[null,null,null,null,{"$error":"#N/A"}]
[null,null,null,null,{"$error":"#N/A"}]
[null,null,null,null,{"$error":"#N/A"}]
[null,null,null,null,{"$error":"#N/A"}]
[null,null,null,null,{"$error":"#N/A"}]
[null,null,null,null,{"$error":"#N/A"}]
[null,null,null,null,{"$error":"#N/A"}]
[null,null,null,null,{"$error":"#N/A"}]
[null,null,null,null,{"$error":"#N/A"}]
[null,null,null,null,{"$error":"#N/A"}]
[null,null,null,null,{"$error":"#N/A"}]
[null,null,null,null,{"$error":"#N/A"}]
[null,null,null,null,{"$error":"#N/A"}]
[null,null,null,null,{"$error":"#N/A"}]
[null,null,null,null,{"$error":"#N/A"}]
[null,null,null,null,{"$error":"#N/A"}]
[null,null,null,null,{"$error":"#N/A"}]
[null,null,null,null,{"$error":"#N/A"}]
[null,null,null,null,{"$error":"#N/A"}]
[null,null,null,null,{"$error":"#N/A"}]
[null,null,null,null,{"$error":"#N/A"}]
[null,null,null,null,{"$error":"#N/A"}]
[null,null,null,null,{"$error":"#N/A"}]
[null,null,null,null,{"$error":"#N/A"}]
[null,null,null,null,{"$error":"#N/A"}]
[null,null,null,null,{"$error":"#N/A"}]
[null,null,null,null,{"$error":"#N/A"}]
[null,null,null,null,{"$error":"#N/A"}]
[null,null,null,null,{"$error":"#N/A"}]
[null,null,null,null,{"$error":"#N/A"}]
[null,null,null,null,{"$error":"#N/A"}]
[null,null,null,null,{"$error":"#N/A"}]
[null,null,null,null,{"$error":"#N/A"}]
[null,null,null,null,{"$error":"#N/A"}]
[null,null,null,null,{"$error":"#N/A"}]
[null,null,null,null,{"$error":"#N/A"}]
[null,null,null,null,{"$error":"#N/A"}]
[null,null,null,null,{"$error":"#N/A"}]
[null,null,null,null,{"$error":"#N/A"}]
[null,null,null,null,{"$error":"#N/A"}]
[null,null,null,null,{"$error":"#N/A"}]
[null,null,null,null,{"$error":"#N/A"}]
[null,null,null,null,{"$error":"#N/A"}]
[null,null,null,null,{"$error":"#N/A"}]
[null,null,null,null,{"$error":"#N/A"}]
[null,null,null,null,{"$error":"#N/A"}]
[null,null,null,null,{"$error":"#N/A"}]
[null,null,null,null,{"$error":"#N/A"}]
[null,null,null,null,{"$error":"#N/A"}]
[null,null,null,null,{"$error":"#N/A"}]
[null,null,null,null,{"$error":"#N/A"}]
[null,null,null,null,{"$error":"#N/A"}]
[null,null,null,null,{"$error":"#N/A"}]
[null,null,null,null,{"$error":"#N/A"}]
[null,null,null,null,{"$error":"#N/A"}]
[null,null,null,null,{"$error":"#N/A"}]
[null,null,null,null,{"$error":"#N/A"}]
[null,null,null,null,{"$error":"#N/A"}]
[null,null,null,null,{"$error":"#N/A"}]
[null,null,null,null,{"$error":"#N/A"}]
[null,null,null,null,{"$error":"#N/A"}]
[null,null,null,null,{"$error":"#N/A"}]
[null,null,null,null,{"$error":"#N/A"}]
[null,null,null,null,{"$error":"#N/A"}]
[null,null,null,null,{"$error":"#N/A"}]
[null,null,null,null,{"$error":"#N/A"}]
[null,null,null,null,{"$error":"#N/A"}]
[null,null,null,null,{"$error":"#N/A"}]
[null,null,null,null,{"$error":"#N/A"}]
[null,null,null,null,{"$error":"#N/A"}]
[null,null,null,null,{"$error":"#N/A"}]
[null,null,null,null,{"$error":"#N/A"}]
[null,null,null,null,{"$error":"#N/A"}]
[null,null,null,null,{"$error":"#N/A"}]
[null,null,null,null,{"$error":"#N/A"}]
[null,null,null,null,{"$error":"#N/A"}]
[null,null,null,null,{"$error":"#N/A"}]
[null,null,null,null,{"$error":"#N/A"}]
[null,null,null,null,{"$error":"#N/A"}]
[null,null,null,null,{"$error":"#N/A"}]
[null,null,null,null,{"$error":"#N/A"}]
[null,null,null,null,{"$error":"#N/A"}]
[null,null,null,null,{"$error":"#N/A"}]
[null,null,null,null,{"$error":"#N/A"}]
[null,null,null,null,{"$error":"#N/A"}]
[null,null,null,null,{"$error":"#N/A"}]
[null,null,null,null,{"$error":"#N/A"}]
[null,null,null,null,{"$error":"#N/A"}]
[null,null,null,null,{"$error":"#N/A"}]
[null,null,null,null,{"$error":"#N/A"}]
[null,null,null,null,{"$error":"#N/A"}]
[null,null,null,null,{"$error":"#N/A"}]
[null,null,null,null,{"$error":"#N/A"}]

{"sheet":"IUSG","index":2,"n_rows":3043,"n_cols":28,"rows_kept":3043,"cut":false,"hidden":true,"merged":[]}
[null,{"$f":"IF(D1>=0,1,)","v":1},"S.US.AAL",{"$f":"IFERROR(RTD(\"cqg.rtd\", ,\"ContractData\",C1, \"PerCentNetLastTrade\",, \"T\")/100,\"\")","v":""},{"$f":"IFERROR(RANK($D1,$D$1:D$447)+COUNTIF($D$1:D1,D1)-1,0)","v":0},{"$f":"IFERROR(E1,\"\")","v":0},{"$f":"C1","v":"S.US.AAL"},1,{"$f":"IFERROR(VLOOKUP(H1,$F$1:$G$447,2,FALSE),\"\")","v":""},{"$f":"IFERROR(RTD(\"cqg.rtd\", ,\"ContractData\",I1, \"PerCentNetLastTrade\",, \"T\")/100,\"\")","v":""},null,{"$f":"MIN(D1:D447)","v":0},{"$f":"IFERROR(VLOOKUP(L1,D1:G447,3,FALSE),\"\")","v":""},{"$f":"IFERROR(VLOOKUP(M1,$H$1:$I$564,2,FALSE),\"\")","v":""},{"$f":"IFERROR(RTD(\"cqg.rtd\", ,\"ContractData\",N1, \"PerCentNetLastTrade\",, \"T\")/100,\"\")","v":""},null,{"$f":"IFERROR(\"https://finance.yahoo.com/quote/\"&RIGHT(I1,(LEN(I1)-5)),\"\")","v":""},null,{"$f":"RTD(\"cqg.rtd\", ,\"ContractData\",I1, \"LongDescription\",, \"T\")","v":"Obligatory parameter <contract>(position - 1) is not specified"},null,null,{"$f":"IFERROR(N15,\"\")","v":""},{"$f":"RTD(\"cqg.rtd\", ,\"ContractData\",V1, \"LongDescription\",, \"T\")","v":"Obligatory parameter <contract>(position - 1) is not specified"},null,null,{"$f":"IFERROR(RTD(\"cqg.rtd\", ,\"ContractData\",V1, \"PerCentNetLastTrade\",, \"T\")/100,\"\")","v":""},{"$f":"IFERROR(Z1*-1,\"\")","v":""},{"$f":"IFERROR(\"https://finance.yahoo.com/quote/\"&RIGHT(V1,(LEN(V1)-5)),\"\")","v":""}]
[null,{"$f":"IF(D2>=0,1,)","v":1},"S.US.AAON",{"$f":"IFERROR(RTD(\"cqg.rtd\", ,\"ContractData\",C2, \"PerCentNetLastTrade\",, \"T\")/100,\"\")","v":""},{"$f":"IFERROR(RANK($D2,$D$1:D$447)+COUNTIF($D$1:D2,D2)-1,0)","v":0},{"$f":"IFERROR(E2,\"\")","v":0},{"$f":"C2","v":"S.US.AAON"},{"$f":"H1+1","v":2},{"$f":"IFERROR(VLOOKUP(H2,$F$1:$G$447,2,FALSE),\"\")","v":""},{"$f":"IFERROR(RTD(\"cqg.rtd\", ,\"ContractData\",I2, \"PerCentNetLastTrade\",, \"T\")/100,\"\")","v":""},null,null,{"$f":"M1-1","v":{"$error":"#VALUE!"}},{"$f":"IFERROR(VLOOKUP(M2,$H$1:$I$564,2,FALSE),\"\")","v":""},{"$f":"IFERROR(RTD(\"cqg.rtd\", ,\"ContractData\",N2, \"PerCentNetLastTrade\",, \"T\")/100,\"\")","v":""},null,{"$f":"IFERROR(\"https://finance.yahoo.com/quote/\"&RIGHT(I2,(LEN(I2)-5)),\"\")","v":""},null,{"$f":"RTD(\"cqg.rtd\", ,\"ContractData\",I2, \"LongDescription\",, \"T\")","v":"Obligatory parameter <contract>(position - 1) is not specified"},null,null,{"$f":"N14","v":""},{"$f":"RTD(\"cqg.rtd\", ,\"ContractData\",V2, \"LongDescription\",, \"T\")","v":"Obligatory parameter <contract>(position - 1) is not specified"},null,null,{"$f":"IFERROR(RTD(\"cqg.rtd\", ,\"ContractData\",V2, \"PerCentNetLastTrade\",, \"T\")/100,\"\")","v":""},{"$f":"IFERROR(Z2*-1,\"\")","v":""},{"$f":"IFERROR(\"https://finance.yahoo.com/quote/\"&RIGHT(V2,(LEN(V2)-5)),\"\")","v":""}]
[null,1,"S.US.AAPL",{"$f":"IFERROR(RTD(\"cqg.rtd\", ,\"ContractData\",C3, \"PerCentNetLastTrade\",, \"T\")/100,\"\")","v":""},{"$f":"IFERROR(RANK($D3,$D$1:D$447)+COUNTIF($D$1:D3,D3)-1,0)","v":0},0,"S.US.AAPL",{"$f":"H2+1","v":3},"",{"$f":"IFERROR(RTD(\"cqg.rtd\", ,\"ContractData\",I3, \"PerCentNetLastTrade\",, \"T\")/100,\"\")","v":""},null,null,{"$f":"M2-1","v":{"$error":"#VALUE!"}},"",{"$f":"IFERROR(RTD(\"cqg.rtd\", ,\"ContractData\",N3, \"PerCentNetLastTrade\",, \"T\")/100,\"\")","v":""},null,"",null,{"$f":"RTD(\"cqg.rtd\", ,\"ContractData\",I3, \"LongDescription\",, \"T\")","v":"Obligatory parameter <contract>(position - 1) is not specified"},null,null,{"$f":"N13","v":""},{"$f":"RTD(\"cqg.rtd\", ,\"ContractData\",V3, \"LongDescription\",, \"T\")","v":"Obligatory parameter <contract>(position - 1) is not specified"},null,null,{"$f":"IFERROR(RTD(\"cqg.rtd\", ,\"ContractData\",V3, \"PerCentNetLastTrade\",, \"T\")/100,\"\")","v":""},"",""]
[null,1,"S.US.ABBV",{"$f":"IFERROR(RTD(\"cqg.rtd\", ,\"ContractData\",C4, \"PerCentNetLastTrade\",, \"T\")/100,\"\")","v":""},{"$f":"IFERROR(RANK($D4,$D$1:D$447)+COUNTIF($D$1:D4,D4)-1,0)","v":0},0,"S.US.ABBV",4,"",{"$f":"IFERROR(RTD(\"cqg.rtd\", ,\"ContractData\",I4, \"PerCentNetLastTrade\",, \"T\")/100,\"\")","v":""},null,null,{"$error":"#VALUE!"},"",{"$f":"IFERROR(RTD(\"cqg.rtd\", ,\"ContractData\",N4, \"PerCentNetLastTrade\",, \"T\")/100,\"\")","v":""},null,"",null,{"$f":"RTD(\"cqg.rtd\", ,\"ContractData\",I4, \"LongDescription\",, \"T\")","v":"Obligatory parameter <contract>(position - 1) is not specified"},null,null,{"$f":"N12","v":""},{"$f":"RTD(\"cqg.rtd\", ,\"ContractData\",V4, \"LongDescription\",, \"T\")","v":"Obligatory parameter <contract>(position - 1) is not specified"},null,null,{"$f":"IFERROR(RTD(\"cqg.rtd\", ,\"ContractData\",V4, \"PerCentNetLastTrade\",, \"T\")/100,\"\")","v":""},"",""]
[null,1,"S.US.ABNB",{"$f":"IFERROR(RTD(\"cqg.rtd\", ,\"ContractData\",C5, \"PerCentNetLastTrade\",, \"T\")/100,\"\")","v":""},{"$f":"IFERROR(RANK($D5,$D$1:D$447)+COUNTIF($D$1:D5,D5)-1,0)","v":0},0,"S.US.ABNB",5,"",{"$f":"IFERROR(RTD(\"cqg.rtd\", ,\"ContractData\",I5, \"PerCentNetLastTrade\",, \"T\")/100,\"\")","v":""},null,null,{"$error":"#VALUE!"},"",{"$f":"IFERROR(RTD(\"cqg.rtd\", ,\"ContractData\",N5, \"PerCentNetLastTrade\",, \"T\")/100,\"\")","v":""},null,"",null,{"$f":"RTD(\"cqg.rtd\", ,\"ContractData\",I5, \"LongDescription\",, \"T\")","v":"Obligatory parameter <contract>(position - 1) is not specified"},null,null,{"$f":"N11","v":""},{"$f":"RTD(\"cqg.rtd\", ,\"ContractData\",V5, \"LongDescription\",, \"T\")","v":"Obligatory parameter <contract>(position - 1) is not specified"},null,null,{"$f":"IFERROR(RTD(\"cqg.rtd\", ,\"ContractData\",V5, \"PerCentNetLastTrade\",, \"T\")/100,\"\")","v":""},"",""]
[null,1,"S.US.ACGL",{"$f":"IFERROR(RTD(\"cqg.rtd\", ,\"ContractData\",C6, \"PerCentNetLastTrade\",, \"T\")/100,\"\")","v":""},{"$f":"IFERROR(RANK($D6,$D$1:D$447)+COUNTIF($D$1:D6,D6)-1,0)","v":0},0,"S.US.ACGL",6,"",{"$f":"IFERROR(RTD(\"cqg.rtd\", ,\"ContractData\",I6, \"PerCentNetLastTrade\",, \"T\")/100,\"\")","v":""},null,null,{"$error":"#VALUE!"},"",{"$f":"IFERROR(RTD(\"cqg.rtd\", ,\"ContractData\",N6, \"PerCentNetLastTrade\",, \"T\")/100,\"\")","v":""},null,"",null,{"$f":"RTD(\"cqg.rtd\", ,\"ContractData\",I6, \"LongDescription\",, \"T\")","v":"Obligatory parameter <contract>(position - 1) is not specified"},null,null,{"$f":"N10","v":""},{"$f":"RTD(\"cqg.rtd\", ,\"ContractData\",V6, \"LongDescription\",, \"T\")","v":"Obligatory parameter <contract>(position - 1) is not specified"},null,null,{"$f":"IFERROR(RTD(\"cqg.rtd\", ,\"ContractData\",V6, \"PerCentNetLastTrade\",, \"T\")/100,\"\")","v":""},"",""]
[null,1,"S.US.ACM",{"$f":"IFERROR(RTD(\"cqg.rtd\", ,\"ContractData\",C7, \"PerCentNetLastTrade\",, \"T\")/100,\"\")","v":""},{"$f":"IFERROR(RANK($D7,$D$1:D$447)+COUNTIF($D$1:D7,D7)-1,0)","v":0},0,"S.US.ACM",7,"",{"$f":"IFERROR(RTD(\"cqg.rtd\", ,\"ContractData\",I7, \"PerCentNetLastTrade\",, \"T\")/100,\"\")","v":""},null,null,{"$error":"#VALUE!"},"",{"$f":"IFERROR(RTD(\"cqg.rtd\", ,\"ContractData\",N7, \"PerCentNetLastTrade\",, \"T\")/100,\"\")","v":""},null,"",null,{"$f":"RTD(\"cqg.rtd\", ,\"ContractData\",I7, \"LongDescription\",, \"T\")","v":"Obligatory parameter <contract>(position - 1) is not specified"},null,null,{"$f":"N9","v":""},{"$f":"RTD(\"cqg.rtd\", ,\"ContractData\",V7, \"LongDescription\",, \"T\")","v":"Obligatory parameter <contract>(position - 1) is not specified"},null,null,{"$f":"IFERROR(RTD(\"cqg.rtd\", ,\"ContractData\",V7, \"PerCentNetLastTrade\",, \"T\")/100,\"\")","v":""},"",""]
[null,1,"S.US.ADBE",{"$f":"IFERROR(RTD(\"cqg.rtd\", ,\"ContractData\",C8, \"PerCentNetLastTrade\",, \"T\")/100,\"\")","v":""},{"$f":"IFERROR(RANK($D8,$D$1:D$447)+COUNTIF($D$1:D8,D8)-1,0)","v":0},0,"S.US.ADBE",8,"",{"$f":"IFERROR(RTD(\"cqg.rtd\", ,\"ContractData\",I8, \"PerCentNetLastTrade\",, \"T\")/100,\"\")","v":""},null,null,{"$error":"#VALUE!"},"",{"$f":"IFERROR(RTD(\"cqg.rtd\", ,\"ContractData\",N8, \"PerCentNetLastTrade\",, \"T\")/100,\"\")","v":""},null,"",null,{"$f":"RTD(\"cqg.rtd\", ,\"ContractData\",I8, \"LongDescription\",, \"T\")","v":"Obligatory parameter <contract>(position - 1) is not specified"},null,null,{"$f":"N8","v":""},{"$f":"RTD(\"cqg.rtd\", ,\"ContractData\",V8, \"LongDescription\",, \"T\")","v":"Obligatory parameter <contract>(position - 1) is not specified"},null,null,{"$f":"IFERROR(RTD(\"cqg.rtd\", ,\"ContractData\",V8, \"PerCentNetLastTrade\",, \"T\")/100,\"\")","v":""},"",""]
[null,1,"S.US.ADC",{"$f":"IFERROR(RTD(\"cqg.rtd\", ,\"ContractData\",C9, \"PerCentNetLastTrade\",, \"T\")/100,\"\")","v":""},{"$f":"IFERROR(RANK($D9,$D$1:D$447)+COUNTIF($D$1:D9,D9)-1,0)","v":0},0,"S.US.ADC",9,"",{"$f":"IFERROR(RTD(\"cqg.rtd\", ,\"ContractData\",I9, \"PerCentNetLastTrade\",, \"T\")/100,\"\")","v":""},null,null,{"$error":"#VALUE!"},"",{"$f":"IFERROR(RTD(\"cqg.rtd\", ,\"ContractData\",N9, \"PerCentNetLastTrade\",, \"T\")/100,\"\")","v":""},null,"",null,{"$f":"RTD(\"cqg.rtd\", ,\"ContractData\",I9, \"LongDescription\",, \"T\")","v":"Obligatory parameter <contract>(position - 1) is not specified"},null,null,{"$f":"N7","v":""},{"$f":"RTD(\"cqg.rtd\", ,\"ContractData\",V9, \"LongDescription\",, \"T\")","v":"Obligatory parameter <contract>(position - 1) is not specified"},null,null,{"$f":"IFERROR(RTD(\"cqg.rtd\", ,\"ContractData\",V9, \"PerCentNetLastTrade\",, \"T\")/100,\"\")","v":""},"",""]
[null,1,"S.US.ADP",{"$f":"IFERROR(RTD(\"cqg.rtd\", ,\"ContractData\",C10, \"PerCentNetLastTrade\",, \"T\")/100,\"\")","v":""},{"$f":"IFERROR(RANK($D10,$D$1:D$447)+COUNTIF($D$1:D10,D10)-1,0)","v":0},0,"S.US.ADP",10,"",{"$f":"IFERROR(RTD(\"cqg.rtd\", ,\"ContractData\",I10, \"PerCentNetLastTrade\",, \"T\")/100,\"\")","v":""},null,null,{"$error":"#VALUE!"},"",{"$f":"IFERROR(RTD(\"cqg.rtd\", ,\"ContractData\",N10, \"PerCentNetLastTrade\",, \"T\")/100,\"\")","v":""},null,"",null,{"$f":"RTD(\"cqg.rtd\", ,\"ContractData\",I10, \"LongDescription\",, \"T\")","v":"Obligatory parameter <contract>(position - 1) is not specified"},null,null,{"$f":"N6","v":""},{"$f":"RTD(\"cqg.rtd\", ,\"ContractData\",V10, \"LongDescription\",, \"T\")","v":"Obligatory parameter <contract>(position - 1) is not specified"},null,null,{"$f":"IFERROR(RTD(\"cqg.rtd\", ,\"ContractData\",V10, \"PerCentNetLastTrade\",, \"T\")/100,\"\")","v":""},"",""]
[null,1,"S.US.ADSK",{"$f":"IFERROR(RTD(\"cqg.rtd\", ,\"ContractData\",C11, \"PerCentNetLastTrade\",, \"T\")/100,\"\")","v":""},{"$f":"IFERROR(RANK($D11,$D$1:D$447)+COUNTIF($D$1:D11,D11)-1,0)","v":0},0,"S.US.ADSK",11,"",{"$f":"IFERROR(RTD(\"cqg.rtd\", ,\"ContractData\",I11, \"PerCentNetLastTrade\",, \"T\")/100,\"\")","v":""},null,null,{"$error":"#VALUE!"},"",{"$f":"IFERROR(RTD(\"cqg.rtd\", ,\"ContractData\",N11, \"PerCentNetLastTrade\",, \"T\")/100,\"\")","v":""},null,"",null,{"$f":"RTD(\"cqg.rtd\", ,\"ContractData\",I11, \"LongDescription\",, \"T\")","v":"Obligatory parameter <contract>(position - 1) is not specified"},null,null,{"$f":"N5","v":""},{"$f":"RTD(\"cqg.rtd\", ,\"ContractData\",V11, \"LongDescription\",, \"T\")","v":"Obligatory parameter <contract>(position - 1) is not specified"},null,null,{"$f":"IFERROR(RTD(\"cqg.rtd\", ,\"ContractData\",V11, \"PerCentNetLastTrade\",, \"T\")/100,\"\")","v":""},"",""]
[null,1,"S.US.AFG",{"$f":"IFERROR(RTD(\"cqg.rtd\", ,\"ContractData\",C12, \"PerCentNetLastTrade\",, \"T\")/100,\"\")","v":""},{"$f":"IFERROR(RANK($D12,$D$1:D$447)+COUNTIF($D$1:D12,D12)-1,0)","v":0},0,"S.US.AFG",12,"",{"$f":"IFERROR(RTD(\"cqg.rtd\", ,\"ContractData\",I12, \"PerCentNetLastTrade\",, \"T\")/100,\"\")","v":""},null,null,{"$error":"#VALUE!"},"",{"$f":"IFERROR(RTD(\"cqg.rtd\", ,\"ContractData\",N12, \"PerCentNetLastTrade\",, \"T\")/100,\"\")","v":""},null,"",null,{"$f":"RTD(\"cqg.rtd\", ,\"ContractData\",I12, \"LongDescription\",, \"T\")","v":"Obligatory parameter <contract>(position - 1) is not specified"},null,null,{"$f":"N4","v":""},{"$f":"RTD(\"cqg.rtd\", ,\"ContractData\",V12, \"LongDescription\",, \"T\")","v":"Obligatory parameter <contract>(position - 1) is not specified"},null,null,{"$f":"IFERROR(RTD(\"cqg.rtd\", ,\"ContractData\",V12, \"PerCentNetLastTrade\",, \"T\")/100,\"\")","v":""},"",""]
[null,1,"S.US.AIT",{"$f":"IFERROR(RTD(\"cqg.rtd\", ,\"ContractData\",C13, \"PerCentNetLastTrade\",, \"T\")/100,\"\")","v":""},{"$f":"IFERROR(RANK($D13,$D$1:D$447)+COUNTIF($D$1:D13,D13)-1,0)","v":0},0,"S.US.AIT",13,"",{"$f":"IFERROR(RTD(\"cqg.rtd\", ,\"ContractData\",I13, \"PerCentNetLastTrade\",, \"T\")/100,\"\")","v":""},null,null,{"$error":"#VALUE!"},"",{"$f":"IFERROR(RTD(\"cqg.rtd\", ,\"ContractData\",N13, \"PerCentNetLastTrade\",, \"T\")/100,\"\")","v":""},null,"",null,{"$f":"RTD(\"cqg.rtd\", ,\"ContractData\",I13, \"LongDescription\",, \"T\")","v":"Obligatory parameter <contract>(position - 1) is not specified"},null,null,{"$f":"N3","v":""},{"$f":"RTD(\"cqg.rtd\", ,\"ContractData\",V13, \"LongDescription\",, \"T\")","v":"Obligatory parameter <contract>(position - 1) is not specified"},null,null,{"$f":"IFERROR(RTD(\"cqg.rtd\", ,\"ContractData\",V13, \"PerCentNetLastTrade\",, \"T\")/100,\"\")","v":""},"",""]
[null,1,"S.US.AJG",{"$f":"IFERROR(RTD(\"cqg.rtd\", ,\"ContractData\",C14, \"PerCentNetLastTrade\",, \"T\")/100,\"\")","v":""},{"$f":"IFERROR(RANK($D14,$D$1:D$447)+COUNTIF($D$1:D14,D14)-1,0)","v":0},0,"S.US.AJG",14,"",{"$f":"IFERROR(RTD(\"cqg.rtd\", ,\"ContractData\",I14, \"PerCentNetLastTrade\",, \"T\")/100,\"\")","v":""},null,null,{"$error":"#VALUE!"},"",{"$f":"IFERROR(RTD(\"cqg.rtd\", ,\"ContractData\",N14, \"PerCentNetLastTrade\",, \"T\")/100,\"\")","v":""},null,"",null,{"$f":"RTD(\"cqg.rtd\", ,\"ContractData\",I14, \"LongDescription\",, \"T\")","v":"Obligatory parameter <contract>(position - 1) is not specified"},null,null,{"$f":"N2","v":""},{"$f":"RTD(\"cqg.rtd\", ,\"ContractData\",V14, \"LongDescription\",, \"T\")","v":"Obligatory parameter <contract>(position - 1) is not specified"},null,null,{"$f":"IFERROR(RTD(\"cqg.rtd\", ,\"ContractData\",V14, \"PerCentNetLastTrade\",, \"T\")/100,\"\")","v":""},"",""]
[null,1,"S.US.ALGM",{"$f":"IFERROR(RTD(\"cqg.rtd\", ,\"ContractData\",C15, \"PerCentNetLastTrade\",, \"T\")/100,\"\")","v":""},{"$f":"IFERROR(RANK($D15,$D$1:D$447)+COUNTIF($D$1:D15,D15)-1,0)","v":0},0,"S.US.ALGM",15,"",{"$f":"IFERROR(RTD(\"cqg.rtd\", ,\"ContractData\",I15, \"PerCentNetLastTrade\",, \"T\")/100,\"\")","v":""},null,null,{"$error":"#VALUE!"},"",{"$f":"IFERROR(RTD(\"cqg.rtd\", ,\"ContractData\",N15, \"PerCentNetLastTrade\",, \"T\")/100,\"\")","v":""},null,"",null,{"$f":"RTD(\"cqg.rtd\", ,\"ContractData\",I15, \"LongDescription\",, \"T\")","v":"Obligatory parameter <contract>(position - 1) is not specified"},null,null,{"$f":"N1","v":""},{"$f":"RTD(\"cqg.rtd\", ,\"ContractData\",V15, \"LongDescription\",, \"T\")","v":"Obligatory parameter <contract>(position - 1) is not specified"},null,null,{"$f":"IFERROR(RTD(\"cqg.rtd\", ,\"ContractData\",V15, \"PerCentNetLastTrade\",, \"T\")/100,\"\")","v":""},"",""]
[null,1,"S.US.ALLE",{"$f":"IFERROR(RTD(\"cqg.rtd\", ,\"ContractData\",C16, \"PerCentNetLastTrade\",, \"T\")/100,\"\")","v":""},{"$f":"IFERROR(RANK($D16,$D$1:D$447)+COUNTIF($D$1:D16,D16)-1,0)","v":0},0,"S.US.ALLE",16,""]
[null,1,"S.US.ALTR",{"$f":"IFERROR(RTD(\"cqg.rtd\", ,\"ContractData\",C17, \"PerCentNetLastTrade\",, \"T\")/100,\"\")","v":""},{"$f":"IFERROR(RANK($D17,$D$1:D$447)+COUNTIF($D$1:D17,D17)-1,0)","v":0},0,"S.US.ALTR",17,""]
[null,1,"S.US.AM",{"$f":"IFERROR(RTD(\"cqg.rtd\", ,\"ContractData\",C18, \"PerCentNetLastTrade\",, \"T\")/100,\"\")","v":""},{"$f":"IFERROR(RANK($D18,$D$1:D$447)+COUNTIF($D$1:D18,D18)-1,0)","v":0},0,"S.US.AM",18,""]
[null,1,"S.US.AMAT",{"$f":"IFERROR(RTD(\"cqg.rtd\", ,\"ContractData\",C19, \"PerCentNetLastTrade\",, \"T\")/100,\"\")","v":""},{"$f":"IFERROR(RANK($D19,$D$1:D$447)+COUNTIF($D$1:D19,D19)-1,0)","v":0},0,"S.US.AMAT",19,""]
[null,1,"S.US.AME",{"$f":"IFERROR(RTD(\"cqg.rtd\", ,\"ContractData\",C20, \"PerCentNetLastTrade\",, \"T\")/100,\"\")","v":""},{"$f":"IFERROR(RANK($D20,$D$1:D$447)+COUNTIF($D$1:D20,D20)-1,0)","v":0},0,"S.US.AME",20,""]
[null,1,"S.US.AMG",{"$f":"IFERROR(RTD(\"cqg.rtd\", ,\"ContractData\",C21, \"PerCentNetLastTrade\",, \"T\")/100,\"\")","v":""},{"$f":"IFERROR(RANK($D21,$D$1:D$447)+COUNTIF($D$1:D21,D21)-1,0)","v":0},0,"S.US.AMG",21,""]
[null,1,"S.US.AMGN",{"$f":"IFERROR(RTD(\"cqg.rtd\", ,\"ContractData\",C22, \"PerCentNetLastTrade\",, \"T\")/100,\"\")","v":""},{"$f":"IFERROR(RANK($D22,$D$1:D$447)+COUNTIF($D$1:D22,D22)-1,0)","v":0},0,"S.US.AMGN",22,""]
[null,1,"S.US.AMH",{"$f":"IFERROR(RTD(\"cqg.rtd\", ,\"ContractData\",C23, \"PerCentNetLastTrade\",, \"T\")/100,\"\")","v":""},{"$f":"IFERROR(RANK($D23,$D$1:D$447)+COUNTIF($D$1:D23,D23)-1,0)","v":0},0,"S.US.AMH",23,""]
[null,1,"S.US.AMP",{"$f":"IFERROR(RTD(\"cqg.rtd\", ,\"ContractData\",C24, \"PerCentNetLastTrade\",, \"T\")/100,\"\")","v":""},{"$f":"IFERROR(RANK($D24,$D$1:D$447)+COUNTIF($D$1:D24,D24)-1,0)","v":0},0,"S.US.AMP",24,""]
[null,1,"S.US.AMZN",{"$f":"IFERROR(RTD(\"cqg.rtd\", ,\"ContractData\",C25, \"PerCentNetLastTrade\",, \"T\")/100,\"\")","v":""},{"$f":"IFERROR(RANK($D25,$D$1:D$447)+COUNTIF($D$1:D25,D25)-1,0)","v":0},0,"S.US.AMZN",25,""]
[null,1,"S.US.ANET",{"$f":"IFERROR(RTD(\"cqg.rtd\", ,\"ContractData\",C26, \"PerCentNetLastTrade\",, \"T\")/100,\"\")","v":""},{"$f":"IFERROR(RANK($D26,$D$1:D$447)+COUNTIF($D$1:D26,D26)-1,0)","v":0},0,"S.US.ANET",26,""]
[null,1,"S.US.ANF",{"$f":"IFERROR(RTD(\"cqg.rtd\", ,\"ContractData\",C27, \"PerCentNetLastTrade\",, \"T\")/100,\"\")","v":""},{"$f":"IFERROR(RANK($D27,$D$1:D$447)+COUNTIF($D$1:D27,D27)-1,0)","v":0},0,"S.US.ANF",27,""]
[null,1,"S.US.ANSS",{"$f":"IFERROR(RTD(\"cqg.rtd\", ,\"ContractData\",C28, \"PerCentNetLastTrade\",, \"T\")/100,\"\")","v":""},{"$f":"IFERROR(RANK($D28,$D$1:D$447)+COUNTIF($D$1:D28,D28)-1,0)","v":0},0,"S.US.ANSS",28,""]
[null,1,"S.US.AON",{"$f":"IFERROR(RTD(\"cqg.rtd\", ,\"ContractData\",C29, \"PerCentNetLastTrade\",, \"T\")/100,\"\")","v":""},{"$f":"IFERROR(RANK($D29,$D$1:D$447)+COUNTIF($D$1:D29,D29)-1,0)","v":0},0,"S.US.AON",29,""]
[null,1,"S.US.APH",{"$f":"IFERROR(RTD(\"cqg.rtd\", ,\"ContractData\",C30, \"PerCentNetLastTrade\",, \"T\")/100,\"\")","v":""},{"$f":"IFERROR(RANK($D30,$D$1:D$447)+COUNTIF($D$1:D30,D30)-1,0)","v":0},0,"S.US.APH",30,""]
[null,1,"S.US.APO",{"$f":"IFERROR(RTD(\"cqg.rtd\", ,\"ContractData\",C31, \"PerCentNetLastTrade\",, \"T\")/100,\"\")","v":""},{"$f":"IFERROR(RANK($D31,$D$1:D$447)+COUNTIF($D$1:D31,D31)-1,0)","v":0},0,"S.US.APO",31,""]
[null,1,"S.US.APPF",{"$f":"IFERROR(RTD(\"cqg.rtd\", ,\"ContractData\",C32, \"PerCentNetLastTrade\",, \"T\")/100,\"\")","v":""},{"$f":"IFERROR(RANK($D32,$D$1:D$447)+COUNTIF($D$1:D32,D32)-1,0)","v":0},0,"S.US.APPF",32,""]
[null,1,"S.US.ATR",{"$f":"IFERROR(RTD(\"cqg.rtd\", ,\"ContractData\",C33, \"PerCentNetLastTrade\",, \"T\")/100,\"\")","v":""},{"$f":"IFERROR(RANK($D33,$D$1:D$447)+COUNTIF($D$1:D33,D33)-1,0)","v":0},0,"S.US.ATR",33,""]
[null,1,"S.US.AVB",{"$f":"IFERROR(RTD(\"cqg.rtd\", ,\"ContractData\",C34, \"PerCentNetLastTrade\",, \"T\")/100,\"\")","v":""},{"$f":"IFERROR(RANK($D34,$D$1:D$447)+COUNTIF($D$1:D34,D34)-1,0)","v":0},0,"S.US.AVB",34,""]
[null,1,"S.US.AVGO",{"$f":"IFERROR(RTD(\"cqg.rtd\", ,\"ContractData\",C35, \"PerCentNetLastTrade\",, \"T\")/100,\"\")","v":""},{"$f":"IFERROR(RANK($D35,$D$1:D$447)+COUNTIF($D$1:D35,D35)-1,0)","v":0},0,"S.US.AVGO",35,""]
[null,1,"S.US.AXON",{"$f":"IFERROR(RTD(\"cqg.rtd\", ,\"ContractData\",C36, \"PerCentNetLastTrade\",, \"T\")/100,\"\")","v":""},{"$f":"IFERROR(RANK($D36,$D$1:D$447)+COUNTIF($D$1:D36,D36)-1,0)","v":0},0,"S.US.AXON",36,""]
[null,1,"S.US.AXP",{"$f":"IFERROR(RTD(\"cqg.rtd\", ,\"ContractData\",C37, \"PerCentNetLastTrade\",, \"T\")/100,\"\")","v":""},{"$f":"IFERROR(RANK($D37,$D$1:D$447)+COUNTIF($D$1:D37,D37)-1,0)","v":0},0,"S.US.AXP",37,""]
[null,1,"S.US.AXTA",{"$f":"IFERROR(RTD(\"cqg.rtd\", ,\"ContractData\",C38, \"PerCentNetLastTrade\",, \"T\")/100,\"\")","v":""},{"$f":"IFERROR(RANK($D38,$D$1:D$447)+COUNTIF($D$1:D38,D38)-1,0)","v":0},0,"S.US.AXTA",38,""]
[null,1,"S.US.AYI",{"$f":"IFERROR(RTD(\"cqg.rtd\", ,\"ContractData\",C39, \"PerCentNetLastTrade\",, \"T\")/100,\"\")","v":""},{"$f":"IFERROR(RANK($D39,$D$1:D$447)+COUNTIF($D$1:D39,D39)-1,0)","v":0},0,"S.US.AYI",39,""]
[null,1,"S.US.AZO",{"$f":"IFERROR(RTD(\"cqg.rtd\", ,\"ContractData\",C40, \"PerCentNetLastTrade\",, \"T\")/100,\"\")","v":""},{"$f":"IFERROR(RANK($D40,$D$1:D$447)+COUNTIF($D$1:D40,D40)-1,0)","v":0},0,"S.US.AZO",40,""]
[null,1,"S.US.BCO",{"$f":"IFERROR(RTD(\"cqg.rtd\", ,\"ContractData\",C41, \"PerCentNetLastTrade\",, \"T\")/100,\"\")","v":""},{"$f":"IFERROR(RANK($D41,$D$1:D$447)+COUNTIF($D$1:D41,D41)-1,0)","v":0},0,"S.US.BCO",41,""]
[null,1,"S.US.BDC",{"$f":"IFERROR(RTD(\"cqg.rtd\", ,\"ContractData\",C42, \"PerCentNetLastTrade\",, \"T\")/100,\"\")","v":""},{"$f":"IFERROR(RANK($D42,$D$1:D$447)+COUNTIF($D$1:D42,D42)-1,0)","v":0},0,"S.US.BDC",42,""]
[null,1,"S.US.BJ",{"$f":"IFERROR(RTD(\"cqg.rtd\", ,\"ContractData\",C43, \"PerCentNetLastTrade\",, \"T\")/100,\"\")","v":""},{"$f":"IFERROR(RANK($D43,$D$1:D$447)+COUNTIF($D$1:D43,D43)-1,0)","v":0},0,"S.US.BJ",43,""]
[null,1,"S.US.BK",{"$f":"IFERROR(RTD(\"cqg.rtd\", ,\"ContractData\",C44, \"PerCentNetLastTrade\",, \"T\")/100,\"\")","v":""},{"$f":"IFERROR(RANK($D44,$D$1:D$447)+COUNTIF($D$1:D44,D44)-1,0)","v":0},0,"S.US.BK",44,""]
[null,1,"S.US.BKNG",{"$f":"IFERROR(RTD(\"cqg.rtd\", ,\"ContractData\",C45, \"PerCentNetLastTrade\",, \"T\")/100,\"\")","v":""},{"$f":"IFERROR(RANK($D45,$D$1:D$447)+COUNTIF($D$1:D45,D45)-1,0)","v":0},0,"S.US.BKNG",45,""]
[null,1,"S.US.BLD",{"$f":"IFERROR(RTD(\"cqg.rtd\", ,\"ContractData\",C46, \"PerCentNetLastTrade\",, \"T\")/100,\"\")","v":""},{"$f":"IFERROR(RANK($D46,$D$1:D$447)+COUNTIF($D$1:D46,D46)-1,0)","v":0},0,"S.US.BLD",46,""]
[null,1,"S.US.BLDR",{"$f":"IFERROR(RTD(\"cqg.rtd\", ,\"ContractData\",C47, \"PerCentNetLastTrade\",, \"T\")/100,\"\")","v":""},{"$f":"IFERROR(RANK($D47,$D$1:D$447)+COUNTIF($D$1:D47,D47)-1,0)","v":0},0,"S.US.BLDR",47,""]
[null,1,"S.US.BLKB",{"$f":"IFERROR(RTD(\"cqg.rtd\", ,\"ContractData\",C48, \"PerCentNetLastTrade\",, \"T\")/100,\"\")","v":""},{"$f":"IFERROR(RANK($D48,$D$1:D$447)+COUNTIF($D$1:D48,D48)-1,0)","v":0},0,"S.US.BLKB",48,""]
[null,1,"S.US.BR",{"$f":"IFERROR(RTD(\"cqg.rtd\", ,\"ContractData\",C49, \"PerCentNetLastTrade\",, \"T\")/100,\"\")","v":""},{"$f":"IFERROR(RANK($D49,$D$1:D$447)+COUNTIF($D$1:D49,D49)-1,0)","v":0},0,"S.US.BR",49,""]
[null,1,"S.US.BRBR",{"$f":"IFERROR(RTD(\"cqg.rtd\", ,\"ContractData\",C50, \"PerCentNetLastTrade\",, \"T\")/100,\"\")","v":""},{"$f":"IFERROR(RANK($D50,$D$1:D$447)+COUNTIF($D$1:D50,D50)-1,0)","v":0},0,"S.US.BRBR",50,""]
[null,1,"S.US.BRKB",{"$f":"IFERROR(RTD(\"cqg.rtd\", ,\"ContractData\",C51, \"PerCentNetLastTrade\",, \"T\")/100,\"\")","v":""},{"$f":"IFERROR(RANK($D51,$D$1:D$447)+COUNTIF($D$1:D51,D51)-1,0)","v":0},0,"S.US.BRKB",51,""]
[null,1,"S.US.BRKR",{"$f":"IFERROR(RTD(\"cqg.rtd\", ,\"ContractData\",C52, \"PerCentNetLastTrade\",, \"T\")/100,\"\")","v":""},{"$f":"IFERROR(RANK($D52,$D$1:D$447)+COUNTIF($D$1:D52,D52)-1,0)","v":0},0,"S.US.BRKR",52,""]
[null,1,"S.US.BRO",{"$f":"IFERROR(RTD(\"cqg.rtd\", ,\"ContractData\",C53, \"PerCentNetLastTrade\",, \"T\")/100,\"\")","v":""},{"$f":"IFERROR(RANK($D53,$D$1:D$447)+COUNTIF($D$1:D53,D53)-1,0)","v":0},0,"S.US.BRO",53,""]
[null,1,"S.US.BRX",{"$f":"IFERROR(RTD(\"cqg.rtd\", ,\"ContractData\",C54, \"PerCentNetLastTrade\",, \"T\")/100,\"\")","v":""},{"$f":"IFERROR(RANK($D54,$D$1:D$447)+COUNTIF($D$1:D54,D54)-1,0)","v":0},0,"S.US.BRX",54,""]
[null,1,"S.US.BSX",{"$f":"IFERROR(RTD(\"cqg.rtd\", ,\"ContractData\",C55, \"PerCentNetLastTrade\",, \"T\")/100,\"\")","v":""},{"$f":"IFERROR(RANK($D55,$D$1:D$447)+COUNTIF($D$1:D55,D55)-1,0)","v":0},0,"S.US.BSX",55,""]
[null,1,"S.US.BURL",{"$f":"IFERROR(RTD(\"cqg.rtd\", ,\"ContractData\",C56, \"PerCentNetLastTrade\",, \"T\")/100,\"\")","v":""},{"$f":"IFERROR(RANK($D56,$D$1:D$447)+COUNTIF($D$1:D56,D56)-1,0)","v":0},0,"S.US.BURL",56,""]
[null,1,"S.US.BWXT",{"$f":"IFERROR(RTD(\"cqg.rtd\", ,\"ContractData\",C57, \"PerCentNetLastTrade\",, \"T\")/100,\"\")","v":""},{"$f":"IFERROR(RANK($D57,$D$1:D$447)+COUNTIF($D$1:D57,D57)-1,0)","v":0},0,"S.US.BWXT",57,""]
[null,1,"S.US.BYD",{"$f":"IFERROR(RTD(\"cqg.rtd\", ,\"ContractData\",C58, \"PerCentNetLastTrade\",, \"T\")/100,\"\")","v":""},{"$f":"IFERROR(RANK($D58,$D$1:D$447)+COUNTIF($D$1:D58,D58)-1,0)","v":0},0,"S.US.BYD",58,""]
[null,1,"S.US.CACI",{"$f":"IFERROR(RTD(\"cqg.rtd\", ,\"ContractData\",C59, \"PerCentNetLastTrade\",, \"T\")/100,\"\")","v":""},{"$f":"IFERROR(RANK($D59,$D$1:D$447)+COUNTIF($D$1:D59,D59)-1,0)","v":0},0,"S.US.CACI",59,""]
[null,1,"S.US.CARR",{"$f":"IFERROR(RTD(\"cqg.rtd\", ,\"ContractData\",C60, \"PerCentNetLastTrade\",, \"T\")/100,\"\")","v":""},{"$f":"IFERROR(RANK($D60,$D$1:D$447)+COUNTIF($D$1:D60,D60)-1,0)","v":0},0,"S.US.CARR",60,""]
[null,1,"S.US.CART",{"$f":"IFERROR(RTD(\"cqg.rtd\", ,\"ContractData\",C61, \"PerCentNetLastTrade\",, \"T\")/100,\"\")","v":""},{"$f":"IFERROR(RANK($D61,$D$1:D$447)+COUNTIF($D$1:D61,D61)-1,0)","v":0},0,"S.US.CART",61,""]
[null,1,"S.US.CASY",{"$f":"IFERROR(RTD(\"cqg.rtd\", ,\"ContractData\",C62, \"PerCentNetLastTrade\",, \"T\")/100,\"\")","v":""},{"$f":"IFERROR(RANK($D62,$D$1:D$447)+COUNTIF($D$1:D62,D62)-1,0)","v":0},0,"S.US.CASY",62,""]
[null,1,"S.US.CAT",{"$f":"IFERROR(RTD(\"cqg.rtd\", ,\"ContractData\",C63, \"PerCentNetLastTrade\",, \"T\")/100,\"\")","v":""},{"$f":"IFERROR(RANK($D63,$D$1:D$447)+COUNTIF($D$1:D63,D63)-1,0)","v":0},0,"S.US.CAT",63,""]
[null,1,"S.US.CBRE",{"$f":"IFERROR(RTD(\"cqg.rtd\", ,\"ContractData\",C64, \"PerCentNetLastTrade\",, \"T\")/100,\"\")","v":""},{"$f":"IFERROR(RANK($D64,$D$1:D$447)+COUNTIF($D$1:D64,D64)-1,0)","v":0},0,"S.US.CBRE",64,""]
[null,1,"S.US.CBSH",{"$f":"IFERROR(RTD(\"cqg.rtd\", ,\"ContractData\",C65, \"PerCentNetLastTrade\",, \"T\")/100,\"\")","v":""},{"$f":"IFERROR(RANK($D65,$D$1:D$447)+COUNTIF($D$1:D65,D65)-1,0)","v":0},0,"S.US.CBSH",65,""]
[null,{"$f":"IF(D66>=0,1,)","v":1},"S.US.CBT",{"$f":"IFERROR(RTD(\"cqg.rtd\", ,\"ContractData\",C66, \"PerCentNetLastTrade\",, \"T\")/100,\"\")","v":""},{"$f":"IFERROR(RANK($D66,$D$1:D$447)+COUNTIF($D$1:D66,D66)-1,0)","v":0},{"$f":"IFERROR(E66,\"\")","v":0},{"$f":"C66","v":"S.US.CBT"},66,{"$f":"IFERROR(VLOOKUP(H66,$F$1:$G$447,2,FALSE),\"\")","v":""}]
[null,1,"S.US.CCL",{"$f":"IFERROR(RTD(\"cqg.rtd\", ,\"ContractData\",C67, \"PerCentNetLastTrade\",, \"T\")/100,\"\")","v":""},{"$f":"IFERROR(RANK($D67,$D$1:D$447)+COUNTIF($D$1:D67,D67)-1,0)","v":0},0,"S.US.CCL",{"$f":"H66+1","v":67},""]
[null,1,"S.US.CDNS",{"$f":"IFERROR(RTD(\"cqg.rtd\", ,\"ContractData\",C68, \"PerCentNetLastTrade\",, \"T\")/100,\"\")","v":""},{"$f":"IFERROR(RANK($D68,$D$1:D$447)+COUNTIF($D$1:D68,D68)-1,0)","v":0},0,"S.US.CDNS",68,""]
[null,1,"S.US.CDP",{"$f":"IFERROR(RTD(\"cqg.rtd\", ,\"ContractData\",C69, \"PerCentNetLastTrade\",, \"T\")/100,\"\")","v":""},{"$f":"IFERROR(RANK($D69,$D$1:D$447)+COUNTIF($D$1:D69,D69)-1,0)","v":0},0,"S.US.CDP",69,""]
[null,1,"S.US.CEG",{"$f":"IFERROR(RTD(\"cqg.rtd\", ,\"ContractData\",C70, \"PerCentNetLastTrade\",, \"T\")/100,\"\")","v":""},{"$f":"IFERROR(RANK($D70,$D$1:D$447)+COUNTIF($D$1:D70,D70)-1,0)","v":0},0,"S.US.CEG",70,""]
[null,1,"S.US.CELH",{"$f":"IFERROR(RTD(\"cqg.rtd\", ,\"ContractData\",C71, \"PerCentNetLastTrade\",, \"T\")/100,\"\")","v":""},{"$f":"IFERROR(RANK($D71,$D$1:D$447)+COUNTIF($D$1:D71,D71)-1,0)","v":0},0,"S.US.CELH",71,""]
[null,1,"S.US.CFR",{"$f":"IFERROR(RTD(\"cqg.rtd\", ,\"ContractData\",C72, \"PerCentNetLastTrade\",, \"T\")/100,\"\")","v":""},{"$f":"IFERROR(RANK($D72,$D$1:D$447)+COUNTIF($D$1:D72,D72)-1,0)","v":0},0,"S.US.CFR",72,""]
[null,1,"S.US.CG",{"$f":"IFERROR(RTD(\"cqg.rtd\", ,\"ContractData\",C73, \"PerCentNetLastTrade\",, \"T\")/100,\"\")","v":""},{"$f":"IFERROR(RANK($D73,$D$1:D$447)+COUNTIF($D$1:D73,D73)-1,0)","v":0},0,"S.US.CG",73,""]
[null,1,"S.US.CGNX",{"$f":"IFERROR(RTD(\"cqg.rtd\", ,\"ContractData\",C74, \"PerCentNetLastTrade\",, \"T\")/100,\"\")","v":""},{"$f":"IFERROR(RANK($D74,$D$1:D$447)+COUNTIF($D$1:D74,D74)-1,0)","v":0},0,"S.US.CGNX",74,""]
[null,1,"S.US.CHDN",{"$f":"IFERROR(RTD(\"cqg.rtd\", ,\"ContractData\",C75, \"PerCentNetLastTrade\",, \"T\")/100,\"\")","v":""},{"$f":"IFERROR(RANK($D75,$D$1:D$447)+COUNTIF($D$1:D75,D75)-1,0)","v":0},0,"S.US.CHDN",75,""]
[null,1,"S.US.CHE",{"$f":"IFERROR(RTD(\"cqg.rtd\", ,\"ContractData\",C76, \"PerCentNetLastTrade\",, \"T\")/100,\"\")","v":""},{"$f":"IFERROR(RANK($D76,$D$1:D$447)+COUNTIF($D$1:D76,D76)-1,0)","v":0},0,"S.US.CHE",76,""]
[null,1,"S.US.CHH",{"$f":"IFERROR(RTD(\"cqg.rtd\", ,\"ContractData\",C77, \"PerCentNetLastTrade\",, \"T\")/100,\"\")","v":""},{"$f":"IFERROR(RANK($D77,$D$1:D$447)+COUNTIF($D$1:D77,D77)-1,0)","v":0},0,"S.US.CHH",77,""]
[null,1,"S.US.CHWY",{"$f":"IFERROR(RTD(\"cqg.rtd\", ,\"ContractData\",C78, \"PerCentNetLastTrade\",, \"T\")/100,\"\")","v":""},{"$f":"IFERROR(RANK($D78,$D$1:D$447)+COUNTIF($D$1:D78,D78)-1,0)","v":0},0,"S.US.CHWY",78,""]
[null,1,"S.US.CHX",{"$f":"IFERROR(RTD(\"cqg.rtd\", ,\"ContractData\",C79, \"PerCentNetLastTrade\",, \"T\")/100,\"\")","v":""},{"$f":"IFERROR(RANK($D79,$D$1:D$447)+COUNTIF($D$1:D79,D79)-1,0)","v":0},0,"S.US.CHX",79,""]
[null,1,"S.US.CIEN",{"$f":"IFERROR(RTD(\"cqg.rtd\", ,\"ContractData\",C80, \"PerCentNetLastTrade\",, \"T\")/100,\"\")","v":""},{"$f":"IFERROR(RANK($D80,$D$1:D$447)+COUNTIF($D$1:D80,D80)-1,0)","v":0},0,"S.US.CIEN",80,""]
[null,1,"S.US.CINF",{"$f":"IFERROR(RTD(\"cqg.rtd\", ,\"ContractData\",C81, \"PerCentNetLastTrade\",, \"T\")/100,\"\")","v":""},{"$f":"IFERROR(RANK($D81,$D$1:D$447)+COUNTIF($D$1:D81,D81)-1,0)","v":0},0,"S.US.CINF",81,""]
[null,1,"S.US.CL",{"$f":"IFERROR(RTD(\"cqg.rtd\", ,\"ContractData\",C82, \"PerCentNetLastTrade\",, \"T\")/100,\"\")","v":""},{"$f":"IFERROR(RANK($D82,$D$1:D$447)+COUNTIF($D$1:D82,D82)-1,0)","v":0},0,"S.US.CL",82,""]
[null,1,"S.US.CLH",{"$f":"IFERROR(RTD(\"cqg.rtd\", ,\"ContractData\",C83, \"PerCentNetLastTrade\",, \"T\")/100,\"\")","v":""},{"$f":"IFERROR(RANK($D83,$D$1:D$447)+COUNTIF($D$1:D83,D83)-1,0)","v":0},0,"S.US.CLH",83,""]
[null,1,"S.US.CMG",{"$f":"IFERROR(RTD(\"cqg.rtd\", ,\"ContractData\",C84, \"PerCentNetLastTrade\",, \"T\")/100,\"\")","v":""},{"$f":"IFERROR(RANK($D84,$D$1:D$447)+COUNTIF($D$1:D84,D84)-1,0)","v":0},0,"S.US.CMG",84,""]
[null,1,"S.US.CMI",{"$f":"IFERROR(RTD(\"cqg.rtd\", ,\"ContractData\",C85, \"PerCentNetLastTrade\",, \"T\")/100,\"\")","v":""},{"$f":"IFERROR(RANK($D85,$D$1:D$447)+COUNTIF($D$1:D85,D85)-1,0)","v":0},0,"S.US.CMI",85,""]
[null,1,"S.US.CNM",{"$f":"IFERROR(RTD(\"cqg.rtd\", ,\"ContractData\",C86, \"PerCentNetLastTrade\",, \"T\")/100,\"\")","v":""},{"$f":"IFERROR(RANK($D86,$D$1:D$447)+COUNTIF($D$1:D86,D86)-1,0)","v":0},0,"S.US.CNM",86,""]
[null,1,"S.US.CNX",{"$f":"IFERROR(RTD(\"cqg.rtd\", ,\"ContractData\",C87, \"PerCentNetLastTrade\",, \"T\")/100,\"\")","v":""},{"$f":"IFERROR(RANK($D87,$D$1:D$447)+COUNTIF($D$1:D87,D87)-1,0)","v":0},0,"S.US.CNX",87,""]
[null,1,"S.US.COHR",{"$f":"IFERROR(RTD(\"cqg.rtd\", ,\"ContractData\",C88, \"PerCentNetLastTrade\",, \"T\")/100,\"\")","v":""},{"$f":"IFERROR(RANK($D88,$D$1:D$447)+COUNTIF($D$1:D88,D88)-1,0)","v":0},0,"S.US.COHR",88,""]
[null,1,"S.US.COKE",{"$f":"IFERROR(RTD(\"cqg.rtd\", ,\"ContractData\",C89, \"PerCentNetLastTrade\",, \"T\")/100,\"\")","v":""},{"$f":"IFERROR(RANK($D89,$D$1:D$447)+COUNTIF($D$1:D89,D89)-1,0)","v":0},0,"S.US.COKE",89,""]
[null,1,"S.US.COST",{"$f":"IFERROR(RTD(\"cqg.rtd\", ,\"ContractData\",C90, \"PerCentNetLastTrade\",, \"T\")/100,\"\")","v":""},{"$f":"IFERROR(RANK($D90,$D$1:D$447)+COUNTIF($D$1:D90,D90)-1,0)","v":0},0,"S.US.COST",90,""]
[null,1,"S.US.CPAY",{"$f":"IFERROR(RTD(\"cqg.rtd\", ,\"ContractData\",C91, \"PerCentNetLastTrade\",, \"T\")/100,\"\")","v":""},{"$f":"IFERROR(RANK($D91,$D$1:D$447)+COUNTIF($D$1:D91,D91)-1,0)","v":0},0,"S.US.CPAY",91,""]
[null,1,"S.US.CPRT",{"$f":"IFERROR(RTD(\"cqg.rtd\", ,\"ContractData\",C92, \"PerCentNetLastTrade\",, \"T\")/100,\"\")","v":""},{"$f":"IFERROR(RANK($D92,$D$1:D$447)+COUNTIF($D$1:D92,D92)-1,0)","v":0},0,"S.US.CPRT",92,""]
[null,1,"S.US.CPT",{"$f":"IFERROR(RTD(\"cqg.rtd\", ,\"ContractData\",C93, \"PerCentNetLastTrade\",, \"T\")/100,\"\")","v":""},{"$f":"IFERROR(RANK($D93,$D$1:D$447)+COUNTIF($D$1:D93,D93)-1,0)","v":0},0,"S.US.CPT",93,""]
[null,1,"S.US.CR",{"$f":"IFERROR(RTD(\"cqg.rtd\", ,\"ContractData\",C94, \"PerCentNetLastTrade\",, \"T\")/100,\"\")","v":""},{"$f":"IFERROR(RANK($D94,$D$1:D$447)+COUNTIF($D$1:D94,D94)-1,0)","v":0},0,"S.US.CR",94,""]
[null,1,"S.US.CRM",{"$f":"IFERROR(RTD(\"cqg.rtd\", ,\"ContractData\",C95, \"PerCentNetLastTrade\",, \"T\")/100,\"\")","v":""},{"$f":"IFERROR(RANK($D95,$D$1:D$447)+COUNTIF($D$1:D95,D95)-1,0)","v":0},0,"S.US.CRM",95,""]
[null,1,"S.US.CROX",{"$f":"IFERROR(RTD(\"cqg.rtd\", ,\"ContractData\",C96, \"PerCentNetLastTrade\",, \"T\")/100,\"\")","v":""},{"$f":"IFERROR(RANK($D96,$D$1:D$447)+COUNTIF($D$1:D96,D96)-1,0)","v":0},0,"S.US.CROX",96,""]
[null,1,"S.US.CRS",{"$f":"IFERROR(RTD(\"cqg.rtd\", ,\"ContractData\",C97, \"PerCentNetLastTrade\",, \"T\")/100,\"\")","v":""},{"$f":"IFERROR(RANK($D97,$D$1:D$447)+COUNTIF($D$1:D97,D97)-1,0)","v":0},0,"S.US.CRS",97,""]
[null,1,"S.US.CRUS",{"$f":"IFERROR(RTD(\"cqg.rtd\", ,\"ContractData\",C98, \"PerCentNetLastTrade\",, \"T\")/100,\"\")","v":""},{"$f":"IFERROR(RANK($D98,$D$1:D$447)+COUNTIF($D$1:D98,D98)-1,0)","v":0},0,"S.US.CRUS",98,""]
[null,1,"S.US.CRWD",{"$f":"IFERROR(RTD(\"cqg.rtd\", ,\"ContractData\",C99, \"PerCentNetLastTrade\",, \"T\")/100,\"\")","v":""},{"$f":"IFERROR(RANK($D99,$D$1:D$447)+COUNTIF($D$1:D99,D99)-1,0)","v":0},0,"S.US.CRWD",99,""]
[null,1,"S.US.CSL",{"$f":"IFERROR(RTD(\"cqg.rtd\", ,\"ContractData\",C100, \"PerCentNetLastTrade\",, \"T\")/100,\"\")","v":""},{"$f":"IFERROR(RANK($D100,$D$1:D$447)+COUNTIF($D$1:D100,D100)-1,0)","v":0},0,"S.US.CSL",100,""]
[null,1,"S.US.CSX",{"$f":"IFERROR(RTD(\"cqg.rtd\", ,\"ContractData\",C101, \"PerCentNetLastTrade\",, \"T\")/100,\"\")","v":""},{"$f":"IFERROR(RANK($D101,$D$1:D$447)+COUNTIF($D$1:D101,D101)-1,0)","v":0},0,"S.US.CSX",101,""]
[null,1,"S.US.CTAS",{"$f":"IFERROR(RTD(\"cqg.rtd\", ,\"ContractData\",C102, \"PerCentNetLastTrade\",, \"T\")/100,\"\")","v":""},{"$f":"IFERROR(RANK($D102,$D$1:D$447)+COUNTIF($D$1:D102,D102)-1,0)","v":0},0,"S.US.CTAS",102,""]
[null,1,"S.US.CUBE",{"$f":"IFERROR(RTD(\"cqg.rtd\", ,\"ContractData\",C103, \"PerCentNetLastTrade\",, \"T\")/100,\"\")","v":""},{"$f":"IFERROR(RANK($D103,$D$1:D$447)+COUNTIF($D$1:D103,D103)-1,0)","v":0},0,"S.US.CUBE",103,""]
[null,1,"S.US.CVLT",{"$f":"IFERROR(RTD(\"cqg.rtd\", ,\"ContractData\",C104, \"PerCentNetLastTrade\",, \"T\")/100,\"\")","v":""},{"$f":"IFERROR(RANK($D104,$D$1:D$447)+COUNTIF($D$1:D104,D104)-1,0)","v":0},0,"S.US.CVLT",104,""]
[null,1,"S.US.CW",{"$f":"IFERROR(RTD(\"cqg.rtd\", ,\"ContractData\",C105, \"PerCentNetLastTrade\",, \"T\")/100,\"\")","v":""},{"$f":"IFERROR(RANK($D105,$D$1:D$447)+COUNTIF($D$1:D105,D105)-1,0)","v":0},0,"S.US.CW",105,""]
[null,1,"S.US.CXT",{"$f":"IFERROR(RTD(\"cqg.rtd\", ,\"ContractData\",C106, \"PerCentNetLastTrade\",, \"T\")/100,\"\")","v":""},{"$f":"IFERROR(RANK($D106,$D$1:D$447)+COUNTIF($D$1:D106,D106)-1,0)","v":0},0,"S.US.CXT",106,""]
[null,1,"S.US.CYTK",{"$f":"IFERROR(RTD(\"cqg.rtd\", ,\"ContractData\",C107, \"PerCentNetLastTrade\",, \"T\")/100,\"\")","v":""},{"$f":"IFERROR(RANK($D107,$D$1:D$447)+COUNTIF($D$1:D107,D107)-1,0)","v":0},0,"S.US.CYTK",107,""]
[null,1,"S.US.DAL",{"$f":"IFERROR(RTD(\"cqg.rtd\", ,\"ContractData\",C108, \"PerCentNetLastTrade\",, \"T\")/100,\"\")","v":""},{"$f":"IFERROR(RANK($D108,$D$1:D$447)+COUNTIF($D$1:D108,D108)-1,0)","v":0},0,"S.US.DAL",108,""]
[null,1,"S.US.DAY",{"$f":"IFERROR(RTD(\"cqg.rtd\", ,\"ContractData\",C109, \"PerCentNetLastTrade\",, \"T\")/100,\"\")","v":""},{"$f":"IFERROR(RANK($D109,$D$1:D$447)+COUNTIF($D$1:D109,D109)-1,0)","v":0},0,"S.US.DAY",109,""]
[null,1,"S.US.DBX",{"$f":"IFERROR(RTD(\"cqg.rtd\", ,\"ContractData\",C110, \"PerCentNetLastTrade\",, \"T\")/100,\"\")","v":""},{"$f":"IFERROR(RANK($D110,$D$1:D$447)+COUNTIF($D$1:D110,D110)-1,0)","v":0},0,"S.US.DBX",110,""]
[null,1,"S.US.DCI",{"$f":"IFERROR(RTD(\"cqg.rtd\", ,\"ContractData\",C111, \"PerCentNetLastTrade\",, \"T\")/100,\"\")","v":""},{"$f":"IFERROR(RANK($D111,$D$1:D$447)+COUNTIF($D$1:D111,D111)-1,0)","v":0},0,"S.US.DCI",111,""]
[null,1,"S.US.DE",{"$f":"IFERROR(RTD(\"cqg.rtd\", ,\"ContractData\",C112, \"PerCentNetLastTrade\",, \"T\")/100,\"\")","v":""},{"$f":"IFERROR(RANK($D112,$D$1:D$447)+COUNTIF($D$1:D112,D112)-1,0)","v":0},0,"S.US.DE",112,""]
[null,1,"S.US.DECK",{"$f":"IFERROR(RTD(\"cqg.rtd\", ,\"ContractData\",C113, \"PerCentNetLastTrade\",, \"T\")/100,\"\")","v":""},{"$f":"IFERROR(RANK($D113,$D$1:D$447)+COUNTIF($D$1:D113,D113)-1,0)","v":0},0,"S.US.DECK",113,""]
[null,1,"S.US.DELL",{"$f":"IFERROR(RTD(\"cqg.rtd\", ,\"ContractData\",C114, \"PerCentNetLastTrade\",, \"T\")/100,\"\")","v":""},{"$f":"IFERROR(RANK($D114,$D$1:D$447)+COUNTIF($D$1:D114,D114)-1,0)","v":0},0,"S.US.DELL",114,""]
[null,1,"S.US.DFS",{"$f":"IFERROR(RTD(\"cqg.rtd\", ,\"ContractData\",C115, \"PerCentNetLastTrade\",, \"T\")/100,\"\")","v":""},{"$f":"IFERROR(RANK($D115,$D$1:D$447)+COUNTIF($D$1:D115,D115)-1,0)","v":0},0,"S.US.DFS",115,""]
[null,1,"S.US.DKS",{"$f":"IFERROR(RTD(\"cqg.rtd\", ,\"ContractData\",C116, \"PerCentNetLastTrade\",, \"T\")/100,\"\")","v":""},{"$f":"IFERROR(RANK($D116,$D$1:D$447)+COUNTIF($D$1:D116,D116)-1,0)","v":0},0,"S.US.DKS",116,""]
[null,1,"S.US.DOCS",{"$f":"IFERROR(RTD(\"cqg.rtd\", ,\"ContractData\",C117, \"PerCentNetLastTrade\",, \"T\")/100,\"\")","v":""},{"$f":"IFERROR(RANK($D117,$D$1:D$447)+COUNTIF($D$1:D117,D117)-1,0)","v":0},0,"S.US.DOCS",117,""]
[null,1,"S.US.DOCU",{"$f":"IFERROR(RTD(\"cqg.rtd\", ,\"ContractData\",C118, \"PerCentNetLastTrade\",, \"T\")/100,\"\")","v":""},{"$f":"IFERROR(RANK($D118,$D$1:D$447)+COUNTIF($D$1:D118,D118)-1,0)","v":0},0,"S.US.DOCU",118,""]
[null,1,"S.US.DOV",{"$f":"IFERROR(RTD(\"cqg.rtd\", ,\"ContractData\",C119, \"PerCentNetLastTrade\",, \"T\")/100,\"\")","v":""},{"$f":"IFERROR(RANK($D119,$D$1:D$447)+COUNTIF($D$1:D119,D119)-1,0)","v":0},0,"S.US.DOV",119,""]
[null,1,"S.US.DPZ",{"$f":"IFERROR(RTD(\"cqg.rtd\", ,\"ContractData\",C120, \"PerCentNetLastTrade\",, \"T\")/100,\"\")","v":""},{"$f":"IFERROR(RANK($D120,$D$1:D$447)+COUNTIF($D$1:D120,D120)-1,0)","v":0},0,"S.US.DPZ",120,""]
[null,1,"S.US.DRI",{"$f":"IFERROR(RTD(\"cqg.rtd\", ,\"ContractData\",C121, \"PerCentNetLastTrade\",, \"T\")/100,\"\")","v":""},{"$f":"IFERROR(RANK($D121,$D$1:D$447)+COUNTIF($D$1:D121,D121)-1,0)","v":0},0,"S.US.DRI",121,""]
[null,1,"S.US.DT",{"$f":"IFERROR(RTD(\"cqg.rtd\", ,\"ContractData\",C122, \"PerCentNetLastTrade\",, \"T\")/100,\"\")","v":""},{"$f":"IFERROR(RANK($D122,$D$1:D$447)+COUNTIF($D$1:D122,D122)-1,0)","v":0},0,"S.US.DT",122,""]
[null,1,"S.US.DTM",{"$f":"IFERROR(RTD(\"cqg.rtd\", ,\"ContractData\",C123, \"PerCentNetLastTrade\",, \"T\")/100,\"\")","v":""},{"$f":"IFERROR(RANK($D123,$D$1:D$447)+COUNTIF($D$1:D123,D123)-1,0)","v":0},0,"S.US.DTM",123,""]
[null,1,"S.US.DUOL",{"$f":"IFERROR(RTD(\"cqg.rtd\", ,\"ContractData\",C124, \"PerCentNetLastTrade\",, \"T\")/100,\"\")","v":""},{"$f":"IFERROR(RANK($D124,$D$1:D$447)+COUNTIF($D$1:D124,D124)-1,0)","v":0},0,"S.US.DUOL",124,""]
[null,1,"S.US.DVA",{"$f":"IFERROR(RTD(\"cqg.rtd\", ,\"ContractData\",C125, \"PerCentNetLastTrade\",, \"T\")/100,\"\")","v":""},{"$f":"IFERROR(RANK($D125,$D$1:D$447)+COUNTIF($D$1:D125,D125)-1,0)","v":0},0,"S.US.DVA",125,""]
[null,1,"S.US.DXCM",{"$f":"IFERROR(RTD(\"cqg.rtd\", ,\"ContractData\",C126, \"PerCentNetLastTrade\",, \"T\")/100,\"\")","v":""},{"$f":"IFERROR(RANK($D126,$D$1:D$447)+COUNTIF($D$1:D126,D126)-1,0)","v":0},0,"S.US.DXCM",126,""]
[null,1,"S.US.EA",{"$f":"IFERROR(RTD(\"cqg.rtd\", ,\"ContractData\",C127, \"PerCentNetLastTrade\",, \"T\")/100,\"\")","v":""},{"$f":"IFERROR(RANK($D127,$D$1:D$447)+COUNTIF($D$1:D127,D127)-1,0)","v":0},0,"S.US.EA",127,""]
[null,1,"S.US.EBAY",{"$f":"IFERROR(RTD(\"cqg.rtd\", ,\"ContractData\",C128, \"PerCentNetLastTrade\",, \"T\")/100,\"\")","v":""},{"$f":"IFERROR(RANK($D128,$D$1:D$447)+COUNTIF($D$1:D128,D128)-1,0)","v":0},0,"S.US.EBAY",128,""]
[null,1,"S.US.ECL",{"$f":"IFERROR(RTD(\"cqg.rtd\", ,\"ContractData\",C129, \"PerCentNetLastTrade\",, \"T\")/100,\"\")","v":""},{"$f":"IFERROR(RANK($D129,$D$1:D$447)+COUNTIF($D$1:D129,D129)-1,0)","v":0},0,"S.US.ECL",129,""]
[null,{"$f":"IF(D130>=0,1,)","v":1},"S.US.EEFT",{"$f":"IFERROR(RTD(\"cqg.rtd\", ,\"ContractData\",C130, \"PerCentNetLastTrade\",, \"T\")/100,\"\")","v":""},{"$f":"IFERROR(RANK($D130,$D$1:D$447)+COUNTIF($D$1:D130,D130)-1,0)","v":0},{"$f":"IFERROR(E130,\"\")","v":0},{"$f":"C130","v":"S.US.EEFT"},130,{"$f":"IFERROR(VLOOKUP(H130,$F$1:$G$447,2,FALSE),\"\")","v":""}]
[null,1,"S.US.EGP",{"$f":"IFERROR(RTD(\"cqg.rtd\", ,\"ContractData\",C131, \"PerCentNetLastTrade\",, \"T\")/100,\"\")","v":""},{"$f":"IFERROR(RANK($D131,$D$1:D$447)+COUNTIF($D$1:D131,D131)-1,0)","v":0},0,"S.US.EGP",{"$f":"H130+1","v":131},""]
[null,1,"S.US.EHC",{"$f":"IFERROR(RTD(\"cqg.rtd\", ,\"ContractData\",C132, \"PerCentNetLastTrade\",, \"T\")/100,\"\")","v":""},{"$f":"IFERROR(RANK($D132,$D$1:D$447)+COUNTIF($D$1:D132,D132)-1,0)","v":0},0,"S.US.EHC",132,""]
[null,1,"S.US.ELF",{"$f":"IFERROR(RTD(\"cqg.rtd\", ,\"ContractData\",C133, \"PerCentNetLastTrade\",, \"T\")/100,\"\")","v":""},{"$f":"IFERROR(RANK($D133,$D$1:D$447)+COUNTIF($D$1:D133,D133)-1,0)","v":0},0,"S.US.ELF",133,""]
[null,1,"S.US.ELS",{"$f":"IFERROR(RTD(\"cqg.rtd\", ,\"ContractData\",C134, \"PerCentNetLastTrade\",, \"T\")/100,\"\")","v":""},{"$f":"IFERROR(RANK($D134,$D$1:D$447)+COUNTIF($D$1:D134,D134)-1,0)","v":0},0,"S.US.ELS",134,""]
[null,1,"S.US.EME",{"$f":"IFERROR(RTD(\"cqg.rtd\", ,\"ContractData\",C135, \"PerCentNetLastTrade\",, \"T\")/100,\"\")","v":""},{"$f":"IFERROR(RANK($D135,$D$1:D$447)+COUNTIF($D$1:D135,D135)-1,0)","v":0},0,"S.US.EME",135,""]
[null,1,"S.US.EMR",{"$f":"IFERROR(RTD(\"cqg.rtd\", ,\"ContractData\",C136, \"PerCentNetLastTrade\",, \"T\")/100,\"\")","v":""},{"$f":"IFERROR(RANK($D136,$D$1:D$447)+COUNTIF($D$1:D136,D136)-1,0)","v":0},0,"S.US.EMR",136,""]
[null,1,"S.US.ENSG",{"$f":"IFERROR(RTD(\"cqg.rtd\", ,\"ContractData\",C137, \"PerCentNetLastTrade\",, \"T\")/100,\"\")","v":""},{"$f":"IFERROR(RANK($D137,$D$1:D$447)+COUNTIF($D$1:D137,D137)-1,0)","v":0},0,"S.US.ENSG",137,""]
[null,1,"S.US.ENTG",{"$f":"IFERROR(RTD(\"cqg.rtd\", ,\"ContractData\",C138, \"PerCentNetLastTrade\",, \"T\")/100,\"\")","v":""},{"$f":"IFERROR(RANK($D138,$D$1:D$447)+COUNTIF($D$1:D138,D138)-1,0)","v":0},0,"S.US.ENTG",138,""]
[null,1,"S.US.EQH",{"$f":"IFERROR(RTD(\"cqg.rtd\", ,\"ContractData\",C139, \"PerCentNetLastTrade\",, \"T\")/100,\"\")","v":""},{"$f":"IFERROR(RANK($D139,$D$1:D$447)+COUNTIF($D$1:D139,D139)-1,0)","v":0},0,"S.US.EQH",139,""]
[null,1,"S.US.EQIX",{"$f":"IFERROR(RTD(\"cqg.rtd\", ,\"ContractData\",C140, \"PerCentNetLastTrade\",, \"T\")/100,\"\")","v":""},{"$f":"IFERROR(RANK($D140,$D$1:D$447)+COUNTIF($D$1:D140,D140)-1,0)","v":0},0,"S.US.EQIX",140,""]
[null,1,"S.US.ERIE",{"$f":"IFERROR(RTD(\"cqg.rtd\", ,\"ContractData\",C141, \"PerCentNetLastTrade\",, \"T\")/100,\"\")","v":""},{"$f":"IFERROR(RANK($D141,$D$1:D$447)+COUNTIF($D$1:D141,D141)-1,0)","v":0},0,"S.US.ERIE",141,""]
[null,1,"S.US.ESAB",{"$f":"IFERROR(RTD(\"cqg.rtd\", ,\"ContractData\",C142, \"PerCentNetLastTrade\",, \"T\")/100,\"\")","v":""},{"$f":"IFERROR(RANK($D142,$D$1:D$447)+COUNTIF($D$1:D142,D142)-1,0)","v":0},0,"S.US.ESAB",142,""]
[null,1,"S.US.ESS",{"$f":"IFERROR(RTD(\"cqg.rtd\", ,\"ContractData\",C143, \"PerCentNetLastTrade\",, \"T\")/100,\"\")","v":""},{"$f":"IFERROR(RANK($D143,$D$1:D$447)+COUNTIF($D$1:D143,D143)-1,0)","v":0},0,"S.US.ESS",143,""]
[null,1,"S.US.ETN",{"$f":"IFERROR(RTD(\"cqg.rtd\", ,\"ContractData\",C144, \"PerCentNetLastTrade\",, \"T\")/100,\"\")","v":""},{"$f":"IFERROR(RANK($D144,$D$1:D$447)+COUNTIF($D$1:D144,D144)-1,0)","v":0},0,"S.US.ETN",144,""]
[null,1,"S.US.EVR",{"$f":"IFERROR(RTD(\"cqg.rtd\", ,\"ContractData\",C145, \"PerCentNetLastTrade\",, \"T\")/100,\"\")","v":""},{"$f":"IFERROR(RANK($D145,$D$1:D$447)+COUNTIF($D$1:D145,D145)-1,0)","v":0},0,"S.US.EVR",145,""]
[null,1,"S.US.EWBC",{"$f":"IFERROR(RTD(\"cqg.rtd\", ,\"ContractData\",C146, \"PerCentNetLastTrade\",, \"T\")/100,\"\")","v":""},{"$f":"IFERROR(RANK($D146,$D$1:D$447)+COUNTIF($D$1:D146,D146)-1,0)","v":0},0,"S.US.EWBC",146,""]
[null,1,"S.US.EXEL",{"$f":"IFERROR(RTD(\"cqg.rtd\", ,\"ContractData\",C147, \"PerCentNetLastTrade\",, \"T\")/100,\"\")","v":""},{"$f":"IFERROR(RANK($D147,$D$1:D$447)+COUNTIF($D$1:D147,D147)-1,0)","v":0},0,"S.US.EXEL",147,""]
[null,1,"S.US.EXLS",{"$f":"IFERROR(RTD(\"cqg.rtd\", ,\"ContractData\",C148, \"PerCentNetLastTrade\",, \"T\")/100,\"\")","v":""},{"$f":"IFERROR(RANK($D148,$D$1:D$447)+COUNTIF($D$1:D148,D148)-1,0)","v":0},0,"S.US.EXLS",148,""]
[null,1,"S.US.EXP",{"$f":"IFERROR(RTD(\"cqg.rtd\", ,\"ContractData\",C149, \"PerCentNetLastTrade\",, \"T\")/100,\"\")","v":""},{"$f":"IFERROR(RANK($D149,$D$1:D$447)+COUNTIF($D$1:D149,D149)-1,0)","v":0},0,"S.US.EXP",149,""]
[null,1,"S.US.EXPE",{"$f":"IFERROR(RTD(\"cqg.rtd\", ,\"ContractData\",C150, \"PerCentNetLastTrade\",, \"T\")/100,\"\")","v":""},{"$f":"IFERROR(RANK($D150,$D$1:D$447)+COUNTIF($D$1:D150,D150)-1,0)","v":0},0,"S.US.EXPE",150,""]
[null,1,"S.US.EXPO",{"$f":"IFERROR(RTD(\"cqg.rtd\", ,\"ContractData\",C151, \"PerCentNetLastTrade\",, \"T\")/100,\"\")","v":""},{"$f":"IFERROR(RANK($D151,$D$1:D$447)+COUNTIF($D$1:D151,D151)-1,0)","v":0},0,"S.US.EXPO",151,""]
[null,1,"S.US.EXR",{"$f":"IFERROR(RTD(\"cqg.rtd\", ,\"ContractData\",C152, \"PerCentNetLastTrade\",, \"T\")/100,\"\")","v":""},{"$f":"IFERROR(RANK($D152,$D$1:D$447)+COUNTIF($D$1:D152,D152)-1,0)","v":0},0,"S.US.EXR",152,""]
[null,1,"S.US.FAST",{"$f":"IFERROR(RTD(\"cqg.rtd\", ,\"ContractData\",C153, \"PerCentNetLastTrade\",, \"T\")/100,\"\")","v":""},{"$f":"IFERROR(RANK($D153,$D$1:D$447)+COUNTIF($D$1:D153,D153)-1,0)","v":0},0,"S.US.FAST",153,""]
[null,1,"S.US.FCFS",{"$f":"IFERROR(RTD(\"cqg.rtd\", ,\"ContractData\",C154, \"PerCentNetLastTrade\",, \"T\")/100,\"\")","v":""},{"$f":"IFERROR(RANK($D154,$D$1:D$447)+COUNTIF($D$1:D154,D154)-1,0)","v":0},0,"S.US.FCFS",154,""]
[null,1,"S.US.FDS",{"$f":"IFERROR(RTD(\"cqg.rtd\", ,\"ContractData\",C155, \"PerCentNetLastTrade\",, \"T\")/100,\"\")","v":""},{"$f":"IFERROR(RANK($D155,$D$1:D$447)+COUNTIF($D$1:D155,D155)-1,0)","v":0},0,"S.US.FDS",155,""]
[null,1,"S.US.FFIN",{"$f":"IFERROR(RTD(\"cqg.rtd\", ,\"ContractData\",C156, \"PerCentNetLastTrade\",, \"T\")/100,\"\")","v":""},{"$f":"IFERROR(RANK($D156,$D$1:D$447)+COUNTIF($D$1:D156,D156)-1,0)","v":0},0,"S.US.FFIN",156,""]
[null,1,"S.US.FFIV",{"$f":"IFERROR(RTD(\"cqg.rtd\", ,\"ContractData\",C157, \"PerCentNetLastTrade\",, \"T\")/100,\"\")","v":""},{"$f":"IFERROR(RANK($D157,$D$1:D$447)+COUNTIF($D$1:D157,D157)-1,0)","v":0},0,"S.US.FFIV",157,""]
[null,1,"S.US.FHI",{"$f":"IFERROR(RTD(\"cqg.rtd\", ,\"ContractData\",C158, \"PerCentNetLastTrade\",, \"T\")/100,\"\")","v":""},{"$f":"IFERROR(RANK($D158,$D$1:D$447)+COUNTIF($D$1:D158,D158)-1,0)","v":0},0,"S.US.FHI",158,""]
[null,1,"S.US.FI",{"$f":"IFERROR(RTD(\"cqg.rtd\", ,\"ContractData\",C159, \"PerCentNetLastTrade\",, \"T\")/100,\"\")","v":""},{"$f":"IFERROR(RANK($D159,$D$1:D$447)+COUNTIF($D$1:D159,D159)-1,0)","v":0},0,"S.US.FI",159,""]
[null,1,"S.US.FICO",{"$f":"IFERROR(RTD(\"cqg.rtd\", ,\"ContractData\",C160, \"PerCentNetLastTrade\",, \"T\")/100,\"\")","v":""},{"$f":"IFERROR(RANK($D160,$D$1:D$447)+COUNTIF($D$1:D160,D160)-1,0)","v":0},0,"S.US.FICO",160,""]
[null,1,"S.US.FIX",{"$f":"IFERROR(RTD(\"cqg.rtd\", ,\"ContractData\",C161, \"PerCentNetLastTrade\",, \"T\")/100,\"\")","v":""},{"$f":"IFERROR(RANK($D161,$D$1:D$447)+COUNTIF($D$1:D161,D161)-1,0)","v":0},0,"S.US.FIX",161,""]
[null,1,"S.US.FLS",{"$f":"IFERROR(RTD(\"cqg.rtd\", ,\"ContractData\",C162, \"PerCentNetLastTrade\",, \"T\")/100,\"\")","v":""},{"$f":"IFERROR(RANK($D162,$D$1:D$447)+COUNTIF($D$1:D162,D162)-1,0)","v":0},0,"S.US.FLS",162,""]
[null,1,"S.US.FN",{"$f":"IFERROR(RTD(\"cqg.rtd\", ,\"ContractData\",C163, \"PerCentNetLastTrade\",, \"T\")/100,\"\")","v":""},{"$f":"IFERROR(RANK($D163,$D$1:D$447)+COUNTIF($D$1:D163,D163)-1,0)","v":0},0,"S.US.FN",163,""]
[null,1,"S.US.FND",{"$f":"IFERROR(RTD(\"cqg.rtd\", ,\"ContractData\",C164, \"PerCentNetLastTrade\",, \"T\")/100,\"\")","v":""},{"$f":"IFERROR(RANK($D164,$D$1:D$447)+COUNTIF($D$1:D164,D164)-1,0)","v":0},0,"S.US.FND",164,""]
[null,1,"S.US.FOUR",{"$f":"IFERROR(RTD(\"cqg.rtd\", ,\"ContractData\",C165, \"PerCentNetLastTrade\",, \"T\")/100,\"\")","v":""},{"$f":"IFERROR(RANK($D165,$D$1:D$447)+COUNTIF($D$1:D165,D165)-1,0)","v":0},0,"S.US.FOUR",165,""]
[null,1,"S.US.FR",{"$f":"IFERROR(RTD(\"cqg.rtd\", ,\"ContractData\",C166, \"PerCentNetLastTrade\",, \"T\")/100,\"\")","v":""},{"$f":"IFERROR(RANK($D166,$D$1:D$447)+COUNTIF($D$1:D166,D166)-1,0)","v":0},0,"S.US.FR",166,""]
[null,1,"S.US.FSLR",{"$f":"IFERROR(RTD(\"cqg.rtd\", ,\"ContractData\",C167, \"PerCentNetLastTrade\",, \"T\")/100,\"\")","v":""},{"$f":"IFERROR(RANK($D167,$D$1:D$447)+COUNTIF($D$1:D167,D167)-1,0)","v":0},0,"S.US.FSLR",167,""]
[null,1,"S.US.FTNT",{"$f":"IFERROR(RTD(\"cqg.rtd\", ,\"ContractData\",C168, \"PerCentNetLastTrade\",, \"T\")/100,\"\")","v":""},{"$f":"IFERROR(RANK($D168,$D$1:D$447)+COUNTIF($D$1:D168,D168)-1,0)","v":0},0,"S.US.FTNT",168,""]
[null,1,"S.US.G",{"$f":"IFERROR(RTD(\"cqg.rtd\", ,\"ContractData\",C169, \"PerCentNetLastTrade\",, \"T\")/100,\"\")","v":""},{"$f":"IFERROR(RANK($D169,$D$1:D$447)+COUNTIF($D$1:D169,D169)-1,0)","v":0},0,"S.US.G",169,""]
[null,1,"S.US.GATX",{"$f":"IFERROR(RTD(\"cqg.rtd\", ,\"ContractData\",C170, \"PerCentNetLastTrade\",, \"T\")/100,\"\")","v":""},{"$f":"IFERROR(RANK($D170,$D$1:D$447)+COUNTIF($D$1:D170,D170)-1,0)","v":0},0,"S.US.GATX",170,""]
[null,1,"S.US.GBCI",{"$f":"IFERROR(RTD(\"cqg.rtd\", ,\"ContractData\",C171, \"PerCentNetLastTrade\",, \"T\")/100,\"\")","v":""},{"$f":"IFERROR(RANK($D171,$D$1:D$447)+COUNTIF($D$1:D171,D171)-1,0)","v":0},0,"S.US.GBCI",171,""]
[null,1,"S.US.GDDY",{"$f":"IFERROR(RTD(\"cqg.rtd\", ,\"ContractData\",C172, \"PerCentNetLastTrade\",, \"T\")/100,\"\")","v":""},{"$f":"IFERROR(RANK($D172,$D$1:D$447)+COUNTIF($D$1:D172,D172)-1,0)","v":0},0,"S.US.GDDY",172,""]
[null,1,"S.US.GE",{"$f":"IFERROR(RTD(\"cqg.rtd\", ,\"ContractData\",C173, \"PerCentNetLastTrade\",, \"T\")/100,\"\")","v":""},{"$f":"IFERROR(RANK($D173,$D$1:D$447)+COUNTIF($D$1:D173,D173)-1,0)","v":0},0,"S.US.GE",173,""]
[null,1,"S.US.GEN",{"$f":"IFERROR(RTD(\"cqg.rtd\", ,\"ContractData\",C174, \"PerCentNetLastTrade\",, \"T\")/100,\"\")","v":""},{"$f":"IFERROR(RANK($D174,$D$1:D$447)+COUNTIF($D$1:D174,D174)-1,0)","v":0},0,"S.US.GEN",174,""]
[null,1,"S.US.GEV",{"$f":"IFERROR(RTD(\"cqg.rtd\", ,\"ContractData\",C175, \"PerCentNetLastTrade\",, \"T\")/100,\"\")","v":""},{"$f":"IFERROR(RANK($D175,$D$1:D$447)+COUNTIF($D$1:D175,D175)-1,0)","v":0},0,"S.US.GEV",175,""]
[null,1,"S.US.GGG",{"$f":"IFERROR(RTD(\"cqg.rtd\", ,\"ContractData\",C176, \"PerCentNetLastTrade\",, \"T\")/100,\"\")","v":""},{"$f":"IFERROR(RANK($D176,$D$1:D$447)+COUNTIF($D$1:D176,D176)-1,0)","v":0},0,"S.US.GGG",176,""]
[null,1,"S.US.GLPI",{"$f":"IFERROR(RTD(\"cqg.rtd\", ,\"ContractData\",C177, \"PerCentNetLastTrade\",, \"T\")/100,\"\")","v":""},{"$f":"IFERROR(RANK($D177,$D$1:D$447)+COUNTIF($D$1:D177,D177)-1,0)","v":0},0,"S.US.GLPI",177,""]
[null,1,"S.US.GME",{"$f":"IFERROR(RTD(\"cqg.rtd\", ,\"ContractData\",C178, \"PerCentNetLastTrade\",, \"T\")/100,\"\")","v":""},{"$f":"IFERROR(RANK($D178,$D$1:D$447)+COUNTIF($D$1:D178,D178)-1,0)","v":0},0,"S.US.GME",178,""]
[null,1,"S.US.GMED",{"$f":"IFERROR(RTD(\"cqg.rtd\", ,\"ContractData\",C179, \"PerCentNetLastTrade\",, \"T\")/100,\"\")","v":""},{"$f":"IFERROR(RANK($D179,$D$1:D$447)+COUNTIF($D$1:D179,D179)-1,0)","v":0},0,"S.US.GMED",179,""]
[null,1,"S.US.GNRC",{"$f":"IFERROR(RTD(\"cqg.rtd\", ,\"ContractData\",C180, \"PerCentNetLastTrade\",, \"T\")/100,\"\")","v":""},{"$f":"IFERROR(RANK($D180,$D$1:D$447)+COUNTIF($D$1:D180,D180)-1,0)","v":0},0,"S.US.GNRC",180,""]
[null,1,"S.US.GNTX",{"$f":"IFERROR(RTD(\"cqg.rtd\", ,\"ContractData\",C181, \"PerCentNetLastTrade\",, \"T\")/100,\"\")","v":""},{"$f":"IFERROR(RANK($D181,$D$1:D$447)+COUNTIF($D$1:D181,D181)-1,0)","v":0},0,"S.US.GNTX",181,""]
[null,1,"S.US.GOOG",{"$f":"IFERROR(RTD(\"cqg.rtd\", ,\"ContractData\",C182, \"PerCentNetLastTrade\",, \"T\")/100,\"\")","v":""},{"$f":"IFERROR(RANK($D182,$D$1:D$447)+COUNTIF($D$1:D182,D182)-1,0)","v":0},0,"S.US.GOOG",182,""]
[null,1,"S.US.GOOGL",{"$f":"IFERROR(RTD(\"cqg.rtd\", ,\"ContractData\",C183, \"PerCentNetLastTrade\",, \"T\")/100,\"\")","v":""},{"$f":"IFERROR(RANK($D183,$D$1:D$447)+COUNTIF($D$1:D183,D183)-1,0)","v":0},0,"S.US.GOOGL",183,""]
[null,1,"S.US.GPK",{"$f":"IFERROR(RTD(\"cqg.rtd\", ,\"ContractData\",C184, \"PerCentNetLastTrade\",, \"T\")/100,\"\")","v":""},{"$f":"IFERROR(RANK($D184,$D$1:D$447)+COUNTIF($D$1:D184,D184)-1,0)","v":0},0,"S.US.GPK",184,""]
[null,1,"S.US.GRMN",{"$f":"IFERROR(RTD(\"cqg.rtd\", ,\"ContractData\",C185, \"PerCentNetLastTrade\",, \"T\")/100,\"\")","v":""},{"$f":"IFERROR(RANK($D185,$D$1:D$447)+COUNTIF($D$1:D185,D185)-1,0)","v":0},0,"S.US.GRMN",185,""]
[null,1,"S.US.GTLS",{"$f":"IFERROR(RTD(\"cqg.rtd\", ,\"ContractData\",C186, \"PerCentNetLastTrade\",, \"T\")/100,\"\")","v":""},{"$f":"IFERROR(RANK($D186,$D$1:D$447)+COUNTIF($D$1:D186,D186)-1,0)","v":0},0,"S.US.GTLS",186,""]
[null,1,"S.US.GWRE",{"$f":"IFERROR(RTD(\"cqg.rtd\", ,\"ContractData\",C187, \"PerCentNetLastTrade\",, \"T\")/100,\"\")","v":""},{"$f":"IFERROR(RANK($D187,$D$1:D$447)+COUNTIF($D$1:D187,D187)-1,0)","v":0},0,"S.US.GWRE",187,""]
[null,1,"S.US.GWW",{"$f":"IFERROR(RTD(\"cqg.rtd\", ,\"ContractData\",C188, \"PerCentNetLastTrade\",, \"T\")/100,\"\")","v":""},{"$f":"IFERROR(RANK($D188,$D$1:D$447)+COUNTIF($D$1:D188,D188)-1,0)","v":0},0,"S.US.GWW",188,""]
[null,1,"S.US.H",{"$f":"IFERROR(RTD(\"cqg.rtd\", ,\"ContractData\",C189, \"PerCentNetLastTrade\",, \"T\")/100,\"\")","v":""},{"$f":"IFERROR(RANK($D189,$D$1:D$447)+COUNTIF($D$1:D189,D189)-1,0)","v":0},0,"S.US.H",189,""]
[null,1,"S.US.HAE",{"$f":"IFERROR(RTD(\"cqg.rtd\", ,\"ContractData\",C190, \"PerCentNetLastTrade\",, \"T\")/100,\"\")","v":""},{"$f":"IFERROR(RANK($D190,$D$1:D$447)+COUNTIF($D$1:D190,D190)-1,0)","v":0},0,"S.US.HAE",190,""]
[null,1,"S.US.HALO",{"$f":"IFERROR(RTD(\"cqg.rtd\", ,\"ContractData\",C191, \"PerCentNetLastTrade\",, \"T\")/100,\"\")","v":""},{"$f":"IFERROR(RANK($D191,$D$1:D$447)+COUNTIF($D$1:D191,D191)-1,0)","v":0},0,"S.US.HALO",191,""]
[null,1,"S.US.HCA",{"$f":"IFERROR(RTD(\"cqg.rtd\", ,\"ContractData\",C192, \"PerCentNetLastTrade\",, \"T\")/100,\"\")","v":""},{"$f":"IFERROR(RANK($D192,$D$1:D$447)+COUNTIF($D$1:D192,D192)-1,0)","v":0},0,"S.US.HCA",192,""]
[null,1,"S.US.HD",{"$f":"IFERROR(RTD(\"cqg.rtd\", ,\"ContractData\",C193, \"PerCentNetLastTrade\",, \"T\")/100,\"\")","v":""},{"$f":"IFERROR(RANK($D193,$D$1:D$447)+COUNTIF($D$1:D193,D193)-1,0)","v":0},0,"S.US.HD",193,""]
[null,{"$f":"IF(D194>=0,1,)","v":1},"S.US.HES",{"$f":"IFERROR(RTD(\"cqg.rtd\", ,\"ContractData\",C194, \"PerCentNetLastTrade\",, \"T\")/100,\"\")","v":""},{"$f":"IFERROR(RANK($D194,$D$1:D$447)+COUNTIF($D$1:D194,D194)-1,0)","v":0},{"$f":"IFERROR(E194,\"\")","v":0},{"$f":"C194","v":"S.US.HES"},194,{"$f":"IFERROR(VLOOKUP(H194,$F$1:$G$447,2,FALSE),\"\")","v":""}]
[null,1,"S.US.HGV",{"$f":"IFERROR(RTD(\"cqg.rtd\", ,\"ContractData\",C195, \"PerCentNetLastTrade\",, \"T\")/100,\"\")","v":""},{"$f":"IFERROR(RANK($D195,$D$1:D$447)+COUNTIF($D$1:D195,D195)-1,0)","v":0},0,"S.US.HGV",{"$f":"H194+1","v":195},""]
[null,1,"S.US.HIG",{"$f":"IFERROR(RTD(\"cqg.rtd\", ,\"ContractData\",C196, \"PerCentNetLastTrade\",, \"T\")/100,\"\")","v":""},{"$f":"IFERROR(RANK($D196,$D$1:D$447)+COUNTIF($D$1:D196,D196)-1,0)","v":0},0,"S.US.HIG",196,""]
[null,1,"S.US.HLI",{"$f":"IFERROR(RTD(\"cqg.rtd\", ,\"ContractData\",C197, \"PerCentNetLastTrade\",, \"T\")/100,\"\")","v":""},{"$f":"IFERROR(RANK($D197,$D$1:D$447)+COUNTIF($D$1:D197,D197)-1,0)","v":0},0,"S.US.HLI",197,""]
[null,1,"S.US.HLNE",{"$f":"IFERROR(RTD(\"cqg.rtd\", ,\"ContractData\",C198, \"PerCentNetLastTrade\",, \"T\")/100,\"\")","v":""},{"$f":"IFERROR(RANK($D198,$D$1:D$447)+COUNTIF($D$1:D198,D198)-1,0)","v":0},0,"S.US.HLNE",198,""]
[null,1,"S.US.HLT",{"$f":"IFERROR(RTD(\"cqg.rtd\", ,\"ContractData\",C199, \"PerCentNetLastTrade\",, \"T\")/100,\"\")","v":""},{"$f":"IFERROR(RANK($D199,$D$1:D$447)+COUNTIF($D$1:D199,D199)-1,0)","v":0},0,"S.US.HLT",199,""]
[null,1,"S.US.HOMB",{"$f":"IFERROR(RTD(\"cqg.rtd\", ,\"ContractData\",C200, \"PerCentNetLastTrade\",, \"T\")/100,\"\")","v":""},{"$f":"IFERROR(RANK($D200,$D$1:D$447)+COUNTIF($D$1:D200,D200)-1,0)","v":0},0,"S.US.HOMB",200,""]
[null,1,"S.US.HQY",{"$f":"IFERROR(RTD(\"cqg.rtd\", ,\"ContractData\",C201, \"PerCentNetLastTrade\",, \"T\")/100,\"\")","v":""},{"$f":"IFERROR(RANK($D201,$D$1:D$447)+COUNTIF($D$1:D201,D201)-1,0)","v":0},0,"S.US.HQY",201,""]
[null,1,"S.US.HRB",{"$f":"IFERROR(RTD(\"cqg.rtd\", ,\"ContractData\",C202, \"PerCentNetLastTrade\",, \"T\")/100,\"\")","v":""},{"$f":"IFERROR(RANK($D202,$D$1:D$447)+COUNTIF($D$1:D202,D202)-1,0)","v":0},0,"S.US.HRB",202,""]
[null,1,"S.US.HST",{"$f":"IFERROR(RTD(\"cqg.rtd\", ,\"ContractData\",C203, \"PerCentNetLastTrade\",, \"T\")/100,\"\")","v":""},{"$f":"IFERROR(RANK($D203,$D$1:D$447)+COUNTIF($D$1:D203,D203)-1,0)","v":0},0,"S.US.HST",203,""]
[null,1,"S.US.HUBB",{"$f":"IFERROR(RTD(\"cqg.rtd\", ,\"ContractData\",C204, \"PerCentNetLastTrade\",, \"T\")/100,\"\")","v":""},{"$f":"IFERROR(RANK($D204,$D$1:D$447)+COUNTIF($D$1:D204,D204)-1,0)","v":0},0,"S.US.HUBB",204,""]
[null,1,"S.US.HWM",{"$f":"IFERROR(RTD(\"cqg.rtd\", ,\"ContractData\",C205, \"PerCentNetLastTrade\",, \"T\")/100,\"\")","v":""},{"$f":"IFERROR(RANK($D205,$D$1:D$447)+COUNTIF($D$1:D205,D205)-1,0)","v":0},0,"S.US.HWM",205,""]
[null,1,"S.US.HXL",{"$f":"IFERROR(RTD(\"cqg.rtd\", ,\"ContractData\",C206, \"PerCentNetLastTrade\",, \"T\")/100,\"\")","v":""},{"$f":"IFERROR(RANK($D206,$D$1:D$447)+COUNTIF($D$1:D206,D206)-1,0)","v":0},0,"S.US.HXL",206,""]
[null,1,"S.US.IBKR",{"$f":"IFERROR(RTD(\"cqg.rtd\", ,\"ContractData\",C207, \"PerCentNetLastTrade\",, \"T\")/100,\"\")","v":""},{"$f":"IFERROR(RANK($D207,$D$1:D$447)+COUNTIF($D$1:D207,D207)-1,0)","v":0},0,"S.US.IBKR",207,""]
[null,1,"S.US.IBM",{"$f":"IFERROR(RTD(\"cqg.rtd\", ,\"ContractData\",C208, \"PerCentNetLastTrade\",, \"T\")/100,\"\")","v":""},{"$f":"IFERROR(RANK($D208,$D$1:D$447)+COUNTIF($D$1:D208,D208)-1,0)","v":0},0,"S.US.IBM",208,""]
[null,1,"S.US.IBOC",{"$f":"IFERROR(RTD(\"cqg.rtd\", ,\"ContractData\",C209, \"PerCentNetLastTrade\",, \"T\")/100,\"\")","v":""},{"$f":"IFERROR(RANK($D209,$D$1:D$447)+COUNTIF($D$1:D209,D209)-1,0)","v":0},0,"S.US.IBOC",209,""]
[null,1,"S.US.ICE",{"$f":"IFERROR(RTD(\"cqg.rtd\", ,\"ContractData\",C210, \"PerCentNetLastTrade\",, \"T\")/100,\"\")","v":""},{"$f":"IFERROR(RANK($D210,$D$1:D$447)+COUNTIF($D$1:D210,D210)-1,0)","v":0},0,"S.US.ICE",210,""]
[null,1,"S.US.IDA",{"$f":"IFERROR(RTD(\"cqg.rtd\", ,\"ContractData\",C211, \"PerCentNetLastTrade\",, \"T\")/100,\"\")","v":""},{"$f":"IFERROR(RANK($D211,$D$1:D$447)+COUNTIF($D$1:D211,D211)-1,0)","v":0},0,"S.US.IDA",211,""]
[null,1,"S.US.ILMN",{"$f":"IFERROR(RTD(\"cqg.rtd\", ,\"ContractData\",C212, \"PerCentNetLastTrade\",, \"T\")/100,\"\")","v":""},{"$f":"IFERROR(RANK($D212,$D$1:D$447)+COUNTIF($D$1:D212,D212)-1,0)","v":0},0,"S.US.ILMN",212,""]
[null,1,"S.US.INCY",{"$f":"IFERROR(RTD(\"cqg.rtd\", ,\"ContractData\",C213, \"PerCentNetLastTrade\",, \"T\")/100,\"\")","v":""},{"$f":"IFERROR(RANK($D213,$D$1:D$447)+COUNTIF($D$1:D213,D213)-1,0)","v":0},0,"S.US.INCY",213,""]
[null,1,"S.US.INGR",{"$f":"IFERROR(RTD(\"cqg.rtd\", ,\"ContractData\",C214, \"PerCentNetLastTrade\",, \"T\")/100,\"\")","v":""},{"$f":"IFERROR(RANK($D214,$D$1:D$447)+COUNTIF($D$1:D214,D214)-1,0)","v":0},0,"S.US.INGR",214,""]
[null,1,"S.US.INTU",{"$f":"IFERROR(RTD(\"cqg.rtd\", ,\"ContractData\",C215, \"PerCentNetLastTrade\",, \"T\")/100,\"\")","v":""},{"$f":"IFERROR(RANK($D215,$D$1:D$447)+COUNTIF($D$1:D215,D215)-1,0)","v":0},0,"S.US.INTU",215,""]
[null,1,"S.US.IR",{"$f":"IFERROR(RTD(\"cqg.rtd\", ,\"ContractData\",C216, \"PerCentNetLastTrade\",, \"T\")/100,\"\")","v":""},{"$f":"IFERROR(RANK($D216,$D$1:D$447)+COUNTIF($D$1:D216,D216)-1,0)","v":0},0,"S.US.IR",216,""]
[null,1,"S.US.IRDM",{"$f":"IFERROR(RTD(\"cqg.rtd\", ,\"ContractData\",C217, \"PerCentNetLastTrade\",, \"T\")/100,\"\")","v":""},{"$f":"IFERROR(RANK($D217,$D$1:D$447)+COUNTIF($D$1:D217,D217)-1,0)","v":0},0,"S.US.IRDM",217,""]
[null,1,"S.US.IRM",{"$f":"IFERROR(RTD(\"cqg.rtd\", ,\"ContractData\",C218, \"PerCentNetLastTrade\",, \"T\")/100,\"\")","v":""},{"$f":"IFERROR(RANK($D218,$D$1:D$447)+COUNTIF($D$1:D218,D218)-1,0)","v":0},0,"S.US.IRM",218,""]
[null,1,"S.US.IRT",{"$f":"IFERROR(RTD(\"cqg.rtd\", ,\"ContractData\",C219, \"PerCentNetLastTrade\",, \"T\")/100,\"\")","v":""},{"$f":"IFERROR(RANK($D219,$D$1:D$447)+COUNTIF($D$1:D219,D219)-1,0)","v":0},0,"S.US.IRT",219,""]
[null,1,"S.US.ISRG",{"$f":"IFERROR(RTD(\"cqg.rtd\", ,\"ContractData\",C220, \"PerCentNetLastTrade\",, \"T\")/100,\"\")","v":""},{"$f":"IFERROR(RANK($D220,$D$1:D$447)+COUNTIF($D$1:D220,D220)-1,0)","v":0},0,"S.US.ISRG",220,""]
[null,1,"S.US.IT",{"$f":"IFERROR(RTD(\"cqg.rtd\", ,\"ContractData\",C221, \"PerCentNetLastTrade\",, \"T\")/100,\"\")","v":""},{"$f":"IFERROR(RANK($D221,$D$1:D$447)+COUNTIF($D$1:D221,D221)-1,0)","v":0},0,"S.US.IT",221,""]
[null,1,"S.US.ITT",{"$f":"IFERROR(RTD(\"cqg.rtd\", ,\"ContractData\",C222, \"PerCentNetLastTrade\",, \"T\")/100,\"\")","v":""},{"$f":"IFERROR(RANK($D222,$D$1:D$447)+COUNTIF($D$1:D222,D222)-1,0)","v":0},0,"S.US.ITT",222,""]
[null,1,"S.US.ITW",{"$f":"IFERROR(RTD(\"cqg.rtd\", ,\"ContractData\",C223, \"PerCentNetLastTrade\",, \"T\")/100,\"\")","v":""},{"$f":"IFERROR(RANK($D223,$D$1:D$447)+COUNTIF($D$1:D223,D223)-1,0)","v":0},0,"S.US.ITW",223,""]
[null,1,"S.US.JEF",{"$f":"IFERROR(RTD(\"cqg.rtd\", ,\"ContractData\",C224, \"PerCentNetLastTrade\",, \"T\")/100,\"\")","v":""},{"$f":"IFERROR(RANK($D224,$D$1:D$447)+COUNTIF($D$1:D224,D224)-1,0)","v":0},0,"S.US.JEF",224,""]
[null,1,"S.US.JHG",{"$f":"IFERROR(RTD(\"cqg.rtd\", ,\"ContractData\",C225, \"PerCentNetLastTrade\",, \"T\")/100,\"\")","v":""},{"$f":"IFERROR(RANK($D225,$D$1:D$447)+COUNTIF($D$1:D225,D225)-1,0)","v":0},0,"S.US.JHG",225,""]
[null,1,"S.US.JKHY",{"$f":"IFERROR(RTD(\"cqg.rtd\", ,\"ContractData\",C226, \"PerCentNetLastTrade\",, \"T\")/100,\"\")","v":""},{"$f":"IFERROR(RANK($D226,$D$1:D$447)+COUNTIF($D$1:D226,D226)-1,0)","v":0},0,"S.US.JKHY",226,""]
[null,1,"S.US.JLL",{"$f":"IFERROR(RTD(\"cqg.rtd\", ,\"ContractData\",C227, \"PerCentNetLastTrade\",, \"T\")/100,\"\")","v":""},{"$f":"IFERROR(RANK($D227,$D$1:D$447)+COUNTIF($D$1:D227,D227)-1,0)","v":0},0,"S.US.JLL",227,""]
[null,1,"S.US.JPM",{"$f":"IFERROR(RTD(\"cqg.rtd\", ,\"ContractData\",C228, \"PerCentNetLastTrade\",, \"T\")/100,\"\")","v":""},{"$f":"IFERROR(RANK($D228,$D$1:D$447)+COUNTIF($D$1:D228,D228)-1,0)","v":0},0,"S.US.JPM",228,""]
[null,1,"S.US.KBH",{"$f":"IFERROR(RTD(\"cqg.rtd\", ,\"ContractData\",C229, \"PerCentNetLastTrade\",, \"T\")/100,\"\")","v":""},{"$f":"IFERROR(RANK($D229,$D$1:D$447)+COUNTIF($D$1:D229,D229)-1,0)","v":0},0,"S.US.KBH",229,""]
[null,1,"S.US.KBR",{"$f":"IFERROR(RTD(\"cqg.rtd\", ,\"ContractData\",C230, \"PerCentNetLastTrade\",, \"T\")/100,\"\")","v":""},{"$f":"IFERROR(RANK($D230,$D$1:D$447)+COUNTIF($D$1:D230,D230)-1,0)","v":0},0,"S.US.KBR",230,""]
[null,1,"S.US.KD",{"$f":"IFERROR(RTD(\"cqg.rtd\", ,\"ContractData\",C231, \"PerCentNetLastTrade\",, \"T\")/100,\"\")","v":""},{"$f":"IFERROR(RANK($D231,$D$1:D$447)+COUNTIF($D$1:D231,D231)-1,0)","v":0},0,"S.US.KD",231,""]
[null,1,"S.US.KEX",{"$f":"IFERROR(RTD(\"cqg.rtd\", ,\"ContractData\",C232, \"PerCentNetLastTrade\",, \"T\")/100,\"\")","v":""},{"$f":"IFERROR(RANK($D232,$D$1:D$447)+COUNTIF($D$1:D232,D232)-1,0)","v":0},0,"S.US.KEX",232,""]
[null,1,"S.US.KKR",{"$f":"IFERROR(RTD(\"cqg.rtd\", ,\"ContractData\",C233, \"PerCentNetLastTrade\",, \"T\")/100,\"\")","v":""},{"$f":"IFERROR(RANK($D233,$D$1:D$447)+COUNTIF($D$1:D233,D233)-1,0)","v":0},0,"S.US.KKR",233,""]
[null,1,"S.US.KLAC",{"$f":"IFERROR(RTD(\"cqg.rtd\", ,\"ContractData\",C234, \"PerCentNetLastTrade\",, \"T\")/100,\"\")","v":""},{"$f":"IFERROR(RANK($D234,$D$1:D$447)+COUNTIF($D$1:D234,D234)-1,0)","v":0},0,"S.US.KLAC",234,""]
[null,1,"S.US.KNF",{"$f":"IFERROR(RTD(\"cqg.rtd\", ,\"ContractData\",C235, \"PerCentNetLastTrade\",, \"T\")/100,\"\")","v":""},{"$f":"IFERROR(RANK($D235,$D$1:D$447)+COUNTIF($D$1:D235,D235)-1,0)","v":0},0,"S.US.KNF",235,""]
[null,1,"S.US.KNSL",{"$f":"IFERROR(RTD(\"cqg.rtd\", ,\"ContractData\",C236, \"PerCentNetLastTrade\",, \"T\")/100,\"\")","v":""},{"$f":"IFERROR(RANK($D236,$D$1:D$447)+COUNTIF($D$1:D236,D236)-1,0)","v":0},0,"S.US.KNSL",236,""]
[null,1,"S.US.KRG",{"$f":"IFERROR(RTD(\"cqg.rtd\", ,\"ContractData\",C237, \"PerCentNetLastTrade\",, \"T\")/100,\"\")","v":""},{"$f":"IFERROR(RANK($D237,$D$1:D$447)+COUNTIF($D$1:D237,D237)-1,0)","v":0},0,"S.US.KRG",237,""]
[null,1,"S.US.LAMR",{"$f":"IFERROR(RTD(\"cqg.rtd\", ,\"ContractData\",C238, \"PerCentNetLastTrade\",, \"T\")/100,\"\")","v":""},{"$f":"IFERROR(RANK($D238,$D$1:D$447)+COUNTIF($D$1:D238,D238)-1,0)","v":0},0,"S.US.LAMR",238,""]
[null,1,"S.US.LANC",{"$f":"IFERROR(RTD(\"cqg.rtd\", ,\"ContractData\",C239, \"PerCentNetLastTrade\",, \"T\")/100,\"\")","v":""},{"$f":"IFERROR(RANK($D239,$D$1:D$447)+COUNTIF($D$1:D239,D239)-1,0)","v":0},0,"S.US.LANC",239,""]
[null,1,"S.US.LDOS",{"$f":"IFERROR(RTD(\"cqg.rtd\", ,\"ContractData\",C240, \"PerCentNetLastTrade\",, \"T\")/100,\"\")","v":""},{"$f":"IFERROR(RANK($D240,$D$1:D$447)+COUNTIF($D$1:D240,D240)-1,0)","v":0},0,"S.US.LDOS",240,""]
[null,1,"S.US.LECO",{"$f":"IFERROR(RTD(\"cqg.rtd\", ,\"ContractData\",C241, \"PerCentNetLastTrade\",, \"T\")/100,\"\")","v":""},{"$f":"IFERROR(RANK($D241,$D$1:D$447)+COUNTIF($D$1:D241,D241)-1,0)","v":0},0,"S.US.LECO",241,""]
[null,1,"S.US.LII",{"$f":"IFERROR(RTD(\"cqg.rtd\", ,\"ContractData\",C242, \"PerCentNetLastTrade\",, \"T\")/100,\"\")","v":""},{"$f":"IFERROR(RANK($D242,$D$1:D$447)+COUNTIF($D$1:D242,D242)-1,0)","v":0},0,"S.US.LII",242,""]
[null,1,"S.US.LITE",{"$f":"IFERROR(RTD(\"cqg.rtd\", ,\"ContractData\",C243, \"PerCentNetLastTrade\",, \"T\")/100,\"\")","v":""},{"$f":"IFERROR(RANK($D243,$D$1:D$447)+COUNTIF($D$1:D243,D243)-1,0)","v":0},0,"S.US.LITE",243,""]
[null,1,"S.US.LIVN",{"$f":"IFERROR(RTD(\"cqg.rtd\", ,\"ContractData\",C244, \"PerCentNetLastTrade\",, \"T\")/100,\"\")","v":""},{"$f":"IFERROR(RANK($D244,$D$1:D$447)+COUNTIF($D$1:D244,D244)-1,0)","v":0},0,"S.US.LIVN",244,""]
[null,1,"S.US.LLY",{"$f":"IFERROR(RTD(\"cqg.rtd\", ,\"ContractData\",C245, \"PerCentNetLastTrade\",, \"T\")/100,\"\")","v":""},{"$f":"IFERROR(RANK($D245,$D$1:D$447)+COUNTIF($D$1:D245,D245)-1,0)","v":0},0,"S.US.LLY",245,""]
[null,1,"S.US.LNTH",{"$f":"IFERROR(RTD(\"cqg.rtd\", ,\"ContractData\",C246, \"PerCentNetLastTrade\",, \"T\")/100,\"\")","v":""},{"$f":"IFERROR(RANK($D246,$D$1:D$447)+COUNTIF($D$1:D246,D246)-1,0)","v":0},0,"S.US.LNTH",246,""]
[null,1,"S.US.LNW",{"$f":"IFERROR(RTD(\"cqg.rtd\", ,\"ContractData\",C247, \"PerCentNetLastTrade\",, \"T\")/100,\"\")","v":""},{"$f":"IFERROR(RANK($D247,$D$1:D$447)+COUNTIF($D$1:D247,D247)-1,0)","v":0},0,"S.US.LNW",247,""]
[null,1,"S.US.LOPE",{"$f":"IFERROR(RTD(\"cqg.rtd\", ,\"ContractData\",C248, \"PerCentNetLastTrade\",, \"T\")/100,\"\")","v":""},{"$f":"IFERROR(RANK($D248,$D$1:D$447)+COUNTIF($D$1:D248,D248)-1,0)","v":0},0,"S.US.LOPE",248,""]
[null,1,"S.US.LPX",{"$f":"IFERROR(RTD(\"cqg.rtd\", ,\"ContractData\",C249, \"PerCentNetLastTrade\",, \"T\")/100,\"\")","v":""},{"$f":"IFERROR(RANK($D249,$D$1:D$447)+COUNTIF($D$1:D249,D249)-1,0)","v":0},0,"S.US.LPX",249,""]
[null,1,"S.US.LSCC",{"$f":"IFERROR(RTD(\"cqg.rtd\", ,\"ContractData\",C250, \"PerCentNetLastTrade\",, \"T\")/100,\"\")","v":""},{"$f":"IFERROR(RANK($D250,$D$1:D$447)+COUNTIF($D$1:D250,D250)-1,0)","v":0},0,"S.US.LSCC",250,""]
[null,1,"S.US.LULU",{"$f":"IFERROR(RTD(\"cqg.rtd\", ,\"ContractData\",C251, \"PerCentNetLastTrade\",, \"T\")/100,\"\")","v":""},{"$f":"IFERROR(RANK($D251,$D$1:D$447)+COUNTIF($D$1:D251,D251)-1,0)","v":0},0,"S.US.LULU",251,""]
[null,1,"S.US.LVS",{"$f":"IFERROR(RTD(\"cqg.rtd\", ,\"ContractData\",C252, \"PerCentNetLastTrade\",, \"T\")/100,\"\")","v":""},{"$f":"IFERROR(RANK($D252,$D$1:D$447)+COUNTIF($D$1:D252,D252)-1,0)","v":0},0,"S.US.LVS",252,""]
[null,1,"S.US.LYV",{"$f":"IFERROR(RTD(\"cqg.rtd\", ,\"ContractData\",C253, \"PerCentNetLastTrade\",, \"T\")/100,\"\")","v":""},{"$f":"IFERROR(RANK($D253,$D$1:D$447)+COUNTIF($D$1:D253,D253)-1,0)","v":0},0,"S.US.LYV",253,""]
[null,1,"S.US.MA",{"$f":"IFERROR(RTD(\"cqg.rtd\", ,\"ContractData\",C254, \"PerCentNetLastTrade\",, \"T\")/100,\"\")","v":""},{"$f":"IFERROR(RANK($D254,$D$1:D$447)+COUNTIF($D$1:D254,D254)-1,0)","v":0},0,"S.US.MA",254,""]
[null,1,"S.US.MAA",{"$f":"IFERROR(RTD(\"cqg.rtd\", ,\"ContractData\",C255, \"PerCentNetLastTrade\",, \"T\")/100,\"\")","v":""},{"$f":"IFERROR(RANK($D255,$D$1:D$447)+COUNTIF($D$1:D255,D255)-1,0)","v":0},0,"S.US.MAA",255,""]
[null,1,"S.US.MANH",{"$f":"IFERROR(RTD(\"cqg.rtd\", ,\"ContractData\",C256, \"PerCentNetLastTrade\",, \"T\")/100,\"\")","v":""},{"$f":"IFERROR(RANK($D256,$D$1:D$447)+COUNTIF($D$1:D256,D256)-1,0)","v":0},0,"S.US.MANH",256,""]
[null,1,"S.US.MAR",{"$f":"IFERROR(RTD(\"cqg.rtd\", ,\"ContractData\",C257, \"PerCentNetLastTrade\",, \"T\")/100,\"\")","v":""},{"$f":"IFERROR(RANK($D257,$D$1:D$447)+COUNTIF($D$1:D257,D257)-1,0)","v":0},0,"S.US.MAR",257,""]
[null,{"$f":"IF(D258>=0,1,)","v":1},"S.US.MAS",{"$f":"IFERROR(RTD(\"cqg.rtd\", ,\"ContractData\",C258, \"PerCentNetLastTrade\",, \"T\")/100,\"\")","v":""},{"$f":"IFERROR(RANK($D258,$D$1:D$447)+COUNTIF($D$1:D258,D258)-1,0)","v":0},{"$f":"IFERROR(E258,\"\")","v":0},{"$f":"C258","v":"S.US.MAS"},258,{"$f":"IFERROR(VLOOKUP(H258,$F$1:$G$447,2,FALSE),\"\")","v":""}]
[null,1,"S.US.MASI",{"$f":"IFERROR(RTD(\"cqg.rtd\", ,\"ContractData\",C259, \"PerCentNetLastTrade\",, \"T\")/100,\"\")","v":""},{"$f":"IFERROR(RANK($D259,$D$1:D$447)+COUNTIF($D$1:D259,D259)-1,0)","v":0},0,"S.US.MASI",{"$f":"H258+1","v":259},""]
[null,1,"S.US.MCO",{"$f":"IFERROR(RTD(\"cqg.rtd\", ,\"ContractData\",C260, \"PerCentNetLastTrade\",, \"T\")/100,\"\")","v":""},{"$f":"IFERROR(RANK($D260,$D$1:D$447)+COUNTIF($D$1:D260,D260)-1,0)","v":0},0,"S.US.MCO",260,""]
[null,1,"S.US.MEDP",{"$f":"IFERROR(RTD(\"cqg.rtd\", ,\"ContractData\",C261, \"PerCentNetLastTrade\",, \"T\")/100,\"\")","v":""},{"$f":"IFERROR(RANK($D261,$D$1:D$447)+COUNTIF($D$1:D261,D261)-1,0)","v":0},0,"S.US.MEDP",261,""]
[null,1,"S.US.META",{"$f":"IFERROR(RTD(\"cqg.rtd\", ,\"ContractData\",C262, \"PerCentNetLastTrade\",, \"T\")/100,\"\")","v":""},{"$f":"IFERROR(RANK($D262,$D$1:D$447)+COUNTIF($D$1:D262,D262)-1,0)","v":0},0,"S.US.META",262,""]
[null,1,"S.US.MKSI",{"$f":"IFERROR(RTD(\"cqg.rtd\", ,\"ContractData\",C263, \"PerCentNetLastTrade\",, \"T\")/100,\"\")","v":""},{"$f":"IFERROR(RANK($D263,$D$1:D$447)+COUNTIF($D$1:D263,D263)-1,0)","v":0},0,"S.US.MKSI",263,""]
[null,1,"S.US.MLI",{"$f":"IFERROR(RTD(\"cqg.rtd\", ,\"ContractData\",C264, \"PerCentNetLastTrade\",, \"T\")/100,\"\")","v":""},{"$f":"IFERROR(RANK($D264,$D$1:D$447)+COUNTIF($D$1:D264,D264)-1,0)","v":0},0,"S.US.MLI",264,""]
[null,1,"S.US.MLM",{"$f":"IFERROR(RTD(\"cqg.rtd\", ,\"ContractData\",C265, \"PerCentNetLastTrade\",, \"T\")/100,\"\")","v":""},{"$f":"IFERROR(RANK($D265,$D$1:D$447)+COUNTIF($D$1:D265,D265)-1,0)","v":0},0,"S.US.MLM",265,""]
[null,1,"S.US.MMC",{"$f":"IFERROR(RTD(\"cqg.rtd\", ,\"ContractData\",C266, \"PerCentNetLastTrade\",, \"T\")/100,\"\")","v":""},{"$f":"IFERROR(RANK($D266,$D$1:D$447)+COUNTIF($D$1:D266,D266)-1,0)","v":0},0,"S.US.MMC",266,""]
[null,1,"S.US.MNST",{"$f":"IFERROR(RTD(\"cqg.rtd\", ,\"ContractData\",C267, \"PerCentNetLastTrade\",, \"T\")/100,\"\")","v":""},{"$f":"IFERROR(RANK($D267,$D$1:D$447)+COUNTIF($D$1:D267,D267)-1,0)","v":0},0,"S.US.MNST",267,""]
[null,1,"S.US.MO",{"$f":"IFERROR(RTD(\"cqg.rtd\", ,\"ContractData\",C268, \"PerCentNetLastTrade\",, \"T\")/100,\"\")","v":""},{"$f":"IFERROR(RANK($D268,$D$1:D$447)+COUNTIF($D$1:D268,D268)-1,0)","v":0},0,"S.US.MO",268,""]
[null,1,"S.US.MORN",{"$f":"IFERROR(RTD(\"cqg.rtd\", ,\"ContractData\",C269, \"PerCentNetLastTrade\",, \"T\")/100,\"\")","v":""},{"$f":"IFERROR(RANK($D269,$D$1:D$447)+COUNTIF($D$1:D269,D269)-1,0)","v":0},0,"S.US.MORN",269,""]
[null,1,"S.US.MPWR",{"$f":"IFERROR(RTD(\"cqg.rtd\", ,\"ContractData\",C270, \"PerCentNetLastTrade\",, \"T\")/100,\"\")","v":""},{"$f":"IFERROR(RANK($D270,$D$1:D$447)+COUNTIF($D$1:D270,D270)-1,0)","v":0},0,"S.US.MPWR",270,""]
[null,1,"S.US.MS",{"$f":"IFERROR(RTD(\"cqg.rtd\", ,\"ContractData\",C271, \"PerCentNetLastTrade\",, \"T\")/100,\"\")","v":""},{"$f":"IFERROR(RANK($D271,$D$1:D$447)+COUNTIF($D$1:D271,D271)-1,0)","v":0},0,"S.US.MS",271,""]
[null,1,"S.US.MSA",{"$f":"IFERROR(RTD(\"cqg.rtd\", ,\"ContractData\",C272, \"PerCentNetLastTrade\",, \"T\")/100,\"\")","v":""},{"$f":"IFERROR(RANK($D272,$D$1:D$447)+COUNTIF($D$1:D272,D272)-1,0)","v":0},0,"S.US.MSA",272,""]
[null,1,"S.US.MSCI",{"$f":"IFERROR(RTD(\"cqg.rtd\", ,\"ContractData\",C273, \"PerCentNetLastTrade\",, \"T\")/100,\"\")","v":""},{"$f":"IFERROR(RANK($D273,$D$1:D$447)+COUNTIF($D$1:D273,D273)-1,0)","v":0},0,"S.US.MSCI",273,""]
[null,1,"S.US.MSFT",{"$f":"IFERROR(RTD(\"cqg.rtd\", ,\"ContractData\",C274, \"PerCentNetLastTrade\",, \"T\")/100,\"\")","v":""},{"$f":"IFERROR(RANK($D274,$D$1:D$447)+COUNTIF($D$1:D274,D274)-1,0)","v":0},0,"S.US.MSFT",274,""]
[null,1,"S.US.MSI",{"$f":"IFERROR(RTD(\"cqg.rtd\", ,\"ContractData\",C275, \"PerCentNetLastTrade\",, \"T\")/100,\"\")","v":""},{"$f":"IFERROR(RANK($D275,$D$1:D$447)+COUNTIF($D$1:D275,D275)-1,0)","v":0},0,"S.US.MSI",275,""]
[null,1,"S.US.MTD",{"$f":"IFERROR(RTD(\"cqg.rtd\", ,\"ContractData\",C276, \"PerCentNetLastTrade\",, \"T\")/100,\"\")","v":""},{"$f":"IFERROR(RANK($D276,$D$1:D$447)+COUNTIF($D$1:D276,D276)-1,0)","v":0},0,"S.US.MTD",276,""]
[null,1,"S.US.MTDR",{"$f":"IFERROR(RTD(\"cqg.rtd\", ,\"ContractData\",C277, \"PerCentNetLastTrade\",, \"T\")/100,\"\")","v":""},{"$f":"IFERROR(RANK($D277,$D$1:D$447)+COUNTIF($D$1:D277,D277)-1,0)","v":0},0,"S.US.MTDR",277,""]
[null,1,"S.US.MTG",{"$f":"IFERROR(RTD(\"cqg.rtd\", ,\"ContractData\",C278, \"PerCentNetLastTrade\",, \"T\")/100,\"\")","v":""},{"$f":"IFERROR(RANK($D278,$D$1:D$447)+COUNTIF($D$1:D278,D278)-1,0)","v":0},0,"S.US.MTG",278,""]
[null,1,"S.US.MTN",{"$f":"IFERROR(RTD(\"cqg.rtd\", ,\"ContractData\",C279, \"PerCentNetLastTrade\",, \"T\")/100,\"\")","v":""},{"$f":"IFERROR(RANK($D279,$D$1:D$447)+COUNTIF($D$1:D279,D279)-1,0)","v":0},0,"S.US.MTN",279,""]
[null,1,"S.US.MTSI",{"$f":"IFERROR(RTD(\"cqg.rtd\", ,\"ContractData\",C280, \"PerCentNetLastTrade\",, \"T\")/100,\"\")","v":""},{"$f":"IFERROR(RANK($D280,$D$1:D$447)+COUNTIF($D$1:D280,D280)-1,0)","v":0},0,"S.US.MTSI",280,""]
[null,1,"S.US.MTZ",{"$f":"IFERROR(RTD(\"cqg.rtd\", ,\"ContractData\",C281, \"PerCentNetLastTrade\",, \"T\")/100,\"\")","v":""},{"$f":"IFERROR(RANK($D281,$D$1:D$447)+COUNTIF($D$1:D281,D281)-1,0)","v":0},0,"S.US.MTZ",281,""]
[null,1,"S.US.MUSA",{"$f":"IFERROR(RTD(\"cqg.rtd\", ,\"ContractData\",C282, \"PerCentNetLastTrade\",, \"T\")/100,\"\")","v":""},{"$f":"IFERROR(RANK($D282,$D$1:D$447)+COUNTIF($D$1:D282,D282)-1,0)","v":0},0,"S.US.MUSA",282,""]
[null,1,"S.US.NBIX",{"$f":"IFERROR(RTD(\"cqg.rtd\", ,\"ContractData\",C283, \"PerCentNetLastTrade\",, \"T\")/100,\"\")","v":""},{"$f":"IFERROR(RANK($D283,$D$1:D$447)+COUNTIF($D$1:D283,D283)-1,0)","v":0},0,"S.US.NBIX",283,""]
[null,1,"S.US.NCLH",{"$f":"IFERROR(RTD(\"cqg.rtd\", ,\"ContractData\",C284, \"PerCentNetLastTrade\",, \"T\")/100,\"\")","v":""},{"$f":"IFERROR(RANK($D284,$D$1:D$447)+COUNTIF($D$1:D284,D284)-1,0)","v":0},0,"S.US.NCLH",284,""]
[null,1,"S.US.NDAQ",{"$f":"IFERROR(RTD(\"cqg.rtd\", ,\"ContractData\",C285, \"PerCentNetLastTrade\",, \"T\")/100,\"\")","v":""},{"$f":"IFERROR(RANK($D285,$D$1:D$447)+COUNTIF($D$1:D285,D285)-1,0)","v":0},0,"S.US.NDAQ",285,""]
[null,1,"S.US.NEE",{"$f":"IFERROR(RTD(\"cqg.rtd\", ,\"ContractData\",C286, \"PerCentNetLastTrade\",, \"T\")/100,\"\")","v":""},{"$f":"IFERROR(RANK($D286,$D$1:D$447)+COUNTIF($D$1:D286,D286)-1,0)","v":0},0,"S.US.NEE",286,""]
[null,1,"S.US.NEU",{"$f":"IFERROR(RTD(\"cqg.rtd\", ,\"ContractData\",C287, \"PerCentNetLastTrade\",, \"T\")/100,\"\")","v":""},{"$f":"IFERROR(RANK($D287,$D$1:D$447)+COUNTIF($D$1:D287,D287)-1,0)","v":0},0,"S.US.NEU",287,""]
[null,1,"S.US.NFLX",{"$f":"IFERROR(RTD(\"cqg.rtd\", ,\"ContractData\",C288, \"PerCentNetLastTrade\",, \"T\")/100,\"\")","v":""},{"$f":"IFERROR(RANK($D288,$D$1:D$447)+COUNTIF($D$1:D288,D288)-1,0)","v":0},0,"S.US.NFLX",288,""]
[null,1,"S.US.NOVT",{"$f":"IFERROR(RTD(\"cqg.rtd\", ,\"ContractData\",C289, \"PerCentNetLastTrade\",, \"T\")/100,\"\")","v":""},{"$f":"IFERROR(RANK($D289,$D$1:D$447)+COUNTIF($D$1:D289,D289)-1,0)","v":0},0,"S.US.NOVT",289,""]
[null,1,"S.US.NOW",{"$f":"IFERROR(RTD(\"cqg.rtd\", ,\"ContractData\",C290, \"PerCentNetLastTrade\",, \"T\")/100,\"\")","v":""},{"$f":"IFERROR(RANK($D290,$D$1:D$447)+COUNTIF($D$1:D290,D290)-1,0)","v":0},0,"S.US.NOW",290,""]
[null,1,"S.US.NRG",{"$f":"IFERROR(RTD(\"cqg.rtd\", ,\"ContractData\",C291, \"PerCentNetLastTrade\",, \"T\")/100,\"\")","v":""},{"$f":"IFERROR(RANK($D291,$D$1:D$447)+COUNTIF($D$1:D291,D291)-1,0)","v":0},0,"S.US.NRG",291,""]
[null,1,"S.US.NSA",{"$f":"IFERROR(RTD(\"cqg.rtd\", ,\"ContractData\",C292, \"PerCentNetLastTrade\",, \"T\")/100,\"\")","v":""},{"$f":"IFERROR(RANK($D292,$D$1:D$447)+COUNTIF($D$1:D292,D292)-1,0)","v":0},0,"S.US.NSA",292,""]
[null,1,"S.US.NTAP",{"$f":"IFERROR(RTD(\"cqg.rtd\", ,\"ContractData\",C293, \"PerCentNetLastTrade\",, \"T\")/100,\"\")","v":""},{"$f":"IFERROR(RANK($D293,$D$1:D$447)+COUNTIF($D$1:D293,D293)-1,0)","v":0},0,"S.US.NTAP",293,""]
[null,1,"S.US.NVDA",{"$f":"IFERROR(RTD(\"cqg.rtd\", ,\"ContractData\",C294, \"PerCentNetLastTrade\",, \"T\")/100,\"\")","v":""},{"$f":"IFERROR(RANK($D294,$D$1:D$447)+COUNTIF($D$1:D294,D294)-1,0)","v":0},0,"S.US.NVDA",294,""]
[null,1,"S.US.NVR",{"$f":"IFERROR(RTD(\"cqg.rtd\", ,\"ContractData\",C295, \"PerCentNetLastTrade\",, \"T\")/100,\"\")","v":""},{"$f":"IFERROR(RANK($D295,$D$1:D$447)+COUNTIF($D$1:D295,D295)-1,0)","v":0},0,"S.US.NVR",295,""]
[null,1,"S.US.NVT",{"$f":"IFERROR(RTD(\"cqg.rtd\", ,\"ContractData\",C296, \"PerCentNetLastTrade\",, \"T\")/100,\"\")","v":""},{"$f":"IFERROR(RANK($D296,$D$1:D$447)+COUNTIF($D$1:D296,D296)-1,0)","v":0},0,"S.US.NVT",296,""]
[null,1,"S.US.NXPI",{"$f":"IFERROR(RTD(\"cqg.rtd\", ,\"ContractData\",C297, \"PerCentNetLastTrade\",, \"T\")/100,\"\")","v":""},{"$f":"IFERROR(RANK($D297,$D$1:D$447)+COUNTIF($D$1:D297,D297)-1,0)","v":0},0,"S.US.NXPI",297,""]
[null,1,"S.US.NYT",{"$f":"IFERROR(RTD(\"cqg.rtd\", ,\"ContractData\",C298, \"PerCentNetLastTrade\",, \"T\")/100,\"\")","v":""},{"$f":"IFERROR(RANK($D298,$D$1:D$447)+COUNTIF($D$1:D298,D298)-1,0)","v":0},0,"S.US.NYT",298,""]
[null,1,"S.US.OC",{"$f":"IFERROR(RTD(\"cqg.rtd\", ,\"ContractData\",C299, \"PerCentNetLastTrade\",, \"T\")/100,\"\")","v":""},{"$f":"IFERROR(RANK($D299,$D$1:D$447)+COUNTIF($D$1:D299,D299)-1,0)","v":0},0,"S.US.OC",299,""]
[null,1,"S.US.ODFL",{"$f":"IFERROR(RTD(\"cqg.rtd\", ,\"ContractData\",C300, \"PerCentNetLastTrade\",, \"T\")/100,\"\")","v":""},{"$f":"IFERROR(RANK($D300,$D$1:D$447)+COUNTIF($D$1:D300,D300)-1,0)","v":0},0,"S.US.ODFL",300,""]
[null,1,"S.US.OHI",{"$f":"IFERROR(RTD(\"cqg.rtd\", ,\"ContractData\",C301, \"PerCentNetLastTrade\",, \"T\")/100,\"\")","v":""},{"$f":"IFERROR(RANK($D301,$D$1:D$447)+COUNTIF($D$1:D301,D301)-1,0)","v":0},0,"S.US.OHI",301,""]
[null,1,"S.US.OKE",{"$f":"IFERROR(RTD(\"cqg.rtd\", ,\"ContractData\",C302, \"PerCentNetLastTrade\",, \"T\")/100,\"\")","v":""},{"$f":"IFERROR(RANK($D302,$D$1:D$447)+COUNTIF($D$1:D302,D302)-1,0)","v":0},0,"S.US.OKE",302,""]
[null,1,"S.US.OLED",{"$f":"IFERROR(RTD(\"cqg.rtd\", ,\"ContractData\",C303, \"PerCentNetLastTrade\",, \"T\")/100,\"\")","v":""},{"$f":"IFERROR(RANK($D303,$D$1:D$447)+COUNTIF($D$1:D303,D303)-1,0)","v":0},0,"S.US.OLED",303,""]
[null,1,"S.US.OLLI",{"$f":"IFERROR(RTD(\"cqg.rtd\", ,\"ContractData\",C304, \"PerCentNetLastTrade\",, \"T\")/100,\"\")","v":""},{"$f":"IFERROR(RANK($D304,$D$1:D$447)+COUNTIF($D$1:D304,D304)-1,0)","v":0},0,"S.US.OLLI",304,""]
[null,1,"S.US.ONTO",{"$f":"IFERROR(RTD(\"cqg.rtd\", ,\"ContractData\",C305, \"PerCentNetLastTrade\",, \"T\")/100,\"\")","v":""},{"$f":"IFERROR(RANK($D305,$D$1:D$447)+COUNTIF($D$1:D305,D305)-1,0)","v":0},0,"S.US.ONTO",305,""]
[null,1,"S.US.ORA",{"$f":"IFERROR(RTD(\"cqg.rtd\", ,\"ContractData\",C306, \"PerCentNetLastTrade\",, \"T\")/100,\"\")","v":""},{"$f":"IFERROR(RANK($D306,$D$1:D$447)+COUNTIF($D$1:D306,D306)-1,0)","v":0},0,"S.US.ORA",306,""]
[null,1,"S.US.ORCL",{"$f":"IFERROR(RTD(\"cqg.rtd\", ,\"ContractData\",C307, \"PerCentNetLastTrade\",, \"T\")/100,\"\")","v":""},{"$f":"IFERROR(RANK($D307,$D$1:D$447)+COUNTIF($D$1:D307,D307)-1,0)","v":0},0,"S.US.ORCL",307,""]
[null,1,"S.US.ORLY",{"$f":"IFERROR(RTD(\"cqg.rtd\", ,\"ContractData\",C308, \"PerCentNetLastTrade\",, \"T\")/100,\"\")","v":""},{"$f":"IFERROR(RANK($D308,$D$1:D$447)+COUNTIF($D$1:D308,D308)-1,0)","v":0},0,"S.US.ORLY",308,""]
[null,1,"S.US.PANW",{"$f":"IFERROR(RTD(\"cqg.rtd\", ,\"ContractData\",C309, \"PerCentNetLastTrade\",, \"T\")/100,\"\")","v":""},{"$f":"IFERROR(RANK($D309,$D$1:D$447)+COUNTIF($D$1:D309,D309)-1,0)","v":0},0,"S.US.PANW",309,""]
[null,1,"S.US.PAYC",{"$f":"IFERROR(RTD(\"cqg.rtd\", ,\"ContractData\",C310, \"PerCentNetLastTrade\",, \"T\")/100,\"\")","v":""},{"$f":"IFERROR(RANK($D310,$D$1:D$447)+COUNTIF($D$1:D310,D310)-1,0)","v":0},0,"S.US.PAYC",310,""]
[null,1,"S.US.PAYX",{"$f":"IFERROR(RTD(\"cqg.rtd\", ,\"ContractData\",C311, \"PerCentNetLastTrade\",, \"T\")/100,\"\")","v":""},{"$f":"IFERROR(RANK($D311,$D$1:D$447)+COUNTIF($D$1:D311,D311)-1,0)","v":0},0,"S.US.PAYX",311,""]
[null,1,"S.US.PCAR",{"$f":"IFERROR(RTD(\"cqg.rtd\", ,\"ContractData\",C312, \"PerCentNetLastTrade\",, \"T\")/100,\"\")","v":""},{"$f":"IFERROR(RANK($D312,$D$1:D$447)+COUNTIF($D$1:D312,D312)-1,0)","v":0},0,"S.US.PCAR",312,""]
[null,1,"S.US.PCTY",{"$f":"IFERROR(RTD(\"cqg.rtd\", ,\"ContractData\",C313, \"PerCentNetLastTrade\",, \"T\")/100,\"\")","v":""},{"$f":"IFERROR(RANK($D313,$D$1:D$447)+COUNTIF($D$1:D313,D313)-1,0)","v":0},0,"S.US.PCTY",313,""]
[null,1,"S.US.PEG",{"$f":"IFERROR(RTD(\"cqg.rtd\", ,\"ContractData\",C314, \"PerCentNetLastTrade\",, \"T\")/100,\"\")","v":""},{"$f":"IFERROR(RANK($D314,$D$1:D$447)+COUNTIF($D$1:D314,D314)-1,0)","v":0},0,"S.US.PEG",314,""]
[null,1,"S.US.PEN",{"$f":"IFERROR(RTD(\"cqg.rtd\", ,\"ContractData\",C315, \"PerCentNetLastTrade\",, \"T\")/100,\"\")","v":""},{"$f":"IFERROR(RANK($D315,$D$1:D$447)+COUNTIF($D$1:D315,D315)-1,0)","v":0},0,"S.US.PEN",315,""]
[null,1,"S.US.PGR",{"$f":"IFERROR(RTD(\"cqg.rtd\", ,\"ContractData\",C316, \"PerCentNetLastTrade\",, \"T\")/100,\"\")","v":""},{"$f":"IFERROR(RANK($D316,$D$1:D$447)+COUNTIF($D$1:D316,D316)-1,0)","v":0},0,"S.US.PGR",316,""]
[null,1,"S.US.PH",{"$f":"IFERROR(RTD(\"cqg.rtd\", ,\"ContractData\",C317, \"PerCentNetLastTrade\",, \"T\")/100,\"\")","v":""},{"$f":"IFERROR(RANK($D317,$D$1:D$447)+COUNTIF($D$1:D317,D317)-1,0)","v":0},0,"S.US.PH",317,""]
[null,1,"S.US.PHM",{"$f":"IFERROR(RTD(\"cqg.rtd\", ,\"ContractData\",C318, \"PerCentNetLastTrade\",, \"T\")/100,\"\")","v":""},{"$f":"IFERROR(RANK($D318,$D$1:D$447)+COUNTIF($D$1:D318,D318)-1,0)","v":0},0,"S.US.PHM",318,""]
[null,1,"S.US.PK",{"$f":"IFERROR(RTD(\"cqg.rtd\", ,\"ContractData\",C319, \"PerCentNetLastTrade\",, \"T\")/100,\"\")","v":""},{"$f":"IFERROR(RANK($D319,$D$1:D$447)+COUNTIF($D$1:D319,D319)-1,0)","v":0},0,"S.US.PK",319,""]
[null,1,"S.US.PKG",{"$f":"IFERROR(RTD(\"cqg.rtd\", ,\"ContractData\",C320, \"PerCentNetLastTrade\",, \"T\")/100,\"\")","v":""},{"$f":"IFERROR(RANK($D320,$D$1:D$447)+COUNTIF($D$1:D320,D320)-1,0)","v":0},0,"S.US.PKG",320,""]
[null,1,"S.US.PLNT",{"$f":"IFERROR(RTD(\"cqg.rtd\", ,\"ContractData\",C321, \"PerCentNetLastTrade\",, \"T\")/100,\"\")","v":""},{"$f":"IFERROR(RANK($D321,$D$1:D$447)+COUNTIF($D$1:D321,D321)-1,0)","v":0},0,"S.US.PLNT",321,""]
[null,{"$f":"IF(D322>=0,1,)","v":1},"S.US.PLTR",{"$f":"IFERROR(RTD(\"cqg.rtd\", ,\"ContractData\",C322, \"PerCentNetLastTrade\",, \"T\")/100,\"\")","v":""},{"$f":"IFERROR(RANK($D322,$D$1:D$447)+COUNTIF($D$1:D322,D322)-1,0)","v":0},{"$f":"IFERROR(E322,\"\")","v":0},{"$f":"C322","v":"S.US.PLTR"},322,{"$f":"IFERROR(VLOOKUP(H322,$F$1:$G$447,2,FALSE),\"\")","v":""}]
[null,1,"S.US.PM",{"$f":"IFERROR(RTD(\"cqg.rtd\", ,\"ContractData\",C323, \"PerCentNetLastTrade\",, \"T\")/100,\"\")","v":""},{"$f":"IFERROR(RANK($D323,$D$1:D$447)+COUNTIF($D$1:D323,D323)-1,0)","v":0},0,"S.US.PM",{"$f":"H322+1","v":323},""]
[null,1,"S.US.PNFP",{"$f":"IFERROR(RTD(\"cqg.rtd\", ,\"ContractData\",C324, \"PerCentNetLastTrade\",, \"T\")/100,\"\")","v":""},{"$f":"IFERROR(RANK($D324,$D$1:D$447)+COUNTIF($D$1:D324,D324)-1,0)","v":0},0,"S.US.PNFP",324,""]
[null,1,"S.US.PNR",{"$f":"IFERROR(RTD(\"cqg.rtd\", ,\"ContractData\",C325, \"PerCentNetLastTrade\",, \"T\")/100,\"\")","v":""},{"$f":"IFERROR(RANK($D325,$D$1:D$447)+COUNTIF($D$1:D325,D325)-1,0)","v":0},0,"S.US.PNR",325,""]
[null,1,"S.US.PODD",{"$f":"IFERROR(RTD(\"cqg.rtd\", ,\"ContractData\",C326, \"PerCentNetLastTrade\",, \"T\")/100,\"\")","v":""},{"$f":"IFERROR(RANK($D326,$D$1:D$447)+COUNTIF($D$1:D326,D326)-1,0)","v":0},0,"S.US.PODD",326,""]
[null,1,"S.US.POST",{"$f":"IFERROR(RTD(\"cqg.rtd\", ,\"ContractData\",C327, \"PerCentNetLastTrade\",, \"T\")/100,\"\")","v":""},{"$f":"IFERROR(RANK($D327,$D$1:D$447)+COUNTIF($D$1:D327,D327)-1,0)","v":0},0,"S.US.POST",327,""]
[null,1,"S.US.POWI",{"$f":"IFERROR(RTD(\"cqg.rtd\", ,\"ContractData\",C328, \"PerCentNetLastTrade\",, \"T\")/100,\"\")","v":""},{"$f":"IFERROR(RANK($D328,$D$1:D$447)+COUNTIF($D$1:D328,D328)-1,0)","v":0},0,"S.US.POWI",328,""]
[null,1,"S.US.PPC",{"$f":"IFERROR(RTD(\"cqg.rtd\", ,\"ContractData\",C329, \"PerCentNetLastTrade\",, \"T\")/100,\"\")","v":""},{"$f":"IFERROR(RANK($D329,$D$1:D$447)+COUNTIF($D$1:D329,D329)-1,0)","v":0},0,"S.US.PPC",329,""]
[null,1,"S.US.PPL",{"$f":"IFERROR(RTD(\"cqg.rtd\", ,\"ContractData\",C330, \"PerCentNetLastTrade\",, \"T\")/100,\"\")","v":""},{"$f":"IFERROR(RANK($D330,$D$1:D$447)+COUNTIF($D$1:D330,D330)-1,0)","v":0},0,"S.US.PPL",330,""]
[null,1,"S.US.PR",{"$f":"IFERROR(RTD(\"cqg.rtd\", ,\"ContractData\",C331, \"PerCentNetLastTrade\",, \"T\")/100,\"\")","v":""},{"$f":"IFERROR(RANK($D331,$D$1:D$447)+COUNTIF($D$1:D331,D331)-1,0)","v":0},0,"S.US.PR",331,""]
[null,1,"S.US.PRI",{"$f":"IFERROR(RTD(\"cqg.rtd\", ,\"ContractData\",C332, \"PerCentNetLastTrade\",, \"T\")/100,\"\")","v":""},{"$f":"IFERROR(RANK($D332,$D$1:D$447)+COUNTIF($D$1:D332,D332)-1,0)","v":0},0,"S.US.PRI",332,""]
[null,1,"S.US.PSA",{"$f":"IFERROR(RTD(\"cqg.rtd\", ,\"ContractData\",C333, \"PerCentNetLastTrade\",, \"T\")/100,\"\")","v":""},{"$f":"IFERROR(RANK($D333,$D$1:D$447)+COUNTIF($D$1:D333,D333)-1,0)","v":0},0,"S.US.PSA",333,""]
[null,1,"S.US.PSN",{"$f":"IFERROR(RTD(\"cqg.rtd\", ,\"ContractData\",C334, \"PerCentNetLastTrade\",, \"T\")/100,\"\")","v":""},{"$f":"IFERROR(RANK($D334,$D$1:D$447)+COUNTIF($D$1:D334,D334)-1,0)","v":0},0,"S.US.PSN",334,""]
[null,1,"S.US.PSTG",{"$f":"IFERROR(RTD(\"cqg.rtd\", ,\"ContractData\",C335, \"PerCentNetLastTrade\",, \"T\")/100,\"\")","v":""},{"$f":"IFERROR(RANK($D335,$D$1:D$447)+COUNTIF($D$1:D335,D335)-1,0)","v":0},0,"S.US.PSTG",335,""]
[null,1,"S.US.PTC",{"$f":"IFERROR(RTD(\"cqg.rtd\", ,\"ContractData\",C336, \"PerCentNetLastTrade\",, \"T\")/100,\"\")","v":""},{"$f":"IFERROR(RANK($D336,$D$1:D$447)+COUNTIF($D$1:D336,D336)-1,0)","v":0},0,"S.US.PTC",336,""]
[null,1,"S.US.PWR",{"$f":"IFERROR(RTD(\"cqg.rtd\", ,\"ContractData\",C337, \"PerCentNetLastTrade\",, \"T\")/100,\"\")","v":""},{"$f":"IFERROR(RANK($D337,$D$1:D$447)+COUNTIF($D$1:D337,D337)-1,0)","v":0},0,"S.US.PWR",337,""]
[null,1,"S.US.PYPL",{"$f":"IFERROR(RTD(\"cqg.rtd\", ,\"ContractData\",C338, \"PerCentNetLastTrade\",, \"T\")/100,\"\")","v":""},{"$f":"IFERROR(RANK($D338,$D$1:D$447)+COUNTIF($D$1:D338,D338)-1,0)","v":0},0,"S.US.PYPL",338,""]
[null,1,"S.US.QLYS",{"$f":"IFERROR(RTD(\"cqg.rtd\", ,\"ContractData\",C339, \"PerCentNetLastTrade\",, \"T\")/100,\"\")","v":""},{"$f":"IFERROR(RANK($D339,$D$1:D$447)+COUNTIF($D$1:D339,D339)-1,0)","v":0},0,"S.US.QLYS",339,""]
[null,1,"S.US.R",{"$f":"IFERROR(RTD(\"cqg.rtd\", ,\"ContractData\",C340, \"PerCentNetLastTrade\",, \"T\")/100,\"\")","v":""},{"$f":"IFERROR(RANK($D340,$D$1:D$447)+COUNTIF($D$1:D340,D340)-1,0)","v":0},0,"S.US.R",340,""]
[null,1,"S.US.RBA",{"$f":"IFERROR(RTD(\"cqg.rtd\", ,\"ContractData\",C341, \"PerCentNetLastTrade\",, \"T\")/100,\"\")","v":""},{"$f":"IFERROR(RANK($D341,$D$1:D$447)+COUNTIF($D$1:D341,D341)-1,0)","v":0},0,"S.US.RBA",341,""]
[null,1,"S.US.RBC",{"$f":"IFERROR(RTD(\"cqg.rtd\", ,\"ContractData\",C342, \"PerCentNetLastTrade\",, \"T\")/100,\"\")","v":""},{"$f":"IFERROR(RANK($D342,$D$1:D$447)+COUNTIF($D$1:D342,D342)-1,0)","v":0},0,"S.US.RBC",342,""]
[null,1,"S.US.RCL",{"$f":"IFERROR(RTD(\"cqg.rtd\", ,\"ContractData\",C343, \"PerCentNetLastTrade\",, \"T\")/100,\"\")","v":""},{"$f":"IFERROR(RANK($D343,$D$1:D$447)+COUNTIF($D$1:D343,D343)-1,0)","v":0},0,"S.US.RCL",343,""]
[null,1,"S.US.RGEN",{"$f":"IFERROR(RTD(\"cqg.rtd\", ,\"ContractData\",C344, \"PerCentNetLastTrade\",, \"T\")/100,\"\")","v":""},{"$f":"IFERROR(RANK($D344,$D$1:D$447)+COUNTIF($D$1:D344,D344)-1,0)","v":0},0,"S.US.RGEN",344,""]
[null,1,"S.US.RGLD",{"$f":"IFERROR(RTD(\"cqg.rtd\", ,\"ContractData\",C345, \"PerCentNetLastTrade\",, \"T\")/100,\"\")","v":""},{"$f":"IFERROR(RANK($D345,$D$1:D$447)+COUNTIF($D$1:D345,D345)-1,0)","v":0},0,"S.US.RGLD",345,""]
[null,1,"S.US.RH",{"$f":"IFERROR(RTD(\"cqg.rtd\", ,\"ContractData\",C346, \"PerCentNetLastTrade\",, \"T\")/100,\"\")","v":""},{"$f":"IFERROR(RANK($D346,$D$1:D$447)+COUNTIF($D$1:D346,D346)-1,0)","v":0},0,"S.US.RH",346,""]
[null,1,"S.US.RJF",{"$f":"IFERROR(RTD(\"cqg.rtd\", ,\"ContractData\",C347, \"PerCentNetLastTrade\",, \"T\")/100,\"\")","v":""},{"$f":"IFERROR(RANK($D347,$D$1:D$447)+COUNTIF($D$1:D347,D347)-1,0)","v":0},0,"S.US.RJF",347,""]
[null,1,"S.US.RL",{"$f":"IFERROR(RTD(\"cqg.rtd\", ,\"ContractData\",C348, \"PerCentNetLastTrade\",, \"T\")/100,\"\")","v":""},{"$f":"IFERROR(RANK($D348,$D$1:D$447)+COUNTIF($D$1:D348,D348)-1,0)","v":0},0,"S.US.RL",348,""]
[null,1,"S.US.RLI",{"$f":"IFERROR(RTD(\"cqg.rtd\", ,\"ContractData\",C349, \"PerCentNetLastTrade\",, \"T\")/100,\"\")","v":""},{"$f":"IFERROR(RANK($D349,$D$1:D$447)+COUNTIF($D$1:D349,D349)-1,0)","v":0},0,"S.US.RLI",349,""]
[null,1,"S.US.RMBS",{"$f":"IFERROR(RTD(\"cqg.rtd\", ,\"ContractData\",C350, \"PerCentNetLastTrade\",, \"T\")/100,\"\")","v":""},{"$f":"IFERROR(RANK($D350,$D$1:D$447)+COUNTIF($D$1:D350,D350)-1,0)","v":0},0,"S.US.RMBS",350,""]
[null,1,"S.US.RMD",{"$f":"IFERROR(RTD(\"cqg.rtd\", ,\"ContractData\",C351, \"PerCentNetLastTrade\",, \"T\")/100,\"\")","v":""},{"$f":"IFERROR(RANK($D351,$D$1:D$447)+COUNTIF($D$1:D351,D351)-1,0)","v":0},0,"S.US.RMD",351,""]
[null,1,"S.US.RNR",{"$f":"IFERROR(RTD(\"cqg.rtd\", ,\"ContractData\",C352, \"PerCentNetLastTrade\",, \"T\")/100,\"\")","v":""},{"$f":"IFERROR(RANK($D352,$D$1:D$447)+COUNTIF($D$1:D352,D352)-1,0)","v":0},0,"S.US.RNR",352,""]
[null,1,"S.US.ROIV",{"$f":"IFERROR(RTD(\"cqg.rtd\", ,\"ContractData\",C353, \"PerCentNetLastTrade\",, \"T\")/100,\"\")","v":""},{"$f":"IFERROR(RANK($D353,$D$1:D$447)+COUNTIF($D$1:D353,D353)-1,0)","v":0},0,"S.US.ROIV",353,""]
[null,1,"S.US.ROL",{"$f":"IFERROR(RTD(\"cqg.rtd\", ,\"ContractData\",C354, \"PerCentNetLastTrade\",, \"T\")/100,\"\")","v":""},{"$f":"IFERROR(RANK($D354,$D$1:D$447)+COUNTIF($D$1:D354,D354)-1,0)","v":0},0,"S.US.ROL",354,""]
[null,1,"S.US.RPM",{"$f":"IFERROR(RTD(\"cqg.rtd\", ,\"ContractData\",C355, \"PerCentNetLastTrade\",, \"T\")/100,\"\")","v":""},{"$f":"IFERROR(RANK($D355,$D$1:D$447)+COUNTIF($D$1:D355,D355)-1,0)","v":0},0,"S.US.RPM",355,""]
[null,1,"S.US.RRC",{"$f":"IFERROR(RTD(\"cqg.rtd\", ,\"ContractData\",C356, \"PerCentNetLastTrade\",, \"T\")/100,\"\")","v":""},{"$f":"IFERROR(RANK($D356,$D$1:D$447)+COUNTIF($D$1:D356,D356)-1,0)","v":0},0,"S.US.RRC",356,""]
[null,1,"S.US.RSG",{"$f":"IFERROR(RTD(\"cqg.rtd\", ,\"ContractData\",C357, \"PerCentNetLastTrade\",, \"T\")/100,\"\")","v":""},{"$f":"IFERROR(RANK($D357,$D$1:D$447)+COUNTIF($D$1:D357,D357)-1,0)","v":0},0,"S.US.RSG",357,""]
[null,1,"S.US.RTX",{"$f":"IFERROR(RTD(\"cqg.rtd\", ,\"ContractData\",C358, \"PerCentNetLastTrade\",, \"T\")/100,\"\")","v":""},{"$f":"IFERROR(RANK($D358,$D$1:D$447)+COUNTIF($D$1:D358,D358)-1,0)","v":0},0,"S.US.RTX",358,""]
[null,1,"S.US.RYAN",{"$f":"IFERROR(RTD(\"cqg.rtd\", ,\"ContractData\",C359, \"PerCentNetLastTrade\",, \"T\")/100,\"\")","v":""},{"$f":"IFERROR(RANK($D359,$D$1:D$447)+COUNTIF($D$1:D359,D359)-1,0)","v":0},0,"S.US.RYAN",359,""]
[null,1,"S.US.SAIA",{"$f":"IFERROR(RTD(\"cqg.rtd\", ,\"ContractData\",C360, \"PerCentNetLastTrade\",, \"T\")/100,\"\")","v":""},{"$f":"IFERROR(RANK($D360,$D$1:D$447)+COUNTIF($D$1:D360,D360)-1,0)","v":0},0,"S.US.SAIA",360,""]
[null,1,"S.US.SCI",{"$f":"IFERROR(RTD(\"cqg.rtd\", ,\"ContractData\",C361, \"PerCentNetLastTrade\",, \"T\")/100,\"\")","v":""},{"$f":"IFERROR(RANK($D361,$D$1:D$447)+COUNTIF($D$1:D361,D361)-1,0)","v":0},0,"S.US.SCI",361,""]
[null,1,"S.US.SEIC",{"$f":"IFERROR(RTD(\"cqg.rtd\", ,\"ContractData\",C362, \"PerCentNetLastTrade\",, \"T\")/100,\"\")","v":""},{"$f":"IFERROR(RANK($D362,$D$1:D$447)+COUNTIF($D$1:D362,D362)-1,0)","v":0},0,"S.US.SEIC",362,""]
[null,1,"S.US.SF",{"$f":"IFERROR(RTD(\"cqg.rtd\", ,\"ContractData\",C363, \"PerCentNetLastTrade\",, \"T\")/100,\"\")","v":""},{"$f":"IFERROR(RANK($D363,$D$1:D$447)+COUNTIF($D$1:D363,D363)-1,0)","v":0},0,"S.US.SF",363,""]
[null,1,"S.US.SFM",{"$f":"IFERROR(RTD(\"cqg.rtd\", ,\"ContractData\",C364, \"PerCentNetLastTrade\",, \"T\")/100,\"\")","v":""},{"$f":"IFERROR(RANK($D364,$D$1:D$447)+COUNTIF($D$1:D364,D364)-1,0)","v":0},0,"S.US.SFM",364,""]
[null,1,"S.US.SGI",{"$f":"IFERROR(RTD(\"cqg.rtd\", ,\"ContractData\",C365, \"PerCentNetLastTrade\",, \"T\")/100,\"\")","v":""},{"$f":"IFERROR(RANK($D365,$D$1:D$447)+COUNTIF($D$1:D365,D365)-1,0)","v":0},0,"S.US.SGI",365,""]
[null,1,"S.US.SHC",{"$f":"IFERROR(RTD(\"cqg.rtd\", ,\"ContractData\",C366, \"PerCentNetLastTrade\",, \"T\")/100,\"\")","v":""},{"$f":"IFERROR(RANK($D366,$D$1:D$447)+COUNTIF($D$1:D366,D366)-1,0)","v":0},0,"S.US.SHC",366,""]
[null,1,"S.US.SHW",{"$f":"IFERROR(RTD(\"cqg.rtd\", ,\"ContractData\",C367, \"PerCentNetLastTrade\",, \"T\")/100,\"\")","v":""},{"$f":"IFERROR(RANK($D367,$D$1:D$447)+COUNTIF($D$1:D367,D367)-1,0)","v":0},0,"S.US.SHW",367,""]
[null,1,"S.US.SLAB",{"$f":"IFERROR(RTD(\"cqg.rtd\", ,\"ContractData\",C368, \"PerCentNetLastTrade\",, \"T\")/100,\"\")","v":""},{"$f":"IFERROR(RANK($D368,$D$1:D$447)+COUNTIF($D$1:D368,D368)-1,0)","v":0},0,"S.US.SLAB",368,""]
[null,1,"S.US.SLM",{"$f":"IFERROR(RTD(\"cqg.rtd\", ,\"ContractData\",C369, \"PerCentNetLastTrade\",, \"T\")/100,\"\")","v":""},{"$f":"IFERROR(RANK($D369,$D$1:D$447)+COUNTIF($D$1:D369,D369)-1,0)","v":0},0,"S.US.SLM",369,""]
[null,1,"S.US.SMCI",{"$f":"IFERROR(RTD(\"cqg.rtd\", ,\"ContractData\",C370, \"PerCentNetLastTrade\",, \"T\")/100,\"\")","v":""},{"$f":"IFERROR(RANK($D370,$D$1:D$447)+COUNTIF($D$1:D370,D370)-1,0)","v":0},0,"S.US.SMCI",370,""]
[null,1,"S.US.SMG",{"$f":"IFERROR(RTD(\"cqg.rtd\", ,\"ContractData\",C371, \"PerCentNetLastTrade\",, \"T\")/100,\"\")","v":""},{"$f":"IFERROR(RANK($D371,$D$1:D$447)+COUNTIF($D$1:D371,D371)-1,0)","v":0},0,"S.US.SMG",371,""]
[null,1,"S.US.SNPS",{"$f":"IFERROR(RTD(\"cqg.rtd\", ,\"ContractData\",C372, \"PerCentNetLastTrade\",, \"T\")/100,\"\")","v":""},{"$f":"IFERROR(RANK($D372,$D$1:D$447)+COUNTIF($D$1:D372,D372)-1,0)","v":0},0,"S.US.SNPS",372,""]
[null,1,"S.US.SNV",{"$f":"IFERROR(RTD(\"cqg.rtd\", ,\"ContractData\",C373, \"PerCentNetLastTrade\",, \"T\")/100,\"\")","v":""},{"$f":"IFERROR(RANK($D373,$D$1:D$447)+COUNTIF($D$1:D373,D373)-1,0)","v":0},0,"S.US.SNV",373,""]
[null,1,"S.US.SPG",{"$f":"IFERROR(RTD(\"cqg.rtd\", ,\"ContractData\",C374, \"PerCentNetLastTrade\",, \"T\")/100,\"\")","v":""},{"$f":"IFERROR(RANK($D374,$D$1:D$447)+COUNTIF($D$1:D374,D374)-1,0)","v":0},0,"S.US.SPG",374,""]
[null,1,"S.US.SPGI",{"$f":"IFERROR(RTD(\"cqg.rtd\", ,\"ContractData\",C375, \"PerCentNetLastTrade\",, \"T\")/100,\"\")","v":""},{"$f":"IFERROR(RANK($D375,$D$1:D$447)+COUNTIF($D$1:D375,D375)-1,0)","v":0},0,"S.US.SPGI",375,""]
[null,1,"S.US.SRPT",{"$f":"IFERROR(RTD(\"cqg.rtd\", ,\"ContractData\",C376, \"PerCentNetLastTrade\",, \"T\")/100,\"\")","v":""},{"$f":"IFERROR(RANK($D376,$D$1:D$447)+COUNTIF($D$1:D376,D376)-1,0)","v":0},0,"S.US.SRPT",376,""]
[null,1,"S.US.SSD",{"$f":"IFERROR(RTD(\"cqg.rtd\", ,\"ContractData\",C377, \"PerCentNetLastTrade\",, \"T\")/100,\"\")","v":""},{"$f":"IFERROR(RANK($D377,$D$1:D$447)+COUNTIF($D$1:D377,D377)-1,0)","v":0},0,"S.US.SSD",377,""]
[null,1,"S.US.SYF",{"$f":"IFERROR(RTD(\"cqg.rtd\", ,\"ContractData\",C378, \"PerCentNetLastTrade\",, \"T\")/100,\"\")","v":""},{"$f":"IFERROR(RANK($D378,$D$1:D$447)+COUNTIF($D$1:D378,D378)-1,0)","v":0},0,"S.US.SYF",378,""]
[null,1,"S.US.SYK",{"$f":"IFERROR(RTD(\"cqg.rtd\", ,\"ContractData\",C379, \"PerCentNetLastTrade\",, \"T\")/100,\"\")","v":""},{"$f":"IFERROR(RANK($D379,$D$1:D$447)+COUNTIF($D$1:D379,D379)-1,0)","v":0},0,"S.US.SYK",379,""]
[null,1,"S.US.TDC",{"$f":"IFERROR(RTD(\"cqg.rtd\", ,\"ContractData\",C380, \"PerCentNetLastTrade\",, \"T\")/100,\"\")","v":""},{"$f":"IFERROR(RANK($D380,$D$1:D$447)+COUNTIF($D$1:D380,D380)-1,0)","v":0},0,"S.US.TDC",380,""]
[null,1,"S.US.TDG",{"$f":"IFERROR(RTD(\"cqg.rtd\", ,\"ContractData\",C381, \"PerCentNetLastTrade\",, \"T\")/100,\"\")","v":""},{"$f":"IFERROR(RANK($D381,$D$1:D$447)+COUNTIF($D$1:D381,D381)-1,0)","v":0},0,"S.US.TDG",381,""]
[null,1,"S.US.THC",{"$f":"IFERROR(RTD(\"cqg.rtd\", ,\"ContractData\",C382, \"PerCentNetLastTrade\",, \"T\")/100,\"\")","v":""},{"$f":"IFERROR(RANK($D382,$D$1:D$447)+COUNTIF($D$1:D382,D382)-1,0)","v":0},0,"S.US.THC",382,""]
[null,1,"S.US.TJX",{"$f":"IFERROR(RTD(\"cqg.rtd\", ,\"ContractData\",C383, \"PerCentNetLastTrade\",, \"T\")/100,\"\")","v":""},{"$f":"IFERROR(RANK($D383,$D$1:D$447)+COUNTIF($D$1:D383,D383)-1,0)","v":0},0,"S.US.TJX",383,""]
[null,1,"S.US.TKO",{"$f":"IFERROR(RTD(\"cqg.rtd\", ,\"ContractData\",C384, \"PerCentNetLastTrade\",, \"T\")/100,\"\")","v":""},{"$f":"IFERROR(RANK($D384,$D$1:D$447)+COUNTIF($D$1:D384,D384)-1,0)","v":0},0,"S.US.TKO",384,""]
[null,1,"S.US.TMUS",{"$f":"IFERROR(RTD(\"cqg.rtd\", ,\"ContractData\",C385, \"PerCentNetLastTrade\",, \"T\")/100,\"\")","v":""},{"$f":"IFERROR(RANK($D385,$D$1:D$447)+COUNTIF($D$1:D385,D385)-1,0)","v":0},0,"S.US.TMUS",385,""]
[null,{"$f":"IF(D386>=0,1,)","v":1},"S.US.TNL",{"$f":"IFERROR(RTD(\"cqg.rtd\", ,\"ContractData\",C386, \"PerCentNetLastTrade\",, \"T\")/100,\"\")","v":""},{"$f":"IFERROR(RANK($D386,$D$1:D$447)+COUNTIF($D$1:D386,D386)-1,0)","v":0},{"$f":"IFERROR(E386,\"\")","v":0},{"$f":"C386","v":"S.US.TNL"},386,{"$f":"IFERROR(VLOOKUP(H386,$F$1:$G$447,2,FALSE),\"\")","v":""}]
[null,1,"S.US.TOL",{"$f":"IFERROR(RTD(\"cqg.rtd\", ,\"ContractData\",C387, \"PerCentNetLastTrade\",, \"T\")/100,\"\")","v":""},{"$f":"IFERROR(RANK($D387,$D$1:D$447)+COUNTIF($D$1:D387,D387)-1,0)","v":0},0,"S.US.TOL",{"$f":"H386+1","v":387},""]
[null,1,"S.US.TPL",{"$f":"IFERROR(RTD(\"cqg.rtd\", ,\"ContractData\",C388, \"PerCentNetLastTrade\",, \"T\")/100,\"\")","v":""},{"$f":"IFERROR(RANK($D388,$D$1:D$447)+COUNTIF($D$1:D388,D388)-1,0)","v":0},0,"S.US.TPL",388,""]
[null,1,"S.US.TPR",{"$f":"IFERROR(RTD(\"cqg.rtd\", ,\"ContractData\",C389, \"PerCentNetLastTrade\",, \"T\")/100,\"\")","v":""},{"$f":"IFERROR(RANK($D389,$D$1:D$447)+COUNTIF($D$1:D389,D389)-1,0)","v":0},0,"S.US.TPR",389,""]
[null,1,"S.US.TREX",{"$f":"IFERROR(RTD(\"cqg.rtd\", ,\"ContractData\",C390, \"PerCentNetLastTrade\",, \"T\")/100,\"\")","v":""},{"$f":"IFERROR(RANK($D390,$D$1:D$447)+COUNTIF($D$1:D390,D390)-1,0)","v":0},0,"S.US.TREX",390,""]
[null,1,"S.US.TRGP",{"$f":"IFERROR(RTD(\"cqg.rtd\", ,\"ContractData\",C391, \"PerCentNetLastTrade\",, \"T\")/100,\"\")","v":""},{"$f":"IFERROR(RANK($D391,$D$1:D$447)+COUNTIF($D$1:D391,D391)-1,0)","v":0},0,"S.US.TRGP",391,""]
[null,1,"S.US.TRMB",{"$f":"IFERROR(RTD(\"cqg.rtd\", ,\"ContractData\",C392, \"PerCentNetLastTrade\",, \"T\")/100,\"\")","v":""},{"$f":"IFERROR(RANK($D392,$D$1:D$447)+COUNTIF($D$1:D392,D392)-1,0)","v":0},0,"S.US.TRMB",392,""]
[null,1,"S.US.TSCO",{"$f":"IFERROR(RTD(\"cqg.rtd\", ,\"ContractData\",C393, \"PerCentNetLastTrade\",, \"T\")/100,\"\")","v":""},{"$f":"IFERROR(RANK($D393,$D$1:D$447)+COUNTIF($D$1:D393,D393)-1,0)","v":0},0,"S.US.TSCO",393,""]
[null,1,"S.US.TSLA",{"$f":"IFERROR(RTD(\"cqg.rtd\", ,\"ContractData\",C394, \"PerCentNetLastTrade\",, \"T\")/100,\"\")","v":""},{"$f":"IFERROR(RANK($D394,$D$1:D$447)+COUNTIF($D$1:D394,D394)-1,0)","v":0},0,"S.US.TSLA",394,""]
[null,1,"S.US.TT",{"$f":"IFERROR(RTD(\"cqg.rtd\", ,\"ContractData\",C395, \"PerCentNetLastTrade\",, \"T\")/100,\"\")","v":""},{"$f":"IFERROR(RANK($D395,$D$1:D$447)+COUNTIF($D$1:D395,D395)-1,0)","v":0},0,"S.US.TT",395,""]
[null,1,"S.US.TTC",{"$f":"IFERROR(RTD(\"cqg.rtd\", ,\"ContractData\",C396, \"PerCentNetLastTrade\",, \"T\")/100,\"\")","v":""},{"$f":"IFERROR(RANK($D396,$D$1:D$447)+COUNTIF($D$1:D396,D396)-1,0)","v":0},0,"S.US.TTC",396,""]
[null,1,"S.US.TTEK",{"$f":"IFERROR(RTD(\"cqg.rtd\", ,\"ContractData\",C397, \"PerCentNetLastTrade\",, \"T\")/100,\"\")","v":""},{"$f":"IFERROR(RANK($D397,$D$1:D$447)+COUNTIF($D$1:D397,D397)-1,0)","v":0},0,"S.US.TTEK",397,""]
[null,1,"S.US.TXRH",{"$f":"IFERROR(RTD(\"cqg.rtd\", ,\"ContractData\",C398, \"PerCentNetLastTrade\",, \"T\")/100,\"\")","v":""},{"$f":"IFERROR(RANK($D398,$D$1:D$447)+COUNTIF($D$1:D398,D398)-1,0)","v":0},0,"S.US.TXRH",398,""]
[null,1,"S.US.TYL",{"$f":"IFERROR(RTD(\"cqg.rtd\", ,\"ContractData\",C399, \"PerCentNetLastTrade\",, \"T\")/100,\"\")","v":""},{"$f":"IFERROR(RANK($D399,$D$1:D$447)+COUNTIF($D$1:D399,D399)-1,0)","v":0},0,"S.US.TYL",399,""]
[null,1,"S.US.UAL",{"$f":"IFERROR(RTD(\"cqg.rtd\", ,\"ContractData\",C400, \"PerCentNetLastTrade\",, \"T\")/100,\"\")","v":""},{"$f":"IFERROR(RANK($D400,$D$1:D$447)+COUNTIF($D$1:D400,D400)-1,0)","v":0},0,"S.US.UAL",400,""]
[null,1,"S.US.UBER",{"$f":"IFERROR(RTD(\"cqg.rtd\", ,\"ContractData\",C401, \"PerCentNetLastTrade\",, \"T\")/100,\"\")","v":""},{"$f":"IFERROR(RANK($D401,$D$1:D$447)+COUNTIF($D$1:D401,D401)-1,0)","v":0},0,"S.US.UBER",401,""]
[null,1,"S.US.UDR",{"$f":"IFERROR(RTD(\"cqg.rtd\", ,\"ContractData\",C402, \"PerCentNetLastTrade\",, \"T\")/100,\"\")","v":""},{"$f":"IFERROR(RANK($D402,$D$1:D$447)+COUNTIF($D$1:D402,D402)-1,0)","v":0},0,"S.US.UDR",402,""]
[null,1,"S.US.UMBF",{"$f":"IFERROR(RTD(\"cqg.rtd\", ,\"ContractData\",C403, \"PerCentNetLastTrade\",, \"T\")/100,\"\")","v":""},{"$f":"IFERROR(RANK($D403,$D$1:D$447)+COUNTIF($D$1:D403,D403)-1,0)","v":0},0,"S.US.UMBF",403,""]
[null,1,"S.US.URI",{"$f":"IFERROR(RTD(\"cqg.rtd\", ,\"ContractData\",C404, \"PerCentNetLastTrade\",, \"T\")/100,\"\")","v":""},{"$f":"IFERROR(RANK($D404,$D$1:D$447)+COUNTIF($D$1:D404,D404)-1,0)","v":0},0,"S.US.URI",404,""]
[null,1,"S.US.USD",{"$f":"IFERROR(RTD(\"cqg.rtd\", ,\"ContractData\",C405, \"PerCentNetLastTrade\",, \"T\")/100,\"\")","v":""},{"$f":"IFERROR(RANK($D405,$D$1:D$447)+COUNTIF($D$1:D405,D405)-1,0)","v":0},0,"S.US.USD",405,""]
[null,1,"S.US.UTHR",{"$f":"IFERROR(RTD(\"cqg.rtd\", ,\"ContractData\",C406, \"PerCentNetLastTrade\",, \"T\")/100,\"\")","v":""},{"$f":"IFERROR(RANK($D406,$D$1:D$447)+COUNTIF($D$1:D406,D406)-1,0)","v":0},0,"S.US.UTHR",406,""]
[null,1,"S.US.V",{"$f":"IFERROR(RTD(\"cqg.rtd\", ,\"ContractData\",C407, \"PerCentNetLastTrade\",, \"T\")/100,\"\")","v":""},{"$f":"IFERROR(RANK($D407,$D$1:D$447)+COUNTIF($D$1:D407,D407)-1,0)","v":0},0,"S.US.V",407,""]
[null,1,"S.US.VAL",{"$f":"IFERROR(RTD(\"cqg.rtd\", ,\"ContractData\",C408, \"PerCentNetLastTrade\",, \"T\")/100,\"\")","v":""},{"$f":"IFERROR(RANK($D408,$D$1:D$447)+COUNTIF($D$1:D408,D408)-1,0)","v":0},0,"S.US.VAL",408,""]
[null,1,"S.US.VLTO",{"$f":"IFERROR(RTD(\"cqg.rtd\", ,\"ContractData\",C409, \"PerCentNetLastTrade\",, \"T\")/100,\"\")","v":""},{"$f":"IFERROR(RANK($D409,$D$1:D$447)+COUNTIF($D$1:D409,D409)-1,0)","v":0},0,"S.US.VLTO",409,""]
[null,1,"S.US.VMC",{"$f":"IFERROR(RTD(\"cqg.rtd\", ,\"ContractData\",C410, \"PerCentNetLastTrade\",, \"T\")/100,\"\")","v":""},{"$f":"IFERROR(RANK($D410,$D$1:D$447)+COUNTIF($D$1:D410,D410)-1,0)","v":0},0,"S.US.VMC",410,""]
[null,1,"S.US.VMI",{"$f":"IFERROR(RTD(\"cqg.rtd\", ,\"ContractData\",C411, \"PerCentNetLastTrade\",, \"T\")/100,\"\")","v":""},{"$f":"IFERROR(RANK($D411,$D$1:D$447)+COUNTIF($D$1:D411,D411)-1,0)","v":0},0,"S.US.VMI",411,""]
[null,1,"S.US.VNO",{"$f":"IFERROR(RTD(\"cqg.rtd\", ,\"ContractData\",C412, \"PerCentNetLastTrade\",, \"T\")/100,\"\")","v":""},{"$f":"IFERROR(RANK($D412,$D$1:D$447)+COUNTIF($D$1:D412,D412)-1,0)","v":0},0,"S.US.VNO",412,""]
[null,1,"S.US.VNOM",{"$f":"IFERROR(RTD(\"cqg.rtd\", ,\"ContractData\",C413, \"PerCentNetLastTrade\",, \"T\")/100,\"\")","v":""},{"$f":"IFERROR(RANK($D413,$D$1:D$447)+COUNTIF($D$1:D413,D413)-1,0)","v":0},0,"S.US.VNOM",413,""]
[null,1,"S.US.VNT",{"$f":"IFERROR(RTD(\"cqg.rtd\", ,\"ContractData\",C414, \"PerCentNetLastTrade\",, \"T\")/100,\"\")","v":""},{"$f":"IFERROR(RANK($D414,$D$1:D$447)+COUNTIF($D$1:D414,D414)-1,0)","v":0},0,"S.US.VNT",414,""]
[null,1,"S.US.VOYA",{"$f":"IFERROR(RTD(\"cqg.rtd\", ,\"ContractData\",C415, \"PerCentNetLastTrade\",, \"T\")/100,\"\")","v":""},{"$f":"IFERROR(RANK($D415,$D$1:D$447)+COUNTIF($D$1:D415,D415)-1,0)","v":0},0,"S.US.VOYA",415,""]
[null,1,"S.US.VRSK",{"$f":"IFERROR(RTD(\"cqg.rtd\", ,\"ContractData\",C416, \"PerCentNetLastTrade\",, \"T\")/100,\"\")","v":""},{"$f":"IFERROR(RANK($D416,$D$1:D$447)+COUNTIF($D$1:D416,D416)-1,0)","v":0},0,"S.US.VRSK",416,""]
[null,1,"S.US.VRTX",{"$f":"IFERROR(RTD(\"cqg.rtd\", ,\"ContractData\",C417, \"PerCentNetLastTrade\",, \"T\")/100,\"\")","v":""},{"$f":"IFERROR(RANK($D417,$D$1:D$447)+COUNTIF($D$1:D417,D417)-1,0)","v":0},0,"S.US.VRTX",417,""]
[null,1,"S.US.VST",{"$f":"IFERROR(RTD(\"cqg.rtd\", ,\"ContractData\",C418, \"PerCentNetLastTrade\",, \"T\")/100,\"\")","v":""},{"$f":"IFERROR(RANK($D418,$D$1:D$447)+COUNTIF($D$1:D418,D418)-1,0)","v":0},0,"S.US.VST",418,""]
[null,1,"S.US.VVV",{"$f":"IFERROR(RTD(\"cqg.rtd\", ,\"ContractData\",C419, \"PerCentNetLastTrade\",, \"T\")/100,\"\")","v":""},{"$f":"IFERROR(RANK($D419,$D$1:D$447)+COUNTIF($D$1:D419,D419)-1,0)","v":0},0,"S.US.VVV",419,""]
[null,1,"S.US.WAB",{"$f":"IFERROR(RTD(\"cqg.rtd\", ,\"ContractData\",C420, \"PerCentNetLastTrade\",, \"T\")/100,\"\")","v":""},{"$f":"IFERROR(RANK($D420,$D$1:D$447)+COUNTIF($D$1:D420,D420)-1,0)","v":0},0,"S.US.WAB",420,""]
[null,1,"S.US.WAL",{"$f":"IFERROR(RTD(\"cqg.rtd\", ,\"ContractData\",C421, \"PerCentNetLastTrade\",, \"T\")/100,\"\")","v":""},{"$f":"IFERROR(RANK($D421,$D$1:D$447)+COUNTIF($D$1:D421,D421)-1,0)","v":0},0,"S.US.WAL",421,""]
[null,1,"S.US.WAT",{"$f":"IFERROR(RTD(\"cqg.rtd\", ,\"ContractData\",C422, \"PerCentNetLastTrade\",, \"T\")/100,\"\")","v":""},{"$f":"IFERROR(RANK($D422,$D$1:D$447)+COUNTIF($D$1:D422,D422)-1,0)","v":0},0,"S.US.WAT",422,""]
[null,1,"S.US.WDAY",{"$f":"IFERROR(RTD(\"cqg.rtd\", ,\"ContractData\",C423, \"PerCentNetLastTrade\",, \"T\")/100,\"\")","v":""},{"$f":"IFERROR(RANK($D423,$D$1:D$447)+COUNTIF($D$1:D423,D423)-1,0)","v":0},0,"S.US.WDAY",423,""]
[null,1,"S.US.WELL",{"$f":"IFERROR(RTD(\"cqg.rtd\", ,\"ContractData\",C424, \"PerCentNetLastTrade\",, \"T\")/100,\"\")","v":""},{"$f":"IFERROR(RANK($D424,$D$1:D$447)+COUNTIF($D$1:D424,D424)-1,0)","v":0},0,"S.US.WELL",424,""]
[null,1,"S.US.WEN",{"$f":"IFERROR(RTD(\"cqg.rtd\", ,\"ContractData\",C425, \"PerCentNetLastTrade\",, \"T\")/100,\"\")","v":""},{"$f":"IFERROR(RANK($D425,$D$1:D$447)+COUNTIF($D$1:D425,D425)-1,0)","v":0},0,"S.US.WEN",425,""]
[null,1,"S.US.WEX",{"$f":"IFERROR(RTD(\"cqg.rtd\", ,\"ContractData\",C426, \"PerCentNetLastTrade\",, \"T\")/100,\"\")","v":""},{"$f":"IFERROR(RANK($D426,$D$1:D$447)+COUNTIF($D$1:D426,D426)-1,0)","v":0},0,"S.US.WEX",426,""]
[null,1,"S.US.WFRD",{"$f":"IFERROR(RTD(\"cqg.rtd\", ,\"ContractData\",C427, \"PerCentNetLastTrade\",, \"T\")/100,\"\")","v":""},{"$f":"IFERROR(RANK($D427,$D$1:D$447)+COUNTIF($D$1:D427,D427)-1,0)","v":0},0,"S.US.WFRD",427,""]
[null,1,"S.US.WH",{"$f":"IFERROR(RTD(\"cqg.rtd\", ,\"ContractData\",C428, \"PerCentNetLastTrade\",, \"T\")/100,\"\")","v":""},{"$f":"IFERROR(RANK($D428,$D$1:D$447)+COUNTIF($D$1:D428,D428)-1,0)","v":0},0,"S.US.WH",428,""]
[null,1,"S.US.WING",{"$f":"IFERROR(RTD(\"cqg.rtd\", ,\"ContractData\",C429, \"PerCentNetLastTrade\",, \"T\")/100,\"\")","v":""},{"$f":"IFERROR(RANK($D429,$D$1:D$447)+COUNTIF($D$1:D429,D429)-1,0)","v":0},0,"S.US.WING",429,""]
[null,1,"S.US.WM",{"$f":"IFERROR(RTD(\"cqg.rtd\", ,\"ContractData\",C430, \"PerCentNetLastTrade\",, \"T\")/100,\"\")","v":""},{"$f":"IFERROR(RANK($D430,$D$1:D$447)+COUNTIF($D$1:D430,D430)-1,0)","v":0},0,"S.US.WM",430,""]
[null,1,"S.US.WMB",{"$f":"IFERROR(RTD(\"cqg.rtd\", ,\"ContractData\",C431, \"PerCentNetLastTrade\",, \"T\")/100,\"\")","v":""},{"$f":"IFERROR(RANK($D431,$D$1:D$447)+COUNTIF($D$1:D431,D431)-1,0)","v":0},0,"S.US.WMB",431,""]
[null,1,"S.US.WMG",{"$f":"IFERROR(RTD(\"cqg.rtd\", ,\"ContractData\",C432, \"PerCentNetLastTrade\",, \"T\")/100,\"\")","v":""},{"$f":"IFERROR(RANK($D432,$D$1:D$447)+COUNTIF($D$1:D432,D432)-1,0)","v":0},0,"S.US.WMG",432,""]
[null,1,"S.US.WMS",{"$f":"IFERROR(RTD(\"cqg.rtd\", ,\"ContractData\",C433, \"PerCentNetLastTrade\",, \"T\")/100,\"\")","v":""},{"$f":"IFERROR(RANK($D433,$D$1:D$447)+COUNTIF($D$1:D433,D433)-1,0)","v":0},0,"S.US.WMS",433,""]
[null,1,"S.US.WMT",{"$f":"IFERROR(RTD(\"cqg.rtd\", ,\"ContractData\",C434, \"PerCentNetLastTrade\",, \"T\")/100,\"\")","v":""},{"$f":"IFERROR(RANK($D434,$D$1:D$447)+COUNTIF($D$1:D434,D434)-1,0)","v":0},0,"S.US.WMT",434,""]
[null,1,"S.US.WRB",{"$f":"IFERROR(RTD(\"cqg.rtd\", ,\"ContractData\",C435, \"PerCentNetLastTrade\",, \"T\")/100,\"\")","v":""},{"$f":"IFERROR(RANK($D435,$D$1:D$447)+COUNTIF($D$1:D435,D435)-1,0)","v":0},0,"S.US.WRB",435,""]
[null,1,"S.US.WSM",{"$f":"IFERROR(RTD(\"cqg.rtd\", ,\"ContractData\",C436, \"PerCentNetLastTrade\",, \"T\")/100,\"\")","v":""},{"$f":"IFERROR(RANK($D436,$D$1:D$447)+COUNTIF($D$1:D436,D436)-1,0)","v":0},0,"S.US.WSM",436,""]
[null,1,"S.US.WSO",{"$f":"IFERROR(RTD(\"cqg.rtd\", ,\"ContractData\",C437, \"PerCentNetLastTrade\",, \"T\")/100,\"\")","v":""},{"$f":"IFERROR(RANK($D437,$D$1:D$447)+COUNTIF($D$1:D437,D437)-1,0)","v":0},0,"S.US.WSO",437,""]
[null,1,"S.US.WTFC",{"$f":"IFERROR(RTD(\"cqg.rtd\", ,\"ContractData\",C438, \"PerCentNetLastTrade\",, \"T\")/100,\"\")","v":""},{"$f":"IFERROR(RANK($D438,$D$1:D$447)+COUNTIF($D$1:D438,D438)-1,0)","v":0},0,"S.US.WTFC",438,""]
[null,1,"S.US.WTS",{"$f":"IFERROR(RTD(\"cqg.rtd\", ,\"ContractData\",C439, \"PerCentNetLastTrade\",, \"T\")/100,\"\")","v":""},{"$f":"IFERROR(RANK($D439,$D$1:D$447)+COUNTIF($D$1:D439,D439)-1,0)","v":0},0,"S.US.WTS",439,""]
[null,1,"S.US.WTW",{"$f":"IFERROR(RTD(\"cqg.rtd\", ,\"ContractData\",C440, \"PerCentNetLastTrade\",, \"T\")/100,\"\")","v":""},{"$f":"IFERROR(RANK($D440,$D$1:D$447)+COUNTIF($D$1:D440,D440)-1,0)","v":0},0,"S.US.WTW",440,""]
[null,1,"S.US.WWD",{"$f":"IFERROR(RTD(\"cqg.rtd\", ,\"ContractData\",C441, \"PerCentNetLastTrade\",, \"T\")/100,\"\")","v":""},{"$f":"IFERROR(RANK($D441,$D$1:D$447)+COUNTIF($D$1:D441,D441)-1,0)","v":0},0,"S.US.WWD",441,""]
[null,1,"S.US.WYNN",{"$f":"IFERROR(RTD(\"cqg.rtd\", ,\"ContractData\",C442, \"PerCentNetLastTrade\",, \"T\")/100,\"\")","v":""},{"$f":"IFERROR(RANK($D442,$D$1:D$447)+COUNTIF($D$1:D442,D442)-1,0)","v":0},0,"S.US.WYNN",442,""]
[null,1,"S.US.XPO",{"$f":"IFERROR(RTD(\"cqg.rtd\", ,\"ContractData\",C443, \"PerCentNetLastTrade\",, \"T\")/100,\"\")","v":""},{"$f":"IFERROR(RANK($D443,$D$1:D$447)+COUNTIF($D$1:D443,D443)-1,0)","v":0},0,"S.US.XPO",443,""]
[null,1,"S.US.YETI",{"$f":"IFERROR(RTD(\"cqg.rtd\", ,\"ContractData\",C444, \"PerCentNetLastTrade\",, \"T\")/100,\"\")","v":""},{"$f":"IFERROR(RANK($D444,$D$1:D$447)+COUNTIF($D$1:D444,D444)-1,0)","v":0},0,"S.US.YETI",444,""]
[null,1,"S.US.YUM",{"$f":"IFERROR(RTD(\"cqg.rtd\", ,\"ContractData\",C445, \"PerCentNetLastTrade\",, \"T\")/100,\"\")","v":""},{"$f":"IFERROR(RANK($D445,$D$1:D$447)+COUNTIF($D$1:D445,D445)-1,0)","v":0},0,"S.US.YUM",445,""]
[null,1,"S.US.ZBRA",{"$f":"IFERROR(RTD(\"cqg.rtd\", ,\"ContractData\",C446, \"PerCentNetLastTrade\",, \"T\")/100,\"\")","v":""},{"$f":"IFERROR(RANK($D446,$D$1:D$447)+COUNTIF($D$1:D446,D446)-1,0)","v":0},0,"S.US.ZBRA",446,""]
[null,1,"S.US.ZION",{"$f":"IFERROR(RTD(\"cqg.rtd\", ,\"ContractData\",C447, \"PerCentNetLastTrade\",, \"T\")/100,\"\")","v":""},{"$f":"IFERROR(RANK($D447,$D$1:D$447)+COUNTIF($D$1:D447,D447)-1,0)","v":0},0,"S.US.ZION",447,""]
[]
[]
[null,{"$f":"SUM(B1:B447)","v":447},null,null,null,null,null,{"$f":"B450/447","v":1}]
[]
[]
[]
[]
[]
[]
[]
[]
[]
[]
[]
[]
[]
[]
[]
[]
[]
[]
[]
[]
[]
[]
[]
[]
[]
[]
[]
[]
[]
[]
[]
[]
[]
[]
[]
[]
[]
[]
[]
[]
[]
[]
[]
[]
[]
[]
[]
[]
[]
[]
[]
[]
[]
[]
[]
[]
[]
[]
[]
[]
[]
[]
[]
[]
[]
[]
[]
[]
[]
[]
[]
[]
[]
[]
[]
[]
[]
[]
[]
[]
[]
[]
[]
[]
[]
[]
[]
[]
[]
[]
[]
[]
[]
[]
[]
[]
[]
[]
[]
[]
[]
[]
[]
[]
[]
[]
[]
[]
[]
[]
[]
[]
[]
[]
[]
[]
[]
[]
[]
[]
[]
[]
[]
[]
[]
[]
[]
[]
[]
[]
[]
[]
[]
[]
[]
[]
[]
[]
[]
[]
[]
[]
[]
[]
[]
[]
[]
[]
[]
[]
[]
[]
[]
[]
[]
[]
[]
[]
[]
[]
[]
[]
[]
[]
[]
[]
[]
[]
[]
[]
[]
[]
[]
[]
[]
[]
[]
[]
[]
[]
[]
[]
[]
[]
[]
[]
[]
[]
[]
[]
[]
[]
[]
[]
[]
[]
[]
[]
[]
[]
[]
[]
[]
[]
[]
[]
[]
[]
[]
[]
[]
[]
[]
[]
[]
[]
[]
[]
[]
[]
[]
[]
[]
[]
[]
[]
[]
[]
[]
[]
[]
[]
[]
[]
[]
[]
[]
[]
[]
[]
[]
[]
[]
[]
[]
[]
[]
[]
[]
[]
[]
[]
[]
[]
[]
[]
[]
[]
[]
[]
[]
[]
[]
[]
[]
[]
[]
[]
[]
[]
[]
[]
[]
[]
[]
[]
[]
[]
[]
[]
[]
[]
[]
[]
[]
[]
[]
[]
[]
[]
[]
[]
[]
[]
[]
[]
[]
[]
[]
[]
[]
[]
[]
[]
[]
[]
[]
[]
[]
[]
[]
[]
[]
[]
[]
[]
[]
[]
[]
[]
[]
[]
[]
[]
[]
[]
[]
[]
[]
[]
[]
[]
[]
[]
[]
[]
[]
[]
[]
[]
[]
[]
[]
[]
[]
[]
[]
[]
[]
[]
[]
[]
[]
[]
[]
[]
[]
[]
[]
[]
[]
[]
[]
[]
[]
[]
[]
[]
[]
[]
[]
[]
[]
[]
[]
[]
[]
[]
[]
[]
[]
[]
[]
[]
[]
[]
[]
[]
[]
[]
[]
[]
[]
[]
[]
[]
[]
[]
[]
[]
[]
[]
[]
[]
[]
[]
[]
[]
[]
[]
[]
[]
[]
[]
[]
[]
[]
[]
[]
[]
[]
[]
[]
[]
[]
[]
[]
[]
[]
[]
[]
[]
[]
[]
[]
[]
[]
[]
[]
[]
[]
[]
[]
[]
[]
[]
[]
[]
[]
[]
[]
[]
[]
[]
[]
[]
[]
[]
[]
[]
[]
[]
[]
[]
[]
[]
[]
[]
[]
[]
[]
[]
[]
[]
[]
[]
[]
[]
[]
[]
[]
[]
[]
[]
[]
[]
[]
[]
[]
[]
[]
[]
[]
[]
[]
[]
[]
[]
[]
[]
[]
[]
[]
[]
[]
[]
[]
[]
[]
[]
[]
[]
[]
[]
[]
[]
[]
[]
[]
[]
[]
[]
[]
[]
[]
[]
[]
[]
[]
[]
[]
[]
[]
[]
[]
[]
[]
[]
[]
[]
[]
[]
[]
[]
[]
[]
[]
[]
[]
[]
[]
[]
[]
[]
[]
[]
[]
[]
[]
[]
[]
[]
[]
[]
[]
[]
[]
[]
[]
[]
[]
[]
[]
[]
[]
[]
[]
[]
[]
[]
[]
[]
[]
[]
[]
[]
[]
[]
[]
[]
[]
[]
[]
[]
[]
[]
[]
[]
[]
[]
[]
[]
[]
[]
[]
[]
[]
[]
[]
[]
[]
[]
[]
[]
[]
[]
[]
[]
[]
[]
[]
[]
[]
[]
[]
[]
[]
[]
[]
[]
[]
[]
[]
[]
[]
[]
[]
[]
[]
[]
[]
[]
[]
[]
[]
[]
[]
[]
[]
[]
[]
[]
[]
[]
[]
[]
[]
[]
[]
[]
[]
[]
[]
[]
[]
[]
[]
[]
[]
[]
[]
[]
[]
[]
[]
[]
[]
[]
[]
[]
[]
[]
[]
[]
[]
[]
[]
[]
[]
[]
[]
[]
[]
[]
[]
[]
[]
[]
[]
[]
[]
[]
[]
[]
[]
[]
[]
[]
[]
[]
[]
[]
[]
[]
[]
[]
[]
[]
[]
[]
[]
[]
[]
[]
[]
[]
[]
[]
[]
[]
[]
[]
[]
[]
[]
[]
[]
[]
[]
[]
[]
[]
[]
[]
[]
[]
[]
[]
[]
[]
[]
[]
[]
[]
[]
[]
[]
[]
[]
[]
[]
[]
[]
[]
[]
[]
[]
[]
[]
[]
[]
[]
[]
[]
[]
[]
[]
[]
[]
[]
[]
[]
[]
[]
[]
[]
[]
[]
[]
[]
[]
[]
[]
[]
[]
[]
[]
[]
[]
[]
[]
[]
[]
[]
[]
[]
[]
[]
[]
[]
[]
[]
[]
[]
[]
[]
[]
[]
[]
[]
[]
[]
[]
[]
[]
[]
[]
[]
[]
[]
[]
[]
[]
[]
[]
[]
[]
[]
[]
[]
[]
[]
[]
[]
[]
[]
[]
[]
[]
[]
[]
[]
[]
[]
[]
[]
[]
[]
[]
[]
[]
[]
[]
[]
[]
[]
[]
[]
[]
[]
[]
[]
[]
[]
[]
[]
[]
[]
[]
[]
[]
[]
[]
[]
[]
[]
[]
[]
[]
[]
[]
[]
[]
[]
[]
[]
[]
[]
[]
[]
[]
[]
[]
[]
[]
[]
[]
[]
[]
[]
[]
[]
[]
[]
[]
[]
[]
[]
[]
[]
[]
[]
[]
[]
[]
[]
[]
[]
[]
[]
[]
[]
[]
[]
[]
[]
[]
[]
[]
[]
[]
[]
[]
[]
[]
[]
[]
[]
[]
[]
[]
[]
[]
[]
[]
[]
[]
[]
[]
[]
[]
[]
[]
[]
[]
[]
[]
[]
[]
[]
[]
[]
[]
[]
[]
[]
[]
[]
[]
[]
[]
[]
[]
[]
[]
[]
[]
[]
[]
[]
[]
[]
[]
[]
[]
[]
[]
[]
[]
[]
[]
[]
[]
[]
[]
[]
[]
[]
[]
[]
[]
[]
[]
[]
[]
[]
[]
[]
[]
[]
[]
[]
[]
[]
[]
[]
[]
[]
[]
[]
[]
[]
[]
[]
[]
[]
[]
[]
[]
[]
[]
[]
[]
[]
[]
[]
[]
[]
[]
[]
[]
[]
[]
[]
[]
[]
[]
[]
[]
[]
[]
[]
[]
[]
[]
[]
[]
[]
[]
[]
[]
[]
[]
[]
[]
[]
[]
[]
[]
[]
[]
[]
[]
[]
[]
[]
[]
[]
[]
[]
[]
[]
[]
[]
[]
[]
[]
[]
[]
[]
[]
[]
[]
[]
[]
[]
[]
[]
[]
[]
[]
[]
[]
[]
[]
[]
[]
[]
[]
[]
[]
[]
[]
[]
[]
[]
[]
[]
[]
[]
[]
[]
[]
[]
[]
[]
[]
[]
[]
[]
[]
[]
[]
[]
[]
[]
[]
[]
[]
[]
[]
[]
[]
[]
[]
[]
[]
[]
[]
[]
[]
[]
[]
[]
[]
[]
[]
[]
[]
[]
[]
[]
[]
[]
[]
[]
[]
[]
[]
[]
[]
[]
[]
[]
[]
[]
[]
[]
[]
[]
[]
[]
[]
[]
[]
[]
[]
[]
[]
[]
[]
[]
[]
[]
[]
[]
[]
[]
[]
[]
[]
[]
[]
[]
[]
[]
[]
[]
[]
[]
[]
[]
[]
[]
[]
[]
[]
[]
[]
[]
[]
[]
[]
[]
[]
[]
[]
[]
[]
[]
[]
[]
[]
[]
[]
[]
[]
[]
[]
[]
[]
[]
[]
[]
[]
[]
[]
[]
[]
[]
[]
[]
[]
[]
[]
[]
[]
[]
[]
[]
[]
[]
[]
[]
[]
[]
[]
[]
[]
[]
[]
[]
[]
[]
[]
[]
[]
[]
[]
[]
[]
[]
[]
[]
[]
[]
[]
[]
[]
[]
[]
[]
[]
[]
[]
[]
[]
[]
[]
[]
[]
[]
[]
[]
[]
[]
[]
[]
[]
[]
[]
[]
[]
[]
[]
[]
[]
[]
[]
[]
[]
[]
[]
[]
[]
[]
[]
[]
[]
[]
[]
[]
[]
[]
[]
[]
[]
[]
[]
[]
[]
[]
[]
[]
[]
[]
[]
[]
[]
[]
[]
[]
[]
[]
[]
[]
[]
[]
[]
[]
[]
[]
[]
[]
[]
[]
[]
[]
[]
[]
[]
[]
[]
[]
[]
[]
[]
[]
[]
[]
[]
[]
[]
[]
[]
[]
[]
[]
[]
[]
[]
[]
[]
[]
[]
[]
[]
[]
[]
[]
[]
[]
[]
[]
[]
[]
[]
[]
[]
[]
[]
[]
[]
[]
[]
[]
[]
[]
[]
[]
[]
[]
[]
[]
[]
[]
[]
[]
[]
[]
[]
[]
[]
[]
[]
[]
[]
[]
[]
[]
[]
[]
[]
[]
[]
[]
[]
[]
[]
[]
[]
[]
[]
[]
[]
[]
[]
[]
[]
[]
[]
[]
[]
[]
[]
[]
[]
[]
[]
[]
[]
[]
[]
[]
[]
[]
[]
[]
[]
[]
[]
[]
[]
[]
[]
[]
[]
[]
[]
[]
[]
[]
[]
[]
[]
[]
[]
[]
[]
[]
[]
[]
[]
[]
[]
[]
[]
[]
[]
[]
[]
[]
[]
[]
[]
[]
[]
[]
[]
[]
[]
[]
[]
[]
[]
[]
[]
[]
[]
[]
[]
[]
[]
[]
[]
[]
[]
[]
[]
[]
[]
[]
[]
[]
[]
[]
[]
[]
[]
[]
[]
[]
[]
[]
[]
[]
[]
[]
[]
[]
[]
[]
[]
[]
[]
[]
[]
[]
[]
[]
[]
[]
[]
[]
[]
[]
[]
[]
[]
[]
[]
[]
[]
[]
[]
[]
[]
[]
[]
[]
[]
[]
[]
[]
[]
[]
[]
[]
[]
[]
[]
[]
[]
[]
[]
[]
[]
[]
[]
[]
[]
[]
[]
[]
[]
[]
[]
[]
[]
[]
[]
[]
[]
[]
[]
[]
[]
[]
[]
[]
[]
[]
[]
[]
[]
[]
[]
[]
[]
[]
[]
[]
[]
[]
[]
[]
[]
[]
[]
[]
[]
[]
[]
[]
[]
[]
[]
[]
[]
[]
[]
[]
[]
[]
[]
[]
[]
[]
[]
[]
[]
[]
[]
[]
[]
[]
[]
[]
[]
[]
[]
[]
[]
[]
[]
[]
[]
[]
[]
[]
[]
[]
[]
[]
[]
[]
[]
[]
[]
[]
[]
[]
[]
[]
[]
[]
[]
[]
[]
[]
[]
[]
[]
[]
[]
[]
[]
[]
[]
[]
[]
[]
[]
[]
[]
[]
[]
[]
[]
[]
[]
[]
[]
[]
[]
[]
[]
[]
[]
[]
[]
[]
[]
[]
[]
[]
[]
[]
[]
[]
[]
[]
[]
[]
[]
[]
[]
[]
[]
[]
[]
[]
[]
[]
[]
[]
[]
[]
[]
[]
[]
[]
[]
[]
[]
[]
[]
[]
[]
[]
[]
[]
[]
[]
[]
[]
[]
[]
[]
[]
[]
[]
[]
[]
[]
[]
[]
[]
[]
[]
[]
[]
[]
[]
[]
[]
[]
[]
[]
[]
[]
[]
[]
[]
[]
[]
[]
[]
[]
[]
[]
[]
[]
[]
[]
[]
[]
[]
[]
[]
[]
[]
[]
[]
[]
[]
[]
[]
[]
[]
[]
[]
[]
[]
[]
[]
[]
[]
[]
[]
[]
[]
[]
[]
[]
[]
[]
[]
[]
[]
[]
[]
[]
[]
[]
[]
[]
[]
[]
[]
[]
[]
[]
[]
[]
[]
[]
[]
[]
[]
[]
[]
[]
[]
[]
[]
[]
[]
[]
[]
[]
[]
[]
[]
[]
[]
[]
[]
[]
[]
[]
[]
[]
[]
[]
[]
[]
[]
[]
[]
[]
[]
[]
[]
[]
[]
[]
[]
[]
[]
[]
[]
[]
[]
[]
[]
[]
[]
[]
[]
[]
[]
[]
[]
[]
[]
[]
[]
[]
[]
[]
[]
[]
[]
[]
[]
[]
[]
[]
[]
[]
[]
[]
[]
[]
[]
[]
[]
[]
[]
[]
[]
[]
[]
[]
[]
[]
[]
[]
[]
[]
[]
[]
[]
[]
[]
[]
[]
[]
[]
[]
[]
[]
[]
[]
[]
[]
[]
[]
[]
[]
[]
[]
[]
[]
[]
[]
[]
[]
[]
[]
[]
[]
[]
[]
[]
[]
[]
[]
[]
[]
[]
[]
[]
[]
[]
[]
[]
[]
[]
[]
[]
[]
[]
[]
[]
[]
[]
[]
[]
[]
[]
[]
[]
[]
[]
[]
[]
[]
[]
[]
[]
[]
[]
[]
[]
[]
[]
[]
[]
[]
[]
[]
[]
[]
[]
[]
[]
[]
[]
[]
[]
[]
[]
[]
[]
[]
[]
[]
[]
[]
[]
[]
[]
[]
[]
[]
[]
[]
[]
[]
[]
[]
[]
[]
[]
[]
[]
[]
[]
[]
[]
[]
[]
[]
[]
[]
[]
[]
[]
[]
[]
[]
[]
[]
[]
[]
[]
[]
[]
[]
[]
[]
[]
[]
[]
[]
[]
[]
[]
[]
[]
[]
[]
[]
[]
[]
[]
[]
[]
[]
[]
[]
[]
[]
[]
[]
[]
[]
[]
[]
[]
[]
[]
[]
[]
[]
[]
[]
[]
[]
[]
[]
[]
[]
[]
[]
[]
[]
[]
[]
[]
[]
[]
[]
[]
[]
[]
[]
[]
[]
[]
[]
[]
[]
[]
[]
[]
[]
[]
[]
[]
[]
[]
[]
[]
[]
[]
[]
[]
[]
[]
[]
[]
[]
[]
[]
[]
[]
[]
[]
[]
[]
[]
[]
[]
[]
[]
[]
[]
[]
[]
[]
[]
[]
[]
[]
[]
[]
[]
[]
[]
[]
[]
[]
[]
[]
[]
[]
[]
[]
[]
[]
[]
[]
[]
[]
[]
[]
[]
[]
[]
[]
[]
[]
[]
[]
[]
[]
[]
[]
[]
[]
[]
[]
[]
[]
[]
[]
[]
[]
[]
[]
[]
[]
[]
[]
[]
[]
[]
[]
[]
[]
[]
[]
[]
[]
[]
[]
[]
[]
[]
[]
[]
[]
[]
[]
[]
[]
[]
[]
[]
[]
[]
[]
[]
[]
[]
[]
[]
[]
[]
[]
[]
[]
[]
[]
[]
[]
[]
[]
[]
[]
[]
[]
[]
[]
[]
[]
[]
[]
[]
[]
[]
[]
[]
[]
[]
[]
[]
[]
[]
[]
[]
[]
[]
[]
[]
[]
[]
[]
[]
[]
[]
[]
[]
[]
[]
[]
[]
[]
[]
[]
[]
[]
[]
[]
[]
[]
[]
[]
[]
[]
[]
[]
[]
[]
[]
[]
[]
[]
[]
[]
[]
[]
[]
[]
[]
[]
[]
[]
[]
[]
[]
[]
[]
[]
[]
[]
[]
[]
[]
[]
[]
[]
[]
[]
[]
[]
[]
[]
[]
[]
[]
[]
[]
[]
[]
[]
[]
[]
[]
[]
[]
[]
[]
[]
[]
[]
[]
[]
[]
[]
[]
[]
[]
[]
[]
[]
[]
[]
[]
[]
[]
[]
[]
[]
[]
[]
[]
[]
[]
[]
[]
[]
[]
[]
[]
[]
[]
[]
[]
[]
[]
[]
[]
[]
[]
[]
[]
[]
[]
[]
[]
[]
[]
[]
[]
[]
[]
[]
[]
[]
[]
[]
[]
[]
[]
[]
[]
[]
[]
[]
[]
[]
[]
[]
[]
[]
[]
[]
[]
[]
[]
[]
[]
[]
[]
[]
[]
[]
[]
[]
[]
[]
[]
[]
[]
[]
[]
[]
[]
[]
[]
[]
[]
[]
[]
[]
[]
[]
[]
[]
[]
[]
[]
[]
[]
[]
[]
[]
[]
[]
[]
[]
[]
[]
[]
[]
[]
[]
[]
[]
[]
[]
[]
[]
[]
[]
[]
[]
[]
[]
[]
[]
[]
[]
[]
[null,null,null,null,1945]
[null,null,null,null,1945]
[null,null,null,null,1945]
[null,null,null,null,1945]
[null,null,null,null,1945]
[null,null,null,null,1945]
[null,null,null,null,1945]
[null,null,null,null,1945]
[null,null,null,null,1945]
[null,null,null,null,1945]
[null,null,null,null,1945]
[null,null,null,null,1945]
[null,null,null,null,1945]
[null,null,null,null,1945]
[null,null,null,null,1945]
[null,null,null,null,1945]
[null,null,null,null,1945]
[null,null,null,null,1945]
[null,null,null,null,1945]
[null,null,null,null,1945]
[null,null,null,null,1945]
[null,null,null,null,1945]
[null,null,null,null,1945]
[null,null,null,null,1945]
[null,null,null,null,1945]