{"text_format":"1","workbook":"xlsx","n_sheets":2,"sheets":["Display","IWF"],"not_rendered":{"charts":2,"images":3,"macros":1,"external_links":0,"defined_names":0,"comments":0,"pivot_tables":0},"unopened":[],"bounds":{"document_bytes":16777216,"sheet_cells":100000,"rows_first":2000,"rows_last":500,"rows_between":2000,"halvings":0,"cell_chars":16384,"cell_head_chars":4096},"cells_cut":0,"cells_raw":0,"read":"whole","date_system":"1900"}

{"sheet":"Display","index":0,"n_rows":52,"n_cols":28,"rows_kept":52,"cut":false,"hidden":false,"merged":[[48,25,48,30],[35,2,35,6],[35,14,35,15],[36,2,36,6],[36,14,36,15],[48,9,48,24],[46,2,46,6],[46,14,46,15],[47,2,47,6],[47,14,47,15],[37,2,37,6],[37,14,37,15],[38,2,38,6],[38,14,38,15],[39,2,39,6],[39,14,39,15],[44,2,44,6],[44,14,44,15],[45,2,45,6],[45,14,45,15],[40,2,40,6],[40,14,40,15],[42,2,42,6],[42,14,42,15],[41,2,41,6],[41,14,41,15],[43,2,43,6],[43,14,43,15],[31,2,31,6],[31,14,31,15],[33,2,33,6],[33,14,33,15],[34,2,34,6],[34,14,34,15],[32,2,32,6],[32,14,32,15],[28,2,28,6],[28,14,28,15],[29,2,29,6],[29,14,29,15],[30,2,30,6],[30,14,30,15],[25,2,25,6],[25,14,25,15],[26,2,26,6],[26,14,26,15],[27,2,27,6],[27,14,27,15],[22,2,22,6],[22,14,22,15],[23,2,23,6],[23,14,23,15],[24,2,24,6],[24,14,24,15],[5,14,5,15],[4,1,4,16],[18,2,18,6],[18,14,18,15],[19,2,19,6],[19,14,19,15],[16,2,16,6],[16,14,16,15],[1,1,2,4],[1,27,2,30],[1,5,2,26],[4,18,4,30],[17,2,17,6],[17,14,17,15],[15,2,15,6],[5,2,5,6],[15,14,15,15],[14,14,14,15],[13,14,13,15],[12,14,12,15],[11,14,11,15],[10,14,10,15],[9,14,9,15],[9,2,9,6],[26,18,26,30],[6,2,6,6],[7,2,7,6],[8,2,8,6],[14,2,14,6],[10,2,10,6],[11,2,11,6],[12,2,12,6],[13,2,13,6],[8,14,8,15],[7,14,7,15],[6,14,6,15],[20,2,20,6],[20,14,20,15],[21,2,21,6],[21,14,21,15]]}
[]
[null,null,null,null,null,"CQG iShares Russell 1000® Growth ETF Performance",null,null,null,null,null,null,null,null,null,null,null,null,null,null,null,null,null,null,null,null,null,{"$f":"RTD(\"cqg.rtd\", ,\"SystemInfo\", \"Linetime\")","v":45783.605439814812}]
[]
[]
[null,"Exchange Traded Funds Performance",null,null,null,null,null,null,null,null,null,null,null,null,null,null,null,null,"Top 15 Performing Companies "]
[null,"Symbol","Description",null,null,null,null,"Last","NC","%NC","NC/ATR","Open","High","Low","Volume",null,"Ratio"]
[null,"IWF",{"$f":"RTD(\"cqg.rtd\", ,\"ContractData\",B7, \"LongDescription\",, \"T\")","v":"iShares Russell 1000 Growth ETF"},null,null,null,null,{"$f":"RTD(\"cqg.rtd\", ,\"ContractData\",B7, \"LastTradeToday\",, \"T\")","v":372.71},{"$f":"RTD(\"cqg.rtd\", ,\"ContractData\",B7, \"NetLastTradeToday\",, \"T\")","v":-2.0100000000000002},{"$f":"RTD(\"cqg.rtd\", ,\"ContractData\",B7, \"PerCentNetLastTrade\",, \"T\")/100","v":-5.3640051238257906E-3},{"$f":" I7/RTD(\"cqg.rtd\",,\"StudyData\",B7, \"ATR\", \"MaType=Sim,Period=10\", \"ATR\",\"D\",\"-1\",\"ALL\",,,\"FALSE\",\"T\")/100","v":-2.3500526131182043E-3},{"$f":"RTD(\"cqg.rtd\", ,\"ContractData\",B7, \"OPen\",, \"T\")","v":370.35},{"$f":"RTD(\"cqg.rtd\", ,\"ContractData\", B7, \"HIgh\",, \"T\")","v":374.3},{"$f":"RTD(\"cqg.rtd\", ,\"ContractData\",B7, \"LOw\",, \"T\")","v":369.40000000000003},{"$f":"RTD(\"cqg.rtd\", ,\"ContractData\",B7, \"T_CVol\",, \"T\")","v":815974},null,{"$f":" IFERROR(O7/RTD(\"cqg.rtd\",,\"StudyData\",B7, \"MA\", \"InputChoice=Vol,MAType=Sim,Period=21\", \"MA\",\"D\",\"-1\",\"all\",,,,\"T\"),\"\")","v":0.33183895181407774}]
[null,"SPY",{"$f":"RTD(\"cqg.rtd\", ,\"ContractData\",B8, \"LongDescription\",, \"T\")","v":"SPDR S&P 500"},null,null,null,null,{"$f":"RTD(\"cqg.rtd\", ,\"ContractData\",B8, \"LastTradeToday\",, \"T\")","v":560.88},{"$f":"RTD(\"cqg.rtd\", ,\"ContractData\",B8, \"NetLastTradeToday\",, \"T\")","v":-2.63},{"$f":"RTD(\"cqg.rtd\", ,\"ContractData\",B8, \"PerCentNetLastTrade\",, \"T\")/100","v":-4.6671753828680948E-3},{"$f":" I8/RTD(\"cqg.rtd\",,\"StudyData\",B8, \"ATR\", \"MaType=Sim,Period=10\", \"ATR\",\"D\",\"-1\",\"ALL\",,,\"FALSE\",\"T\")/100","v":-2.3751467533640385E-3},{"$f":"RTD(\"cqg.rtd\", ,\"ContractData\",B8, \"OPen\",, \"T\")","v":557.93000000000006},{"$f":"RTD(\"cqg.rtd\", ,\"ContractData\", B8, \"HIgh\",, \"T\")","v":563.34},{"$f":"RTD(\"cqg.rtd\", ,\"ContractData\",B8, \"LOw\",, \"T\")","v":556.96},{"$f":"RTD(\"cqg.rtd\", ,\"ContractData\",B8, \"T_CVol\",, \"T\")","v":33353268},null,{"$f":" IFERROR(O8/RTD(\"cqg.rtd\",,\"StudyData\",B8, \"MA\", \"InputChoice=Vol,MAType=Sim,Period=21\", \"MA\",\"D\",\"-1\",\"all\",,,,\"T\"),\"\")","v":0.32684591666593116}]
[null,"XLF",{"$f":"RTD(\"cqg.rtd\", ,\"ContractData\",B9, \"LongDescription\",, \"T\")","v":"Financial Select Sector SPDR"},null,null,null,null,{"$f":"RTD(\"cqg.rtd\", ,\"ContractData\",B9, \"LastTradeToday\",, \"T\")","v":49.36},{"$f":"RTD(\"cqg.rtd\", ,\"ContractData\",B9, \"NetLastTradeToday\",, \"T\")","v":-0.08},{"$f":"RTD(\"cqg.rtd\", ,\"ContractData\",B9, \"PerCentNetLastTrade\",, \"T\")/100","v":-1.6181229773462782E-3},{"$f":" I9/RTD(\"cqg.rtd\",,\"StudyData\",B9, \"ATR\", \"MaType=Sim,Period=10\", \"ATR\",\"D\",\"-1\",\"ALL\",,,\"FALSE\",\"T\")/100","v":-7.8125000000000004E-4},{"$f":"RTD(\"cqg.rtd\", ,\"ContractData\",B9, \"OPen\",, \"T\")","v":49},{"$f":"RTD(\"cqg.rtd\", ,\"ContractData\", B9, \"HIgh\",, \"T\")","v":49.550000000000004},{"$f":"RTD(\"cqg.rtd\", ,\"ContractData\",B9, \"LOw\",, \"T\")","v":48.97},{"$f":"RTD(\"cqg.rtd\", ,\"ContractData\",B9, \"T_CVol\",, \"T\")","v":21783005},null,{"$f":" IFERROR(O9/RTD(\"cqg.rtd\",,\"StudyData\",B9, \"MA\", \"InputChoice=Vol,MAType=Sim,Period=21\", \"MA\",\"D\",\"-1\",\"all\",,,,\"T\"),\"\")","v":0.34265399095905186}]
[null,"S.GDX",{"$f":"RTD(\"cqg.rtd\", ,\"ContractData\",B10, \"LongDescription\",, \"T\")","v":"Market Vectors Gold Miners ETF"},null,null,null,null,{"$f":"RTD(\"cqg.rtd\", ,\"ContractData\",B10, \"LastTradeToday\",, \"T\")","v":50.49},{"$f":"RTD(\"cqg.rtd\", ,\"ContractData\",B10, \"NetLastTradeToday\",, \"T\")","v":1.77},{"$f":"RTD(\"cqg.rtd\", ,\"ContractData\",B10, \"PerCentNetLastTrade\",, \"T\")/100","v":3.6330049261083748E-2},{"$f":" I10/RTD(\"cqg.rtd\",,\"StudyData\",B10, \"ATR\", \"MaType=Sim,Period=10\", \"ATR\",\"D\",\"-1\",\"ALL\",,,\"FALSE\",\"T\")/100","v":1.1295469049138482E-2},{"$f":"RTD(\"cqg.rtd\", ,\"ContractData\",B10, \"OPen\",, \"T\")","v":49.910000000000004},{"$f":"RTD(\"cqg.rtd\", ,\"ContractData\", B10, \"HIgh\",, \"T\")","v":50.51},{"$f":"RTD(\"cqg.rtd\", ,\"ContractData\",B10, \"LOw\",, \"T\")","v":49.36},{"$f":"RTD(\"cqg.rtd\", ,\"ContractData\",B10, \"T_CVol\",, \"T\")","v":18614244},null,{"$f":" IFERROR(O10/RTD(\"cqg.rtd\",,\"StudyData\",B10, \"MA\", \"InputChoice=Vol,MAType=Sim,Period=21\", \"MA\",\"D\",\"-1\",\"all\",,,,\"T\"),\"\")","v":0.65062052976381923}]
[null,"S.FXI",{"$f":"RTD(\"cqg.rtd\", ,\"ContractData\",B11, \"LongDescription\",, \"T\")","v":"iShares China Large-Cap ETF"},null,null,null,null,{"$f":"RTD(\"cqg.rtd\", ,\"ContractData\",B11, \"LastTradeToday\",, \"T\")","v":35.29},{"$f":"RTD(\"cqg.rtd\", ,\"ContractData\",B11, \"NetLastTradeToday\",, \"T\")","v":0.42},{"$f":"RTD(\"cqg.rtd\", ,\"ContractData\",B11, \"PerCentNetLastTrade\",, \"T\")/100","v":1.204473759678807E-2},{"$f":" I11/RTD(\"cqg.rtd\",,\"StudyData\",B11, \"ATR\", \"MaType=Sim,Period=10\", \"ATR\",\"D\",\"-1\",\"ALL\",,,\"FALSE\",\"T\")/100","v":7.5268817204301062E-3},{"$f":"RTD(\"cqg.rtd\", ,\"ContractData\",B11, \"OPen\",, \"T\")","v":35.19},{"$f":"RTD(\"cqg.rtd\", ,\"ContractData\", B11, \"HIgh\",, \"T\")","v":35.46},{"$f":"RTD(\"cqg.rtd\", ,\"ContractData\",B11, \"LOw\",, \"T\")","v":35.160000000000004},{"$f":"RTD(\"cqg.rtd\", ,\"ContractData\",B11, \"T_CVol\",, \"T\")","v":28092264},null,{"$f":" IFERROR(O11/RTD(\"cqg.rtd\",,\"StudyData\",B11, \"MA\", \"InputChoice=Vol,MAType=Sim,Period=21\", \"MA\",\"D\",\"-1\",\"all\",,,,\"T\"),\"\")","v":0.42183640545766093}]
[null,"IWF",{"$f":"RTD(\"cqg.rtd\", ,\"ContractData\",B12, \"LongDescription\",, \"T\")","v":"iShares Russell 1000 Growth ETF"},null,null,null,null,{"$f":"RTD(\"cqg.rtd\", ,\"ContractData\",B12, \"LastTradeToday\",, \"T\")","v":372.71},{"$f":"RTD(\"cqg.rtd\", ,\"ContractData\",B12, \"NetLastTradeToday\",, \"T\")","v":-2.0100000000000002},{"$f":"RTD(\"cqg.rtd\", ,\"ContractData\",B12, \"PerCentNetLastTrade\",, \"T\")/100","v":-5.3640051238257906E-3},{"$f":" I12/RTD(\"cqg.rtd\",,\"StudyData\",B12, \"ATR\", \"MaType=Sim,Period=10\", \"ATR\",\"D\",\"-1\",\"ALL\",,,\"FALSE\",\"T\")/100","v":-2.3500526131182043E-3},{"$f":"RTD(\"cqg.rtd\", ,\"ContractData\",B12, \"OPen\",, \"T\")","v":370.35},{"$f":"RTD(\"cqg.rtd\", ,\"ContractData\", B12, \"HIgh\",, \"T\")","v":374.3},{"$f":"RTD(\"cqg.rtd\", ,\"ContractData\",B12, \"LOw\",, \"T\")","v":369.40000000000003},{"$f":"RTD(\"cqg.rtd\", ,\"ContractData\",B12, \"T_CVol\",, \"T\")","v":815974},null,{"$f":" IFERROR(O12/RTD(\"cqg.rtd\",,\"StudyData\",B12, \"MA\", \"InputChoice=Vol,MAType=Sim,Period=21\", \"MA\",\"D\",\"-1\",\"all\",,,,\"T\"),\"\")","v":0.33183895181407774}]
[null,"IWO",{"$f":"RTD(\"cqg.rtd\", ,\"ContractData\",B13, \"LongDescription\",, \"T\")","v":"iShares Russell 2000 Growth ETF"},null,null,null,null,{"$f":"RTD(\"cqg.rtd\", ,\"ContractData\",B13, \"LastTradeToday\",, \"T\")","v":256.86},{"$f":"RTD(\"cqg.rtd\", ,\"ContractData\",B13, \"NetLastTradeToday\",, \"T\")","v":-3.13},{"$f":"RTD(\"cqg.rtd\", ,\"ContractData\",B13, \"PerCentNetLastTrade\",, \"T\")/100","v":-1.2038924574022079E-2},{"$f":" I13/RTD(\"cqg.rtd\",,\"StudyData\",B13, \"ATR\", \"MaType=Sim,Period=10\", \"ATR\",\"D\",\"-1\",\"ALL\",,,\"FALSE\",\"T\")/100","v":-5.0443190975020145E-3},{"$f":"RTD(\"cqg.rtd\", ,\"ContractData\",B13, \"OPen\",, \"T\")","v":256.07},{"$f":"RTD(\"cqg.rtd\", ,\"ContractData\", B13, \"HIgh\",, \"T\")","v":258.73},{"$f":"RTD(\"cqg.rtd\", ,\"ContractData\",B13, \"LOw\",, \"T\")","v":255.09},{"$f":"RTD(\"cqg.rtd\", ,\"ContractData\",B13, \"T_CVol\",, \"T\")","v":284927},null,{"$f":" IFERROR(O13/RTD(\"cqg.rtd\",,\"StudyData\",B13, \"MA\", \"InputChoice=Vol,MAType=Sim,Period=21\", \"MA\",\"D\",\"-1\",\"all\",,,,\"T\"),\"\")","v":0.43424849340306598}]
[null,"EP",{"$f":"RTD(\"cqg.rtd\", ,\"ContractData\",B14, \"LongDescription\",, \"T\")","v":"E-Mini S&P 500, Jun 25"},null,null,null,null,{"$f":"RTD(\"cqg.rtd\", ,\"ContractData\",B14, \"LastTradeToday\",, \"T\")","v":5646.75},{"$f":"RTD(\"cqg.rtd\", ,\"ContractData\",B14, \"NetLastTradeToday\",, \"T\")","v":-25},{"$f":"RTD(\"cqg.rtd\", ,\"ContractData\",B14, \"PerCentNetLastTrade\",, \"T\")/100","v":-4.407810640454886E-3},{"$f":" I14/RTD(\"cqg.rtd\",,\"StudyData\",B14, \"ATR\", \"MaType=Sim,Period=10\", \"ATR\",\"D\",\"-1\",\"ALL\",,,\"FALSE\",\"T\")/100","v":-2.0374898125509371E-3},{"$f":"RTD(\"cqg.rtd\", ,\"ContractData\",B14, \"OPen\",, \"T\")","v":5666.25},{"$f":"RTD(\"cqg.rtd\", ,\"ContractData\", B14, \"HIgh\",, \"T\")","v":5673.25},{"$f":"RTD(\"cqg.rtd\", ,\"ContractData\",B14, \"LOw\",, \"T\")","v":5607},{"$f":"RTD(\"cqg.rtd\", ,\"ContractData\",B14, \"T_CVol\",, \"T\")","v":1025491},null,{"$f":" IFERROR(O14/RTD(\"cqg.rtd\",,\"StudyData\",B14, \"MA\", \"InputChoice=Vol,MAType=Sim,Period=21\", \"MA\",\"D\",\"-1\",\"all\",,,,\"T\"),\"\")","v":0.56562664920073902}]
[null,"XLE",{"$f":"RTD(\"cqg.rtd\", ,\"ContractData\",B15, \"LongDescription\",, \"T\")","v":"Energy Select Sector SPDR"},null,null,null,null,{"$f":"RTD(\"cqg.rtd\", ,\"ContractData\",B15, \"LastTradeToday\",, \"T\")","v":80.84},{"$f":"RTD(\"cqg.rtd\", ,\"ContractData\",B15, \"NetLastTradeToday\",, \"T\")","v":0.34},{"$f":"RTD(\"cqg.rtd\", ,\"ContractData\",B15, \"PerCentNetLastTrade\",, \"T\")/100","v":4.2236024844720501E-3},{"$f":" I15/RTD(\"cqg.rtd\",,\"StudyData\",B15, \"ATR\", \"MaType=Sim,Period=10\", \"ATR\",\"D\",\"-1\",\"ALL\",,,\"FALSE\",\"T\")/100","v":1.801801801801802E-3},{"$f":"RTD(\"cqg.rtd\", ,\"ContractData\",B15, \"OPen\",, \"T\")","v":80.86},{"$f":"RTD(\"cqg.rtd\", ,\"ContractData\", B15, \"HIgh\",, \"T\")","v":81.22},{"$f":"RTD(\"cqg.rtd\", ,\"ContractData\",B15, \"LOw\",, \"T\")","v":80.070000000000007},{"$f":"RTD(\"cqg.rtd\", ,\"ContractData\",B15, \"T_CVol\",, \"T\")","v":9016294},null,{"$f":" IFERROR(O15/RTD(\"cqg.rtd\",,\"StudyData\",B15, \"MA\", \"InputChoice=Vol,MAType=Sim,Period=21\", \"MA\",\"D\",\"-1\",\"all\",,,,\"T\"),\"\")","v":0.3854431106760885}]
[null,"USO",{"$f":"RTD(\"cqg.rtd\", ,\"ContractData\",B16, \"LongDescription\",, \"T\")","v":"United States Oil Fund"},null,null,null,null,{"$f":"RTD(\"cqg.rtd\", ,\"ContractData\",B16, \"LastTradeToday\",, \"T\")","v":64.53},{"$f":"RTD(\"cqg.rtd\", ,\"ContractData\",B16, \"NetLastTradeToday\",, \"T\")","v":2.15},{"$f":"RTD(\"cqg.rtd\", ,\"ContractData\",B16, \"PerCentNetLastTrade\",, \"T\")/100","v":3.4466175056107724E-2},{"$f":" I16/RTD(\"cqg.rtd\",,\"StudyData\",B16, \"ATR\", \"MaType=Sim,Period=10\", \"ATR\",\"D\",\"-1\",\"ALL\",,,\"FALSE\",\"T\")/100","v":1.0952623535404991E-2},{"$f":"RTD(\"cqg.rtd\", ,\"ContractData\",B16, \"OPen\",, \"T\")","v":64.150000000000006},{"$f":"RTD(\"cqg.rtd\", ,\"ContractData\", B16, \"HIgh\",, \"T\")","v":65.41},{"$f":"RTD(\"cqg.rtd\", ,\"ContractData\",B16, \"LOw\",, \"T\")","v":64.06},{"$f":"RTD(\"cqg.rtd\", ,\"ContractData\",B16, \"T_CVol\",, \"T\")","v":4732887},null,{"$f":" IFERROR(O16/RTD(\"cqg.rtd\",,\"StudyData\",B16, \"MA\", \"InputChoice=Vol,MAType=Sim,Period=21\", \"MA\",\"D\",\"-1\",\"all\",,,,\"T\"),\"\")","v":0.75775002070667086}]
[null,null,"Top 15 Description",null,null,null,null,"Last","NC","%NC","NC/ATR","Open","High","Low","Volume",null,"Ratio"]
[{"$f":"TRIM(IWF!O1)","v":"S.US.CEG"},"News",{"$f":"RTD(\"cqg.rtd\", ,\"ContractData\",A18, \"LongDescription\",, \"T\")&\" (\"&RIGHT(A18,LEN(A18)-5)&\")\"","v":"Constellation Energy Corporation (CEG)"},null,null,null,null,{"$f":"RTD(\"cqg.rtd\", ,\"ContractData\",A18, \"LastTradeToday\",, \"T\")","v":277.40000000000003},{"$f":"RTD(\"cqg.rtd\", ,\"ContractData\",A18, \"NetLastTradeToday\",, \"T\")","v":29.13},{"$f":"RTD(\"cqg.rtd\", ,\"ContractData\",A18, \"PerCentNetLastTrade\",, \"T\")/100","v":0.11733193700406815},{"$f":" I18/RTD(\"cqg.rtd\",,\"StudyData\",A18, \"ATR\", \"MaType=Sim,Period=10\", \"ATR\",\"D\",\"-1\",\"ALL\",,,\"FALSE\",\"T\")/100","v":2.7891612409038681E-2},{"$f":"RTD(\"cqg.rtd\", ,\"ContractData\",A18, \"OPen\",, \"T\")","v":258.83},{"$f":"RTD(\"cqg.rtd\", ,\"ContractData\", A18, \"HIgh\",, \"T\")","v":279.73},{"$f":"RTD(\"cqg.rtd\", ,\"ContractData\",A18, \"LOw\",, \"T\")","v":256.12},{"$f":"RTD(\"cqg.rtd\", ,\"ContractData\",A18, \"T_CVol\",, \"T\")","v":5645416},null,{"$f":" IFERROR(O18/RTD(\"cqg.rtd\",,\"StudyData\",A18, \"MA\", \"InputChoice=Vol,MAType=Sim,Period=21\", \"MA\",\"D\",\"-1\",\"all\",,,,\"T\"),\"\")","v":1.4837525950615837},{"$f":"IWF!R1","v":"https://finance.yahoo.com/quote/CEG"}]
[{"$f":"TRIM(IWF!O2)","v":"S.US.CE"},"News",{"$f":"RTD(\"cqg.rtd\", ,\"ContractData\",A19, \"LongDescription\",, \"T\")&\" (\"&RIGHT(A19,LEN(A19)-5)&\")\"","v":"Celanese Corp (CE)"},null,null,null,null,{"$f":"RTD(\"cqg.rtd\", ,\"ContractData\",A19, \"LastTradeToday\",, \"T\")","v":48.96},{"$f":"RTD(\"cqg.rtd\", ,\"ContractData\",A19, \"NetLastTradeToday\",, \"T\")","v":4.1900000000000004},{"$f":"RTD(\"cqg.rtd\", ,\"ContractData\",A19, \"PerCentNetLastTrade\",, \"T\")/100","v":9.3589457225820863E-2},{"$f":" I19/RTD(\"cqg.rtd\",,\"StudyData\",A19, \"ATR\", \"MaType=Sim,Period=10\", \"ATR\",\"D\",\"-1\",\"ALL\",,,\"FALSE\",\"T\")/100","v":2.002868068833652E-2},{"$f":"RTD(\"cqg.rtd\", ,\"ContractData\",A19, \"OPen\",, \"T\")","v":47.61},{"$f":"RTD(\"cqg.rtd\", ,\"ContractData\", A19, \"HIgh\",, \"T\")","v":49.58},{"$f":"RTD(\"cqg.rtd\", ,\"ContractData\",A19, \"LOw\",, \"T\")","v":46.78},{"$f":"RTD(\"cqg.rtd\", ,\"ContractData\",A19, \"T_CVol\",, \"T\")","v":4235727},null,{"$f":" IFERROR(O19/RTD(\"cqg.rtd\",,\"StudyData\",A19, \"MA\", \"InputChoice=Vol,MAType=Sim,Period=21\", \"MA\",\"D\",\"-1\",\"all\",,,,\"T\"),\"\")","v":1.1550604005176484},{"$f":"IWF!R2","v":"https://finance.yahoo.com/quote/CE"}]
[{"$f":"TRIM(IWF!O3)","v":"S.US.NBIX"},"News",{"$f":"RTD(\"cqg.rtd\", ,\"ContractData\",A20, \"LongDescription\",, \"T\")&\" (\"&RIGHT(A20,LEN(A20)-5)&\")\"","v":"Neurocrine Biosciences Inc (NBIX)"},null,null,null,null,{"$f":"RTD(\"cqg.rtd\", ,\"ContractData\",A20, \"LastTradeToday\",, \"T\")","v":117.60000000000001},{"$f":"RTD(\"cqg.rtd\", ,\"ContractData\",A20, \"NetLastTradeToday\",, \"T\")","v":7.8500000000000005},{"$f":"RTD(\"cqg.rtd\", ,\"ContractData\",A20, \"PerCentNetLastTrade\",, \"T\")/100","v":7.1526195899772216E-2},{"$f":" I20/RTD(\"cqg.rtd\",,\"StudyData\",A20, \"ATR\", \"MaType=Sim,Period=10\", \"ATR\",\"D\",\"-1\",\"ALL\",,,\"FALSE\",\"T\")/100","v":2.3013778950454412E-2},{"$f":"RTD(\"cqg.rtd\", ,\"ContractData\",A20, \"OPen\",, \"T\")","v":123},{"$f":"RTD(\"cqg.rtd\", ,\"ContractData\", A20, \"HIgh\",, \"T\")","v":130.46},{"$f":"RTD(\"cqg.rtd\", ,\"ContractData\",A20, \"LOw\",, \"T\")","v":116.56},{"$f":"RTD(\"cqg.rtd\", ,\"ContractData\",A20, \"T_CVol\",, \"T\")","v":4105143},null,{"$f":" IFERROR(O20/RTD(\"cqg.rtd\",,\"StudyData\",A20, \"MA\", \"InputChoice=Vol,MAType=Sim,Period=21\", \"MA\",\"D\",\"-1\",\"all\",,,,\"T\"),\"\")","v":2.3114476365349526},{"$f":"IWF!R3","v":"https://finance.yahoo.com/quote/NBIX"}]
[{"$f":"TRIM(IWF!O4)","v":"S.US.CELH"},"News",{"$f":"RTD(\"cqg.rtd\", ,\"ContractData\",A21, \"LongDescription\",, \"T\")&\" (\"&RIGHT(A21,LEN(A21)-5)&\")\"","v":"Celsius Holdings, Inc. (CELH)"},null,null,null,null,{"$f":"RTD(\"cqg.rtd\", ,\"ContractData\",A21, \"LastTradeToday\",, \"T\")","v":35.840000000000003},{"$f":"RTD(\"cqg.rtd\", ,\"ContractData\",A21, \"NetLastTradeToday\",, \"T\")","v":1.95},{"$f":"RTD(\"cqg.rtd\", ,\"ContractData\",A21, \"PerCentNetLastTrade\",, \"T\")/100","v":5.7539097078784296E-2},{"$f":" I21/RTD(\"cqg.rtd\",,\"StudyData\",A21, \"ATR\", \"MaType=Sim,Period=10\", \"ATR\",\"D\",\"-1\",\"ALL\",,,\"FALSE\",\"T\")/100","v":1.1904761904761904E-2},{"$f":"RTD(\"cqg.rtd\", ,\"ContractData\",A21, \"OPen\",, \"T\")","v":33.230000000000004},{"$f":"RTD(\"cqg.rtd\", ,\"ContractData\", A21, \"HIgh\",, \"T\")","v":36.160000000000004},{"$f":"RTD(\"cqg.rtd\", ,\"ContractData\",A21, \"LOw\",, \"T\")","v":32.36},{"$f":"RTD(\"cqg.rtd\", ,\"ContractData\",A21, \"T_CVol\",, \"T\")","v":14020298},null,{"$f":" IFERROR(O21/RTD(\"cqg.rtd\",,\"StudyData\",A21, \"MA\", \"InputChoice=Vol,MAType=Sim,Period=21\", \"MA\",\"D\",\"-1\",\"all\",,,,\"T\"),\"\")","v":1.9880786555304581},{"$f":"IWF!R4","v":"https://finance.yahoo.com/quote/CELH"}]
[{"$f":"TRIM(IWF!O5)","v":"S.US.KBR"},"News",{"$f":"RTD(\"cqg.rtd\", ,\"ContractData\",A22, \"LongDescription\",, \"T\")&\" (\"&RIGHT(A22,LEN(A22)-5)&\")\"","v":"KBR, Inc (KBR)"},null,null,null,null,{"$f":"RTD(\"cqg.rtd\", ,\"ContractData\",A22, \"LastTradeToday\",, \"T\")","v":54.33},{"$f":"RTD(\"cqg.rtd\", ,\"ContractData\",A22, \"NetLastTradeToday\",, \"T\")","v":2.7600000000000002},{"$f":"RTD(\"cqg.rtd\", ,\"ContractData\",A22, \"PerCentNetLastTrade\",, \"T\")/100","v":5.3519488074461899E-2},{"$f":" I22/RTD(\"cqg.rtd\",,\"StudyData\",A22, \"ATR\", \"MaType=Sim,Period=10\", \"ATR\",\"D\",\"-1\",\"ALL\",,,\"FALSE\",\"T\")/100","v":2.0414201183431954E-2},{"$f":"RTD(\"cqg.rtd\", ,\"ContractData\",A22, \"OPen\",, \"T\")","v":52.14},{"$f":"RTD(\"cqg.rtd\", ,\"ContractData\", A22, \"HIgh\",, \"T\")","v":54.34},{"$f":"RTD(\"cqg.rtd\", ,\"ContractData\",A22, \"LOw\",, \"T\")","v":50.63},{"$f":"RTD(\"cqg.rtd\", ,\"ContractData\",A22, \"T_CVol\",, \"T\")","v":1633969},null,{"$f":" IFERROR(O22/RTD(\"cqg.rtd\",,\"StudyData\",A22, \"MA\", \"InputChoice=Vol,MAType=Sim,Period=21\", \"MA\",\"D\",\"-1\",\"all\",,,,\"T\"),\"\")","v":1.1954288766942964},{"$f":"IWF!R5","v":"https://finance.yahoo.com/quote/KBR"}]
[{"$f":"TRIM(IWF!O6)","v":"S.US.SEE"},"News",{"$f":"RTD(\"cqg.rtd\", ,\"ContractData\",A23, \"LongDescription\",, \"T\")&\" (\"&RIGHT(A23,LEN(A23)-5)&\")\"","v":"Sealed Air Corp New (SEE)"},null,null,null,null,{"$f":"RTD(\"cqg.rtd\", ,\"ContractData\",A23, \"LastTradeToday\",, \"T\")","v":28.87},{"$f":"RTD(\"cqg.rtd\", ,\"ContractData\",A23, \"NetLastTradeToday\",, \"T\")","v":1.34},{"$f":"RTD(\"cqg.rtd\", ,\"ContractData\",A23, \"PerCentNetLastTrade\",, \"T\")/100","v":4.8674173628768615E-2},{"$f":" I23/RTD(\"cqg.rtd\",,\"StudyData\",A23, \"ATR\", \"MaType=Sim,Period=10\", \"ATR\",\"D\",\"-1\",\"ALL\",,,\"FALSE\",\"T\")/100","v":1.6708229426433917E-2},{"$f":"RTD(\"cqg.rtd\", ,\"ContractData\",A23, \"OPen\",, \"T\")","v":29.05},{"$f":"RTD(\"cqg.rtd\", ,\"ContractData\", A23, \"HIgh\",, \"T\")","v":29.38},{"$f":"RTD(\"cqg.rtd\", ,\"ContractData\",A23, \"LOw\",, \"T\")","v":27.34},{"$f":"RTD(\"cqg.rtd\", ,\"ContractData\",A23, \"T_CVol\",, \"T\")","v":2231279},null,{"$f":" IFERROR(O23/RTD(\"cqg.rtd\",,\"StudyData\",A23, \"MA\", \"InputChoice=Vol,MAType=Sim,Period=21\", \"MA\",\"D\",\"-1\",\"all\",,,,\"T\"),\"\")","v":1.0380297247308874},{"$f":"IWF!R6","v":"https://finance.yahoo.com/quote/SEE"}]
[{"$f":"TRIM(IWF!O7)","v":"S.US.VST"},"News",{"$f":"RTD(\"cqg.rtd\", ,\"ContractData\",A24, \"LongDescription\",, \"T\")&\" (\"&RIGHT(A24,LEN(A24)-5)&\")\"","v":"Vistra Corp. (VST)"},null,null,null,null,{"$f":"RTD(\"cqg.rtd\", ,\"ContractData\",A24, \"LastTradeToday\",, \"T\")","v":145.97999999999999},{"$f":"RTD(\"cqg.rtd\", ,\"ContractData\",A24, \"NetLastTradeToday\",, \"T\")","v":5.98},{"$f":"RTD(\"cqg.rtd\", ,\"ContractData\",A24, \"PerCentNetLastTrade\",, \"T\")/100","v":4.2714285714285712E-2},{"$f":" I24/RTD(\"cqg.rtd\",,\"StudyData\",A24, \"ATR\", \"MaType=Sim,Period=10\", \"ATR\",\"D\",\"-1\",\"ALL\",,,\"FALSE\",\"T\")/100","v":8.9120715350223551E-3},{"$f":"RTD(\"cqg.rtd\", ,\"ContractData\",A24, \"OPen\",, \"T\")","v":138.47999999999999},{"$f":"RTD(\"cqg.rtd\", ,\"ContractData\", A24, \"HIgh\",, \"T\")","v":146.88},{"$f":"RTD(\"cqg.rtd\", ,\"ContractData\",A24, \"LOw\",, \"T\")","v":137.44},{"$f":"RTD(\"cqg.rtd\", ,\"ContractData\",A24, \"T_CVol\",, \"T\")","v":8388850},null,{"$f":" IFERROR(O24/RTD(\"cqg.rtd\",,\"StudyData\",A24, \"MA\", \"InputChoice=Vol,MAType=Sim,Period=21\", \"MA\",\"D\",\"-1\",\"all\",,,,\"T\"),\"\")","v":1.145071771763055},{"$f":"IWF!R7","v":"https://finance.yahoo.com/quote/VST"}]
[{"$f":"TRIM(IWF!O8)","v":"S.US.LPX"},"News",{"$f":"RTD(\"cqg.rtd\", ,\"ContractData\",A25, \"LongDescription\",, \"T\")&\" (\"&RIGHT(A25,LEN(A25)-5)&\")\"","v":"Louisiana-Pacific Corp (LPX)"},null,null,null,null,{"$f":"RTD(\"cqg.rtd\", ,\"ContractData\",A25, \"LastTradeToday\",, \"T\")","v":91.19},{"$f":"RTD(\"cqg.rtd\", ,\"ContractData\",A25, \"NetLastTradeToday\",, \"T\")","v":3.66},{"$f":"RTD(\"cqg.rtd\", ,\"ContractData\",A25, \"PerCentNetLastTrade\",, \"T\")/100","v":4.1814235119387637E-2},{"$f":" I25/RTD(\"cqg.rtd\",,\"StudyData\",A25, \"ATR\", \"MaType=Sim,Period=10\", \"ATR\",\"D\",\"-1\",\"ALL\",,,\"FALSE\",\"T\")/100","v":1.402836335760828E-2},{"$f":"RTD(\"cqg.rtd\", ,\"ContractData\",A25, \"OPen\",, \"T\")","v":87.01},{"$f":"RTD(\"cqg.rtd\", ,\"ContractData\", A25, \"HIgh\",, \"T\")","v":92.99},{"$f":"RTD(\"cqg.rtd\", ,\"ContractData\",A25, \"LOw\",, \"T\")","v":86.14},{"$f":"RTD(\"cqg.rtd\", ,\"ContractData\",A25, \"T_CVol\",, \"T\")","v":1349474},null,{"$f":" IFERROR(O25/RTD(\"cqg.rtd\",,\"StudyData\",A25, \"MA\", \"InputChoice=Vol,MAType=Sim,Period=21\", \"MA\",\"D\",\"-1\",\"all\",,,,\"T\"),\"\")","v":2.2499699291614412},{"$f":"IWF!R8","v":"https://finance.yahoo.com/quote/LPX"}]
[{"$f":"TRIM(IWF!O9)","v":"S.US.BAH"},"News",{"$f":"RTD(\"cqg.rtd\", ,\"ContractData\",A26, \"LongDescription\",, \"T\")&\" (\"&RIGHT(A26,LEN(A26)-5)&\")\"","v":"Booz Allen Hamilton Holding Corporation (BAH)"},null,null,null,null,{"$f":"RTD(\"cqg.rtd\", ,\"ContractData\",A26, \"LastTradeToday\",, \"T\")","v":123.52},{"$f":"RTD(\"cqg.rtd\", ,\"ContractData\",A26, \"NetLastTradeToday\",, \"T\")","v":4.3500000000000005},{"$f":"RTD(\"cqg.rtd\", ,\"ContractData\",A26, \"PerCentNetLastTrade\",, \"T\")/100","v":3.6502475455232018E-2},{"$f":" I26/RTD(\"cqg.rtd\",,\"StudyData\",A26, \"ATR\", \"MaType=Sim,Period=10\", \"ATR\",\"D\",\"-1\",\"ALL\",,,\"FALSE\",\"T\")/100","v":1.3735396274076415E-2},{"$f":"RTD(\"cqg.rtd\", ,\"ContractData\",A26, \"OPen\",, \"T\")","v":118.35000000000001},{"$f":"RTD(\"cqg.rtd\", ,\"ContractData\", A26, \"HIgh\",, \"T\")","v":123.62},{"$f":"RTD(\"cqg.rtd\", ,\"ContractData\",A26, \"LOw\",, \"T\")","v":118.35000000000001},{"$f":"RTD(\"cqg.rtd\", ,\"ContractData\",A26, \"T_CVol\",, \"T\")","v":1425423},null,{"$f":" IFERROR(O26/RTD(\"cqg.rtd\",,\"StudyData\",A26, \"MA\", \"InputChoice=Vol,MAType=Sim,Period=21\", \"MA\",\"D\",\"-1\",\"all\",,,,\"T\"),\"\")","v":0.62457377534790137},{"$f":"IWF!R9","v":"https://finance.yahoo.com/quote/BAH"}]
[{"$f":"TRIM(IWF!O10)","v":"S.US.NFE"},"News",{"$f":"RTD(\"cqg.rtd\", ,\"ContractData\",A27, \"LongDescription\",, \"T\")&\" (\"&RIGHT(A27,LEN(A27)-5)&\")\"","v":"New Fortress Energy Inc. Class A (NFE)"},null,null,null,null,{"$f":"RTD(\"cqg.rtd\", ,\"ContractData\",A27, \"LastTradeToday\",, \"T\")","v":5.73},{"$f":"RTD(\"cqg.rtd\", ,\"ContractData\",A27, \"NetLastTradeToday\",, \"T\")","v":0.19},{"$f":"RTD(\"cqg.rtd\", ,\"ContractData\",A27, \"PerCentNetLastTrade\",, \"T\")/100","v":3.4296028880866428E-2},{"$f":" I27/RTD(\"cqg.rtd\",,\"StudyData\",A27, \"ATR\", \"MaType=Sim,Period=10\", \"ATR\",\"D\",\"-1\",\"ALL\",,,\"FALSE\",\"T\")/100","v":3.5381750465549346E-3},{"$f":"RTD(\"cqg.rtd\", ,\"ContractData\",A27, \"OPen\",, \"T\")","v":5.5},{"$f":"RTD(\"cqg.rtd\", ,\"ContractData\", A27, \"HIgh\",, \"T\")","v":5.76},{"$f":"RTD(\"cqg.rtd\", ,\"ContractData\",A27, \"LOw\",, \"T\")","v":5.49},{"$f":"RTD(\"cqg.rtd\", ,\"ContractData\",A27, \"T_CVol\",, \"T\")","v":3035197},null,{"$f":" IFERROR(O27/RTD(\"cqg.rtd\",,\"StudyData\",A27, \"MA\", \"InputChoice=Vol,MAType=Sim,Period=21\", \"MA\",\"D\",\"-1\",\"all\",,,,\"T\"),\"\")","v":0.36243646166539673},{"$f":"IWF!R10","v":"https://finance.yahoo.com/quote/NFE"},"Bottom 15 Performing Companies "]
[{"$f":"TRIM(IWF!O11)","v":"S.US.SMCI"},"News",{"$f":"RTD(\"cqg.rtd\", ,\"ContractData\",A28, \"LongDescription\",, \"T\")&\" (\"&RIGHT(A28,LEN(A28)-5)&\")\"","v":"Super Micro Computer (SMCI)"},null,null,null,null,{"$f":"RTD(\"cqg.rtd\", ,\"ContractData\",A28, \"LastTradeToday\",, \"T\")","v":33.25},{"$f":"RTD(\"cqg.rtd\", ,\"ContractData\",A28, \"NetLastTradeToday\",, \"T\")","v":1.08},{"$f":"RTD(\"cqg.rtd\", ,\"ContractData\",A28, \"PerCentNetLastTrade\",, \"T\")/100","v":3.3571650606154801E-2},{"$f":" I28/RTD(\"cqg.rtd\",,\"StudyData\",A28, \"ATR\", \"MaType=Sim,Period=10\", \"ATR\",\"D\",\"-1\",\"ALL\",,,\"FALSE\",\"T\")/100","v":4.0059347181008904E-3},{"$f":"RTD(\"cqg.rtd\", ,\"ContractData\",A28, \"OPen\",, \"T\")","v":31.720000000000002},{"$f":"RTD(\"cqg.rtd\", ,\"ContractData\", A28, \"HIgh\",, \"T\")","v":33.299999999999997},{"$f":"RTD(\"cqg.rtd\", ,\"ContractData\",A28, \"LOw\",, \"T\")","v":31.52},{"$f":"RTD(\"cqg.rtd\", ,\"ContractData\",A28, \"T_CVol\",, \"T\")","v":29960249},null,{"$f":" IFERROR(O28/RTD(\"cqg.rtd\",,\"StudyData\",A28, \"MA\", \"InputChoice=Vol,MAType=Sim,Period=21\", \"MA\",\"D\",\"-1\",\"all\",,,,\"T\"),\"\")","v":0.64053145649280696},{"$f":"IWF!R11","v":"https://finance.yahoo.com/quote/SMCI"}]
[{"$f":"TRIM(IWF!O12)","v":"S.US.RYAN"},"News",{"$f":"RTD(\"cqg.rtd\", ,\"ContractData\",A29, \"LongDescription\",, \"T\")&\" (\"&RIGHT(A29,LEN(A29)-5)&\")\"","v":"Ryan Specialty Group Holdings, Inc. (RYAN)"},null,null,null,null,{"$f":"RTD(\"cqg.rtd\", ,\"ContractData\",A29, \"LastTradeToday\",, \"T\")","v":69.34},{"$f":"RTD(\"cqg.rtd\", ,\"ContractData\",A29, \"NetLastTradeToday\",, \"T\")","v":1.68},{"$f":"RTD(\"cqg.rtd\", ,\"ContractData\",A29, \"PerCentNetLastTrade\",, \"T\")/100","v":2.4830032515518772E-2},{"$f":" I29/RTD(\"cqg.rtd\",,\"StudyData\",A29, \"ATR\", \"MaType=Sim,Period=10\", \"ATR\",\"D\",\"-1\",\"ALL\",,,\"FALSE\",\"T\")/100","v":6.4665127020785218E-3},{"$f":"RTD(\"cqg.rtd\", ,\"ContractData\",A29, \"OPen\",, \"T\")","v":67.88},{"$f":"RTD(\"cqg.rtd\", ,\"ContractData\", A29, \"HIgh\",, \"T\")","v":69.38},{"$f":"RTD(\"cqg.rtd\", ,\"ContractData\",A29, \"LOw\",, \"T\")","v":67.3},{"$f":"RTD(\"cqg.rtd\", ,\"ContractData\",A29, \"T_CVol\",, \"T\")","v":712971},null,{"$f":" IFERROR(O29/RTD(\"cqg.rtd\",,\"StudyData\",A29, \"MA\", \"InputChoice=Vol,MAType=Sim,Period=21\", \"MA\",\"D\",\"-1\",\"all\",,,,\"T\"),\"\")","v":0.54110994610147911},{"$f":"IWF!R12","v":"https://finance.yahoo.com/quote/RYAN"}]
[{"$f":"TRIM(IWF!O13)","v":"S.US.FRPT"},"News",{"$f":"RTD(\"cqg.rtd\", ,\"ContractData\",A30, \"LongDescription\",, \"T\")&\" (\"&RIGHT(A30,LEN(A30)-5)&\")\"","v":"Freshpet, Inc. (FRPT)"},null,null,null,null,{"$f":"RTD(\"cqg.rtd\", ,\"ContractData\",A30, \"LastTradeToday\",, \"T\")","v":81},{"$f":"RTD(\"cqg.rtd\", ,\"ContractData\",A30, \"NetLastTradeToday\",, \"T\")","v":1.9100000000000001},{"$f":"RTD(\"cqg.rtd\", ,\"ContractData\",A30, \"PerCentNetLastTrade\",, \"T\")/100","v":2.4149702870147931E-2},{"$f":" I30/RTD(\"cqg.rtd\",,\"StudyData\",A30, \"ATR\", \"MaType=Sim,Period=10\", \"ATR\",\"D\",\"-1\",\"ALL\",,,\"FALSE\",\"T\")/100","v":5.5346276441611128E-3},{"$f":"RTD(\"cqg.rtd\", ,\"ContractData\",A30, \"OPen\",, \"T\")","v":78.87},{"$f":"RTD(\"cqg.rtd\", ,\"ContractData\", A30, \"HIgh\",, \"T\")","v":82.04},{"$f":"RTD(\"cqg.rtd\", ,\"ContractData\",A30, \"LOw\",, \"T\")","v":78.53},{"$f":"RTD(\"cqg.rtd\", ,\"ContractData\",A30, \"T_CVol\",, \"T\")","v":1574570},null,{"$f":" IFERROR(O30/RTD(\"cqg.rtd\",,\"StudyData\",A30, \"MA\", \"InputChoice=Vol,MAType=Sim,Period=21\", \"MA\",\"D\",\"-1\",\"all\",,,,\"T\"),\"\")","v":1.2096345470710907},{"$f":"IWF!R13","v":"https://finance.yahoo.com/quote/FRPT"}]
[{"$f":"TRIM(IWF!O14)","v":"S.US.MTDR"},"News",{"$f":"RTD(\"cqg.rtd\", ,\"ContractData\",A31, \"LongDescription\",, \"T\")&\" (\"&RIGHT(A31,LEN(A31)-5)&\")\"","v":"Matador Resources Company (MTDR)"},null,null,null,null,{"$f":"RTD(\"cqg.rtd\", ,\"ContractData\",A31, \"LastTradeToday\",, \"T\")","v":40.58},{"$f":"RTD(\"cqg.rtd\", ,\"ContractData\",A31, \"NetLastTradeToday\",, \"T\")","v":0.93},{"$f":"RTD(\"cqg.rtd\", ,\"ContractData\",A31, \"PerCentNetLastTrade\",, \"T\")/100","v":2.3455233291298866E-2},{"$f":" I31/RTD(\"cqg.rtd\",,\"StudyData\",A31, \"ATR\", \"MaType=Sim,Period=10\", \"ATR\",\"D\",\"-1\",\"ALL\",,,\"FALSE\",\"T\")/100","v":5.1267916207276745E-3},{"$f":"RTD(\"cqg.rtd\", ,\"ContractData\",A31, \"OPen\",, \"T\")","v":40.35},{"$f":"RTD(\"cqg.rtd\", ,\"ContractData\", A31, \"HIgh\",, \"T\")","v":41.29},{"$f":"RTD(\"cqg.rtd\", ,\"ContractData\",A31, \"LOw\",, \"T\")","v":39.85},{"$f":"RTD(\"cqg.rtd\", ,\"ContractData\",A31, \"T_CVol\",, \"T\")","v":1205270},null,{"$f":" IFERROR(O31/RTD(\"cqg.rtd\",,\"StudyData\",A31, \"MA\", \"InputChoice=Vol,MAType=Sim,Period=21\", \"MA\",\"D\",\"-1\",\"all\",,,,\"T\"),\"\")","v":0.44708748408452148},{"$f":"IWF!R14","v":"https://finance.yahoo.com/quote/MTDR"}]
[{"$f":"TRIM(IWF!O15)","v":"S.US.HCA"},"News",{"$f":"RTD(\"cqg.rtd\", ,\"ContractData\",A32, \"LongDescription\",, \"T\")&\" (\"&RIGHT(A32,LEN(A32)-5)&\")\"","v":"HCA Holdings Inc. (HCA)"},null,null,null,null,{"$f":"RTD(\"cqg.rtd\", ,\"ContractData\",A32, \"LastTradeToday\",, \"T\")","v":357.16},{"$f":"RTD(\"cqg.rtd\", ,\"ContractData\",A32, \"NetLastTradeToday\",, \"T\")","v":7.78},{"$f":"RTD(\"cqg.rtd\", ,\"ContractData\",A32, \"PerCentNetLastTrade\",, \"T\")/100","v":2.226801763123247E-2},{"$f":" I32/RTD(\"cqg.rtd\",,\"StudyData\",A32, \"ATR\", \"MaType=Sim,Period=10\", \"ATR\",\"D\",\"-1\",\"ALL\",,,\"FALSE\",\"T\")/100","v":7.1744743637034312E-3},{"$f":"RTD(\"cqg.rtd\", ,\"ContractData\",A32, \"OPen\",, \"T\")","v":349.6},{"$f":"RTD(\"cqg.rtd\", ,\"ContractData\", A32, \"HIgh\",, \"T\")","v":360.94},{"$f":"RTD(\"cqg.rtd\", ,\"ContractData\",A32, \"LOw\",, \"T\")","v":346.21},{"$f":"RTD(\"cqg.rtd\", ,\"ContractData\",A32, \"T_CVol\",, \"T\")","v":1019968},null,{"$f":" IFERROR(O32/RTD(\"cqg.rtd\",,\"StudyData\",A32, \"MA\", \"InputChoice=Vol,MAType=Sim,Period=21\", \"MA\",\"D\",\"-1\",\"all\",,,,\"T\"),\"\")","v":0.61051357888074331},{"$f":"IWF!R15","v":"https://finance.yahoo.com/quote/HCA"}]
[null,null,"Bottom 15 Description",null,null,null,null,"Last","NC","%NC","NC/ATR","Open","High","Low","Volume",null,"Ratio"]
[{"$f":"TRIM(IWF!AC1)","v":"S.US.SRPT"},"News",{"$f":"RTD(\"cqg.rtd\", ,\"ContractData\",A34, \"LongDescription\",, \"T\")&\" (\"&RIGHT(A34,LEN(A34)-5)&\")\"","v":"Sarepta Therapeutics, Inc. (SRPT)"},null,null,null,null,{"$f":"RTD(\"cqg.rtd\", ,\"ContractData\",A34, \"LastTradeToday\",, \"T\")","v":48.76},{"$f":"RTD(\"cqg.rtd\", ,\"ContractData\",A34, \"NetLastTradeToday\",, \"T\")","v":-14.9},{"$f":"RTD(\"cqg.rtd\", ,\"ContractData\",A34, \"PerCentNetLastTrade\",, \"T\")/100","v":-0.23405592208608231},{"$f":" I34/RTD(\"cqg.rtd\",,\"StudyData\",A34, \"ATR\", \"MaType=Sim,Period=10\", \"ATR\",\"D\",\"-1\",\"ALL\",,,\"FALSE\",\"T\")/100","v":-5.6503602578687903E-2},{"$f":"RTD(\"cqg.rtd\", ,\"ContractData\",A34, \"OPen\",, \"T\")","v":62.92},{"$f":"RTD(\"cqg.rtd\", ,\"ContractData\", A34, \"HIgh\",, \"T\")","v":63.910000000000004},{"$f":"RTD(\"cqg.rtd\", ,\"ContractData\",A34, \"LOw\",, \"T\")","v":46.62},{"$f":"RTD(\"cqg.rtd\", ,\"ContractData\",A34, \"T_CVol\",, \"T\")","v":9842310},null,{"$f":" IFERROR(O34/RTD(\"cqg.rtd\",,\"StudyData\",A34, \"MA\", \"InputChoice=Vol,MAType=Sim,Period=21\", \"MA\",\"D\",\"-1\",\"all\",,,,\"T\"),\"\")","v":4.1558990324601623},{"$f":"IWF!AH1","v":"https://finance.yahoo.com/quote/SRPT"}]
[{"$f":"TRIM(IWF!AC2)","v":"S.US.UWMC"},"News",{"$f":"RTD(\"cqg.rtd\", ,\"ContractData\",A35, \"LongDescription\",, \"T\")&\" (\"&RIGHT(A35,LEN(A35)-5)&\")\"","v":"UWM Holdings Corporation (UWMC)"},null,null,null,null,{"$f":"RTD(\"cqg.rtd\", ,\"ContractData\",A35, \"LastTradeToday\",, \"T\")","v":4.0600000000000005},{"$f":"RTD(\"cqg.rtd\", ,\"ContractData\",A35, \"NetLastTradeToday\",, \"T\")","v":-0.71},{"$f":"RTD(\"cqg.rtd\", ,\"ContractData\",A35, \"PerCentNetLastTrade\",, \"T\")/100","v":-0.1488469601677149},{"$f":" I35/RTD(\"cqg.rtd\",,\"StudyData\",A35, \"ATR\", \"MaType=Sim,Period=10\", \"ATR\",\"D\",\"-1\",\"ALL\",,,\"FALSE\",\"T\")/100","v":-3.6410256410256407E-2},{"$f":"RTD(\"cqg.rtd\", ,\"ContractData\",A35, \"OPen\",, \"T\")","v":4.45},{"$f":"RTD(\"cqg.rtd\", ,\"ContractData\", A35, \"HIgh\",, \"T\")","v":4.6100000000000003},{"$f":"RTD(\"cqg.rtd\", ,\"ContractData\",A35, \"LOw\",, \"T\")","v":4.0600000000000005},{"$f":"RTD(\"cqg.rtd\", ,\"ContractData\",A35, \"T_CVol\",, \"T\")","v":6912284},null,{"$f":" IFERROR(O35/RTD(\"cqg.rtd\",,\"StudyData\",A35, \"MA\", \"InputChoice=Vol,MAType=Sim,Period=21\", \"MA\",\"D\",\"-1\",\"all\",,,,\"T\"),\"\")","v":1.5131235654194384},{"$f":"IWF!AH2","v":"https://finance.yahoo.com/quote/UWMC"}]
[{"$f":"TRIM(IWF!AC3)","v":"S.US.LSCC"},"News",{"$f":"RTD(\"cqg.rtd\", ,\"ContractData\",A36, \"LongDescription\",, \"T\")&\" (\"&RIGHT(A36,LEN(A36)-5)&\")\"","v":"Lattice Semiconductor (LSCC)"},null,null,null,null,{"$f":"RTD(\"cqg.rtd\", ,\"ContractData\",A36, \"LastTradeToday\",, \"T\")","v":46.24},{"$f":"RTD(\"cqg.rtd\", ,\"ContractData\",A36, \"NetLastTradeToday\",, \"T\")","v":-6.22},{"$f":"RTD(\"cqg.rtd\", ,\"ContractData\",A36, \"PerCentNetLastTrade\",, \"T\")/100","v":-0.11856652687762104},{"$f":" I36/RTD(\"cqg.rtd\",,\"StudyData\",A36, \"ATR\", \"MaType=Sim,Period=10\", \"ATR\",\"D\",\"-1\",\"ALL\",,,\"FALSE\",\"T\")/100","v":-2.4449685534591193E-2},{"$f":"RTD(\"cqg.rtd\", ,\"ContractData\",A36, \"OPen\",, \"T\")","v":48.65},{"$f":"RTD(\"cqg.rtd\", ,\"ContractData\", A36, \"HIgh\",, \"T\")","v":49.04},{"$f":"RTD(\"cqg.rtd\", ,\"ContractData\",A36, \"LOw\",, \"T\")","v":45.17},{"$f":"RTD(\"cqg.rtd\", ,\"ContractData\",A36, \"T_CVol\",, \"T\")","v":5439325},null,{"$f":" IFERROR(O36/RTD(\"cqg.rtd\",,\"StudyData\",A36, \"MA\", \"InputChoice=Vol,MAType=Sim,Period=21\", \"MA\",\"D\",\"-1\",\"all\",,,,\"T\"),\"\")","v":1.4365358152233776},{"$f":"IWF!AH3","v":"https://finance.yahoo.com/quote/LSCC"}]
[{"$f":"TRIM(IWF!AC4)","v":"S.US.PLTR"},"News",{"$f":"RTD(\"cqg.rtd\", ,\"ContractData\",A37, \"LongDescription\",, \"T\")&\" (\"&RIGHT(A37,LEN(A37)-5)&\")\"","v":"Palantir Technologies Inc. (PLTR)"},null,null,null,null,{"$f":"RTD(\"cqg.rtd\", ,\"ContractData\",A37, \"LastTradeToday\",, \"T\")","v":109.2},{"$f":"RTD(\"cqg.rtd\", ,\"ContractData\",A37, \"NetLastTradeToday\",, \"T\")","v":-14.57},{"$f":"RTD(\"cqg.rtd\", ,\"ContractData\",A37, \"PerCentNetLastTrade\",, \"T\")/100","v":-0.11771834854972933},{"$f":" I37/RTD(\"cqg.rtd\",,\"StudyData\",A37, \"ATR\", \"MaType=Sim,Period=10\", \"ATR\",\"D\",\"-1\",\"ALL\",,,\"FALSE\",\"T\")/100","v":-2.3006474024948681E-2},{"$f":"RTD(\"cqg.rtd\", ,\"ContractData\",A37, \"OPen\",, \"T\")","v":112.71000000000001},{"$f":"RTD(\"cqg.rtd\", ,\"ContractData\", A37, \"HIgh\",, \"T\")","v":113.91},{"$f":"RTD(\"cqg.rtd\", ,\"ContractData\",A37, \"LOw\",, \"T\")","v":105.32000000000001},{"$f":"RTD(\"cqg.rtd\", ,\"ContractData\",A37, \"T_CVol\",, \"T\")","v":183384116},null,{"$f":" IFERROR(O37/RTD(\"cqg.rtd\",,\"StudyData\",A37, \"MA\", \"InputChoice=Vol,MAType=Sim,Period=21\", \"MA\",\"D\",\"-1\",\"all\",,,,\"T\"),\"\")","v":1.5842163484036687},{"$f":"IWF!AH4","v":"https://finance.yahoo.com/quote/PLTR"}]
[{"$f":"TRIM(IWF!AC5)","v":"S.US.VRTX"},"News",{"$f":"RTD(\"cqg.rtd\", ,\"ContractData\",A38, \"LongDescription\",, \"T\")&\" (\"&RIGHT(A38,LEN(A38)-5)&\")\"","v":"Vertex Pharmaceuticals Incorporated (VRTX)"},null,null,null,null,{"$f":"RTD(\"cqg.rtd\", ,\"ContractData\",A38, \"LastTradeToday\",, \"T\")","v":445.46000000000004},{"$f":"RTD(\"cqg.rtd\", ,\"ContractData\",A38, \"NetLastTradeToday\",, \"T\")","v":-54.730000000000004},{"$f":"RTD(\"cqg.rtd\", ,\"ContractData\",A38, \"PerCentNetLastTrade\",, \"T\")/100","v":-0.10941842100001999},{"$f":" I38/RTD(\"cqg.rtd\",,\"StudyData\",A38, \"ATR\", \"MaType=Sim,Period=10\", \"ATR\",\"D\",\"-1\",\"ALL\",,,\"FALSE\",\"T\")/100","v":-4.831391242937854E-2},{"$f":"RTD(\"cqg.rtd\", ,\"ContractData\",A38, \"OPen\",, \"T\")","v":465.55},{"$f":"RTD(\"cqg.rtd\", ,\"ContractData\", A38, \"HIgh\",, \"T\")","v":467.85},{"$f":"RTD(\"cqg.rtd\", ,\"ContractData\",A38, \"LOw\",, \"T\")","v":428.54},{"$f":"RTD(\"cqg.rtd\", ,\"ContractData\",A38, \"T_CVol\",, \"T\")","v":6095379},null,{"$f":" IFERROR(O38/RTD(\"cqg.rtd\",,\"StudyData\",A38, \"MA\", \"InputChoice=Vol,MAType=Sim,Period=21\", \"MA\",\"D\",\"-1\",\"all\",,,,\"T\"),\"\")","v":3.6114717044629465},{"$f":"IWF!AH5","v":"https://finance.yahoo.com/quote/VRTX"}]
[{"$f":"TRIM(IWF!AC6)","v":"S.US.RARE"},"News",{"$f":"RTD(\"cqg.rtd\", ,\"ContractData\",A39, \"LongDescription\",, \"T\")&\" (\"&RIGHT(A39,LEN(A39)-5)&\")\"","v":"Ultragenyx Pharmaceutical Inc. (RARE)"},null,null,null,null,{"$f":"RTD(\"cqg.rtd\", ,\"ContractData\",A39, \"LastTradeToday\",, \"T\")","v":35.130000000000003},{"$f":"RTD(\"cqg.rtd\", ,\"ContractData\",A39, \"NetLastTradeToday\",, \"T\")","v":-3.74},{"$f":"RTD(\"cqg.rtd\", ,\"ContractData\",A39, \"PerCentNetLastTrade\",, \"T\")/100","v":-9.6218163107795227E-2},{"$f":" I39/RTD(\"cqg.rtd\",,\"StudyData\",A39, \"ATR\", \"MaType=Sim,Period=10\", \"ATR\",\"D\",\"-1\",\"ALL\",,,\"FALSE\",\"T\")/100","v":-3.1037344398340251E-2},{"$f":"RTD(\"cqg.rtd\", ,\"ContractData\",A39, \"OPen\",, \"T\")","v":38},{"$f":"RTD(\"cqg.rtd\", ,\"ContractData\", A39, \"HIgh\",, \"T\")","v":38.39},{"$f":"RTD(\"cqg.rtd\", ,\"ContractData\",A39, \"LOw\",, \"T\")","v":35.050000000000004},{"$f":"RTD(\"cqg.rtd\", ,\"ContractData\",A39, \"T_CVol\",, \"T\")","v":926171},null,{"$f":" IFERROR(O39/RTD(\"cqg.rtd\",,\"StudyData\",A39, \"MA\", \"InputChoice=Vol,MAType=Sim,Period=21\", \"MA\",\"D\",\"-1\",\"all\",,,,\"T\"),\"\")","v":0.90061952349881513},{"$f":"IWF!AH6","v":"https://finance.yahoo.com/quote/RARE"}]
[{"$f":"TRIM(IWF!AC7)","v":"S.US.DASH"},"News",{"$f":"RTD(\"cqg.rtd\", ,\"ContractData\",A40, \"LongDescription\",, \"T\")&\" (\"&RIGHT(A40,LEN(A40)-5)&\")\"","v":"DoorDash, Inc (DASH)"},null,null,null,null,{"$f":"RTD(\"cqg.rtd\", ,\"ContractData\",A40, \"LastTradeToday\",, \"T\")","v":188.63},{"$f":"RTD(\"cqg.rtd\", ,\"ContractData\",A40, \"NetLastTradeToday\",, \"T\")","v":-16.77},{"$f":"RTD(\"cqg.rtd\", ,\"ContractData\",A40, \"PerCentNetLastTrade\",, \"T\")/100","v":-8.1645569620253169E-2},{"$f":" I40/RTD(\"cqg.rtd\",,\"StudyData\",A40, \"ATR\", \"MaType=Sim,Period=10\", \"ATR\",\"D\",\"-1\",\"ALL\",,,\"FALSE\",\"T\")/100","v":-2.2766766223187618E-2},{"$f":"RTD(\"cqg.rtd\", ,\"ContractData\",A40, \"OPen\",, \"T\")","v":193.75},{"$f":"RTD(\"cqg.rtd\", ,\"ContractData\", A40, \"HIgh\",, \"T\")","v":195.41},{"$f":"RTD(\"cqg.rtd\", ,\"ContractData\",A40, \"LOw\",, \"T\")","v":185.25},{"$f":"RTD(\"cqg.rtd\", ,\"ContractData\",A40, \"T_CVol\",, \"T\")","v":7563655},null,{"$f":" IFERROR(O40/RTD(\"cqg.rtd\",,\"StudyData\",A40, \"MA\", \"InputChoice=Vol,MAType=Sim,Period=21\", \"MA\",\"D\",\"-1\",\"all\",,,,\"T\"),\"\")","v":1.8076165211832256},{"$f":"IWF!AH7","v":"https://finance.yahoo.com/quote/DASH"}]
[{"$f":"TRIM(IWF!AC8)","v":"S.US.EXEL"},"News",{"$f":"RTD(\"cqg.rtd\", ,\"ContractData\",A41, \"LongDescription\",, \"T\")&\" (\"&RIGHT(A41,LEN(A41)-5)&\")\"","v":"Exelixis, Inc. (EXEL)"},null,null,null,null,{"$f":"RTD(\"cqg.rtd\", ,\"ContractData\",A41, \"LastTradeToday\",, \"T\")","v":36.65},{"$f":"RTD(\"cqg.rtd\", ,\"ContractData\",A41, \"NetLastTradeToday\",, \"T\")","v":-3.19},{"$f":"RTD(\"cqg.rtd\", ,\"ContractData\",A41, \"PerCentNetLastTrade\",, \"T\")/100","v":-8.0070281124497988E-2},{"$f":" I41/RTD(\"cqg.rtd\",,\"StudyData\",A41, \"ATR\", \"MaType=Sim,Period=10\", \"ATR\",\"D\",\"-1\",\"ALL\",,,\"FALSE\",\"T\")/100","v":-3.1000971817298349E-2},{"$f":"RTD(\"cqg.rtd\", ,\"ContractData\",A41, \"OPen\",, \"T\")","v":39.380000000000003},{"$f":"RTD(\"cqg.rtd\", ,\"ContractData\", A41, \"HIgh\",, \"T\")","v":39.380000000000003},{"$f":"RTD(\"cqg.rtd\", ,\"ContractData\",A41, \"LOw\",, \"T\")","v":36.520000000000003},{"$f":"RTD(\"cqg.rtd\", ,\"ContractData\",A41, \"T_CVol\",, \"T\")","v":2821396},null,{"$f":" IFERROR(O41/RTD(\"cqg.rtd\",,\"StudyData\",A41, \"MA\", \"InputChoice=Vol,MAType=Sim,Period=21\", \"MA\",\"D\",\"-1\",\"all\",,,,\"T\"),\"\")","v":1.1980247346738855},{"$f":"IWF!AH8","v":"https://finance.yahoo.com/quote/EXEL"}]
[{"$f":"TRIM(IWF!AC9)","v":"S.US.VKTX"},"News",{"$f":"RTD(\"cqg.rtd\", ,\"ContractData\",A42, \"LongDescription\",, \"T\")&\" (\"&RIGHT(A42,LEN(A42)-5)&\")\"","v":"Viking Therapeutics, Inc. (VKTX)"},null,null,null,null,{"$f":"RTD(\"cqg.rtd\", ,\"ContractData\",A42, \"LastTradeToday\",, \"T\")","v":27.23},{"$f":"RTD(\"cqg.rtd\", ,\"ContractData\",A42, \"NetLastTradeToday\",, \"T\")","v":-2.2600000000000002},{"$f":"RTD(\"cqg.rtd\", ,\"ContractData\",A42, \"PerCentNetLastTrade\",, \"T\")/100","v":-7.6636147846727704E-2},{"$f":" I42/RTD(\"cqg.rtd\",,\"StudyData\",A42, \"ATR\", \"MaType=Sim,Period=10\", \"ATR\",\"D\",\"-1\",\"ALL\",,,\"FALSE\",\"T\")/100","v":-1.2289287656334967E-2},{"$f":"RTD(\"cqg.rtd\", ,\"ContractData\",A42, \"OPen\",, \"T\")","v":29.060000000000002},{"$f":"RTD(\"cqg.rtd\", ,\"ContractData\", A42, \"HIgh\",, \"T\")","v":29.080000000000002},{"$f":"RTD(\"cqg.rtd\", ,\"ContractData\",A42, \"LOw\",, \"T\")","v":26.73},{"$f":"RTD(\"cqg.rtd\", ,\"ContractData\",A42, \"T_CVol\",, \"T\")","v":3021456},null,{"$f":" IFERROR(O42/RTD(\"cqg.rtd\",,\"StudyData\",A42, \"MA\", \"InputChoice=Vol,MAType=Sim,Period=21\", \"MA\",\"D\",\"-1\",\"all\",,,,\"T\"),\"\")","v":0.6093367227833002},{"$f":"IWF!AH9","v":"https://finance.yahoo.com/quote/VKTX"}]
[{"$f":"TRIM(IWF!AC10)","v":"S.US.FTRE"},"News",{"$f":"RTD(\"cqg.rtd\", ,\"ContractData\",A43, \"LongDescription\",, \"T\")&\" (\"&RIGHT(A43,LEN(A43)-5)&\")\"","v":"Fortrea Holdings Inc. (FTRE)"},null,null,null,null,{"$f":"RTD(\"cqg.rtd\", ,\"ContractData\",A43, \"LastTradeToday\",, \"T\")","v":5.51},{"$f":"RTD(\"cqg.rtd\", ,\"ContractData\",A43, \"NetLastTradeToday\",, \"T\")","v":-0.42},{"$f":"RTD(\"cqg.rtd\", ,\"ContractData\",A43, \"PerCentNetLastTrade\",, \"T\")/100","v":-7.0826306913996634E-2},{"$f":" I43/RTD(\"cqg.rtd\",,\"StudyData\",A43, \"ATR\", \"MaType=Sim,Period=10\", \"ATR\",\"D\",\"-1\",\"ALL\",,,\"FALSE\",\"T\")/100","v":-9.1503267973856214E-3},{"$f":"RTD(\"cqg.rtd\", ,\"ContractData\",A43, \"OPen\",, \"T\")","v":5.78},{"$f":"RTD(\"cqg.rtd\", ,\"ContractData\", A43, \"HIgh\",, \"T\")","v":5.91},{"$f":"RTD(\"cqg.rtd\", ,\"ContractData\",A43, \"LOw\",, \"T\")","v":5.4},{"$f":"RTD(\"cqg.rtd\", ,\"ContractData\",A43, \"T_CVol\",, \"T\")","v":1179886},null,{"$f":" IFERROR(O43/RTD(\"cqg.rtd\",,\"StudyData\",A43, \"MA\", \"InputChoice=Vol,MAType=Sim,Period=21\", \"MA\",\"D\",\"-1\",\"all\",,,,\"T\"),\"\")","v":0.50881786677725549},{"$f":"IWF!AH10","v":"https://finance.yahoo.com/quote/FTRE"}]
[{"$f":"TRIM(IWF!AC11)","v":"S.US.REGN"},"News",{"$f":"RTD(\"cqg.rtd\", ,\"ContractData\",A44, \"LongDescription\",, \"T\")&\" (\"&RIGHT(A44,LEN(A44)-5)&\")\"","v":"Regeneron Pharm Inc (REGN)"},null,null,null,null,{"$f":"RTD(\"cqg.rtd\", ,\"ContractData\",A44, \"LastTradeToday\",, \"T\")","v":563.6},{"$f":"RTD(\"cqg.rtd\", ,\"ContractData\",A44, \"NetLastTradeToday\",, \"T\")","v":-39.980000000000004},{"$f":"RTD(\"cqg.rtd\", ,\"ContractData\",A44, \"PerCentNetLastTrade\",, \"T\")/100","v":-6.6238112594850726E-2},{"$f":" I44/RTD(\"cqg.rtd\",,\"StudyData\",A44, \"ATR\", \"MaType=Sim,Period=10\", \"ATR\",\"D\",\"-1\",\"ALL\",,,\"FALSE\",\"T\")/100","v":-1.6200008104056082E-2},{"$f":"RTD(\"cqg.rtd\", ,\"ContractData\",A44, \"OPen\",, \"T\")","v":601.01},{"$f":"RTD(\"cqg.rtd\", ,\"ContractData\", A44, \"HIgh\",, \"T\")","v":606.87},{"$f":"RTD(\"cqg.rtd\", ,\"ContractData\",A44, \"LOw\",, \"T\")","v":559.16999999999996},{"$f":"RTD(\"cqg.rtd\", ,\"ContractData\",A44, \"T_CVol\",, \"T\")","v":964984},null,{"$f":" IFERROR(O44/RTD(\"cqg.rtd\",,\"StudyData\",A44, \"MA\", \"InputChoice=Vol,MAType=Sim,Period=21\", \"MA\",\"D\",\"-1\",\"all\",,,,\"T\"),\"\")","v":0.76248139527717229},{"$f":"IWF!AH11","v":"https://finance.yahoo.com/quote/REGN"}]
[{"$f":"TRIM(IWF!AC12)","v":"S.US.RGEN"},"News",{"$f":"RTD(\"cqg.rtd\", ,\"ContractData\",A45, \"LongDescription\",, \"T\")&\" (\"&RIGHT(A45,LEN(A45)-5)&\")\"","v":"Repligen Corp (RGEN)"},null,null,null,null,{"$f":"RTD(\"cqg.rtd\", ,\"ContractData\",A45, \"LastTradeToday\",, \"T\")","v":132.19999999999999},{"$f":"RTD(\"cqg.rtd\", ,\"ContractData\",A45, \"NetLastTradeToday\",, \"T\")","v":-8.7200000000000006},{"$f":"RTD(\"cqg.rtd\", ,\"ContractData\",A45, \"PerCentNetLastTrade\",, \"T\")/100","v":-6.1879080329264834E-2},{"$f":" I45/RTD(\"cqg.rtd\",,\"StudyData\",A45, \"ATR\", \"MaType=Sim,Period=10\", \"ATR\",\"D\",\"-1\",\"ALL\",,,\"FALSE\",\"T\")/100","v":-1.2178770949720672E-2},{"$f":"RTD(\"cqg.rtd\", ,\"ContractData\",A45, \"OPen\",, \"T\")","v":140.21},{"$f":"RTD(\"cqg.rtd\", ,\"ContractData\", A45, \"HIgh\",, \"T\")","v":141.99},{"$f":"RTD(\"cqg.rtd\", ,\"ContractData\",A45, \"LOw\",, \"T\")","v":130.27000000000001},{"$f":"RTD(\"cqg.rtd\", ,\"ContractData\",A45, \"T_CVol\",, \"T\")","v":720371},null,{"$f":" IFERROR(O45/RTD(\"cqg.rtd\",,\"StudyData\",A45, \"MA\", \"InputChoice=Vol,MAType=Sim,Period=21\", \"MA\",\"D\",\"-1\",\"all\",,,,\"T\"),\"\")","v":0.74246036250804071},{"$f":"IWF!AH12","v":"https://finance.yahoo.com/quote/RGEN"}]
[{"$f":"TRIM(IWF!AC13)","v":"S.US.TDG"},"News",{"$f":"RTD(\"cqg.rtd\", ,\"ContractData\",A46, \"LongDescription\",, \"T\")&\" (\"&RIGHT(A46,LEN(A46)-5)&\")\"","v":"TransDigm Group (TDG)"},null,null,null,null,{"$f":"RTD(\"cqg.rtd\", ,\"ContractData\",A46, \"LastTradeToday\",, \"T\")","v":1387.74},{"$f":"RTD(\"cqg.rtd\", ,\"ContractData\",A46, \"NetLastTradeToday\",, \"T\")","v":-84.88},{"$f":"RTD(\"cqg.rtd\", ,\"ContractData\",A46, \"PerCentNetLastTrade\",, \"T\")/100","v":-5.7638766280506848E-2},{"$f":" I46/RTD(\"cqg.rtd\",,\"StudyData\",A46, \"ATR\", \"MaType=Sim,Period=10\", \"ATR\",\"D\",\"-1\",\"ALL\",,,\"FALSE\",\"T\")/100","v":-2.5338069793128151E-2},{"$f":"RTD(\"cqg.rtd\", ,\"ContractData\",A46, \"OPen\",, \"T\")","v":1416.43},{"$f":"RTD(\"cqg.rtd\", ,\"ContractData\", A46, \"HIgh\",, \"T\")","v":1445.46},{"$f":"RTD(\"cqg.rtd\", ,\"ContractData\",A46, \"LOw\",, \"T\")","v":1370.58},{"$f":"RTD(\"cqg.rtd\", ,\"ContractData\",A46, \"T_CVol\",, \"T\")","v":414076},null,{"$f":" IFERROR(O46/RTD(\"cqg.rtd\",,\"StudyData\",A46, \"MA\", \"InputChoice=Vol,MAType=Sim,Period=21\", \"MA\",\"D\",\"-1\",\"all\",,,,\"T\"),\"\")","v":1.189615878224517},{"$f":"IWF!AH13","v":"https://finance.yahoo.com/quote/TDG"}]
[{"$f":"TRIM(IWF!AC14)","v":"S.US.LLY"},"News",{"$f":"RTD(\"cqg.rtd\", ,\"ContractData\",A47, \"LongDescription\",, \"T\")&\" (\"&RIGHT(A47,LEN(A47)-5)&\")\"","v":"Lilly (Eli) & Company (LLY)"},null,null,null,null,{"$f":"RTD(\"cqg.rtd\", ,\"ContractData\",A47, \"LastTradeToday\",, \"T\")","v":774.49},{"$f":"RTD(\"cqg.rtd\", ,\"ContractData\",A47, \"NetLastTradeToday\",, \"T\")","v":-46.97},{"$f":"RTD(\"cqg.rtd\", ,\"ContractData\",A47, \"PerCentNetLastTrade\",, \"T\")/100","v":-5.7178681859128867E-2},{"$f":" I47/RTD(\"cqg.rtd\",,\"StudyData\",A47, \"ATR\", \"MaType=Sim,Period=10\", \"ATR\",\"D\",\"-1\",\"ALL\",,,\"FALSE\",\"T\")/100","v":-1.4071300179748352E-2},{"$f":"RTD(\"cqg.rtd\", ,\"ContractData\",A47, \"OPen\",, \"T\")","v":816.89},{"$f":"RTD(\"cqg.rtd\", ,\"ContractData\", A47, \"HIgh\",, \"T\")","v":818.42000000000007},{"$f":"RTD(\"cqg.rtd\", ,\"ContractData\",A47, \"LOw\",, \"T\")","v":770.35},{"$f":"RTD(\"cqg.rtd\", ,\"ContractData\",A47, \"T_CVol\",, \"T\")","v":3726444},null,{"$f":" IFERROR(O47/RTD(\"cqg.rtd\",,\"StudyData\",A47, \"MA\", \"InputChoice=Vol,MAType=Sim,Period=21\", \"MA\",\"D\",\"-1\",\"all\",,,,\"T\"),\"\")","v":0.80285178997709805},{"$f":"IWF!AH14","v":"https://finance.yahoo.com/quote/LLY"}]
[{"$f":"TRIM(IWF!AC15)","v":"S.US.WEN"},"News",{"$f":"RTD(\"cqg.rtd\", ,\"ContractData\",A48, \"LongDescription\",, \"T\")&\" (\"&RIGHT(A48,LEN(A48)-5)&\")\"","v":"The Wendy's Company (WEN)"},null,null,null,null,{"$f":"RTD(\"cqg.rtd\", ,\"ContractData\",A48, \"LastTradeToday\",, \"T\")","v":11.86},{"$f":"RTD(\"cqg.rtd\", ,\"ContractData\",A48, \"NetLastTradeToday\",, \"T\")","v":-0.66},{"$f":"RTD(\"cqg.rtd\", ,\"ContractData\",A48, \"PerCentNetLastTrade\",, \"T\")/100","v":-5.2715654952076675E-2},{"$f":" I48/RTD(\"cqg.rtd\",,\"StudyData\",A48, \"ATR\", \"MaType=Sim,Period=10\", \"ATR\",\"D\",\"-1\",\"ALL\",,,\"FALSE\",\"T\")/100","v":-1.8082191780821918E-2},{"$f":"RTD(\"cqg.rtd\", ,\"ContractData\",A48, \"OPen\",, \"T\")","v":12.450000000000001},{"$f":"RTD(\"cqg.rtd\", ,\"ContractData\", A48, \"HIgh\",, \"T\")","v":12.450000000000001},{"$f":"RTD(\"cqg.rtd\", ,\"ContractData\",A48, \"LOw\",, \"T\")","v":11.75},{"$f":"RTD(\"cqg.rtd\", ,\"ContractData\",A48, \"T_CVol\",, \"T\")","v":6357262},null,{"$f":" IFERROR(O48/RTD(\"cqg.rtd\",,\"StudyData\",A48, \"MA\", \"InputChoice=Vol,MAType=Sim,Period=21\", \"MA\",\"D\",\"-1\",\"all\",,,,\"T\"),\"\")","v":1.1570260699001549},{"$f":"IWF!AH15","v":"https://finance.yahoo.com/quote/WEN"}]
[null,null,"CQG Inc.,   Copyright © 2025",null,null,null,"Designed by Thom Hartle",null,null,"iShares is a registered trademark of BlackRock, Inc. S&P® is a registered trademark of Standard & Poor’s Financial Services LLC. Russell indexes are trademarks of the London Stock Exchange Group companies.",null,null,null,null,null,null,null,null,null,null,null,null,null,null,null,{"$f":"Z52","v":"34% of the stocks in the ETF are higher today"}]
[]
[null,null,null,null,null,null,null,null,null,null,null,null,null,null,null,null,null,null,null,null,null,null,null,null,null,{"$f":"IWF!B392","v":0.34015345268542202},"of the stocks in the ETF are higher today"]
[null,null,null,null,null,null,null,null,null,null,null,null,null,null,null,null,null,null,null,null,null,null,null,null,null,{"$f":"TEXT(Display!Z51,\"0%\")&\" \"&Display!AA51","v":"34% of the stocks in the ETF are higher today"}]

{"sheet":"IWF","index":1,"n_rows":392,"n_cols":34,"rows_kept":392,"cut":false,"hidden":true,"merged":[]}
["S.US.AAL",{"$f":"IF(J1>0,1,0)","v":0},"S.US.AAL",{"$f":"RTD(\"cqg.rtd\", ,\"ContractData\",C1, \"LongDescription\",, \"T\")","v":"American Airlines Group Inc."},null,null,null,{"$f":"RTD(\"cqg.rtd\", ,\"ContractData\",C1, \"LastTradeToday\",, \"T\")","v":10.5},{"$f":"RTD(\"cqg.rtd\", ,\"ContractData\",C1, \"NetLastTradeToday\",, \"T\")","v":-0.16},{"$f":"IFERROR(RTD(\"cqg.rtd\", ,\"ContractData\",C1, \"PerCentNetLastTrade\",, \"T\")/100,\"\")","v":-1.50093808630394E-2},{"$f":"RTD(\"cqg.rtd\", ,\"ContractData\", C1, \"T_CVol\",, \"T\")","v":52514292},1,{"$f":"IFERROR(RANK($J1,$J$1:J$391)+COUNTIF($J$1:J1,J1)-1,\"\")","v":317},{"$f":"C1","v":"S.US.AAL"},{"$f":"VLOOKUP($L1,$M$1:$N$391,2,FALSE)","v":"S.US.CEG"},{"$f":"RTD(\"cqg.rtd\", ,\"ContractData\",O1, \"LongDescription\",, \"T\")","v":"Constellation Energy Corporation"},{"$f":"RTD(\"cqg.rtd\", ,\"ContractData\",O1, \"PerCentNetLastTrade\",, \"T\")/100","v":0.11733193700406815},{"$f":"\"https://finance.yahoo.com/quote/\"&RIGHT(O1,(LEN(O1)-5))","v":"https://finance.yahoo.com/quote/CEG"},null,{"$f":"IF(Q1>=0,Q1,NA())","v":0.11733193700406815},{"$f":"IF(Q1>=0,NA(),-1*Q1)","v":{"$error":"#N/A"}},null,{"$f":"RTD(\"cqg.rtd\", ,\"ContractData\",O1, \"LongDescription\",, \"T\")","v":"Constellation Energy Corporation"},null,null,{"$f":"IFERROR(T1,Q1)","v":0.11733193700406815},{"$f":"MIN(J1:J391)","v":-0.23405592208608231},{"$f":"VLOOKUP(AA1,J1:O391,4,FALSE)","v":391},{"$f":"VLOOKUP($AB1,$M$1:$N$391,2,FALSE)","v":"S.US.SRPT"},{"$f":"RTD(\"cqg.rtd\", ,\"ContractData\",AC1, \"PerCentNetLastTrade\",, \"T\")/100","v":-0.23405592208608231},{"$f":"RTD(\"cqg.rtd\", ,\"ContractData\",AC1, \"LongDescription\",, \"T\")","v":"Sarepta Therapeutics, Inc."},{"$f":"IFERROR(U1,\"\")","v":""},{"$f":"AD1*-1","v":0.23405592208608231},{"$f":"\"https://finance.yahoo.com/quote/\"&RIGHT(AC1,(LEN(AC1)-5))","v":"https://finance.yahoo.com/quote/SRPT"}]
["S.US.AAON",{"$f":"IF(J2>0,1,0)","v":0},"S.US.AAON",{"$f":"RTD(\"cqg.rtd\", ,\"ContractData\",C2, \"LongDescription\",, \"T\")","v":"AAON"},null,null,null,{"$f":"RTD(\"cqg.rtd\", ,\"ContractData\",C2, \"LastTradeToday\",, \"T\")","v":98.05},{"$f":"RTD(\"cqg.rtd\", ,\"ContractData\",C2, \"NetLastTradeToday\",, \"T\")","v":-0.87},{"$f":"IFERROR(RTD(\"cqg.rtd\", ,\"ContractData\",C2, \"PerCentNetLastTrade\",, \"T\")/100,\"\")","v":-8.7949858471492118E-3},{"$f":"RTD(\"cqg.rtd\", ,\"ContractData\", C2, \"T_CVol\",, \"T\")","v":426365},{"$f":"L1+1","v":2},{"$f":"IFERROR(RANK($J2,$J$1:J$391)+COUNTIF($J$1:J2,J2)-1,\"\")","v":272},{"$f":"C2","v":"S.US.AAON"},{"$f":"VLOOKUP($L2,$M$1:$N$391,2,FALSE)","v":"S.US.CE"},{"$f":"RTD(\"cqg.rtd\", ,\"ContractData\",O2, \"LongDescription\",, \"T\")","v":"Celanese Corp"},{"$f":"RTD(\"cqg.rtd\", ,\"ContractData\",O2, \"PerCentNetLastTrade\",, \"T\")/100","v":9.3589457225820863E-2},{"$f":"\"https://finance.yahoo.com/quote/\"&RIGHT(O2,(LEN(O2)-5))","v":"https://finance.yahoo.com/quote/CE"},null,{"$f":"IF(Q2>=0,Q2,NA())","v":9.3589457225820863E-2},{"$f":"IF(Q2>=0,NA(),-1*Q2)","v":{"$error":"#N/A"}},null,{"$f":"RTD(\"cqg.rtd\", ,\"ContractData\",O2, \"LongDescription\",, \"T\")","v":"Celanese Corp"},null,null,{"$f":"IFERROR(T2,Q2)","v":9.3589457225820863E-2},null,{"$f":"AB1-1","v":390},{"$f":"VLOOKUP($AB2,$M$1:$N$391,2,FALSE)","v":"S.US.UWMC"},{"$f":"RTD(\"cqg.rtd\", ,\"ContractData\",AC2, \"PerCentNetLastTrade\",, \"T\")/100","v":-0.1488469601677149},{"$f":"RTD(\"cqg.rtd\", ,\"ContractData\",AC2, \"LongDescription\",, \"T\")","v":"UWM Holdings Corporation"},{"$f":"IFERROR(U2,\"\")","v":""},{"$f":"AD2*-1","v":0.1488469601677149},{"$f":"\"https://finance.yahoo.com/quote/\"&RIGHT(AC2,(LEN(AC2)-5))","v":"https://finance.yahoo.com/quote/UWMC"}]
["S.US.AAPL",1,"S.US.AAPL",{"$f":"RTD(\"cqg.rtd\", ,\"ContractData\",C3, \"LongDescription\",, \"T\")","v":"Apple Inc"},null,null,null,{"$f":"RTD(\"cqg.rtd\", ,\"ContractData\",C3, \"LastTradeToday\",, \"T\")","v":199.84},{"$f":"RTD(\"cqg.rtd\", ,\"ContractData\",C3, \"NetLastTradeToday\",, \"T\")","v":0.95000000000000007},{"$f":"IFERROR(RTD(\"cqg.rtd\", ,\"ContractData\",C3, \"PerCentNetLastTrade\",, \"T\")/100,\"\")","v":4.7765096284378304E-3},{"$f":"RTD(\"cqg.rtd\", ,\"ContractData\", C3, \"T_CVol\",, \"T\")","v":35844587},{"$f":"L2+1","v":3},{"$f":"IFERROR(RANK($J3,$J$1:J$391)+COUNTIF($J$1:J3,J3)-1,\"\")","v":86},"S.US.AAPL","S.US.NBIX",{"$f":"RTD(\"cqg.rtd\", ,\"ContractData\",O3, \"LongDescription\",, \"T\")","v":"Neurocrine Biosciences Inc"},{"$f":"RTD(\"cqg.rtd\", ,\"ContractData\",O3, \"PerCentNetLastTrade\",, \"T\")/100","v":7.1526195899772216E-2},"https://finance.yahoo.com/quote/NBIX",null,7.1526195899772216E-2,{"$error":"#N/A"},null,{"$f":"RTD(\"cqg.rtd\", ,\"ContractData\",O3, \"LongDescription\",, \"T\")","v":"Neurocrine Biosciences Inc"},null,null,7.1526195899772216E-2,null,{"$f":"AB2-1","v":389},"S.US.LSCC",{"$f":"RTD(\"cqg.rtd\", ,\"ContractData\",AC3, \"PerCentNetLastTrade\",, \"T\")/100","v":-0.11856652687762104},{"$f":"RTD(\"cqg.rtd\", ,\"ContractData\",AC3, \"LongDescription\",, \"T\")","v":"Lattice Semiconductor"},"",0.11856652687762104,"https://finance.yahoo.com/quote/LSCC"]
["S.US.ABBV",0,"S.US.ABBV",{"$f":"RTD(\"cqg.rtd\", ,\"ContractData\",C4, \"LongDescription\",, \"T\")","v":"AbbVie Inc."},null,null,null,{"$f":"RTD(\"cqg.rtd\", ,\"ContractData\",C4, \"LastTradeToday\",, \"T\")","v":186.99},{"$f":"RTD(\"cqg.rtd\", ,\"ContractData\",C4, \"NetLastTradeToday\",, \"T\")","v":-9.08},{"$f":"IFERROR(RTD(\"cqg.rtd\", ,\"ContractData\",C4, \"PerCentNetLastTrade\",, \"T\")/100,\"\")","v":-4.6309991329627175E-2},{"$f":"RTD(\"cqg.rtd\", ,\"ContractData\", C4, \"T_CVol\",, \"T\")","v":6214912},4,{"$f":"IFERROR(RANK($J4,$J$1:J$391)+COUNTIF($J$1:J4,J4)-1,\"\")","v":372},"S.US.ABBV","S.US.CELH",{"$f":"RTD(\"cqg.rtd\", ,\"ContractData\",O4, \"LongDescription\",, \"T\")","v":"Celsius Holdings, Inc."},{"$f":"RTD(\"cqg.rtd\", ,\"ContractData\",O4, \"PerCentNetLastTrade\",, \"T\")/100","v":5.7539097078784296E-2},"https://finance.yahoo.com/quote/CELH",null,5.7539097078784296E-2,{"$error":"#N/A"},null,{"$f":"RTD(\"cqg.rtd\", ,\"ContractData\",O4, \"LongDescription\",, \"T\")","v":"Celsius Holdings, Inc."},null,null,5.7539097078784296E-2,null,388,"S.US.PLTR",{"$f":"RTD(\"cqg.rtd\", ,\"ContractData\",AC4, \"PerCentNetLastTrade\",, \"T\")/100","v":-0.11771834854972933},{"$f":"RTD(\"cqg.rtd\", ,\"ContractData\",AC4, \"LongDescription\",, \"T\")","v":"Palantir Technologies Inc."},"",0.11771834854972933,"https://finance.yahoo.com/quote/PLTR"]
["S.US.ABNB",0,"S.US.ABNB",{"$f":"RTD(\"cqg.rtd\", ,\"ContractData\",C5, \"LongDescription\",, \"T\")","v":"Airbnb, Inc. Class A"},null,null,null,{"$f":"RTD(\"cqg.rtd\", ,\"ContractData\",C5, \"LastTradeToday\",, \"T\")","v":122.12},{"$f":"RTD(\"cqg.rtd\", ,\"ContractData\",C5, \"NetLastTradeToday\",, \"T\")","v":-2.77},{"$f":"IFERROR(RTD(\"cqg.rtd\", ,\"ContractData\",C5, \"PerCentNetLastTrade\",, \"T\")/100,\"\")","v":-2.217951797581872E-2},{"$f":"RTD(\"cqg.rtd\", ,\"ContractData\", C5, \"T_CVol\",, \"T\")","v":3276427},5,{"$f":"IFERROR(RANK($J5,$J$1:J$391)+COUNTIF($J$1:J5,J5)-1,\"\")","v":342},"S.US.ABNB","S.US.KBR",{"$f":"RTD(\"cqg.rtd\", ,\"ContractData\",O5, \"LongDescription\",, \"T\")","v":"KBR, Inc"},{"$f":"RTD(\"cqg.rtd\", ,\"ContractData\",O5, \"PerCentNetLastTrade\",, \"T\")/100","v":5.3519488074461899E-2},"https://finance.yahoo.com/quote/KBR",null,5.3519488074461899E-2,{"$error":"#N/A"},null,{"$f":"RTD(\"cqg.rtd\", ,\"ContractData\",O5, \"LongDescription\",, \"T\")","v":"KBR, Inc"},null,null,5.3519488074461899E-2,null,387,"S.US.VRTX",{"$f":"RTD(\"cqg.rtd\", ,\"ContractData\",AC5, \"PerCentNetLastTrade\",, \"T\")/100","v":-0.10941842100001999},{"$f":"RTD(\"cqg.rtd\", ,\"ContractData\",AC5, \"LongDescription\",, \"T\")","v":"Vertex Pharmaceuticals Incorporated"},"",0.10941842100001999,"https://finance.yahoo.com/quote/VRTX"]
["S.US.ADBE",1,"S.US.ADBE",{"$f":"RTD(\"cqg.rtd\", ,\"ContractData\",C6, \"LongDescription\",, \"T\")","v":"Adobe Inc."},null,null,null,{"$f":"RTD(\"cqg.rtd\", ,\"ContractData\",C6, \"LastTradeToday\",, \"T\")","v":384.54},{"$f":"RTD(\"cqg.rtd\", ,\"ContractData\",C6, \"NetLastTradeToday\",, \"T\")","v":3.48},{"$f":"IFERROR(RTD(\"cqg.rtd\", ,\"ContractData\",C6, \"PerCentNetLastTrade\",, \"T\")/100,\"\")","v":9.1324200913242004E-3},{"$f":"RTD(\"cqg.rtd\", ,\"ContractData\", C6, \"T_CVol\",, \"T\")","v":1441783},6,{"$f":"IFERROR(RANK($J6,$J$1:J$391)+COUNTIF($J$1:J6,J6)-1,\"\")","v":49},"S.US.ADBE","S.US.SEE",{"$f":"RTD(\"cqg.rtd\", ,\"ContractData\",O6, \"LongDescription\",, \"T\")","v":"Sealed Air Corp New"},{"$f":"RTD(\"cqg.rtd\", ,\"ContractData\",O6, \"PerCentNetLastTrade\",, \"T\")/100","v":4.8674173628768615E-2},"https://finance.yahoo.com/quote/SEE",null,4.8674173628768615E-2,{"$error":"#N/A"},null,{"$f":"RTD(\"cqg.rtd\", ,\"ContractData\",O6, \"LongDescription\",, \"T\")","v":"Sealed Air Corp New"},null,null,4.8674173628768615E-2,null,386,"S.US.RARE",{"$f":"RTD(\"cqg.rtd\", ,\"ContractData\",AC6, \"PerCentNetLastTrade\",, \"T\")/100","v":-9.6218163107795227E-2},{"$f":"RTD(\"cqg.rtd\", ,\"ContractData\",AC6, \"LongDescription\",, \"T\")","v":"Ultragenyx Pharmaceutical Inc."},"",9.6218163107795227E-2,"https://finance.yahoo.com/quote/RARE"]
["S.US.ADP",0,"S.US.ADP",{"$f":"RTD(\"cqg.rtd\", ,\"ContractData\",C7, \"LongDescription\",, \"T\")","v":"Auto Data Processing Inc"},null,null,null,{"$f":"RTD(\"cqg.rtd\", ,\"ContractData\",C7, \"LastTradeToday\",, \"T\")","v":303.53000000000003},{"$f":"RTD(\"cqg.rtd\", ,\"ContractData\",C7, \"NetLastTradeToday\",, \"T\")","v":-0.43},{"$f":"IFERROR(RTD(\"cqg.rtd\", ,\"ContractData\",C7, \"PerCentNetLastTrade\",, \"T\")/100,\"\")","v":-1.4146598236610081E-3},{"$f":"RTD(\"cqg.rtd\", ,\"ContractData\", C7, \"T_CVol\",, \"T\")","v":411489},7,{"$f":"IFERROR(RANK($J7,$J$1:J$391)+COUNTIF($J$1:J7,J7)-1,\"\")","v":159},"S.US.ADP","S.US.VST",{"$f":"RTD(\"cqg.rtd\", ,\"ContractData\",O7, \"LongDescription\",, \"T\")","v":"Vistra Corp."},{"$f":"RTD(\"cqg.rtd\", ,\"ContractData\",O7, \"PerCentNetLastTrade\",, \"T\")/100","v":4.2714285714285712E-2},"https://finance.yahoo.com/quote/VST",null,4.2714285714285712E-2,{"$error":"#N/A"},null,{"$f":"RTD(\"cqg.rtd\", ,\"ContractData\",O7, \"LongDescription\",, \"T\")","v":"Vistra Corp."},null,null,4.2714285714285712E-2,null,385,"S.US.DASH",{"$f":"RTD(\"cqg.rtd\", ,\"ContractData\",AC7, \"PerCentNetLastTrade\",, \"T\")/100","v":-8.1645569620253169E-2},{"$f":"RTD(\"cqg.rtd\", ,\"ContractData\",AC7, \"LongDescription\",, \"T\")","v":"DoorDash, Inc"},"",8.1645569620253169E-2,"https://finance.yahoo.com/quote/DASH"]
["S.US.ADSK",0,"S.US.ADSK",{"$f":"RTD(\"cqg.rtd\", ,\"ContractData\",C8, \"LongDescription\",, \"T\")","v":"Autodesk Inc"},null,null,null,{"$f":"RTD(\"cqg.rtd\", ,\"ContractData\",C8, \"LastTradeToday\",, \"T\")","v":280},{"$f":"RTD(\"cqg.rtd\", ,\"ContractData\",C8, \"NetLastTradeToday\",, \"T\")","v":-7.0000000000000007E-2},{"$f":"IFERROR(RTD(\"cqg.rtd\", ,\"ContractData\",C8, \"PerCentNetLastTrade\",, \"T\")/100,\"\")","v":-2.4993751562109469E-4},{"$f":"RTD(\"cqg.rtd\", ,\"ContractData\", C8, \"T_CVol\",, \"T\")","v":346276},8,{"$f":"IFERROR(RANK($J8,$J$1:J$391)+COUNTIF($J$1:J8,J8)-1,\"\")","v":139},"S.US.ADSK","S.US.LPX",{"$f":"RTD(\"cqg.rtd\", ,\"ContractData\",O8, \"LongDescription\",, \"T\")","v":"Louisiana-Pacific Corp"},{"$f":"RTD(\"cqg.rtd\", ,\"ContractData\",O8, \"PerCentNetLastTrade\",, \"T\")/100","v":4.1814235119387637E-2},"https://finance.yahoo.com/quote/LPX",null,4.1814235119387637E-2,{"$error":"#N/A"},null,{"$f":"RTD(\"cqg.rtd\", ,\"ContractData\",O8, \"LongDescription\",, \"T\")","v":"Louisiana-Pacific Corp"},null,null,4.1814235119387637E-2,null,384,"S.US.EXEL",{"$f":"RTD(\"cqg.rtd\", ,\"ContractData\",AC8, \"PerCentNetLastTrade\",, \"T\")/100","v":-8.0070281124497988E-2},{"$f":"RTD(\"cqg.rtd\", ,\"ContractData\",AC8, \"LongDescription\",, \"T\")","v":"Exelixis, Inc."},"",8.0070281124497988E-2,"https://finance.yahoo.com/quote/EXEL"]
["S.US.AJG",1,"S.US.AJG",{"$f":"RTD(\"cqg.rtd\", ,\"ContractData\",C9, \"LongDescription\",, \"T\")","v":"Arthur J Gallagher Co"},null,null,null,{"$f":"RTD(\"cqg.rtd\", ,\"ContractData\",C9, \"LastTradeToday\",, \"T\")","v":338.86},{"$f":"RTD(\"cqg.rtd\", ,\"ContractData\",C9, \"NetLastTradeToday\",, \"T\")","v":4},{"$f":"IFERROR(RTD(\"cqg.rtd\", ,\"ContractData\",C9, \"PerCentNetLastTrade\",, \"T\")/100,\"\")","v":1.1945290569193096E-2},{"$f":"RTD(\"cqg.rtd\", ,\"ContractData\", C9, \"T_CVol\",, \"T\")","v":916865},9,{"$f":"IFERROR(RANK($J9,$J$1:J$391)+COUNTIF($J$1:J9,J9)-1,\"\")","v":39},"S.US.AJG","S.US.BAH",{"$f":"RTD(\"cqg.rtd\", ,\"ContractData\",O9, \"LongDescription\",, \"T\")","v":"Booz Allen Hamilton Holding Corporation"},{"$f":"RTD(\"cqg.rtd\", ,\"ContractData\",O9, \"PerCentNetLastTrade\",, \"T\")/100","v":3.6502475455232018E-2},"https://finance.yahoo.com/quote/BAH",null,3.6502475455232018E-2,{"$error":"#N/A"},null,{"$f":"RTD(\"cqg.rtd\", ,\"ContractData\",O9, \"LongDescription\",, \"T\")","v":"Booz Allen Hamilton Holding Corporation"},null,null,3.6502475455232018E-2,null,383,"S.US.VKTX",{"$f":"RTD(\"cqg.rtd\", ,\"ContractData\",AC9, \"PerCentNetLastTrade\",, \"T\")/100","v":-7.6636147846727704E-2},{"$f":"RTD(\"cqg.rtd\", ,\"ContractData\",AC9, \"LongDescription\",, \"T\")","v":"Viking Therapeutics, Inc."},"",7.6636147846727704E-2,"https://finance.yahoo.com/quote/VKTX"]
["S.US.ALAB",0,"S.US.ALAB",{"$f":"RTD(\"cqg.rtd\", ,\"ContractData\",C10, \"LongDescription\",, \"T\")","v":"Astera Labs, Inc."},null,null,null,{"$f":"RTD(\"cqg.rtd\", ,\"ContractData\",C10, \"LastTradeToday\",, \"T\")","v":71.94},{"$f":"RTD(\"cqg.rtd\", ,\"ContractData\",C10, \"NetLastTradeToday\",, \"T\")","v":-0.21},{"$f":"IFERROR(RTD(\"cqg.rtd\", ,\"ContractData\",C10, \"PerCentNetLastTrade\",, \"T\")/100,\"\")","v":-2.9106029106029108E-3},{"$f":"RTD(\"cqg.rtd\", ,\"ContractData\", C10, \"T_CVol\",, \"T\")","v":2849293},10,{"$f":"IFERROR(RANK($J10,$J$1:J$391)+COUNTIF($J$1:J10,J10)-1,\"\")","v":181},"S.US.ALAB","S.US.NFE",{"$f":"RTD(\"cqg.rtd\", ,\"ContractData\",O10, \"LongDescription\",, \"T\")","v":"New Fortress Energy Inc. Class A"},{"$f":"RTD(\"cqg.rtd\", ,\"ContractData\",O10, \"PerCentNetLastTrade\",, \"T\")/100","v":3.4296028880866428E-2},"https://finance.yahoo.com/quote/NFE",null,3.4296028880866428E-2,{"$error":"#N/A"},null,{"$f":"RTD(\"cqg.rtd\", ,\"ContractData\",O10, \"LongDescription\",, \"T\")","v":"New Fortress Energy Inc. Class A"},null,null,3.4296028880866428E-2,null,382,"S.US.FTRE",{"$f":"RTD(\"cqg.rtd\", ,\"ContractData\",AC10, \"PerCentNetLastTrade\",, \"T\")/100","v":-7.0826306913996634E-2},{"$f":"RTD(\"cqg.rtd\", ,\"ContractData\",AC10, \"LongDescription\",, \"T\")","v":"Fortrea Holdings Inc."},"",7.0826306913996634E-2,"https://finance.yahoo.com/quote/FTRE"]
["S.US.ALGN",0,"S.US.ALGN",{"$f":"RTD(\"cqg.rtd\", ,\"ContractData\",C11, \"LongDescription\",, \"T\")","v":"Align Technology Inc"},null,null,null,{"$f":"RTD(\"cqg.rtd\", ,\"ContractData\",C11, \"LastTradeToday\",, \"T\")","v":174.96},{"$f":"RTD(\"cqg.rtd\", ,\"ContractData\",C11, \"NetLastTradeToday\",, \"T\")","v":-2.65},{"$f":"IFERROR(RTD(\"cqg.rtd\", ,\"ContractData\",C11, \"PerCentNetLastTrade\",, \"T\")/100,\"\")","v":-1.4920331062440178E-2},{"$f":"RTD(\"cqg.rtd\", ,\"ContractData\", C11, \"T_CVol\",, \"T\")","v":1004906},11,{"$f":"IFERROR(RANK($J11,$J$1:J$391)+COUNTIF($J$1:J11,J11)-1,\"\")","v":315},"S.US.ALGN","S.US.SMCI",{"$f":"RTD(\"cqg.rtd\", ,\"ContractData\",O11, \"LongDescription\",, \"T\")","v":"Super Micro Computer"},{"$f":"RTD(\"cqg.rtd\", ,\"ContractData\",O11, \"PerCentNetLastTrade\",, \"T\")/100","v":3.3571650606154801E-2},"https://finance.yahoo.com/quote/SMCI",null,3.3571650606154801E-2,{"$error":"#N/A"},null,{"$f":"RTD(\"cqg.rtd\", ,\"ContractData\",O11, \"LongDescription\",, \"T\")","v":"Super Micro Computer"},null,null,3.3571650606154801E-2,null,381,"S.US.REGN",{"$f":"RTD(\"cqg.rtd\", ,\"ContractData\",AC11, \"PerCentNetLastTrade\",, \"T\")/100","v":-6.6238112594850726E-2},{"$f":"RTD(\"cqg.rtd\", ,\"ContractData\",AC11, \"LongDescription\",, \"T\")","v":"Regeneron Pharm Inc"},"",6.6238112594850726E-2,"https://finance.yahoo.com/quote/REGN"]
["S.US.ALL",1,"S.US.ALL",{"$f":"RTD(\"cqg.rtd\", ,\"ContractData\",C12, \"LongDescription\",, \"T\")","v":"Allstate Corporation"},null,null,null,{"$f":"RTD(\"cqg.rtd\", ,\"ContractData\",C12, \"LastTradeToday\",, \"T\")","v":202},{"$f":"RTD(\"cqg.rtd\", ,\"ContractData\",C12, \"NetLastTradeToday\",, \"T\")","v":1.75},{"$f":"IFERROR(RTD(\"cqg.rtd\", ,\"ContractData\",C12, \"PerCentNetLastTrade\",, \"T\")/100,\"\")","v":8.7390761548064924E-3},{"$f":"RTD(\"cqg.rtd\", ,\"ContractData\", C12, \"T_CVol\",, \"T\")","v":534480},12,{"$f":"IFERROR(RANK($J12,$J$1:J$391)+COUNTIF($J$1:J12,J12)-1,\"\")","v":52},"S.US.ALL","S.US.RYAN",{"$f":"RTD(\"cqg.rtd\", ,\"ContractData\",O12, \"LongDescription\",, \"T\")","v":"Ryan Specialty Group Holdings, Inc."},{"$f":"RTD(\"cqg.rtd\", ,\"ContractData\",O12, \"PerCentNetLastTrade\",, \"T\")/100","v":2.4830032515518772E-2},"https://finance.yahoo.com/quote/RYAN",null,2.4830032515518772E-2,{"$error":"#N/A"},null,{"$f":"RTD(\"cqg.rtd\", ,\"ContractData\",O12, \"LongDescription\",, \"T\")","v":"Ryan Specialty Group Holdings, Inc."},null,null,2.4830032515518772E-2,null,380,"S.US.RGEN",{"$f":"RTD(\"cqg.rtd\", ,\"ContractData\",AC12, \"PerCentNetLastTrade\",, \"T\")/100","v":-6.1879080329264834E-2},{"$f":"RTD(\"cqg.rtd\", ,\"ContractData\",AC12, \"LongDescription\",, \"T\")","v":"Repligen Corp"},"",6.1879080329264834E-2,"https://finance.yahoo.com/quote/RGEN"]
["S.US.ALLY",0,"S.US.ALLY",{"$f":"RTD(\"cqg.rtd\", ,\"ContractData\",C13, \"LongDescription\",, \"T\")","v":"Ally Financial, Inc."},null,null,null,{"$f":"RTD(\"cqg.rtd\", ,\"ContractData\",C13, \"LastTradeToday\",, \"T\")","v":32.58},{"$f":"RTD(\"cqg.rtd\", ,\"ContractData\",C13, \"NetLastTradeToday\",, \"T\")","v":-0.44},{"$f":"IFERROR(RTD(\"cqg.rtd\", ,\"ContractData\",C13, \"PerCentNetLastTrade\",, \"T\")/100,\"\")","v":-1.3325257419745608E-2},{"$f":"RTD(\"cqg.rtd\", ,\"ContractData\", C13, \"T_CVol\",, \"T\")","v":979973},13,{"$f":"IFERROR(RANK($J13,$J$1:J$391)+COUNTIF($J$1:J13,J13)-1,\"\")","v":307},"S.US.ALLY","S.US.FRPT",{"$f":"RTD(\"cqg.rtd\", ,\"ContractData\",O13, \"LongDescription\",, \"T\")","v":"Freshpet, Inc."},{"$f":"RTD(\"cqg.rtd\", ,\"ContractData\",O13, \"PerCentNetLastTrade\",, \"T\")/100","v":2.4149702870147931E-2},"https://finance.yahoo.com/quote/FRPT",null,2.4149702870147931E-2,{"$error":"#N/A"},null,{"$f":"RTD(\"cqg.rtd\", ,\"ContractData\",O13, \"LongDescription\",, \"T\")","v":"Freshpet, Inc."},null,null,2.4149702870147931E-2,null,379,"S.US.TDG",{"$f":"RTD(\"cqg.rtd\", ,\"ContractData\",AC13, \"PerCentNetLastTrade\",, \"T\")/100","v":-5.7638766280506848E-2},{"$f":"RTD(\"cqg.rtd\", ,\"ContractData\",AC13, \"LongDescription\",, \"T\")","v":"TransDigm Group"},"",5.7638766280506848E-2,"https://finance.yahoo.com/quote/TDG"]
["S.US.ALNY",0,"S.US.ALNY",{"$f":"RTD(\"cqg.rtd\", ,\"ContractData\",C14, \"LongDescription\",, \"T\")","v":"Alnylam Pharmaceuticals, Inc."},null,null,null,{"$f":"RTD(\"cqg.rtd\", ,\"ContractData\",C14, \"LastTradeToday\",, \"T\")","v":270.76},{"$f":"RTD(\"cqg.rtd\", ,\"ContractData\",C14, \"NetLastTradeToday\",, \"T\")","v":-2.79},{"$f":"IFERROR(RTD(\"cqg.rtd\", ,\"ContractData\",C14, \"PerCentNetLastTrade\",, \"T\")/100,\"\")","v":-1.0199232315847195E-2},{"$f":"RTD(\"cqg.rtd\", ,\"ContractData\", C14, \"T_CVol\",, \"T\")","v":1042615},14,{"$f":"IFERROR(RANK($J14,$J$1:J$391)+COUNTIF($J$1:J14,J14)-1,\"\")","v":283},"S.US.ALNY","S.US.MTDR",{"$f":"RTD(\"cqg.rtd\", ,\"ContractData\",O14, \"LongDescription\",, \"T\")","v":"Matador Resources Company"},{"$f":"RTD(\"cqg.rtd\", ,\"ContractData\",O14, \"PerCentNetLastTrade\",, \"T\")/100","v":2.3455233291298866E-2},"https://finance.yahoo.com/quote/MTDR",null,2.3455233291298866E-2,{"$error":"#N/A"},null,{"$f":"RTD(\"cqg.rtd\", ,\"ContractData\",O14, \"LongDescription\",, \"T\")","v":"Matador Resources Company"},null,null,2.3455233291298866E-2,null,378,"S.US.LLY",{"$f":"RTD(\"cqg.rtd\", ,\"ContractData\",AC14, \"PerCentNetLastTrade\",, \"T\")/100","v":-5.7178681859128867E-2},{"$f":"RTD(\"cqg.rtd\", ,\"ContractData\",AC14, \"LongDescription\",, \"T\")","v":"Lilly (Eli) & Company"},"",5.7178681859128867E-2,"https://finance.yahoo.com/quote/LLY"]
["S.US.AM",1,"S.US.AM",{"$f":"RTD(\"cqg.rtd\", ,\"ContractData\",C15, \"LongDescription\",, \"T\")","v":"Antero Resources Midstream LLC"},null,null,null,{"$f":"RTD(\"cqg.rtd\", ,\"ContractData\",C15, \"LastTradeToday\",, \"T\")","v":17.580000000000002},{"$f":"RTD(\"cqg.rtd\", ,\"ContractData\",C15, \"NetLastTradeToday\",, \"T\")","v":0.02},{"$f":"IFERROR(RTD(\"cqg.rtd\", ,\"ContractData\",C15, \"PerCentNetLastTrade\",, \"T\")/100,\"\")","v":1.1389521640091116E-3},{"$f":"RTD(\"cqg.rtd\", ,\"ContractData\", C15, \"T_CVol\",, \"T\")","v":1762489},15,{"$f":"IFERROR(RANK($J15,$J$1:J$391)+COUNTIF($J$1:J15,J15)-1,\"\")","v":117},"S.US.AM","S.US.HCA",{"$f":"RTD(\"cqg.rtd\", ,\"ContractData\",O15, \"LongDescription\",, \"T\")","v":"HCA Holdings Inc."},{"$f":"RTD(\"cqg.rtd\", ,\"ContractData\",O15, \"PerCentNetLastTrade\",, \"T\")/100","v":2.226801763123247E-2},"https://finance.yahoo.com/quote/HCA",null,2.226801763123247E-2,{"$error":"#N/A"},null,{"$f":"RTD(\"cqg.rtd\", ,\"ContractData\",O15, \"LongDescription\",, \"T\")","v":"HCA Holdings Inc."},null,null,2.226801763123247E-2,null,377,"S.US.WEN",{"$f":"RTD(\"cqg.rtd\", ,\"ContractData\",AC15, \"PerCentNetLastTrade\",, \"T\")/100","v":-5.2715654952076675E-2},{"$f":"RTD(\"cqg.rtd\", ,\"ContractData\",AC15, \"LongDescription\",, \"T\")","v":"The Wendy's Company"},"",5.2715654952076675E-2,"https://finance.yahoo.com/quote/WEN"]
["S.US.AMAT",0,"S.US.AMAT",{"$f":"RTD(\"cqg.rtd\", ,\"ContractData\",C16, \"LongDescription\",, \"T\")","v":"Applied Materials Inc"},null,null,null,{"$f":"RTD(\"cqg.rtd\", ,\"ContractData\",C16, \"LastTradeToday\",, \"T\")","v":153.99},{"$f":"RTD(\"cqg.rtd\", ,\"ContractData\",C16, \"NetLastTradeToday\",, \"T\")","v":-0.62},{"$f":"IFERROR(RTD(\"cqg.rtd\", ,\"ContractData\",C16, \"PerCentNetLastTrade\",, \"T\")/100,\"\")","v":-4.0100899036284851E-3},{"$f":"RTD(\"cqg.rtd\", ,\"ContractData\", C16, \"T_CVol\",, \"T\")","v":1942053},16,{"$f":"IFERROR(RANK($J16,$J$1:J$391)+COUNTIF($J$1:J16,J16)-1,\"\")","v":204},"S.US.AMAT","S.US.DXCM"]
["S.US.AMD",0,"S.US.AMD",{"$f":"RTD(\"cqg.rtd\", ,\"ContractData\",C17, \"LongDescription\",, \"T\")","v":"Advanced Micro Devices"},null,null,null,{"$f":"RTD(\"cqg.rtd\", ,\"ContractData\",C17, \"LastTradeToday\",, \"T\")","v":99.81},{"$f":"RTD(\"cqg.rtd\", ,\"ContractData\",C17, \"NetLastTradeToday\",, \"T\")","v":-0.78},{"$f":"IFERROR(RTD(\"cqg.rtd\", ,\"ContractData\",C17, \"PerCentNetLastTrade\",, \"T\")/100,\"\")","v":-7.7542499254399048E-3},{"$f":"RTD(\"cqg.rtd\", ,\"ContractData\", C17, \"T_CVol\",, \"T\")","v":29888529},17,{"$f":"IFERROR(RANK($J17,$J$1:J$391)+COUNTIF($J$1:J17,J17)-1,\"\")","v":261},"S.US.AMD","S.US.SCCO"]
["S.US.AMGN",0,"S.US.AMGN",{"$f":"RTD(\"cqg.rtd\", ,\"ContractData\",C18, \"LongDescription\",, \"T\")","v":"Amgen Inc"},null,null,null,{"$f":"RTD(\"cqg.rtd\", ,\"ContractData\",C18, \"LastTradeToday\",, \"T\")","v":270.42},{"$f":"RTD(\"cqg.rtd\", ,\"ContractData\",C18, \"NetLastTradeToday\",, \"T\")","v":-9.64},{"$f":"IFERROR(RTD(\"cqg.rtd\", ,\"ContractData\",C18, \"PerCentNetLastTrade\",, \"T\")/100,\"\")","v":-3.4421195458116116E-2},{"$f":"RTD(\"cqg.rtd\", ,\"ContractData\", C18, \"T_CVol\",, \"T\")","v":2165051},18,{"$f":"IFERROR(RANK($J18,$J$1:J$391)+COUNTIF($J$1:J18,J18)-1,\"\")","v":363},"S.US.AMGN","S.US.IRDM"]
["S.US.AMP",0,"S.US.AMP",{"$f":"RTD(\"cqg.rtd\", ,\"ContractData\",C19, \"LongDescription\",, \"T\")","v":"Ameriprise Financial Inc"},null,null,null,{"$f":"RTD(\"cqg.rtd\", ,\"ContractData\",C19, \"LastTradeToday\",, \"T\")","v":477.47},{"$f":"RTD(\"cqg.rtd\", ,\"ContractData\",C19, \"NetLastTradeToday\",, \"T\")","v":-3.34},{"$f":"IFERROR(RTD(\"cqg.rtd\", ,\"ContractData\",C19, \"PerCentNetLastTrade\",, \"T\")/100,\"\")","v":-6.9466109273933572E-3},{"$f":"RTD(\"cqg.rtd\", ,\"ContractData\", C19, \"T_CVol\",, \"T\")","v":174319},19,{"$f":"IFERROR(RANK($J19,$J$1:J$391)+COUNTIF($J$1:J19,J19)-1,\"\")","v":251},"S.US.AMP","S.US.GTLB"]
["S.US.AMT",1,"S.US.AMT",{"$f":"RTD(\"cqg.rtd\", ,\"ContractData\",C20, \"LongDescription\",, \"T\")","v":"American Tower Corp ClA"},null,null,null,{"$f":"RTD(\"cqg.rtd\", ,\"ContractData\",C20, \"LastTradeToday\",, \"T\")","v":224.11},{"$f":"RTD(\"cqg.rtd\", ,\"ContractData\",C20, \"NetLastTradeToday\",, \"T\")","v":0.24},{"$f":"IFERROR(RTD(\"cqg.rtd\", ,\"ContractData\",C20, \"PerCentNetLastTrade\",, \"T\")/100,\"\")","v":1.0720507437352036E-3},{"$f":"RTD(\"cqg.rtd\", ,\"ContractData\", C20, \"T_CVol\",, \"T\")","v":820778},20,{"$f":"IFERROR(RANK($J20,$J$1:J$391)+COUNTIF($J$1:J20,J20)-1,\"\")","v":118},"S.US.AMT","S.US.MSI"]
["S.US.AMZN",0,"S.US.AMZN",{"$f":"RTD(\"cqg.rtd\", ,\"ContractData\",C21, \"LongDescription\",, \"T\")","v":"Amazon.com Inc"},null,null,null,{"$f":"RTD(\"cqg.rtd\", ,\"ContractData\",C21, \"LastTradeToday\",, \"T\")","v":185.69},{"$f":"RTD(\"cqg.rtd\", ,\"ContractData\",C21, \"NetLastTradeToday\",, \"T\")","v":-0.66},{"$f":"IFERROR(RTD(\"cqg.rtd\", ,\"ContractData\",C21, \"PerCentNetLastTrade\",, \"T\")/100,\"\")","v":-3.5417225650657361E-3},{"$f":"RTD(\"cqg.rtd\", ,\"ContractData\", C21, \"T_CVol\",, \"T\")","v":19961860},21,{"$f":"IFERROR(RANK($J21,$J$1:J$391)+COUNTIF($J$1:J21,J21)-1,\"\")","v":195},"S.US.AMZN","S.US.OKTA"]
["S.US.ANET",1,"S.US.ANET",{"$f":"RTD(\"cqg.rtd\", ,\"ContractData\",C22, \"LongDescription\",, \"T\")","v":"Arista Networks, Inc."},null,null,null,{"$f":"RTD(\"cqg.rtd\", ,\"ContractData\",C22, \"LastTradeToday\",, \"T\")","v":91.570000000000007},{"$f":"RTD(\"cqg.rtd\", ,\"ContractData\",C22, \"NetLastTradeToday\",, \"T\")","v":1.19},{"$f":"IFERROR(RTD(\"cqg.rtd\", ,\"ContractData\",C22, \"PerCentNetLastTrade\",, \"T\")/100,\"\")","v":1.316662978535074E-2},{"$f":"RTD(\"cqg.rtd\", ,\"ContractData\", C22, \"T_CVol\",, \"T\")","v":7912348},22,{"$f":"IFERROR(RANK($J22,$J$1:J$391)+COUNTIF($J$1:J22,J22)-1,\"\")","v":34},"S.US.ANET","S.US.VVV"]
["S.US.APH",0,"S.US.APH",{"$f":"RTD(\"cqg.rtd\", ,\"ContractData\",C23, \"LongDescription\",, \"T\")","v":"Amphenol"},null,null,null,{"$f":"RTD(\"cqg.rtd\", ,\"ContractData\",C23, \"LastTradeToday\",, \"T\")","v":79.88},{"$f":"RTD(\"cqg.rtd\", ,\"ContractData\",C23, \"NetLastTradeToday\",, \"T\")","v":-0.28999999999999998},{"$f":"IFERROR(RTD(\"cqg.rtd\", ,\"ContractData\",C23, \"PerCentNetLastTrade\",, \"T\")/100,\"\")","v":-3.6173132094299617E-3},{"$f":"RTD(\"cqg.rtd\", ,\"ContractData\", C23, \"T_CVol\",, \"T\")","v":3743948},23,{"$f":"IFERROR(RANK($J23,$J$1:J$391)+COUNTIF($J$1:J23,J23)-1,\"\")","v":196},"S.US.APH","S.US.KMB"]
["S.US.APLS",0,"S.US.APLS",{"$f":"RTD(\"cqg.rtd\", ,\"ContractData\",C24, \"LongDescription\",, \"T\")","v":"Apellis Pharmaceuticals, Inc."},null,null,null,{"$f":"RTD(\"cqg.rtd\", ,\"ContractData\",C24, \"LastTradeToday\",, \"T\")","v":19.440000000000001},{"$f":"RTD(\"cqg.rtd\", ,\"ContractData\",C24, \"NetLastTradeToday\",, \"T\")","v":-0.54},{"$f":"IFERROR(RTD(\"cqg.rtd\", ,\"ContractData\",C24, \"PerCentNetLastTrade\",, \"T\")/100,\"\")","v":-2.7027027027027025E-2},{"$f":"RTD(\"cqg.rtd\", ,\"ContractData\", C24, \"T_CVol\",, \"T\")","v":2165900},24,{"$f":"IFERROR(RANK($J24,$J$1:J$391)+COUNTIF($J$1:J24,J24)-1,\"\")","v":352},"S.US.APLS","S.US.APP"]
["S.US.APO",0,"S.US.APO",{"$f":"RTD(\"cqg.rtd\", ,\"ContractData\",C25, \"LongDescription\",, \"T\")","v":"Apollo Global Management, LLC"},null,null,null,{"$f":"RTD(\"cqg.rtd\", ,\"ContractData\",C25, \"LastTradeToday\",, \"T\")","v":130},{"$f":"RTD(\"cqg.rtd\", ,\"ContractData\",C25, \"NetLastTradeToday\",, \"T\")","v":-3.98},{"$f":"IFERROR(RTD(\"cqg.rtd\", ,\"ContractData\",C25, \"PerCentNetLastTrade\",, \"T\")/100,\"\")","v":-2.9705926257650398E-2},{"$f":"RTD(\"cqg.rtd\", ,\"ContractData\", C25, \"T_CVol\",, \"T\")","v":2287838},25,{"$f":"IFERROR(RANK($J25,$J$1:J$391)+COUNTIF($J$1:J25,J25)-1,\"\")","v":356},"S.US.APO","S.US.HSY"]
["S.US.APP",1,"S.US.APP",{"$f":"RTD(\"cqg.rtd\", ,\"ContractData\",C26, \"LongDescription\",, \"T\")","v":"Applovin Corporation Class A"},null,null,null,{"$f":"RTD(\"cqg.rtd\", ,\"ContractData\",C26, \"LastTradeToday\",, \"T\")","v":306.60000000000002},{"$f":"RTD(\"cqg.rtd\", ,\"ContractData\",C26, \"NetLastTradeToday\",, \"T\")","v":4.76},{"$f":"IFERROR(RTD(\"cqg.rtd\", ,\"ContractData\",C26, \"PerCentNetLastTrade\",, \"T\")/100,\"\")","v":1.5769944341372914E-2},{"$f":"RTD(\"cqg.rtd\", ,\"ContractData\", C26, \"T_CVol\",, \"T\")","v":3696271},26,{"$f":"IFERROR(RANK($J26,$J$1:J$391)+COUNTIF($J$1:J26,J26)-1,\"\")","v":24},"S.US.APP","S.US.WFRD"]
["S.US.APPF",1,"S.US.APPF",{"$f":"RTD(\"cqg.rtd\", ,\"ContractData\",C27, \"LongDescription\",, \"T\")","v":"AppFolio, Inc."},null,null,null,{"$f":"RTD(\"cqg.rtd\", ,\"ContractData\",C27, \"LastTradeToday\",, \"T\")","v":214.44},{"$f":"RTD(\"cqg.rtd\", ,\"ContractData\",C27, \"NetLastTradeToday\",, \"T\")","v":0.1},{"$f":"IFERROR(RTD(\"cqg.rtd\", ,\"ContractData\",C27, \"PerCentNetLastTrade\",, \"T\")/100,\"\")","v":4.6654847438648876E-4},{"$f":"RTD(\"cqg.rtd\", ,\"ContractData\", C27, \"T_CVol\",, \"T\")","v":96636},27,{"$f":"IFERROR(RANK($J27,$J$1:J$391)+COUNTIF($J$1:J27,J27)-1,\"\")","v":127},"S.US.APPF","S.US.EL"]
["S.US.ARES",0,"S.US.ARES",{"$f":"RTD(\"cqg.rtd\", ,\"ContractData\",C28, \"LongDescription\",, \"T\")","v":"Ares Management, L.P."},null,null,null,{"$f":"RTD(\"cqg.rtd\", ,\"ContractData\",C28, \"LastTradeToday\",, \"T\")","v":160.39000000000001},{"$f":"RTD(\"cqg.rtd\", ,\"ContractData\",C28, \"NetLastTradeToday\",, \"T\")","v":-0.37},{"$f":"IFERROR(RTD(\"cqg.rtd\", ,\"ContractData\",C28, \"PerCentNetLastTrade\",, \"T\")/100,\"\")","v":-2.3015675541179399E-3},{"$f":"RTD(\"cqg.rtd\", ,\"ContractData\", C28, \"T_CVol\",, \"T\")","v":1100649},28,{"$f":"IFERROR(RANK($J28,$J$1:J$391)+COUNTIF($J$1:J28,J28)-1,\"\")","v":172},"S.US.ARES","S.US.GLOB"]
["S.US.AVGO",1,"S.US.AVGO",{"$f":"RTD(\"cqg.rtd\", ,\"ContractData\",C29, \"LongDescription\",, \"T\")","v":"Broadcom Inc."},null,null,null,{"$f":"RTD(\"cqg.rtd\", ,\"ContractData\",C29, \"LastTradeToday\",, \"T\")","v":201.02},{"$f":"RTD(\"cqg.rtd\", ,\"ContractData\",C29, \"NetLastTradeToday\",, \"T\")","v":0.3},{"$f":"IFERROR(RTD(\"cqg.rtd\", ,\"ContractData\",C29, \"PerCentNetLastTrade\",, \"T\")/100,\"\")","v":1.4946193702670388E-3},{"$f":"RTD(\"cqg.rtd\", ,\"ContractData\", C29, \"T_CVol\",, \"T\")","v":9885998},29,{"$f":"IFERROR(RANK($J29,$J$1:J$391)+COUNTIF($J$1:J29,J29)-1,\"\")","v":112},"S.US.AVGO","S.US.LBRDA"]
["S.US.AVY",0,"S.US.AVY",{"$f":"RTD(\"cqg.rtd\", ,\"ContractData\",C30, \"LongDescription\",, \"T\")","v":"Avery Dennison Corp"},null,null,null,{"$f":"RTD(\"cqg.rtd\", ,\"ContractData\",C30, \"LastTradeToday\",, \"T\")","v":170.21},{"$f":"RTD(\"cqg.rtd\", ,\"ContractData\",C30, \"NetLastTradeToday\",, \"T\")","v":-0.72},{"$f":"IFERROR(RTD(\"cqg.rtd\", ,\"ContractData\",C30, \"PerCentNetLastTrade\",, \"T\")/100,\"\")","v":-4.2122506289124203E-3},{"$f":"RTD(\"cqg.rtd\", ,\"ContractData\", C30, \"T_CVol\",, \"T\")","v":301059},30,{"$f":"IFERROR(RANK($J30,$J$1:J$391)+COUNTIF($J$1:J30,J30)-1,\"\")","v":207},"S.US.AVY","S.US.LVS"]
["S.US.AWI",1,"S.US.AWI",{"$f":"RTD(\"cqg.rtd\", ,\"ContractData\",C31, \"LongDescription\",, \"T\")","v":"Armstrong World Industries Inc."},null,null,null,{"$f":"RTD(\"cqg.rtd\", ,\"ContractData\",C31, \"LastTradeToday\",, \"T\")","v":150.30000000000001},{"$f":"RTD(\"cqg.rtd\", ,\"ContractData\",C31, \"NetLastTradeToday\",, \"T\")","v":0.18},{"$f":"IFERROR(RTD(\"cqg.rtd\", ,\"ContractData\",C31, \"PerCentNetLastTrade\",, \"T\")/100,\"\")","v":1.1990407673860913E-3},{"$f":"RTD(\"cqg.rtd\", ,\"ContractData\", C31, \"T_CVol\",, \"T\")","v":91924},31,{"$f":"IFERROR(RANK($J31,$J$1:J$391)+COUNTIF($J$1:J31,J31)-1,\"\")","v":115},"S.US.AWI","S.US.IT"]
["S.US.AXON",0,"S.US.AXON",{"$f":"RTD(\"cqg.rtd\", ,\"ContractData\",C32, \"LongDescription\",, \"T\")","v":"Axon Enterprise, Inc."},null,null,null,{"$f":"RTD(\"cqg.rtd\", ,\"ContractData\",C32, \"LastTradeToday\",, \"T\")","v":605.86},{"$f":"RTD(\"cqg.rtd\", ,\"ContractData\",C32, \"NetLastTradeToday\",, \"T\")","v":-15.540000000000001},{"$f":"IFERROR(RTD(\"cqg.rtd\", ,\"ContractData\",C32, \"PerCentNetLastTrade\",, \"T\")/100,\"\")","v":-2.5008046346958478E-2},{"$f":"RTD(\"cqg.rtd\", ,\"ContractData\", C32, \"T_CVol\",, \"T\")","v":439586},32,{"$f":"IFERROR(RANK($J32,$J$1:J$391)+COUNTIF($J$1:J32,J32)-1,\"\")","v":346},"S.US.AXON","S.US.HWM"]
["S.US.AXP",0,"S.US.AXP",{"$f":"RTD(\"cqg.rtd\", ,\"ContractData\",C33, \"LongDescription\",, \"T\")","v":"American Express Co"},null,null,null,{"$f":"RTD(\"cqg.rtd\", ,\"ContractData\",C33, \"LastTradeToday\",, \"T\")","v":276.31},{"$f":"RTD(\"cqg.rtd\", ,\"ContractData\",C33, \"NetLastTradeToday\",, \"T\")","v":-1.72},{"$f":"IFERROR(RTD(\"cqg.rtd\", ,\"ContractData\",C33, \"PerCentNetLastTrade\",, \"T\")/100,\"\")","v":-6.1863827644498791E-3},{"$f":"RTD(\"cqg.rtd\", ,\"ContractData\", C33, \"T_CVol\",, \"T\")","v":1698532},33,{"$f":"IFERROR(RANK($J33,$J$1:J$391)+COUNTIF($J$1:J33,J33)-1,\"\")","v":245},"S.US.AXP","S.US.SBUX"]
["S.US.AZEK",0,"S.US.AZEK",{"$f":"RTD(\"cqg.rtd\", ,\"ContractData\",C34, \"LongDescription\",, \"T\")","v":"CPG Newco LLC"},null,null,null,{"$f":"RTD(\"cqg.rtd\", ,\"ContractData\",C34, \"LastTradeToday\",, \"T\")","v":49.63},{"$f":"RTD(\"cqg.rtd\", ,\"ContractData\",C34, \"NetLastTradeToday\",, \"T\")","v":-0.13},{"$f":"IFERROR(RTD(\"cqg.rtd\", ,\"ContractData\",C34, \"PerCentNetLastTrade\",, \"T\")/100,\"\")","v":-2.6125401929260449E-3},{"$f":"RTD(\"cqg.rtd\", ,\"ContractData\", C34, \"T_CVol\",, \"T\")","v":1509160},34,{"$f":"IFERROR(RANK($J34,$J$1:J$391)+COUNTIF($J$1:J34,J34)-1,\"\")","v":176},"S.US.AZEK","S.US.ANET"]
["S.US.AZO",0,"S.US.AZO",{"$f":"RTD(\"cqg.rtd\", ,\"ContractData\",C35, \"LongDescription\",, \"T\")","v":"Autozone Inc"},null,null,null,{"$f":"RTD(\"cqg.rtd\", ,\"ContractData\",C35, \"LastTradeToday\",, \"T\")","v":3744.6800000000003},{"$f":"RTD(\"cqg.rtd\", ,\"ContractData\",C35, \"NetLastTradeToday\",, \"T\")","v":-30.87},{"$f":"IFERROR(RTD(\"cqg.rtd\", ,\"ContractData\",C35, \"PerCentNetLastTrade\",, \"T\")/100,\"\")","v":-8.1762921958390168E-3},{"$f":"RTD(\"cqg.rtd\", ,\"ContractData\", C35, \"T_CVol\",, \"T\")","v":40542},35,{"$f":"IFERROR(RANK($J35,$J$1:J$391)+COUNTIF($J$1:J35,J35)-1,\"\")","v":267},"S.US.AZO","S.US.XYZ"]
["S.US.BA",0,"S.US.BA",{"$f":"RTD(\"cqg.rtd\", ,\"ContractData\",C36, \"LongDescription\",, \"T\")","v":"Boeing Company"},null,null,null,{"$f":"RTD(\"cqg.rtd\", ,\"ContractData\",C36, \"LastTradeToday\",, \"T\")","v":185.74},{"$f":"RTD(\"cqg.rtd\", ,\"ContractData\",C36, \"NetLastTradeToday\",, \"T\")","v":-0.72},{"$f":"IFERROR(RTD(\"cqg.rtd\", ,\"ContractData\",C36, \"PerCentNetLastTrade\",, \"T\")/100,\"\")","v":-3.8614179984983376E-3},{"$f":"RTD(\"cqg.rtd\", ,\"ContractData\", C36, \"T_CVol\",, \"T\")","v":3201068},36,{"$f":"IFERROR(RANK($J36,$J$1:J$391)+COUNTIF($J$1:J36,J36)-1,\"\")","v":197},"S.US.BA","S.US.TT"]
["S.US.BAH",1,"S.US.BAH",{"$f":"RTD(\"cqg.rtd\", ,\"ContractData\",C37, \"LongDescription\",, \"T\")","v":"Booz Allen Hamilton Holding Corporation"},null,null,null,{"$f":"RTD(\"cqg.rtd\", ,\"ContractData\",C37, \"LastTradeToday\",, \"T\")","v":123.52},{"$f":"RTD(\"cqg.rtd\", ,\"ContractData\",C37, \"NetLastTradeToday\",, \"T\")","v":4.3500000000000005},{"$f":"IFERROR(RTD(\"cqg.rtd\", ,\"ContractData\",C37, \"PerCentNetLastTrade\",, \"T\")/100,\"\")","v":3.6502475455232018E-2},{"$f":"RTD(\"cqg.rtd\", ,\"ContractData\", C37, \"T_CVol\",, \"T\")","v":1425423},37,{"$f":"IFERROR(RANK($J37,$J$1:J$391)+COUNTIF($J$1:J37,J37)-1,\"\")","v":9},"S.US.BAH","S.US.LBRDK"]
["S.US.BFAM",0,"S.US.BFAM",{"$f":"RTD(\"cqg.rtd\", ,\"ContractData\",C38, \"LongDescription\",, \"T\")","v":"Bright Horizons Family Solutions Inc."},null,null,null,{"$f":"RTD(\"cqg.rtd\", ,\"ContractData\",C38, \"LastTradeToday\",, \"T\")","v":122.71000000000001},{"$f":"RTD(\"cqg.rtd\", ,\"ContractData\",C38, \"NetLastTradeToday\",, \"T\")","v":-4.1100000000000003},{"$f":"IFERROR(RTD(\"cqg.rtd\", ,\"ContractData\",C38, \"PerCentNetLastTrade\",, \"T\")/100,\"\")","v":-3.2408137517741679E-2},{"$f":"RTD(\"cqg.rtd\", ,\"ContractData\", C38, \"T_CVol\",, \"T\")","v":342858},38,{"$f":"IFERROR(RANK($J38,$J$1:J$391)+COUNTIF($J$1:J38,J38)-1,\"\")","v":359},"S.US.BFAM","S.US.NRG"]
["S.US.BILL",0,"S.US.BILL",{"$f":"RTD(\"cqg.rtd\", ,\"ContractData\",C39, \"LongDescription\",, \"T\")","v":"BILL Holdings, Inc."},null,null,null,{"$f":"RTD(\"cqg.rtd\", ,\"ContractData\",C39, \"LastTradeToday\",, \"T\")","v":45.15},{"$f":"RTD(\"cqg.rtd\", ,\"ContractData\",C39, \"NetLastTradeToday\",, \"T\")","v":-0.04},{"$f":"IFERROR(RTD(\"cqg.rtd\", ,\"ContractData\",C39, \"PerCentNetLastTrade\",, \"T\")/100,\"\")","v":-8.8515158220845325E-4},{"$f":"RTD(\"cqg.rtd\", ,\"ContractData\", C39, \"T_CVol\",, \"T\")","v":1065916},39,{"$f":"IFERROR(RANK($J39,$J$1:J$391)+COUNTIF($J$1:J39,J39)-1,\"\")","v":149},"S.US.BILL","S.US.AJG"]
["S.US.BKNG",1,"S.US.BKNG",{"$f":"RTD(\"cqg.rtd\", ,\"ContractData\",C40, \"LongDescription\",, \"T\")","v":"Booking Holdings Inc."},null,null,null,{"$f":"RTD(\"cqg.rtd\", ,\"ContractData\",C40, \"LastTradeToday\",, \"T\")","v":5192.71},{"$f":"RTD(\"cqg.rtd\", ,\"ContractData\",C40, \"NetLastTradeToday\",, \"T\")","v":1.59},{"$f":"IFERROR(RTD(\"cqg.rtd\", ,\"ContractData\",C40, \"PerCentNetLastTrade\",, \"T\")/100,\"\")","v":3.0629228374608945E-4},{"$f":"RTD(\"cqg.rtd\", ,\"ContractData\", C40, \"T_CVol\",, \"T\")","v":93234},40,{"$f":"IFERROR(RANK($J40,$J$1:J$391)+COUNTIF($J$1:J40,J40)-1,\"\")","v":130},"S.US.BKNG","S.US.TPL"]
["S.US.BLD",0,"S.US.BLD",{"$f":"RTD(\"cqg.rtd\", ,\"ContractData\",C41, \"LongDescription\",, \"T\")","v":"TopBuild Corp."},null,null,null,{"$f":"RTD(\"cqg.rtd\", ,\"ContractData\",C41, \"LastTradeToday\",, \"T\")","v":286.28000000000003},{"$f":"RTD(\"cqg.rtd\", ,\"ContractData\",C41, \"NetLastTradeToday\",, \"T\")","v":-5.72},{"$f":"IFERROR(RTD(\"cqg.rtd\", ,\"ContractData\",C41, \"PerCentNetLastTrade\",, \"T\")/100,\"\")","v":-1.9589041095890412E-2},{"$f":"RTD(\"cqg.rtd\", ,\"ContractData\", C41, \"T_CVol\",, \"T\")","v":388063},41,{"$f":"IFERROR(RANK($J41,$J$1:J$391)+COUNTIF($J$1:J41,J41)-1,\"\")","v":338},"S.US.BLD","S.US.UBER"]
["S.US.BLDR",0,"S.US.BLDR",{"$f":"RTD(\"cqg.rtd\", ,\"ContractData\",C42, \"LongDescription\",, \"T\")","v":"Builders FirstSource Inc"},null,null,null,{"$f":"RTD(\"cqg.rtd\", ,\"ContractData\",C42, \"LastTradeToday\",, \"T\")","v":107.43},{"$f":"RTD(\"cqg.rtd\", ,\"ContractData\",C42, \"NetLastTradeToday\",, \"T\")","v":-4.43},{"$f":"IFERROR(RTD(\"cqg.rtd\", ,\"ContractData\",C42, \"PerCentNetLastTrade\",, \"T\")/100,\"\")","v":-3.9603075272662255E-2},{"$f":"RTD(\"cqg.rtd\", ,\"ContractData\", C42, \"T_CVol\",, \"T\")","v":1722025},42,{"$f":"IFERROR(RANK($J42,$J$1:J$391)+COUNTIF($J$1:J42,J42)-1,\"\")","v":367},"S.US.BLDR","S.US.EXAS"]
["S.US.BPOP",1,"S.US.BPOP",{"$f":"RTD(\"cqg.rtd\", ,\"ContractData\",C43, \"LongDescription\",, \"T\")","v":"BanPonce Corp"},null,null,null,{"$f":"RTD(\"cqg.rtd\", ,\"ContractData\",C43, \"LastTradeToday\",, \"T\")","v":99.600000000000009},{"$f":"RTD(\"cqg.rtd\", ,\"ContractData\",C43, \"NetLastTradeToday\",, \"T\")","v":0.12},{"$f":"IFERROR(RTD(\"cqg.rtd\", ,\"ContractData\",C43, \"PerCentNetLastTrade\",, \"T\")/100,\"\")","v":1.2062726176115804E-3},{"$f":"RTD(\"cqg.rtd\", ,\"ContractData\", C43, \"T_CVol\",, \"T\")","v":344569},43,{"$f":"IFERROR(RANK($J43,$J$1:J$391)+COUNTIF($J$1:J43,J43)-1,\"\")","v":114},"S.US.BPOP","S.US.PR"]
["S.US.BR",1,"S.US.BR",{"$f":"RTD(\"cqg.rtd\", ,\"ContractData\",C44, \"LongDescription\",, \"T\")","v":"Broadridge Financial Solutions"},null,null,null,{"$f":"RTD(\"cqg.rtd\", ,\"ContractData\",C44, \"LastTradeToday\",, \"T\")","v":234.02},{"$f":"RTD(\"cqg.rtd\", ,\"ContractData\",C44, \"NetLastTradeToday\",, \"T\")","v":1.84},{"$f":"IFERROR(RTD(\"cqg.rtd\", ,\"ContractData\",C44, \"PerCentNetLastTrade\",, \"T\")/100,\"\")","v":7.9248858644155387E-3},{"$f":"RTD(\"cqg.rtd\", ,\"ContractData\", C44, \"T_CVol\",, \"T\")","v":295880},44,{"$f":"IFERROR(RANK($J44,$J$1:J$391)+COUNTIF($J$1:J44,J44)-1,\"\")","v":60},"S.US.BR","S.US.PATH"]
["S.US.BRKR",0,"S.US.BRKR",{"$f":"RTD(\"cqg.rtd\", ,\"ContractData\",C45, \"LongDescription\",, \"T\")","v":"Bruker Corp"},null,null,null,{"$f":"RTD(\"cqg.rtd\", ,\"ContractData\",C45, \"LastTradeToday\",, \"T\")","v":39.32},{"$f":"RTD(\"cqg.rtd\", ,\"ContractData\",C45, \"NetLastTradeToday\",, \"T\")","v":-1.41},{"$f":"IFERROR(RTD(\"cqg.rtd\", ,\"ContractData\",C45, \"PerCentNetLastTrade\",, \"T\")/100,\"\")","v":-3.4618217530076108E-2},{"$f":"RTD(\"cqg.rtd\", ,\"ContractData\", C45, \"T_CVol\",, \"T\")","v":1561912},45,{"$f":"IFERROR(RANK($J45,$J$1:J$391)+COUNTIF($J$1:J45,J45)-1,\"\")","v":364},"S.US.BRKR","S.US.CHDN"]
["S.US.BRO",1,"S.US.BRO",{"$f":"RTD(\"cqg.rtd\", ,\"ContractData\",C46, \"LongDescription\",, \"T\")","v":"BROWN AND BROWN INC"},null,null,null,{"$f":"RTD(\"cqg.rtd\", ,\"ContractData\",C46, \"LastTradeToday\",, \"T\")","v":110.73},{"$f":"RTD(\"cqg.rtd\", ,\"ContractData\",C46, \"NetLastTradeToday\",, \"T\")","v":0.33},{"$f":"IFERROR(RTD(\"cqg.rtd\", ,\"ContractData\",C46, \"PerCentNetLastTrade\",, \"T\")/100,\"\")","v":2.9891304347826088E-3},{"$f":"RTD(\"cqg.rtd\", ,\"ContractData\", C46, \"T_CVol\",, \"T\")","v":569532},46,{"$f":"IFERROR(RANK($J46,$J$1:J$391)+COUNTIF($J$1:J46,J46)-1,\"\")","v":98},"S.US.BRO","S.US.DVA"]
["S.US.BROS",0,"S.US.BROS",{"$f":"RTD(\"cqg.rtd\", ,\"ContractData\",C47, \"LongDescription\",, \"T\")","v":"Dutch Bros Inc."},null,null,null,{"$f":"RTD(\"cqg.rtd\", ,\"ContractData\",C47, \"LastTradeToday\",, \"T\")","v":59.730000000000004},{"$f":"RTD(\"cqg.rtd\", ,\"ContractData\",C47, \"NetLastTradeToday\",, \"T\")","v":-0.63},{"$f":"IFERROR(RTD(\"cqg.rtd\", ,\"ContractData\",C47, \"PerCentNetLastTrade\",, \"T\")/100,\"\")","v":-1.0437375745526839E-2},{"$f":"RTD(\"cqg.rtd\", ,\"ContractData\", C47, \"T_CVol\",, \"T\")","v":2053238},47,{"$f":"IFERROR(RANK($J47,$J$1:J$391)+COUNTIF($J$1:J47,J47)-1,\"\")","v":285},"S.US.BROS","S.US.CAR"]
["S.US.BSY",0,"S.US.BSY",{"$f":"RTD(\"cqg.rtd\", ,\"ContractData\",C48, \"LongDescription\",, \"T\")","v":"Bentley Systems, Incorporated Class B"},null,null,null,{"$f":"RTD(\"cqg.rtd\", ,\"ContractData\",C48, \"LastTradeToday\",, \"T\")","v":43.85},{"$f":"RTD(\"cqg.rtd\", ,\"ContractData\",C48, \"NetLastTradeToday\",, \"T\")","v":0},{"$f":"IFERROR(RTD(\"cqg.rtd\", ,\"ContractData\",C48, \"PerCentNetLastTrade\",, \"T\")/100,\"\")","v":0},{"$f":"RTD(\"cqg.rtd\", ,\"ContractData\", C48, \"T_CVol\",, \"T\")","v":904495},48,{"$f":"IFERROR(RANK($J48,$J$1:J$391)+COUNTIF($J$1:J48,J48)-1,\"\")","v":134},"S.US.BSY","S.US.CIVI"]
["S.US.BURL",0,"S.US.BURL",{"$f":"RTD(\"cqg.rtd\", ,\"ContractData\",C49, \"LongDescription\",, \"T\")","v":"Burlington Stores, Inc."},null,null,null,{"$f":"RTD(\"cqg.rtd\", ,\"ContractData\",C49, \"LastTradeToday\",, \"T\")","v":236.71},{"$f":"RTD(\"cqg.rtd\", ,\"ContractData\",C49, \"NetLastTradeToday\",, \"T\")","v":-0.33},{"$f":"IFERROR(RTD(\"cqg.rtd\", ,\"ContractData\",C49, \"PerCentNetLastTrade\",, \"T\")/100,\"\")","v":-1.3921700978737767E-3},{"$f":"RTD(\"cqg.rtd\", ,\"ContractData\", C49, \"T_CVol\",, \"T\")","v":743163},49,{"$f":"IFERROR(RANK($J49,$J$1:J$391)+COUNTIF($J$1:J49,J49)-1,\"\")","v":158},"S.US.BURL","S.US.ADBE"]
["S.US.BWXT",0,"S.US.BWXT",{"$f":"RTD(\"cqg.rtd\", ,\"ContractData\",C50, \"LongDescription\",, \"T\")","v":"BWX Technologies, Inc."},null,null,null,{"$f":"RTD(\"cqg.rtd\", ,\"ContractData\",C50, \"LastTradeToday\",, \"T\")","v":107.33},{"$f":"RTD(\"cqg.rtd\", ,\"ContractData\",C50, \"NetLastTradeToday\",, \"T\")","v":-4.68},{"$f":"IFERROR(RTD(\"cqg.rtd\", ,\"ContractData\",C50, \"PerCentNetLastTrade\",, \"T\")/100,\"\")","v":-4.1781983751450757E-2},{"$f":"RTD(\"cqg.rtd\", ,\"ContractData\", C50, \"T_CVol\",, \"T\")","v":1581301},50,{"$f":"IFERROR(RANK($J50,$J$1:J$391)+COUNTIF($J$1:J50,J50)-1,\"\")","v":368},"S.US.BWXT","S.US.YUM"]
["S.US.BX",0,"S.US.BX",{"$f":"RTD(\"cqg.rtd\", ,\"ContractData\",C51, \"LongDescription\",, \"T\")","v":"Blackstone Inc."},null,null,null,{"$f":"RTD(\"cqg.rtd\", ,\"ContractData\",C51, \"LastTradeToday\",, \"T\")","v":134.46},{"$f":"RTD(\"cqg.rtd\", ,\"ContractData\",C51, \"NetLastTradeToday\",, \"T\")","v":-1.6500000000000001},{"$f":"IFERROR(RTD(\"cqg.rtd\", ,\"ContractData\",C51, \"PerCentNetLastTrade\",, \"T\")/100,\"\")","v":-1.2122547939166849E-2},{"$f":"RTD(\"cqg.rtd\", ,\"ContractData\", C51, \"T_CVol\",, \"T\")","v":1770779},51,{"$f":"IFERROR(RANK($J51,$J$1:J$391)+COUNTIF($J$1:J51,J51)-1,\"\")","v":296},"S.US.BX","S.US.MCK"]
["S.US.CACC",1,"S.US.CACC",{"$f":"RTD(\"cqg.rtd\", ,\"ContractData\",C52, \"LongDescription\",, \"T\")","v":"Credit Acceptence Corp"},null,null,null,{"$f":"RTD(\"cqg.rtd\", ,\"ContractData\",C52, \"LastTradeToday\",, \"T\")","v":499.90000000000003},{"$f":"RTD(\"cqg.rtd\", ,\"ContractData\",C52, \"NetLastTradeToday\",, \"T\")","v":3.79},{"$f":"IFERROR(RTD(\"cqg.rtd\", ,\"ContractData\",C52, \"PerCentNetLastTrade\",, \"T\")/100,\"\")","v":7.639434802765516E-3},{"$f":"RTD(\"cqg.rtd\", ,\"ContractData\", C52, \"T_CVol\",, \"T\")","v":74462},52,{"$f":"IFERROR(RANK($J52,$J$1:J$391)+COUNTIF($J$1:J52,J52)-1,\"\")","v":63},"S.US.CACC","S.US.ALL"]
["S.US.CAH",0,"S.US.CAH",{"$f":"RTD(\"cqg.rtd\", ,\"ContractData\",C53, \"LongDescription\",, \"T\")","v":"Cardinal Health Inc"},null,null,null,{"$f":"RTD(\"cqg.rtd\", ,\"ContractData\",C53, \"LastTradeToday\",, \"T\")","v":151.75},{"$f":"RTD(\"cqg.rtd\", ,\"ContractData\",C53, \"NetLastTradeToday\",, \"T\")","v":-0.24},{"$f":"IFERROR(RTD(\"cqg.rtd\", ,\"ContractData\",C53, \"PerCentNetLastTrade\",, \"T\")/100,\"\")","v":-1.5790512533719323E-3},{"$f":"RTD(\"cqg.rtd\", ,\"ContractData\", C53, \"T_CVol\",, \"T\")","v":1106467},53,{"$f":"IFERROR(RANK($J53,$J$1:J$391)+COUNTIF($J$1:J53,J53)-1,\"\")","v":164},"S.US.CAH","S.US.TKO"]
["S.US.CAR",1,"S.US.CAR",{"$f":"RTD(\"cqg.rtd\", ,\"ContractData\",C54, \"LongDescription\",, \"T\")","v":"AVIS Budget Group Inc"},null,null,null,{"$f":"RTD(\"cqg.rtd\", ,\"ContractData\",C54, \"LastTradeToday\",, \"T\")","v":97.210000000000008},{"$f":"RTD(\"cqg.rtd\", ,\"ContractData\",C54, \"NetLastTradeToday\",, \"T\")","v":0.91},{"$f":"IFERROR(RTD(\"cqg.rtd\", ,\"ContractData\",C54, \"PerCentNetLastTrade\",, \"T\")/100,\"\")","v":9.4496365524402905E-3},{"$f":"RTD(\"cqg.rtd\", ,\"ContractData\", C54, \"T_CVol\",, \"T\")","v":712913},54,{"$f":"IFERROR(RANK($J54,$J$1:J$391)+COUNTIF($J$1:J54,J54)-1,\"\")","v":47},"S.US.CAR","S.US.RNG"]
["S.US.CASY",0,"S.US.CASY",{"$f":"RTD(\"cqg.rtd\", ,\"ContractData\",C55, \"LongDescription\",, \"T\")","v":"Caseys General Stores Inc"},null,null,null,{"$f":"RTD(\"cqg.rtd\", ,\"ContractData\",C55, \"LastTradeToday\",, \"T\")","v":466.05},{"$f":"RTD(\"cqg.rtd\", ,\"ContractData\",C55, \"NetLastTradeToday\",, \"T\")","v":-0.33},{"$f":"IFERROR(RTD(\"cqg.rtd\", ,\"ContractData\",C55, \"PerCentNetLastTrade\",, \"T\")/100,\"\")","v":-7.0757751190016714E-4},{"$f":"RTD(\"cqg.rtd\", ,\"ContractData\", C55, \"T_CVol\",, \"T\")","v":127579},55,{"$f":"IFERROR(RANK($J55,$J$1:J$391)+COUNTIF($J$1:J55,J55)-1,\"\")","v":147},"S.US.CASY","S.US.VRSK"]
["S.US.CAT",0,"S.US.CAT",{"$f":"RTD(\"cqg.rtd\", ,\"ContractData\",C56, \"LongDescription\",, \"T\")","v":"Caterpillar Inc"},null,null,null,{"$f":"RTD(\"cqg.rtd\", ,\"ContractData\",C56, \"LastTradeToday\",, \"T\")","v":321.82},{"$f":"RTD(\"cqg.rtd\", ,\"ContractData\",C56, \"NetLastTradeToday\",, \"T\")","v":-1.29},{"$f":"IFERROR(RTD(\"cqg.rtd\", ,\"ContractData\",C56, \"PerCentNetLastTrade\",, \"T\")/100,\"\")","v":-3.9924483921884189E-3},{"$f":"RTD(\"cqg.rtd\", ,\"ContractData\", C56, \"T_CVol\",, \"T\")","v":1071601},56,{"$f":"IFERROR(RANK($J56,$J$1:J$391)+COUNTIF($J$1:J56,J56)-1,\"\")","v":203},"S.US.CAT","S.US.PSTG"]
["S.US.CAVA",0,"S.US.CAVA",{"$f":"RTD(\"cqg.rtd\", ,\"ContractData\",C57, \"LongDescription\",, \"T\")","v":"Cava Group Inc."},null,null,null,{"$f":"RTD(\"cqg.rtd\", ,\"ContractData\",C57, \"LastTradeToday\",, \"T\")","v":93.48},{"$f":"RTD(\"cqg.rtd\", ,\"ContractData\",C57, \"NetLastTradeToday\",, \"T\")","v":-2.36},{"$f":"IFERROR(RTD(\"cqg.rtd\", ,\"ContractData\",C57, \"PerCentNetLastTrade\",, \"T\")/100,\"\")","v":-2.4624373956594323E-2},{"$f":"RTD(\"cqg.rtd\", ,\"ContractData\", C57, \"T_CVol\",, \"T\")","v":2083724},57,{"$f":"IFERROR(RANK($J57,$J$1:J$391)+COUNTIF($J$1:J57,J57)-1,\"\")","v":345},"S.US.CAVA","S.US.HES"]
["S.US.CC",0,"S.US.CC",{"$f":"RTD(\"cqg.rtd\", ,\"ContractData\",C58, \"LongDescription\",, \"T\")","v":"The Chemours Company"},null,null,null,{"$f":"RTD(\"cqg.rtd\", ,\"ContractData\",C58, \"LastTradeToday\",, \"T\")","v":12.030000000000001},{"$f":"RTD(\"cqg.rtd\", ,\"ContractData\",C58, \"NetLastTradeToday\",, \"T\")","v":-7.0000000000000007E-2},{"$f":"IFERROR(RTD(\"cqg.rtd\", ,\"ContractData\",C58, \"PerCentNetLastTrade\",, \"T\")/100,\"\")","v":-5.7851239669421484E-3},{"$f":"RTD(\"cqg.rtd\", ,\"ContractData\", C58, \"T_CVol\",, \"T\")","v":2102995},58,{"$f":"IFERROR(RANK($J58,$J$1:J$391)+COUNTIF($J$1:J58,J58)-1,\"\")","v":241},"S.US.CC","S.US.PLNT"]
["S.US.CDNS",0,"S.US.CDNS",{"$f":"RTD(\"cqg.rtd\", ,\"ContractData\",C59, \"LongDescription\",, \"T\")","v":"Cadence Design Systems, Inc"},null,null,null,{"$f":"RTD(\"cqg.rtd\", ,\"ContractData\",C59, \"LastTradeToday\",, \"T\")","v":307.19},{"$f":"RTD(\"cqg.rtd\", ,\"ContractData\",C59, \"NetLastTradeToday\",, \"T\")","v":-1.6400000000000001},{"$f":"IFERROR(RTD(\"cqg.rtd\", ,\"ContractData\",C59, \"PerCentNetLastTrade\",, \"T\")/100,\"\")","v":-5.3103649256872713E-3},{"$f":"RTD(\"cqg.rtd\", ,\"ContractData\", C59, \"T_CVol\",, \"T\")","v":1057627},59,{"$f":"IFERROR(RANK($J59,$J$1:J$391)+COUNTIF($J$1:J59,J59)-1,\"\")","v":236},"S.US.CDNS","S.US.WYNN"]
["S.US.CDW",0,"S.US.CDW",{"$f":"RTD(\"cqg.rtd\", ,\"ContractData\",C60, \"LongDescription\",, \"T\")","v":"CDW Corporation"},null,null,null,{"$f":"RTD(\"cqg.rtd\", ,\"ContractData\",C60, \"LastTradeToday\",, \"T\")","v":165.23},{"$f":"RTD(\"cqg.rtd\", ,\"ContractData\",C60, \"NetLastTradeToday\",, \"T\")","v":-0.52},{"$f":"IFERROR(RTD(\"cqg.rtd\", ,\"ContractData\",C60, \"PerCentNetLastTrade\",, \"T\")/100,\"\")","v":-3.1372549019607842E-3},{"$f":"RTD(\"cqg.rtd\", ,\"ContractData\", C60, \"T_CVol\",, \"T\")","v":769608},60,{"$f":"IFERROR(RANK($J60,$J$1:J$391)+COUNTIF($J$1:J60,J60)-1,\"\")","v":186},"S.US.CDW","S.US.BR"]
["S.US.CE",1,"S.US.CE",{"$f":"RTD(\"cqg.rtd\", ,\"ContractData\",C61, \"LongDescription\",, \"T\")","v":"Celanese Corp"},null,null,null,{"$f":"RTD(\"cqg.rtd\", ,\"ContractData\",C61, \"LastTradeToday\",, \"T\")","v":48.96},{"$f":"RTD(\"cqg.rtd\", ,\"ContractData\",C61, \"NetLastTradeToday\",, \"T\")","v":4.1900000000000004},{"$f":"IFERROR(RTD(\"cqg.rtd\", ,\"ContractData\",C61, \"PerCentNetLastTrade\",, \"T\")/100,\"\")","v":9.3589457225820863E-2},{"$f":"RTD(\"cqg.rtd\", ,\"ContractData\", C61, \"T_CVol\",, \"T\")","v":4235727},61,{"$f":"IFERROR(RANK($J61,$J$1:J$391)+COUNTIF($J$1:J61,J61)-1,\"\")","v":2},"S.US.CE","S.US.LII"]
["S.US.CEG",1,"S.US.CEG",{"$f":"RTD(\"cqg.rtd\", ,\"ContractData\",C62, \"LongDescription\",, \"T\")","v":"Constellation Energy Corporation"},null,null,null,{"$f":"RTD(\"cqg.rtd\", ,\"ContractData\",C62, \"LastTradeToday\",, \"T\")","v":277.40000000000003},{"$f":"RTD(\"cqg.rtd\", ,\"ContractData\",C62, \"NetLastTradeToday\",, \"T\")","v":29.13},{"$f":"IFERROR(RTD(\"cqg.rtd\", ,\"ContractData\",C62, \"PerCentNetLastTrade\",, \"T\")/100,\"\")","v":0.11733193700406815},{"$f":"RTD(\"cqg.rtd\", ,\"ContractData\", C62, \"T_CVol\",, \"T\")","v":5645416},62,{"$f":"IFERROR(RANK($J62,$J$1:J$391)+COUNTIF($J$1:J62,J62)-1,\"\")","v":1},"S.US.CEG","S.US.CRWD"]
["S.US.CELH",1,"S.US.CELH",{"$f":"RTD(\"cqg.rtd\", ,\"ContractData\",C63, \"LongDescription\",, \"T\")","v":"Celsius Holdings, Inc."},null,null,null,{"$f":"RTD(\"cqg.rtd\", ,\"ContractData\",C63, \"LastTradeToday\",, \"T\")","v":35.840000000000003},{"$f":"RTD(\"cqg.rtd\", ,\"ContractData\",C63, \"NetLastTradeToday\",, \"T\")","v":1.95},{"$f":"IFERROR(RTD(\"cqg.rtd\", ,\"ContractData\",C63, \"PerCentNetLastTrade\",, \"T\")/100,\"\")","v":5.7539097078784296E-2},{"$f":"RTD(\"cqg.rtd\", ,\"ContractData\", C63, \"T_CVol\",, \"T\")","v":14020298},63,{"$f":"IFERROR(RANK($J63,$J$1:J$391)+COUNTIF($J$1:J63,J63)-1,\"\")","v":4},"S.US.CELH","S.US.CACC"]
["S.US.CFLT",1,"S.US.CFLT",{"$f":"RTD(\"cqg.rtd\", ,\"ContractData\",C64, \"LongDescription\",, \"T\")","v":"Confluent, Inc. Class A"},null,null,null,{"$f":"RTD(\"cqg.rtd\", ,\"ContractData\",C64, \"LastTradeToday\",, \"T\")","v":19.82},{"$f":"RTD(\"cqg.rtd\", ,\"ContractData\",C64, \"NetLastTradeToday\",, \"T\")","v":7.0000000000000007E-2},{"$f":"IFERROR(RTD(\"cqg.rtd\", ,\"ContractData\",C64, \"PerCentNetLastTrade\",, \"T\")/100,\"\")","v":3.5443037974683543E-3},{"$f":"RTD(\"cqg.rtd\", ,\"ContractData\", C64, \"T_CVol\",, \"T\")","v":3724713},64,{"$f":"IFERROR(RANK($J64,$J$1:J$391)+COUNTIF($J$1:J64,J64)-1,\"\")","v":93},"S.US.CFLT","S.US.CSL"]
["S.US.CGNX",1,"S.US.CGNX",{"$f":"RTD(\"cqg.rtd\", ,\"ContractData\",C65, \"LongDescription\",, \"T\")","v":"Cognex Corp"},null,null,null,{"$f":"RTD(\"cqg.rtd\", ,\"ContractData\",C65, \"LastTradeToday\",, \"T\")","v":28.01},{"$f":"RTD(\"cqg.rtd\", ,\"ContractData\",C65, \"NetLastTradeToday\",, \"T\")","v":0.02},{"$f":"IFERROR(RTD(\"cqg.rtd\", ,\"ContractData\",C65, \"PerCentNetLastTrade\",, \"T\")/100,\"\")","v":7.1454090746695244E-4},{"$f":"RTD(\"cqg.rtd\", ,\"ContractData\", C65, \"T_CVol\",, \"T\")","v":882091},65,{"$f":"IFERROR(RANK($J65,$J$1:J$391)+COUNTIF($J$1:J65,J65)-1,\"\")","v":123},"S.US.CGNX",{"$f":"VLOOKUP($L65,$M$1:$N$391,2,FALSE)","v":"S.US.CTAS"}]
["S.US.CHDN",{"$f":"IF(J66>0,1,0)","v":1},"S.US.CHDN",{"$f":"RTD(\"cqg.rtd\", ,\"ContractData\",C66, \"LongDescription\",, \"T\")","v":"Churchill Downs"},null,null,null,{"$f":"RTD(\"cqg.rtd\", ,\"ContractData\",C66, \"LastTradeToday\",, \"T\")","v":91.63},{"$f":"RTD(\"cqg.rtd\", ,\"ContractData\",C66, \"NetLastTradeToday\",, \"T\")","v":0.92},{"$f":"IFERROR(RTD(\"cqg.rtd\", ,\"ContractData\",C66, \"PerCentNetLastTrade\",, \"T\")/100,\"\")","v":1.0142211443060302E-2},{"$f":"RTD(\"cqg.rtd\", ,\"ContractData\", C66, \"T_CVol\",, \"T\")","v":682091},66,{"$f":"IFERROR(RANK($J66,$J$1:J$391)+COUNTIF($J$1:J66,J66)-1,\"\")","v":45},{"$f":"C66","v":"S.US.CHDN"},"S.US.FOUR"]
["S.US.CHE",1,"S.US.CHE",{"$f":"RTD(\"cqg.rtd\", ,\"ContractData\",C67, \"LongDescription\",, \"T\")","v":"Chemed Corp"},null,null,null,{"$f":"RTD(\"cqg.rtd\", ,\"ContractData\",C67, \"LastTradeToday\",, \"T\")","v":578.13},{"$f":"RTD(\"cqg.rtd\", ,\"ContractData\",C67, \"NetLastTradeToday\",, \"T\")","v":2.06},{"$f":"IFERROR(RTD(\"cqg.rtd\", ,\"ContractData\",C67, \"PerCentNetLastTrade\",, \"T\")/100,\"\")","v":3.5759543111080249E-3},{"$f":"RTD(\"cqg.rtd\", ,\"ContractData\", C67, \"T_CVol\",, \"T\")","v":95185},{"$f":"L66+1","v":67},{"$f":"IFERROR(RANK($J67,$J$1:J$391)+COUNTIF($J$1:J67,J67)-1,\"\")","v":92},"S.US.CHE","S.US.MSGS"]
["S.US.CHH",0,"S.US.CHH",{"$f":"RTD(\"cqg.rtd\", ,\"ContractData\",C68, \"LongDescription\",, \"T\")","v":"Choice Hotels Internatl Inc"},null,null,null,{"$f":"RTD(\"cqg.rtd\", ,\"ContractData\",C68, \"LastTradeToday\",, \"T\")","v":126.28},{"$f":"RTD(\"cqg.rtd\", ,\"ContractData\",C68, \"NetLastTradeToday\",, \"T\")","v":-0.65},{"$f":"IFERROR(RTD(\"cqg.rtd\", ,\"ContractData\",C68, \"PerCentNetLastTrade\",, \"T\")/100,\"\")","v":-5.1209327976049794E-3},{"$f":"RTD(\"cqg.rtd\", ,\"ContractData\", C68, \"T_CVol\",, \"T\")","v":317119},68,{"$f":"IFERROR(RANK($J68,$J$1:J$391)+COUNTIF($J$1:J68,J68)-1,\"\")","v":227},"S.US.CHH","S.US.GWRE"]
["S.US.CI",1,"S.US.CI",{"$f":"RTD(\"cqg.rtd\", ,\"ContractData\",C69, \"LongDescription\",, \"T\")","v":"The Cigna Group"},null,null,null,{"$f":"RTD(\"cqg.rtd\", ,\"ContractData\",C69, \"LastTradeToday\",, \"T\")","v":333.89},{"$f":"RTD(\"cqg.rtd\", ,\"ContractData\",C69, \"NetLastTradeToday\",, \"T\")","v":0.88},{"$f":"IFERROR(RTD(\"cqg.rtd\", ,\"ContractData\",C69, \"PerCentNetLastTrade\",, \"T\")/100,\"\")","v":2.6425632863877964E-3},{"$f":"RTD(\"cqg.rtd\", ,\"ContractData\", C69, \"T_CVol\",, \"T\")","v":1176561},69,{"$f":"IFERROR(RANK($J69,$J$1:J$391)+COUNTIF($J$1:J69,J69)-1,\"\")","v":103},"S.US.CI","S.US.GDDY"]
["S.US.CIVI",1,"S.US.CIVI",{"$f":"RTD(\"cqg.rtd\", ,\"ContractData\",C70, \"LongDescription\",, \"T\")","v":"Civitas Resources, Inc."},null,null,null,{"$f":"RTD(\"cqg.rtd\", ,\"ContractData\",C70, \"LastTradeToday\",, \"T\")","v":27.5},{"$f":"RTD(\"cqg.rtd\", ,\"ContractData\",C70, \"NetLastTradeToday\",, \"T\")","v":0.25},{"$f":"IFERROR(RTD(\"cqg.rtd\", ,\"ContractData\",C70, \"PerCentNetLastTrade\",, \"T\")/100,\"\")","v":9.1743119266055051E-3},{"$f":"RTD(\"cqg.rtd\", ,\"ContractData\", C70, \"T_CVol\",, \"T\")","v":772519},70,{"$f":"IFERROR(RANK($J70,$J$1:J$391)+COUNTIF($J$1:J70,J70)-1,\"\")","v":48},"S.US.CIVI","S.US.PANW"]
["S.US.CL",1,"S.US.CL",{"$f":"RTD(\"cqg.rtd\", ,\"ContractData\",C71, \"LongDescription\",, \"T\")","v":"Colgate-Palmolive Co"},null,null,null,{"$f":"RTD(\"cqg.rtd\", ,\"ContractData\",C71, \"LastTradeToday\",, \"T\")","v":91.18},{"$f":"RTD(\"cqg.rtd\", ,\"ContractData\",C71, \"NetLastTradeToday\",, \"T\")","v":0.44},{"$f":"IFERROR(RTD(\"cqg.rtd\", ,\"ContractData\",C71, \"PerCentNetLastTrade\",, \"T\")/100,\"\")","v":4.8490191756667403E-3},{"$f":"RTD(\"cqg.rtd\", ,\"ContractData\", C71, \"T_CVol\",, \"T\")","v":1861369},71,{"$f":"IFERROR(RANK($J71,$J$1:J$391)+COUNTIF($J$1:J71,J71)-1,\"\")","v":84},"S.US.CL","S.US.TTD"]
["S.US.CLF",0,"S.US.CLF",{"$f":"RTD(\"cqg.rtd\", ,\"ContractData\",C72, \"LongDescription\",, \"T\")","v":"Cleveland-Cliffs Inc."},null,null,null,{"$f":"RTD(\"cqg.rtd\", ,\"ContractData\",C72, \"LastTradeToday\",, \"T\")","v":8.6300000000000008},{"$f":"RTD(\"cqg.rtd\", ,\"ContractData\",C72, \"NetLastTradeToday\",, \"T\")","v":-0.04},{"$f":"IFERROR(RTD(\"cqg.rtd\", ,\"ContractData\",C72, \"PerCentNetLastTrade\",, \"T\")/100,\"\")","v":-4.61361014994233E-3},{"$f":"RTD(\"cqg.rtd\", ,\"ContractData\", C72, \"T_CVol\",, \"T\")","v":7274219},72,{"$f":"IFERROR(RANK($J72,$J$1:J$391)+COUNTIF($J$1:J72,J72)-1,\"\")","v":217},"S.US.CLF","S.US.NFLX"]
["S.US.CLX",0,"S.US.CLX",{"$f":"RTD(\"cqg.rtd\", ,\"ContractData\",C73, \"LongDescription\",, \"T\")","v":"Clorox Company"},null,null,null,{"$f":"RTD(\"cqg.rtd\", ,\"ContractData\",C73, \"LastTradeToday\",, \"T\")","v":134.80000000000001},{"$f":"RTD(\"cqg.rtd\", ,\"ContractData\",C73, \"NetLastTradeToday\",, \"T\")","v":-3.59},{"$f":"IFERROR(RTD(\"cqg.rtd\", ,\"ContractData\",C73, \"PerCentNetLastTrade\",, \"T\")/100,\"\")","v":-2.5941180721150373E-2},{"$f":"RTD(\"cqg.rtd\", ,\"ContractData\", C73, \"T_CVol\",, \"T\")","v":2397457},73,{"$f":"IFERROR(RANK($J73,$J$1:J$391)+COUNTIF($J$1:J73,J73)-1,\"\")","v":349},"S.US.CLX","S.US.INSP"]
["S.US.CMG",1,"S.US.CMG",{"$f":"RTD(\"cqg.rtd\", ,\"ContractData\",C74, \"LongDescription\",, \"T\")","v":"Chipotle Mexican Grill"},null,null,null,{"$f":"RTD(\"cqg.rtd\", ,\"ContractData\",C74, \"LastTradeToday\",, \"T\")","v":50.31},{"$f":"RTD(\"cqg.rtd\", ,\"ContractData\",C74, \"NetLastTradeToday\",, \"T\")","v":0.3},{"$f":"IFERROR(RTD(\"cqg.rtd\", ,\"ContractData\",C74, \"PerCentNetLastTrade\",, \"T\")/100,\"\")","v":5.9988002399520091E-3},{"$f":"RTD(\"cqg.rtd\", ,\"ContractData\", C74, \"T_CVol\",, \"T\")","v":4988094},74,{"$f":"IFERROR(RANK($J74,$J$1:J$391)+COUNTIF($J$1:J74,J74)-1,\"\")","v":75},"S.US.CMG","S.US.KNSL"]
["S.US.CNM",0,"S.US.CNM",{"$f":"RTD(\"cqg.rtd\", ,\"ContractData\",C75, \"LongDescription\",, \"T\")","v":"Core & Main, Inc."},null,null,null,{"$f":"RTD(\"cqg.rtd\", ,\"ContractData\",C75, \"LastTradeToday\",, \"T\")","v":51.82},{"$f":"RTD(\"cqg.rtd\", ,\"ContractData\",C75, \"NetLastTradeToday\",, \"T\")","v":-1.52},{"$f":"IFERROR(RTD(\"cqg.rtd\", ,\"ContractData\",C75, \"PerCentNetLastTrade\",, \"T\")/100,\"\")","v":-2.8496437945256844E-2},{"$f":"RTD(\"cqg.rtd\", ,\"ContractData\", C75, \"T_CVol\",, \"T\")","v":878068},75,{"$f":"IFERROR(RANK($J75,$J$1:J$391)+COUNTIF($J$1:J75,J75)-1,\"\")","v":355},"S.US.CNM","S.US.CMG"]
["S.US.COIN",0,"S.US.COIN",{"$f":"RTD(\"cqg.rtd\", ,\"ContractData\",C76, \"LongDescription\",, \"T\")","v":"Coinbase Global, Inc. Class A"},null,null,null,{"$f":"RTD(\"cqg.rtd\", ,\"ContractData\",C76, \"LastTradeToday\",, \"T\")","v":198.02},{"$f":"RTD(\"cqg.rtd\", ,\"ContractData\",C76, \"NetLastTradeToday\",, \"T\")","v":-1.3800000000000001},{"$f":"IFERROR(RTD(\"cqg.rtd\", ,\"ContractData\",C76, \"PerCentNetLastTrade\",, \"T\")/100,\"\")","v":-6.9207622868605826E-3},{"$f":"RTD(\"cqg.rtd\", ,\"ContractData\", C76, \"T_CVol\",, \"T\")","v":3589940},76,{"$f":"IFERROR(RANK($J76,$J$1:J$391)+COUNTIF($J$1:J76,J76)-1,\"\")","v":250},"S.US.COIN","S.US.SNOW"]
["S.US.COR",1,"S.US.COR",{"$f":"RTD(\"cqg.rtd\", ,\"ContractData\",C77, \"LongDescription\",, \"T\")","v":"Cencora Inc."},null,null,null,{"$f":"RTD(\"cqg.rtd\", ,\"ContractData\",C77, \"LastTradeToday\",, \"T\")","v":292.44},{"$f":"RTD(\"cqg.rtd\", ,\"ContractData\",C77, \"NetLastTradeToday\",, \"T\")","v":0.47000000000000003},{"$f":"IFERROR(RTD(\"cqg.rtd\", ,\"ContractData\",C77, \"PerCentNetLastTrade\",, \"T\")/100,\"\")","v":1.6097544268246738E-3},{"$f":"RTD(\"cqg.rtd\", ,\"ContractData\", C77, \"T_CVol\",, \"T\")","v":669180},77,{"$f":"IFERROR(RANK($J77,$J$1:J$391)+COUNTIF($J$1:J77,J77)-1,\"\")","v":108},"S.US.COR","S.US.DDOG"]
["S.US.COST",0,"S.US.COST",{"$f":"RTD(\"cqg.rtd\", ,\"ContractData\",C78, \"LongDescription\",, \"T\")","v":"Costco Wholesale Corp"},null,null,null,{"$f":"RTD(\"cqg.rtd\", ,\"ContractData\",C78, \"LastTradeToday\",, \"T\")","v":1011.59},{"$f":"RTD(\"cqg.rtd\", ,\"ContractData\",C78, \"NetLastTradeToday\",, \"T\")","v":-3.3000000000000003},{"$f":"IFERROR(RTD(\"cqg.rtd\", ,\"ContractData\",C78, \"PerCentNetLastTrade\",, \"T\")/100,\"\")","v":-3.2515839154982312E-3},{"$f":"RTD(\"cqg.rtd\", ,\"ContractData\", C78, \"T_CVol\",, \"T\")","v":828429},78,{"$f":"IFERROR(RANK($J78,$J$1:J$391)+COUNTIF($J$1:J78,J78)-1,\"\")","v":190},"S.US.COST","S.US.TTEK"]
["S.US.CPAY",1,"S.US.CPAY",{"$f":"RTD(\"cqg.rtd\", ,\"ContractData\",C79, \"LongDescription\",, \"T\")","v":"Corpay, Inc."},null,null,null,{"$f":"RTD(\"cqg.rtd\", ,\"ContractData\",C79, \"LastTradeToday\",, \"T\")","v":328.37},{"$f":"RTD(\"cqg.rtd\", ,\"ContractData\",C79, \"NetLastTradeToday\",, \"T\")","v":0.21},{"$f":"IFERROR(RTD(\"cqg.rtd\", ,\"ContractData\",C79, \"PerCentNetLastTrade\",, \"T\")/100,\"\")","v":6.3993174061433445E-4},{"$f":"RTD(\"cqg.rtd\", ,\"ContractData\", C79, \"T_CVol\",, \"T\")","v":281521},79,{"$f":"IFERROR(RANK($J79,$J$1:J$391)+COUNTIF($J$1:J79,J79)-1,\"\")","v":124},"S.US.CPAY","S.US.LOAR"]
["S.US.CPNG",0,"S.US.CPNG",{"$f":"RTD(\"cqg.rtd\", ,\"ContractData\",C80, \"LongDescription\",, \"T\")","v":"Coupang, Inc."},null,null,null,{"$f":"RTD(\"cqg.rtd\", ,\"ContractData\",C80, \"LastTradeToday\",, \"T\")","v":23.98},{"$f":"RTD(\"cqg.rtd\", ,\"ContractData\",C80, \"NetLastTradeToday\",, \"T\")","v":-0.01},{"$f":"IFERROR(RTD(\"cqg.rtd\", ,\"ContractData\",C80, \"PerCentNetLastTrade\",, \"T\")/100,\"\")","v":-4.1684035014589413E-4},{"$f":"RTD(\"cqg.rtd\", ,\"ContractData\", C80, \"T_CVol\",, \"T\")","v":4249872},80,{"$f":"IFERROR(RANK($J80,$J$1:J$391)+COUNTIF($J$1:J80,J80)-1,\"\")","v":142},"S.US.CPNG","S.US.PGR"]
["S.US.CPRT",0,"S.US.CPRT",{"$f":"RTD(\"cqg.rtd\", ,\"ContractData\",C81, \"LongDescription\",, \"T\")","v":"Copart Inc"},null,null,null,{"$f":"RTD(\"cqg.rtd\", ,\"ContractData\",C81, \"LastTradeToday\",, \"T\")","v":60.76},{"$f":"RTD(\"cqg.rtd\", ,\"ContractData\",C81, \"NetLastTradeToday\",, \"T\")","v":-0.28999999999999998},{"$f":"IFERROR(RTD(\"cqg.rtd\", ,\"ContractData\",C81, \"PerCentNetLastTrade\",, \"T\")/100,\"\")","v":-4.7502047502047499E-3},{"$f":"RTD(\"cqg.rtd\", ,\"ContractData\", C81, \"T_CVol\",, \"T\")","v":1381461},81,{"$f":"IFERROR(RANK($J81,$J$1:J$391)+COUNTIF($J$1:J81,J81)-1,\"\")","v":221},"S.US.CPRT","S.US.QCOM"]
["S.US.CRM",1,"S.US.CRM",{"$f":"RTD(\"cqg.rtd\", ,\"ContractData\",C82, \"LongDescription\",, \"T\")","v":"Salesforce, Inc."},null,null,null,{"$f":"RTD(\"cqg.rtd\", ,\"ContractData\",C82, \"LastTradeToday\",, \"T\")","v":273.09000000000003},{"$f":"RTD(\"cqg.rtd\", ,\"ContractData\",C82, \"NetLastTradeToday\",, \"T\")","v":0.46},{"$f":"IFERROR(RTD(\"cqg.rtd\", ,\"ContractData\",C82, \"PerCentNetLastTrade\",, \"T\")/100,\"\")","v":1.6872684590837398E-3},{"$f":"RTD(\"cqg.rtd\", ,\"ContractData\", C82, \"T_CVol\",, \"T\")","v":2777020},82,{"$f":"IFERROR(RANK($J82,$J$1:J$391)+COUNTIF($J$1:J82,J82)-1,\"\")","v":107},"S.US.CRM","S.US.RMD"]
["S.US.CROX",0,"S.US.CROX",{"$f":"RTD(\"cqg.rtd\", ,\"ContractData\",C83, \"LongDescription\",, \"T\")","v":"Crocs Inc"},null,null,null,{"$f":"RTD(\"cqg.rtd\", ,\"ContractData\",C83, \"LastTradeToday\",, \"T\")","v":98.33},{"$f":"RTD(\"cqg.rtd\", ,\"ContractData\",C83, \"NetLastTradeToday\",, \"T\")","v":-2.46},{"$f":"IFERROR(RTD(\"cqg.rtd\", ,\"ContractData\",C83, \"PerCentNetLastTrade\",, \"T\")/100,\"\")","v":-2.4407183252306775E-2},{"$f":"RTD(\"cqg.rtd\", ,\"ContractData\", C83, \"T_CVol\",, \"T\")","v":921061},83,{"$f":"IFERROR(RANK($J83,$J$1:J$391)+COUNTIF($J$1:J83,J83)-1,\"\")","v":344},"S.US.CROX","S.US.TYL"]
["S.US.CRWD",1,"S.US.CRWD",{"$f":"RTD(\"cqg.rtd\", ,\"ContractData\",C84, \"LongDescription\",, \"T\")","v":"CrowdStrike Holdings, Inc. Class A"},null,null,null,{"$f":"RTD(\"cqg.rtd\", ,\"ContractData\",C84, \"LastTradeToday\",, \"T\")","v":446.88},{"$f":"RTD(\"cqg.rtd\", ,\"ContractData\",C84, \"NetLastTradeToday\",, \"T\")","v":3.41},{"$f":"IFERROR(RTD(\"cqg.rtd\", ,\"ContractData\",C84, \"PerCentNetLastTrade\",, \"T\")/100,\"\")","v":7.6893589194308521E-3},{"$f":"RTD(\"cqg.rtd\", ,\"ContractData\", C84, \"T_CVol\",, \"T\")","v":2116339},84,{"$f":"IFERROR(RANK($J84,$J$1:J$391)+COUNTIF($J$1:J84,J84)-1,\"\")","v":62},"S.US.CRWD","S.US.CL"]
["S.US.CSL",1,"S.US.CSL",{"$f":"RTD(\"cqg.rtd\", ,\"ContractData\",C85, \"LongDescription\",, \"T\")","v":"Carlisle Cos Inc"},null,null,null,{"$f":"RTD(\"cqg.rtd\", ,\"ContractData\",C85, \"LastTradeToday\",, \"T\")","v":387.81},{"$f":"RTD(\"cqg.rtd\", ,\"ContractData\",C85, \"NetLastTradeToday\",, \"T\")","v":2.7600000000000002},{"$f":"IFERROR(RTD(\"cqg.rtd\", ,\"ContractData\",C85, \"PerCentNetLastTrade\",, \"T\")/100,\"\")","v":7.1679002726918583E-3},{"$f":"RTD(\"cqg.rtd\", ,\"ContractData\", C85, \"T_CVol\",, \"T\")","v":246696},85,{"$f":"IFERROR(RANK($J85,$J$1:J$391)+COUNTIF($J$1:J85,J85)-1,\"\")","v":64},"S.US.CSL","S.US.LNW"]
["S.US.CTAS",1,"S.US.CTAS",{"$f":"RTD(\"cqg.rtd\", ,\"ContractData\",C86, \"LongDescription\",, \"T\")","v":"Cintas Corp"},null,null,null,{"$f":"RTD(\"cqg.rtd\", ,\"ContractData\",C86, \"LastTradeToday\",, \"T\")","v":213.33},{"$f":"RTD(\"cqg.rtd\", ,\"ContractData\",C86, \"NetLastTradeToday\",, \"T\")","v":1.51},{"$f":"IFERROR(RTD(\"cqg.rtd\", ,\"ContractData\",C86, \"PerCentNetLastTrade\",, \"T\")/100,\"\")","v":7.1286941742989326E-3},{"$f":"RTD(\"cqg.rtd\", ,\"ContractData\", C86, \"T_CVol\",, \"T\")","v":605428},86,{"$f":"IFERROR(RANK($J86,$J$1:J$391)+COUNTIF($J$1:J86,J86)-1,\"\")","v":65},"S.US.CTAS","S.US.AAPL"]
["S.US.CVNA",1,"S.US.CVNA",{"$f":"RTD(\"cqg.rtd\", ,\"ContractData\",C87, \"LongDescription\",, \"T\")","v":"Carvana Co."},null,null,null,{"$f":"RTD(\"cqg.rtd\", ,\"ContractData\",C87, \"LastTradeToday\",, \"T\")","v":259.64},{"$f":"RTD(\"cqg.rtd\", ,\"ContractData\",C87, \"NetLastTradeToday\",, \"T\")","v":7.0000000000000007E-2},{"$f":"IFERROR(RTD(\"cqg.rtd\", ,\"ContractData\",C87, \"PerCentNetLastTrade\",, \"T\")/100,\"\")","v":2.6967677312478332E-4},{"$f":"RTD(\"cqg.rtd\", ,\"ContractData\", C87, \"T_CVol\",, \"T\")","v":2321433},87,{"$f":"IFERROR(RANK($J87,$J$1:J$391)+COUNTIF($J$1:J87,J87)-1,\"\")","v":131},"S.US.CVNA","S.US.KMX"]
["S.US.DASH",0,"S.US.DASH",{"$f":"RTD(\"cqg.rtd\", ,\"ContractData\",C88, \"LongDescription\",, \"T\")","v":"DoorDash, Inc"},null,null,null,{"$f":"RTD(\"cqg.rtd\", ,\"ContractData\",C88, \"LastTradeToday\",, \"T\")","v":188.63},{"$f":"RTD(\"cqg.rtd\", ,\"ContractData\",C88, \"NetLastTradeToday\",, \"T\")","v":-16.77},{"$f":"IFERROR(RTD(\"cqg.rtd\", ,\"ContractData\",C88, \"PerCentNetLastTrade\",, \"T\")/100,\"\")","v":-8.1645569620253169E-2},{"$f":"RTD(\"cqg.rtd\", ,\"ContractData\", C88, \"T_CVol\",, \"T\")","v":7563655},88,{"$f":"IFERROR(RANK($J88,$J$1:J$391)+COUNTIF($J$1:J88,J88)-1,\"\")","v":385},"S.US.DASH","S.US.RLI"]
["S.US.DAY",0,"S.US.DAY",{"$f":"RTD(\"cqg.rtd\", ,\"ContractData\",C89, \"LongDescription\",, \"T\")","v":"Dayforce Inc."},null,null,null,{"$f":"RTD(\"cqg.rtd\", ,\"ContractData\",C89, \"LastTradeToday\",, \"T\")","v":58.1},{"$f":"RTD(\"cqg.rtd\", ,\"ContractData\",C89, \"NetLastTradeToday\",, \"T\")","v":-0.3},{"$f":"IFERROR(RTD(\"cqg.rtd\", ,\"ContractData\",C89, \"PerCentNetLastTrade\",, \"T\")/100,\"\")","v":-5.1369863013698636E-3},{"$f":"RTD(\"cqg.rtd\", ,\"ContractData\", C89, \"T_CVol\",, \"T\")","v":1858343},89,{"$f":"IFERROR(RANK($J89,$J$1:J$391)+COUNTIF($J$1:J89,J89)-1,\"\")","v":230},"S.US.DAY","S.US.PG"]
["S.US.DBX",0,"S.US.DBX",{"$f":"RTD(\"cqg.rtd\", ,\"ContractData\",C90, \"LongDescription\",, \"T\")","v":"Dropbox, Inc. Class A"},null,null,null,{"$f":"RTD(\"cqg.rtd\", ,\"ContractData\",C90, \"LastTradeToday\",, \"T\")","v":28.97},{"$f":"RTD(\"cqg.rtd\", ,\"ContractData\",C90, \"NetLastTradeToday\",, \"T\")","v":-0.01},{"$f":"IFERROR(RTD(\"cqg.rtd\", ,\"ContractData\",C90, \"PerCentNetLastTrade\",, \"T\")/100,\"\")","v":-3.4506556245686681E-4},{"$f":"RTD(\"cqg.rtd\", ,\"ContractData\", C90, \"T_CVol\",, \"T\")","v":1896112},90,{"$f":"IFERROR(RANK($J90,$J$1:J$391)+COUNTIF($J$1:J90,J90)-1,\"\")","v":141},"S.US.DBX","S.US.NVDA"]
["S.US.DDOG",1,"S.US.DDOG",{"$f":"RTD(\"cqg.rtd\", ,\"ContractData\",C91, \"LongDescription\",, \"T\")","v":"Datadog, Inc. Class A"},null,null,null,{"$f":"RTD(\"cqg.rtd\", ,\"ContractData\",C91, \"LastTradeToday\",, \"T\")","v":106.29},{"$f":"RTD(\"cqg.rtd\", ,\"ContractData\",C91, \"NetLastTradeToday\",, \"T\")","v":0.59},{"$f":"IFERROR(RTD(\"cqg.rtd\", ,\"ContractData\",C91, \"PerCentNetLastTrade\",, \"T\")/100,\"\")","v":5.5818353831598869E-3},{"$f":"RTD(\"cqg.rtd\", ,\"ContractData\", C91, \"T_CVol\",, \"T\")","v":11228614},91,{"$f":"IFERROR(RANK($J91,$J$1:J$391)+COUNTIF($J$1:J91,J91)-1,\"\")","v":77},"S.US.DDOG","S.US.DV"]
["S.US.DECK",0,"S.US.DECK",{"$f":"RTD(\"cqg.rtd\", ,\"ContractData\",C92, \"LongDescription\",, \"T\")","v":"Deckers Outdoor Corp"},null,null,null,{"$f":"RTD(\"cqg.rtd\", ,\"ContractData\",C92, \"LastTradeToday\",, \"T\")","v":117.09},{"$f":"RTD(\"cqg.rtd\", ,\"ContractData\",C92, \"NetLastTradeToday\",, \"T\")","v":-1.24},{"$f":"IFERROR(RTD(\"cqg.rtd\", ,\"ContractData\",C92, \"PerCentNetLastTrade\",, \"T\")/100,\"\")","v":-1.0479168427279641E-2},{"$f":"RTD(\"cqg.rtd\", ,\"ContractData\", C92, \"T_CVol\",, \"T\")","v":1225428},92,{"$f":"IFERROR(RANK($J92,$J$1:J$391)+COUNTIF($J$1:J92,J92)-1,\"\")","v":286},"S.US.DECK","S.US.CHE"]
["S.US.DELL",1,"S.US.DELL",{"$f":"RTD(\"cqg.rtd\", ,\"ContractData\",C93, \"LongDescription\",, \"T\")","v":"Dell Technologies Inc."},null,null,null,{"$f":"RTD(\"cqg.rtd\", ,\"ContractData\",C93, \"LastTradeToday\",, \"T\")","v":94.43},{"$f":"RTD(\"cqg.rtd\", ,\"ContractData\",C93, \"NetLastTradeToday\",, \"T\")","v":7.0000000000000007E-2},{"$f":"IFERROR(RTD(\"cqg.rtd\", ,\"ContractData\",C93, \"PerCentNetLastTrade\",, \"T\")/100,\"\")","v":7.4183976261127588E-4},{"$f":"RTD(\"cqg.rtd\", ,\"ContractData\", C93, \"T_CVol\",, \"T\")","v":3095393},93,{"$f":"IFERROR(RANK($J93,$J$1:J$391)+COUNTIF($J$1:J93,J93)-1,\"\")","v":122},"S.US.DELL","S.US.CFLT"]
["S.US.DJT",0,"S.US.DJT",{"$f":"RTD(\"cqg.rtd\", ,\"ContractData\",C94, \"LongDescription\",, \"T\")","v":"Trump Media & Technology Group Corp."},null,null,null,{"$f":"RTD(\"cqg.rtd\", ,\"ContractData\",C94, \"LastTradeToday\",, \"T\")","v":23.87},{"$f":"RTD(\"cqg.rtd\", ,\"ContractData\",C94, \"NetLastTradeToday\",, \"T\")","v":-0.39},{"$f":"IFERROR(RTD(\"cqg.rtd\", ,\"ContractData\",C94, \"PerCentNetLastTrade\",, \"T\")/100,\"\")","v":-1.6075845012366034E-2},{"$f":"RTD(\"cqg.rtd\", ,\"ContractData\", C94, \"T_CVol\",, \"T\")","v":1707724},94,{"$f":"IFERROR(RANK($J94,$J$1:J$391)+COUNTIF($J$1:J94,J94)-1,\"\")","v":322},"S.US.DJT","S.US.MPWR"]
["S.US.DKNG",0,"S.US.DKNG",{"$f":"RTD(\"cqg.rtd\", ,\"ContractData\",C95, \"LongDescription\",, \"T\")","v":"DraftKings Inc. Class A"},null,null,null,{"$f":"RTD(\"cqg.rtd\", ,\"ContractData\",C95, \"LastTradeToday\",, \"T\")","v":33.64},{"$f":"RTD(\"cqg.rtd\", ,\"ContractData\",C95, \"NetLastTradeToday\",, \"T\")","v":-0.49},{"$f":"IFERROR(RTD(\"cqg.rtd\", ,\"ContractData\",C95, \"PerCentNetLastTrade\",, \"T\")/100,\"\")","v":-1.4356870788162907E-2},{"$f":"RTD(\"cqg.rtd\", ,\"ContractData\", C95, \"T_CVol\",, \"T\")","v":5873792},95,{"$f":"IFERROR(RANK($J95,$J$1:J$391)+COUNTIF($J$1:J95,J95)-1,\"\")","v":311},"S.US.DKNG","S.US.MKL"]
["S.US.DKS",0,"S.US.DKS",{"$f":"RTD(\"cqg.rtd\", ,\"ContractData\",C96, \"LongDescription\",, \"T\")","v":"Dicks Sporting Goods Inc."},null,null,null,{"$f":"RTD(\"cqg.rtd\", ,\"ContractData\",C96, \"LastTradeToday\",, \"T\")","v":186.97},{"$f":"RTD(\"cqg.rtd\", ,\"ContractData\",C96, \"NetLastTradeToday\",, \"T\")","v":-2.8000000000000003},{"$f":"IFERROR(RTD(\"cqg.rtd\", ,\"ContractData\",C96, \"PerCentNetLastTrade\",, \"T\")/100,\"\")","v":-1.4754703061600885E-2},{"$f":"RTD(\"cqg.rtd\", ,\"ContractData\", C96, \"T_CVol\",, \"T\")","v":411085},96,{"$f":"IFERROR(RANK($J96,$J$1:J$391)+COUNTIF($J$1:J96,J96)-1,\"\")","v":314},"S.US.DKS","S.US.EQH"]
["S.US.DOCS",0,"S.US.DOCS",{"$f":"RTD(\"cqg.rtd\", ,\"ContractData\",C97, \"LongDescription\",, \"T\")","v":"Doximity, Inc."},null,null,null,{"$f":"RTD(\"cqg.rtd\", ,\"ContractData\",C97, \"LastTradeToday\",, \"T\")","v":57.45},{"$f":"RTD(\"cqg.rtd\", ,\"ContractData\",C97, \"NetLastTradeToday\",, \"T\")","v":-1.94},{"$f":"IFERROR(RTD(\"cqg.rtd\", ,\"ContractData\",C97, \"PerCentNetLastTrade\",, \"T\")/100,\"\")","v":-3.2665431890890724E-2},{"$f":"RTD(\"cqg.rtd\", ,\"ContractData\", C97, \"T_CVol\",, \"T\")","v":1132639},97,{"$f":"IFERROR(RANK($J97,$J$1:J$391)+COUNTIF($J$1:J97,J97)-1,\"\")","v":360},"S.US.DOCS","S.US.MCD"]
["S.US.DOCU",0,"S.US.DOCU",{"$f":"RTD(\"cqg.rtd\", ,\"ContractData\",C98, \"LongDescription\",, \"T\")","v":"DocuSign, Inc."},null,null,null,{"$f":"RTD(\"cqg.rtd\", ,\"ContractData\",C98, \"LastTradeToday\",, \"T\")","v":82.12},{"$f":"RTD(\"cqg.rtd\", ,\"ContractData\",C98, \"NetLastTradeToday\",, \"T\")","v":-0.32},{"$f":"IFERROR(RTD(\"cqg.rtd\", ,\"ContractData\",C98, \"PerCentNetLastTrade\",, \"T\")/100,\"\")","v":-3.8816108685104317E-3},{"$f":"RTD(\"cqg.rtd\", ,\"ContractData\", C98, \"T_CVol\",, \"T\")","v":488790},98,{"$f":"IFERROR(RANK($J98,$J$1:J$391)+COUNTIF($J$1:J98,J98)-1,\"\")","v":198},"S.US.DOCU","S.US.BRO"]
["S.US.DPZ",1,"S.US.DPZ",{"$f":"RTD(\"cqg.rtd\", ,\"ContractData\",C99, \"LongDescription\",, \"T\")","v":"Dominos Pizza, Inc."},null,null,null,{"$f":"RTD(\"cqg.rtd\", ,\"ContractData\",C99, \"LastTradeToday\",, \"T\")","v":478.98},{"$f":"RTD(\"cqg.rtd\", ,\"ContractData\",C99, \"NetLastTradeToday\",, \"T\")","v":1.1400000000000001},{"$f":"IFERROR(RTD(\"cqg.rtd\", ,\"ContractData\",C99, \"PerCentNetLastTrade\",, \"T\")/100,\"\")","v":2.385735811150176E-3},{"$f":"RTD(\"cqg.rtd\", ,\"ContractData\", C99, \"T_CVol\",, \"T\")","v":293147},99,{"$f":"IFERROR(RANK($J99,$J$1:J$391)+COUNTIF($J$1:J99,J99)-1,\"\")","v":104},"S.US.DPZ","S.US.ZS"]
["S.US.DRI",0,"S.US.DRI",{"$f":"RTD(\"cqg.rtd\", ,\"ContractData\",C100, \"LongDescription\",, \"T\")","v":"Darden Restaurants Inc"},null,null,null,{"$f":"RTD(\"cqg.rtd\", ,\"ContractData\",C100, \"LastTradeToday\",, \"T\")","v":199.11},{"$f":"RTD(\"cqg.rtd\", ,\"ContractData\",C100, \"NetLastTradeToday\",, \"T\")","v":-3.5700000000000003},{"$f":"IFERROR(RTD(\"cqg.rtd\", ,\"ContractData\",C100, \"PerCentNetLastTrade\",, \"T\")/100,\"\")","v":-1.7613972764949675E-2},{"$f":"RTD(\"cqg.rtd\", ,\"ContractData\", C100, \"T_CVol\",, \"T\")","v":462701},100,{"$f":"IFERROR(RANK($J100,$J$1:J$391)+COUNTIF($J$1:J100,J100)-1,\"\")","v":331},"S.US.DRI","S.US.WDAY"]
["S.US.DT",0,"S.US.DT",{"$f":"RTD(\"cqg.rtd\", ,\"ContractData\",C101, \"LongDescription\",, \"T\")","v":"Dynatrace Holdings LLC"},null,null,null,{"$f":"RTD(\"cqg.rtd\", ,\"ContractData\",C101, \"LastTradeToday\",, \"T\")","v":47.4},{"$f":"RTD(\"cqg.rtd\", ,\"ContractData\",C101, \"NetLastTradeToday\",, \"T\")","v":-0.19},{"$f":"IFERROR(RTD(\"cqg.rtd\", ,\"ContractData\",C101, \"PerCentNetLastTrade\",, \"T\")/100,\"\")","v":-3.9924353855852069E-3},{"$f":"RTD(\"cqg.rtd\", ,\"ContractData\", C101, \"T_CVol\",, \"T\")","v":926062},101,{"$f":"IFERROR(RANK($J101,$J$1:J$391)+COUNTIF($J$1:J101,J101)-1,\"\")","v":202},"S.US.DT","S.US.PAYC"]
["S.US.DUOL",0,"S.US.DUOL",{"$f":"RTD(\"cqg.rtd\", ,\"ContractData\",C102, \"LongDescription\",, \"T\")","v":"Duolingo, Inc. Class A"},null,null,null,{"$f":"RTD(\"cqg.rtd\", ,\"ContractData\",C102, \"LastTradeToday\",, \"T\")","v":492.57},{"$f":"RTD(\"cqg.rtd\", ,\"ContractData\",C102, \"NetLastTradeToday\",, \"T\")","v":-1.56},{"$f":"IFERROR(RTD(\"cqg.rtd\", ,\"ContractData\",C102, \"PerCentNetLastTrade\",, \"T\")/100,\"\")","v":-3.1570639305445935E-3},{"$f":"RTD(\"cqg.rtd\", ,\"ContractData\", C102, \"T_CVol\",, \"T\")","v":1242746},102,{"$f":"IFERROR(RANK($J102,$J$1:J$391)+COUNTIF($J$1:J102,J102)-1,\"\")","v":188},"S.US.DUOL","S.US.EW"]
["S.US.DV",1,"S.US.DV",{"$f":"RTD(\"cqg.rtd\", ,\"ContractData\",C103, \"LongDescription\",, \"T\")","v":"DoubleVerify Holdings, Inc."},null,null,null,{"$f":"RTD(\"cqg.rtd\", ,\"ContractData\",C103, \"LastTradeToday\",, \"T\")","v":13.48},{"$f":"RTD(\"cqg.rtd\", ,\"ContractData\",C103, \"NetLastTradeToday\",, \"T\")","v":0.05},{"$f":"IFERROR(RTD(\"cqg.rtd\", ,\"ContractData\",C103, \"PerCentNetLastTrade\",, \"T\")/100,\"\")","v":3.7230081906180195E-3},{"$f":"RTD(\"cqg.rtd\", ,\"ContractData\", C103, \"T_CVol\",, \"T\")","v":1414121},103,{"$f":"IFERROR(RANK($J103,$J$1:J$391)+COUNTIF($J$1:J103,J103)-1,\"\")","v":91},{"$f":"C103","v":"S.US.DV"},"S.US.CI"]
["S.US.DVA",1,"S.US.DVA",{"$f":"RTD(\"cqg.rtd\", ,\"ContractData\",C104, \"LongDescription\",, \"T\")","v":"DaVita Inc."},null,null,null,{"$f":"RTD(\"cqg.rtd\", ,\"ContractData\",C104, \"LastTradeToday\",, \"T\")","v":142.94},{"$f":"RTD(\"cqg.rtd\", ,\"ContractData\",C104, \"NetLastTradeToday\",, \"T\")","v":1.37},{"$f":"IFERROR(RTD(\"cqg.rtd\", ,\"ContractData\",C104, \"PerCentNetLastTrade\",, \"T\")/100,\"\")","v":9.6771914953733135E-3},{"$f":"RTD(\"cqg.rtd\", ,\"ContractData\", C104, \"T_CVol\",, \"T\")","v":469838},104,{"$f":"IFERROR(RANK($J104,$J$1:J$391)+COUNTIF($J$1:J104,J104)-1,\"\")","v":46},"S.US.DVA","S.US.DPZ"]
["S.US.DXCM",1,"S.US.DXCM",{"$f":"RTD(\"cqg.rtd\", ,\"ContractData\",C105, \"LongDescription\",, \"T\")","v":"DexCom Inc"},null,null,null,{"$f":"RTD(\"cqg.rtd\", ,\"ContractData\",C105, \"LastTradeToday\",, \"T\")","v":81.98},{"$f":"RTD(\"cqg.rtd\", ,\"ContractData\",C105, \"NetLastTradeToday\",, \"T\")","v":1.71},{"$f":"IFERROR(RTD(\"cqg.rtd\", ,\"ContractData\",C105, \"PerCentNetLastTrade\",, \"T\")/100,\"\")","v":2.1303102030646569E-2},{"$f":"RTD(\"cqg.rtd\", ,\"ContractData\", C105, \"T_CVol\",, \"T\")","v":3632641},105,{"$f":"IFERROR(RANK($J105,$J$1:J$391)+COUNTIF($J$1:J105,J105)-1,\"\")","v":16},"S.US.DXCM","S.US.PODD"]
["S.US.ECL",0,"S.US.ECL",{"$f":"RTD(\"cqg.rtd\", ,\"ContractData\",C106, \"LongDescription\",, \"T\")","v":"Ecolab Inc"},null,null,null,{"$f":"RTD(\"cqg.rtd\", ,\"ContractData\",C106, \"LastTradeToday\",, \"T\")","v":253.1},{"$f":"RTD(\"cqg.rtd\", ,\"ContractData\",C106, \"NetLastTradeToday\",, \"T\")","v":-2},{"$f":"IFERROR(RTD(\"cqg.rtd\", ,\"ContractData\",C106, \"PerCentNetLastTrade\",, \"T\")/100,\"\")","v":-7.8400627205017642E-3},{"$f":"RTD(\"cqg.rtd\", ,\"ContractData\", C106, \"T_CVol\",, \"T\")","v":349670},106,{"$f":"IFERROR(RANK($J106,$J$1:J$391)+COUNTIF($J$1:J106,J106)-1,\"\")","v":264},"S.US.ECL","S.US.GE"]
["S.US.EFX",1,"S.US.EFX",{"$f":"RTD(\"cqg.rtd\", ,\"ContractData\",C107, \"LongDescription\",, \"T\")","v":"Equifax Inc"},null,null,null,{"$f":"RTD(\"cqg.rtd\", ,\"ContractData\",C107, \"LastTradeToday\",, \"T\")","v":262.39},{"$f":"RTD(\"cqg.rtd\", ,\"ContractData\",C107, \"NetLastTradeToday\",, \"T\")","v":0.04},{"$f":"IFERROR(RTD(\"cqg.rtd\", ,\"ContractData\",C107, \"PerCentNetLastTrade\",, \"T\")/100,\"\")","v":1.524680769963789E-4},{"$f":"RTD(\"cqg.rtd\", ,\"ContractData\", C107, \"T_CVol\",, \"T\")","v":293333},107,{"$f":"IFERROR(RANK($J107,$J$1:J$391)+COUNTIF($J$1:J107,J107)-1,\"\")","v":132},"S.US.EFX","S.US.CRM"]
["S.US.EG",0,"S.US.EG",{"$f":"RTD(\"cqg.rtd\", ,\"ContractData\",C108, \"LongDescription\",, \"T\")","v":"Everest Group, Ltd."},null,null,null,{"$f":"RTD(\"cqg.rtd\", ,\"ContractData\",C108, \"LastTradeToday\",, \"T\")","v":345.59000000000003},{"$f":"RTD(\"cqg.rtd\", ,\"ContractData\",C108, \"NetLastTradeToday\",, \"T\")","v":-1.77},{"$f":"IFERROR(RTD(\"cqg.rtd\", ,\"ContractData\",C108, \"PerCentNetLastTrade\",, \"T\")/100,\"\")","v":-5.0955780746199907E-3},{"$f":"RTD(\"cqg.rtd\", ,\"ContractData\", C108, \"T_CVol\",, \"T\")","v":232180},108,{"$f":"IFERROR(RANK($J108,$J$1:J$391)+COUNTIF($J$1:J108,J108)-1,\"\")","v":226},"S.US.EG","S.US.COR"]
["S.US.EL",1,"S.US.EL",{"$f":"RTD(\"cqg.rtd\", ,\"ContractData\",C109, \"LongDescription\",, \"T\")","v":"Estee Lauder Companies"},null,null,null,{"$f":"RTD(\"cqg.rtd\", ,\"ContractData\",C109, \"LastTradeToday\",, \"T\")","v":58.57},{"$f":"RTD(\"cqg.rtd\", ,\"ContractData\",C109, \"NetLastTradeToday\",, \"T\")","v":0.87},{"$f":"IFERROR(RTD(\"cqg.rtd\", ,\"ContractData\",C109, \"PerCentNetLastTrade\",, \"T\")/100,\"\")","v":1.5077989601386481E-2},{"$f":"RTD(\"cqg.rtd\", ,\"ContractData\", C109, \"T_CVol\",, \"T\")","v":2066441},109,{"$f":"IFERROR(RANK($J109,$J$1:J$391)+COUNTIF($J$1:J109,J109)-1,\"\")","v":27},"S.US.EL","S.US.PEN"]
["S.US.ELF",0,"S.US.ELF",{"$f":"RTD(\"cqg.rtd\", ,\"ContractData\",C110, \"LongDescription\",, \"T\")","v":"e.l.f. Beauty, Inc."},null,null,null,{"$f":"RTD(\"cqg.rtd\", ,\"ContractData\",C110, \"LastTradeToday\",, \"T\")","v":67.33},{"$f":"RTD(\"cqg.rtd\", ,\"ContractData\",C110, \"NetLastTradeToday\",, \"T\")","v":-0.46},{"$f":"IFERROR(RTD(\"cqg.rtd\", ,\"ContractData\",C110, \"PerCentNetLastTrade\",, \"T\")/100,\"\")","v":-6.7856616020061959E-3},{"$f":"RTD(\"cqg.rtd\", ,\"ContractData\", C110, \"T_CVol\",, \"T\")","v":835954},110,{"$f":"IFERROR(RANK($J110,$J$1:J$391)+COUNTIF($J$1:J110,J110)-1,\"\")","v":248},"S.US.ELF","S.US.JBL"]
["S.US.ELV",0,"S.US.ELV",{"$f":"RTD(\"cqg.rtd\", ,\"ContractData\",C111, \"LongDescription\",, \"T\")","v":"Elevance Health, Inc."},null,null,null,{"$f":"RTD(\"cqg.rtd\", ,\"ContractData\",C111, \"LastTradeToday\",, \"T\")","v":415.21000000000004},{"$f":"RTD(\"cqg.rtd\", ,\"ContractData\",C111, \"NetLastTradeToday\",, \"T\")","v":-1.0900000000000001},{"$f":"IFERROR(RTD(\"cqg.rtd\", ,\"ContractData\",C111, \"PerCentNetLastTrade\",, \"T\")/100,\"\")","v":-2.6183041076147007E-3},{"$f":"RTD(\"cqg.rtd\", ,\"ContractData\", C111, \"T_CVol\",, \"T\")","v":577893},111,{"$f":"IFERROR(RANK($J111,$J$1:J$391)+COUNTIF($J$1:J111,J111)-1,\"\")","v":177},"S.US.ELV","S.US.MMC"]
["S.US.EME",0,"S.US.EME",{"$f":"RTD(\"cqg.rtd\", ,\"ContractData\",C112, \"LongDescription\",, \"T\")","v":"EMCOR Group"},null,null,null,{"$f":"RTD(\"cqg.rtd\", ,\"ContractData\",C112, \"LastTradeToday\",, \"T\")","v":434.56},{"$f":"RTD(\"cqg.rtd\", ,\"ContractData\",C112, \"NetLastTradeToday\",, \"T\")","v":-1.43},{"$f":"IFERROR(RTD(\"cqg.rtd\", ,\"ContractData\",C112, \"PerCentNetLastTrade\",, \"T\")/100,\"\")","v":-3.2798917406362533E-3},{"$f":"RTD(\"cqg.rtd\", ,\"ContractData\", C112, \"T_CVol\",, \"T\")","v":269961},112,{"$f":"IFERROR(RANK($J112,$J$1:J$391)+COUNTIF($J$1:J112,J112)-1,\"\")","v":192},"S.US.EME","S.US.AVGO"]
["S.US.ENPH",0,"S.US.ENPH",{"$f":"RTD(\"cqg.rtd\", ,\"ContractData\",C113, \"LongDescription\",, \"T\")","v":"Enphase Energy, Inc."},null,null,null,{"$f":"RTD(\"cqg.rtd\", ,\"ContractData\",C113, \"LastTradeToday\",, \"T\")","v":44.33},{"$f":"RTD(\"cqg.rtd\", ,\"ContractData\",C113, \"NetLastTradeToday\",, \"T\")","v":-0.09},{"$f":"IFERROR(RTD(\"cqg.rtd\", ,\"ContractData\",C113, \"PerCentNetLastTrade\",, \"T\")/100,\"\")","v":-2.0261143628995948E-3},{"$f":"RTD(\"cqg.rtd\", ,\"ContractData\", C113, \"T_CVol\",, \"T\")","v":4532820},113,{"$f":"IFERROR(RANK($J113,$J$1:J$391)+COUNTIF($J$1:J113,J113)-1,\"\")","v":168},"S.US.ENPH","S.US.NTNX"]
["S.US.ENTG",0,"S.US.ENTG",{"$f":"RTD(\"cqg.rtd\", ,\"ContractData\",C114, \"LongDescription\",, \"T\")","v":"Entegris Inc"},null,null,null,{"$f":"RTD(\"cqg.rtd\", ,\"ContractData\",C114, \"LastTradeToday\",, \"T\")","v":83.51},{"$f":"RTD(\"cqg.rtd\", ,\"ContractData\",C114, \"NetLastTradeToday\",, \"T\")","v":-0.38},{"$f":"IFERROR(RTD(\"cqg.rtd\", ,\"ContractData\",C114, \"PerCentNetLastTrade\",, \"T\")/100,\"\")","v":-4.5297413279294313E-3},{"$f":"RTD(\"cqg.rtd\", ,\"ContractData\", C114, \"T_CVol\",, \"T\")","v":2131333},114,{"$f":"IFERROR(RANK($J114,$J$1:J$391)+COUNTIF($J$1:J114,J114)-1,\"\")","v":215},"S.US.ENTG","S.US.BPOP"]
["S.US.EPAM",0,"S.US.EPAM",{"$f":"RTD(\"cqg.rtd\", ,\"ContractData\",C115, \"LongDescription\",, \"T\")","v":"EPAM Systems, Inc."},null,null,null,{"$f":"RTD(\"cqg.rtd\", ,\"ContractData\",C115, \"LastTradeToday\",, \"T\")","v":158.38},{"$f":"RTD(\"cqg.rtd\", ,\"ContractData\",C115, \"NetLastTradeToday\",, \"T\")","v":-0.74},{"$f":"IFERROR(RTD(\"cqg.rtd\", ,\"ContractData\",C115, \"PerCentNetLastTrade\",, \"T\")/100,\"\")","v":-4.6505781799899447E-3},{"$f":"RTD(\"cqg.rtd\", ,\"ContractData\", C115, \"T_CVol\",, \"T\")","v":315765},115,{"$f":"IFERROR(RANK($J115,$J$1:J$391)+COUNTIF($J$1:J115,J115)-1,\"\")","v":220},"S.US.EPAM","S.US.AWI"]
["S.US.EQH",1,"S.US.EQH",{"$f":"RTD(\"cqg.rtd\", ,\"ContractData\",C116, \"LongDescription\",, \"T\")","v":"Equitable Holdings, Inc."},null,null,null,{"$f":"RTD(\"cqg.rtd\", ,\"ContractData\",C116, \"LastTradeToday\",, \"T\")","v":50.47},{"$f":"RTD(\"cqg.rtd\", ,\"ContractData\",C116, \"NetLastTradeToday\",, \"T\")","v":0.16},{"$f":"IFERROR(RTD(\"cqg.rtd\", ,\"ContractData\",C116, \"PerCentNetLastTrade\",, \"T\")/100,\"\")","v":3.1802822500496919E-3},{"$f":"RTD(\"cqg.rtd\", ,\"ContractData\", C116, \"T_CVol\",, \"T\")","v":1097234},116,{"$f":"IFERROR(RANK($J116,$J$1:J$391)+COUNTIF($J$1:J116,J116)-1,\"\")","v":96},"S.US.EQH","S.US.MSTR"]
["S.US.EQIX",0,"S.US.EQIX",{"$f":"RTD(\"cqg.rtd\", ,\"ContractData\",C117, \"LongDescription\",, \"T\")","v":"Equinix Inc"},null,null,null,{"$f":"RTD(\"cqg.rtd\", ,\"ContractData\",C117, \"LastTradeToday\",, \"T\")","v":878.80000000000007},{"$f":"RTD(\"cqg.rtd\", ,\"ContractData\",C117, \"NetLastTradeToday\",, \"T\")","v":-4.41},{"$f":"IFERROR(RTD(\"cqg.rtd\", ,\"ContractData\",C117, \"PerCentNetLastTrade\",, \"T\")/100,\"\")","v":-4.9931499869793139E-3},{"$f":"RTD(\"cqg.rtd\", ,\"ContractData\", C117, \"T_CVol\",, \"T\")","v":267396},117,{"$f":"IFERROR(RANK($J117,$J$1:J$391)+COUNTIF($J$1:J117,J117)-1,\"\")","v":222},"S.US.EQIX","S.US.AM"]
["S.US.EQT",0,"S.US.EQT",{"$f":"RTD(\"cqg.rtd\", ,\"ContractData\",C118, \"LongDescription\",, \"T\")","v":"EQT Corp"},null,null,null,{"$f":"RTD(\"cqg.rtd\", ,\"ContractData\",C118, \"LastTradeToday\",, \"T\")","v":53.47},{"$f":"RTD(\"cqg.rtd\", ,\"ContractData\",C118, \"NetLastTradeToday\",, \"T\")","v":-0.05},{"$f":"IFERROR(RTD(\"cqg.rtd\", ,\"ContractData\",C118, \"PerCentNetLastTrade\",, \"T\")/100,\"\")","v":-9.3423019431988037E-4},{"$f":"RTD(\"cqg.rtd\", ,\"ContractData\", C118, \"T_CVol\",, \"T\")","v":3921738},118,{"$f":"IFERROR(RANK($J118,$J$1:J$391)+COUNTIF($J$1:J118,J118)-1,\"\")","v":150},"S.US.EQT","S.US.AMT"]
["S.US.ESTC",0,"S.US.ESTC",{"$f":"RTD(\"cqg.rtd\", ,\"ContractData\",C119, \"LongDescription\",, \"T\")","v":"Elastic N.V."},null,null,null,{"$f":"RTD(\"cqg.rtd\", ,\"ContractData\",C119, \"LastTradeToday\",, \"T\")","v":82.88},{"$f":"RTD(\"cqg.rtd\", ,\"ContractData\",C119, \"NetLastTradeToday\",, \"T\")","v":-0.38},{"$f":"IFERROR(RTD(\"cqg.rtd\", ,\"ContractData\",C119, \"PerCentNetLastTrade\",, \"T\")/100,\"\")","v":-4.5640163343742494E-3},{"$f":"RTD(\"cqg.rtd\", ,\"ContractData\", C119, \"T_CVol\",, \"T\")","v":1091750},119,{"$f":"IFERROR(RANK($J119,$J$1:J$391)+COUNTIF($J$1:J119,J119)-1,\"\")","v":216},"S.US.ESTC","S.US.ISRG"]
["S.US.ETSY",0,"S.US.ETSY",{"$f":"RTD(\"cqg.rtd\", ,\"ContractData\",C120, \"LongDescription\",, \"T\")","v":"Etsy, Inc."},null,null,null,{"$f":"RTD(\"cqg.rtd\", ,\"ContractData\",C120, \"LastTradeToday\",, \"T\")","v":44.97},{"$f":"RTD(\"cqg.rtd\", ,\"ContractData\",C120, \"NetLastTradeToday\",, \"T\")","v":-0.11},{"$f":"IFERROR(RTD(\"cqg.rtd\", ,\"ContractData\",C120, \"PerCentNetLastTrade\",, \"T\")/100,\"\")","v":-2.4401064773735583E-3},{"$f":"RTD(\"cqg.rtd\", ,\"ContractData\", C120, \"T_CVol\",, \"T\")","v":2109845},120,{"$f":"IFERROR(RANK($J120,$J$1:J$391)+COUNTIF($J$1:J120,J120)-1,\"\")","v":173},"S.US.ETSY","S.US.ROST"]
["S.US.EW",1,"S.US.EW",{"$f":"RTD(\"cqg.rtd\", ,\"ContractData\",C121, \"LongDescription\",, \"T\")","v":"Edwards LifeSciences"},null,null,null,{"$f":"RTD(\"cqg.rtd\", ,\"ContractData\",C121, \"LastTradeToday\",, \"T\")","v":75.31},{"$f":"RTD(\"cqg.rtd\", ,\"ContractData\",C121, \"NetLastTradeToday\",, \"T\")","v":0.2},{"$f":"IFERROR(RTD(\"cqg.rtd\", ,\"ContractData\",C121, \"PerCentNetLastTrade\",, \"T\")/100,\"\")","v":2.6627612834509385E-3},{"$f":"RTD(\"cqg.rtd\", ,\"ContractData\", C121, \"T_CVol\",, \"T\")","v":1332561},121,{"$f":"IFERROR(RANK($J121,$J$1:J$391)+COUNTIF($J$1:J121,J121)-1,\"\")","v":102},"S.US.EW","S.US.ZBRA"]
["S.US.EXAS",1,"S.US.EXAS",{"$f":"RTD(\"cqg.rtd\", ,\"ContractData\",C122, \"LongDescription\",, \"T\")","v":"EXACT Sciences Corp"},null,null,null,{"$f":"RTD(\"cqg.rtd\", ,\"ContractData\",C122, \"LastTradeToday\",, \"T\")","v":53.92},{"$f":"RTD(\"cqg.rtd\", ,\"ContractData\",C122, \"NetLastTradeToday\",, \"T\")","v":0.59},{"$f":"IFERROR(RTD(\"cqg.rtd\", ,\"ContractData\",C122, \"PerCentNetLastTrade\",, \"T\")/100,\"\")","v":1.1063191449465593E-2},{"$f":"RTD(\"cqg.rtd\", ,\"ContractData\", C122, \"T_CVol\",, \"T\")","v":2738060},122,{"$f":"IFERROR(RANK($J122,$J$1:J$391)+COUNTIF($J$1:J122,J122)-1,\"\")","v":42},"S.US.EXAS","S.US.DELL"]
["S.US.EXEL",0,"S.US.EXEL",{"$f":"RTD(\"cqg.rtd\", ,\"ContractData\",C123, \"LongDescription\",, \"T\")","v":"Exelixis, Inc."},null,null,null,{"$f":"RTD(\"cqg.rtd\", ,\"ContractData\",C123, \"LastTradeToday\",, \"T\")","v":36.65},{"$f":"RTD(\"cqg.rtd\", ,\"ContractData\",C123, \"NetLastTradeToday\",, \"T\")","v":-3.19},{"$f":"IFERROR(RTD(\"cqg.rtd\", ,\"ContractData\",C123, \"PerCentNetLastTrade\",, \"T\")/100,\"\")","v":-8.0070281124497988E-2},{"$f":"RTD(\"cqg.rtd\", ,\"ContractData\", C123, \"T_CVol\",, \"T\")","v":2821396},123,{"$f":"IFERROR(RANK($J123,$J$1:J$391)+COUNTIF($J$1:J123,J123)-1,\"\")","v":384},"S.US.EXEL","S.US.CGNX"]
["S.US.EXP",0,"S.US.EXP",{"$f":"RTD(\"cqg.rtd\", ,\"ContractData\",C124, \"LongDescription\",, \"T\")","v":"Eagle Materials Inc"},null,null,null,{"$f":"RTD(\"cqg.rtd\", ,\"ContractData\",C124, \"LastTradeToday\",, \"T\")","v":231.84},{"$f":"RTD(\"cqg.rtd\", ,\"ContractData\",C124, \"NetLastTradeToday\",, \"T\")","v":-3.06},{"$f":"IFERROR(RTD(\"cqg.rtd\", ,\"ContractData\",C124, \"PerCentNetLastTrade\",, \"T\")/100,\"\")","v":-1.3026819923371647E-2},{"$f":"RTD(\"cqg.rtd\", ,\"ContractData\", C124, \"T_CVol\",, \"T\")","v":127684},124,{"$f":"IFERROR(RANK($J124,$J$1:J$391)+COUNTIF($J$1:J124,J124)-1,\"\")","v":304},"S.US.EXP","S.US.CPAY"]
["S.US.EXPD",0,"S.US.EXPD",{"$f":"RTD(\"cqg.rtd\", ,\"ContractData\",C125, \"LongDescription\",, \"T\")","v":"Expeditors Intl of WA Inc"},null,null,null,{"$f":"RTD(\"cqg.rtd\", ,\"ContractData\",C125, \"LastTradeToday\",, \"T\")","v":106.74000000000001},{"$f":"RTD(\"cqg.rtd\", ,\"ContractData\",C125, \"NetLastTradeToday\",, \"T\")","v":-5.03},{"$f":"IFERROR(RTD(\"cqg.rtd\", ,\"ContractData\",C125, \"PerCentNetLastTrade\",, \"T\")/100,\"\")","v":-4.5003131430616447E-2},{"$f":"RTD(\"cqg.rtd\", ,\"ContractData\", C125, \"T_CVol\",, \"T\")","v":1552765},125,{"$f":"IFERROR(RANK($J125,$J$1:J$391)+COUNTIF($J$1:J125,J125)-1,\"\")","v":370},"S.US.EXPD","S.US.KO"]
["S.US.EXPE",0,"S.US.EXPE",{"$f":"RTD(\"cqg.rtd\", ,\"ContractData\",C126, \"LongDescription\",, \"T\")","v":"Expedia Group, Inc."},null,null,null,{"$f":"RTD(\"cqg.rtd\", ,\"ContractData\",C126, \"LastTradeToday\",, \"T\")","v":165.12},{"$f":"RTD(\"cqg.rtd\", ,\"ContractData\",C126, \"NetLastTradeToday\",, \"T\")","v":-0.5},{"$f":"IFERROR(RTD(\"cqg.rtd\", ,\"ContractData\",C126, \"PerCentNetLastTrade\",, \"T\")/100,\"\")","v":-3.018959062915107E-3},{"$f":"RTD(\"cqg.rtd\", ,\"ContractData\", C126, \"T_CVol\",, \"T\")","v":1230942},126,{"$f":"IFERROR(RANK($J126,$J$1:J$391)+COUNTIF($J$1:J126,J126)-1,\"\")","v":184},"S.US.EXPE","S.US.FI"]
["S.US.FAST",0,"S.US.FAST",{"$f":"RTD(\"cqg.rtd\", ,\"ContractData\",C127, \"LongDescription\",, \"T\")","v":"Fastenal Co"},null,null,null,{"$f":"RTD(\"cqg.rtd\", ,\"ContractData\",C127, \"LastTradeToday\",, \"T\")","v":78.650000000000006},{"$f":"RTD(\"cqg.rtd\", ,\"ContractData\",C127, \"NetLastTradeToday\",, \"T\")","v":-3.77},{"$f":"IFERROR(RTD(\"cqg.rtd\", ,\"ContractData\",C127, \"PerCentNetLastTrade\",, \"T\")/100,\"\")","v":-4.5741324921135647E-2},{"$f":"RTD(\"cqg.rtd\", ,\"ContractData\", C127, \"T_CVol\",, \"T\")","v":2780197},127,{"$f":"IFERROR(RANK($J127,$J$1:J$391)+COUNTIF($J$1:J127,J127)-1,\"\")","v":371},"S.US.FAST","S.US.APPF"]
["S.US.FDS",0,"S.US.FDS",{"$f":"RTD(\"cqg.rtd\", ,\"ContractData\",C128, \"LongDescription\",, \"T\")","v":"Factet Research"},null,null,null,{"$f":"RTD(\"cqg.rtd\", ,\"ContractData\",C128, \"LastTradeToday\",, \"T\")","v":430.81},{"$f":"RTD(\"cqg.rtd\", ,\"ContractData\",C128, \"NetLastTradeToday\",, \"T\")","v":-2.2800000000000002},{"$f":"IFERROR(RTD(\"cqg.rtd\", ,\"ContractData\",C128, \"PerCentNetLastTrade\",, \"T\")/100,\"\")","v":-5.2644946777806005E-3},{"$f":"RTD(\"cqg.rtd\", ,\"ContractData\", C128, \"T_CVol\",, \"T\")","v":131319},128,{"$f":"IFERROR(RANK($J128,$J$1:J$391)+COUNTIF($J$1:J128,J128)-1,\"\")","v":235},"S.US.FDS","S.US.IRM"]
["S.US.FERG",0,"S.US.FERG",{"$f":"RTD(\"cqg.rtd\", ,\"ContractData\",C129, \"LongDescription\",, \"T\")","v":"Ferguson plc"},null,null,null,{"$f":"RTD(\"cqg.rtd\", ,\"ContractData\",C129, \"LastTradeToday\",, \"T\")","v":169.52},{"$f":"RTD(\"cqg.rtd\", ,\"ContractData\",C129, \"NetLastTradeToday\",, \"T\")","v":-2.86},{"$f":"IFERROR(RTD(\"cqg.rtd\", ,\"ContractData\",C129, \"PerCentNetLastTrade\",, \"T\")/100,\"\")","v":-1.6591251885369532E-2},{"$f":"RTD(\"cqg.rtd\", ,\"ContractData\", C129, \"T_CVol\",, \"T\")","v":516120},129,{"$f":"IFERROR(RANK($J129,$J$1:J$391)+COUNTIF($J$1:J129,J129)-1,\"\")","v":325},"S.US.FERG",{"$f":"VLOOKUP($L129,$M$1:$N$391,2,FALSE)","v":"S.US.MCO"}]
["S.US.FI",{"$f":"IF(J130>0,1,0)","v":1},"S.US.FI",{"$f":"RTD(\"cqg.rtd\", ,\"ContractData\",C130, \"LongDescription\",, \"T\")","v":"Fiserv, Inc."},null,null,null,{"$f":"RTD(\"cqg.rtd\", ,\"ContractData\",C130, \"LastTradeToday\",, \"T\")","v":185.59},{"$f":"RTD(\"cqg.rtd\", ,\"ContractData\",C130, \"NetLastTradeToday\",, \"T\")","v":0.09},{"$f":"IFERROR(RTD(\"cqg.rtd\", ,\"ContractData\",C130, \"PerCentNetLastTrade\",, \"T\")/100,\"\")","v":4.8517520215633422E-4},{"$f":"RTD(\"cqg.rtd\", ,\"ContractData\", C130, \"T_CVol\",, \"T\")","v":1409446},130,{"$f":"IFERROR(RANK($J130,$J$1:J$391)+COUNTIF($J$1:J130,J130)-1,\"\")","v":126},"S.US.FI","S.US.BKNG"]
["S.US.FICO",0,"S.US.FICO",{"$f":"RTD(\"cqg.rtd\", ,\"ContractData\",C131, \"LongDescription\",, \"T\")","v":"Fair Isaac Inc"},null,null,null,{"$f":"RTD(\"cqg.rtd\", ,\"ContractData\",C131, \"LastTradeToday\",, \"T\")","v":2076.1799999999998},{"$f":"RTD(\"cqg.rtd\", ,\"ContractData\",C131, \"NetLastTradeToday\",, \"T\")","v":-4.2300000000000004},{"$f":"IFERROR(RTD(\"cqg.rtd\", ,\"ContractData\",C131, \"PerCentNetLastTrade\",, \"T\")/100,\"\")","v":-2.033253060694767E-3},{"$f":"RTD(\"cqg.rtd\", ,\"ContractData\", C131, \"T_CVol\",, \"T\")","v":48049},{"$f":"L130+1","v":131},{"$f":"IFERROR(RANK($J131,$J$1:J$391)+COUNTIF($J$1:J131,J131)-1,\"\")","v":169},"S.US.FICO","S.US.CVNA"]
["S.US.FIVE",0,"S.US.FIVE",{"$f":"RTD(\"cqg.rtd\", ,\"ContractData\",C132, \"LongDescription\",, \"T\")","v":"Five Below, Inc."},null,null,null,{"$f":"RTD(\"cqg.rtd\", ,\"ContractData\",C132, \"LastTradeToday\",, \"T\")","v":81.320000000000007},{"$f":"RTD(\"cqg.rtd\", ,\"ContractData\",C132, \"NetLastTradeToday\",, \"T\")","v":-1.47},{"$f":"IFERROR(RTD(\"cqg.rtd\", ,\"ContractData\",C132, \"PerCentNetLastTrade\",, \"T\")/100,\"\")","v":-1.7755767604783187E-2},{"$f":"RTD(\"cqg.rtd\", ,\"ContractData\", C132, \"T_CVol\",, \"T\")","v":1331568},132,{"$f":"IFERROR(RANK($J132,$J$1:J$391)+COUNTIF($J$1:J132,J132)-1,\"\")","v":332},"S.US.FIVE","S.US.EFX"]
["S.US.FIVN",0,"S.US.FIVN",{"$f":"RTD(\"cqg.rtd\", ,\"ContractData\",C133, \"LongDescription\",, \"T\")","v":"Five9, Inc."},null,null,null,{"$f":"RTD(\"cqg.rtd\", ,\"ContractData\",C133, \"LastTradeToday\",, \"T\")","v":25.11},{"$f":"RTD(\"cqg.rtd\", ,\"ContractData\",C133, \"NetLastTradeToday\",, \"T\")","v":-0.13},{"$f":"IFERROR(RTD(\"cqg.rtd\", ,\"ContractData\",C133, \"PerCentNetLastTrade\",, \"T\")/100,\"\")","v":-5.1505546751188592E-3},{"$f":"RTD(\"cqg.rtd\", ,\"ContractData\", C133, \"T_CVol\",, \"T\")","v":958051},133,{"$f":"IFERROR(RANK($J133,$J$1:J$391)+COUNTIF($J$1:J133,J133)-1,\"\")","v":233},"S.US.FIVN","S.US.V"]
["S.US.FIX",0,"S.US.FIX",{"$f":"RTD(\"cqg.rtd\", ,\"ContractData\",C134, \"LongDescription\",, \"T\")","v":"Comfort Systems USA Inc"},null,null,null,{"$f":"RTD(\"cqg.rtd\", ,\"ContractData\",C134, \"LastTradeToday\",, \"T\")","v":431.69},{"$f":"RTD(\"cqg.rtd\", ,\"ContractData\",C134, \"NetLastTradeToday\",, \"T\")","v":-3.6},{"$f":"IFERROR(RTD(\"cqg.rtd\", ,\"ContractData\",C134, \"PerCentNetLastTrade\",, \"T\")/100,\"\")","v":-8.2703485032966529E-3},{"$f":"RTD(\"cqg.rtd\", ,\"ContractData\", C134, \"T_CVol\",, \"T\")","v":130828},134,{"$f":"IFERROR(RANK($J134,$J$1:J$391)+COUNTIF($J$1:J134,J134)-1,\"\")","v":268},"S.US.FIX","S.US.BSY"]
["S.US.FND",0,"S.US.FND",{"$f":"RTD(\"cqg.rtd\", ,\"ContractData\",C135, \"LongDescription\",, \"T\")","v":"Floor And Decor Holdings, Inc."},null,null,null,{"$f":"RTD(\"cqg.rtd\", ,\"ContractData\",C135, \"LastTradeToday\",, \"T\")","v":73.31},{"$f":"RTD(\"cqg.rtd\", ,\"ContractData\",C135, \"NetLastTradeToday\",, \"T\")","v":-0.69000000000000006},{"$f":"IFERROR(RTD(\"cqg.rtd\", ,\"ContractData\",C135, \"PerCentNetLastTrade\",, \"T\")/100,\"\")","v":-9.3243243243243245E-3},{"$f":"RTD(\"cqg.rtd\", ,\"ContractData\", C135, \"T_CVol\",, \"T\")","v":1476667},135,{"$f":"IFERROR(RANK($J135,$J$1:J$391)+COUNTIF($J$1:J135,J135)-1,\"\")","v":278},"S.US.FND","S.US.LNG"]
["S.US.FOUR",1,"S.US.FOUR",{"$f":"RTD(\"cqg.rtd\", ,\"ContractData\",C136, \"LongDescription\",, \"T\")","v":"Shift4 Payments, Inc"},null,null,null,{"$f":"RTD(\"cqg.rtd\", ,\"ContractData\",C136, \"LastTradeToday\",, \"T\")","v":83.22},{"$f":"RTD(\"cqg.rtd\", ,\"ContractData\",C136, \"NetLastTradeToday\",, \"T\")","v":0.57999999999999996},{"$f":"IFERROR(RTD(\"cqg.rtd\", ,\"ContractData\",C136, \"PerCentNetLastTrade\",, \"T\")/100,\"\")","v":7.0183930300096809E-3},{"$f":"RTD(\"cqg.rtd\", ,\"ContractData\", C136, \"T_CVol\",, \"T\")","v":878604},136,{"$f":"IFERROR(RANK($J136,$J$1:J$391)+COUNTIF($J$1:J136,J136)-1,\"\")","v":66},"S.US.FOUR","S.US.WM"]
["S.US.FRPT",1,"S.US.FRPT",{"$f":"RTD(\"cqg.rtd\", ,\"ContractData\",C137, \"LongDescription\",, \"T\")","v":"Freshpet, Inc."},null,null,null,{"$f":"RTD(\"cqg.rtd\", ,\"ContractData\",C137, \"LastTradeToday\",, \"T\")","v":81},{"$f":"RTD(\"cqg.rtd\", ,\"ContractData\",C137, \"NetLastTradeToday\",, \"T\")","v":1.9100000000000001},{"$f":"IFERROR(RTD(\"cqg.rtd\", ,\"ContractData\",C137, \"PerCentNetLastTrade\",, \"T\")/100,\"\")","v":2.4149702870147931E-2},{"$f":"RTD(\"cqg.rtd\", ,\"ContractData\", C137, \"T_CVol\",, \"T\")","v":1574570},137,{"$f":"IFERROR(RANK($J137,$J$1:J$391)+COUNTIF($J$1:J137,J137)-1,\"\")","v":13},"S.US.FRPT","S.US.SKX"]
["S.US.FTNT",0,"S.US.FTNT",{"$f":"RTD(\"cqg.rtd\", ,\"ContractData\",C138, \"LongDescription\",, \"T\")","v":"Fortinet, Inc."},null,null,null,{"$f":"RTD(\"cqg.rtd\", ,\"ContractData\",C138, \"LastTradeToday\",, \"T\")","v":107.62},{"$f":"RTD(\"cqg.rtd\", ,\"ContractData\",C138, \"NetLastTradeToday\",, \"T\")","v":-1.07},{"$f":"IFERROR(RTD(\"cqg.rtd\", ,\"ContractData\",C138, \"PerCentNetLastTrade\",, \"T\")/100,\"\")","v":-9.8445119146195609E-3},{"$f":"RTD(\"cqg.rtd\", ,\"ContractData\", C138, \"T_CVol\",, \"T\")","v":3132632},138,{"$f":"IFERROR(RANK($J138,$J$1:J$391)+COUNTIF($J$1:J138,J138)-1,\"\")","v":282},"S.US.FTNT","S.US.MA"]
["S.US.FTRE",0,"S.US.FTRE",{"$f":"RTD(\"cqg.rtd\", ,\"ContractData\",C139, \"LongDescription\",, \"T\")","v":"Fortrea Holdings Inc."},null,null,null,{"$f":"RTD(\"cqg.rtd\", ,\"ContractData\",C139, \"LastTradeToday\",, \"T\")","v":5.51},{"$f":"RTD(\"cqg.rtd\", ,\"ContractData\",C139, \"NetLastTradeToday\",, \"T\")","v":-0.42},{"$f":"IFERROR(RTD(\"cqg.rtd\", ,\"ContractData\",C139, \"PerCentNetLastTrade\",, \"T\")/100,\"\")","v":-7.0826306913996634E-2},{"$f":"RTD(\"cqg.rtd\", ,\"ContractData\", C139, \"T_CVol\",, \"T\")","v":1179886},139,{"$f":"IFERROR(RANK($J139,$J$1:J$391)+COUNTIF($J$1:J139,J139)-1,\"\")","v":382},"S.US.FTRE","S.US.ADSK"]
["S.US.FWONA",0,"S.US.FWONA",{"$f":"RTD(\"cqg.rtd\", ,\"ContractData\",C140, \"LongDescription\",, \"T\")","v":"Liberty Media Corporation"},null,null,null,{"$f":"RTD(\"cqg.rtd\", ,\"ContractData\",C140, \"LastTradeToday\",, \"T\")","v":82.9},{"$f":"RTD(\"cqg.rtd\", ,\"ContractData\",C140, \"NetLastTradeToday\",, \"T\")","v":-1.37},{"$f":"IFERROR(RTD(\"cqg.rtd\", ,\"ContractData\",C140, \"PerCentNetLastTrade\",, \"T\")/100,\"\")","v":-1.6257268304260119E-2},{"$f":"RTD(\"cqg.rtd\", ,\"ContractData\", C140, \"T_CVol\",, \"T\")","v":62760},140,{"$f":"IFERROR(RANK($J140,$J$1:J$391)+COUNTIF($J$1:J140,J140)-1,\"\")","v":324},"S.US.FWONA","S.US.SSD"]
["S.US.FWONK",0,"S.US.FWONK",{"$f":"RTD(\"cqg.rtd\", ,\"ContractData\",C141, \"LongDescription\",, \"T\")","v":"Liberty Media Corporation Series C"},null,null,null,{"$f":"RTD(\"cqg.rtd\", ,\"ContractData\",C141, \"LastTradeToday\",, \"T\")","v":91.070000000000007},{"$f":"RTD(\"cqg.rtd\", ,\"ContractData\",C141, \"NetLastTradeToday\",, \"T\")","v":-0.85},{"$f":"IFERROR(RTD(\"cqg.rtd\", ,\"ContractData\",C141, \"PerCentNetLastTrade\",, \"T\")/100,\"\")","v":-9.2471714534377719E-3},{"$f":"RTD(\"cqg.rtd\", ,\"ContractData\", C141, \"T_CVol\",, \"T\")","v":867469},141,{"$f":"IFERROR(RANK($J141,$J$1:J$391)+COUNTIF($J$1:J141,J141)-1,\"\")","v":276},"S.US.FWONK","S.US.DBX"]
["S.US.GDDY",1,"S.US.GDDY",{"$f":"RTD(\"cqg.rtd\", ,\"ContractData\",C142, \"LongDescription\",, \"T\")","v":"GoDaddy Inc."},null,null,null,{"$f":"RTD(\"cqg.rtd\", ,\"ContractData\",C142, \"LastTradeToday\",, \"T\")","v":183.42000000000002},{"$f":"RTD(\"cqg.rtd\", ,\"ContractData\",C142, \"NetLastTradeToday\",, \"T\")","v":1.23},{"$f":"IFERROR(RTD(\"cqg.rtd\", ,\"ContractData\",C142, \"PerCentNetLastTrade\",, \"T\")/100,\"\")","v":6.7511938086612881E-3},{"$f":"RTD(\"cqg.rtd\", ,\"ContractData\", C142, \"T_CVol\",, \"T\")","v":589317},142,{"$f":"IFERROR(RANK($J142,$J$1:J$391)+COUNTIF($J$1:J142,J142)-1,\"\")","v":69},"S.US.GDDY","S.US.CPNG"]
["S.US.GE",1,"S.US.GE",{"$f":"RTD(\"cqg.rtd\", ,\"ContractData\",C143, \"LongDescription\",, \"T\")","v":"General Electric Co"},null,null,null,{"$f":"RTD(\"cqg.rtd\", ,\"ContractData\",C143, \"LastTradeToday\",, \"T\")","v":209.3},{"$f":"RTD(\"cqg.rtd\", ,\"ContractData\",C143, \"NetLastTradeToday\",, \"T\")","v":0.36},{"$f":"IFERROR(RTD(\"cqg.rtd\", ,\"ContractData\",C143, \"PerCentNetLastTrade\",, \"T\")/100,\"\")","v":1.7229826744519958E-3},{"$f":"RTD(\"cqg.rtd\", ,\"ContractData\", C143, \"T_CVol\",, \"T\")","v":2077610},143,{"$f":"IFERROR(RANK($J143,$J$1:J$391)+COUNTIF($J$1:J143,J143)-1,\"\")","v":106},"S.US.GE","S.US.PCOR"]
["S.US.GEHC",0,"S.US.GEHC",{"$f":"RTD(\"cqg.rtd\", ,\"ContractData\",C144, \"LongDescription\",, \"T\")","v":"GE HealthCare Technologies Inc."},null,null,null,{"$f":"RTD(\"cqg.rtd\", ,\"ContractData\",C144, \"LastTradeToday\",, \"T\")","v":67.58},{"$f":"RTD(\"cqg.rtd\", ,\"ContractData\",C144, \"NetLastTradeToday\",, \"T\")","v":-1.79},{"$f":"IFERROR(RTD(\"cqg.rtd\", ,\"ContractData\",C144, \"PerCentNetLastTrade\",, \"T\")/100,\"\")","v":-2.5803661525154963E-2},{"$f":"RTD(\"cqg.rtd\", ,\"ContractData\", C144, \"T_CVol\",, \"T\")","v":3504763},144,{"$f":"IFERROR(RANK($J144,$J$1:J$391)+COUNTIF($J$1:J144,J144)-1,\"\")","v":348},"S.US.GEHC","S.US.VLTO"]
["S.US.GLOB",1,"S.US.GLOB",{"$f":"RTD(\"cqg.rtd\", ,\"ContractData\",C145, \"LongDescription\",, \"T\")","v":"Globant S.A."},null,null,null,{"$f":"RTD(\"cqg.rtd\", ,\"ContractData\",C145, \"LastTradeToday\",, \"T\")","v":119.59},{"$f":"RTD(\"cqg.rtd\", ,\"ContractData\",C145, \"NetLastTradeToday\",, \"T\")","v":1.77},{"$f":"IFERROR(RTD(\"cqg.rtd\", ,\"ContractData\",C145, \"PerCentNetLastTrade\",, \"T\")/100,\"\")","v":1.5022916313019861E-2},{"$f":"RTD(\"cqg.rtd\", ,\"ContractData\", C145, \"T_CVol\",, \"T\")","v":336954},145,{"$f":"IFERROR(RANK($J145,$J$1:J$391)+COUNTIF($J$1:J145,J145)-1,\"\")","v":28},"S.US.GLOB","S.US.LOPE"]
["S.US.GNRC",0,"S.US.GNRC",{"$f":"RTD(\"cqg.rtd\", ,\"ContractData\",C146, \"LongDescription\",, \"T\")","v":"Generac Holdings Inc."},null,null,null,{"$f":"RTD(\"cqg.rtd\", ,\"ContractData\",C146, \"LastTradeToday\",, \"T\")","v":114.28},{"$f":"RTD(\"cqg.rtd\", ,\"ContractData\",C146, \"NetLastTradeToday\",, \"T\")","v":-2.3199999999999998},{"$f":"IFERROR(RTD(\"cqg.rtd\", ,\"ContractData\",C146, \"PerCentNetLastTrade\",, \"T\")/100,\"\")","v":-1.9897084048027446E-2},{"$f":"RTD(\"cqg.rtd\", ,\"ContractData\", C146, \"T_CVol\",, \"T\")","v":335253},146,{"$f":"IFERROR(RANK($J146,$J$1:J$391)+COUNTIF($J$1:J146,J146)-1,\"\")","v":339},"S.US.GNRC","S.US.UI"]
["S.US.GOOG",0,"S.US.GOOG",{"$f":"RTD(\"cqg.rtd\", ,\"ContractData\",C147, \"LongDescription\",, \"T\")","v":"Alphabet, Inc. Class C"},null,null,null,{"$f":"RTD(\"cqg.rtd\", ,\"ContractData\",C147, \"LastTradeToday\",, \"T\")","v":165.8},{"$f":"RTD(\"cqg.rtd\", ,\"ContractData\",C147, \"NetLastTradeToday\",, \"T\")","v":-0.25},{"$f":"IFERROR(RTD(\"cqg.rtd\", ,\"ContractData\",C147, \"PerCentNetLastTrade\",, \"T\")/100,\"\")","v":-1.5055706112616681E-3},{"$f":"RTD(\"cqg.rtd\", ,\"ContractData\", C147, \"T_CVol\",, \"T\")","v":7421433},147,{"$f":"IFERROR(RANK($J147,$J$1:J$391)+COUNTIF($J$1:J147,J147)-1,\"\")","v":162},"S.US.GOOG","S.US.CASY"]
["S.US.GOOGL",0,"S.US.GOOGL",{"$f":"RTD(\"cqg.rtd\", ,\"ContractData\",C148, \"LongDescription\",, \"T\")","v":"Alphabet, Inc. Class A"},null,null,null,{"$f":"RTD(\"cqg.rtd\", ,\"ContractData\",C148, \"LastTradeToday\",, \"T\")","v":163.91},{"$f":"RTD(\"cqg.rtd\", ,\"ContractData\",C148, \"NetLastTradeToday\",, \"T\")","v":-0.3},{"$f":"IFERROR(RTD(\"cqg.rtd\", ,\"ContractData\",C148, \"PerCentNetLastTrade\",, \"T\")/100,\"\")","v":-1.826928932464527E-3},{"$f":"RTD(\"cqg.rtd\", ,\"ContractData\", C148, \"T_CVol\",, \"T\")","v":12001887},148,{"$f":"IFERROR(RANK($J148,$J$1:J$391)+COUNTIF($J$1:J148,J148)-1,\"\")","v":165},"S.US.GOOGL","S.US.NU"]
["S.US.GS",0,"S.US.GS",{"$f":"RTD(\"cqg.rtd\", ,\"ContractData\",C149, \"LongDescription\",, \"T\")","v":"Goldman Sachs Group"},null,null,null,{"$f":"RTD(\"cqg.rtd\", ,\"ContractData\",C149, \"LastTradeToday\",, \"T\")","v":553.18000000000006},{"$f":"RTD(\"cqg.rtd\", ,\"ContractData\",C149, \"NetLastTradeToday\",, \"T\")","v":-6.38},{"$f":"IFERROR(RTD(\"cqg.rtd\", ,\"ContractData\",C149, \"PerCentNetLastTrade\",, \"T\")/100,\"\")","v":-1.1401815712345413E-2},{"$f":"RTD(\"cqg.rtd\", ,\"ContractData\", C149, \"T_CVol\",, \"T\")","v":2082019},149,{"$f":"IFERROR(RANK($J149,$J$1:J$391)+COUNTIF($J$1:J149,J149)-1,\"\")","v":292},"S.US.GS","S.US.BILL"]
["S.US.GTLB",1,"S.US.GTLB",{"$f":"RTD(\"cqg.rtd\", ,\"ContractData\",C150, \"LongDescription\",, \"T\")","v":"GitLab, Inc."},null,null,null,{"$f":"RTD(\"cqg.rtd\", ,\"ContractData\",C150, \"LastTradeToday\",, \"T\")","v":46.28},{"$f":"RTD(\"cqg.rtd\", ,\"ContractData\",C150, \"NetLastTradeToday\",, \"T\")","v":0.8},{"$f":"IFERROR(RTD(\"cqg.rtd\", ,\"ContractData\",C150, \"PerCentNetLastTrade\",, \"T\")/100,\"\")","v":1.7590149516270887E-2},{"$f":"RTD(\"cqg.rtd\", ,\"ContractData\", C150, \"T_CVol\",, \"T\")","v":1017856},150,{"$f":"IFERROR(RANK($J150,$J$1:J$391)+COUNTIF($J$1:J150,J150)-1,\"\")","v":19},"S.US.GTLB","S.US.EQT"]
["S.US.GWRE",1,"S.US.GWRE",{"$f":"RTD(\"cqg.rtd\", ,\"ContractData\",C151, \"LongDescription\",, \"T\")","v":"Guidewire Software, Inc."},null,null,null,{"$f":"RTD(\"cqg.rtd\", ,\"ContractData\",C151, \"LastTradeToday\",, \"T\")","v":211.82},{"$f":"RTD(\"cqg.rtd\", ,\"ContractData\",C151, \"NetLastTradeToday\",, \"T\")","v":1.43},{"$f":"IFERROR(RTD(\"cqg.rtd\", ,\"ContractData\",C151, \"PerCentNetLastTrade\",, \"T\")/100,\"\")","v":6.7969009933932225E-3},{"$f":"RTD(\"cqg.rtd\", ,\"ContractData\", C151, \"T_CVol\",, \"T\")","v":319236},151,{"$f":"IFERROR(RANK($J151,$J$1:J$391)+COUNTIF($J$1:J151,J151)-1,\"\")","v":68},"S.US.GWRE","S.US.MDB"]
["S.US.GWW",0,"S.US.GWW",{"$f":"RTD(\"cqg.rtd\", ,\"ContractData\",C152, \"LongDescription\",, \"T\")","v":"Grainger (WW) Inc"},null,null,null,{"$f":"RTD(\"cqg.rtd\", ,\"ContractData\",C152, \"LastTradeToday\",, \"T\")","v":1042.3700000000001},{"$f":"RTD(\"cqg.rtd\", ,\"ContractData\",C152, \"NetLastTradeToday\",, \"T\")","v":-23.11},{"$f":"IFERROR(RTD(\"cqg.rtd\", ,\"ContractData\",C152, \"PerCentNetLastTrade\",, \"T\")/100,\"\")","v":-2.1689754852273153E-2},{"$f":"RTD(\"cqg.rtd\", ,\"ContractData\", C152, \"T_CVol\",, \"T\")","v":114464},152,{"$f":"IFERROR(RANK($J152,$J$1:J$391)+COUNTIF($J$1:J152,J152)-1,\"\")","v":341},"S.US.GWW","S.US.PAYX"]
["S.US.H",0,"S.US.H",{"$f":"RTD(\"cqg.rtd\", ,\"ContractData\",C153, \"LongDescription\",, \"T\")","v":"Hyatt Hotels"},null,null,null,{"$f":"RTD(\"cqg.rtd\", ,\"ContractData\",C153, \"LastTradeToday\",, \"T\")","v":121.27},{"$f":"RTD(\"cqg.rtd\", ,\"ContractData\",C153, \"NetLastTradeToday\",, \"T\")","v":-0.94000000000000006},{"$f":"IFERROR(RTD(\"cqg.rtd\", ,\"ContractData\",C153, \"PerCentNetLastTrade\",, \"T\")/100,\"\")","v":-7.6916782587349644E-3},{"$f":"RTD(\"cqg.rtd\", ,\"ContractData\", C153, \"T_CVol\",, \"T\")","v":633856},153,{"$f":"IFERROR(RANK($J153,$J$1:J$391)+COUNTIF($J$1:J153,J153)-1,\"\")","v":260},"S.US.H","S.US.TXRH"]
["S.US.HAS",0,"S.US.HAS",{"$f":"RTD(\"cqg.rtd\", ,\"ContractData\",C154, \"LongDescription\",, \"T\")","v":"Hasbro Inc"},null,null,null,{"$f":"RTD(\"cqg.rtd\", ,\"ContractData\",C154, \"LastTradeToday\",, \"T\")","v":61.04},{"$f":"RTD(\"cqg.rtd\", ,\"ContractData\",C154, \"NetLastTradeToday\",, \"T\")","v":-0.15},{"$f":"IFERROR(RTD(\"cqg.rtd\", ,\"ContractData\",C154, \"PerCentNetLastTrade\",, \"T\")/100,\"\")","v":-2.4513809445987906E-3},{"$f":"RTD(\"cqg.rtd\", ,\"ContractData\", C154, \"T_CVol\",, \"T\")","v":982603},154,{"$f":"IFERROR(RANK($J154,$J$1:J$391)+COUNTIF($J$1:J154,J154)-1,\"\")","v":174},"S.US.HAS","S.US.TEAM"]
["S.US.HCA",1,"S.US.HCA",{"$f":"RTD(\"cqg.rtd\", ,\"ContractData\",C155, \"LongDescription\",, \"T\")","v":"HCA Holdings Inc."},null,null,null,{"$f":"RTD(\"cqg.rtd\", ,\"ContractData\",C155, \"LastTradeToday\",, \"T\")","v":357.16},{"$f":"RTD(\"cqg.rtd\", ,\"ContractData\",C155, \"NetLastTradeToday\",, \"T\")","v":7.78},{"$f":"IFERROR(RTD(\"cqg.rtd\", ,\"ContractData\",C155, \"PerCentNetLastTrade\",, \"T\")/100,\"\")","v":2.226801763123247E-2},{"$f":"RTD(\"cqg.rtd\", ,\"ContractData\", C155, \"T_CVol\",, \"T\")","v":1019968},155,{"$f":"IFERROR(RANK($J155,$J$1:J$391)+COUNTIF($J$1:J155,J155)-1,\"\")","v":15},"S.US.HCA","S.US.LAMR"]
["S.US.HD",0,"S.US.HD",{"$f":"RTD(\"cqg.rtd\", ,\"ContractData\",C156, \"LongDescription\",, \"T\")","v":"Home Depot, Inc."},null,null,null,{"$f":"RTD(\"cqg.rtd\", ,\"ContractData\",C156, \"LastTradeToday\",, \"T\")","v":359.87},{"$f":"RTD(\"cqg.rtd\", ,\"ContractData\",C156, \"NetLastTradeToday\",, \"T\")","v":-1.86},{"$f":"IFERROR(RTD(\"cqg.rtd\", ,\"ContractData\",C156, \"PerCentNetLastTrade\",, \"T\")/100,\"\")","v":-5.1419567080419094E-3},{"$f":"RTD(\"cqg.rtd\", ,\"ContractData\", C156, \"T_CVol\",, \"T\")","v":1308531},156,{"$f":"IFERROR(RANK($J156,$J$1:J$391)+COUNTIF($J$1:J156,J156)-1,\"\")","v":231},"S.US.HD","S.US.SAM"]
["S.US.HEI",0,"S.US.HEI",{"$f":"RTD(\"cqg.rtd\", ,\"ContractData\",C157, \"LongDescription\",, \"T\")","v":"HEICO CORP"},null,null,null,{"$f":"RTD(\"cqg.rtd\", ,\"ContractData\",C157, \"LastTradeToday\",, \"T\")","v":263.72000000000003},{"$f":"RTD(\"cqg.rtd\", ,\"ContractData\",C157, \"NetLastTradeToday\",, \"T\")","v":-0.75},{"$f":"IFERROR(RTD(\"cqg.rtd\", ,\"ContractData\",C157, \"PerCentNetLastTrade\",, \"T\")/100,\"\")","v":-2.8358604000453735E-3},{"$f":"RTD(\"cqg.rtd\", ,\"ContractData\", C157, \"T_CVol\",, \"T\")","v":203210},157,{"$f":"IFERROR(RANK($J157,$J$1:J$391)+COUNTIF($J$1:J157,J157)-1,\"\")","v":180},"S.US.HEI","S.US.TW"]
["S.US.HEIA",0,"S.US.HEIA",{"$f":"RTD(\"cqg.rtd\", ,\"ContractData\",C158, \"LongDescription\",, \"T\")","v":"HEICO Corp ClA"},null,null,null,{"$f":"RTD(\"cqg.rtd\", ,\"ContractData\",C158, \"LastTradeToday\",, \"T\")","v":209.74},{"$f":"RTD(\"cqg.rtd\", ,\"ContractData\",C158, \"NetLastTradeToday\",, \"T\")","v":-1.69},{"$f":"IFERROR(RTD(\"cqg.rtd\", ,\"ContractData\",C158, \"PerCentNetLastTrade\",, \"T\")/100,\"\")","v":-7.99318923520787E-3},{"$f":"RTD(\"cqg.rtd\", ,\"ContractData\", C158, \"T_CVol\",, \"T\")","v":74733},158,{"$f":"IFERROR(RANK($J158,$J$1:J$391)+COUNTIF($J$1:J158,J158)-1,\"\")","v":265},"S.US.HEIA","S.US.BURL"]
["S.US.HES",1,"S.US.HES",{"$f":"RTD(\"cqg.rtd\", ,\"ContractData\",C159, \"LongDescription\",, \"T\")","v":"Hess Corporation"},null,null,null,{"$f":"RTD(\"cqg.rtd\", ,\"ContractData\",C159, \"LastTradeToday\",, \"T\")","v":129.88},{"$f":"RTD(\"cqg.rtd\", ,\"ContractData\",C159, \"NetLastTradeToday\",, \"T\")","v":1.08},{"$f":"IFERROR(RTD(\"cqg.rtd\", ,\"ContractData\",C159, \"PerCentNetLastTrade\",, \"T\")/100,\"\")","v":8.3850931677018643E-3},{"$f":"RTD(\"cqg.rtd\", ,\"ContractData\", C159, \"T_CVol\",, \"T\")","v":807470},159,{"$f":"IFERROR(RANK($J159,$J$1:J$391)+COUNTIF($J$1:J159,J159)-1,\"\")","v":57},"S.US.HES","S.US.ADP"]
["S.US.HLI",0,"S.US.HLI",{"$f":"RTD(\"cqg.rtd\", ,\"ContractData\",C160, \"LongDescription\",, \"T\")","v":"Houlihan Lokey, Inc."},null,null,null,{"$f":"RTD(\"cqg.rtd\", ,\"ContractData\",C160, \"LastTradeToday\",, \"T\")","v":163.06},{"$f":"RTD(\"cqg.rtd\", ,\"ContractData\",C160, \"NetLastTradeToday\",, \"T\")","v":-1.22},{"$f":"IFERROR(RTD(\"cqg.rtd\", ,\"ContractData\",C160, \"PerCentNetLastTrade\",, \"T\")/100,\"\")","v":-7.4263452641831016E-3},{"$f":"RTD(\"cqg.rtd\", ,\"ContractData\", C160, \"T_CVol\",, \"T\")","v":301164},160,{"$f":"IFERROR(RANK($J160,$J$1:J$391)+COUNTIF($J$1:J160,J160)-1,\"\")","v":255},"S.US.HLI","S.US.SPOT"]
["S.US.HLT",0,"S.US.HLT",{"$f":"RTD(\"cqg.rtd\", ,\"ContractData\",C161, \"LongDescription\",, \"T\")","v":"Hilton Inc."},null,null,null,{"$f":"RTD(\"cqg.rtd\", ,\"ContractData\",C161, \"LastTradeToday\",, \"T\")","v":237.1},{"$f":"RTD(\"cqg.rtd\", ,\"ContractData\",C161, \"NetLastTradeToday\",, \"T\")","v":-1.86},{"$f":"IFERROR(RTD(\"cqg.rtd\", ,\"ContractData\",C161, \"PerCentNetLastTrade\",, \"T\")/100,\"\")","v":-7.783729494476063E-3},{"$f":"RTD(\"cqg.rtd\", ,\"ContractData\", C161, \"T_CVol\",, \"T\")","v":1143500},161,{"$f":"IFERROR(RANK($J161,$J$1:J$391)+COUNTIF($J$1:J161,J161)-1,\"\")","v":263},"S.US.HLT","S.US.NTAP"]
["S.US.HON",0,"S.US.HON",{"$f":"RTD(\"cqg.rtd\", ,\"ContractData\",C162, \"LongDescription\",, \"T\")","v":"Honeywell Intl"},null,null,null,{"$f":"RTD(\"cqg.rtd\", ,\"ContractData\",C162, \"LastTradeToday\",, \"T\")","v":210.49},{"$f":"RTD(\"cqg.rtd\", ,\"ContractData\",C162, \"NetLastTradeToday\",, \"T\")","v":-3.7600000000000002},{"$f":"IFERROR(RTD(\"cqg.rtd\", ,\"ContractData\",C162, \"PerCentNetLastTrade\",, \"T\")/100,\"\")","v":-1.7549591598599767E-2},{"$f":"RTD(\"cqg.rtd\", ,\"ContractData\", C162, \"T_CVol\",, \"T\")","v":3768969},162,{"$f":"IFERROR(RANK($J162,$J$1:J$391)+COUNTIF($J$1:J162,J162)-1,\"\")","v":330},"S.US.HON","S.US.GOOG"]
["S.US.HPQ",0,"S.US.HPQ",{"$f":"RTD(\"cqg.rtd\", ,\"ContractData\",C163, \"LongDescription\",, \"T\")","v":"Hewlett-Packard Company"},null,null,null,{"$f":"RTD(\"cqg.rtd\", ,\"ContractData\",C163, \"LastTradeToday\",, \"T\")","v":25.78},{"$f":"RTD(\"cqg.rtd\", ,\"ContractData\",C163, \"NetLastTradeToday\",, \"T\")","v":-0.12},{"$f":"IFERROR(RTD(\"cqg.rtd\", ,\"ContractData\",C163, \"PerCentNetLastTrade\",, \"T\")/100,\"\")","v":-4.633204633204633E-3},{"$f":"RTD(\"cqg.rtd\", ,\"ContractData\", C163, \"T_CVol\",, \"T\")","v":3212580},163,{"$f":"IFERROR(RANK($J163,$J$1:J$391)+COUNTIF($J$1:J163,J163)-1,\"\")","v":218},"S.US.HPQ","S.US.MSFT"]
["S.US.HRB",0,"S.US.HRB",{"$f":"RTD(\"cqg.rtd\", ,\"ContractData\",C164, \"LongDescription\",, \"T\")","v":"Block (H&R) Inc"},null,null,null,{"$f":"RTD(\"cqg.rtd\", ,\"ContractData\",C164, \"LastTradeToday\",, \"T\")","v":61.24},{"$f":"RTD(\"cqg.rtd\", ,\"ContractData\",C164, \"NetLastTradeToday\",, \"T\")","v":-0.26},{"$f":"IFERROR(RTD(\"cqg.rtd\", ,\"ContractData\",C164, \"PerCentNetLastTrade\",, \"T\")/100,\"\")","v":-4.2276422764227642E-3},{"$f":"RTD(\"cqg.rtd\", ,\"ContractData\", C164, \"T_CVol\",, \"T\")","v":641292},164,{"$f":"IFERROR(RANK($J164,$J$1:J$391)+COUNTIF($J$1:J164,J164)-1,\"\")","v":208},"S.US.HRB","S.US.CAH"]
["S.US.HSY",1,"S.US.HSY",{"$f":"RTD(\"cqg.rtd\", ,\"ContractData\",C165, \"LongDescription\",, \"T\")","v":"Hershey Foods Corp"},null,null,null,{"$f":"RTD(\"cqg.rtd\", ,\"ContractData\",C165, \"LastTradeToday\",, \"T\")","v":169.25},{"$f":"RTD(\"cqg.rtd\", ,\"ContractData\",C165, \"NetLastTradeToday\",, \"T\")","v":2.59},{"$f":"IFERROR(RTD(\"cqg.rtd\", ,\"ContractData\",C165, \"PerCentNetLastTrade\",, \"T\")/100,\"\")","v":1.5540621624864994E-2},{"$f":"RTD(\"cqg.rtd\", ,\"ContractData\", C165, \"T_CVol\",, \"T\")","v":793900},165,{"$f":"IFERROR(RANK($J165,$J$1:J$391)+COUNTIF($J$1:J165,J165)-1,\"\")","v":25},"S.US.HSY","S.US.GOOGL"]
["S.US.HUBS",0,"S.US.HUBS",{"$f":"RTD(\"cqg.rtd\", ,\"ContractData\",C166, \"LongDescription\",, \"T\")","v":"Hubspot Inc"},null,null,null,{"$f":"RTD(\"cqg.rtd\", ,\"ContractData\",C166, \"LastTradeToday\",, \"T\")","v":636.86},{"$f":"RTD(\"cqg.rtd\", ,\"ContractData\",C166, \"NetLastTradeToday\",, \"T\")","v":-2.54},{"$f":"IFERROR(RTD(\"cqg.rtd\", ,\"ContractData\",C166, \"PerCentNetLastTrade\",, \"T\")/100,\"\")","v":-3.9724741945573981E-3},{"$f":"RTD(\"cqg.rtd\", ,\"ContractData\", C166, \"T_CVol\",, \"T\")","v":288251},166,{"$f":"IFERROR(RANK($J166,$J$1:J$391)+COUNTIF($J$1:J166,J166)-1,\"\")","v":201},"S.US.HUBS","S.US.ORLY"]
["S.US.HWM",1,"S.US.HWM",{"$f":"RTD(\"cqg.rtd\", ,\"ContractData\",C167, \"LongDescription\",, \"T\")","v":"Howmet Aerospace Inc."},null,null,null,{"$f":"RTD(\"cqg.rtd\", ,\"ContractData\",C167, \"LastTradeToday\",, \"T\")","v":156.41},{"$f":"RTD(\"cqg.rtd\", ,\"ContractData\",C167, \"NetLastTradeToday\",, \"T\")","v":2.0699999999999998},{"$f":"IFERROR(RTD(\"cqg.rtd\", ,\"ContractData\",C167, \"PerCentNetLastTrade\",, \"T\")/100,\"\")","v":1.341194764804976E-2},{"$f":"RTD(\"cqg.rtd\", ,\"ContractData\", C167, \"T_CVol\",, \"T\")","v":1556189},167,{"$f":"IFERROR(RANK($J167,$J$1:J$391)+COUNTIF($J$1:J167,J167)-1,\"\")","v":32},{"$f":"C167","v":"S.US.HWM"},"S.US.ROL"]
["S.US.IDXX",0,"S.US.IDXX",{"$f":"RTD(\"cqg.rtd\", ,\"ContractData\",C168, \"LongDescription\",, \"T\")","v":"IDEXX Laboratories Inc"},null,null,null,{"$f":"RTD(\"cqg.rtd\", ,\"ContractData\",C168, \"LastTradeToday\",, \"T\")","v":473.04},{"$f":"RTD(\"cqg.rtd\", ,\"ContractData\",C168, \"NetLastTradeToday\",, \"T\")","v":-2.0300000000000002},{"$f":"IFERROR(RTD(\"cqg.rtd\", ,\"ContractData\",C168, \"PerCentNetLastTrade\",, \"T\")/100,\"\")","v":-4.2730544972319866E-3},{"$f":"RTD(\"cqg.rtd\", ,\"ContractData\", C168, \"T_CVol\",, \"T\")","v":640893},168,{"$f":"IFERROR(RANK($J168,$J$1:J$391)+COUNTIF($J$1:J168,J168)-1,\"\")","v":210},"S.US.IDXX","S.US.ENPH"]
["S.US.INCY",0,"S.US.INCY",{"$f":"RTD(\"cqg.rtd\", ,\"ContractData\",C169, \"LongDescription\",, \"T\")","v":"Incyte Corporation"},null,null,null,{"$f":"RTD(\"cqg.rtd\", ,\"ContractData\",C169, \"LastTradeToday\",, \"T\")","v":59.78},{"$f":"RTD(\"cqg.rtd\", ,\"ContractData\",C169, \"NetLastTradeToday\",, \"T\")","v":-2.33},{"$f":"IFERROR(RTD(\"cqg.rtd\", ,\"ContractData\",C169, \"PerCentNetLastTrade\",, \"T\")/100,\"\")","v":-3.7514087908549348E-2},{"$f":"RTD(\"cqg.rtd\", ,\"ContractData\", C169, \"T_CVol\",, \"T\")","v":1221308},169,{"$f":"IFERROR(RANK($J169,$J$1:J$391)+COUNTIF($J$1:J169,J169)-1,\"\")","v":366},"S.US.INCY","S.US.FICO"]
["S.US.INGM",0,"S.US.INGM",{"$f":"RTD(\"cqg.rtd\", ,\"ContractData\",C170, \"LongDescription\",, \"T\")","v":"Ingram Micro Holding Corp"},null,null,null,{"$f":"RTD(\"cqg.rtd\", ,\"ContractData\",C170, \"LastTradeToday\",, \"T\")","v":18.36},{"$f":"RTD(\"cqg.rtd\", ,\"ContractData\",C170, \"NetLastTradeToday\",, \"T\")","v":-0.06},{"$f":"IFERROR(RTD(\"cqg.rtd\", ,\"ContractData\",C170, \"PerCentNetLastTrade\",, \"T\")/100,\"\")","v":-3.2573289902280127E-3},{"$f":"RTD(\"cqg.rtd\", ,\"ContractData\", C170, \"T_CVol\",, \"T\")","v":147300},170,{"$f":"IFERROR(RANK($J170,$J$1:J$391)+COUNTIF($J$1:J170,J170)-1,\"\")","v":191},"S.US.INGM","S.US.MORN"]
["S.US.INSP",1,"S.US.INSP",{"$f":"RTD(\"cqg.rtd\", ,\"ContractData\",C171, \"LongDescription\",, \"T\")","v":"Inspire Medical Systems, Inc."},null,null,null,{"$f":"RTD(\"cqg.rtd\", ,\"ContractData\",C171, \"LastTradeToday\",, \"T\")","v":159.75},{"$f":"RTD(\"cqg.rtd\", ,\"ContractData\",C171, \"NetLastTradeToday\",, \"T\")","v":1.01},{"$f":"IFERROR(RTD(\"cqg.rtd\", ,\"ContractData\",C171, \"PerCentNetLastTrade\",, \"T\")/100,\"\")","v":6.362605518457856E-3},{"$f":"RTD(\"cqg.rtd\", ,\"ContractData\", C171, \"T_CVol\",, \"T\")","v":953597},171,{"$f":"IFERROR(RANK($J171,$J$1:J$391)+COUNTIF($J$1:J171,J171)-1,\"\")","v":73},"S.US.INSP","S.US.NCNO"]
["S.US.INTU",0,"S.US.INTU",{"$f":"RTD(\"cqg.rtd\", ,\"ContractData\",C172, \"LongDescription\",, \"T\")","v":"Intuit Corp"},null,null,null,{"$f":"RTD(\"cqg.rtd\", ,\"ContractData\",C172, \"LastTradeToday\",, \"T\")","v":628.94000000000005},{"$f":"RTD(\"cqg.rtd\", ,\"ContractData\",C172, \"NetLastTradeToday\",, \"T\")","v":-3.24},{"$f":"IFERROR(RTD(\"cqg.rtd\", ,\"ContractData\",C172, \"PerCentNetLastTrade\",, \"T\")/100,\"\")","v":-5.1251225916669309E-3},{"$f":"RTD(\"cqg.rtd\", ,\"ContractData\", C172, \"T_CVol\",, \"T\")","v":505862},172,{"$f":"IFERROR(RANK($J172,$J$1:J$391)+COUNTIF($J$1:J172,J172)-1,\"\")","v":229},"S.US.INTU","S.US.ARES"]
["S.US.IONS",0,"S.US.IONS",{"$f":"RTD(\"cqg.rtd\", ,\"ContractData\",C173, \"LongDescription\",, \"T\")","v":"Ionis Pharmaceuticals, Inc. "},null,null,null,{"$f":"RTD(\"cqg.rtd\", ,\"ContractData\",C173, \"LastTradeToday\",, \"T\")","v":32},{"$f":"RTD(\"cqg.rtd\", ,\"ContractData\",C173, \"NetLastTradeToday\",, \"T\")","v":-1.6400000000000001},{"$f":"IFERROR(RTD(\"cqg.rtd\", ,\"ContractData\",C173, \"PerCentNetLastTrade\",, \"T\")/100,\"\")","v":-4.8751486325802611E-2},{"$f":"RTD(\"cqg.rtd\", ,\"ContractData\", C173, \"T_CVol\",, \"T\")","v":1147678},173,{"$f":"IFERROR(RANK($J173,$J$1:J$391)+COUNTIF($J$1:J173,J173)-1,\"\")","v":375},"S.US.IONS","S.US.ETSY"]
["S.US.IQV",0,"S.US.IQV",{"$f":"RTD(\"cqg.rtd\", ,\"ContractData\",C174, \"LongDescription\",, \"T\")","v":"IQVIA Holdings, Inc."},null,null,null,{"$f":"RTD(\"cqg.rtd\", ,\"ContractData\",C174, \"LastTradeToday\",, \"T\")","v":145.88},{"$f":"RTD(\"cqg.rtd\", ,\"ContractData\",C174, \"NetLastTradeToday\",, \"T\")","v":-6.42},{"$f":"IFERROR(RTD(\"cqg.rtd\", ,\"ContractData\",C174, \"PerCentNetLastTrade\",, \"T\")/100,\"\")","v":-4.2153644123440574E-2},{"$f":"RTD(\"cqg.rtd\", ,\"ContractData\", C174, \"T_CVol\",, \"T\")","v":2166184},174,{"$f":"IFERROR(RANK($J174,$J$1:J$391)+COUNTIF($J$1:J174,J174)-1,\"\")","v":369},"S.US.IQV","S.US.HAS"]
["S.US.IRDM",1,"S.US.IRDM",{"$f":"RTD(\"cqg.rtd\", ,\"ContractData\",C175, \"LongDescription\",, \"T\")","v":"Iridium Communications Inc"},null,null,null,{"$f":"RTD(\"cqg.rtd\", ,\"ContractData\",C175, \"LastTradeToday\",, \"T\")","v":26.28},{"$f":"RTD(\"cqg.rtd\", ,\"ContractData\",C175, \"NetLastTradeToday\",, \"T\")","v":0.51},{"$f":"IFERROR(RTD(\"cqg.rtd\", ,\"ContractData\",C175, \"PerCentNetLastTrade\",, \"T\")/100,\"\")","v":1.9790454016298021E-2},{"$f":"RTD(\"cqg.rtd\", ,\"ContractData\", C175, \"T_CVol\",, \"T\")","v":771360},175,{"$f":"IFERROR(RANK($J175,$J$1:J$391)+COUNTIF($J$1:J175,J175)-1,\"\")","v":18},"S.US.IRDM","S.US.TRGP"]
["S.US.IRM",1,"S.US.IRM",{"$f":"RTD(\"cqg.rtd\", ,\"ContractData\",C176, \"LongDescription\",, \"T\")","v":"Iron Mountain Inc"},null,null,null,{"$f":"RTD(\"cqg.rtd\", ,\"ContractData\",C176, \"LastTradeToday\",, \"T\")","v":97.210000000000008},{"$f":"RTD(\"cqg.rtd\", ,\"ContractData\",C176, \"NetLastTradeToday\",, \"T\")","v":0.04},{"$f":"IFERROR(RTD(\"cqg.rtd\", ,\"ContractData\",C176, \"PerCentNetLastTrade\",, \"T\")/100,\"\")","v":4.1164968611711434E-4},{"$f":"RTD(\"cqg.rtd\", ,\"ContractData\", C176, \"T_CVol\",, \"T\")","v":825288},176,{"$f":"IFERROR(RANK($J176,$J$1:J$391)+COUNTIF($J$1:J176,J176)-1,\"\")","v":128},"S.US.IRM","S.US.AZEK"]
["S.US.ISRG",1,"S.US.ISRG",{"$f":"RTD(\"cqg.rtd\", ,\"ContractData\",C177, \"LongDescription\",, \"T\")","v":"Intuitive Surgical Inc"},null,null,null,{"$f":"RTD(\"cqg.rtd\", ,\"ContractData\",C177, \"LastTradeToday\",, \"T\")","v":532.37},{"$f":"RTD(\"cqg.rtd\", ,\"ContractData\",C177, \"NetLastTradeToday\",, \"T\")","v":0.55000000000000004},{"$f":"IFERROR(RTD(\"cqg.rtd\", ,\"ContractData\",C177, \"PerCentNetLastTrade\",, \"T\")/100,\"\")","v":1.034184498514535E-3},{"$f":"RTD(\"cqg.rtd\", ,\"ContractData\", C177, \"T_CVol\",, \"T\")","v":723313},177,{"$f":"IFERROR(RANK($J177,$J$1:J$391)+COUNTIF($J$1:J177,J177)-1,\"\")","v":119},"S.US.ISRG","S.US.ELV"]
["S.US.IT",1,"S.US.IT",{"$f":"RTD(\"cqg.rtd\", ,\"ContractData\",C178, \"LongDescription\",, \"T\")","v":"Gartner Group"},null,null,null,{"$f":"RTD(\"cqg.rtd\", ,\"ContractData\",C178, \"LastTradeToday\",, \"T\")","v":432.72},{"$f":"RTD(\"cqg.rtd\", ,\"ContractData\",C178, \"NetLastTradeToday\",, \"T\")","v":5.74},{"$f":"IFERROR(RTD(\"cqg.rtd\", ,\"ContractData\",C178, \"PerCentNetLastTrade\",, \"T\")/100,\"\")","v":1.344325261136353E-2},{"$f":"RTD(\"cqg.rtd\", ,\"ContractData\", C178, \"T_CVol\",, \"T\")","v":682445},178,{"$f":"IFERROR(RANK($J178,$J$1:J$391)+COUNTIF($J$1:J178,J178)-1,\"\")","v":31},"S.US.IT","S.US.ROKU"]
["S.US.ITW",0,"S.US.ITW",{"$f":"RTD(\"cqg.rtd\", ,\"ContractData\",C179, \"LongDescription\",, \"T\")","v":"Illinois Tools Works Inc"},null,null,null,{"$f":"RTD(\"cqg.rtd\", ,\"ContractData\",C179, \"LastTradeToday\",, \"T\")","v":239.63},{"$f":"RTD(\"cqg.rtd\", ,\"ContractData\",C179, \"NetLastTradeToday\",, \"T\")","v":-1.24},{"$f":"IFERROR(RTD(\"cqg.rtd\", ,\"ContractData\",C179, \"PerCentNetLastTrade\",, \"T\")/100,\"\")","v":-5.1480051480051478E-3},{"$f":"RTD(\"cqg.rtd\", ,\"ContractData\", C179, \"T_CVol\",, \"T\")","v":538079},179,{"$f":"IFERROR(RANK($J179,$J$1:J$391)+COUNTIF($J$1:J179,J179)-1,\"\")","v":232},"S.US.ITW","S.US.SNPS"]
["S.US.JBL",1,"S.US.JBL",{"$f":"RTD(\"cqg.rtd\", ,\"ContractData\",C180, \"LongDescription\",, \"T\")","v":"Jabil Inc."},null,null,null,{"$f":"RTD(\"cqg.rtd\", ,\"ContractData\",C180, \"LastTradeToday\",, \"T\")","v":150.45000000000002},{"$f":"RTD(\"cqg.rtd\", ,\"ContractData\",C180, \"NetLastTradeToday\",, \"T\")","v":0.23},{"$f":"IFERROR(RTD(\"cqg.rtd\", ,\"ContractData\",C180, \"PerCentNetLastTrade\",, \"T\")/100,\"\")","v":1.5310877379842895E-3},{"$f":"RTD(\"cqg.rtd\", ,\"ContractData\", C180, \"T_CVol\",, \"T\")","v":467188},180,{"$f":"IFERROR(RANK($J180,$J$1:J$391)+COUNTIF($J$1:J180,J180)-1,\"\")","v":110},"S.US.JBL","S.US.HEI"]
["S.US.JEF",0,"S.US.JEF",{"$f":"RTD(\"cqg.rtd\", ,\"ContractData\",C181, \"LongDescription\",, \"T\")","v":"Jefferies Financial Group Inc."},null,null,null,{"$f":"RTD(\"cqg.rtd\", ,\"ContractData\",C181, \"LastTradeToday\",, \"T\")","v":48.46},{"$f":"RTD(\"cqg.rtd\", ,\"ContractData\",C181, \"NetLastTradeToday\",, \"T\")","v":-0.28999999999999998},{"$f":"IFERROR(RTD(\"cqg.rtd\", ,\"ContractData\",C181, \"PerCentNetLastTrade\",, \"T\")/100,\"\")","v":-5.9487179487179489E-3},{"$f":"RTD(\"cqg.rtd\", ,\"ContractData\", C181, \"T_CVol\",, \"T\")","v":594940},181,{"$f":"IFERROR(RANK($J181,$J$1:J$391)+COUNTIF($J$1:J181,J181)-1,\"\")","v":243},"S.US.JEF","S.US.ALAB"]
["S.US.JLL",0,"S.US.JLL",{"$f":"RTD(\"cqg.rtd\", ,\"ContractData\",C182, \"LongDescription\",, \"T\")","v":"Jones Lang LaSalle Inc"},null,null,null,{"$f":"RTD(\"cqg.rtd\", ,\"ContractData\",C182, \"LastTradeToday\",, \"T\")","v":230.26},{"$f":"RTD(\"cqg.rtd\", ,\"ContractData\",C182, \"NetLastTradeToday\",, \"T\")","v":-2.58},{"$f":"IFERROR(RTD(\"cqg.rtd\", ,\"ContractData\",C182, \"PerCentNetLastTrade\",, \"T\")/100,\"\")","v":-1.108057034873733E-2},{"$f":"RTD(\"cqg.rtd\", ,\"ContractData\", C182, \"T_CVol\",, \"T\")","v":289658},182,{"$f":"IFERROR(RANK($J182,$J$1:J$391)+COUNTIF($J$1:J182,J182)-1,\"\")","v":289},"S.US.JLL","S.US.TRU"]
["S.US.KBR",1,"S.US.KBR",{"$f":"RTD(\"cqg.rtd\", ,\"ContractData\",C183, \"LongDescription\",, \"T\")","v":"KBR, Inc"},null,null,null,{"$f":"RTD(\"cqg.rtd\", ,\"ContractData\",C183, \"LastTradeToday\",, \"T\")","v":54.33},{"$f":"RTD(\"cqg.rtd\", ,\"ContractData\",C183, \"NetLastTradeToday\",, \"T\")","v":2.7600000000000002},{"$f":"IFERROR(RTD(\"cqg.rtd\", ,\"ContractData\",C183, \"PerCentNetLastTrade\",, \"T\")/100,\"\")","v":5.3519488074461899E-2},{"$f":"RTD(\"cqg.rtd\", ,\"ContractData\", C183, \"T_CVol\",, \"T\")","v":1633969},183,{"$f":"IFERROR(RANK($J183,$J$1:J$391)+COUNTIF($J$1:J183,J183)-1,\"\")","v":5},"S.US.KBR","S.US.LPLA"]
["S.US.KKR",0,"S.US.KKR",{"$f":"RTD(\"cqg.rtd\", ,\"ContractData\",C184, \"LongDescription\",, \"T\")","v":"KKR & Co. Inc."},null,null,null,{"$f":"RTD(\"cqg.rtd\", ,\"ContractData\",C184, \"LastTradeToday\",, \"T\")","v":114.42},{"$f":"RTD(\"cqg.rtd\", ,\"ContractData\",C184, \"NetLastTradeToday\",, \"T\")","v":-0.37},{"$f":"IFERROR(RTD(\"cqg.rtd\", ,\"ContractData\",C184, \"PerCentNetLastTrade\",, \"T\")/100,\"\")","v":-3.2232772889624534E-3},{"$f":"RTD(\"cqg.rtd\", ,\"ContractData\", C184, \"T_CVol\",, \"T\")","v":2408061},184,{"$f":"IFERROR(RANK($J184,$J$1:J$391)+COUNTIF($J$1:J184,J184)-1,\"\")","v":189},"S.US.KKR","S.US.EXPE"]
["S.US.KLAC",0,"S.US.KLAC",{"$f":"RTD(\"cqg.rtd\", ,\"ContractData\",C185, \"LongDescription\",, \"T\")","v":"KLA Corporation"},null,null,null,{"$f":"RTD(\"cqg.rtd\", ,\"ContractData\",C185, \"LastTradeToday\",, \"T\")","v":685.38},{"$f":"RTD(\"cqg.rtd\", ,\"ContractData\",C185, \"NetLastTradeToday\",, \"T\")","v":-7.91},{"$f":"IFERROR(RTD(\"cqg.rtd\", ,\"ContractData\",C185, \"PerCentNetLastTrade\",, \"T\")/100,\"\")","v":-1.140936693158707E-2},{"$f":"RTD(\"cqg.rtd\", ,\"ContractData\", C185, \"T_CVol\",, \"T\")","v":485034},185,{"$f":"IFERROR(RANK($J185,$J$1:J$391)+COUNTIF($J$1:J185,J185)-1,\"\")","v":293},"S.US.KLAC","S.US.SPG"]
["S.US.KMB",1,"S.US.KMB",{"$f":"RTD(\"cqg.rtd\", ,\"ContractData\",C186, \"LongDescription\",, \"T\")","v":"Kimberly-Clark Corp"},null,null,null,{"$f":"RTD(\"cqg.rtd\", ,\"ContractData\",C186, \"LastTradeToday\",, \"T\")","v":132.99},{"$f":"RTD(\"cqg.rtd\", ,\"ContractData\",C186, \"NetLastTradeToday\",, \"T\")","v":2.09},{"$f":"IFERROR(RTD(\"cqg.rtd\", ,\"ContractData\",C186, \"PerCentNetLastTrade\",, \"T\")/100,\"\")","v":1.5966386554621851E-2},{"$f":"RTD(\"cqg.rtd\", ,\"ContractData\", C186, \"T_CVol\",, \"T\")","v":1661438},186,{"$f":"IFERROR(RANK($J186,$J$1:J$391)+COUNTIF($J$1:J186,J186)-1,\"\")","v":23},"S.US.KMB","S.US.CDW"]
["S.US.KMX",1,"S.US.KMX",{"$f":"RTD(\"cqg.rtd\", ,\"ContractData\",C187, \"LongDescription\",, \"T\")","v":"Carmax Inc"},null,null,null,{"$f":"RTD(\"cqg.rtd\", ,\"ContractData\",C187, \"LastTradeToday\",, \"T\")","v":66.56},{"$f":"RTD(\"cqg.rtd\", ,\"ContractData\",C187, \"NetLastTradeToday\",, \"T\")","v":0.27},{"$f":"IFERROR(RTD(\"cqg.rtd\", ,\"ContractData\",C187, \"PerCentNetLastTrade\",, \"T\")/100,\"\")","v":4.0730125207421933E-3},{"$f":"RTD(\"cqg.rtd\", ,\"ContractData\", C187, \"T_CVol\",, \"T\")","v":1364642},187,{"$f":"IFERROR(RANK($J187,$J$1:J$391)+COUNTIF($J$1:J187,J187)-1,\"\")","v":87},"S.US.KMX","S.US.TRIP"]
["S.US.KNSL",1,"S.US.KNSL",{"$f":"RTD(\"cqg.rtd\", ,\"ContractData\",C188, \"LongDescription\",, \"T\")","v":"Kinsale Capital Group, Inc."},null,null,null,{"$f":"RTD(\"cqg.rtd\", ,\"ContractData\",C188, \"LastTradeToday\",, \"T\")","v":458.8},{"$f":"RTD(\"cqg.rtd\", ,\"ContractData\",C188, \"NetLastTradeToday\",, \"T\")","v":2.7800000000000002},{"$f":"IFERROR(RTD(\"cqg.rtd\", ,\"ContractData\",C188, \"PerCentNetLastTrade\",, \"T\")/100,\"\")","v":6.0962238498311486E-3},{"$f":"RTD(\"cqg.rtd\", ,\"ContractData\", C188, \"T_CVol\",, \"T\")","v":68439},188,{"$f":"IFERROR(RANK($J188,$J$1:J$391)+COUNTIF($J$1:J188,J188)-1,\"\")","v":74},"S.US.KNSL","S.US.DUOL"]
["S.US.KO",1,"S.US.KO",{"$f":"RTD(\"cqg.rtd\", ,\"ContractData\",C189, \"LongDescription\",, \"T\")","v":"Coca-Cola Company"},null,null,null,{"$f":"RTD(\"cqg.rtd\", ,\"ContractData\",C189, \"LastTradeToday\",, \"T\")","v":71.739999999999995},{"$f":"RTD(\"cqg.rtd\", ,\"ContractData\",C189, \"NetLastTradeToday\",, \"T\")","v":0.04},{"$f":"IFERROR(RTD(\"cqg.rtd\", ,\"ContractData\",C189, \"PerCentNetLastTrade\",, \"T\")/100,\"\")","v":5.5788005578800558E-4},{"$f":"RTD(\"cqg.rtd\", ,\"ContractData\", C189, \"T_CVol\",, \"T\")","v":7699777},189,{"$f":"IFERROR(RANK($J189,$J$1:J$391)+COUNTIF($J$1:J189,J189)-1,\"\")","v":125},"S.US.KO","S.US.KKR"]
["S.US.LAMR",0,"S.US.LAMR",{"$f":"RTD(\"cqg.rtd\", ,\"ContractData\",C190, \"LongDescription\",, \"T\")","v":"Lamar Advertising Co"},null,null,null,{"$f":"RTD(\"cqg.rtd\", ,\"ContractData\",C190, \"LastTradeToday\",, \"T\")","v":116.06},{"$f":"RTD(\"cqg.rtd\", ,\"ContractData\",C190, \"NetLastTradeToday\",, \"T\")","v":-0.14000000000000001},{"$f":"IFERROR(RTD(\"cqg.rtd\", ,\"ContractData\",C190, \"PerCentNetLastTrade\",, \"T\")/100,\"\")","v":-1.2048192771084336E-3},{"$f":"RTD(\"cqg.rtd\", ,\"ContractData\", C190, \"T_CVol\",, \"T\")","v":342630},190,{"$f":"IFERROR(RANK($J190,$J$1:J$391)+COUNTIF($J$1:J190,J190)-1,\"\")","v":155},"S.US.LAMR","S.US.COST"]
["S.US.LAZ",0,"S.US.LAZ",{"$f":"RTD(\"cqg.rtd\", ,\"ContractData\",C191, \"LongDescription\",, \"T\")","v":"Lazard Inc."},null,null,null,{"$f":"RTD(\"cqg.rtd\", ,\"ContractData\",C191, \"LastTradeToday\",, \"T\")","v":40.03},{"$f":"RTD(\"cqg.rtd\", ,\"ContractData\",C191, \"NetLastTradeToday\",, \"T\")","v":-0.46},{"$f":"IFERROR(RTD(\"cqg.rtd\", ,\"ContractData\",C191, \"PerCentNetLastTrade\",, \"T\")/100,\"\")","v":-1.1360829834527044E-2},{"$f":"RTD(\"cqg.rtd\", ,\"ContractData\", C191, \"T_CVol\",, \"T\")","v":859731},191,{"$f":"IFERROR(RANK($J191,$J$1:J$391)+COUNTIF($J$1:J191,J191)-1,\"\")","v":291},"S.US.LAZ","S.US.INGM"]
["S.US.LBRDA",1,"S.US.LBRDA",{"$f":"RTD(\"cqg.rtd\", ,\"ContractData\",C192, \"LongDescription\",, \"T\")","v":"Liberty Broadband Corporation Class A"},null,null,null,{"$f":"RTD(\"cqg.rtd\", ,\"ContractData\",C192, \"LastTradeToday\",, \"T\")","v":91.63},{"$f":"RTD(\"cqg.rtd\", ,\"ContractData\",C192, \"NetLastTradeToday\",, \"T\")","v":1.23},{"$f":"IFERROR(RTD(\"cqg.rtd\", ,\"ContractData\",C192, \"PerCentNetLastTrade\",, \"T\")/100,\"\")","v":1.3606194690265487E-2},{"$f":"RTD(\"cqg.rtd\", ,\"ContractData\", C192, \"T_CVol\",, \"T\")","v":154800},192,{"$f":"IFERROR(RANK($J192,$J$1:J$391)+COUNTIF($J$1:J192,J192)-1,\"\")","v":29},"S.US.LBRDA","S.US.EME"]
["S.US.LBRDK",1,"S.US.LBRDK",{"$f":"RTD(\"cqg.rtd\", ,\"ContractData\",C193, \"LongDescription\",, \"T\")","v":"Liberty Broadband Corporation Class C"},null,null,null,{"$f":"RTD(\"cqg.rtd\", ,\"ContractData\",C193, \"LastTradeToday\",, \"T\")","v":92.92},{"$f":"RTD(\"cqg.rtd\", ,\"ContractData\",C193, \"NetLastTradeToday\",, \"T\")","v":1.1400000000000001},{"$f":"IFERROR(RTD(\"cqg.rtd\", ,\"ContractData\",C193, \"PerCentNetLastTrade\",, \"T\")/100,\"\")","v":1.2421006755284377E-2},{"$f":"RTD(\"cqg.rtd\", ,\"ContractData\", C193, \"T_CVol\",, \"T\")","v":520866},193,{"$f":"IFERROR(RANK($J193,$J$1:J$391)+COUNTIF($J$1:J193,J193)-1,\"\")","v":37},"S.US.LBRDK",{"$f":"VLOOKUP($L193,$M$1:$N$391,2,FALSE)","v":"S.US.PPC"}]
["S.US.LECO",{"$f":"IF(J194>0,1,0)","v":0},"S.US.LECO",{"$f":"RTD(\"cqg.rtd\", ,\"ContractData\",C194, \"LongDescription\",, \"T\")","v":"Lincoln Electric Hldgs Inc"},null,null,null,{"$f":"RTD(\"cqg.rtd\", ,\"ContractData\",C194, \"LastTradeToday\",, \"T\")","v":181},{"$f":"RTD(\"cqg.rtd\", ,\"ContractData\",C194, \"NetLastTradeToday\",, \"T\")","v":-1.77},{"$f":"IFERROR(RTD(\"cqg.rtd\", ,\"ContractData\",C194, \"PerCentNetLastTrade\",, \"T\")/100,\"\")","v":-9.6843026754937899E-3},{"$f":"RTD(\"cqg.rtd\", ,\"ContractData\", C194, \"T_CVol\",, \"T\")","v":193511},194,{"$f":"IFERROR(RANK($J194,$J$1:J$391)+COUNTIF($J$1:J194,J194)-1,\"\")","v":280},"S.US.LECO","S.US.TJX"]
["S.US.LII",1,"S.US.LII",{"$f":"RTD(\"cqg.rtd\", ,\"ContractData\",C195, \"LongDescription\",, \"T\")","v":"Lennox Internatl"},null,null,null,{"$f":"RTD(\"cqg.rtd\", ,\"ContractData\",C195, \"LastTradeToday\",, \"T\")","v":567.38},{"$f":"RTD(\"cqg.rtd\", ,\"ContractData\",C195, \"NetLastTradeToday\",, \"T\")","v":4.46},{"$f":"IFERROR(RTD(\"cqg.rtd\", ,\"ContractData\",C195, \"PerCentNetLastTrade\",, \"T\")/100,\"\")","v":7.9229730689973701E-3},{"$f":"RTD(\"cqg.rtd\", ,\"ContractData\", C195, \"T_CVol\",, \"T\")","v":265449},{"$f":"L194+1","v":195},{"$f":"IFERROR(RANK($J195,$J$1:J$391)+COUNTIF($J$1:J195,J195)-1,\"\")","v":61},"S.US.LII","S.US.AMZN"]
["S.US.LLY",0,"S.US.LLY",{"$f":"RTD(\"cqg.rtd\", ,\"ContractData\",C196, \"LongDescription\",, \"T\")","v":"Lilly (Eli) & Company"},null,null,null,{"$f":"RTD(\"cqg.rtd\", ,\"ContractData\",C196, \"LastTradeToday\",, \"T\")","v":774.49},{"$f":"RTD(\"cqg.rtd\", ,\"ContractData\",C196, \"NetLastTradeToday\",, \"T\")","v":-46.97},{"$f":"IFERROR(RTD(\"cqg.rtd\", ,\"ContractData\",C196, \"PerCentNetLastTrade\",, \"T\")/100,\"\")","v":-5.7178681859128867E-2},{"$f":"RTD(\"cqg.rtd\", ,\"ContractData\", C196, \"T_CVol\",, \"T\")","v":3726444},196,{"$f":"IFERROR(RANK($J196,$J$1:J$391)+COUNTIF($J$1:J196,J196)-1,\"\")","v":378},"S.US.LLY","S.US.APH"]
["S.US.LMT",0,"S.US.LMT",{"$f":"RTD(\"cqg.rtd\", ,\"ContractData\",C197, \"LongDescription\",, \"T\")","v":"Lockheed Martin Corp"},null,null,null,{"$f":"RTD(\"cqg.rtd\", ,\"ContractData\",C197, \"LastTradeToday\",, \"T\")","v":468.96000000000004},{"$f":"RTD(\"cqg.rtd\", ,\"ContractData\",C197, \"NetLastTradeToday\",, \"T\")","v":-2.6},{"$f":"IFERROR(RTD(\"cqg.rtd\", ,\"ContractData\",C197, \"PerCentNetLastTrade\",, \"T\")/100,\"\")","v":-5.5136143862923063E-3},{"$f":"RTD(\"cqg.rtd\", ,\"ContractData\", C197, \"T_CVol\",, \"T\")","v":710139},197,{"$f":"IFERROR(RANK($J197,$J$1:J$391)+COUNTIF($J$1:J197,J197)-1,\"\")","v":238},"S.US.LMT","S.US.BA"]
["S.US.LNG",0,"S.US.LNG",{"$f":"RTD(\"cqg.rtd\", ,\"ContractData\",C198, \"LongDescription\",, \"T\")","v":"Cheniere Energy Inc"},null,null,null,{"$f":"RTD(\"cqg.rtd\", ,\"ContractData\",C198, \"LastTradeToday\",, \"T\")","v":235.51},{"$f":"RTD(\"cqg.rtd\", ,\"ContractData\",C198, \"NetLastTradeToday\",, \"T\")","v":0},{"$f":"IFERROR(RTD(\"cqg.rtd\", ,\"ContractData\",C198, \"PerCentNetLastTrade\",, \"T\")/100,\"\")","v":0},{"$f":"RTD(\"cqg.rtd\", ,\"ContractData\", C198, \"T_CVol\",, \"T\")","v":1017196},198,{"$f":"IFERROR(RANK($J198,$J$1:J$391)+COUNTIF($J$1:J198,J198)-1,\"\")","v":135},"S.US.LNG","S.US.DOCU"]
["S.US.LNW",1,"S.US.LNW",{"$f":"RTD(\"cqg.rtd\", ,\"ContractData\",C199, \"LongDescription\",, \"T\")","v":"Light & Wonder, Inc."},null,null,null,{"$f":"RTD(\"cqg.rtd\", ,\"ContractData\",C199, \"LastTradeToday\",, \"T\")","v":93.850000000000009},{"$f":"RTD(\"cqg.rtd\", ,\"ContractData\",C199, \"NetLastTradeToday\",, \"T\")","v":0.45},{"$f":"IFERROR(RTD(\"cqg.rtd\", ,\"ContractData\",C199, \"PerCentNetLastTrade\",, \"T\")/100,\"\")","v":4.8179871520342612E-3},{"$f":"RTD(\"cqg.rtd\", ,\"ContractData\", C199, \"T_CVol\",, \"T\")","v":414477},199,{"$f":"IFERROR(RANK($J199,$J$1:J$391)+COUNTIF($J$1:J199,J199)-1,\"\")","v":85},"S.US.LNW","S.US.PCTY"]
["S.US.LOAR",1,"S.US.LOAR",{"$f":"RTD(\"cqg.rtd\", ,\"ContractData\",C200, \"LongDescription\",, \"T\")","v":"Loar Holdings Inc."},null,null,null,{"$f":"RTD(\"cqg.rtd\", ,\"ContractData\",C200, \"LastTradeToday\",, \"T\")","v":97.3},{"$f":"RTD(\"cqg.rtd\", ,\"ContractData\",C200, \"NetLastTradeToday\",, \"T\")","v":0.51},{"$f":"IFERROR(RTD(\"cqg.rtd\", ,\"ContractData\",C200, \"PerCentNetLastTrade\",, \"T\")/100,\"\")","v":5.2691393739022633E-3},{"$f":"RTD(\"cqg.rtd\", ,\"ContractData\", C200, \"T_CVol\",, \"T\")","v":344239},200,{"$f":"IFERROR(RANK($J200,$J$1:J$391)+COUNTIF($J$1:J200,J200)-1,\"\")","v":79},"S.US.LOAR","S.US.SPR"]
["S.US.LOPE",0,"S.US.LOPE",{"$f":"RTD(\"cqg.rtd\", ,\"ContractData\",C201, \"LongDescription\",, \"T\")","v":"Grand Canyon Education Inc"},null,null,null,{"$f":"RTD(\"cqg.rtd\", ,\"ContractData\",C201, \"LastTradeToday\",, \"T\")","v":185.95000000000002},{"$f":"RTD(\"cqg.rtd\", ,\"ContractData\",C201, \"NetLastTradeToday\",, \"T\")","v":-0.13},{"$f":"IFERROR(RTD(\"cqg.rtd\", ,\"ContractData\",C201, \"PerCentNetLastTrade\",, \"T\")/100,\"\")","v":-6.9862424763542574E-4},{"$f":"RTD(\"cqg.rtd\", ,\"ContractData\", C201, \"T_CVol\",, \"T\")","v":137921},201,{"$f":"IFERROR(RANK($J201,$J$1:J$391)+COUNTIF($J$1:J201,J201)-1,\"\")","v":145},"S.US.LOPE","S.US.HUBS"]
["S.US.LPLA",0,"S.US.LPLA",{"$f":"RTD(\"cqg.rtd\", ,\"ContractData\",C202, \"LongDescription\",, \"T\")","v":"LPL Financial Holdings Inc."},null,null,null,{"$f":"RTD(\"cqg.rtd\", ,\"ContractData\",C202, \"LastTradeToday\",, \"T\")","v":333.06},{"$f":"RTD(\"cqg.rtd\", ,\"ContractData\",C202, \"NetLastTradeToday\",, \"T\")","v":-1},{"$f":"IFERROR(RTD(\"cqg.rtd\", ,\"ContractData\",C202, \"PerCentNetLastTrade\",, \"T\")/100,\"\")","v":-2.9934742261869124E-3},{"$f":"RTD(\"cqg.rtd\", ,\"ContractData\", C202, \"T_CVol\",, \"T\")","v":355068},202,{"$f":"IFERROR(RANK($J202,$J$1:J$391)+COUNTIF($J$1:J202,J202)-1,\"\")","v":183},"S.US.LPLA","S.US.DT"]
["S.US.LPX",1,"S.US.LPX",{"$f":"RTD(\"cqg.rtd\", ,\"ContractData\",C203, \"LongDescription\",, \"T\")","v":"Louisiana-Pacific Corp"},null,null,null,{"$f":"RTD(\"cqg.rtd\", ,\"ContractData\",C203, \"LastTradeToday\",, \"T\")","v":91.19},{"$f":"RTD(\"cqg.rtd\", ,\"ContractData\",C203, \"NetLastTradeToday\",, \"T\")","v":3.66},{"$f":"IFERROR(RTD(\"cqg.rtd\", ,\"ContractData\",C203, \"PerCentNetLastTrade\",, \"T\")/100,\"\")","v":4.1814235119387637E-2},{"$f":"RTD(\"cqg.rtd\", ,\"ContractData\", C203, \"T_CVol\",, \"T\")","v":1349474},203,{"$f":"IFERROR(RANK($J203,$J$1:J$391)+COUNTIF($J$1:J203,J203)-1,\"\")","v":8},"S.US.LPX","S.US.CAT"]
["S.US.LRCX",0,"S.US.LRCX",{"$f":"RTD(\"cqg.rtd\", ,\"ContractData\",C204, \"LongDescription\",, \"T\")","v":"LAM Research Corporation"},null,null,null,{"$f":"RTD(\"cqg.rtd\", ,\"ContractData\",C204, \"LastTradeToday\",, \"T\")","v":73.540000000000006},{"$f":"RTD(\"cqg.rtd\", ,\"ContractData\",C204, \"NetLastTradeToday\",, \"T\")","v":-0.37},{"$f":"IFERROR(RTD(\"cqg.rtd\", ,\"ContractData\",C204, \"PerCentNetLastTrade\",, \"T\")/100,\"\")","v":-5.0060884859964823E-3},{"$f":"RTD(\"cqg.rtd\", ,\"ContractData\", C204, \"T_CVol\",, \"T\")","v":3443520},204,{"$f":"IFERROR(RANK($J204,$J$1:J$391)+COUNTIF($J$1:J204,J204)-1,\"\")","v":223},"S.US.LRCX","S.US.AMAT"]
["S.US.LSCC",0,"S.US.LSCC",{"$f":"RTD(\"cqg.rtd\", ,\"ContractData\",C205, \"LongDescription\",, \"T\")","v":"Lattice Semiconductor"},null,null,null,{"$f":"RTD(\"cqg.rtd\", ,\"ContractData\",C205, \"LastTradeToday\",, \"T\")","v":46.24},{"$f":"RTD(\"cqg.rtd\", ,\"ContractData\",C205, \"NetLastTradeToday\",, \"T\")","v":-6.22},{"$f":"IFERROR(RTD(\"cqg.rtd\", ,\"ContractData\",C205, \"PerCentNetLastTrade\",, \"T\")/100,\"\")","v":-0.11856652687762104},{"$f":"RTD(\"cqg.rtd\", ,\"ContractData\", C205, \"T_CVol\",, \"T\")","v":5439325},205,{"$f":"IFERROR(RANK($J205,$J$1:J$391)+COUNTIF($J$1:J205,J205)-1,\"\")","v":389},"S.US.LSCC","S.US.SCHW"]
["S.US.LULU",0,"S.US.LULU",{"$f":"RTD(\"cqg.rtd\", ,\"ContractData\",C206, \"LongDescription\",, \"T\")","v":"Lululemon Athletica Inc"},null,null,null,{"$f":"RTD(\"cqg.rtd\", ,\"ContractData\",C206, \"LastTradeToday\",, \"T\")","v":271.17},{"$f":"RTD(\"cqg.rtd\", ,\"ContractData\",C206, \"NetLastTradeToday\",, \"T\")","v":-7.38},{"$f":"IFERROR(RTD(\"cqg.rtd\", ,\"ContractData\",C206, \"PerCentNetLastTrade\",, \"T\")/100,\"\")","v":-2.6494345718901455E-2},{"$f":"RTD(\"cqg.rtd\", ,\"ContractData\", C206, \"T_CVol\",, \"T\")","v":787970},206,{"$f":"IFERROR(RANK($J206,$J$1:J$391)+COUNTIF($J$1:J206,J206)-1,\"\")","v":350},"S.US.LULU","S.US.PSA"]
["S.US.LVS",1,"S.US.LVS",{"$f":"RTD(\"cqg.rtd\", ,\"ContractData\",C207, \"LongDescription\",, \"T\")","v":"Las Vegas Sands Corp"},null,null,null,{"$f":"RTD(\"cqg.rtd\", ,\"ContractData\",C207, \"LastTradeToday\",, \"T\")","v":38.83},{"$f":"RTD(\"cqg.rtd\", ,\"ContractData\",C207, \"NetLastTradeToday\",, \"T\")","v":0.52},{"$f":"IFERROR(RTD(\"cqg.rtd\", ,\"ContractData\",C207, \"PerCentNetLastTrade\",, \"T\")/100,\"\")","v":1.357347950926651E-2},{"$f":"RTD(\"cqg.rtd\", ,\"ContractData\", C207, \"T_CVol\",, \"T\")","v":5060412},207,{"$f":"IFERROR(RANK($J207,$J$1:J$391)+COUNTIF($J$1:J207,J207)-1,\"\")","v":30},"S.US.LVS","S.US.AVY"]
["S.US.LW",0,"S.US.LW",{"$f":"RTD(\"cqg.rtd\", ,\"ContractData\",C208, \"LongDescription\",, \"T\")","v":"Lamb Weston Holdings, Inc."},null,null,null,{"$f":"RTD(\"cqg.rtd\", ,\"ContractData\",C208, \"LastTradeToday\",, \"T\")","v":51.03},{"$f":"RTD(\"cqg.rtd\", ,\"ContractData\",C208, \"NetLastTradeToday\",, \"T\")","v":-0.26},{"$f":"IFERROR(RTD(\"cqg.rtd\", ,\"ContractData\",C208, \"PerCentNetLastTrade\",, \"T\")/100,\"\")","v":-5.0692142717878733E-3},{"$f":"RTD(\"cqg.rtd\", ,\"ContractData\", C208, \"T_CVol\",, \"T\")","v":672500},208,{"$f":"IFERROR(RANK($J208,$J$1:J$391)+COUNTIF($J$1:J208,J208)-1,\"\")","v":225},"S.US.LW","S.US.HRB"]
["S.US.LYFT",0,"S.US.LYFT",{"$f":"RTD(\"cqg.rtd\", ,\"ContractData\",C209, \"LongDescription\",, \"T\")","v":"Lyft, Inc. Class A"},null,null,null,{"$f":"RTD(\"cqg.rtd\", ,\"ContractData\",C209, \"LastTradeToday\",, \"T\")","v":12.99},{"$f":"RTD(\"cqg.rtd\", ,\"ContractData\",C209, \"NetLastTradeToday\",, \"T\")","v":-0.21},{"$f":"IFERROR(RTD(\"cqg.rtd\", ,\"ContractData\",C209, \"PerCentNetLastTrade\",, \"T\")/100,\"\")","v":-1.5909090909090907E-2},{"$f":"RTD(\"cqg.rtd\", ,\"ContractData\", C209, \"T_CVol\",, \"T\")","v":12357782},209,{"$f":"IFERROR(RANK($J209,$J$1:J$391)+COUNTIF($J$1:J209,J209)-1,\"\")","v":320},"S.US.LYFT","S.US.NXST"]
["S.US.LYV",0,"S.US.LYV",{"$f":"RTD(\"cqg.rtd\", ,\"ContractData\",C210, \"LongDescription\",, \"T\")","v":"Live Nation Entertainment Inc"},null,null,null,{"$f":"RTD(\"cqg.rtd\", ,\"ContractData\",C210, \"LastTradeToday\",, \"T\")","v":134.41},{"$f":"RTD(\"cqg.rtd\", ,\"ContractData\",C210, \"NetLastTradeToday\",, \"T\")","v":-1.71},{"$f":"IFERROR(RTD(\"cqg.rtd\", ,\"ContractData\",C210, \"PerCentNetLastTrade\",, \"T\")/100,\"\")","v":-1.2562444901557451E-2},{"$f":"RTD(\"cqg.rtd\", ,\"ContractData\", C210, \"T_CVol\",, \"T\")","v":847735},210,{"$f":"IFERROR(RANK($J210,$J$1:J$391)+COUNTIF($J$1:J210,J210)-1,\"\")","v":301},"S.US.LYV","S.US.IDXX"]
["S.US.MA",0,"S.US.MA",{"$f":"RTD(\"cqg.rtd\", ,\"ContractData\",C211, \"LongDescription\",, \"T\")","v":"Mastercard Inc."},null,null,null,{"$f":"RTD(\"cqg.rtd\", ,\"ContractData\",C211, \"LastTradeToday\",, \"T\")","v":560.99},{"$f":"RTD(\"cqg.rtd\", ,\"ContractData\",C211, \"NetLastTradeToday\",, \"T\")","v":-0.13},{"$f":"IFERROR(RTD(\"cqg.rtd\", ,\"ContractData\",C211, \"PerCentNetLastTrade\",, \"T\")/100,\"\")","v":-2.3167949814656403E-4},{"$f":"RTD(\"cqg.rtd\", ,\"ContractData\", C211, \"T_CVol\",, \"T\")","v":1334558},211,{"$f":"IFERROR(RANK($J211,$J$1:J$391)+COUNTIF($J$1:J211,J211)-1,\"\")","v":138},"S.US.MA","S.US.TSCO"]
["S.US.MANH",0,"S.US.MANH",{"$f":"RTD(\"cqg.rtd\", ,\"ContractData\",C212, \"LongDescription\",, \"T\")","v":"Manhattan Assoc"},null,null,null,{"$f":"RTD(\"cqg.rtd\", ,\"ContractData\",C212, \"LastTradeToday\",, \"T\")","v":183.20000000000002},{"$f":"RTD(\"cqg.rtd\", ,\"ContractData\",C212, \"NetLastTradeToday\",, \"T\")","v":-0.79},{"$f":"IFERROR(RTD(\"cqg.rtd\", ,\"ContractData\",C212, \"PerCentNetLastTrade\",, \"T\")/100,\"\")","v":-4.2937116147616717E-3},{"$f":"RTD(\"cqg.rtd\", ,\"ContractData\", C212, \"T_CVol\",, \"T\")","v":322000},212,{"$f":"IFERROR(RANK($J212,$J$1:J$391)+COUNTIF($J$1:J212,J212)-1,\"\")","v":212},"S.US.MANH","S.US.MANH"]
["S.US.MASI",0,"S.US.MASI",{"$f":"RTD(\"cqg.rtd\", ,\"ContractData\",C213, \"LongDescription\",, \"T\")","v":"Masimo Corporation"},null,null,null,{"$f":"RTD(\"cqg.rtd\", ,\"ContractData\",C213, \"LastTradeToday\",, \"T\")","v":161.83000000000001},{"$f":"RTD(\"cqg.rtd\", ,\"ContractData\",C213, \"NetLastTradeToday\",, \"T\")","v":-1.03},{"$f":"IFERROR(RTD(\"cqg.rtd\", ,\"ContractData\",C213, \"PerCentNetLastTrade\",, \"T\")/100,\"\")","v":-6.3244504482377504E-3},{"$f":"RTD(\"cqg.rtd\", ,\"ContractData\", C213, \"T_CVol\",, \"T\")","v":579382},213,{"$f":"IFERROR(RANK($J213,$J$1:J$391)+COUNTIF($J$1:J213,J213)-1,\"\")","v":246},"S.US.MASI","S.US.NKE"]
["S.US.MCD",1,"S.US.MCD",{"$f":"RTD(\"cqg.rtd\", ,\"ContractData\",C214, \"LongDescription\",, \"T\")","v":"McDonald's Corporation"},null,null,null,{"$f":"RTD(\"cqg.rtd\", ,\"ContractData\",C214, \"LastTradeToday\",, \"T\")","v":316.72000000000003},{"$f":"RTD(\"cqg.rtd\", ,\"ContractData\",C214, \"NetLastTradeToday\",, \"T\")","v":1},{"$f":"IFERROR(RTD(\"cqg.rtd\", ,\"ContractData\",C214, \"PerCentNetLastTrade\",, \"T\")/100,\"\")","v":3.1673634866337262E-3},{"$f":"RTD(\"cqg.rtd\", ,\"ContractData\", C214, \"T_CVol\",, \"T\")","v":1299848},214,{"$f":"IFERROR(RANK($J214,$J$1:J$391)+COUNTIF($J$1:J214,J214)-1,\"\")","v":97},"S.US.MCD","S.US.TDC"]
["S.US.MCK",1,"S.US.MCK",{"$f":"RTD(\"cqg.rtd\", ,\"ContractData\",C215, \"LongDescription\",, \"T\")","v":"McKesson Corporation"},null,null,null,{"$f":"RTD(\"cqg.rtd\", ,\"ContractData\",C215, \"LastTradeToday\",, \"T\")","v":713.31000000000006},{"$f":"RTD(\"cqg.rtd\", ,\"ContractData\",C215, \"NetLastTradeToday\",, \"T\")","v":6.3100000000000005},{"$f":"IFERROR(RTD(\"cqg.rtd\", ,\"ContractData\",C215, \"PerCentNetLastTrade\",, \"T\")/100,\"\")","v":8.9250353606789238E-3},{"$f":"RTD(\"cqg.rtd\", ,\"ContractData\", C215, \"T_CVol\",, \"T\")","v":542043},215,{"$f":"IFERROR(RANK($J215,$J$1:J$391)+COUNTIF($J$1:J215,J215)-1,\"\")","v":51},"S.US.MCK","S.US.ENTG"]
["S.US.MCO",1,"S.US.MCO",{"$f":"RTD(\"cqg.rtd\", ,\"ContractData\",C216, \"LongDescription\",, \"T\")","v":"Moodys Corp"},null,null,null,{"$f":"RTD(\"cqg.rtd\", ,\"ContractData\",C216, \"LastTradeToday\",, \"T\")","v":464.83},{"$f":"RTD(\"cqg.rtd\", ,\"ContractData\",C216, \"NetLastTradeToday\",, \"T\")","v":0.15},{"$f":"IFERROR(RTD(\"cqg.rtd\", ,\"ContractData\",C216, \"PerCentNetLastTrade\",, \"T\")/100,\"\")","v":3.228027890160971E-4},{"$f":"RTD(\"cqg.rtd\", ,\"ContractData\", C216, \"T_CVol\",, \"T\")","v":258285},216,{"$f":"IFERROR(RANK($J216,$J$1:J$391)+COUNTIF($J$1:J216,J216)-1,\"\")","v":129},"S.US.MCO","S.US.ESTC"]
["S.US.MDB",0,"S.US.MDB",{"$f":"RTD(\"cqg.rtd\", ,\"ContractData\",C217, \"LongDescription\",, \"T\")","v":"MongoDB, Inc. Class A"},null,null,null,{"$f":"RTD(\"cqg.rtd\", ,\"ContractData\",C217, \"LastTradeToday\",, \"T\")","v":172.79},{"$f":"RTD(\"cqg.rtd\", ,\"ContractData\",C217, \"NetLastTradeToday\",, \"T\")","v":-0.17},{"$f":"IFERROR(RTD(\"cqg.rtd\", ,\"ContractData\",C217, \"PerCentNetLastTrade\",, \"T\")/100,\"\")","v":-9.82886216466235E-4},{"$f":"RTD(\"cqg.rtd\", ,\"ContractData\", C217, \"T_CVol\",, \"T\")","v":757515},217,{"$f":"IFERROR(RANK($J217,$J$1:J$391)+COUNTIF($J$1:J217,J217)-1,\"\")","v":151},"S.US.MDB","S.US.CLF"]
["S.US.MEDP",0,"S.US.MEDP",{"$f":"RTD(\"cqg.rtd\", ,\"ContractData\",C218, \"LongDescription\",, \"T\")","v":"Medpace Holdings, Inc."},null,null,null,{"$f":"RTD(\"cqg.rtd\", ,\"ContractData\",C218, \"LastTradeToday\",, \"T\")","v":289.44},{"$f":"RTD(\"cqg.rtd\", ,\"ContractData\",C218, \"NetLastTradeToday\",, \"T\")","v":-11.05},{"$f":"IFERROR(RTD(\"cqg.rtd\", ,\"ContractData\",C218, \"PerCentNetLastTrade\",, \"T\")/100,\"\")","v":-3.677327032513561E-2},{"$f":"RTD(\"cqg.rtd\", ,\"ContractData\", C218, \"T_CVol\",, \"T\")","v":577499},218,{"$f":"IFERROR(RANK($J218,$J$1:J$391)+COUNTIF($J$1:J218,J218)-1,\"\")","v":365},"S.US.MEDP","S.US.HPQ"]
["S.US.META",0,"S.US.META",{"$f":"RTD(\"cqg.rtd\", ,\"ContractData\",C219, \"LongDescription\",, \"T\")","v":"Meta Platforms, Inc."},null,null,null,{"$f":"RTD(\"cqg.rtd\", ,\"ContractData\",C219, \"LastTradeToday\",, \"T\")","v":589.53},{"$f":"RTD(\"cqg.rtd\", ,\"ContractData\",C219, \"NetLastTradeToday\",, \"T\")","v":-9.74},{"$f":"IFERROR(RTD(\"cqg.rtd\", ,\"ContractData\",C219, \"PerCentNetLastTrade\",, \"T\")/100,\"\")","v":-1.6253107948003404E-2},{"$f":"RTD(\"cqg.rtd\", ,\"ContractData\", C219, \"T_CVol\",, \"T\")","v":8008636},219,{"$f":"IFERROR(RANK($J219,$J$1:J$391)+COUNTIF($J$1:J219,J219)-1,\"\")","v":323},"S.US.META","S.US.MUSA"]
["S.US.MKL",1,"S.US.MKL",{"$f":"RTD(\"cqg.rtd\", ,\"ContractData\",C220, \"LongDescription\",, \"T\")","v":"Markel Group Inc."},null,null,null,{"$f":"RTD(\"cqg.rtd\", ,\"ContractData\",C220, \"LastTradeToday\",, \"T\")","v":1873.33},{"$f":"RTD(\"cqg.rtd\", ,\"ContractData\",C220, \"NetLastTradeToday\",, \"T\")","v":6},{"$f":"IFERROR(RTD(\"cqg.rtd\", ,\"ContractData\",C220, \"PerCentNetLastTrade\",, \"T\")/100,\"\")","v":3.2131439006495904E-3},{"$f":"RTD(\"cqg.rtd\", ,\"ContractData\", C220, \"T_CVol\",, \"T\")","v":28094},220,{"$f":"IFERROR(RANK($J220,$J$1:J$391)+COUNTIF($J$1:J220,J220)-1,\"\")","v":95},"S.US.MKL","S.US.EPAM"]
["S.US.MKSI",0,"S.US.MKSI",{"$f":"RTD(\"cqg.rtd\", ,\"ContractData\",C221, \"LongDescription\",, \"T\")","v":"MKS Instruments Inc"},null,null,null,{"$f":"RTD(\"cqg.rtd\", ,\"ContractData\",C221, \"LastTradeToday\",, \"T\")","v":73.14},{"$f":"RTD(\"cqg.rtd\", ,\"ContractData\",C221, \"NetLastTradeToday\",, \"T\")","v":-1.33},{"$f":"IFERROR(RTD(\"cqg.rtd\", ,\"ContractData\",C221, \"PerCentNetLastTrade\",, \"T\")/100,\"\")","v":-1.7859540754666309E-2},{"$f":"RTD(\"cqg.rtd\", ,\"ContractData\", C221, \"T_CVol\",, \"T\")","v":607741},221,{"$f":"IFERROR(RANK($J221,$J$1:J$391)+COUNTIF($J$1:J221,J221)-1,\"\")","v":333},"S.US.MKSI","S.US.CPRT"]
["S.US.MLM",0,"S.US.MLM",{"$f":"RTD(\"cqg.rtd\", ,\"ContractData\",C222, \"LongDescription\",, \"T\")","v":"Martin Marietta Materials Inc"},null,null,null,{"$f":"RTD(\"cqg.rtd\", ,\"ContractData\",C222, \"LastTradeToday\",, \"T\")","v":538.12},{"$f":"RTD(\"cqg.rtd\", ,\"ContractData\",C222, \"NetLastTradeToday\",, \"T\")","v":-4.07},{"$f":"IFERROR(RTD(\"cqg.rtd\", ,\"ContractData\",C222, \"PerCentNetLastTrade\",, \"T\")/100,\"\")","v":-7.5065936295394611E-3},{"$f":"RTD(\"cqg.rtd\", ,\"ContractData\", C222, \"T_CVol\",, \"T\")","v":185704},222,{"$f":"IFERROR(RANK($J222,$J$1:J$391)+COUNTIF($J$1:J222,J222)-1,\"\")","v":257},"S.US.MLM","S.US.EQIX"]
["S.US.MMC",1,"S.US.MMC",{"$f":"RTD(\"cqg.rtd\", ,\"ContractData\",C223, \"LongDescription\",, \"T\")","v":"Marsh & McLennan Cos Inc"},null,null,null,{"$f":"RTD(\"cqg.rtd\", ,\"ContractData\",C223, \"LastTradeToday\",, \"T\")","v":226.91},{"$f":"RTD(\"cqg.rtd\", ,\"ContractData\",C223, \"NetLastTradeToday\",, \"T\")","v":0.34},{"$f":"IFERROR(RTD(\"cqg.rtd\", ,\"ContractData\",C223, \"PerCentNetLastTrade\",, \"T\")/100,\"\")","v":1.5006399788144945E-3},{"$f":"RTD(\"cqg.rtd\", ,\"ContractData\", C223, \"T_CVol\",, \"T\")","v":813460},223,{"$f":"IFERROR(RANK($J223,$J$1:J$391)+COUNTIF($J$1:J223,J223)-1,\"\")","v":111},"S.US.MMC","S.US.LRCX"]
["S.US.MMM",0,"S.US.MMM",{"$f":"RTD(\"cqg.rtd\", ,\"ContractData\",C224, \"LongDescription\",, \"T\")","v":"3M Company"},null,null,null,{"$f":"RTD(\"cqg.rtd\", ,\"ContractData\",C224, \"LastTradeToday\",, \"T\")","v":138.34},{"$f":"RTD(\"cqg.rtd\", ,\"ContractData\",C224, \"NetLastTradeToday\",, \"T\")","v":-2.46},{"$f":"IFERROR(RTD(\"cqg.rtd\", ,\"ContractData\",C224, \"PerCentNetLastTrade\",, \"T\")/100,\"\")","v":-1.7471590909090909E-2},{"$f":"RTD(\"cqg.rtd\", ,\"ContractData\", C224, \"T_CVol\",, \"T\")","v":1724867},224,{"$f":"IFERROR(RANK($J224,$J$1:J$391)+COUNTIF($J$1:J224,J224)-1,\"\")","v":329},"S.US.MMM","S.US.XP"]
["S.US.MNST",0,"S.US.MNST",{"$f":"RTD(\"cqg.rtd\", ,\"ContractData\",C225, \"LongDescription\",, \"T\")","v":"Monster Beverage Corporation"},null,null,null,{"$f":"RTD(\"cqg.rtd\", ,\"ContractData\",C225, \"LastTradeToday\",, \"T\")","v":60.15},{"$f":"RTD(\"cqg.rtd\", ,\"ContractData\",C225, \"NetLastTradeToday\",, \"T\")","v":-0.76},{"$f":"IFERROR(RTD(\"cqg.rtd\", ,\"ContractData\",C225, \"PerCentNetLastTrade\",, \"T\")/100,\"\")","v":-1.2477425710064029E-2},{"$f":"RTD(\"cqg.rtd\", ,\"ContractData\", C225, \"T_CVol\",, \"T\")","v":2784396},225,{"$f":"IFERROR(RANK($J225,$J$1:J$391)+COUNTIF($J$1:J225,J225)-1,\"\")","v":300},"S.US.MNST","S.US.LW"]
["S.US.MOH",0,"S.US.MOH",{"$f":"RTD(\"cqg.rtd\", ,\"ContractData\",C226, \"LongDescription\",, \"T\")","v":"Mohlina Heathcare Inc"},null,null,null,{"$f":"RTD(\"cqg.rtd\", ,\"ContractData\",C226, \"LastTradeToday\",, \"T\")","v":317.56},{"$f":"RTD(\"cqg.rtd\", ,\"ContractData\",C226, \"NetLastTradeToday\",, \"T\")","v":-2.0699999999999998},{"$f":"IFERROR(RTD(\"cqg.rtd\", ,\"ContractData\",C226, \"PerCentNetLastTrade\",, \"T\")/100,\"\")","v":-6.4762381503613549E-3},{"$f":"RTD(\"cqg.rtd\", ,\"ContractData\", C226, \"T_CVol\",, \"T\")","v":195767},226,{"$f":"IFERROR(RANK($J226,$J$1:J$391)+COUNTIF($J$1:J226,J226)-1,\"\")","v":247},"S.US.MOH","S.US.EG"]
["S.US.MORN",0,"S.US.MORN",{"$f":"RTD(\"cqg.rtd\", ,\"ContractData\",C227, \"LongDescription\",, \"T\")","v":"Morningstar Inc"},null,null,null,{"$f":"RTD(\"cqg.rtd\", ,\"ContractData\",C227, \"LastTradeToday\",, \"T\")","v":294.5},{"$f":"RTD(\"cqg.rtd\", ,\"ContractData\",C227, \"NetLastTradeToday\",, \"T\")","v":-0.65},{"$f":"IFERROR(RTD(\"cqg.rtd\", ,\"ContractData\",C227, \"PerCentNetLastTrade\",, \"T\")/100,\"\")","v":-2.2022700321870235E-3},{"$f":"RTD(\"cqg.rtd\", ,\"ContractData\", C227, \"T_CVol\",, \"T\")","v":88327},227,{"$f":"IFERROR(RANK($J227,$J$1:J$391)+COUNTIF($J$1:J227,J227)-1,\"\")","v":170},"S.US.MORN","S.US.CHH"]
["S.US.MPWR",1,"S.US.MPWR",{"$f":"RTD(\"cqg.rtd\", ,\"ContractData\",C228, \"LongDescription\",, \"T\")","v":"Monolithic Power Systems Inc"},null,null,null,{"$f":"RTD(\"cqg.rtd\", ,\"ContractData\",C228, \"LastTradeToday\",, \"T\")","v":629.53},{"$f":"RTD(\"cqg.rtd\", ,\"ContractData\",C228, \"NetLastTradeToday\",, \"T\")","v":2.13},{"$f":"IFERROR(RTD(\"cqg.rtd\", ,\"ContractData\",C228, \"PerCentNetLastTrade\",, \"T\")/100,\"\")","v":3.3949633407714375E-3},{"$f":"RTD(\"cqg.rtd\", ,\"ContractData\", C228, \"T_CVol\",, \"T\")","v":312508},228,{"$f":"IFERROR(RANK($J228,$J$1:J$391)+COUNTIF($J$1:J228,J228)-1,\"\")","v":94},"S.US.MPWR","S.US.U"]
["S.US.MRK",0,"S.US.MRK",{"$f":"RTD(\"cqg.rtd\", ,\"ContractData\",C229, \"LongDescription\",, \"T\")","v":"Merck & Co Inc"},null,null,null,{"$f":"RTD(\"cqg.rtd\", ,\"ContractData\",C229, \"LastTradeToday\",, \"T\")","v":78.86},{"$f":"RTD(\"cqg.rtd\", ,\"ContractData\",C229, \"NetLastTradeToday\",, \"T\")","v":-3.98},{"$f":"IFERROR(RTD(\"cqg.rtd\", ,\"ContractData\",C229, \"PerCentNetLastTrade\",, \"T\")/100,\"\")","v":-4.8044422984065666E-2},{"$f":"RTD(\"cqg.rtd\", ,\"ContractData\", C229, \"T_CVol\",, \"T\")","v":10493205},229,{"$f":"IFERROR(RANK($J229,$J$1:J$391)+COUNTIF($J$1:J229,J229)-1,\"\")","v":374},"S.US.MRK","S.US.INTU"]
["S.US.MRVL",0,"S.US.MRVL",{"$f":"RTD(\"cqg.rtd\", ,\"ContractData\",C230, \"LongDescription\",, \"T\")","v":"Marvell Technology, Inc."},null,null,null,{"$f":"RTD(\"cqg.rtd\", ,\"ContractData\",C230, \"LastTradeToday\",, \"T\")","v":61.54},{"$f":"RTD(\"cqg.rtd\", ,\"ContractData\",C230, \"NetLastTradeToday\",, \"T\")","v":-0.44},{"$f":"IFERROR(RTD(\"cqg.rtd\", ,\"ContractData\",C230, \"PerCentNetLastTrade\",, \"T\")/100,\"\")","v":-7.0990642142626662E-3},{"$f":"RTD(\"cqg.rtd\", ,\"ContractData\", C230, \"T_CVol\",, \"T\")","v":4815599},230,{"$f":"IFERROR(RANK($J230,$J$1:J$391)+COUNTIF($J$1:J230,J230)-1,\"\")","v":253},"S.US.MRVL","S.US.DAY"]
["S.US.MS",0,"S.US.MS",{"$f":"RTD(\"cqg.rtd\", ,\"ContractData\",C231, \"LongDescription\",, \"T\")","v":"Morgan Stanley"},null,null,null,{"$f":"RTD(\"cqg.rtd\", ,\"ContractData\",C231, \"LastTradeToday\",, \"T\")","v":118.7},{"$f":"RTD(\"cqg.rtd\", ,\"ContractData\",C231, \"NetLastTradeToday\",, \"T\")","v":-0.9},{"$f":"IFERROR(RTD(\"cqg.rtd\", ,\"ContractData\",C231, \"PerCentNetLastTrade\",, \"T\")/100,\"\")","v":-7.525083612040134E-3},{"$f":"RTD(\"cqg.rtd\", ,\"ContractData\", C231, \"T_CVol\",, \"T\")","v":3261137},231,{"$f":"IFERROR(RANK($J231,$J$1:J$391)+COUNTIF($J$1:J231,J231)-1,\"\")","v":258},{"$f":"C231","v":"S.US.MS"},"S.US.HD"]
["S.US.MSCI",0,"S.US.MSCI",{"$f":"RTD(\"cqg.rtd\", ,\"ContractData\",C232, \"LongDescription\",, \"T\")","v":"MSCI, Inc."},null,null,null,{"$f":"RTD(\"cqg.rtd\", ,\"ContractData\",C232, \"LastTradeToday\",, \"T\")","v":546.62},{"$f":"RTD(\"cqg.rtd\", ,\"ContractData\",C232, \"NetLastTradeToday\",, \"T\")","v":-3.79},{"$f":"IFERROR(RTD(\"cqg.rtd\", ,\"ContractData\",C232, \"PerCentNetLastTrade\",, \"T\")/100,\"\")","v":-6.885776057847787E-3},{"$f":"RTD(\"cqg.rtd\", ,\"ContractData\", C232, \"T_CVol\",, \"T\")","v":150908},232,{"$f":"IFERROR(RANK($J232,$J$1:J$391)+COUNTIF($J$1:J232,J232)-1,\"\")","v":249},"S.US.MSCI","S.US.ITW"]
["S.US.MSFT",0,"S.US.MSFT",{"$f":"RTD(\"cqg.rtd\", ,\"ContractData\",C233, \"LongDescription\",, \"T\")","v":"Microsoft Corporation"},null,null,null,{"$f":"RTD(\"cqg.rtd\", ,\"ContractData\",C233, \"LastTradeToday\",, \"T\")","v":435.51},{"$f":"RTD(\"cqg.rtd\", ,\"ContractData\",C233, \"NetLastTradeToday\",, \"T\")","v":-0.66},{"$f":"IFERROR(RTD(\"cqg.rtd\", ,\"ContractData\",C233, \"PerCentNetLastTrade\",, \"T\")/100,\"\")","v":-1.5131714698397413E-3},{"$f":"RTD(\"cqg.rtd\", ,\"ContractData\", C233, \"T_CVol\",, \"T\")","v":9537052},233,{"$f":"IFERROR(RANK($J233,$J$1:J$391)+COUNTIF($J$1:J233,J233)-1,\"\")","v":163},"S.US.MSFT","S.US.FIVN"]
["S.US.MSGS",1,"S.US.MSGS",{"$f":"RTD(\"cqg.rtd\", ,\"ContractData\",C234, \"LongDescription\",, \"T\")","v":"Madison Square Garden Sports Corp."},null,null,null,{"$f":"RTD(\"cqg.rtd\", ,\"ContractData\",C234, \"LastTradeToday\",, \"T\")","v":190.17000000000002},{"$f":"RTD(\"cqg.rtd\", ,\"ContractData\",C234, \"NetLastTradeToday\",, \"T\")","v":1.3},{"$f":"IFERROR(RTD(\"cqg.rtd\", ,\"ContractData\",C234, \"PerCentNetLastTrade\",, \"T\")/100,\"\")","v":6.8830412453010003E-3},{"$f":"RTD(\"cqg.rtd\", ,\"ContractData\", C234, \"T_CVol\",, \"T\")","v":73773},234,{"$f":"IFERROR(RANK($J234,$J$1:J$391)+COUNTIF($J$1:J234,J234)-1,\"\")","v":67},"S.US.MSGS","S.US.VRSN"]
["S.US.MSI",1,"S.US.MSI",{"$f":"RTD(\"cqg.rtd\", ,\"ContractData\",C235, \"LongDescription\",, \"T\")","v":"Motorola Solutions, Inc."},null,null,null,{"$f":"RTD(\"cqg.rtd\", ,\"ContractData\",C235, \"LastTradeToday\",, \"T\")","v":412.5},{"$f":"RTD(\"cqg.rtd\", ,\"ContractData\",C235, \"NetLastTradeToday\",, \"T\")","v":7.13},{"$f":"IFERROR(RTD(\"cqg.rtd\", ,\"ContractData\",C235, \"PerCentNetLastTrade\",, \"T\")/100,\"\")","v":1.7588869427930039E-2},{"$f":"RTD(\"cqg.rtd\", ,\"ContractData\", C235, \"T_CVol\",, \"T\")","v":608539},235,{"$f":"IFERROR(RANK($J235,$J$1:J$391)+COUNTIF($J$1:J235,J235)-1,\"\")","v":20},"S.US.MSI","S.US.FDS"]
["S.US.MSTR",1,"S.US.MSTR",{"$f":"RTD(\"cqg.rtd\", ,\"ContractData\",C236, \"LongDescription\",, \"T\")","v":"Micro Strategy Inc"},null,null,null,{"$f":"RTD(\"cqg.rtd\", ,\"ContractData\",C236, \"LastTradeToday\",, \"T\")","v":386.98},{"$f":"RTD(\"cqg.rtd\", ,\"ContractData\",C236, \"NetLastTradeToday\",, \"T\")","v":0.45},{"$f":"IFERROR(RTD(\"cqg.rtd\", ,\"ContractData\",C236, \"PerCentNetLastTrade\",, \"T\")/100,\"\")","v":1.1642045895532041E-3},{"$f":"RTD(\"cqg.rtd\", ,\"ContractData\", C236, \"T_CVol\",, \"T\")","v":7008132},236,{"$f":"IFERROR(RANK($J236,$J$1:J$391)+COUNTIF($J$1:J236,J236)-1,\"\")","v":116},"S.US.MSTR","S.US.CDNS"]
["S.US.MTDR",1,"S.US.MTDR",{"$f":"RTD(\"cqg.rtd\", ,\"ContractData\",C237, \"LongDescription\",, \"T\")","v":"Matador Resources Company"},null,null,null,{"$f":"RTD(\"cqg.rtd\", ,\"ContractData\",C237, \"LastTradeToday\",, \"T\")","v":40.58},{"$f":"RTD(\"cqg.rtd\", ,\"ContractData\",C237, \"NetLastTradeToday\",, \"T\")","v":0.93},{"$f":"IFERROR(RTD(\"cqg.rtd\", ,\"ContractData\",C237, \"PerCentNetLastTrade\",, \"T\")/100,\"\")","v":2.3455233291298866E-2},{"$f":"RTD(\"cqg.rtd\", ,\"ContractData\", C237, \"T_CVol\",, \"T\")","v":1205270},237,{"$f":"IFERROR(RANK($J237,$J$1:J$391)+COUNTIF($J$1:J237,J237)-1,\"\")","v":14},"S.US.MTDR","S.US.ROK"]
["S.US.MTN",0,"S.US.MTN",{"$f":"RTD(\"cqg.rtd\", ,\"ContractData\",C238, \"LongDescription\",, \"T\")","v":"Vail Resorts Inc"},null,null,null,{"$f":"RTD(\"cqg.rtd\", ,\"ContractData\",C238, \"LastTradeToday\",, \"T\")","v":138.04},{"$f":"RTD(\"cqg.rtd\", ,\"ContractData\",C238, \"NetLastTradeToday\",, \"T\")","v":-2.15},{"$f":"IFERROR(RTD(\"cqg.rtd\", ,\"ContractData\",C238, \"PerCentNetLastTrade\",, \"T\")/100,\"\")","v":-1.5336329267422783E-2},{"$f":"RTD(\"cqg.rtd\", ,\"ContractData\", C238, \"T_CVol\",, \"T\")","v":215529},238,{"$f":"IFERROR(RANK($J238,$J$1:J$391)+COUNTIF($J$1:J238,J238)-1,\"\")","v":319},"S.US.MTN","S.US.LMT"]
["S.US.MUSA",0,"S.US.MUSA",{"$f":"RTD(\"cqg.rtd\", ,\"ContractData\",C239, \"LongDescription\",, \"T\")","v":"Murphy USA, Inc."},null,null,null,{"$f":"RTD(\"cqg.rtd\", ,\"ContractData\",C239, \"LastTradeToday\",, \"T\")","v":504.78000000000003},{"$f":"RTD(\"cqg.rtd\", ,\"ContractData\",C239, \"NetLastTradeToday\",, \"T\")","v":-2.35},{"$f":"IFERROR(RTD(\"cqg.rtd\", ,\"ContractData\",C239, \"PerCentNetLastTrade\",, \"T\")/100,\"\")","v":-4.6339202965708995E-3},{"$f":"RTD(\"cqg.rtd\", ,\"ContractData\", C239, \"T_CVol\",, \"T\")","v":106365},239,{"$f":"IFERROR(RANK($J239,$J$1:J$391)+COUNTIF($J$1:J239,J239)-1,\"\")","v":219},"S.US.MUSA","S.US.WH"]
["S.US.NBIX",1,"S.US.NBIX",{"$f":"RTD(\"cqg.rtd\", ,\"ContractData\",C240, \"LongDescription\",, \"T\")","v":"Neurocrine Biosciences Inc"},null,null,null,{"$f":"RTD(\"cqg.rtd\", ,\"ContractData\",C240, \"LastTradeToday\",, \"T\")","v":117.60000000000001},{"$f":"RTD(\"cqg.rtd\", ,\"ContractData\",C240, \"NetLastTradeToday\",, \"T\")","v":7.8500000000000005},{"$f":"IFERROR(RTD(\"cqg.rtd\", ,\"ContractData\",C240, \"PerCentNetLastTrade\",, \"T\")/100,\"\")","v":7.1526195899772216E-2},{"$f":"RTD(\"cqg.rtd\", ,\"ContractData\", C240, \"T_CVol\",, \"T\")","v":4105143},240,{"$f":"IFERROR(RANK($J240,$J$1:J$391)+COUNTIF($J$1:J240,J240)-1,\"\")","v":3},"S.US.NBIX","S.US.NCLH"]
["S.US.NCLH",0,"S.US.NCLH",{"$f":"RTD(\"cqg.rtd\", ,\"ContractData\",C241, \"LongDescription\",, \"T\")","v":"Norwegian Cruise Line"},null,null,null,{"$f":"RTD(\"cqg.rtd\", ,\"ContractData\",C241, \"LastTradeToday\",, \"T\")","v":17.27},{"$f":"RTD(\"cqg.rtd\", ,\"ContractData\",C241, \"NetLastTradeToday\",, \"T\")","v":-0.1},{"$f":"IFERROR(RTD(\"cqg.rtd\", ,\"ContractData\",C241, \"PerCentNetLastTrade\",, \"T\")/100,\"\")","v":-5.7570523891767415E-3},{"$f":"RTD(\"cqg.rtd\", ,\"ContractData\", C241, \"T_CVol\",, \"T\")","v":7292251},241,{"$f":"IFERROR(RANK($J241,$J$1:J$391)+COUNTIF($J$1:J241,J241)-1,\"\")","v":240},"S.US.NCLH","S.US.CC"]
["S.US.NCNO",0,"S.US.NCNO",{"$f":"RTD(\"cqg.rtd\", ,\"ContractData\",C242, \"LongDescription\",, \"T\")","v":"nCino, Inc."},null,null,null,{"$f":"RTD(\"cqg.rtd\", ,\"ContractData\",C242, \"LastTradeToday\",, \"T\")","v":22.2},{"$f":"RTD(\"cqg.rtd\", ,\"ContractData\",C242, \"NetLastTradeToday\",, \"T\")","v":-0.05},{"$f":"IFERROR(RTD(\"cqg.rtd\", ,\"ContractData\",C242, \"PerCentNetLastTrade\",, \"T\")/100,\"\")","v":-2.2471910112359548E-3},{"$f":"RTD(\"cqg.rtd\", ,\"ContractData\", C242, \"T_CVol\",, \"T\")","v":768279},242,{"$f":"IFERROR(RANK($J242,$J$1:J$391)+COUNTIF($J$1:J242,J242)-1,\"\")","v":171},"S.US.NCNO","S.US.TXN"]
["S.US.NET",0,"S.US.NET",{"$f":"RTD(\"cqg.rtd\", ,\"ContractData\",C243, \"LongDescription\",, \"T\")","v":"Cloudflare, Inc."},null,null,null,{"$f":"RTD(\"cqg.rtd\", ,\"ContractData\",C243, \"LastTradeToday\",, \"T\")","v":122.55},{"$f":"RTD(\"cqg.rtd\", ,\"ContractData\",C243, \"NetLastTradeToday\",, \"T\")","v":-2.09},{"$f":"IFERROR(RTD(\"cqg.rtd\", ,\"ContractData\",C243, \"PerCentNetLastTrade\",, \"T\")/100,\"\")","v":-1.676829268292683E-2},{"$f":"RTD(\"cqg.rtd\", ,\"ContractData\", C243, \"T_CVol\",, \"T\")","v":1910559},243,{"$f":"IFERROR(RANK($J243,$J$1:J$391)+COUNTIF($J$1:J243,J243)-1,\"\")","v":326},"S.US.NET","S.US.JEF"]
["S.US.NFE",1,"S.US.NFE",{"$f":"RTD(\"cqg.rtd\", ,\"ContractData\",C244, \"LongDescription\",, \"T\")","v":"New Fortress Energy Inc. Class A"},null,null,null,{"$f":"RTD(\"cqg.rtd\", ,\"ContractData\",C244, \"LastTradeToday\",, \"T\")","v":5.73},{"$f":"RTD(\"cqg.rtd\", ,\"ContractData\",C244, \"NetLastTradeToday\",, \"T\")","v":0.19},{"$f":"IFERROR(RTD(\"cqg.rtd\", ,\"ContractData\",C244, \"PerCentNetLastTrade\",, \"T\")/100,\"\")","v":3.4296028880866428E-2},{"$f":"RTD(\"cqg.rtd\", ,\"ContractData\", C244, \"T_CVol\",, \"T\")","v":3035197},244,{"$f":"IFERROR(RANK($J244,$J$1:J$391)+COUNTIF($J$1:J244,J244)-1,\"\")","v":10},"S.US.NFE","S.US.VMC"]
["S.US.NFLX",1,"S.US.NFLX",{"$f":"RTD(\"cqg.rtd\", ,\"ContractData\",C245, \"LongDescription\",, \"T\")","v":"Netflix Inc"},null,null,null,{"$f":"RTD(\"cqg.rtd\", ,\"ContractData\",C245, \"LastTradeToday\",, \"T\")","v":1141.3800000000001},{"$f":"RTD(\"cqg.rtd\", ,\"ContractData\",C245, \"NetLastTradeToday\",, \"T\")","v":7.32},{"$f":"IFERROR(RTD(\"cqg.rtd\", ,\"ContractData\",C245, \"PerCentNetLastTrade\",, \"T\")/100,\"\")","v":6.4546849373049043E-3},{"$f":"RTD(\"cqg.rtd\", ,\"ContractData\", C245, \"T_CVol\",, \"T\")","v":2371468},245,{"$f":"IFERROR(RANK($J245,$J$1:J$391)+COUNTIF($J$1:J245,J245)-1,\"\")","v":72},"S.US.NFLX","S.US.AXP"]
["S.US.NKE",0,"S.US.NKE",{"$f":"RTD(\"cqg.rtd\", ,\"ContractData\",C246, \"LongDescription\",, \"T\")","v":"NIKE Inc ClsB"},null,null,null,{"$f":"RTD(\"cqg.rtd\", ,\"ContractData\",C246, \"LastTradeToday\",, \"T\")","v":57.1},{"$f":"RTD(\"cqg.rtd\", ,\"ContractData\",C246, \"NetLastTradeToday\",, \"T\")","v":-0.25},{"$f":"IFERROR(RTD(\"cqg.rtd\", ,\"ContractData\",C246, \"PerCentNetLastTrade\",, \"T\")/100,\"\")","v":-4.359197907585005E-3},{"$f":"RTD(\"cqg.rtd\", ,\"ContractData\", C246, \"T_CVol\",, \"T\")","v":7580100},246,{"$f":"IFERROR(RANK($J246,$J$1:J$391)+COUNTIF($J$1:J246,J246)-1,\"\")","v":213},"S.US.NKE","S.US.MASI"]
["S.US.NOW",0,"S.US.NOW",{"$f":"RTD(\"cqg.rtd\", ,\"ContractData\",C247, \"LongDescription\",, \"T\")","v":"ServiceNow, Inc."},null,null,null,{"$f":"RTD(\"cqg.rtd\", ,\"ContractData\",C247, \"LastTradeToday\",, \"T\")","v":970.68000000000006},{"$f":"RTD(\"cqg.rtd\", ,\"ContractData\",C247, \"NetLastTradeToday\",, \"T\")","v":-7.37},{"$f":"IFERROR(RTD(\"cqg.rtd\", ,\"ContractData\",C247, \"PerCentNetLastTrade\",, \"T\")/100,\"\")","v":-7.5354020755585092E-3},{"$f":"RTD(\"cqg.rtd\", ,\"ContractData\", C247, \"T_CVol\",, \"T\")","v":675646},247,{"$f":"IFERROR(RANK($J247,$J$1:J$391)+COUNTIF($J$1:J247,J247)-1,\"\")","v":259},"S.US.NOW","S.US.MOH"]
["S.US.NRG",1,"S.US.NRG",{"$f":"RTD(\"cqg.rtd\", ,\"ContractData\",C248, \"LongDescription\",, \"T\")","v":"NRG Energy Inc"},null,null,null,{"$f":"RTD(\"cqg.rtd\", ,\"ContractData\",C248, \"LastTradeToday\",, \"T\")","v":117.63},{"$f":"RTD(\"cqg.rtd\", ,\"ContractData\",C248, \"NetLastTradeToday\",, \"T\")","v":1.4000000000000001},{"$f":"IFERROR(RTD(\"cqg.rtd\", ,\"ContractData\",C248, \"PerCentNetLastTrade\",, \"T\")/100,\"\")","v":1.2045083025036565E-2},{"$f":"RTD(\"cqg.rtd\", ,\"ContractData\", C248, \"T_CVol\",, \"T\")","v":1748848},248,{"$f":"IFERROR(RANK($J248,$J$1:J$391)+COUNTIF($J$1:J248,J248)-1,\"\")","v":38},"S.US.NRG","S.US.ELF"]
["S.US.NTAP",0,"S.US.NTAP",{"$f":"RTD(\"cqg.rtd\", ,\"ContractData\",C249, \"LongDescription\",, \"T\")","v":"NetApp inc."},null,null,null,{"$f":"RTD(\"cqg.rtd\", ,\"ContractData\",C249, \"LastTradeToday\",, \"T\")","v":92.95},{"$f":"RTD(\"cqg.rtd\", ,\"ContractData\",C249, \"NetLastTradeToday\",, \"T\")","v":-0.14000000000000001},{"$f":"IFERROR(RTD(\"cqg.rtd\", ,\"ContractData\",C249, \"PerCentNetLastTrade\",, \"T\")/100,\"\")","v":-1.5039209367278977E-3},{"$f":"RTD(\"cqg.rtd\", ,\"ContractData\", C249, \"T_CVol\",, \"T\")","v":863555},249,{"$f":"IFERROR(RANK($J249,$J$1:J$391)+COUNTIF($J$1:J249,J249)-1,\"\")","v":161},"S.US.NTAP","S.US.MSCI"]
["S.US.NTNX",1,"S.US.NTNX",{"$f":"RTD(\"cqg.rtd\", ,\"ContractData\",C250, \"LongDescription\",, \"T\")","v":"Nutanix, Inc. Class A"},null,null,null,{"$f":"RTD(\"cqg.rtd\", ,\"ContractData\",C250, \"LastTradeToday\",, \"T\")","v":72.53},{"$f":"RTD(\"cqg.rtd\", ,\"ContractData\",C250, \"NetLastTradeToday\",, \"T\")","v":0.1},{"$f":"IFERROR(RTD(\"cqg.rtd\", ,\"ContractData\",C250, \"PerCentNetLastTrade\",, \"T\")/100,\"\")","v":1.3806433798149939E-3},{"$f":"RTD(\"cqg.rtd\", ,\"ContractData\", C250, \"T_CVol\",, \"T\")","v":591743},250,{"$f":"IFERROR(RANK($J250,$J$1:J$391)+COUNTIF($J$1:J250,J250)-1,\"\")","v":113},"S.US.NTNX","S.US.COIN"]
["S.US.NTRA",0,"S.US.NTRA",{"$f":"RTD(\"cqg.rtd\", ,\"ContractData\",C251, \"LongDescription\",, \"T\")","v":"Natera, Inc."},null,null,null,{"$f":"RTD(\"cqg.rtd\", ,\"ContractData\",C251, \"LastTradeToday\",, \"T\")","v":155.97999999999999},{"$f":"RTD(\"cqg.rtd\", ,\"ContractData\",C251, \"NetLastTradeToday\",, \"T\")","v":-1.4000000000000001},{"$f":"IFERROR(RTD(\"cqg.rtd\", ,\"ContractData\",C251, \"PerCentNetLastTrade\",, \"T\")/100,\"\")","v":-8.8956665395857164E-3},{"$f":"RTD(\"cqg.rtd\", ,\"ContractData\", C251, \"T_CVol\",, \"T\")","v":884678},251,{"$f":"IFERROR(RANK($J251,$J$1:J$391)+COUNTIF($J$1:J251,J251)-1,\"\")","v":273},"S.US.NTRA","S.US.AMP"]
["S.US.NU",0,"S.US.NU",{"$f":"RTD(\"cqg.rtd\", ,\"ContractData\",C252, \"LongDescription\",, \"T\")","v":"Nu Holdings Ltd."},null,null,null,{"$f":"RTD(\"cqg.rtd\", ,\"ContractData\",C252, \"LastTradeToday\",, \"T\")","v":12.46},{"$f":"RTD(\"cqg.rtd\", ,\"ContractData\",C252, \"NetLastTradeToday\",, \"T\")","v":-0.01},{"$f":"IFERROR(RTD(\"cqg.rtd\", ,\"ContractData\",C252, \"PerCentNetLastTrade\",, \"T\")/100,\"\")","v":-8.0192461908580592E-4},{"$f":"RTD(\"cqg.rtd\", ,\"ContractData\", C252, \"T_CVol\",, \"T\")","v":33086479},252,{"$f":"IFERROR(RANK($J252,$J$1:J$391)+COUNTIF($J$1:J252,J252)-1,\"\")","v":148},"S.US.NU","S.US.SOFI"]
["S.US.NVDA",1,"S.US.NVDA",{"$f":"RTD(\"cqg.rtd\", ,\"ContractData\",C253, \"LongDescription\",, \"T\")","v":"NVIDIA Corp"},null,null,null,{"$f":"RTD(\"cqg.rtd\", ,\"ContractData\",C253, \"LastTradeToday\",, \"T\")","v":114.25},{"$f":"RTD(\"cqg.rtd\", ,\"ContractData\",C253, \"NetLastTradeToday\",, \"T\")","v":0.43},{"$f":"IFERROR(RTD(\"cqg.rtd\", ,\"ContractData\",C253, \"PerCentNetLastTrade\",, \"T\")/100,\"\")","v":3.7778949218063608E-3},{"$f":"RTD(\"cqg.rtd\", ,\"ContractData\", C253, \"T_CVol\",, \"T\")","v":119849548},253,{"$f":"IFERROR(RANK($J253,$J$1:J$391)+COUNTIF($J$1:J253,J253)-1,\"\")","v":90},"S.US.NVDA","S.US.MRVL"]
["S.US.NXST",0,"S.US.NXST",{"$f":"RTD(\"cqg.rtd\", ,\"ContractData\",C254, \"LongDescription\",, \"T\")","v":"Nexstar Media Group, Inc."},null,null,null,{"$f":"RTD(\"cqg.rtd\", ,\"ContractData\",C254, \"LastTradeToday\",, \"T\")","v":154.71},{"$f":"RTD(\"cqg.rtd\", ,\"ContractData\",C254, \"NetLastTradeToday\",, \"T\")","v":-0.66},{"$f":"IFERROR(RTD(\"cqg.rtd\", ,\"ContractData\",C254, \"PerCentNetLastTrade\",, \"T\")/100,\"\")","v":-4.2479243097123002E-3},{"$f":"RTD(\"cqg.rtd\", ,\"ContractData\", C254, \"T_CVol\",, \"T\")","v":246465},254,{"$f":"IFERROR(RANK($J254,$J$1:J$391)+COUNTIF($J$1:J254,J254)-1,\"\")","v":209},"S.US.NXST","S.US.S"]
["S.US.ODFL",0,"S.US.ODFL",{"$f":"RTD(\"cqg.rtd\", ,\"ContractData\",C255, \"LongDescription\",, \"T\")","v":"Old Dominion Freight Line Inc"},null,null,null,{"$f":"RTD(\"cqg.rtd\", ,\"ContractData\",C255, \"LastTradeToday\",, \"T\")","v":153.74},{"$f":"RTD(\"cqg.rtd\", ,\"ContractData\",C255, \"NetLastTradeToday\",, \"T\")","v":-2.4900000000000002},{"$f":"IFERROR(RTD(\"cqg.rtd\", ,\"ContractData\",C255, \"PerCentNetLastTrade\",, \"T\")/100,\"\")","v":-1.5938040069128849E-2},{"$f":"RTD(\"cqg.rtd\", ,\"ContractData\", C255, \"T_CVol\",, \"T\")","v":486846},255,{"$f":"IFERROR(RANK($J255,$J$1:J$391)+COUNTIF($J$1:J255,J255)-1,\"\")","v":321},"S.US.ODFL","S.US.HLI"]
["S.US.OKTA",1,"S.US.OKTA",{"$f":"RTD(\"cqg.rtd\", ,\"ContractData\",C256, \"LongDescription\",, \"T\")","v":"Okta, Inc. Cl A"},null,null,null,{"$f":"RTD(\"cqg.rtd\", ,\"ContractData\",C256, \"LastTradeToday\",, \"T\")","v":117.64},{"$f":"RTD(\"cqg.rtd\", ,\"ContractData\",C256, \"NetLastTradeToday\",, \"T\")","v":1.93},{"$f":"IFERROR(RTD(\"cqg.rtd\", ,\"ContractData\",C256, \"PerCentNetLastTrade\",, \"T\")/100,\"\")","v":1.6679630109757152E-2},{"$f":"RTD(\"cqg.rtd\", ,\"ContractData\", C256, \"T_CVol\",, \"T\")","v":1977905},256,{"$f":"IFERROR(RANK($J256,$J$1:J$391)+COUNTIF($J$1:J256,J256)-1,\"\")","v":21},"S.US.OKTA","S.US.SYY"]
["S.US.OLED",0,"S.US.OLED",{"$f":"RTD(\"cqg.rtd\", ,\"ContractData\",C257, \"LongDescription\",, \"T\")","v":"Universal Display Corporation"},null,null,null,{"$f":"RTD(\"cqg.rtd\", ,\"ContractData\",C257, \"LastTradeToday\",, \"T\")","v":140.65},{"$f":"RTD(\"cqg.rtd\", ,\"ContractData\",C257, \"NetLastTradeToday\",, \"T\")","v":-2.57},{"$f":"IFERROR(RTD(\"cqg.rtd\", ,\"ContractData\",C257, \"PerCentNetLastTrade\",, \"T\")/100,\"\")","v":-1.7944421170227622E-2},{"$f":"RTD(\"cqg.rtd\", ,\"ContractData\", C257, \"T_CVol\",, \"T\")","v":441636},257,{"$f":"IFERROR(RANK($J257,$J$1:J$391)+COUNTIF($J$1:J257,J257)-1,\"\")","v":334},"S.US.OLED",{"$f":"VLOOKUP($L257,$M$1:$N$391,2,FALSE)","v":"S.US.MLM"}]
["S.US.ONTO",{"$f":"IF(J258>0,1,0)","v":0},"S.US.ONTO",{"$f":"RTD(\"cqg.rtd\", ,\"ContractData\",C258, \"LongDescription\",, \"T\")","v":"Onto Innovation Inc."},null,null,null,{"$f":"RTD(\"cqg.rtd\", ,\"ContractData\",C258, \"LastTradeToday\",, \"T\")","v":123.31},{"$f":"RTD(\"cqg.rtd\", ,\"ContractData\",C258, \"NetLastTradeToday\",, \"T\")","v":-1.08},{"$f":"IFERROR(RTD(\"cqg.rtd\", ,\"ContractData\",C258, \"PerCentNetLastTrade\",, \"T\")/100,\"\")","v":-8.6823699654313049E-3},{"$f":"RTD(\"cqg.rtd\", ,\"ContractData\", C258, \"T_CVol\",, \"T\")","v":265703},258,{"$f":"IFERROR(RANK($J258,$J$1:J$391)+COUNTIF($J$1:J258,J258)-1,\"\")","v":271},"S.US.ONTO","S.US.MS"]
["S.US.ORCL",0,"S.US.ORCL",{"$f":"RTD(\"cqg.rtd\", ,\"ContractData\",C259, \"LongDescription\",, \"T\")","v":"Oracle Corporation"},null,null,null,{"$f":"RTD(\"cqg.rtd\", ,\"ContractData\",C259, \"LastTradeToday\",, \"T\")","v":148.04},{"$f":"RTD(\"cqg.rtd\", ,\"ContractData\",C259, \"NetLastTradeToday\",, \"T\")","v":-1.25},{"$f":"IFERROR(RTD(\"cqg.rtd\", ,\"ContractData\",C259, \"PerCentNetLastTrade\",, \"T\")/100,\"\")","v":-8.3729653694152324E-3},{"$f":"RTD(\"cqg.rtd\", ,\"ContractData\", C259, \"T_CVol\",, \"T\")","v":3112872},{"$f":"L258+1","v":259},{"$f":"IFERROR(RANK($J259,$J$1:J$391)+COUNTIF($J$1:J259,J259)-1,\"\")","v":269},"S.US.ORCL","S.US.NOW"]
["S.US.ORLY",0,"S.US.ORLY",{"$f":"RTD(\"cqg.rtd\", ,\"ContractData\",C260, \"LongDescription\",, \"T\")","v":"OReilly Automotive Inc"},null,null,null,{"$f":"RTD(\"cqg.rtd\", ,\"ContractData\",C260, \"LastTradeToday\",, \"T\")","v":1384.59},{"$f":"RTD(\"cqg.rtd\", ,\"ContractData\",C260, \"NetLastTradeToday\",, \"T\")","v":-2.5500000000000003},{"$f":"IFERROR(RTD(\"cqg.rtd\", ,\"ContractData\",C260, \"PerCentNetLastTrade\",, \"T\")/100,\"\")","v":-1.8383148060037199E-3},{"$f":"RTD(\"cqg.rtd\", ,\"ContractData\", C260, \"T_CVol\",, \"T\")","v":114174},260,{"$f":"IFERROR(RANK($J260,$J$1:J$391)+COUNTIF($J$1:J260,J260)-1,\"\")","v":166},"S.US.ORLY","S.US.H"]
["S.US.OWL",0,"S.US.OWL",{"$f":"RTD(\"cqg.rtd\", ,\"ContractData\",C261, \"LongDescription\",, \"T\")","v":"Blue Owl Capital Inc."},null,null,null,{"$f":"RTD(\"cqg.rtd\", ,\"ContractData\",C261, \"LastTradeToday\",, \"T\")","v":17.97},{"$f":"RTD(\"cqg.rtd\", ,\"ContractData\",C261, \"NetLastTradeToday\",, \"T\")","v":-0.49},{"$f":"IFERROR(RTD(\"cqg.rtd\", ,\"ContractData\",C261, \"PerCentNetLastTrade\",, \"T\")/100,\"\")","v":-2.654387865655471E-2},{"$f":"RTD(\"cqg.rtd\", ,\"ContractData\", C261, \"T_CVol\",, \"T\")","v":6347571},261,{"$f":"IFERROR(RANK($J261,$J$1:J$391)+COUNTIF($J$1:J261,J261)-1,\"\")","v":351},"S.US.OWL","S.US.AMD"]
["S.US.PANW",1,"S.US.PANW",{"$f":"RTD(\"cqg.rtd\", ,\"ContractData\",C262, \"LongDescription\",, \"T\")","v":"Palo Alto Networks, Inc."},null,null,null,{"$f":"RTD(\"cqg.rtd\", ,\"ContractData\",C262, \"LastTradeToday\",, \"T\")","v":189.39000000000001},{"$f":"RTD(\"cqg.rtd\", ,\"ContractData\",C262, \"NetLastTradeToday\",, \"T\")","v":1.26},{"$f":"IFERROR(RTD(\"cqg.rtd\", ,\"ContractData\",C262, \"PerCentNetLastTrade\",, \"T\")/100,\"\")","v":6.6974964120554937E-3},{"$f":"RTD(\"cqg.rtd\", ,\"ContractData\", C262, \"T_CVol\",, \"T\")","v":1628424},262,{"$f":"IFERROR(RANK($J262,$J$1:J$391)+COUNTIF($J$1:J262,J262)-1,\"\")","v":70},"S.US.PANW","S.US.WEX"]
["S.US.PATH",1,"S.US.PATH",{"$f":"RTD(\"cqg.rtd\", ,\"ContractData\",C263, \"LongDescription\",, \"T\")","v":"Uipath, Inc."},null,null,null,{"$f":"RTD(\"cqg.rtd\", ,\"ContractData\",C263, \"LastTradeToday\",, \"T\")","v":11.89},{"$f":"RTD(\"cqg.rtd\", ,\"ContractData\",C263, \"NetLastTradeToday\",, \"T\")","v":0.12},{"$f":"IFERROR(RTD(\"cqg.rtd\", ,\"ContractData\",C263, \"PerCentNetLastTrade\",, \"T\")/100,\"\")","v":1.0195412064570943E-2},{"$f":"RTD(\"cqg.rtd\", ,\"ContractData\", C263, \"T_CVol\",, \"T\")","v":4905149},263,{"$f":"IFERROR(RANK($J263,$J$1:J$391)+COUNTIF($J$1:J263,J263)-1,\"\")","v":44},"S.US.PATH","S.US.HLT"]
["S.US.PAYC",1,"S.US.PAYC",{"$f":"RTD(\"cqg.rtd\", ,\"ContractData\",C264, \"LongDescription\",, \"T\")","v":"Paycom Software, Inc."},null,null,null,{"$f":"RTD(\"cqg.rtd\", ,\"ContractData\",C264, \"LastTradeToday\",, \"T\")","v":227.9},{"$f":"RTD(\"cqg.rtd\", ,\"ContractData\",C264, \"NetLastTradeToday\",, \"T\")","v":0.62},{"$f":"IFERROR(RTD(\"cqg.rtd\", ,\"ContractData\",C264, \"PerCentNetLastTrade\",, \"T\")/100,\"\")","v":2.7279127067933828E-3},{"$f":"RTD(\"cqg.rtd\", ,\"ContractData\", C264, \"T_CVol\",, \"T\")","v":356958},264,{"$f":"IFERROR(RANK($J264,$J$1:J$391)+COUNTIF($J$1:J264,J264)-1,\"\")","v":101},"S.US.PAYC","S.US.ECL"]
["S.US.PAYX",0,"S.US.PAYX",{"$f":"RTD(\"cqg.rtd\", ,\"ContractData\",C265, \"LongDescription\",, \"T\")","v":"Paychex Inc"},null,null,null,{"$f":"RTD(\"cqg.rtd\", ,\"ContractData\",C265, \"LastTradeToday\",, \"T\")","v":149.30000000000001},{"$f":"RTD(\"cqg.rtd\", ,\"ContractData\",C265, \"NetLastTradeToday\",, \"T\")","v":-0.15},{"$f":"IFERROR(RTD(\"cqg.rtd\", ,\"ContractData\",C265, \"PerCentNetLastTrade\",, \"T\")/100,\"\")","v":-1.0036801605888257E-3},{"$f":"RTD(\"cqg.rtd\", ,\"ContractData\", C265, \"T_CVol\",, \"T\")","v":462992},265,{"$f":"IFERROR(RANK($J265,$J$1:J$391)+COUNTIF($J$1:J265,J265)-1,\"\")","v":152},"S.US.PAYX","S.US.HEIA"]
["S.US.PCOR",0,"S.US.PCOR",{"$f":"RTD(\"cqg.rtd\", ,\"ContractData\",C266, \"LongDescription\",, \"T\")","v":"PROCORE TECHNOLOGIES, INC."},null,null,null,{"$f":"RTD(\"cqg.rtd\", ,\"ContractData\",C266, \"LastTradeToday\",, \"T\")","v":64.61},{"$f":"RTD(\"cqg.rtd\", ,\"ContractData\",C266, \"NetLastTradeToday\",, \"T\")","v":-0.04},{"$f":"IFERROR(RTD(\"cqg.rtd\", ,\"ContractData\",C266, \"PerCentNetLastTrade\",, \"T\")/100,\"\")","v":-6.1871616395978342E-4},{"$f":"RTD(\"cqg.rtd\", ,\"ContractData\", C266, \"T_CVol\",, \"T\")","v":611060},266,{"$f":"IFERROR(RANK($J266,$J$1:J$391)+COUNTIF($J$1:J266,J266)-1,\"\")","v":143},"S.US.PCOR","S.US.PTC"]
["S.US.PCTY",0,"S.US.PCTY",{"$f":"RTD(\"cqg.rtd\", ,\"ContractData\",C267, \"LongDescription\",, \"T\")","v":"Paylocity Holding Corporation"},null,null,null,{"$f":"RTD(\"cqg.rtd\", ,\"ContractData\",C267, \"LastTradeToday\",, \"T\")","v":187.31},{"$f":"RTD(\"cqg.rtd\", ,\"ContractData\",C267, \"NetLastTradeToday\",, \"T\")","v":-0.73},{"$f":"IFERROR(RTD(\"cqg.rtd\", ,\"ContractData\",C267, \"PerCentNetLastTrade\",, \"T\")/100,\"\")","v":-3.8821527334609658E-3},{"$f":"RTD(\"cqg.rtd\", ,\"ContractData\", C267, \"T_CVol\",, \"T\")","v":143981},267,{"$f":"IFERROR(RANK($J267,$J$1:J$391)+COUNTIF($J$1:J267,J267)-1,\"\")","v":199},"S.US.PCTY","S.US.AZO"]
["S.US.PEGA",0,"S.US.PEGA",{"$f":"RTD(\"cqg.rtd\", ,\"ContractData\",C268, \"LongDescription\",, \"T\")","v":"Pegasystems Inc"},null,null,null,{"$f":"RTD(\"cqg.rtd\", ,\"ContractData\",C268, \"LastTradeToday\",, \"T\")","v":91.52},{"$f":"RTD(\"cqg.rtd\", ,\"ContractData\",C268, \"NetLastTradeToday\",, \"T\")","v":-1.22},{"$f":"IFERROR(RTD(\"cqg.rtd\", ,\"ContractData\",C268, \"PerCentNetLastTrade\",, \"T\")/100,\"\")","v":-1.3155057149018762E-2},{"$f":"RTD(\"cqg.rtd\", ,\"ContractData\", C268, \"T_CVol\",, \"T\")","v":401857},268,{"$f":"IFERROR(RANK($J268,$J$1:J$391)+COUNTIF($J$1:J268,J268)-1,\"\")","v":306},"S.US.PEGA","S.US.FIX"]
["S.US.PEN",1,"S.US.PEN",{"$f":"RTD(\"cqg.rtd\", ,\"ContractData\",C269, \"LongDescription\",, \"T\")","v":"Penumbra, Inc."},null,null,null,{"$f":"RTD(\"cqg.rtd\", ,\"ContractData\",C269, \"LastTradeToday\",, \"T\")","v":293.58},{"$f":"RTD(\"cqg.rtd\", ,\"ContractData\",C269, \"NetLastTradeToday\",, \"T\")","v":0.45},{"$f":"IFERROR(RTD(\"cqg.rtd\", ,\"ContractData\",C269, \"PerCentNetLastTrade\",, \"T\")/100,\"\")","v":1.5351550506601166E-3},{"$f":"RTD(\"cqg.rtd\", ,\"ContractData\", C269, \"T_CVol\",, \"T\")","v":185136},269,{"$f":"IFERROR(RANK($J269,$J$1:J$391)+COUNTIF($J$1:J269,J269)-1,\"\")","v":109},"S.US.PEN","S.US.ORCL"]
["S.US.PEP",0,"S.US.PEP",{"$f":"RTD(\"cqg.rtd\", ,\"ContractData\",C270, \"LongDescription\",, \"T\")","v":"PepsiCo Inc"},null,null,null,{"$f":"RTD(\"cqg.rtd\", ,\"ContractData\",C270, \"LastTradeToday\",, \"T\")","v":130.77000000000001},{"$f":"RTD(\"cqg.rtd\", ,\"ContractData\",C270, \"NetLastTradeToday\",, \"T\")","v":-1.22},{"$f":"IFERROR(RTD(\"cqg.rtd\", ,\"ContractData\",C270, \"PerCentNetLastTrade\",, \"T\")/100,\"\")","v":-9.2431244791272068E-3},{"$f":"RTD(\"cqg.rtd\", ,\"ContractData\", C270, \"T_CVol\",, \"T\")","v":4463532},270,{"$f":"IFERROR(RANK($J270,$J$1:J$391)+COUNTIF($J$1:J270,J270)-1,\"\")","v":275},"S.US.PEP","S.US.URI"]
["S.US.PFGC",0,"S.US.PFGC",{"$f":"RTD(\"cqg.rtd\", ,\"ContractData\",C271, \"LongDescription\",, \"T\")","v":"Performance Food Group Co."},null,null,null,{"$f":"RTD(\"cqg.rtd\", ,\"ContractData\",C271, \"LastTradeToday\",, \"T\")","v":81.38},{"$f":"RTD(\"cqg.rtd\", ,\"ContractData\",C271, \"NetLastTradeToday\",, \"T\")","v":-1.24},{"$f":"IFERROR(RTD(\"cqg.rtd\", ,\"ContractData\",C271, \"PerCentNetLastTrade\",, \"T\")/100,\"\")","v":-1.5008472524812395E-2},{"$f":"RTD(\"cqg.rtd\", ,\"ContractData\", C271, \"T_CVol\",, \"T\")","v":1237279},271,{"$f":"IFERROR(RANK($J271,$J$1:J$391)+COUNTIF($J$1:J271,J271)-1,\"\")","v":316},"S.US.PFGC","S.US.ONTO"]
["S.US.PG",1,"S.US.PG",{"$f":"RTD(\"cqg.rtd\", ,\"ContractData\",C272, \"LongDescription\",, \"T\")","v":"Procter & Gamble Co"},null,null,null,{"$f":"RTD(\"cqg.rtd\", ,\"ContractData\",C272, \"LastTradeToday\",, \"T\")","v":159.47},{"$f":"RTD(\"cqg.rtd\", ,\"ContractData\",C272, \"NetLastTradeToday\",, \"T\")","v":0.64},{"$f":"IFERROR(RTD(\"cqg.rtd\", ,\"ContractData\",C272, \"PerCentNetLastTrade\",, \"T\")/100,\"\")","v":4.0294654662217464E-3},{"$f":"RTD(\"cqg.rtd\", ,\"ContractData\", C272, \"T_CVol\",, \"T\")","v":4069582},272,{"$f":"IFERROR(RANK($J272,$J$1:J$391)+COUNTIF($J$1:J272,J272)-1,\"\")","v":89},"S.US.PG","S.US.AAON"]
["S.US.PGR",1,"S.US.PGR",{"$f":"RTD(\"cqg.rtd\", ,\"ContractData\",C273, \"LongDescription\",, \"T\")","v":"Progressive Corp"},null,null,null,{"$f":"RTD(\"cqg.rtd\", ,\"ContractData\",C273, \"LastTradeToday\",, \"T\")","v":283.63},{"$f":"RTD(\"cqg.rtd\", ,\"ContractData\",C273, \"NetLastTradeToday\",, \"T\")","v":1.47},{"$f":"IFERROR(RTD(\"cqg.rtd\", ,\"ContractData\",C273, \"PerCentNetLastTrade\",, \"T\")/100,\"\")","v":5.2098100368585202E-3},{"$f":"RTD(\"cqg.rtd\", ,\"ContractData\", C273, \"T_CVol\",, \"T\")","v":866786},273,{"$f":"IFERROR(RANK($J273,$J$1:J$391)+COUNTIF($J$1:J273,J273)-1,\"\")","v":80},"S.US.PGR","S.US.NTRA"]
["S.US.PINS",0,"S.US.PINS",{"$f":"RTD(\"cqg.rtd\", ,\"ContractData\",C274, \"LongDescription\",, \"T\")","v":"Pinterest, Inc."},null,null,null,{"$f":"RTD(\"cqg.rtd\", ,\"ContractData\",C274, \"LastTradeToday\",, \"T\")","v":27.080000000000002},{"$f":"RTD(\"cqg.rtd\", ,\"ContractData\",C274, \"NetLastTradeToday\",, \"T\")","v":-0.4},{"$f":"IFERROR(RTD(\"cqg.rtd\", ,\"ContractData\",C274, \"PerCentNetLastTrade\",, \"T\")/100,\"\")","v":-1.4556040756914119E-2},{"$f":"RTD(\"cqg.rtd\", ,\"ContractData\", C274, \"T_CVol\",, \"T\")","v":6827171},274,{"$f":"IFERROR(RANK($J274,$J$1:J$391)+COUNTIF($J$1:J274,J274)-1,\"\")","v":312},"S.US.PINS","S.US.RPM"]
["S.US.PLNT",1,"S.US.PLNT",{"$f":"RTD(\"cqg.rtd\", ,\"ContractData\",C275, \"LongDescription\",, \"T\")","v":"Planet Fitness, Inc."},null,null,null,{"$f":"RTD(\"cqg.rtd\", ,\"ContractData\",C275, \"LastTradeToday\",, \"T\")","v":99.22},{"$f":"RTD(\"cqg.rtd\", ,\"ContractData\",C275, \"NetLastTradeToday\",, \"T\")","v":0.81},{"$f":"IFERROR(RTD(\"cqg.rtd\", ,\"ContractData\",C275, \"PerCentNetLastTrade\",, \"T\")/100,\"\")","v":8.2308708464586926E-3},{"$f":"RTD(\"cqg.rtd\", ,\"ContractData\", C275, \"T_CVol\",, \"T\")","v":889695},275,{"$f":"IFERROR(RANK($J275,$J$1:J$391)+COUNTIF($J$1:J275,J275)-1,\"\")","v":58},"S.US.PLNT","S.US.PEP"]
["S.US.PLTR",0,"S.US.PLTR",{"$f":"RTD(\"cqg.rtd\", ,\"ContractData\",C276, \"LongDescription\",, \"T\")","v":"Palantir Technologies Inc."},null,null,null,{"$f":"RTD(\"cqg.rtd\", ,\"ContractData\",C276, \"LastTradeToday\",, \"T\")","v":109.2},{"$f":"RTD(\"cqg.rtd\", ,\"ContractData\",C276, \"NetLastTradeToday\",, \"T\")","v":-14.57},{"$f":"IFERROR(RTD(\"cqg.rtd\", ,\"ContractData\",C276, \"PerCentNetLastTrade\",, \"T\")/100,\"\")","v":-0.11771834854972933},{"$f":"RTD(\"cqg.rtd\", ,\"ContractData\", C276, \"T_CVol\",, \"T\")","v":183384116},276,{"$f":"IFERROR(RANK($J276,$J$1:J$391)+COUNTIF($J$1:J276,J276)-1,\"\")","v":388},"S.US.PLTR","S.US.FWONK"]
["S.US.PODD",1,"S.US.PODD",{"$f":"RTD(\"cqg.rtd\", ,\"ContractData\",C277, \"LongDescription\",, \"T\")","v":"Insulet Corporation"},null,null,null,{"$f":"RTD(\"cqg.rtd\", ,\"ContractData\",C277, \"LastTradeToday\",, \"T\")","v":259.24},{"$f":"RTD(\"cqg.rtd\", ,\"ContractData\",C277, \"NetLastTradeToday\",, \"T\")","v":0.45},{"$f":"IFERROR(RTD(\"cqg.rtd\", ,\"ContractData\",C277, \"PerCentNetLastTrade\",, \"T\")/100,\"\")","v":1.7388616252559991E-3},{"$f":"RTD(\"cqg.rtd\", ,\"ContractData\", C277, \"T_CVol\",, \"T\")","v":359595},277,{"$f":"IFERROR(RANK($J277,$J$1:J$391)+COUNTIF($J$1:J277,J277)-1,\"\")","v":105},"S.US.PODD","S.US.WU"]
["S.US.POOL",0,"S.US.POOL",{"$f":"RTD(\"cqg.rtd\", ,\"ContractData\",C278, \"LongDescription\",, \"T\")","v":"Pool Corporation"},null,null,null,{"$f":"RTD(\"cqg.rtd\", ,\"ContractData\",C278, \"LastTradeToday\",, \"T\")","v":296.91000000000003},{"$f":"RTD(\"cqg.rtd\", ,\"ContractData\",C278, \"NetLastTradeToday\",, \"T\")","v":-9.33},{"$f":"IFERROR(RTD(\"cqg.rtd\", ,\"ContractData\",C278, \"PerCentNetLastTrade\",, \"T\")/100,\"\")","v":-3.0466300940438874E-2},{"$f":"RTD(\"cqg.rtd\", ,\"ContractData\", C278, \"T_CVol\",, \"T\")","v":287218},278,{"$f":"IFERROR(RANK($J278,$J$1:J$391)+COUNTIF($J$1:J278,J278)-1,\"\")","v":358},"S.US.POOL","S.US.FND"]
["S.US.PPC",0,"S.US.PPC",{"$f":"RTD(\"cqg.rtd\", ,\"ContractData\",C279, \"LongDescription\",, \"T\")","v":"Pilgrim's Pride Corporation"},null,null,null,{"$f":"RTD(\"cqg.rtd\", ,\"ContractData\",C279, \"LastTradeToday\",, \"T\")","v":46.62},{"$f":"RTD(\"cqg.rtd\", ,\"ContractData\",C279, \"NetLastTradeToday\",, \"T\")","v":-0.16},{"$f":"IFERROR(RTD(\"cqg.rtd\", ,\"ContractData\",C279, \"PerCentNetLastTrade\",, \"T\")/100,\"\")","v":-3.4202650705429673E-3},{"$f":"RTD(\"cqg.rtd\", ,\"ContractData\", C279, \"T_CVol\",, \"T\")","v":696787},279,{"$f":"IFERROR(RANK($J279,$J$1:J$391)+COUNTIF($J$1:J279,J279)-1,\"\")","v":193},"S.US.PPC","S.US.SYK"]
["S.US.PR",1,"S.US.PR",{"$f":"RTD(\"cqg.rtd\", ,\"ContractData\",C280, \"LongDescription\",, \"T\")","v":"Permian Resources Corporation Class A"},null,null,null,{"$f":"RTD(\"cqg.rtd\", ,\"ContractData\",C280, \"LastTradeToday\",, \"T\")","v":12.01},{"$f":"RTD(\"cqg.rtd\", ,\"ContractData\",C280, \"NetLastTradeToday\",, \"T\")","v":0.13},{"$f":"IFERROR(RTD(\"cqg.rtd\", ,\"ContractData\",C280, \"PerCentNetLastTrade\",, \"T\")/100,\"\")","v":1.0942760942760943E-2},{"$f":"RTD(\"cqg.rtd\", ,\"ContractData\", C280, \"T_CVol\",, \"T\")","v":8552890},280,{"$f":"IFERROR(RANK($J280,$J$1:J$391)+COUNTIF($J$1:J280,J280)-1,\"\")","v":43},"S.US.PR","S.US.LECO"]
["S.US.PSA",0,"S.US.PSA",{"$f":"RTD(\"cqg.rtd\", ,\"ContractData\",C281, \"LongDescription\",, \"T\")","v":"Public Storage Inc"},null,null,null,{"$f":"RTD(\"cqg.rtd\", ,\"ContractData\",C281, \"LastTradeToday\",, \"T\")","v":299.08},{"$f":"RTD(\"cqg.rtd\", ,\"ContractData\",C281, \"NetLastTradeToday\",, \"T\")","v":-1.26},{"$f":"IFERROR(RTD(\"cqg.rtd\", ,\"ContractData\",C281, \"PerCentNetLastTrade\",, \"T\")/100,\"\")","v":-4.1952453885596326E-3},{"$f":"RTD(\"cqg.rtd\", ,\"ContractData\", C281, \"T_CVol\",, \"T\")","v":328182},281,{"$f":"IFERROR(RANK($J281,$J$1:J$391)+COUNTIF($J$1:J281,J281)-1,\"\")","v":206},"S.US.PSA","S.US.XPO"]
["S.US.PSTG",1,"S.US.PSTG",{"$f":"RTD(\"cqg.rtd\", ,\"ContractData\",C282, \"LongDescription\",, \"T\")","v":"Pure Storage, Inc."},null,null,null,{"$f":"RTD(\"cqg.rtd\", ,\"ContractData\",C282, \"LastTradeToday\",, \"T\")","v":47.980000000000004},{"$f":"RTD(\"cqg.rtd\", ,\"ContractData\",C282, \"NetLastTradeToday\",, \"T\")","v":0.4},{"$f":"IFERROR(RTD(\"cqg.rtd\", ,\"ContractData\",C282, \"PerCentNetLastTrade\",, \"T\")/100,\"\")","v":8.4068936527952921E-3},{"$f":"RTD(\"cqg.rtd\", ,\"ContractData\", C282, \"T_CVol\",, \"T\")","v":1861590},282,{"$f":"IFERROR(RANK($J282,$J$1:J$391)+COUNTIF($J$1:J282,J282)-1,\"\")","v":56},"S.US.PSTG","S.US.FTNT"]
["S.US.PTC",0,"S.US.PTC",{"$f":"RTD(\"cqg.rtd\", ,\"ContractData\",C283, \"LongDescription\",, \"T\")","v":"PTC Inc"},null,null,null,{"$f":"RTD(\"cqg.rtd\", ,\"ContractData\",C283, \"LastTradeToday\",, \"T\")","v":160.04},{"$f":"RTD(\"cqg.rtd\", ,\"ContractData\",C283, \"NetLastTradeToday\",, \"T\")","v":-1.29},{"$f":"IFERROR(RTD(\"cqg.rtd\", ,\"ContractData\",C283, \"PerCentNetLastTrade\",, \"T\")/100,\"\")","v":-7.9960329758879314E-3},{"$f":"RTD(\"cqg.rtd\", ,\"ContractData\", C283, \"T_CVol\",, \"T\")","v":459521},283,{"$f":"IFERROR(RANK($J283,$J$1:J$391)+COUNTIF($J$1:J283,J283)-1,\"\")","v":266},"S.US.PTC","S.US.ALNY"]
["S.US.PWR",0,"S.US.PWR",{"$f":"RTD(\"cqg.rtd\", ,\"ContractData\",C284, \"LongDescription\",, \"T\")","v":"Quanta Services Inc"},null,null,null,{"$f":"RTD(\"cqg.rtd\", ,\"ContractData\",C284, \"LastTradeToday\",, \"T\")","v":318.61},{"$f":"RTD(\"cqg.rtd\", ,\"ContractData\",C284, \"NetLastTradeToday\",, \"T\")","v":-4.01},{"$f":"IFERROR(RTD(\"cqg.rtd\", ,\"ContractData\",C284, \"PerCentNetLastTrade\",, \"T\")/100,\"\")","v":-1.2429483603000432E-2},{"$f":"RTD(\"cqg.rtd\", ,\"ContractData\", C284, \"T_CVol\",, \"T\")","v":658162},284,{"$f":"IFERROR(RANK($J284,$J$1:J$391)+COUNTIF($J$1:J284,J284)-1,\"\")","v":299},"S.US.PWR","S.US.TOST"]
["S.US.QCOM",1,"S.US.QCOM",{"$f":"RTD(\"cqg.rtd\", ,\"ContractData\",C285, \"LongDescription\",, \"T\")","v":"QUALCOMM Inc"},null,null,null,{"$f":"RTD(\"cqg.rtd\", ,\"ContractData\",C285, \"LastTradeToday\",, \"T\")","v":140.16},{"$f":"RTD(\"cqg.rtd\", ,\"ContractData\",C285, \"NetLastTradeToday\",, \"T\")","v":0.72},{"$f":"IFERROR(RTD(\"cqg.rtd\", ,\"ContractData\",C285, \"PerCentNetLastTrade\",, \"T\")/100,\"\")","v":5.1635111876075735E-3},{"$f":"RTD(\"cqg.rtd\", ,\"ContractData\", C285, \"T_CVol\",, \"T\")","v":4260496},285,{"$f":"IFERROR(RANK($J285,$J$1:J$391)+COUNTIF($J$1:J285,J285)-1,\"\")","v":81},"S.US.QCOM","S.US.BROS"]
["S.US.RARE",0,"S.US.RARE",{"$f":"RTD(\"cqg.rtd\", ,\"ContractData\",C286, \"LongDescription\",, \"T\")","v":"Ultragenyx Pharmaceutical Inc."},null,null,null,{"$f":"RTD(\"cqg.rtd\", ,\"ContractData\",C286, \"LastTradeToday\",, \"T\")","v":35.130000000000003},{"$f":"RTD(\"cqg.rtd\", ,\"ContractData\",C286, \"NetLastTradeToday\",, \"T\")","v":-3.74},{"$f":"IFERROR(RTD(\"cqg.rtd\", ,\"ContractData\",C286, \"PerCentNetLastTrade\",, \"T\")/100,\"\")","v":-9.6218163107795227E-2},{"$f":"RTD(\"cqg.rtd\", ,\"ContractData\", C286, \"T_CVol\",, \"T\")","v":926171},286,{"$f":"IFERROR(RANK($J286,$J$1:J$391)+COUNTIF($J$1:J286,J286)-1,\"\")","v":386},"S.US.RARE","S.US.DECK"]
["S.US.RBLX",0,"S.US.RBLX",{"$f":"RTD(\"cqg.rtd\", ,\"ContractData\",C287, \"LongDescription\",, \"T\")","v":"Roblox Corp"},null,null,null,{"$f":"RTD(\"cqg.rtd\", ,\"ContractData\",C287, \"LastTradeToday\",, \"T\")","v":70.53},{"$f":"RTD(\"cqg.rtd\", ,\"ContractData\",C287, \"NetLastTradeToday\",, \"T\")","v":-1.29},{"$f":"IFERROR(RTD(\"cqg.rtd\", ,\"ContractData\",C287, \"PerCentNetLastTrade\",, \"T\")/100,\"\")","v":-1.796157059314954E-2},{"$f":"RTD(\"cqg.rtd\", ,\"ContractData\", C287, \"T_CVol\",, \"T\")","v":8487896},287,{"$f":"IFERROR(RANK($J287,$J$1:J$391)+COUNTIF($J$1:J287,J287)-1,\"\")","v":335},"S.US.RBLX","S.US.SARO"]
["S.US.RCL",0,"S.US.RCL",{"$f":"RTD(\"cqg.rtd\", ,\"ContractData\",C288, \"LongDescription\",, \"T\")","v":"Royal Caribbean Group"},null,null,null,{"$f":"RTD(\"cqg.rtd\", ,\"ContractData\",C288, \"LastTradeToday\",, \"T\")","v":225.8},{"$f":"RTD(\"cqg.rtd\", ,\"ContractData\",C288, \"NetLastTradeToday\",, \"T\")","v":-2.95},{"$f":"IFERROR(RTD(\"cqg.rtd\", ,\"ContractData\",C288, \"PerCentNetLastTrade\",, \"T\")/100,\"\")","v":-1.2896174863387979E-2},{"$f":"RTD(\"cqg.rtd\", ,\"ContractData\", C288, \"T_CVol\",, \"T\")","v":895614},288,{"$f":"IFERROR(RANK($J288,$J$1:J$391)+COUNTIF($J$1:J288,J288)-1,\"\")","v":302},"S.US.RCL","S.US.SAIA"]
["S.US.REGN",0,"S.US.REGN",{"$f":"RTD(\"cqg.rtd\", ,\"ContractData\",C289, \"LongDescription\",, \"T\")","v":"Regeneron Pharm Inc"},null,null,null,{"$f":"RTD(\"cqg.rtd\", ,\"ContractData\",C289, \"LastTradeToday\",, \"T\")","v":563.6},{"$f":"RTD(\"cqg.rtd\", ,\"ContractData\",C289, \"NetLastTradeToday\",, \"T\")","v":-39.980000000000004},{"$f":"IFERROR(RTD(\"cqg.rtd\", ,\"ContractData\",C289, \"PerCentNetLastTrade\",, \"T\")/100,\"\")","v":-6.6238112594850726E-2},{"$f":"RTD(\"cqg.rtd\", ,\"ContractData\", C289, \"T_CVol\",, \"T\")","v":964984},289,{"$f":"IFERROR(RANK($J289,$J$1:J$391)+COUNTIF($J$1:J289,J289)-1,\"\")","v":381},"S.US.REGN","S.US.JLL"]
["S.US.RGEN",0,"S.US.RGEN",{"$f":"RTD(\"cqg.rtd\", ,\"ContractData\",C290, \"LongDescription\",, \"T\")","v":"Repligen Corp"},null,null,null,{"$f":"RTD(\"cqg.rtd\", ,\"ContractData\",C290, \"LastTradeToday\",, \"T\")","v":132.19999999999999},{"$f":"RTD(\"cqg.rtd\", ,\"ContractData\",C290, \"NetLastTradeToday\",, \"T\")","v":-8.7200000000000006},{"$f":"IFERROR(RTD(\"cqg.rtd\", ,\"ContractData\",C290, \"PerCentNetLastTrade\",, \"T\")/100,\"\")","v":-6.1879080329264834E-2},{"$f":"RTD(\"cqg.rtd\", ,\"ContractData\", C290, \"T_CVol\",, \"T\")","v":720371},290,{"$f":"IFERROR(RANK($J290,$J$1:J$391)+COUNTIF($J$1:J290,J290)-1,\"\")","v":380},"S.US.RGEN","S.US.WING"]
["S.US.RH",0,"S.US.RH",{"$f":"RTD(\"cqg.rtd\", ,\"ContractData\",C291, \"LongDescription\",, \"T\")","v":"RH"},null,null,null,{"$f":"RTD(\"cqg.rtd\", ,\"ContractData\",C291, \"LastTradeToday\",, \"T\")","v":183.09},{"$f":"RTD(\"cqg.rtd\", ,\"ContractData\",C291, \"NetLastTradeToday\",, \"T\")","v":-3.22},{"$f":"IFERROR(RTD(\"cqg.rtd\", ,\"ContractData\",C291, \"PerCentNetLastTrade\",, \"T\")/100,\"\")","v":-1.728302291879126E-2},{"$f":"RTD(\"cqg.rtd\", ,\"ContractData\", C291, \"T_CVol\",, \"T\")","v":664442},291,{"$f":"IFERROR(RANK($J291,$J$1:J$391)+COUNTIF($J$1:J291,J291)-1,\"\")","v":328},"S.US.RH","S.US.LAZ"]
["S.US.RLI",1,"S.US.RLI",{"$f":"RTD(\"cqg.rtd\", ,\"ContractData\",C292, \"LongDescription\",, \"T\")","v":"RLI Corp"},null,null,null,{"$f":"RTD(\"cqg.rtd\", ,\"ContractData\",C292, \"LastTradeToday\",, \"T\")","v":74.680000000000007},{"$f":"RTD(\"cqg.rtd\", ,\"ContractData\",C292, \"NetLastTradeToday\",, \"T\")","v":0.3},{"$f":"IFERROR(RTD(\"cqg.rtd\", ,\"ContractData\",C292, \"PerCentNetLastTrade\",, \"T\")/100,\"\")","v":4.0333422963162143E-3},{"$f":"RTD(\"cqg.rtd\", ,\"ContractData\", C292, \"T_CVol\",, \"T\")","v":139317},292,{"$f":"IFERROR(RANK($J292,$J$1:J$391)+COUNTIF($J$1:J292,J292)-1,\"\")","v":88},"S.US.RLI","S.US.GS"]
["S.US.RMD",1,"S.US.RMD",{"$f":"RTD(\"cqg.rtd\", ,\"ContractData\",C293, \"LongDescription\",, \"T\")","v":"Resmed Inc"},null,null,null,{"$f":"RTD(\"cqg.rtd\", ,\"ContractData\",C293, \"LastTradeToday\",, \"T\")","v":241.89000000000001},{"$f":"RTD(\"cqg.rtd\", ,\"ContractData\",C293, \"NetLastTradeToday\",, \"T\")","v":1.23},{"$f":"IFERROR(RTD(\"cqg.rtd\", ,\"ContractData\",C293, \"PerCentNetLastTrade\",, \"T\")/100,\"\")","v":5.1109449015208173E-3},{"$f":"RTD(\"cqg.rtd\", ,\"ContractData\", C293, \"T_CVol\",, \"T\")","v":622057},293,{"$f":"IFERROR(RANK($J293,$J$1:J$391)+COUNTIF($J$1:J293,J293)-1,\"\")","v":82},"S.US.RMD","S.US.KLAC"]
["S.US.RNG",1,"S.US.RNG",{"$f":"RTD(\"cqg.rtd\", ,\"ContractData\",C294, \"LongDescription\",, \"T\")","v":"RingCentral Inc. Cls A"},null,null,null,{"$f":"RTD(\"cqg.rtd\", ,\"ContractData\",C294, \"LastTradeToday\",, \"T\")","v":25.96},{"$f":"RTD(\"cqg.rtd\", ,\"ContractData\",C294, \"NetLastTradeToday\",, \"T\")","v":0.22},{"$f":"IFERROR(RTD(\"cqg.rtd\", ,\"ContractData\",C294, \"PerCentNetLastTrade\",, \"T\")/100,\"\")","v":8.5470085470085461E-3},{"$f":"RTD(\"cqg.rtd\", ,\"ContractData\", C294, \"T_CVol\",, \"T\")","v":376422},294,{"$f":"IFERROR(RANK($J294,$J$1:J$391)+COUNTIF($J$1:J294,J294)-1,\"\")","v":54},"S.US.RNG","S.US.VRT"]
["S.US.ROK",0,"S.US.ROK",{"$f":"RTD(\"cqg.rtd\", ,\"ContractData\",C295, \"LongDescription\",, \"T\")","v":"Rockwell Automation Inc"},null,null,null,{"$f":"RTD(\"cqg.rtd\", ,\"ContractData\",C295, \"LastTradeToday\",, \"T\")","v":252.45000000000002},{"$f":"RTD(\"cqg.rtd\", ,\"ContractData\",C295, \"NetLastTradeToday\",, \"T\")","v":-1.3900000000000001},{"$f":"IFERROR(RTD(\"cqg.rtd\", ,\"ContractData\",C295, \"PerCentNetLastTrade\",, \"T\")/100,\"\")","v":-5.4758903246139301E-3},{"$f":"RTD(\"cqg.rtd\", ,\"ContractData\", C295, \"T_CVol\",, \"T\")","v":737549},295,{"$f":"IFERROR(RANK($J295,$J$1:J$391)+COUNTIF($J$1:J295,J295)-1,\"\")","v":237},{"$f":"C295","v":"S.US.ROK"},"S.US.UNP"]
["S.US.ROKU",0,"S.US.ROKU",{"$f":"RTD(\"cqg.rtd\", ,\"ContractData\",C296, \"LongDescription\",, \"T\")","v":"Roku, Inc."},null,null,null,{"$f":"RTD(\"cqg.rtd\", ,\"ContractData\",C296, \"LastTradeToday\",, \"T\")","v":60.26},{"$f":"RTD(\"cqg.rtd\", ,\"ContractData\",C296, \"NetLastTradeToday\",, \"T\")","v":-0.16},{"$f":"IFERROR(RTD(\"cqg.rtd\", ,\"ContractData\",C296, \"PerCentNetLastTrade\",, \"T\")/100,\"\")","v":-2.6481297583581596E-3},{"$f":"RTD(\"cqg.rtd\", ,\"ContractData\", C296, \"T_CVol\",, \"T\")","v":2655744},296,{"$f":"IFERROR(RANK($J296,$J$1:J$391)+COUNTIF($J$1:J296,J296)-1,\"\")","v":178},"S.US.ROKU","S.US.BX"]
["S.US.ROL",0,"S.US.ROL",{"$f":"RTD(\"cqg.rtd\", ,\"ContractData\",C297, \"LongDescription\",, \"T\")","v":"Rollins Inc"},null,null,null,{"$f":"RTD(\"cqg.rtd\", ,\"ContractData\",C297, \"LastTradeToday\",, \"T\")","v":56.870000000000005},{"$f":"RTD(\"cqg.rtd\", ,\"ContractData\",C297, \"NetLastTradeToday\",, \"T\")","v":-0.11},{"$f":"IFERROR(RTD(\"cqg.rtd\", ,\"ContractData\",C297, \"PerCentNetLastTrade\",, \"T\")/100,\"\")","v":-1.9305019305019305E-3},{"$f":"RTD(\"cqg.rtd\", ,\"ContractData\", C297, \"T_CVol\",, \"T\")","v":1511111},297,{"$f":"IFERROR(RANK($J297,$J$1:J$391)+COUNTIF($J$1:J297,J297)-1,\"\")","v":167},"S.US.ROL","S.US.ULTA"]
["S.US.ROST",1,"S.US.ROST",{"$f":"RTD(\"cqg.rtd\", ,\"ContractData\",C298, \"LongDescription\",, \"T\")","v":"Ross Stores Inc"},null,null,null,{"$f":"RTD(\"cqg.rtd\", ,\"ContractData\",C298, \"LastTradeToday\",, \"T\")","v":141.59},{"$f":"RTD(\"cqg.rtd\", ,\"ContractData\",C298, \"NetLastTradeToday\",, \"T\")","v":0.12},{"$f":"IFERROR(RTD(\"cqg.rtd\", ,\"ContractData\",C298, \"PerCentNetLastTrade\",, \"T\")/100,\"\")","v":8.4823637520322335E-4},{"$f":"RTD(\"cqg.rtd\", ,\"ContractData\", C298, \"T_CVol\",, \"T\")","v":889511},298,{"$f":"IFERROR(RANK($J298,$J$1:J$391)+COUNTIF($J$1:J298,J298)-1,\"\")","v":120},"S.US.ROST","S.US.WMS"]
["S.US.RPM",0,"S.US.RPM",{"$f":"RTD(\"cqg.rtd\", ,\"ContractData\",C299, \"LongDescription\",, \"T\")","v":"RPM Inc"},null,null,null,{"$f":"RTD(\"cqg.rtd\", ,\"ContractData\",C299, \"LastTradeToday\",, \"T\")","v":108.97},{"$f":"RTD(\"cqg.rtd\", ,\"ContractData\",C299, \"NetLastTradeToday\",, \"T\")","v":-1},{"$f":"IFERROR(RTD(\"cqg.rtd\", ,\"ContractData\",C299, \"PerCentNetLastTrade\",, \"T\")/100,\"\")","v":-9.0933891061198511E-3},{"$f":"RTD(\"cqg.rtd\", ,\"ContractData\", C299, \"T_CVol\",, \"T\")","v":504294},299,{"$f":"IFERROR(RANK($J299,$J$1:J$391)+COUNTIF($J$1:J299,J299)-1,\"\")","v":274},"S.US.RPM","S.US.PWR"]
["S.US.RYAN",1,"S.US.RYAN",{"$f":"RTD(\"cqg.rtd\", ,\"ContractData\",C300, \"LongDescription\",, \"T\")","v":"Ryan Specialty Group Holdings, Inc."},null,null,null,{"$f":"RTD(\"cqg.rtd\", ,\"ContractData\",C300, \"LastTradeToday\",, \"T\")","v":69.34},{"$f":"RTD(\"cqg.rtd\", ,\"ContractData\",C300, \"NetLastTradeToday\",, \"T\")","v":1.68},{"$f":"IFERROR(RTD(\"cqg.rtd\", ,\"ContractData\",C300, \"PerCentNetLastTrade\",, \"T\")/100,\"\")","v":2.4830032515518772E-2},{"$f":"RTD(\"cqg.rtd\", ,\"ContractData\", C300, \"T_CVol\",, \"T\")","v":712971},300,{"$f":"IFERROR(RANK($J300,$J$1:J$391)+COUNTIF($J$1:J300,J300)-1,\"\")","v":12},"S.US.RYAN","S.US.MNST"]
["S.US.S",0,"S.US.S",{"$f":"RTD(\"cqg.rtd\", ,\"ContractData\",C301, \"LongDescription\",, \"T\")","v":"SentinelOne, Inc."},null,null,null,{"$f":"RTD(\"cqg.rtd\", ,\"ContractData\",C301, \"LastTradeToday\",, \"T\")","v":18.77},{"$f":"RTD(\"cqg.rtd\", ,\"ContractData\",C301, \"NetLastTradeToday\",, \"T\")","v":-0.14000000000000001},{"$f":"IFERROR(RTD(\"cqg.rtd\", ,\"ContractData\",C301, \"PerCentNetLastTrade\",, \"T\")/100,\"\")","v":-7.4034902168164992E-3},{"$f":"RTD(\"cqg.rtd\", ,\"ContractData\", C301, \"T_CVol\",, \"T\")","v":2155694},301,{"$f":"IFERROR(RANK($J301,$J$1:J$391)+COUNTIF($J$1:J301,J301)-1,\"\")","v":254},"S.US.S","S.US.LYV"]
["S.US.SAIA",0,"S.US.SAIA",{"$f":"RTD(\"cqg.rtd\", ,\"ContractData\",C302, \"LongDescription\",, \"T\")","v":"Saia, Inc"},null,null,null,{"$f":"RTD(\"cqg.rtd\", ,\"ContractData\",C302, \"LastTradeToday\",, \"T\")","v":256.34000000000003},{"$f":"RTD(\"cqg.rtd\", ,\"ContractData\",C302, \"NetLastTradeToday\",, \"T\")","v":-2.81},{"$f":"IFERROR(RTD(\"cqg.rtd\", ,\"ContractData\",C302, \"PerCentNetLastTrade\",, \"T\")/100,\"\")","v":-1.0843141038008874E-2},{"$f":"RTD(\"cqg.rtd\", ,\"ContractData\", C302, \"T_CVol\",, \"T\")","v":306379},302,{"$f":"IFERROR(RANK($J302,$J$1:J$391)+COUNTIF($J$1:J302,J302)-1,\"\")","v":288},"S.US.SAIA","S.US.RCL"]
["S.US.SAM",0,"S.US.SAM",{"$f":"RTD(\"cqg.rtd\", ,\"ContractData\",C303, \"LongDescription\",, \"T\")","v":"Boston Beer Co"},null,null,null,{"$f":"RTD(\"cqg.rtd\", ,\"ContractData\",C303, \"LastTradeToday\",, \"T\")","v":242.02},{"$f":"RTD(\"cqg.rtd\", ,\"ContractData\",C303, \"NetLastTradeToday\",, \"T\")","v":-0.31},{"$f":"IFERROR(RTD(\"cqg.rtd\", ,\"ContractData\",C303, \"PerCentNetLastTrade\",, \"T\")/100,\"\")","v":-1.2792473073907481E-3},{"$f":"RTD(\"cqg.rtd\", ,\"ContractData\", C303, \"T_CVol\",, \"T\")","v":64738},303,{"$f":"IFERROR(RANK($J303,$J$1:J$391)+COUNTIF($J$1:J303,J303)-1,\"\")","v":156},"S.US.SAM","S.US.WSC"]
["S.US.SARO",0,"S.US.SARO",{"$f":"RTD(\"cqg.rtd\", ,\"ContractData\",C304, \"LongDescription\",, \"T\")","v":"StandardAero, Inc."},null,null,null,{"$f":"RTD(\"cqg.rtd\", ,\"ContractData\",C304, \"LastTradeToday\",, \"T\")","v":27.37},{"$f":"RTD(\"cqg.rtd\", ,\"ContractData\",C304, \"NetLastTradeToday\",, \"T\")","v":-0.28999999999999998},{"$f":"IFERROR(RTD(\"cqg.rtd\", ,\"ContractData\",C304, \"PerCentNetLastTrade\",, \"T\")/100,\"\")","v":-1.0484454085321764E-2},{"$f":"RTD(\"cqg.rtd\", ,\"ContractData\", C304, \"T_CVol\",, \"T\")","v":670032},304,{"$f":"IFERROR(RANK($J304,$J$1:J$391)+COUNTIF($J$1:J304,J304)-1,\"\")","v":287},"S.US.SARO","S.US.EXP"]
["S.US.SBUX",1,"S.US.SBUX",{"$f":"RTD(\"cqg.rtd\", ,\"ContractData\",C305, \"LongDescription\",, \"T\")","v":"Starbucks Corp"},null,null,null,{"$f":"RTD(\"cqg.rtd\", ,\"ContractData\",C305, \"LastTradeToday\",, \"T\")","v":82.75},{"$f":"RTD(\"cqg.rtd\", ,\"ContractData\",C305, \"NetLastTradeToday\",, \"T\")","v":1.0900000000000001},{"$f":"IFERROR(RTD(\"cqg.rtd\", ,\"ContractData\",C305, \"PerCentNetLastTrade\",, \"T\")/100,\"\")","v":1.3348028410482488E-2},{"$f":"RTD(\"cqg.rtd\", ,\"ContractData\", C305, \"T_CVol\",, \"T\")","v":7341445},305,{"$f":"IFERROR(RANK($J305,$J$1:J$391)+COUNTIF($J$1:J305,J305)-1,\"\")","v":33},"S.US.SBUX","S.US.TWLO"]
["S.US.SCCO",1,"S.US.SCCO",{"$f":"RTD(\"cqg.rtd\", ,\"ContractData\",C306, \"LongDescription\",, \"T\")","v":"Southern Copper Corp"},null,null,null,{"$f":"RTD(\"cqg.rtd\", ,\"ContractData\",C306, \"LastTradeToday\",, \"T\")","v":90.38},{"$f":"RTD(\"cqg.rtd\", ,\"ContractData\",C306, \"NetLastTradeToday\",, \"T\")","v":1.83},{"$f":"IFERROR(RTD(\"cqg.rtd\", ,\"ContractData\",C306, \"PerCentNetLastTrade\",, \"T\")/100,\"\")","v":2.0666290231507626E-2},{"$f":"RTD(\"cqg.rtd\", ,\"ContractData\", C306, \"T_CVol\",, \"T\")","v":606995},306,{"$f":"IFERROR(RANK($J306,$J$1:J$391)+COUNTIF($J$1:J306,J306)-1,\"\")","v":17},"S.US.SCCO","S.US.PEGA"]
["S.US.SCHW",0,"S.US.SCHW",{"$f":"RTD(\"cqg.rtd\", ,\"ContractData\",C307, \"LongDescription\",, \"T\")","v":"Charles Schwab Corp"},null,null,null,{"$f":"RTD(\"cqg.rtd\", ,\"ContractData\",C307, \"LastTradeToday\",, \"T\")","v":83.03},{"$f":"RTD(\"cqg.rtd\", ,\"ContractData\",C307, \"NetLastTradeToday\",, \"T\")","v":-0.34},{"$f":"IFERROR(RTD(\"cqg.rtd\", ,\"ContractData\",C307, \"PerCentNetLastTrade\",, \"T\")/100,\"\")","v":-4.0782055895406018E-3},{"$f":"RTD(\"cqg.rtd\", ,\"ContractData\", C307, \"T_CVol\",, \"T\")","v":2985293},307,{"$f":"IFERROR(RANK($J307,$J$1:J$391)+COUNTIF($J$1:J307,J307)-1,\"\")","v":205},"S.US.SCHW","S.US.ALLY"]
["S.US.SEE",1,"S.US.SEE",{"$f":"RTD(\"cqg.rtd\", ,\"ContractData\",C308, \"LongDescription\",, \"T\")","v":"Sealed Air Corp New"},null,null,null,{"$f":"RTD(\"cqg.rtd\", ,\"ContractData\",C308, \"LastTradeToday\",, \"T\")","v":28.87},{"$f":"RTD(\"cqg.rtd\", ,\"ContractData\",C308, \"NetLastTradeToday\",, \"T\")","v":1.34},{"$f":"IFERROR(RTD(\"cqg.rtd\", ,\"ContractData\",C308, \"PerCentNetLastTrade\",, \"T\")/100,\"\")","v":4.8674173628768615E-2},{"$f":"RTD(\"cqg.rtd\", ,\"ContractData\", C308, \"T_CVol\",, \"T\")","v":2231279},308,{"$f":"IFERROR(RANK($J308,$J$1:J$391)+COUNTIF($J$1:J308,J308)-1,\"\")","v":6},"S.US.SEE","S.US.TER"]
["S.US.SGI",0,"S.US.SGI",{"$f":"RTD(\"cqg.rtd\", ,\"ContractData\",C309, \"LongDescription\",, \"T\")","v":"Somnigroup International Inc."},null,null,null,{"$f":"RTD(\"cqg.rtd\", ,\"ContractData\",C309, \"LastTradeToday\",, \"T\")","v":60.76},{"$f":"RTD(\"cqg.rtd\", ,\"ContractData\",C309, \"NetLastTradeToday\",, \"T\")","v":-1.24},{"$f":"IFERROR(RTD(\"cqg.rtd\", ,\"ContractData\",C309, \"PerCentNetLastTrade\",, \"T\")/100,\"\")","v":-0.02},{"$f":"RTD(\"cqg.rtd\", ,\"ContractData\", C309, \"T_CVol\",, \"T\")","v":1628188},309,{"$f":"IFERROR(RANK($J309,$J$1:J$391)+COUNTIF($J$1:J309,J309)-1,\"\")","v":340},"S.US.SGI","S.US.VEEV"]
["S.US.SHW",0,"S.US.SHW",{"$f":"RTD(\"cqg.rtd\", ,\"ContractData\",C310, \"LongDescription\",, \"T\")","v":"Sherwin-Williams Co"},null,null,null,{"$f":"RTD(\"cqg.rtd\", ,\"ContractData\",C310, \"LastTradeToday\",, \"T\")","v":353.64},{"$f":"RTD(\"cqg.rtd\", ,\"ContractData\",C310, \"NetLastTradeToday\",, \"T\")","v":-6.18},{"$f":"IFERROR(RTD(\"cqg.rtd\", ,\"ContractData\",C310, \"PerCentNetLastTrade\",, \"T\")/100,\"\")","v":-1.7175254293813572E-2},{"$f":"RTD(\"cqg.rtd\", ,\"ContractData\", C310, \"T_CVol\",, \"T\")","v":685749},310,{"$f":"IFERROR(RANK($J310,$J$1:J$391)+COUNTIF($J$1:J310,J310)-1,\"\")","v":327},"S.US.SHW","S.US.UHAL"]
["S.US.SITE",0,"S.US.SITE",{"$f":"RTD(\"cqg.rtd\", ,\"ContractData\",C311, \"LongDescription\",, \"T\")","v":"SiteOne Landscape Supply, Inc."},null,null,null,{"$f":"RTD(\"cqg.rtd\", ,\"ContractData\",C311, \"LastTradeToday\",, \"T\")","v":119.02},{"$f":"RTD(\"cqg.rtd\", ,\"ContractData\",C311, \"NetLastTradeToday\",, \"T\")","v":-1.78},{"$f":"IFERROR(RTD(\"cqg.rtd\", ,\"ContractData\",C311, \"PerCentNetLastTrade\",, \"T\")/100,\"\")","v":-1.4735099337748345E-2},{"$f":"RTD(\"cqg.rtd\", ,\"ContractData\", C311, \"T_CVol\",, \"T\")","v":293698},311,{"$f":"IFERROR(RANK($J311,$J$1:J$391)+COUNTIF($J$1:J311,J311)-1,\"\")","v":313},"S.US.SITE","S.US.DKNG"]
["S.US.SKX",0,"S.US.SKX",{"$f":"RTD(\"cqg.rtd\", ,\"ContractData\",C312, \"LongDescription\",, \"T\")","v":"Skechers USA Inc"},null,null,null,{"$f":"RTD(\"cqg.rtd\", ,\"ContractData\",C312, \"LastTradeToday\",, \"T\")","v":61.38},{"$f":"RTD(\"cqg.rtd\", ,\"ContractData\",C312, \"NetLastTradeToday\",, \"T\")","v":-0.01},{"$f":"IFERROR(RTD(\"cqg.rtd\", ,\"ContractData\",C312, \"PerCentNetLastTrade\",, \"T\")/100,\"\")","v":-1.6289297931259162E-4},{"$f":"RTD(\"cqg.rtd\", ,\"ContractData\", C312, \"T_CVol\",, \"T\")","v":34158731},312,{"$f":"IFERROR(RANK($J312,$J$1:J$391)+COUNTIF($J$1:J312,J312)-1,\"\")","v":137},"S.US.SKX","S.US.PINS"]
["S.US.SMCI",1,"S.US.SMCI",{"$f":"RTD(\"cqg.rtd\", ,\"ContractData\",C313, \"LongDescription\",, \"T\")","v":"Super Micro Computer"},null,null,null,{"$f":"RTD(\"cqg.rtd\", ,\"ContractData\",C313, \"LastTradeToday\",, \"T\")","v":33.25},{"$f":"RTD(\"cqg.rtd\", ,\"ContractData\",C313, \"NetLastTradeToday\",, \"T\")","v":1.08},{"$f":"IFERROR(RTD(\"cqg.rtd\", ,\"ContractData\",C313, \"PerCentNetLastTrade\",, \"T\")/100,\"\")","v":3.3571650606154801E-2},{"$f":"RTD(\"cqg.rtd\", ,\"ContractData\", C313, \"T_CVol\",, \"T\")","v":29960249},313,{"$f":"IFERROR(RANK($J313,$J$1:J$391)+COUNTIF($J$1:J313,J313)-1,\"\")","v":11},"S.US.SMCI","S.US.SITE"]
["S.US.SN",0,"S.US.SN",{"$f":"RTD(\"cqg.rtd\", ,\"ContractData\",C314, \"LongDescription\",, \"T\")","v":"SharkNinja Inc."},null,null,null,{"$f":"RTD(\"cqg.rtd\", ,\"ContractData\",C314, \"LastTradeToday\",, \"T\")","v":80.430000000000007},{"$f":"RTD(\"cqg.rtd\", ,\"ContractData\",C314, \"NetLastTradeToday\",, \"T\")","v":-2.1},{"$f":"IFERROR(RTD(\"cqg.rtd\", ,\"ContractData\",C314, \"PerCentNetLastTrade\",, \"T\")/100,\"\")","v":-2.5445292620865142E-2},{"$f":"RTD(\"cqg.rtd\", ,\"ContractData\", C314, \"T_CVol\",, \"T\")","v":1514706},314,{"$f":"IFERROR(RANK($J314,$J$1:J$391)+COUNTIF($J$1:J314,J314)-1,\"\")","v":347},"S.US.SN","S.US.DKS"]
["S.US.SNOW",1,"S.US.SNOW",{"$f":"RTD(\"cqg.rtd\", ,\"ContractData\",C315, \"LongDescription\",, \"T\")","v":"Snowflake Inc."},null,null,null,{"$f":"RTD(\"cqg.rtd\", ,\"ContractData\",C315, \"LastTradeToday\",, \"T\")","v":168.83},{"$f":"RTD(\"cqg.rtd\", ,\"ContractData\",C315, \"NetLastTradeToday\",, \"T\")","v":0.96},{"$f":"IFERROR(RTD(\"cqg.rtd\", ,\"ContractData\",C315, \"PerCentNetLastTrade\",, \"T\")/100,\"\")","v":5.7187109072496575E-3},{"$f":"RTD(\"cqg.rtd\", ,\"ContractData\", C315, \"T_CVol\",, \"T\")","v":1405550},315,{"$f":"IFERROR(RANK($J315,$J$1:J$391)+COUNTIF($J$1:J315,J315)-1,\"\")","v":76},"S.US.SNOW","S.US.ALGN"]
["S.US.SNPS",0,"S.US.SNPS",{"$f":"RTD(\"cqg.rtd\", ,\"ContractData\",C316, \"LongDescription\",, \"T\")","v":"Synopsis"},null,null,null,{"$f":"RTD(\"cqg.rtd\", ,\"ContractData\",C316, \"LastTradeToday\",, \"T\")","v":476.11},{"$f":"RTD(\"cqg.rtd\", ,\"ContractData\",C316, \"NetLastTradeToday\",, \"T\")","v":-1.3},{"$f":"IFERROR(RTD(\"cqg.rtd\", ,\"ContractData\",C316, \"PerCentNetLastTrade\",, \"T\")/100,\"\")","v":-2.7230263295699715E-3},{"$f":"RTD(\"cqg.rtd\", ,\"ContractData\", C316, \"T_CVol\",, \"T\")","v":450847},316,{"$f":"IFERROR(RANK($J316,$J$1:J$391)+COUNTIF($J$1:J316,J316)-1,\"\")","v":179},"S.US.SNPS","S.US.PFGC"]
["S.US.SOFI",0,"S.US.SOFI",{"$f":"RTD(\"cqg.rtd\", ,\"ContractData\",C317, \"LongDescription\",, \"T\")","v":"SoFi Technologies, Inc."},null,null,null,{"$f":"RTD(\"cqg.rtd\", ,\"ContractData\",C317, \"LastTradeToday\",, \"T\")","v":12.77},{"$f":"RTD(\"cqg.rtd\", ,\"ContractData\",C317, \"NetLastTradeToday\",, \"T\")","v":-0.09},{"$f":"IFERROR(RTD(\"cqg.rtd\", ,\"ContractData\",C317, \"PerCentNetLastTrade\",, \"T\")/100,\"\")","v":-6.9984447900466561E-3},{"$f":"RTD(\"cqg.rtd\", ,\"ContractData\", C317, \"T_CVol\",, \"T\")","v":32485477},317,{"$f":"IFERROR(RANK($J317,$J$1:J$391)+COUNTIF($J$1:J317,J317)-1,\"\")","v":252},"S.US.SOFI","S.US.AAL"]
["S.US.SPG",0,"S.US.SPG",{"$f":"RTD(\"cqg.rtd\", ,\"ContractData\",C318, \"LongDescription\",, \"T\")","v":"Simon Property Grp"},null,null,null,{"$f":"RTD(\"cqg.rtd\", ,\"ContractData\",C318, \"LastTradeToday\",, \"T\")","v":160.36000000000001},{"$f":"RTD(\"cqg.rtd\", ,\"ContractData\",C318, \"NetLastTradeToday\",, \"T\")","v":-0.5},{"$f":"IFERROR(RTD(\"cqg.rtd\", ,\"ContractData\",C318, \"PerCentNetLastTrade\",, \"T\")/100,\"\")","v":-3.1082929255253017E-3},{"$f":"RTD(\"cqg.rtd\", ,\"ContractData\", C318, \"T_CVol\",, \"T\")","v":677764},318,{"$f":"IFERROR(RANK($J318,$J$1:J$391)+COUNTIF($J$1:J318,J318)-1,\"\")","v":185},"S.US.SPG","S.US.TSLA"]
["S.US.SPOT",0,"S.US.SPOT",{"$f":"RTD(\"cqg.rtd\", ,\"ContractData\",C319, \"LongDescription\",, \"T\")","v":"Spotify Technology S.A."},null,null,null,{"$f":"RTD(\"cqg.rtd\", ,\"ContractData\",C319, \"LastTradeToday\",, \"T\")","v":636.72},{"$f":"RTD(\"cqg.rtd\", ,\"ContractData\",C319, \"NetLastTradeToday\",, \"T\")","v":-0.93},{"$f":"IFERROR(RTD(\"cqg.rtd\", ,\"ContractData\",C319, \"PerCentNetLastTrade\",, \"T\")/100,\"\")","v":-1.4584803575629262E-3},{"$f":"RTD(\"cqg.rtd\", ,\"ContractData\", C319, \"T_CVol\",, \"T\")","v":993454},319,{"$f":"IFERROR(RANK($J319,$J$1:J$391)+COUNTIF($J$1:J319,J319)-1,\"\")","v":160},"S.US.SPOT","S.US.MTN"]
["S.US.SPR",0,"S.US.SPR",{"$f":"RTD(\"cqg.rtd\", ,\"ContractData\",C320, \"LongDescription\",, \"T\")","v":"Spirit Aerosysstems Holding Inc"},null,null,null,{"$f":"RTD(\"cqg.rtd\", ,\"ContractData\",C320, \"LastTradeToday\",, \"T\")","v":35.71},{"$f":"RTD(\"cqg.rtd\", ,\"ContractData\",C320, \"NetLastTradeToday\",, \"T\")","v":-0.14000000000000001},{"$f":"IFERROR(RTD(\"cqg.rtd\", ,\"ContractData\",C320, \"PerCentNetLastTrade\",, \"T\")/100,\"\")","v":-3.9051603905160392E-3},{"$f":"RTD(\"cqg.rtd\", ,\"ContractData\", C320, \"T_CVol\",, \"T\")","v":423297},320,{"$f":"IFERROR(RANK($J320,$J$1:J$391)+COUNTIF($J$1:J320,J320)-1,\"\")","v":200},"S.US.SPR","S.US.LYFT"]
["S.US.SRPT",0,"S.US.SRPT",{"$f":"RTD(\"cqg.rtd\", ,\"ContractData\",C321, \"LongDescription\",, \"T\")","v":"Sarepta Therapeutics, Inc."},null,null,null,{"$f":"RTD(\"cqg.rtd\", ,\"ContractData\",C321, \"LastTradeToday\",, \"T\")","v":48.76},{"$f":"RTD(\"cqg.rtd\", ,\"ContractData\",C321, \"NetLastTradeToday\",, \"T\")","v":-14.9},{"$f":"IFERROR(RTD(\"cqg.rtd\", ,\"ContractData\",C321, \"PerCentNetLastTrade\",, \"T\")/100,\"\")","v":-0.23405592208608231},{"$f":"RTD(\"cqg.rtd\", ,\"ContractData\", C321, \"T_CVol\",, \"T\")","v":9842310},321,{"$f":"IFERROR(RANK($J321,$J$1:J$391)+COUNTIF($J$1:J321,J321)-1,\"\")","v":391},"S.US.SRPT",{"$f":"VLOOKUP($L321,$M$1:$N$391,2,FALSE)","v":"S.US.ODFL"}]
["S.US.SSD",{"$f":"IF(J322>0,1,0)","v":0},"S.US.SSD",{"$f":"RTD(\"cqg.rtd\", ,\"ContractData\",C322, \"LongDescription\",, \"T\")","v":"Simpson Manufacturing Co Inc"},null,null,null,{"$f":"RTD(\"cqg.rtd\", ,\"ContractData\",C322, \"LastTradeToday\",, \"T\")","v":154.61000000000001},{"$f":"RTD(\"cqg.rtd\", ,\"ContractData\",C322, \"NetLastTradeToday\",, \"T\")","v":-0.05},{"$f":"IFERROR(RTD(\"cqg.rtd\", ,\"ContractData\",C322, \"PerCentNetLastTrade\",, \"T\")/100,\"\")","v":-3.232897969740075E-4},{"$f":"RTD(\"cqg.rtd\", ,\"ContractData\", C322, \"T_CVol\",, \"T\")","v":92273},322,{"$f":"IFERROR(RANK($J322,$J$1:J$391)+COUNTIF($J$1:J322,J322)-1,\"\")","v":140},"S.US.SSD","S.US.DJT"]
["S.US.SYK",0,"S.US.SYK",{"$f":"RTD(\"cqg.rtd\", ,\"ContractData\",C323, \"LongDescription\",, \"T\")","v":"Stryker Corp"},null,null,null,{"$f":"RTD(\"cqg.rtd\", ,\"ContractData\",C323, \"LastTradeToday\",, \"T\")","v":377.78000000000003},{"$f":"RTD(\"cqg.rtd\", ,\"ContractData\",C323, \"NetLastTradeToday\",, \"T\")","v":-3.58},{"$f":"IFERROR(RTD(\"cqg.rtd\", ,\"ContractData\",C323, \"PerCentNetLastTrade\",, \"T\")/100,\"\")","v":-9.387455422697713E-3},{"$f":"RTD(\"cqg.rtd\", ,\"ContractData\", C323, \"T_CVol\",, \"T\")","v":1067854},{"$f":"L322+1","v":323},{"$f":"IFERROR(RANK($J323,$J$1:J$391)+COUNTIF($J$1:J323,J323)-1,\"\")","v":279},"S.US.SYK","S.US.META"]
["S.US.SYY",0,"S.US.SYY",{"$f":"RTD(\"cqg.rtd\", ,\"ContractData\",C324, \"LongDescription\",, \"T\")","v":"Sysco Corp"},null,null,null,{"$f":"RTD(\"cqg.rtd\", ,\"ContractData\",C324, \"LastTradeToday\",, \"T\")","v":70.100000000000009},{"$f":"RTD(\"cqg.rtd\", ,\"ContractData\",C324, \"NetLastTradeToday\",, \"T\")","v":-0.53},{"$f":"IFERROR(RTD(\"cqg.rtd\", ,\"ContractData\",C324, \"PerCentNetLastTrade\",, \"T\")/100,\"\")","v":-7.5038935296616168E-3},{"$f":"RTD(\"cqg.rtd\", ,\"ContractData\", C324, \"T_CVol\",, \"T\")","v":1484854},324,{"$f":"IFERROR(RANK($J324,$J$1:J$391)+COUNTIF($J$1:J324,J324)-1,\"\")","v":256},"S.US.SYY","S.US.FWONA"]
["S.US.TDC",0,"S.US.TDC",{"$f":"RTD(\"cqg.rtd\", ,\"ContractData\",C325, \"LongDescription\",, \"T\")","v":"Teradata Corporation"},null,null,null,{"$f":"RTD(\"cqg.rtd\", ,\"ContractData\",C325, \"LastTradeToday\",, \"T\")","v":22},{"$f":"RTD(\"cqg.rtd\", ,\"ContractData\",C325, \"NetLastTradeToday\",, \"T\")","v":-0.1},{"$f":"IFERROR(RTD(\"cqg.rtd\", ,\"ContractData\",C325, \"PerCentNetLastTrade\",, \"T\")/100,\"\")","v":-4.5248868778280547E-3},{"$f":"RTD(\"cqg.rtd\", ,\"ContractData\", C325, \"T_CVol\",, \"T\")","v":654571},325,{"$f":"IFERROR(RANK($J325,$J$1:J$391)+COUNTIF($J$1:J325,J325)-1,\"\")","v":214},"S.US.TDC","S.US.FERG"]
["S.US.TDG",0,"S.US.TDG",{"$f":"RTD(\"cqg.rtd\", ,\"ContractData\",C326, \"LongDescription\",, \"T\")","v":"TransDigm Group"},null,null,null,{"$f":"RTD(\"cqg.rtd\", ,\"ContractData\",C326, \"LastTradeToday\",, \"T\")","v":1387.74},{"$f":"RTD(\"cqg.rtd\", ,\"ContractData\",C326, \"NetLastTradeToday\",, \"T\")","v":-84.88},{"$f":"IFERROR(RTD(\"cqg.rtd\", ,\"ContractData\",C326, \"PerCentNetLastTrade\",, \"T\")/100,\"\")","v":-5.7638766280506848E-2},{"$f":"RTD(\"cqg.rtd\", ,\"ContractData\", C326, \"T_CVol\",, \"T\")","v":414076},326,{"$f":"IFERROR(RANK($J326,$J$1:J$391)+COUNTIF($J$1:J326,J326)-1,\"\")","v":379},"S.US.TDG","S.US.NET"]
["S.US.TEAM",0,"S.US.TEAM",{"$f":"RTD(\"cqg.rtd\", ,\"ContractData\",C327, \"LongDescription\",, \"T\")","v":"Atlassian Corporation Plc"},null,null,null,{"$f":"RTD(\"cqg.rtd\", ,\"ContractData\",C327, \"LastTradeToday\",, \"T\")","v":207.55},{"$f":"RTD(\"cqg.rtd\", ,\"ContractData\",C327, \"NetLastTradeToday\",, \"T\")","v":-0.23},{"$f":"IFERROR(RTD(\"cqg.rtd\", ,\"ContractData\",C327, \"PerCentNetLastTrade\",, \"T\")/100,\"\")","v":-1.1069400327269228E-3},{"$f":"RTD(\"cqg.rtd\", ,\"ContractData\", C327, \"T_CVol\",, \"T\")","v":1290381},327,{"$f":"IFERROR(RANK($J327,$J$1:J$391)+COUNTIF($J$1:J327,J327)-1,\"\")","v":154},"S.US.TEAM","S.US.SHW"]
["S.US.TER",0,"S.US.TER",{"$f":"RTD(\"cqg.rtd\", ,\"ContractData\",C328, \"LongDescription\",, \"T\")","v":"Teradyne Inc"},null,null,null,{"$f":"RTD(\"cqg.rtd\", ,\"ContractData\",C328, \"LastTradeToday\",, \"T\")","v":74.41},{"$f":"RTD(\"cqg.rtd\", ,\"ContractData\",C328, \"NetLastTradeToday\",, \"T\")","v":-1.03},{"$f":"IFERROR(RTD(\"cqg.rtd\", ,\"ContractData\",C328, \"PerCentNetLastTrade\",, \"T\")/100,\"\")","v":-1.3653234358430542E-2},{"$f":"RTD(\"cqg.rtd\", ,\"ContractData\", C328, \"T_CVol\",, \"T\")","v":1074269},328,{"$f":"IFERROR(RANK($J328,$J$1:J$391)+COUNTIF($J$1:J328,J328)-1,\"\")","v":308},"S.US.TER","S.US.RH"]
["S.US.TJX",0,"S.US.TJX",{"$f":"RTD(\"cqg.rtd\", ,\"ContractData\",C329, \"LongDescription\",, \"T\")","v":"TJX Companies Inc"},null,null,null,{"$f":"RTD(\"cqg.rtd\", ,\"ContractData\",C329, \"LastTradeToday\",, \"T\")","v":128.49},{"$f":"RTD(\"cqg.rtd\", ,\"ContractData\",C329, \"NetLastTradeToday\",, \"T\")","v":-0.45},{"$f":"IFERROR(RTD(\"cqg.rtd\", ,\"ContractData\",C329, \"PerCentNetLastTrade\",, \"T\")/100,\"\")","v":-3.489995346672871E-3},{"$f":"RTD(\"cqg.rtd\", ,\"ContractData\", C329, \"T_CVol\",, \"T\")","v":2084545},329,{"$f":"IFERROR(RANK($J329,$J$1:J$391)+COUNTIF($J$1:J329,J329)-1,\"\")","v":194},"S.US.TJX","S.US.MMM"]
["S.US.TKO",1,"S.US.TKO",{"$f":"RTD(\"cqg.rtd\", ,\"ContractData\",C330, \"LongDescription\",, \"T\")","v":"TKO Group Holdings, Inc."},null,null,null,{"$f":"RTD(\"cqg.rtd\", ,\"ContractData\",C330, \"LastTradeToday\",, \"T\")","v":168.27},{"$f":"RTD(\"cqg.rtd\", ,\"ContractData\",C330, \"NetLastTradeToday\",, \"T\")","v":1.44},{"$f":"IFERROR(RTD(\"cqg.rtd\", ,\"ContractData\",C330, \"PerCentNetLastTrade\",, \"T\")/100,\"\")","v":8.6315410897320616E-3},{"$f":"RTD(\"cqg.rtd\", ,\"ContractData\", C330, \"T_CVol\",, \"T\")","v":414772},330,{"$f":"IFERROR(RANK($J330,$J$1:J$391)+COUNTIF($J$1:J330,J330)-1,\"\")","v":53},"S.US.TKO","S.US.HON"]
["S.US.TOST",0,"S.US.TOST",{"$f":"RTD(\"cqg.rtd\", ,\"ContractData\",C331, \"LongDescription\",, \"T\")","v":"Toast, Inc."},null,null,null,{"$f":"RTD(\"cqg.rtd\", ,\"ContractData\",C331, \"LastTradeToday\",, \"T\")","v":35.47},{"$f":"RTD(\"cqg.rtd\", ,\"ContractData\",C331, \"NetLastTradeToday\",, \"T\")","v":-0.37},{"$f":"IFERROR(RTD(\"cqg.rtd\", ,\"ContractData\",C331, \"PerCentNetLastTrade\",, \"T\")/100,\"\")","v":-1.0323660714285714E-2},{"$f":"RTD(\"cqg.rtd\", ,\"ContractData\", C331, \"T_CVol\",, \"T\")","v":4974400},331,{"$f":"IFERROR(RANK($J331,$J$1:J$391)+COUNTIF($J$1:J331,J331)-1,\"\")","v":284},"S.US.TOST","S.US.DRI"]
["S.US.TPG",0,"S.US.TPG",{"$f":"RTD(\"cqg.rtd\", ,\"ContractData\",C332, \"LongDescription\",, \"T\")","v":"TPG Partners, LLC"},null,null,null,{"$f":"RTD(\"cqg.rtd\", ,\"ContractData\",C332, \"LastTradeToday\",, \"T\")","v":46.24},{"$f":"RTD(\"cqg.rtd\", ,\"ContractData\",C332, \"NetLastTradeToday\",, \"T\")","v":-0.91},{"$f":"IFERROR(RTD(\"cqg.rtd\", ,\"ContractData\",C332, \"PerCentNetLastTrade\",, \"T\")/100,\"\")","v":-1.9300106044538703E-2},{"$f":"RTD(\"cqg.rtd\", ,\"ContractData\", C332, \"T_CVol\",, \"T\")","v":774080},332,{"$f":"IFERROR(RANK($J332,$J$1:J$391)+COUNTIF($J$1:J332,J332)-1,\"\")","v":337},"S.US.TPG","S.US.FIVE"]
["S.US.TPL",1,"S.US.TPL",{"$f":"RTD(\"cqg.rtd\", ,\"ContractData\",C333, \"LongDescription\",, \"T\")","v":"TEXAS PACIFIC LAND TR"},null,null,null,{"$f":"RTD(\"cqg.rtd\", ,\"ContractData\",C333, \"LastTradeToday\",, \"T\")","v":1337.03},{"$f":"RTD(\"cqg.rtd\", ,\"ContractData\",C333, \"NetLastTradeToday\",, \"T\")","v":15.42},{"$f":"IFERROR(RTD(\"cqg.rtd\", ,\"ContractData\",C333, \"PerCentNetLastTrade\",, \"T\")/100,\"\")","v":1.1667587260992273E-2},{"$f":"RTD(\"cqg.rtd\", ,\"ContractData\", C333, \"T_CVol\",, \"T\")","v":56997},333,{"$f":"IFERROR(RANK($J333,$J$1:J$391)+COUNTIF($J$1:J333,J333)-1,\"\")","v":40},"S.US.TPL","S.US.MKSI"]
["S.US.TREX",0,"S.US.TREX",{"$f":"RTD(\"cqg.rtd\", ,\"ContractData\",C334, \"LongDescription\",, \"T\")","v":"Trex Company Inc"},null,null,null,{"$f":"RTD(\"cqg.rtd\", ,\"ContractData\",C334, \"LastTradeToday\",, \"T\")","v":58.25},{"$f":"RTD(\"cqg.rtd\", ,\"ContractData\",C334, \"NetLastTradeToday\",, \"T\")","v":-1.8},{"$f":"IFERROR(RTD(\"cqg.rtd\", ,\"ContractData\",C334, \"PerCentNetLastTrade\",, \"T\")/100,\"\")","v":-2.9975020815986676E-2},{"$f":"RTD(\"cqg.rtd\", ,\"ContractData\", C334, \"T_CVol\",, \"T\")","v":630775},334,{"$f":"IFERROR(RANK($J334,$J$1:J$391)+COUNTIF($J$1:J334,J334)-1,\"\")","v":357},"S.US.TREX","S.US.OLED"]
["S.US.TRGP",0,"S.US.TRGP",{"$f":"RTD(\"cqg.rtd\", ,\"ContractData\",C335, \"LongDescription\",, \"T\")","v":"Targa Resources Corp"},null,null,null,{"$f":"RTD(\"cqg.rtd\", ,\"ContractData\",C335, \"LastTradeToday\",, \"T\")","v":157.84},{"$f":"RTD(\"cqg.rtd\", ,\"ContractData\",C335, \"NetLastTradeToday\",, \"T\")","v":-0.41000000000000003},{"$f":"IFERROR(RTD(\"cqg.rtd\", ,\"ContractData\",C335, \"PerCentNetLastTrade\",, \"T\")/100,\"\")","v":-2.5908372827804105E-3},{"$f":"RTD(\"cqg.rtd\", ,\"ContractData\", C335, \"T_CVol\",, \"T\")","v":2243077},335,{"$f":"IFERROR(RANK($J335,$J$1:J$391)+COUNTIF($J$1:J335,J335)-1,\"\")","v":175},"S.US.TRGP","S.US.RBLX"]
["S.US.TRIP",0,"S.US.TRIP",{"$f":"RTD(\"cqg.rtd\", ,\"ContractData\",C336, \"LongDescription\",, \"T\")","v":"TripAdvisor, Inc."},null,null,null,{"$f":"RTD(\"cqg.rtd\", ,\"ContractData\",C336, \"LastTradeToday\",, \"T\")","v":12.69},{"$f":"RTD(\"cqg.rtd\", ,\"ContractData\",C336, \"NetLastTradeToday\",, \"T\")","v":-0.04},{"$f":"IFERROR(RTD(\"cqg.rtd\", ,\"ContractData\",C336, \"PerCentNetLastTrade\",, \"T\")/100,\"\")","v":-3.1421838177533384E-3},{"$f":"RTD(\"cqg.rtd\", ,\"ContractData\", C336, \"T_CVol\",, \"T\")","v":2872500},336,{"$f":"IFERROR(RANK($J336,$J$1:J$391)+COUNTIF($J$1:J336,J336)-1,\"\")","v":187},"S.US.TRIP","S.US.WSM"]
["S.US.TRU",0,"S.US.TRU",{"$f":"RTD(\"cqg.rtd\", ,\"ContractData\",C337, \"LongDescription\",, \"T\")","v":"TransUnion"},null,null,null,{"$f":"RTD(\"cqg.rtd\", ,\"ContractData\",C337, \"LastTradeToday\",, \"T\")","v":84.36},{"$f":"RTD(\"cqg.rtd\", ,\"ContractData\",C337, \"NetLastTradeToday\",, \"T\")","v":-0.25},{"$f":"IFERROR(RTD(\"cqg.rtd\", ,\"ContractData\",C337, \"PerCentNetLastTrade\",, \"T\")/100,\"\")","v":-2.9547334830398297E-3},{"$f":"RTD(\"cqg.rtd\", ,\"ContractData\", C337, \"T_CVol\",, \"T\")","v":604801},337,{"$f":"IFERROR(RANK($J337,$J$1:J$391)+COUNTIF($J$1:J337,J337)-1,\"\")","v":182},"S.US.TRU","S.US.TPG"]
["S.US.TSCO",0,"S.US.TSCO",{"$f":"RTD(\"cqg.rtd\", ,\"ContractData\",C338, \"LongDescription\",, \"T\")","v":"Tractor Supply Co"},null,null,null,{"$f":"RTD(\"cqg.rtd\", ,\"ContractData\",C338, \"LastTradeToday\",, \"T\")","v":51.02},{"$f":"RTD(\"cqg.rtd\", ,\"ContractData\",C338, \"NetLastTradeToday\",, \"T\")","v":-0.22},{"$f":"IFERROR(RTD(\"cqg.rtd\", ,\"ContractData\",C338, \"PerCentNetLastTrade\",, \"T\")/100,\"\")","v":-4.2935206869633095E-3},{"$f":"RTD(\"cqg.rtd\", ,\"ContractData\", C338, \"T_CVol\",, \"T\")","v":1714310},338,{"$f":"IFERROR(RANK($J338,$J$1:J$391)+COUNTIF($J$1:J338,J338)-1,\"\")","v":211},"S.US.TSCO","S.US.BLD"]
["S.US.TSLA",0,"S.US.TSLA",{"$f":"RTD(\"cqg.rtd\", ,\"ContractData\",C339, \"LongDescription\",, \"T\")","v":"Tesla Inc."},null,null,null,{"$f":"RTD(\"cqg.rtd\", ,\"ContractData\",C339, \"LastTradeToday\",, \"T\")","v":275.99},{"$f":"RTD(\"cqg.rtd\", ,\"ContractData\",C339, \"NetLastTradeToday\",, \"T\")","v":-4.2700000000000005},{"$f":"IFERROR(RTD(\"cqg.rtd\", ,\"ContractData\",C339, \"PerCentNetLastTrade\",, \"T\")/100,\"\")","v":-1.5235852422750303E-2},{"$f":"RTD(\"cqg.rtd\", ,\"ContractData\", C339, \"T_CVol\",, \"T\")","v":66293808},339,{"$f":"IFERROR(RANK($J339,$J$1:J$391)+COUNTIF($J$1:J339,J339)-1,\"\")","v":318},"S.US.TSLA","S.US.GNRC"]
["S.US.TT",1,"S.US.TT",{"$f":"RTD(\"cqg.rtd\", ,\"ContractData\",C340, \"LongDescription\",, \"T\")","v":"Trane Technologies plc"},null,null,null,{"$f":"RTD(\"cqg.rtd\", ,\"ContractData\",C340, \"LastTradeToday\",, \"T\")","v":407.98},{"$f":"RTD(\"cqg.rtd\", ,\"ContractData\",C340, \"NetLastTradeToday\",, \"T\")","v":5.08},{"$f":"IFERROR(RTD(\"cqg.rtd\", ,\"ContractData\",C340, \"PerCentNetLastTrade\",, \"T\")/100,\"\")","v":1.2608587738893024E-2},{"$f":"RTD(\"cqg.rtd\", ,\"ContractData\", C340, \"T_CVol\",, \"T\")","v":1271757},340,{"$f":"IFERROR(RANK($J340,$J$1:J$391)+COUNTIF($J$1:J340,J340)-1,\"\")","v":36},"S.US.TT","S.US.SGI"]
["S.US.TTD",1,"S.US.TTD",{"$f":"RTD(\"cqg.rtd\", ,\"ContractData\",C341, \"LongDescription\",, \"T\")","v":"The Trade Desk, Inc. Class A"},null,null,null,{"$f":"RTD(\"cqg.rtd\", ,\"ContractData\",C341, \"LastTradeToday\",, \"T\")","v":55.870000000000005},{"$f":"RTD(\"cqg.rtd\", ,\"ContractData\",C341, \"NetLastTradeToday\",, \"T\")","v":0.37},{"$f":"IFERROR(RTD(\"cqg.rtd\", ,\"ContractData\",C341, \"PerCentNetLastTrade\",, \"T\")/100,\"\")","v":6.6666666666666662E-3},{"$f":"RTD(\"cqg.rtd\", ,\"ContractData\", C341, \"T_CVol\",, \"T\")","v":6392775},341,{"$f":"IFERROR(RANK($J341,$J$1:J$391)+COUNTIF($J$1:J341,J341)-1,\"\")","v":71},"S.US.TTD","S.US.GWW"]
["S.US.TTEK",1,"S.US.TTEK",{"$f":"RTD(\"cqg.rtd\", ,\"ContractData\",C342, \"LongDescription\",, \"T\")","v":"Tetra Tech Inc"},null,null,null,{"$f":"RTD(\"cqg.rtd\", ,\"ContractData\",C342, \"LastTradeToday\",, \"T\")","v":30.75},{"$f":"RTD(\"cqg.rtd\", ,\"ContractData\",C342, \"NetLastTradeToday\",, \"T\")","v":0.17},{"$f":"IFERROR(RTD(\"cqg.rtd\", ,\"ContractData\",C342, \"PerCentNetLastTrade\",, \"T\")/100,\"\")","v":5.5591890124264218E-3},{"$f":"RTD(\"cqg.rtd\", ,\"ContractData\", C342, \"T_CVol\",, \"T\")","v":1360401},342,{"$f":"IFERROR(RANK($J342,$J$1:J$391)+COUNTIF($J$1:J342,J342)-1,\"\")","v":78},"S.US.TTEK","S.US.ABNB"]
["S.US.TW",0,"S.US.TW",{"$f":"RTD(\"cqg.rtd\", ,\"ContractData\",C343, \"LongDescription\",, \"T\")","v":"Tradeweb Markets Inc. Class A"},null,null,null,{"$f":"RTD(\"cqg.rtd\", ,\"ContractData\",C343, \"LastTradeToday\",, \"T\")","v":144.12},{"$f":"RTD(\"cqg.rtd\", ,\"ContractData\",C343, \"NetLastTradeToday\",, \"T\")","v":-0.19},{"$f":"IFERROR(RTD(\"cqg.rtd\", ,\"ContractData\",C343, \"PerCentNetLastTrade\",, \"T\")/100,\"\")","v":-1.3166100755318412E-3},{"$f":"RTD(\"cqg.rtd\", ,\"ContractData\", C343, \"T_CVol\",, \"T\")","v":772017},343,{"$f":"IFERROR(RANK($J343,$J$1:J$391)+COUNTIF($J$1:J343,J343)-1,\"\")","v":157},"S.US.TW","S.US.UNH"]
["S.US.TWLO",0,"S.US.TWLO",{"$f":"RTD(\"cqg.rtd\", ,\"ContractData\",C344, \"LongDescription\",, \"T\")","v":"Twilio Inc."},null,null,null,{"$f":"RTD(\"cqg.rtd\", ,\"ContractData\",C344, \"LastTradeToday\",, \"T\")","v":101.7},{"$f":"RTD(\"cqg.rtd\", ,\"ContractData\",C344, \"NetLastTradeToday\",, \"T\")","v":-1.35},{"$f":"IFERROR(RTD(\"cqg.rtd\", ,\"ContractData\",C344, \"PerCentNetLastTrade\",, \"T\")/100,\"\")","v":-1.3100436681222707E-2},{"$f":"RTD(\"cqg.rtd\", ,\"ContractData\", C344, \"T_CVol\",, \"T\")","v":1976383},344,{"$f":"IFERROR(RANK($J344,$J$1:J$391)+COUNTIF($J$1:J344,J344)-1,\"\")","v":305},"S.US.TWLO","S.US.CROX"]
["S.US.TXG",0,"S.US.TXG",{"$f":"RTD(\"cqg.rtd\", ,\"ContractData\",C345, \"LongDescription\",, \"T\")","v":"10x Genomics, Inc. Class A"},null,null,null,{"$f":"RTD(\"cqg.rtd\", ,\"ContractData\",C345, \"LastTradeToday\",, \"T\")","v":8.1999999999999993},{"$f":"RTD(\"cqg.rtd\", ,\"ContractData\",C345, \"NetLastTradeToday\",, \"T\")","v":-0.41000000000000003},{"$f":"IFERROR(RTD(\"cqg.rtd\", ,\"ContractData\",C345, \"PerCentNetLastTrade\",, \"T\")/100,\"\")","v":-4.7619047619047616E-2},{"$f":"RTD(\"cqg.rtd\", ,\"ContractData\", C345, \"T_CVol\",, \"T\")","v":2372421},345,{"$f":"IFERROR(RANK($J345,$J$1:J$391)+COUNTIF($J$1:J345,J345)-1,\"\")","v":373},"S.US.TXG","S.US.CAVA"]
["S.US.TXN",0,"S.US.TXN",{"$f":"RTD(\"cqg.rtd\", ,\"ContractData\",C346, \"LongDescription\",, \"T\")","v":"Texas Instruments Inc"},null,null,null,{"$f":"RTD(\"cqg.rtd\", ,\"ContractData\",C346, \"LastTradeToday\",, \"T\")","v":161.47999999999999},{"$f":"RTD(\"cqg.rtd\", ,\"ContractData\",C346, \"NetLastTradeToday\",, \"T\")","v":-0.94000000000000006},{"$f":"IFERROR(RTD(\"cqg.rtd\", ,\"ContractData\",C346, \"PerCentNetLastTrade\",, \"T\")/100,\"\")","v":-5.7874645979559165E-3},{"$f":"RTD(\"cqg.rtd\", ,\"ContractData\", C346, \"T_CVol\",, \"T\")","v":2016095},346,{"$f":"IFERROR(RANK($J346,$J$1:J$391)+COUNTIF($J$1:J346,J346)-1,\"\")","v":242},"S.US.TXN","S.US.AXON"]
["S.US.TXRH",0,"S.US.TXRH",{"$f":"RTD(\"cqg.rtd\", ,\"ContractData\",C347, \"LongDescription\",, \"T\")","v":"Texas Roadhouse, Inc."},null,null,null,{"$f":"RTD(\"cqg.rtd\", ,\"ContractData\",C347, \"LastTradeToday\",, \"T\")","v":170.98},{"$f":"RTD(\"cqg.rtd\", ,\"ContractData\",C347, \"NetLastTradeToday\",, \"T\")","v":-0.18},{"$f":"IFERROR(RTD(\"cqg.rtd\", ,\"ContractData\",C347, \"PerCentNetLastTrade\",, \"T\")/100,\"\")","v":-1.0516475812105631E-3},{"$f":"RTD(\"cqg.rtd\", ,\"ContractData\", C347, \"T_CVol\",, \"T\")","v":480211},347,{"$f":"IFERROR(RANK($J347,$J$1:J$391)+COUNTIF($J$1:J347,J347)-1,\"\")","v":153},"S.US.TXRH","S.US.SN"]
["S.US.TYL",1,"S.US.TYL",{"$f":"RTD(\"cqg.rtd\", ,\"ContractData\",C348, \"LongDescription\",, \"T\")","v":"TYLER TECHNOLOGIES INC"},null,null,null,{"$f":"RTD(\"cqg.rtd\", ,\"ContractData\",C348, \"LastTradeToday\",, \"T\")","v":552.1},{"$f":"RTD(\"cqg.rtd\", ,\"ContractData\",C348, \"NetLastTradeToday\",, \"T\")","v":2.7600000000000002},{"$f":"IFERROR(RTD(\"cqg.rtd\", ,\"ContractData\",C348, \"PerCentNetLastTrade\",, \"T\")/100,\"\")","v":5.0242108712272903E-3},{"$f":"RTD(\"cqg.rtd\", ,\"ContractData\", C348, \"T_CVol\",, \"T\")","v":113632},348,{"$f":"IFERROR(RANK($J348,$J$1:J$391)+COUNTIF($J$1:J348,J348)-1,\"\")","v":83},"S.US.TYL","S.US.GEHC"]
["S.US.U",0,"S.US.U",{"$f":"RTD(\"cqg.rtd\", ,\"ContractData\",C349, \"LongDescription\",, \"T\")","v":"Unity Software Inc."},null,null,null,{"$f":"RTD(\"cqg.rtd\", ,\"ContractData\",C349, \"LastTradeToday\",, \"T\")","v":21.36},{"$f":"RTD(\"cqg.rtd\", ,\"ContractData\",C349, \"NetLastTradeToday\",, \"T\")","v":-0.11},{"$f":"IFERROR(RTD(\"cqg.rtd\", ,\"ContractData\",C349, \"PerCentNetLastTrade\",, \"T\")/100,\"\")","v":-5.1234280391243593E-3},{"$f":"RTD(\"cqg.rtd\", ,\"ContractData\", C349, \"T_CVol\",, \"T\")","v":5971858},349,{"$f":"IFERROR(RANK($J349,$J$1:J$391)+COUNTIF($J$1:J349,J349)-1,\"\")","v":228},"S.US.U","S.US.CLX"]
["S.US.UBER",1,"S.US.UBER",{"$f":"RTD(\"cqg.rtd\", ,\"ContractData\",C350, \"LongDescription\",, \"T\")","v":"Uber Technologies, Inc."},null,null,null,{"$f":"RTD(\"cqg.rtd\", ,\"ContractData\",C350, \"LastTradeToday\",, \"T\")","v":86.39},{"$f":"RTD(\"cqg.rtd\", ,\"ContractData\",C350, \"NetLastTradeToday\",, \"T\")","v":0.96},{"$f":"IFERROR(RTD(\"cqg.rtd\", ,\"ContractData\",C350, \"PerCentNetLastTrade\",, \"T\")/100,\"\")","v":1.123727027976121E-2},{"$f":"RTD(\"cqg.rtd\", ,\"ContractData\", C350, \"T_CVol\",, \"T\")","v":22285572},350,{"$f":"IFERROR(RANK($J350,$J$1:J$391)+COUNTIF($J$1:J350,J350)-1,\"\")","v":41},"S.US.UBER","S.US.LULU"]
["S.US.UHAL",0,"S.US.UHAL",{"$f":"RTD(\"cqg.rtd\", ,\"ContractData\",C351, \"LongDescription\",, \"T\")","v":"Amerco"},null,null,null,{"$f":"RTD(\"cqg.rtd\", ,\"ContractData\",C351, \"LastTradeToday\",, \"T\")","v":62.77},{"$f":"RTD(\"cqg.rtd\", ,\"ContractData\",C351, \"NetLastTradeToday\",, \"T\")","v":-0.89},{"$f":"IFERROR(RTD(\"cqg.rtd\", ,\"ContractData\",C351, \"PerCentNetLastTrade\",, \"T\")/100,\"\")","v":-1.3980521520578071E-2},{"$f":"RTD(\"cqg.rtd\", ,\"ContractData\", C351, \"T_CVol\",, \"T\")","v":29959},351,{"$f":"IFERROR(RANK($J351,$J$1:J$391)+COUNTIF($J$1:J351,J351)-1,\"\")","v":310},"S.US.UHAL","S.US.OWL"]
["S.US.UI",0,"S.US.UI",{"$f":"RTD(\"cqg.rtd\", ,\"ContractData\",C352, \"LongDescription\",, \"T\")","v":"Ubiquiti Inc."},null,null,null,{"$f":"RTD(\"cqg.rtd\", ,\"ContractData\",C352, \"LastTradeToday\",, \"T\")","v":343.27},{"$f":"RTD(\"cqg.rtd\", ,\"ContractData\",C352, \"NetLastTradeToday\",, \"T\")","v":-0.24},{"$f":"IFERROR(RTD(\"cqg.rtd\", ,\"ContractData\",C352, \"PerCentNetLastTrade\",, \"T\")/100,\"\")","v":-6.9866961660504791E-4},{"$f":"RTD(\"cqg.rtd\", ,\"ContractData\", C352, \"T_CVol\",, \"T\")","v":58073},352,{"$f":"IFERROR(RANK($J352,$J$1:J$391)+COUNTIF($J$1:J352,J352)-1,\"\")","v":146},"S.US.UI","S.US.APLS"]
["S.US.ULTA",0,"S.US.ULTA",{"$f":"RTD(\"cqg.rtd\", ,\"ContractData\",C353, \"LongDescription\",, \"T\")","v":"Ulta Salon Cosmetics & Fragrance Inc"},null,null,null,{"$f":"RTD(\"cqg.rtd\", ,\"ContractData\",C353, \"LastTradeToday\",, \"T\")","v":389.42},{"$f":"RTD(\"cqg.rtd\", ,\"ContractData\",C353, \"NetLastTradeToday\",, \"T\")","v":-4.87},{"$f":"IFERROR(RTD(\"cqg.rtd\", ,\"ContractData\",C353, \"PerCentNetLastTrade\",, \"T\")/100,\"\")","v":-1.2351315021938168E-2},{"$f":"RTD(\"cqg.rtd\", ,\"ContractData\", C353, \"T_CVol\",, \"T\")","v":246184},353,{"$f":"IFERROR(RANK($J353,$J$1:J$391)+COUNTIF($J$1:J353,J353)-1,\"\")","v":297},"S.US.ULTA","S.US.WST"]
["S.US.UNH",0,"S.US.UNH",{"$f":"RTD(\"cqg.rtd\", ,\"ContractData\",C354, \"LongDescription\",, \"T\")","v":"United Health Group Inc"},null,null,null,{"$f":"RTD(\"cqg.rtd\", ,\"ContractData\",C354, \"LastTradeToday\",, \"T\")","v":395.72},{"$f":"RTD(\"cqg.rtd\", ,\"ContractData\",C354, \"NetLastTradeToday\",, \"T\")","v":-9.09},{"$f":"IFERROR(RTD(\"cqg.rtd\", ,\"ContractData\",C354, \"PerCentNetLastTrade\",, \"T\")/100,\"\")","v":-2.2454978878980261E-2},{"$f":"RTD(\"cqg.rtd\", ,\"ContractData\", C354, \"T_CVol\",, \"T\")","v":5941648},354,{"$f":"IFERROR(RANK($J354,$J$1:J$391)+COUNTIF($J$1:J354,J354)-1,\"\")","v":343},"S.US.UNH","S.US.YETI"]
["S.US.UNP",0,"S.US.UNP",{"$f":"RTD(\"cqg.rtd\", ,\"ContractData\",C355, \"LongDescription\",, \"T\")","v":"Union Pacific Corp"},null,null,null,{"$f":"RTD(\"cqg.rtd\", ,\"ContractData\",C355, \"LastTradeToday\",, \"T\")","v":213.91},{"$f":"RTD(\"cqg.rtd\", ,\"ContractData\",C355, \"NetLastTradeToday\",, \"T\")","v":-2.62},{"$f":"IFERROR(RTD(\"cqg.rtd\", ,\"ContractData\",C355, \"PerCentNetLastTrade\",, \"T\")/100,\"\")","v":-1.209993996212996E-2},{"$f":"RTD(\"cqg.rtd\", ,\"ContractData\", C355, \"T_CVol\",, \"T\")","v":1418060},355,{"$f":"IFERROR(RANK($J355,$J$1:J$391)+COUNTIF($J$1:J355,J355)-1,\"\")","v":295},"S.US.UNP","S.US.CNM"]
["S.US.URI",0,"S.US.URI",{"$f":"RTD(\"cqg.rtd\", ,\"ContractData\",C356, \"LongDescription\",, \"T\")","v":"United Rentals Inc"},null,null,null,{"$f":"RTD(\"cqg.rtd\", ,\"ContractData\",C356, \"LastTradeToday\",, \"T\")","v":652.08000000000004},{"$f":"RTD(\"cqg.rtd\", ,\"ContractData\",C356, \"NetLastTradeToday\",, \"T\")","v":-5.65},{"$f":"IFERROR(RTD(\"cqg.rtd\", ,\"ContractData\",C356, \"PerCentNetLastTrade\",, \"T\")/100,\"\")","v":-8.5901509738038409E-3},{"$f":"RTD(\"cqg.rtd\", ,\"ContractData\", C356, \"T_CVol\",, \"T\")","v":362183},356,{"$f":"IFERROR(RANK($J356,$J$1:J$391)+COUNTIF($J$1:J356,J356)-1,\"\")","v":270},"S.US.URI","S.US.APO"]
["S.US.UWMC",0,"S.US.UWMC",{"$f":"RTD(\"cqg.rtd\", ,\"ContractData\",C357, \"LongDescription\",, \"T\")","v":"UWM Holdings Corporation"},null,null,null,{"$f":"RTD(\"cqg.rtd\", ,\"ContractData\",C357, \"LastTradeToday\",, \"T\")","v":4.0600000000000005},{"$f":"RTD(\"cqg.rtd\", ,\"ContractData\",C357, \"NetLastTradeToday\",, \"T\")","v":-0.71},{"$f":"IFERROR(RTD(\"cqg.rtd\", ,\"ContractData\",C357, \"PerCentNetLastTrade\",, \"T\")/100,\"\")","v":-0.1488469601677149},{"$f":"RTD(\"cqg.rtd\", ,\"ContractData\", C357, \"T_CVol\",, \"T\")","v":6912284},357,{"$f":"IFERROR(RANK($J357,$J$1:J$391)+COUNTIF($J$1:J357,J357)-1,\"\")","v":390},"S.US.UWMC","S.US.TREX"]
["S.US.V",1,"S.US.V",{"$f":"RTD(\"cqg.rtd\", ,\"ContractData\",C358, \"LongDescription\",, \"T\")","v":"Visa Inc."},null,null,null,{"$f":"RTD(\"cqg.rtd\", ,\"ContractData\",C358, \"LastTradeToday\",, \"T\")","v":348.67},{"$f":"RTD(\"cqg.rtd\", ,\"ContractData\",C358, \"NetLastTradeToday\",, \"T\")","v":0.03},{"$f":"IFERROR(RTD(\"cqg.rtd\", ,\"ContractData\",C358, \"PerCentNetLastTrade\",, \"T\")/100,\"\")","v":8.6048646167966953E-5},{"$f":"RTD(\"cqg.rtd\", ,\"ContractData\", C358, \"T_CVol\",, \"T\")","v":2093353},358,{"$f":"IFERROR(RANK($J358,$J$1:J$391)+COUNTIF($J$1:J358,J358)-1,\"\")","v":133},"S.US.V","S.US.POOL"]
["S.US.VEEV",0,"S.US.VEEV",{"$f":"RTD(\"cqg.rtd\", ,\"ContractData\",C359, \"LongDescription\",, \"T\")","v":"VEEVA Systems, Inc."},null,null,null,{"$f":"RTD(\"cqg.rtd\", ,\"ContractData\",C359, \"LastTradeToday\",, \"T\")","v":233.75},{"$f":"RTD(\"cqg.rtd\", ,\"ContractData\",C359, \"NetLastTradeToday\",, \"T\")","v":-3.24},{"$f":"IFERROR(RTD(\"cqg.rtd\", ,\"ContractData\",C359, \"PerCentNetLastTrade\",, \"T\")/100,\"\")","v":-1.3671462930925355E-2},{"$f":"RTD(\"cqg.rtd\", ,\"ContractData\", C359, \"T_CVol\",, \"T\")","v":437165},359,{"$f":"IFERROR(RANK($J359,$J$1:J$391)+COUNTIF($J$1:J359,J359)-1,\"\")","v":309},{"$f":"C359","v":"S.US.VEEV"},"S.US.BFAM"]
["S.US.VKTX",0,"S.US.VKTX",{"$f":"RTD(\"cqg.rtd\", ,\"ContractData\",C360, \"LongDescription\",, \"T\")","v":"Viking Therapeutics, Inc."},null,null,null,{"$f":"RTD(\"cqg.rtd\", ,\"ContractData\",C360, \"LastTradeToday\",, \"T\")","v":27.23},{"$f":"RTD(\"cqg.rtd\", ,\"ContractData\",C360, \"NetLastTradeToday\",, \"T\")","v":-2.2600000000000002},{"$f":"IFERROR(RTD(\"cqg.rtd\", ,\"ContractData\",C360, \"PerCentNetLastTrade\",, \"T\")/100,\"\")","v":-7.6636147846727704E-2},{"$f":"RTD(\"cqg.rtd\", ,\"ContractData\", C360, \"T_CVol\",, \"T\")","v":3021456},360,{"$f":"IFERROR(RANK($J360,$J$1:J$391)+COUNTIF($J$1:J360,J360)-1,\"\")","v":383},"S.US.VKTX","S.US.DOCS"]
["S.US.VLTO",0,"S.US.VLTO",{"$f":"RTD(\"cqg.rtd\", ,\"ContractData\",C361, \"LongDescription\",, \"T\")","v":"Veralto Corporation"},null,null,null,{"$f":"RTD(\"cqg.rtd\", ,\"ContractData\",C361, \"LastTradeToday\",, \"T\")","v":95.63},{"$f":"RTD(\"cqg.rtd\", ,\"ContractData\",C361, \"NetLastTradeToday\",, \"T\")","v":-0.06},{"$f":"IFERROR(RTD(\"cqg.rtd\", ,\"ContractData\",C361, \"PerCentNetLastTrade\",, \"T\")/100,\"\")","v":-6.2702476747831539E-4},{"$f":"RTD(\"cqg.rtd\", ,\"ContractData\", C361, \"T_CVol\",, \"T\")","v":540290},361,{"$f":"IFERROR(RANK($J361,$J$1:J$391)+COUNTIF($J$1:J361,J361)-1,\"\")","v":144},"S.US.VLTO","S.US.WAT"]
["S.US.VMC",0,"S.US.VMC",{"$f":"RTD(\"cqg.rtd\", ,\"ContractData\",C362, \"LongDescription\",, \"T\")","v":"Vulcan Material Co"},null,null,null,{"$f":"RTD(\"cqg.rtd\", ,\"ContractData\",C362, \"LastTradeToday\",, \"T\")","v":268.38},{"$f":"RTD(\"cqg.rtd\", ,\"ContractData\",C362, \"NetLastTradeToday\",, \"T\")","v":-1.6600000000000001},{"$f":"IFERROR(RTD(\"cqg.rtd\", ,\"ContractData\",C362, \"PerCentNetLastTrade\",, \"T\")/100,\"\")","v":-6.1472374463042512E-3},{"$f":"RTD(\"cqg.rtd\", ,\"ContractData\", C362, \"T_CVol\",, \"T\")","v":363640},362,{"$f":"IFERROR(RANK($J362,$J$1:J$391)+COUNTIF($J$1:J362,J362)-1,\"\")","v":244},"S.US.VMC","S.US.VNOM"]
["S.US.VNOM",0,"S.US.VNOM",{"$f":"RTD(\"cqg.rtd\", ,\"ContractData\",C363, \"LongDescription\",, \"T\")","v":"Viper Energy Partners LP"},null,null,null,{"$f":"RTD(\"cqg.rtd\", ,\"ContractData\",C363, \"LastTradeToday\",, \"T\")","v":40.03},{"$f":"RTD(\"cqg.rtd\", ,\"ContractData\",C363, \"NetLastTradeToday\",, \"T\")","v":-1.3800000000000001},{"$f":"IFERROR(RTD(\"cqg.rtd\", ,\"ContractData\",C363, \"PerCentNetLastTrade\",, \"T\")/100,\"\")","v":-3.3325283747886986E-2},{"$f":"RTD(\"cqg.rtd\", ,\"ContractData\", C363, \"T_CVol\",, \"T\")","v":1054923},363,{"$f":"IFERROR(RANK($J363,$J$1:J$391)+COUNTIF($J$1:J363,J363)-1,\"\")","v":362},"S.US.VNOM","S.US.AMGN"]
["S.US.VRSK",1,"S.US.VRSK",{"$f":"RTD(\"cqg.rtd\", ,\"ContractData\",C364, \"LongDescription\",, \"T\")","v":"Verisk Analytics, Inc."},null,null,null,{"$f":"RTD(\"cqg.rtd\", ,\"ContractData\",C364, \"LastTradeToday\",, \"T\")","v":297.26},{"$f":"RTD(\"cqg.rtd\", ,\"ContractData\",C364, \"NetLastTradeToday\",, \"T\")","v":2.5100000000000002},{"$f":"IFERROR(RTD(\"cqg.rtd\", ,\"ContractData\",C364, \"PerCentNetLastTrade\",, \"T\")/100,\"\")","v":8.5156912637828659E-3},{"$f":"RTD(\"cqg.rtd\", ,\"ContractData\", C364, \"T_CVol\",, \"T\")","v":423078},364,{"$f":"IFERROR(RANK($J364,$J$1:J$391)+COUNTIF($J$1:J364,J364)-1,\"\")","v":55},"S.US.VRSK","S.US.BRKR"]
["S.US.VRSN",0,"S.US.VRSN",{"$f":"RTD(\"cqg.rtd\", ,\"ContractData\",C365, \"LongDescription\",, \"T\")","v":"Verisign Inc"},null,null,null,{"$f":"RTD(\"cqg.rtd\", ,\"ContractData\",C365, \"LastTradeToday\",, \"T\")","v":283.06},{"$f":"RTD(\"cqg.rtd\", ,\"ContractData\",C365, \"NetLastTradeToday\",, \"T\")","v":-1.49},{"$f":"IFERROR(RTD(\"cqg.rtd\", ,\"ContractData\",C365, \"PerCentNetLastTrade\",, \"T\")/100,\"\")","v":-5.2363380776664914E-3},{"$f":"RTD(\"cqg.rtd\", ,\"ContractData\", C365, \"T_CVol\",, \"T\")","v":538997},365,{"$f":"IFERROR(RANK($J365,$J$1:J$391)+COUNTIF($J$1:J365,J365)-1,\"\")","v":234},"S.US.VRSN","S.US.MEDP"]
["S.US.VRT",0,"S.US.VRT",{"$f":"RTD(\"cqg.rtd\", ,\"ContractData\",C366, \"LongDescription\",, \"T\")","v":"Vertiv Holdings, LLC"},null,null,null,{"$f":"RTD(\"cqg.rtd\", ,\"ContractData\",C366, \"LastTradeToday\",, \"T\")","v":93.69},{"$f":"RTD(\"cqg.rtd\", ,\"ContractData\",C366, \"NetLastTradeToday\",, \"T\")","v":-1.1400000000000001},{"$f":"IFERROR(RTD(\"cqg.rtd\", ,\"ContractData\",C366, \"PerCentNetLastTrade\",, \"T\")/100,\"\")","v":-1.2021512179689971E-2},{"$f":"RTD(\"cqg.rtd\", ,\"ContractData\", C366, \"T_CVol\",, \"T\")","v":5011464},366,{"$f":"IFERROR(RANK($J366,$J$1:J$391)+COUNTIF($J$1:J366,J366)-1,\"\")","v":294},"S.US.VRT","S.US.INCY"]
["S.US.VRTX",0,"S.US.VRTX",{"$f":"RTD(\"cqg.rtd\", ,\"ContractData\",C367, \"LongDescription\",, \"T\")","v":"Vertex Pharmaceuticals Incorporated"},null,null,null,{"$f":"RTD(\"cqg.rtd\", ,\"ContractData\",C367, \"LastTradeToday\",, \"T\")","v":445.46000000000004},{"$f":"RTD(\"cqg.rtd\", ,\"ContractData\",C367, \"NetLastTradeToday\",, \"T\")","v":-54.730000000000004},{"$f":"IFERROR(RTD(\"cqg.rtd\", ,\"ContractData\",C367, \"PerCentNetLastTrade\",, \"T\")/100,\"\")","v":-0.10941842100001999},{"$f":"RTD(\"cqg.rtd\", ,\"ContractData\", C367, \"T_CVol\",, \"T\")","v":6095379},367,{"$f":"IFERROR(RANK($J367,$J$1:J$391)+COUNTIF($J$1:J367,J367)-1,\"\")","v":387},"S.US.VRTX","S.US.BLDR"]
["S.US.VST",1,"S.US.VST",{"$f":"RTD(\"cqg.rtd\", ,\"ContractData\",C368, \"LongDescription\",, \"T\")","v":"Vistra Corp."},null,null,null,{"$f":"RTD(\"cqg.rtd\", ,\"ContractData\",C368, \"LastTradeToday\",, \"T\")","v":145.97999999999999},{"$f":"RTD(\"cqg.rtd\", ,\"ContractData\",C368, \"NetLastTradeToday\",, \"T\")","v":5.98},{"$f":"IFERROR(RTD(\"cqg.rtd\", ,\"ContractData\",C368, \"PerCentNetLastTrade\",, \"T\")/100,\"\")","v":4.2714285714285712E-2},{"$f":"RTD(\"cqg.rtd\", ,\"ContractData\", C368, \"T_CVol\",, \"T\")","v":8388850},368,{"$f":"IFERROR(RANK($J368,$J$1:J$391)+COUNTIF($J$1:J368,J368)-1,\"\")","v":7},"S.US.VST","S.US.BWXT"]
["S.US.VVV",1,"S.US.VVV",{"$f":"RTD(\"cqg.rtd\", ,\"ContractData\",C369, \"LongDescription\",, \"T\")","v":"Valvoline Inc."},null,null,null,{"$f":"RTD(\"cqg.rtd\", ,\"ContractData\",C369, \"LastTradeToday\",, \"T\")","v":35.03},{"$f":"RTD(\"cqg.rtd\", ,\"ContractData\",C369, \"NetLastTradeToday\",, \"T\")","v":0.57000000000000006},{"$f":"IFERROR(RTD(\"cqg.rtd\", ,\"ContractData\",C369, \"PerCentNetLastTrade\",, \"T\")/100,\"\")","v":1.6540917005223449E-2},{"$f":"RTD(\"cqg.rtd\", ,\"ContractData\", C369, \"T_CVol\",, \"T\")","v":896658},369,{"$f":"IFERROR(RANK($J369,$J$1:J$391)+COUNTIF($J$1:J369,J369)-1,\"\")","v":22},"S.US.VVV","S.US.IQV"]
["S.US.WAT",0,"S.US.WAT",{"$f":"RTD(\"cqg.rtd\", ,\"ContractData\",C370, \"LongDescription\",, \"T\")","v":"Waters Corporation"},null,null,null,{"$f":"RTD(\"cqg.rtd\", ,\"ContractData\",C370, \"LastTradeToday\",, \"T\")","v":336.88},{"$f":"RTD(\"cqg.rtd\", ,\"ContractData\",C370, \"NetLastTradeToday\",, \"T\")","v":-11.5},{"$f":"IFERROR(RTD(\"cqg.rtd\", ,\"ContractData\",C370, \"PerCentNetLastTrade\",, \"T\")/100,\"\")","v":-3.3009931683793556E-2},{"$f":"RTD(\"cqg.rtd\", ,\"ContractData\", C370, \"T_CVol\",, \"T\")","v":728023},370,{"$f":"IFERROR(RANK($J370,$J$1:J$391)+COUNTIF($J$1:J370,J370)-1,\"\")","v":361},"S.US.WAT","S.US.EXPD"]
["S.US.WDAY",1,"S.US.WDAY",{"$f":"RTD(\"cqg.rtd\", ,\"ContractData\",C371, \"LongDescription\",, \"T\")","v":"Workday, Inc."},null,null,null,{"$f":"RTD(\"cqg.rtd\", ,\"ContractData\",C371, \"LastTradeToday\",, \"T\")","v":249.02},{"$f":"RTD(\"cqg.rtd\", ,\"ContractData\",C371, \"NetLastTradeToday\",, \"T\")","v":0.68},{"$f":"IFERROR(RTD(\"cqg.rtd\", ,\"ContractData\",C371, \"PerCentNetLastTrade\",, \"T\")/100,\"\")","v":2.7381815253281795E-3},{"$f":"RTD(\"cqg.rtd\", ,\"ContractData\", C371, \"T_CVol\",, \"T\")","v":459093},371,{"$f":"IFERROR(RANK($J371,$J$1:J$391)+COUNTIF($J$1:J371,J371)-1,\"\")","v":100},"S.US.WDAY","S.US.FAST"]
["S.US.WEN",0,"S.US.WEN",{"$f":"RTD(\"cqg.rtd\", ,\"ContractData\",C372, \"LongDescription\",, \"T\")","v":"The Wendy's Company"},null,null,null,{"$f":"RTD(\"cqg.rtd\", ,\"ContractData\",C372, \"LastTradeToday\",, \"T\")","v":11.86},{"$f":"RTD(\"cqg.rtd\", ,\"ContractData\",C372, \"NetLastTradeToday\",, \"T\")","v":-0.66},{"$f":"IFERROR(RTD(\"cqg.rtd\", ,\"ContractData\",C372, \"PerCentNetLastTrade\",, \"T\")/100,\"\")","v":-5.2715654952076675E-2},{"$f":"RTD(\"cqg.rtd\", ,\"ContractData\", C372, \"T_CVol\",, \"T\")","v":6357262},372,{"$f":"IFERROR(RANK($J372,$J$1:J$391)+COUNTIF($J$1:J372,J372)-1,\"\")","v":377},"S.US.WEN","S.US.ABBV"]
["S.US.WEX",0,"S.US.WEX",{"$f":"RTD(\"cqg.rtd\", ,\"ContractData\",C373, \"LongDescription\",, \"T\")","v":"WEX Inc"},null,null,null,{"$f":"RTD(\"cqg.rtd\", ,\"ContractData\",C373, \"LastTradeToday\",, \"T\")","v":122.65},{"$f":"RTD(\"cqg.rtd\", ,\"ContractData\",C373, \"NetLastTradeToday\",, \"T\")","v":-0.96},{"$f":"IFERROR(RTD(\"cqg.rtd\", ,\"ContractData\",C373, \"PerCentNetLastTrade\",, \"T\")/100,\"\")","v":-7.7663619448264699E-3},{"$f":"RTD(\"cqg.rtd\", ,\"ContractData\", C373, \"T_CVol\",, \"T\")","v":225736},373,{"$f":"IFERROR(RANK($J373,$J$1:J$391)+COUNTIF($J$1:J373,J373)-1,\"\")","v":262},"S.US.WEX","S.US.TXG"]
["S.US.WFRD",1,"S.US.WFRD",{"$f":"RTD(\"cqg.rtd\", ,\"ContractData\",C374, \"LongDescription\",, \"T\")","v":"Weatherford International plc"},null,null,null,{"$f":"RTD(\"cqg.rtd\", ,\"ContractData\",C374, \"LastTradeToday\",, \"T\")","v":44.21},{"$f":"RTD(\"cqg.rtd\", ,\"ContractData\",C374, \"NetLastTradeToday\",, \"T\")","v":0.67},{"$f":"IFERROR(RTD(\"cqg.rtd\", ,\"ContractData\",C374, \"PerCentNetLastTrade\",, \"T\")/100,\"\")","v":1.5388148828663297E-2},{"$f":"RTD(\"cqg.rtd\", ,\"ContractData\", C374, \"T_CVol\",, \"T\")","v":889511},374,{"$f":"IFERROR(RANK($J374,$J$1:J$391)+COUNTIF($J$1:J374,J374)-1,\"\")","v":26},"S.US.WFRD","S.US.MRK"]
["S.US.WH",0,"S.US.WH",{"$f":"RTD(\"cqg.rtd\", ,\"ContractData\",C375, \"LongDescription\",, \"T\")","v":"WSP Holdings Limited"},null,null,null,{"$f":"RTD(\"cqg.rtd\", ,\"ContractData\",C375, \"LastTradeToday\",, \"T\")","v":83.63},{"$f":"RTD(\"cqg.rtd\", ,\"ContractData\",C375, \"NetLastTradeToday\",, \"T\")","v":-0.48},{"$f":"IFERROR(RTD(\"cqg.rtd\", ,\"ContractData\",C375, \"PerCentNetLastTrade\",, \"T\")/100,\"\")","v":-5.7068125074307453E-3},{"$f":"RTD(\"cqg.rtd\", ,\"ContractData\", C375, \"T_CVol\",, \"T\")","v":1045049},375,{"$f":"IFERROR(RANK($J375,$J$1:J$391)+COUNTIF($J$1:J375,J375)-1,\"\")","v":239},"S.US.WH","S.US.IONS"]
["S.US.WING",0,"S.US.WING",{"$f":"RTD(\"cqg.rtd\", ,\"ContractData\",C376, \"LongDescription\",, \"T\")","v":"Wingstop Inc."},null,null,null,{"$f":"RTD(\"cqg.rtd\", ,\"ContractData\",C376, \"LastTradeToday\",, \"T\")","v":266.19},{"$f":"RTD(\"cqg.rtd\", ,\"ContractData\",C376, \"NetLastTradeToday\",, \"T\")","v":-3.0300000000000002},{"$f":"IFERROR(RTD(\"cqg.rtd\", ,\"ContractData\",C376, \"PerCentNetLastTrade\",, \"T\")/100,\"\")","v":-1.1254735903721865E-2},{"$f":"RTD(\"cqg.rtd\", ,\"ContractData\", C376, \"T_CVol\",, \"T\")","v":506587},376,{"$f":"IFERROR(RANK($J376,$J$1:J$391)+COUNTIF($J$1:J376,J376)-1,\"\")","v":290},"S.US.WING","S.US.ZTS"]
["S.US.WM",0,"S.US.WM",{"$f":"RTD(\"cqg.rtd\", ,\"ContractData\",C377, \"LongDescription\",, \"T\")","v":"Waste Mgmt Inc New"},null,null,null,{"$f":"RTD(\"cqg.rtd\", ,\"ContractData\",C377, \"LastTradeToday\",, \"T\")","v":234.78},{"$f":"RTD(\"cqg.rtd\", ,\"ContractData\",C377, \"NetLastTradeToday\",, \"T\")","v":-0.01},{"$f":"IFERROR(RTD(\"cqg.rtd\", ,\"ContractData\",C377, \"PerCentNetLastTrade\",, \"T\")/100,\"\")","v":-4.2591251756889139E-5},{"$f":"RTD(\"cqg.rtd\", ,\"ContractData\", C377, \"T_CVol\",, \"T\")","v":535996},377,{"$f":"IFERROR(RANK($J377,$J$1:J$391)+COUNTIF($J$1:J377,J377)-1,\"\")","v":136},"S.US.WM","S.US.WEN"]
["S.US.WMS",0,"S.US.WMS",{"$f":"RTD(\"cqg.rtd\", ,\"ContractData\",C378, \"LongDescription\",, \"T\")","v":"Advanced Drainage Systems, Inc."},null,null,null,{"$f":"RTD(\"cqg.rtd\", ,\"ContractData\",C378, \"LastTradeToday\",, \"T\")","v":113.66},{"$f":"RTD(\"cqg.rtd\", ,\"ContractData\",C378, \"NetLastTradeToday\",, \"T\")","v":-1.43},{"$f":"IFERROR(RTD(\"cqg.rtd\", ,\"ContractData\",C378, \"PerCentNetLastTrade\",, \"T\")/100,\"\")","v":-1.2425058649752367E-2},{"$f":"RTD(\"cqg.rtd\", ,\"ContractData\", C378, \"T_CVol\",, \"T\")","v":457987},378,{"$f":"IFERROR(RANK($J378,$J$1:J$391)+COUNTIF($J$1:J378,J378)-1,\"\")","v":298},"S.US.WMS","S.US.LLY"]
["S.US.WSC",0,"S.US.WSC",{"$f":"RTD(\"cqg.rtd\", ,\"ContractData\",C379, \"LongDescription\",, \"T\")","v":"WillScot Holdings Corporation"},null,null,null,{"$f":"RTD(\"cqg.rtd\", ,\"ContractData\",C379, \"LastTradeToday\",, \"T\")","v":26.69},{"$f":"RTD(\"cqg.rtd\", ,\"ContractData\",C379, \"NetLastTradeToday\",, \"T\")","v":-0.35000000000000003},{"$f":"IFERROR(RTD(\"cqg.rtd\", ,\"ContractData\",C379, \"PerCentNetLastTrade\",, \"T\")/100,\"\")","v":-1.2943786982248519E-2},{"$f":"RTD(\"cqg.rtd\", ,\"ContractData\", C379, \"T_CVol\",, \"T\")","v":629669},379,{"$f":"IFERROR(RANK($J379,$J$1:J$391)+COUNTIF($J$1:J379,J379)-1,\"\")","v":303},"S.US.WSC","S.US.TDG"]
["S.US.WSM",0,"S.US.WSM",{"$f":"RTD(\"cqg.rtd\", ,\"ContractData\",C380, \"LongDescription\",, \"T\")","v":"Williams-Sonoma Inc"},null,null,null,{"$f":"RTD(\"cqg.rtd\", ,\"ContractData\",C380, \"LastTradeToday\",, \"T\")","v":155.45000000000002},{"$f":"RTD(\"cqg.rtd\", ,\"ContractData\",C380, \"NetLastTradeToday\",, \"T\")","v":-2.94},{"$f":"IFERROR(RTD(\"cqg.rtd\", ,\"ContractData\",C380, \"PerCentNetLastTrade\",, \"T\")/100,\"\")","v":-1.8561777890018311E-2},{"$f":"RTD(\"cqg.rtd\", ,\"ContractData\", C380, \"T_CVol\",, \"T\")","v":656108},380,{"$f":"IFERROR(RANK($J380,$J$1:J$391)+COUNTIF($J$1:J380,J380)-1,\"\")","v":336},"S.US.WSM","S.US.RGEN"]
["S.US.WST",0,"S.US.WST",{"$f":"RTD(\"cqg.rtd\", ,\"ContractData\",C381, \"LongDescription\",, \"T\")","v":"West Pharmaceuticals Svcs Inc"},null,null,null,{"$f":"RTD(\"cqg.rtd\", ,\"ContractData\",C381, \"LastTradeToday\",, \"T\")","v":205.20000000000002},{"$f":"RTD(\"cqg.rtd\", ,\"ContractData\",C381, \"NetLastTradeToday\",, \"T\")","v":-5.78},{"$f":"IFERROR(RTD(\"cqg.rtd\", ,\"ContractData\",C381, \"PerCentNetLastTrade\",, \"T\")/100,\"\")","v":-2.7395961702531047E-2},{"$f":"RTD(\"cqg.rtd\", ,\"ContractData\", C381, \"T_CVol\",, \"T\")","v":349403},381,{"$f":"IFERROR(RANK($J381,$J$1:J$391)+COUNTIF($J$1:J381,J381)-1,\"\")","v":353},"S.US.WST","S.US.REGN"]
["S.US.WU",0,"S.US.WU",{"$f":"RTD(\"cqg.rtd\", ,\"ContractData\",C382, \"LongDescription\",, \"T\")","v":"The Western Union Company"},null,null,null,{"$f":"RTD(\"cqg.rtd\", ,\"ContractData\",C382, \"LastTradeToday\",, \"T\")","v":9.6300000000000008},{"$f":"RTD(\"cqg.rtd\", ,\"ContractData\",C382, \"NetLastTradeToday\",, \"T\")","v":-0.09},{"$f":"IFERROR(RTD(\"cqg.rtd\", ,\"ContractData\",C382, \"PerCentNetLastTrade\",, \"T\")/100,\"\")","v":-9.2592592592592587E-3},{"$f":"RTD(\"cqg.rtd\", ,\"ContractData\", C382, \"T_CVol\",, \"T\")","v":5295430},382,{"$f":"IFERROR(RANK($J382,$J$1:J$391)+COUNTIF($J$1:J382,J382)-1,\"\")","v":277},"S.US.WU","S.US.FTRE"]
["S.US.WYNN",1,"S.US.WYNN",{"$f":"RTD(\"cqg.rtd\", ,\"ContractData\",C383, \"LongDescription\",, \"T\")","v":"Wynn Resorts Ltd"},null,null,null,{"$f":"RTD(\"cqg.rtd\", ,\"ContractData\",C383, \"LastTradeToday\",, \"T\")","v":83.64},{"$f":"RTD(\"cqg.rtd\", ,\"ContractData\",C383, \"NetLastTradeToday\",, \"T\")","v":0.66},{"$f":"IFERROR(RTD(\"cqg.rtd\", ,\"ContractData\",C383, \"PerCentNetLastTrade\",, \"T\")/100,\"\")","v":7.9537237888647871E-3},{"$f":"RTD(\"cqg.rtd\", ,\"ContractData\", C383, \"T_CVol\",, \"T\")","v":1933402},383,{"$f":"IFERROR(RANK($J383,$J$1:J$391)+COUNTIF($J$1:J383,J383)-1,\"\")","v":59},"S.US.WYNN","S.US.VKTX"]
["S.US.XP",0,"S.US.XP",{"$f":"RTD(\"cqg.rtd\", ,\"ContractData\",C384, \"LongDescription\",, \"T\")","v":"XP Inc. Class A"},null,null,null,{"$f":"RTD(\"cqg.rtd\", ,\"ContractData\",C384, \"LastTradeToday\",, \"T\")","v":15.81},{"$f":"RTD(\"cqg.rtd\", ,\"ContractData\",C384, \"NetLastTradeToday\",, \"T\")","v":-0.08},{"$f":"IFERROR(RTD(\"cqg.rtd\", ,\"ContractData\",C384, \"PerCentNetLastTrade\",, \"T\")/100,\"\")","v":-5.0346129641283821E-3},{"$f":"RTD(\"cqg.rtd\", ,\"ContractData\", C384, \"T_CVol\",, \"T\")","v":2162034},384,{"$f":"IFERROR(RANK($J384,$J$1:J$391)+COUNTIF($J$1:J384,J384)-1,\"\")","v":224},"S.US.XP","S.US.EXEL"]
["S.US.XPO",0,"S.US.XPO",{"$f":"RTD(\"cqg.rtd\", ,\"ContractData\",C385, \"LongDescription\",, \"T\")","v":"XPO Inc."},null,null,null,{"$f":"RTD(\"cqg.rtd\", ,\"ContractData\",C385, \"LastTradeToday\",, \"T\")","v":108.23},{"$f":"RTD(\"cqg.rtd\", ,\"ContractData\",C385, \"NetLastTradeToday\",, \"T\")","v":-1.06},{"$f":"IFERROR(RTD(\"cqg.rtd\", ,\"ContractData\",C385, \"PerCentNetLastTrade\",, \"T\")/100,\"\")","v":-9.6989660536188124E-3},{"$f":"RTD(\"cqg.rtd\", ,\"ContractData\", C385, \"T_CVol\",, \"T\")","v":882517},385,{"$f":"IFERROR(RANK($J385,$J$1:J$391)+COUNTIF($J$1:J385,J385)-1,\"\")","v":281},"S.US.XPO",{"$f":"VLOOKUP($L385,$M$1:$N$391,2,FALSE)","v":"S.US.DASH"}]
["S.US.XYZ",{"$f":"IF(J386>0,1,0)","v":1},"S.US.XYZ",{"$f":"RTD(\"cqg.rtd\", ,\"ContractData\",C386, \"LongDescription\",, \"T\")","v":"Square, Inc"},null,null,null,{"$f":"RTD(\"cqg.rtd\", ,\"ContractData\",C386, \"LastTradeToday\",, \"T\")","v":47.25},{"$f":"RTD(\"cqg.rtd\", ,\"ContractData\",C386, \"NetLastTradeToday\",, \"T\")","v":0.61},{"$f":"IFERROR(RTD(\"cqg.rtd\", ,\"ContractData\",C386, \"PerCentNetLastTrade\",, \"T\")/100,\"\")","v":1.3078902229845625E-2},{"$f":"RTD(\"cqg.rtd\", ,\"ContractData\", C386, \"T_CVol\",, \"T\")","v":14925134},386,{"$f":"IFERROR(RANK($J386,$J$1:J$391)+COUNTIF($J$1:J386,J386)-1,\"\")","v":35},"S.US.XYZ","S.US.RARE"]
["S.US.YETI",0,"S.US.YETI",{"$f":"RTD(\"cqg.rtd\", ,\"ContractData\",C387, \"LongDescription\",, \"T\")","v":"Yeti Holdings, Inc."},null,null,null,{"$f":"RTD(\"cqg.rtd\", ,\"ContractData\",C387, \"LastTradeToday\",, \"T\")","v":27.650000000000002},{"$f":"RTD(\"cqg.rtd\", ,\"ContractData\",C387, \"NetLastTradeToday\",, \"T\")","v":-0.81},{"$f":"IFERROR(RTD(\"cqg.rtd\", ,\"ContractData\",C387, \"PerCentNetLastTrade\",, \"T\")/100,\"\")","v":-2.8460997891777935E-2},{"$f":"RTD(\"cqg.rtd\", ,\"ContractData\", C387, \"T_CVol\",, \"T\")","v":1731294},{"$f":"L386+1","v":387},{"$f":"IFERROR(RANK($J387,$J$1:J$391)+COUNTIF($J$1:J387,J387)-1,\"\")","v":354},"S.US.YETI","S.US.VRTX"]
["S.US.YUM",1,"S.US.YUM",{"$f":"RTD(\"cqg.rtd\", ,\"ContractData\",C388, \"LongDescription\",, \"T\")","v":"Yum Brands Inc"},null,null,null,{"$f":"RTD(\"cqg.rtd\", ,\"ContractData\",C388, \"LastTradeToday\",, \"T\")","v":147.9},{"$f":"RTD(\"cqg.rtd\", ,\"ContractData\",C388, \"NetLastTradeToday\",, \"T\")","v":1.32},{"$f":"IFERROR(RTD(\"cqg.rtd\", ,\"ContractData\",C388, \"PerCentNetLastTrade\",, \"T\")/100,\"\")","v":9.005321326238231E-3},{"$f":"RTD(\"cqg.rtd\", ,\"ContractData\", C388, \"T_CVol\",, \"T\")","v":1150666},388,{"$f":"IFERROR(RANK($J388,$J$1:J$391)+COUNTIF($J$1:J388,J388)-1,\"\")","v":50},"S.US.YUM","S.US.PLTR"]
["S.US.ZBRA",1,"S.US.ZBRA",{"$f":"RTD(\"cqg.rtd\", ,\"ContractData\",C389, \"LongDescription\",, \"T\")","v":"Zebra Technologies Corp"},null,null,null,{"$f":"RTD(\"cqg.rtd\", ,\"ContractData\",C389, \"LastTradeToday\",, \"T\")","v":250.9},{"$f":"RTD(\"cqg.rtd\", ,\"ContractData\",C389, \"NetLastTradeToday\",, \"T\")","v":0.2},{"$f":"IFERROR(RTD(\"cqg.rtd\", ,\"ContractData\",C389, \"PerCentNetLastTrade\",, \"T\")/100,\"\")","v":7.9776625448743513E-4},{"$f":"RTD(\"cqg.rtd\", ,\"ContractData\", C389, \"T_CVol\",, \"T\")","v":254366},389,{"$f":"IFERROR(RANK($J389,$J$1:J$391)+COUNTIF($J$1:J389,J389)-1,\"\")","v":121},"S.US.ZBRA","S.US.LSCC"]
["S.US.ZS",1,"S.US.ZS",{"$f":"RTD(\"cqg.rtd\", ,\"ContractData\",C390, \"LongDescription\",, \"T\")","v":"Zscaler, Inc."},null,null,null,{"$f":"RTD(\"cqg.rtd\", ,\"ContractData\",C390, \"LastTradeToday\",, \"T\")","v":233.62},{"$f":"RTD(\"cqg.rtd\", ,\"ContractData\",C390, \"NetLastTradeToday\",, \"T\")","v":0.64},{"$f":"IFERROR(RTD(\"cqg.rtd\", ,\"ContractData\",C390, \"PerCentNetLastTrade\",, \"T\")/100,\"\")","v":2.7470169113228606E-3},{"$f":"RTD(\"cqg.rtd\", ,\"ContractData\", C390, \"T_CVol\",, \"T\")","v":1290981},390,{"$f":"IFERROR(RANK($J390,$J$1:J$391)+COUNTIF($J$1:J390,J390)-1,\"\")","v":99},"S.US.ZS","S.US.UWMC"]
["S.US.ZTS",0,"S.US.ZTS",{"$f":"RTD(\"cqg.rtd\", ,\"ContractData\",C391, \"LongDescription\",, \"T\")","v":"Zoetis Inc"},null,null,null,{"$f":"RTD(\"cqg.rtd\", ,\"ContractData\",C391, \"LastTradeToday\",, \"T\")","v":149.82},{"$f":"RTD(\"cqg.rtd\", ,\"ContractData\",C391, \"NetLastTradeToday\",, \"T\")","v":-8.24},{"$f":"IFERROR(RTD(\"cqg.rtd\", ,\"ContractData\",C391, \"PerCentNetLastTrade\",, \"T\")/100,\"\")","v":-5.2132101733518919E-2},{"$f":"RTD(\"cqg.rtd\", ,\"ContractData\", C391, \"T_CVol\",, \"T\")","v":2927394},391,{"$f":"IFERROR(RANK($J391,$J$1:J$391)+COUNTIF($J$1:J391,J391)-1,\"\")","v":376},"S.US.ZTS","S.US.SRPT"]
[null,{"$f":"SUM(B1:B391)/391","v":0.34015345268542202}]