{"text_format":"1","workbook":"xlsx","n_sheets":2,"sheets":["Display","SMPO"],"not_rendered":{"charts":2,"images":3,"macros":1,"external_links":0,"defined_names":0,"comments":0,"pivot_tables":0},"unopened":[],"bounds":{"document_bytes":16777216,"sheet_cells":100000,"rows_first":2000,"rows_last":500,"rows_between":2000,"halvings":0,"cell_chars":16384,"cell_head_chars":4096},"cells_cut":0,"cells_raw":0,"read":"whole","date_system":"1900"}

{"sheet":"Display","index":0,"n_rows":52,"n_cols":28,"rows_kept":52,"cut":false,"hidden":false,"merged":[[48,25,48,30],[35,2,35,6],[35,14,35,15],[36,2,36,6],[36,14,36,15],[48,9,48,24],[46,2,46,6],[46,14,46,15],[47,2,47,6],[47,14,47,15],[37,2,37,6],[37,14,37,15],[38,2,38,6],[38,14,38,15],[39,2,39,6],[39,14,39,15],[44,2,44,6],[44,14,44,15],[45,2,45,6],[45,14,45,15],[40,2,40,6],[40,14,40,15],[42,2,42,6],[42,14,42,15],[41,2,41,6],[41,14,41,15],[43,2,43,6],[43,14,43,15],[31,2,31,6],[31,14,31,15],[33,2,33,6],[33,14,33,15],[34,2,34,6],[34,14,34,15],[32,2,32,6],[32,14,32,15],[28,2,28,6],[28,14,28,15],[29,2,29,6],[29,14,29,15],[30,2,30,6],[30,14,30,15],[25,2,25,6],[25,14,25,15],[26,2,26,6],[26,14,26,15],[27,2,27,6],[27,14,27,15],[22,2,22,6],[22,14,22,15],[23,2,23,6],[23,14,23,15],[24,2,24,6],[24,14,24,15],[5,14,5,15],[4,1,4,16],[18,2,18,6],[18,14,18,15],[19,2,19,6],[19,14,19,15],[16,2,16,6],[16,14,16,15],[1,1,2,4],[1,27,2,30],[1,5,2,26],[4,18,4,30],[17,2,17,6],[17,14,17,15],[15,2,15,6],[5,2,5,6],[15,14,15,15],[14,14,14,15],[13,14,13,15],[12,14,12,15],[11,14,11,15],[10,14,10,15],[9,14,9,15],[9,2,9,6],[26,18,26,30],[6,2,6,6],[7,2,7,6],[8,2,8,6],[14,2,14,6],[10,2,10,6],[11,2,11,6],[12,2,12,6],[13,2,13,6],[8,14,8,15],[7,14,7,15],[6,14,6,15],[20,2,20,6],[20,14,20,15],[21,2,21,6],[21,14,21,15]]}
[]
[null,null,null,null,null,"CQG Invesco S&P 500® Momentum ETF",null,null,null,null,null,null,null,null,null,null,null,null,null,null,null,null,null,null,null,null,null,{"$f":"RTD(\"cqg.rtd\", ,\"SystemInfo\", \"Linetime\")","v":45792.374386574069}]
[]
[]
[null,"Exchange Traded Funds Performance",null,null,null,null,null,null,null,null,null,null,null,null,null,null,null,null,"Top 15 Performing Companies "]
[null,"Symbol","Description",null,null,null,null,"Last","NC","%NC","NC/ATR","Open","High","Low","Volume",null,"Ratio"]
[null,"SPMO",{"$f":"RTD(\"cqg.rtd\", ,\"ContractData\",B7, \"LongDescription\",, \"T\")","v":"Invesco S&P 500 Momentum ETF"},null,null,null,null,{"$f":"RTD(\"cqg.rtd\", ,\"ContractData\",B7, \"LastTradeToday\",, \"T\")","v":103.84},{"$f":"RTD(\"cqg.rtd\", ,\"ContractData\",B7, \"NetLastTradeToday\",, \"T\")","v":-0.82000000000000006},{"$f":"IFERROR(RTD(\"cqg.rtd\", ,\"ContractData\",B7, \"PerCentNetLastTrade\",, \"T\")/100,\"\")","v":-7.8348939422893185E-3},{"$f":"IFERROR(I7/RTD(\"cqg.rtd\",,\"StudyData\",B7, \"ATR\", \"MaType=Sim,Period=10\", \"ATR\",\"D\",\"-1\",\"ALL\",,,\"FALSE\",\"T\")/100,\"\")","v":-4.3112513144058888E-3},{"$f":"RTD(\"cqg.rtd\", ,\"ContractData\",B7, \"OPen\",, \"T\")","v":103.96000000000001},{"$f":"RTD(\"cqg.rtd\", ,\"ContractData\", B7, \"HIgh\",, \"T\")","v":104.12},{"$f":"RTD(\"cqg.rtd\", ,\"ContractData\",B7, \"LOw\",, \"T\")","v":103.7},{"$f":"RTD(\"cqg.rtd\", ,\"ContractData\",B7, \"T_CVol\",, \"T\")","v":204328},null,{"$f":" IFERROR(O7/RTD(\"cqg.rtd\",,\"StudyData\",B7, \"MA\", \"InputChoice=Vol,MAType=Sim,Period=21\", \"MA\",\"D\",\"-1\",\"all\",,,,\"T\"),\"\")","v":0.14629525635392626}]
[null,"SPY",{"$f":"RTD(\"cqg.rtd\", ,\"ContractData\",B8, \"LongDescription\",, \"T\")","v":"SPDR S&P 500"},null,null,null,null,{"$f":"RTD(\"cqg.rtd\", ,\"ContractData\",B8, \"LastTradeToday\",, \"T\")","v":585.96},{"$f":"RTD(\"cqg.rtd\", ,\"ContractData\",B8, \"NetLastTradeToday\",, \"T\")","v":-1.6300000000000001},{"$f":"IFERROR(RTD(\"cqg.rtd\", ,\"ContractData\",B8, \"PerCentNetLastTrade\",, \"T\")/100,\"\")","v":-2.7740431253084636E-3},{"$f":"IFERROR(I8/RTD(\"cqg.rtd\",,\"StudyData\",B8, \"ATR\", \"MaType=Sim,Period=10\", \"ATR\",\"D\",\"-1\",\"ALL\",,,\"FALSE\",\"T\")/100,\"\")","v":-1.9870778983298795E-3},{"$f":"RTD(\"cqg.rtd\", ,\"ContractData\",B8, \"OPen\",, \"T\")","v":585.56000000000006},{"$f":"RTD(\"cqg.rtd\", ,\"ContractData\", B8, \"HIgh\",, \"T\")","v":586.46},{"$f":"RTD(\"cqg.rtd\", ,\"ContractData\",B8, \"LOw\",, \"T\")","v":585.09},{"$f":"RTD(\"cqg.rtd\", ,\"ContractData\",B8, \"T_CVol\",, \"T\")","v":8206862},null,{"$f":" IFERROR(O8/RTD(\"cqg.rtd\",,\"StudyData\",B8, \"MA\", \"InputChoice=Vol,MAType=Sim,Period=21\", \"MA\",\"D\",\"-1\",\"all\",,,,\"T\"),\"\")","v":0.127432717165608}]
[null,"XLF",{"$f":"RTD(\"cqg.rtd\", ,\"ContractData\",B9, \"LongDescription\",, \"T\")","v":"Financial Select Sector SPDR"},null,null,null,null,{"$f":"RTD(\"cqg.rtd\", ,\"ContractData\",B9, \"LastTradeToday\",, \"T\")","v":51.17},{"$f":"RTD(\"cqg.rtd\", ,\"ContractData\",B9, \"NetLastTradeToday\",, \"T\")","v":0.23},{"$f":"IFERROR(RTD(\"cqg.rtd\", ,\"ContractData\",B9, \"PerCentNetLastTrade\",, \"T\")/100,\"\")","v":4.5151158225363178E-3},{"$f":"IFERROR(I9/RTD(\"cqg.rtd\",,\"StudyData\",B9, \"ATR\", \"MaType=Sim,Period=10\", \"ATR\",\"D\",\"-1\",\"ALL\",,,\"FALSE\",\"T\")/100,\"\")","v":3.2394366197183101E-3},{"$f":"RTD(\"cqg.rtd\", ,\"ContractData\",B9, \"OPen\",, \"T\")","v":50.870000000000005},{"$f":"RTD(\"cqg.rtd\", ,\"ContractData\", B9, \"HIgh\",, \"T\")","v":51.27},{"$f":"RTD(\"cqg.rtd\", ,\"ContractData\",B9, \"LOw\",, \"T\")","v":50.83},{"$f":"RTD(\"cqg.rtd\", ,\"ContractData\",B9, \"T_CVol\",, \"T\")","v":3194660},null,{"$f":" IFERROR(O9/RTD(\"cqg.rtd\",,\"StudyData\",B9, \"MA\", \"InputChoice=Vol,MAType=Sim,Period=21\", \"MA\",\"D\",\"-1\",\"all\",,,,\"T\"),\"\")","v":8.6983488399539677E-2}]
[null,"S.XLY",{"$f":"RTD(\"cqg.rtd\", ,\"ContractData\",B10, \"LongDescription\",, \"T\")","v":"Consumer Discretionary Select SectorSPDR"},null,null,null,null,{"$f":"RTD(\"cqg.rtd\", ,\"ContractData\",B10, \"LastTradeToday\",, \"T\")","v":214.01},{"$f":"RTD(\"cqg.rtd\", ,\"ContractData\",B10, \"NetLastTradeToday\",, \"T\")","v":-2.1},{"$f":"IFERROR(RTD(\"cqg.rtd\", ,\"ContractData\",B10, \"PerCentNetLastTrade\",, \"T\")/100,\"\")","v":-9.7172736106612371E-3},{"$f":"IFERROR(I10/RTD(\"cqg.rtd\",,\"StudyData\",B10, \"ATR\", \"MaType=Sim,Period=10\", \"ATR\",\"D\",\"-1\",\"ALL\",,,\"FALSE\",\"T\")/100,\"\")","v":-5.3231939163498098E-3},{"$f":"RTD(\"cqg.rtd\", ,\"ContractData\",B10, \"OPen\",, \"T\")","v":214.07},{"$f":"RTD(\"cqg.rtd\", ,\"ContractData\", B10, \"HIgh\",, \"T\")","v":214.65},{"$f":"RTD(\"cqg.rtd\", ,\"ContractData\",B10, \"LOw\",, \"T\")","v":213.4},{"$f":"RTD(\"cqg.rtd\", ,\"ContractData\",B10, \"T_CVol\",, \"T\")","v":506157},null,{"$f":" IFERROR(O10/RTD(\"cqg.rtd\",,\"StudyData\",B10, \"MA\", \"InputChoice=Vol,MAType=Sim,Period=21\", \"MA\",\"D\",\"-1\",\"all\",,,,\"T\"),\"\")","v":0.14412465006105307}]
[null,"S.FXI",{"$f":"RTD(\"cqg.rtd\", ,\"ContractData\",B11, \"LongDescription\",, \"T\")","v":"iShares China Large-Cap ETF"},null,null,null,null,{"$f":"RTD(\"cqg.rtd\", ,\"ContractData\",B11, \"LastTradeToday\",, \"T\")","v":35.730000000000004},{"$f":"RTD(\"cqg.rtd\", ,\"ContractData\",B11, \"NetLastTradeToday\",, \"T\")","v":-0.57999999999999996},{"$f":"IFERROR(RTD(\"cqg.rtd\", ,\"ContractData\",B11, \"PerCentNetLastTrade\",, \"T\")/100,\"\")","v":-1.5973561002478657E-2},{"$f":"IFERROR(I11/RTD(\"cqg.rtd\",,\"StudyData\",B11, \"ATR\", \"MaType=Sim,Period=10\", \"ATR\",\"D\",\"-1\",\"ALL\",,,\"FALSE\",\"T\")/100,\"\")","v":-8.6438152011922495E-3},{"$f":"RTD(\"cqg.rtd\", ,\"ContractData\",B11, \"OPen\",, \"T\")","v":35.840000000000003},{"$f":"RTD(\"cqg.rtd\", ,\"ContractData\", B11, \"HIgh\",, \"T\")","v":35.880000000000003},{"$f":"RTD(\"cqg.rtd\", ,\"ContractData\",B11, \"LOw\",, \"T\")","v":35.72},{"$f":"RTD(\"cqg.rtd\", ,\"ContractData\",B11, \"T_CVol\",, \"T\")","v":5741579},null,{"$f":" IFERROR(O11/RTD(\"cqg.rtd\",,\"StudyData\",B11, \"MA\", \"InputChoice=Vol,MAType=Sim,Period=21\", \"MA\",\"D\",\"-1\",\"all\",,,,\"T\"),\"\")","v":0.15254284924161232}]
[null,"IWF",{"$f":"RTD(\"cqg.rtd\", ,\"ContractData\",B12, \"LongDescription\",, \"T\")","v":"iShares Russell 1000 Growth ETF"},null,null,null,null,{"$f":"RTD(\"cqg.rtd\", ,\"ContractData\",B12, \"LastTradeToday\",, \"T\")","v":396.96000000000004},{"$f":"RTD(\"cqg.rtd\", ,\"ContractData\",B12, \"NetLastTradeToday\",, \"T\")","v":-2.66},{"$f":"IFERROR(RTD(\"cqg.rtd\", ,\"ContractData\",B12, \"PerCentNetLastTrade\",, \"T\")/100,\"\")","v":-6.6563235073319651E-3},{"$f":"IFERROR(I12/RTD(\"cqg.rtd\",,\"StudyData\",B12, \"ATR\", \"MaType=Sim,Period=10\", \"ATR\",\"D\",\"-1\",\"ALL\",,,\"FALSE\",\"T\")/100,\"\")","v":-3.8E-3},{"$f":"RTD(\"cqg.rtd\", ,\"ContractData\",B12, \"OPen\",, \"T\")","v":397.69},{"$f":"RTD(\"cqg.rtd\", ,\"ContractData\", B12, \"HIgh\",, \"T\")","v":398.39},{"$f":"RTD(\"cqg.rtd\", ,\"ContractData\",B12, \"LOw\",, \"T\")","v":396.19},{"$f":"RTD(\"cqg.rtd\", ,\"ContractData\",B12, \"T_CVol\",, \"T\")","v":105677},null,{"$f":" IFERROR(O12/RTD(\"cqg.rtd\",,\"StudyData\",B12, \"MA\", \"InputChoice=Vol,MAType=Sim,Period=21\", \"MA\",\"D\",\"-1\",\"all\",,,,\"T\"),\"\")","v":6.3373819599545758E-2}]
[null,"IWO",{"$f":"RTD(\"cqg.rtd\", ,\"ContractData\",B13, \"LongDescription\",, \"T\")","v":"iShares Russell 2000 Growth ETF"},null,null,null,null,{"$f":"RTD(\"cqg.rtd\", ,\"ContractData\",B13, \"LastTradeToday\",, \"T\")","v":269.55},{"$f":"RTD(\"cqg.rtd\", ,\"ContractData\",B13, \"NetLastTradeToday\",, \"T\")","v":-1.56},{"$f":"IFERROR(RTD(\"cqg.rtd\", ,\"ContractData\",B13, \"PerCentNetLastTrade\",, \"T\")/100,\"\")","v":-5.7541219431227171E-3},{"$f":"IFERROR(I13/RTD(\"cqg.rtd\",,\"StudyData\",B13, \"ATR\", \"MaType=Sim,Period=10\", \"ATR\",\"D\",\"-1\",\"ALL\",,,\"FALSE\",\"T\")/100,\"\")","v":-2.9629629629629632E-3},{"$f":"RTD(\"cqg.rtd\", ,\"ContractData\",B13, \"OPen\",, \"T\")","v":270.14999999999998},{"$f":"RTD(\"cqg.rtd\", ,\"ContractData\", B13, \"HIgh\",, \"T\")","v":271.04000000000002},{"$f":"RTD(\"cqg.rtd\", ,\"ContractData\",B13, \"LOw\",, \"T\")","v":269.39999999999998},{"$f":"RTD(\"cqg.rtd\", ,\"ContractData\",B13, \"T_CVol\",, \"T\")","v":41397},null,{"$f":" IFERROR(O13/RTD(\"cqg.rtd\",,\"StudyData\",B13, \"MA\", \"InputChoice=Vol,MAType=Sim,Period=21\", \"MA\",\"D\",\"-1\",\"all\",,,,\"T\"),\"\")","v":9.0774552881522946E-2}]
[null,"EP",{"$f":"RTD(\"cqg.rtd\", ,\"ContractData\",B14, \"LongDescription\",, \"T\")","v":"E-Mini S&P 500, Jun 25"},null,null,null,null,{"$f":"RTD(\"cqg.rtd\", ,\"ContractData\",B14, \"LastTradeToday\",, \"T\")","v":5893.25},{"$f":"RTD(\"cqg.rtd\", ,\"ContractData\",B14, \"NetLastTradeToday\",, \"T\")","v":-15},{"$f":"IFERROR(RTD(\"cqg.rtd\", ,\"ContractData\",B14, \"PerCentNetLastTrade\",, \"T\")/100,\"\")","v":-2.5387154100025388E-3},{"$f":"IFERROR(I14/RTD(\"cqg.rtd\",,\"StudyData\",B14, \"ATR\", \"MaType=Sim,Period=10\", \"ATR\",\"D\",\"-1\",\"ALL\",,,\"FALSE\",\"T\")/100,\"\")","v":-1.636214889555495E-3},{"$f":"RTD(\"cqg.rtd\", ,\"ContractData\",B14, \"OPen\",, \"T\")","v":5904},{"$f":"RTD(\"cqg.rtd\", ,\"ContractData\", B14, \"HIgh\",, \"T\")","v":5904},{"$f":"RTD(\"cqg.rtd\", ,\"ContractData\",B14, \"LOw\",, \"T\")","v":5867},{"$f":"RTD(\"cqg.rtd\", ,\"ContractData\",B14, \"T_CVol\",, \"T\")","v":284613},null,{"$f":" IFERROR(O14/RTD(\"cqg.rtd\",,\"StudyData\",B14, \"MA\", \"InputChoice=Vol,MAType=Sim,Period=21\", \"MA\",\"D\",\"-1\",\"all\",,,,\"T\"),\"\")","v":0.20599152008256652}]
[null,"XLE",{"$f":"RTD(\"cqg.rtd\", ,\"ContractData\",B15, \"LongDescription\",, \"T\")","v":"Energy Select Sector SPDR"},null,null,null,null,{"$f":"RTD(\"cqg.rtd\", ,\"ContractData\",B15, \"LastTradeToday\",, \"T\")","v":84.34},{"$f":"RTD(\"cqg.rtd\", ,\"ContractData\",B15, \"NetLastTradeToday\",, \"T\")","v":-0.91},{"$f":"IFERROR(RTD(\"cqg.rtd\", ,\"ContractData\",B15, \"PerCentNetLastTrade\",, \"T\")/100,\"\")","v":-1.0674486803519061E-2},{"$f":"IFERROR(I15/RTD(\"cqg.rtd\",,\"StudyData\",B15, \"ATR\", \"MaType=Sim,Period=10\", \"ATR\",\"D\",\"-1\",\"ALL\",,,\"FALSE\",\"T\")/100,\"\")","v":-5.1325437112239147E-3},{"$f":"RTD(\"cqg.rtd\", ,\"ContractData\",B15, \"OPen\",, \"T\")","v":84.17},{"$f":"RTD(\"cqg.rtd\", ,\"ContractData\", B15, \"HIgh\",, \"T\")","v":84.53},{"$f":"RTD(\"cqg.rtd\", ,\"ContractData\",B15, \"LOw\",, \"T\")","v":83.960000000000008},{"$f":"RTD(\"cqg.rtd\", ,\"ContractData\",B15, \"T_CVol\",, \"T\")","v":2970636},null,{"$f":" IFERROR(O15/RTD(\"cqg.rtd\",,\"StudyData\",B15, \"MA\", \"InputChoice=Vol,MAType=Sim,Period=21\", \"MA\",\"D\",\"-1\",\"all\",,,,\"T\"),\"\")","v":0.21379867478204784}]
[null,"USO",{"$f":"RTD(\"cqg.rtd\", ,\"ContractData\",B16, \"LongDescription\",, \"T\")","v":"United States Oil Fund"},null,null,null,null,{"$f":"RTD(\"cqg.rtd\", ,\"ContractData\",B16, \"LastTradeToday\",, \"T\")","v":67.56},{"$f":"RTD(\"cqg.rtd\", ,\"ContractData\",B16, \"NetLastTradeToday\",, \"T\")","v":-1.17},{"$f":"IFERROR(RTD(\"cqg.rtd\", ,\"ContractData\",B16, \"PerCentNetLastTrade\",, \"T\")/100,\"\")","v":-1.7023134002618942E-2},{"$f":"IFERROR(I16/RTD(\"cqg.rtd\",,\"StudyData\",B16, \"ATR\", \"MaType=Sim,Period=10\", \"ATR\",\"D\",\"-1\",\"ALL\",,,\"FALSE\",\"T\")/100,\"\")","v":-5.9330628803245435E-3},{"$f":"RTD(\"cqg.rtd\", ,\"ContractData\",B16, \"OPen\",, \"T\")","v":67.13},{"$f":"RTD(\"cqg.rtd\", ,\"ContractData\", B16, \"HIgh\",, \"T\")","v":67.790000000000006},{"$f":"RTD(\"cqg.rtd\", ,\"ContractData\",B16, \"LOw\",, \"T\")","v":66.87},{"$f":"RTD(\"cqg.rtd\", ,\"ContractData\",B16, \"T_CVol\",, \"T\")","v":1490583},null,{"$f":" IFERROR(O16/RTD(\"cqg.rtd\",,\"StudyData\",B16, \"MA\", \"InputChoice=Vol,MAType=Sim,Period=21\", \"MA\",\"D\",\"-1\",\"all\",,,,\"T\"),\"\")","v":0.29178706331800042}]
[null,null,"Top 15 Description",null,null,null,null,"Last","NC","%NC","NC/ATR","Open","High","Low","Volume",null,"Ratio"]
[{"$f":"TRIM(SMPO!O1)","v":"S.US.T"},"News",{"$f":"IFERROR(RTD(\"cqg.rtd\", ,\"ContractData\",A18, \"LongDescription\",, \"T\")&\" (\"&RIGHT(A18,LEN(A18)-5)&\")\",\"\")","v":"AT&T Inc (T)"},null,null,null,null,{"$f":"IFERROR(RTD(\"cqg.rtd\", ,\"ContractData\",A18, \"LastTradeToday\",, \"T\"),\"\")","v":27.03},{"$f":"IFERROR(RTD(\"cqg.rtd\", ,\"ContractData\",A18, \"NetLastTradeToday\",, \"T\"),\"\")","v":0.59},{"$f":"IFERROR(RTD(\"cqg.rtd\", ,\"ContractData\",A18, \"PerCentNetLastTrade\",, \"T\")/100,\"\")","v":2.2314674735249621E-2},{"$f":"IFERROR(I18/RTD(\"cqg.rtd\",,\"StudyData\",A18, \"ATR\", \"MaType=Sim,Period=10\", \"ATR\",\"D\",\"-1\",\"ALL\",,,\"FALSE\",\"T\")/100,\"\")","v":9.5779220779220776E-3},{"$f":"IFERROR(RTD(\"cqg.rtd\", ,\"ContractData\",A18, \"OPen\",, \"T\"),\"\")","v":26.6},{"$f":"IFERROR(RTD(\"cqg.rtd\", ,\"ContractData\", A18, \"HIgh\",, \"T\"),\"\")","v":27.04},{"$f":"IFERROR(RTD(\"cqg.rtd\", ,\"ContractData\",A18, \"LOw\",, \"T\"),\"\")","v":26.59},{"$f":"IFERROR(RTD(\"cqg.rtd\", ,\"ContractData\",A18, \"T_CVol\",, \"T\"),\"\")","v":3361524},null,{"$f":" IFERROR(O18/RTD(\"cqg.rtd\",,\"StudyData\",A18, \"MA\", \"InputChoice=Vol,MAType=Sim,Period=21\", \"MA\",\"D\",\"-1\",\"all\",,,,\"T\"),\"\")","v":9.5799364874077197E-2},{"$f":"SMPO!R1","v":"https://finance.yahoo.com/quote/T "}]
[{"$f":"TRIM(SMPO!O2)","v":"S.US.PM"},"News",{"$f":"IFERROR(RTD(\"cqg.rtd\", ,\"ContractData\",A19, \"LongDescription\",, \"T\")&\" (\"&RIGHT(A19,LEN(A19)-5)&\")\",\"\")","v":"Philip Morris International (PM)"},null,null,null,null,{"$f":"IFERROR(RTD(\"cqg.rtd\", ,\"ContractData\",A19, \"LastTradeToday\",, \"T\"),\"\")","v":167.62},{"$f":"IFERROR(RTD(\"cqg.rtd\", ,\"ContractData\",A19, \"NetLastTradeToday\",, \"T\"),\"\")","v":3.59},{"$f":"IFERROR(RTD(\"cqg.rtd\", ,\"ContractData\",A19, \"PerCentNetLastTrade\",, \"T\")/100,\"\")","v":2.1886240321892337E-2},{"$f":"IFERROR(I19/RTD(\"cqg.rtd\",,\"StudyData\",A19, \"ATR\", \"MaType=Sim,Period=10\", \"ATR\",\"D\",\"-1\",\"ALL\",,,\"FALSE\",\"T\")/100,\"\")","v":1.0971882640586796E-2},{"$f":"IFERROR(RTD(\"cqg.rtd\", ,\"ContractData\",A19, \"OPen\",, \"T\"),\"\")","v":165.26},{"$f":"IFERROR(RTD(\"cqg.rtd\", ,\"ContractData\", A19, \"HIgh\",, \"T\"),\"\")","v":167.79},{"$f":"IFERROR(RTD(\"cqg.rtd\", ,\"ContractData\",A19, \"LOw\",, \"T\"),\"\")","v":164.95000000000002},{"$f":"IFERROR(RTD(\"cqg.rtd\", ,\"ContractData\",A19, \"T_CVol\",, \"T\"),\"\")","v":439179},null,{"$f":" IFERROR(O19/RTD(\"cqg.rtd\",,\"StudyData\",A19, \"MA\", \"InputChoice=Vol,MAType=Sim,Period=21\", \"MA\",\"D\",\"-1\",\"all\",,,,\"T\"),\"\")","v":6.6878410082224032E-2},{"$f":"SMPO!R2","v":"https://finance.yahoo.com/quote/PM "}]
[{"$f":"TRIM(SMPO!O3)","v":"S.US.TMUS"},"News",{"$f":"IFERROR(RTD(\"cqg.rtd\", ,\"ContractData\",A20, \"LongDescription\",, \"T\")&\" (\"&RIGHT(A20,LEN(A20)-5)&\")\",\"\")","v":"T-Mobile US, Inc. (TMUS)"},null,null,null,null,{"$f":"IFERROR(RTD(\"cqg.rtd\", ,\"ContractData\",A20, \"LastTradeToday\",, \"T\"),\"\")","v":240.35},{"$f":"IFERROR(RTD(\"cqg.rtd\", ,\"ContractData\",A20, \"NetLastTradeToday\",, \"T\"),\"\")","v":5.0600000000000005},{"$f":"IFERROR(RTD(\"cqg.rtd\", ,\"ContractData\",A20, \"PerCentNetLastTrade\",, \"T\")/100,\"\")","v":2.150537634408602E-2},{"$f":"IFERROR(I20/RTD(\"cqg.rtd\",,\"StudyData\",A20, \"ATR\", \"MaType=Sim,Period=10\", \"ATR\",\"D\",\"-1\",\"ALL\",,,\"FALSE\",\"T\")/100,\"\")","v":1.0316004077471968E-2},{"$f":"IFERROR(RTD(\"cqg.rtd\", ,\"ContractData\",A20, \"OPen\",, \"T\"),\"\")","v":237.12},{"$f":"IFERROR(RTD(\"cqg.rtd\", ,\"ContractData\", A20, \"HIgh\",, \"T\"),\"\")","v":240.41},{"$f":"IFERROR(RTD(\"cqg.rtd\", ,\"ContractData\",A20, \"LOw\",, \"T\"),\"\")","v":236.42000000000002},{"$f":"IFERROR(RTD(\"cqg.rtd\", ,\"ContractData\",A20, \"T_CVol\",, \"T\"),\"\")","v":454752},null,{"$f":" IFERROR(O20/RTD(\"cqg.rtd\",,\"StudyData\",A20, \"MA\", \"InputChoice=Vol,MAType=Sim,Period=21\", \"MA\",\"D\",\"-1\",\"all\",,,,\"T\"),\"\")","v":0.10329040649175421},{"$f":"SMPO!R3","v":"https://finance.yahoo.com/quote/TMUS "}]
[{"$f":"TRIM(SMPO!O4)","v":"S.US.ETR"},"News",{"$f":"IFERROR(RTD(\"cqg.rtd\", ,\"ContractData\",A21, \"LongDescription\",, \"T\")&\" (\"&RIGHT(A21,LEN(A21)-5)&\")\",\"\")","v":"Entergy Corporation (ETR)"},null,null,null,null,{"$f":"IFERROR(RTD(\"cqg.rtd\", ,\"ContractData\",A21, \"LastTradeToday\",, \"T\"),\"\")","v":82.100000000000009},{"$f":"IFERROR(RTD(\"cqg.rtd\", ,\"ContractData\",A21, \"NetLastTradeToday\",, \"T\"),\"\")","v":1.59},{"$f":"IFERROR(RTD(\"cqg.rtd\", ,\"ContractData\",A21, \"PerCentNetLastTrade\",, \"T\")/100,\"\")","v":1.9749099490746491E-2},{"$f":"IFERROR(I21/RTD(\"cqg.rtd\",,\"StudyData\",A21, \"ATR\", \"MaType=Sim,Period=10\", \"ATR\",\"D\",\"-1\",\"ALL\",,,\"FALSE\",\"T\")/100,\"\")","v":9.6656534954407299E-3},{"$f":"IFERROR(RTD(\"cqg.rtd\", ,\"ContractData\",A21, \"OPen\",, \"T\"),\"\")","v":80.930000000000007},{"$f":"IFERROR(RTD(\"cqg.rtd\", ,\"ContractData\", A21, \"HIgh\",, \"T\"),\"\")","v":82.14},{"$f":"IFERROR(RTD(\"cqg.rtd\", ,\"ContractData\",A21, \"LOw\",, \"T\"),\"\")","v":80.820000000000007},{"$f":"IFERROR(RTD(\"cqg.rtd\", ,\"ContractData\",A21, \"T_CVol\",, \"T\"),\"\")","v":188503},null,{"$f":" IFERROR(O21/RTD(\"cqg.rtd\",,\"StudyData\",A21, \"MA\", \"InputChoice=Vol,MAType=Sim,Period=21\", \"MA\",\"D\",\"-1\",\"all\",,,,\"T\"),\"\")","v":5.5344541586227744E-2},{"$f":"SMPO!R4","v":"https://finance.yahoo.com/quote/ETR "}]
[{"$f":"TRIM(SMPO!O5)","v":"S.US.EBAY"},"News",{"$f":"IFERROR(RTD(\"cqg.rtd\", ,\"ContractData\",A22, \"LongDescription\",, \"T\")&\" (\"&RIGHT(A22,LEN(A22)-5)&\")\",\"\")","v":"eBay Inc (EBAY)"},null,null,null,null,{"$f":"IFERROR(RTD(\"cqg.rtd\", ,\"ContractData\",A22, \"LastTradeToday\",, \"T\"),\"\")","v":70.48},{"$f":"IFERROR(RTD(\"cqg.rtd\", ,\"ContractData\",A22, \"NetLastTradeToday\",, \"T\"),\"\")","v":1.33},{"$f":"IFERROR(RTD(\"cqg.rtd\", ,\"ContractData\",A22, \"PerCentNetLastTrade\",, \"T\")/100,\"\")","v":1.923355025307303E-2},{"$f":"IFERROR(I22/RTD(\"cqg.rtd\",,\"StudyData\",A22, \"ATR\", \"MaType=Sim,Period=10\", \"ATR\",\"D\",\"-1\",\"ALL\",,,\"FALSE\",\"T\")/100,\"\")","v":7.0147679324894519E-3},{"$f":"IFERROR(RTD(\"cqg.rtd\", ,\"ContractData\",A22, \"OPen\",, \"T\"),\"\")","v":69.650000000000006},{"$f":"IFERROR(RTD(\"cqg.rtd\", ,\"ContractData\", A22, \"HIgh\",, \"T\"),\"\")","v":70.75},{"$f":"IFERROR(RTD(\"cqg.rtd\", ,\"ContractData\",A22, \"LOw\",, \"T\"),\"\")","v":69.41},{"$f":"IFERROR(RTD(\"cqg.rtd\", ,\"ContractData\",A22, \"T_CVol\",, \"T\"),\"\")","v":557034},null,{"$f":" IFERROR(O22/RTD(\"cqg.rtd\",,\"StudyData\",A22, \"MA\", \"InputChoice=Vol,MAType=Sim,Period=21\", \"MA\",\"D\",\"-1\",\"all\",,,,\"T\"),\"\")","v":9.8633116309314511E-2},{"$f":"SMPO!R5","v":"https://finance.yahoo.com/quote/EBAY "}]
[{"$f":"TRIM(SMPO!O6)","v":"S.US.MO"},"News",{"$f":"IFERROR(RTD(\"cqg.rtd\", ,\"ContractData\",A23, \"LongDescription\",, \"T\")&\" (\"&RIGHT(A23,LEN(A23)-5)&\")\",\"\")","v":"Altria Group Inc (MO)"},null,null,null,null,{"$f":"IFERROR(RTD(\"cqg.rtd\", ,\"ContractData\",A23, \"LastTradeToday\",, \"T\"),\"\")","v":57.370000000000005},{"$f":"IFERROR(RTD(\"cqg.rtd\", ,\"ContractData\",A23, \"NetLastTradeToday\",, \"T\"),\"\")","v":1.04},{"$f":"IFERROR(RTD(\"cqg.rtd\", ,\"ContractData\",A23, \"PerCentNetLastTrade\",, \"T\")/100,\"\")","v":1.8462630924906801E-2},{"$f":"IFERROR(I23/RTD(\"cqg.rtd\",,\"StudyData\",A23, \"ATR\", \"MaType=Sim,Period=10\", \"ATR\",\"D\",\"-1\",\"ALL\",,,\"FALSE\",\"T\")/100,\"\")","v":1.0038610038610039E-2},{"$f":"IFERROR(RTD(\"cqg.rtd\", ,\"ContractData\",A23, \"OPen\",, \"T\"),\"\")","v":56.65},{"$f":"IFERROR(RTD(\"cqg.rtd\", ,\"ContractData\", A23, \"HIgh\",, \"T\"),\"\")","v":57.39},{"$f":"IFERROR(RTD(\"cqg.rtd\", ,\"ContractData\",A23, \"LOw\",, \"T\"),\"\")","v":56.620000000000005},{"$f":"IFERROR(RTD(\"cqg.rtd\", ,\"ContractData\",A23, \"T_CVol\",, \"T\"),\"\")","v":859115},null,{"$f":" IFERROR(O23/RTD(\"cqg.rtd\",,\"StudyData\",A23, \"MA\", \"InputChoice=Vol,MAType=Sim,Period=21\", \"MA\",\"D\",\"-1\",\"all\",,,,\"T\"),\"\")","v":9.7625923221101488E-2},{"$f":"SMPO!R6","v":"https://finance.yahoo.com/quote/MO "}]
[{"$f":"TRIM(SMPO!O7)","v":"S.US.NI"},"News",{"$f":"IFERROR(RTD(\"cqg.rtd\", ,\"ContractData\",A24, \"LongDescription\",, \"T\")&\" (\"&RIGHT(A24,LEN(A24)-5)&\")\",\"\")","v":"NiSource Inc (NI)"},null,null,null,null,{"$f":"IFERROR(RTD(\"cqg.rtd\", ,\"ContractData\",A24, \"LastTradeToday\",, \"T\"),\"\")","v":38.550000000000004},{"$f":"IFERROR(RTD(\"cqg.rtd\", ,\"ContractData\",A24, \"NetLastTradeToday\",, \"T\"),\"\")","v":0.67},{"$f":"IFERROR(RTD(\"cqg.rtd\", ,\"ContractData\",A24, \"PerCentNetLastTrade\",, \"T\")/100,\"\")","v":1.7687434002111934E-2},{"$f":"IFERROR(I24/RTD(\"cqg.rtd\",,\"StudyData\",A24, \"ATR\", \"MaType=Sim,Period=10\", \"ATR\",\"D\",\"-1\",\"ALL\",,,\"FALSE\",\"T\")/100,\"\")","v":7.427937915742794E-3},{"$f":"IFERROR(RTD(\"cqg.rtd\", ,\"ContractData\",A24, \"OPen\",, \"T\"),\"\")","v":38.090000000000003},{"$f":"IFERROR(RTD(\"cqg.rtd\", ,\"ContractData\", A24, \"HIgh\",, \"T\"),\"\")","v":38.57},{"$f":"IFERROR(RTD(\"cqg.rtd\", ,\"ContractData\",A24, \"LOw\",, \"T\"),\"\")","v":38.090000000000003},{"$f":"IFERROR(RTD(\"cqg.rtd\", ,\"ContractData\",A24, \"T_CVol\",, \"T\"),\"\")","v":134166},null,{"$f":" IFERROR(O24/RTD(\"cqg.rtd\",,\"StudyData\",A24, \"MA\", \"InputChoice=Vol,MAType=Sim,Period=21\", \"MA\",\"D\",\"-1\",\"all\",,,,\"T\"),\"\")","v":2.8492949878786304E-2},{"$f":"SMPO!R7","v":"https://finance.yahoo.com/quote/NI "}]
[{"$f":"TRIM(SMPO!O8)","v":"S.US.BRO"},"News",{"$f":"IFERROR(RTD(\"cqg.rtd\", ,\"ContractData\",A25, \"LongDescription\",, \"T\")&\" (\"&RIGHT(A25,LEN(A25)-5)&\")\",\"\")","v":"BROWN AND BROWN INC (BRO)"},null,null,null,null,{"$f":"IFERROR(RTD(\"cqg.rtd\", ,\"ContractData\",A25, \"LastTradeToday\",, \"T\"),\"\")","v":110.18},{"$f":"IFERROR(RTD(\"cqg.rtd\", ,\"ContractData\",A25, \"NetLastTradeToday\",, \"T\"),\"\")","v":1.9100000000000001},{"$f":"IFERROR(RTD(\"cqg.rtd\", ,\"ContractData\",A25, \"PerCentNetLastTrade\",, \"T\")/100,\"\")","v":1.7641082478987716E-2},{"$f":"IFERROR(I25/RTD(\"cqg.rtd\",,\"StudyData\",A25, \"ATR\", \"MaType=Sim,Period=10\", \"ATR\",\"D\",\"-1\",\"ALL\",,,\"FALSE\",\"T\")/100,\"\")","v":9.6076458752515099E-3},{"$f":"IFERROR(RTD(\"cqg.rtd\", ,\"ContractData\",A25, \"OPen\",, \"T\"),\"\")","v":108.78},{"$f":"IFERROR(RTD(\"cqg.rtd\", ,\"ContractData\", A25, \"HIgh\",, \"T\"),\"\")","v":110.33},{"$f":"IFERROR(RTD(\"cqg.rtd\", ,\"ContractData\",A25, \"LOw\",, \"T\"),\"\")","v":108.29},{"$f":"IFERROR(RTD(\"cqg.rtd\", ,\"ContractData\",A25, \"T_CVol\",, \"T\"),\"\")","v":372224},null,{"$f":" IFERROR(O25/RTD(\"cqg.rtd\",,\"StudyData\",A25, \"MA\", \"InputChoice=Vol,MAType=Sim,Period=21\", \"MA\",\"D\",\"-1\",\"all\",,,,\"T\"),\"\")","v":0.20566918570310069},{"$f":"SMPO!R8","v":"https://finance.yahoo.com/quote/BRO "}]
[{"$f":"TRIM(SMPO!O9)","v":"S.US.PPL"},"News",{"$f":"IFERROR(RTD(\"cqg.rtd\", ,\"ContractData\",A26, \"LongDescription\",, \"T\")&\" (\"&RIGHT(A26,LEN(A26)-5)&\")\",\"\")","v":"PPL Corp (PPL)"},null,null,null,null,{"$f":"IFERROR(RTD(\"cqg.rtd\", ,\"ContractData\",A26, \"LastTradeToday\",, \"T\"),\"\")","v":34.06},{"$f":"IFERROR(RTD(\"cqg.rtd\", ,\"ContractData\",A26, \"NetLastTradeToday\",, \"T\"),\"\")","v":0.54},{"$f":"IFERROR(RTD(\"cqg.rtd\", ,\"ContractData\",A26, \"PerCentNetLastTrade\",, \"T\")/100,\"\")","v":1.6109785202863963E-2},{"$f":"IFERROR(I26/RTD(\"cqg.rtd\",,\"StudyData\",A26, \"ATR\", \"MaType=Sim,Period=10\", \"ATR\",\"D\",\"-1\",\"ALL\",,,\"FALSE\",\"T\")/100,\"\")","v":8.3850931677018643E-3},{"$f":"IFERROR(RTD(\"cqg.rtd\", ,\"ContractData\",A26, \"OPen\",, \"T\"),\"\")","v":33.79},{"$f":"IFERROR(RTD(\"cqg.rtd\", ,\"ContractData\", A26, \"HIgh\",, \"T\"),\"\")","v":34.1},{"$f":"IFERROR(RTD(\"cqg.rtd\", ,\"ContractData\",A26, \"LOw\",, \"T\"),\"\")","v":33.700000000000003},{"$f":"IFERROR(RTD(\"cqg.rtd\", ,\"ContractData\",A26, \"T_CVol\",, \"T\"),\"\")","v":389558},null,{"$f":" IFERROR(O26/RTD(\"cqg.rtd\",,\"StudyData\",A26, \"MA\", \"InputChoice=Vol,MAType=Sim,Period=21\", \"MA\",\"D\",\"-1\",\"all\",,,,\"T\"),\"\")","v":6.3393777197698953E-2},{"$f":"SMPO!R9","v":"https://finance.yahoo.com/quote/PPL "}]
[{"$f":"TRIM(SMPO!O10)","v":"S.US.EVRG"},"News",{"$f":"IFERROR(RTD(\"cqg.rtd\", ,\"ContractData\",A27, \"LongDescription\",, \"T\")&\" (\"&RIGHT(A27,LEN(A27)-5)&\")\",\"\")","v":"Evergy, Inc. (EVRG)"},null,null,null,null,{"$f":"IFERROR(RTD(\"cqg.rtd\", ,\"ContractData\",A27, \"LastTradeToday\",, \"T\"),\"\")","v":65.09},{"$f":"IFERROR(RTD(\"cqg.rtd\", ,\"ContractData\",A27, \"NetLastTradeToday\",, \"T\"),\"\")","v":1.03},{"$f":"IFERROR(RTD(\"cqg.rtd\", ,\"ContractData\",A27, \"PerCentNetLastTrade\",, \"T\")/100,\"\")","v":1.6078676241024038E-2},{"$f":"IFERROR(I27/RTD(\"cqg.rtd\",,\"StudyData\",A27, \"ATR\", \"MaType=Sim,Period=10\", \"ATR\",\"D\",\"-1\",\"ALL\",,,\"FALSE\",\"T\")/100,\"\")","v":7.5791022810890365E-3},{"$f":"IFERROR(RTD(\"cqg.rtd\", ,\"ContractData\",A27, \"OPen\",, \"T\"),\"\")","v":64.3},{"$f":"IFERROR(RTD(\"cqg.rtd\", ,\"ContractData\", A27, \"HIgh\",, \"T\"),\"\")","v":65.150000000000006},{"$f":"IFERROR(RTD(\"cqg.rtd\", ,\"ContractData\",A27, \"LOw\",, \"T\"),\"\")","v":64.22},{"$f":"IFERROR(RTD(\"cqg.rtd\", ,\"ContractData\",A27, \"T_CVol\",, \"T\"),\"\")","v":94390},null,{"$f":" IFERROR(O27/RTD(\"cqg.rtd\",,\"StudyData\",A27, \"MA\", \"InputChoice=Vol,MAType=Sim,Period=21\", \"MA\",\"D\",\"-1\",\"all\",,,,\"T\"),\"\")","v":3.9325990156628375E-2},{"$f":"SMPO!R10","v":"https://finance.yahoo.com/quote/EVRG "},"Bottom 15 Performing Companies "]
[{"$f":"TRIM(SMPO!O11)","v":"S.US.RTX"},"News",{"$f":"IFERROR(RTD(\"cqg.rtd\", ,\"ContractData\",A28, \"LongDescription\",, \"T\")&\" (\"&RIGHT(A28,LEN(A28)-5)&\")\",\"\")","v":"RTX Corporation (RTX)"},null,null,null,null,{"$f":"IFERROR(RTD(\"cqg.rtd\", ,\"ContractData\",A28, \"LastTradeToday\",, \"T\"),\"\")","v":132.86000000000001},{"$f":"IFERROR(RTD(\"cqg.rtd\", ,\"ContractData\",A28, \"NetLastTradeToday\",, \"T\"),\"\")","v":2.0699999999999998},{"$f":"IFERROR(RTD(\"cqg.rtd\", ,\"ContractData\",A28, \"PerCentNetLastTrade\",, \"T\")/100,\"\")","v":1.5826898080893034E-2},{"$f":"IFERROR(I28/RTD(\"cqg.rtd\",,\"StudyData\",A28, \"ATR\", \"MaType=Sim,Period=10\", \"ATR\",\"D\",\"-1\",\"ALL\",,,\"FALSE\",\"T\")/100,\"\")","v":8.2932692307692308E-3},{"$f":"IFERROR(RTD(\"cqg.rtd\", ,\"ContractData\",A28, \"OPen\",, \"T\"),\"\")","v":131.94},{"$f":"IFERROR(RTD(\"cqg.rtd\", ,\"ContractData\", A28, \"HIgh\",, \"T\"),\"\")","v":132.87},{"$f":"IFERROR(RTD(\"cqg.rtd\", ,\"ContractData\",A28, \"LOw\",, \"T\"),\"\")","v":131.75},{"$f":"IFERROR(RTD(\"cqg.rtd\", ,\"ContractData\",A28, \"T_CVol\",, \"T\"),\"\")","v":389788},null,{"$f":" IFERROR(O28/RTD(\"cqg.rtd\",,\"StudyData\",A28, \"MA\", \"InputChoice=Vol,MAType=Sim,Period=21\", \"MA\",\"D\",\"-1\",\"all\",,,,\"T\"),\"\")","v":6.8068020621508102E-2},{"$f":"SMPO!R11","v":"https://finance.yahoo.com/quote/RTX "}]
[{"$f":"TRIM(SMPO!O12)","v":"S.US.IBM"},"News",{"$f":"IFERROR(RTD(\"cqg.rtd\", ,\"ContractData\",A29, \"LongDescription\",, \"T\")&\" (\"&RIGHT(A29,LEN(A29)-5)&\")\",\"\")","v":"International Business Machines (IBM)"},null,null,null,null,{"$f":"IFERROR(RTD(\"cqg.rtd\", ,\"ContractData\",A29, \"LastTradeToday\",, \"T\"),\"\")","v":261.83},{"$f":"IFERROR(RTD(\"cqg.rtd\", ,\"ContractData\",A29, \"NetLastTradeToday\",, \"T\"),\"\")","v":4.01},{"$f":"IFERROR(RTD(\"cqg.rtd\", ,\"ContractData\",A29, \"PerCentNetLastTrade\",, \"T\")/100,\"\")","v":1.5553486928865099E-2},{"$f":"IFERROR(I29/RTD(\"cqg.rtd\",,\"StudyData\",A29, \"ATR\", \"MaType=Sim,Period=10\", \"ATR\",\"D\",\"-1\",\"ALL\",,,\"FALSE\",\"T\")/100,\"\")","v":7.1225577264653643E-3},{"$f":"IFERROR(RTD(\"cqg.rtd\", ,\"ContractData\",A29, \"OPen\",, \"T\"),\"\")","v":259.01},{"$f":"IFERROR(RTD(\"cqg.rtd\", ,\"ContractData\", A29, \"HIgh\",, \"T\"),\"\")","v":262.01},{"$f":"IFERROR(RTD(\"cqg.rtd\", ,\"ContractData\",A29, \"LOw\",, \"T\"),\"\")","v":258.61},{"$f":"IFERROR(RTD(\"cqg.rtd\", ,\"ContractData\",A29, \"T_CVol\",, \"T\"),\"\")","v":303957},null,{"$f":" IFERROR(O29/RTD(\"cqg.rtd\",,\"StudyData\",A29, \"MA\", \"InputChoice=Vol,MAType=Sim,Period=21\", \"MA\",\"D\",\"-1\",\"all\",,,,\"T\"),\"\")","v":6.3181101197491818E-2},{"$f":"SMPO!R12","v":"https://finance.yahoo.com/quote/IBM "}]
[{"$f":"TRIM(SMPO!O13)","v":"S.US.PEG"},"News",{"$f":"IFERROR(RTD(\"cqg.rtd\", ,\"ContractData\",A30, \"LongDescription\",, \"T\")&\" (\"&RIGHT(A30,LEN(A30)-5)&\")\",\"\")","v":"Pub Svc Entrpr Grp Inc (PEG)"},null,null,null,null,{"$f":"IFERROR(RTD(\"cqg.rtd\", ,\"ContractData\",A30, \"LastTradeToday\",, \"T\"),\"\")","v":78.44},{"$f":"IFERROR(RTD(\"cqg.rtd\", ,\"ContractData\",A30, \"NetLastTradeToday\",, \"T\"),\"\")","v":1.1500000000000001},{"$f":"IFERROR(RTD(\"cqg.rtd\", ,\"ContractData\",A30, \"PerCentNetLastTrade\",, \"T\")/100,\"\")","v":1.4879027041014362E-2},{"$f":"IFERROR(I30/RTD(\"cqg.rtd\",,\"StudyData\",A30, \"ATR\", \"MaType=Sim,Period=10\", \"ATR\",\"D\",\"-1\",\"ALL\",,,\"FALSE\",\"T\")/100,\"\")","v":6.8168346176644933E-3},{"$f":"IFERROR(RTD(\"cqg.rtd\", ,\"ContractData\",A30, \"OPen\",, \"T\"),\"\")","v":77.650000000000006},{"$f":"IFERROR(RTD(\"cqg.rtd\", ,\"ContractData\", A30, \"HIgh\",, \"T\"),\"\")","v":78.55},{"$f":"IFERROR(RTD(\"cqg.rtd\", ,\"ContractData\",A30, \"LOw\",, \"T\"),\"\")","v":77.570000000000007},{"$f":"IFERROR(RTD(\"cqg.rtd\", ,\"ContractData\",A30, \"T_CVol\",, \"T\"),\"\")","v":98909},null,{"$f":" IFERROR(O30/RTD(\"cqg.rtd\",,\"StudyData\",A30, \"MA\", \"InputChoice=Vol,MAType=Sim,Period=21\", \"MA\",\"D\",\"-1\",\"all\",,,,\"T\"),\"\")","v":3.4779734327034476E-2},{"$f":"SMPO!R13","v":"https://finance.yahoo.com/quote/PEG "}]
[{"$f":"TRIM(SMPO!O14)","v":"S.US.ATO"},"News",{"$f":"IFERROR(RTD(\"cqg.rtd\", ,\"ContractData\",A31, \"LongDescription\",, \"T\")&\" (\"&RIGHT(A31,LEN(A31)-5)&\")\",\"\")","v":"Atmos Energy Corp (ATO)"},null,null,null,null,{"$f":"IFERROR(RTD(\"cqg.rtd\", ,\"ContractData\",A31, \"LastTradeToday\",, \"T\"),\"\")","v":154.36000000000001},{"$f":"IFERROR(RTD(\"cqg.rtd\", ,\"ContractData\",A31, \"NetLastTradeToday\",, \"T\"),\"\")","v":2.11},{"$f":"IFERROR(RTD(\"cqg.rtd\", ,\"ContractData\",A31, \"PerCentNetLastTrade\",, \"T\")/100,\"\")","v":1.3858784893267653E-2},{"$f":"IFERROR(I31/RTD(\"cqg.rtd\",,\"StudyData\",A31, \"ATR\", \"MaType=Sim,Period=10\", \"ATR\",\"D\",\"-1\",\"ALL\",,,\"FALSE\",\"T\")/100,\"\")","v":6.3363363363363352E-3},{"$f":"IFERROR(RTD(\"cqg.rtd\", ,\"ContractData\",A31, \"OPen\",, \"T\"),\"\")","v":153.64000000000001},{"$f":"IFERROR(RTD(\"cqg.rtd\", ,\"ContractData\", A31, \"HIgh\",, \"T\"),\"\")","v":154.52000000000001},{"$f":"IFERROR(RTD(\"cqg.rtd\", ,\"ContractData\",A31, \"LOw\",, \"T\"),\"\")","v":152.43},{"$f":"IFERROR(RTD(\"cqg.rtd\", ,\"ContractData\",A31, \"T_CVol\",, \"T\"),\"\")","v":45471},null,{"$f":" IFERROR(O31/RTD(\"cqg.rtd\",,\"StudyData\",A31, \"MA\", \"InputChoice=Vol,MAType=Sim,Period=21\", \"MA\",\"D\",\"-1\",\"all\",,,,\"T\"),\"\")","v":3.5027079206330025E-2},{"$f":"SMPO!R14","v":"https://finance.yahoo.com/quote/ATO "}]
[{"$f":"TRIM(SMPO!O15)","v":"S.US.AEE"},"News",{"$f":"IFERROR(RTD(\"cqg.rtd\", ,\"ContractData\",A32, \"LongDescription\",, \"T\")&\" (\"&RIGHT(A32,LEN(A32)-5)&\")\",\"\")","v":"Ameren Corp (AEE)"},null,null,null,null,{"$f":"IFERROR(RTD(\"cqg.rtd\", ,\"ContractData\",A32, \"LastTradeToday\",, \"T\"),\"\")","v":96.320000000000007},{"$f":"IFERROR(RTD(\"cqg.rtd\", ,\"ContractData\",A32, \"NetLastTradeToday\",, \"T\"),\"\")","v":1.31},{"$f":"IFERROR(RTD(\"cqg.rtd\", ,\"ContractData\",A32, \"PerCentNetLastTrade\",, \"T\")/100,\"\")","v":1.3788022313440691E-2},{"$f":"IFERROR(I32/RTD(\"cqg.rtd\",,\"StudyData\",A32, \"ATR\", \"MaType=Sim,Period=10\", \"ATR\",\"D\",\"-1\",\"ALL\",,,\"FALSE\",\"T\")/100,\"\")","v":7.3389355742296929E-3},{"$f":"IFERROR(RTD(\"cqg.rtd\", ,\"ContractData\",A32, \"OPen\",, \"T\"),\"\")","v":95.78},{"$f":"IFERROR(RTD(\"cqg.rtd\", ,\"ContractData\", A32, \"HIgh\",, \"T\"),\"\")","v":96.320000000000007},{"$f":"IFERROR(RTD(\"cqg.rtd\", ,\"ContractData\",A32, \"LOw\",, \"T\"),\"\")","v":95.38},{"$f":"IFERROR(RTD(\"cqg.rtd\", ,\"ContractData\",A32, \"T_CVol\",, \"T\"),\"\")","v":107835},null,{"$f":" IFERROR(O32/RTD(\"cqg.rtd\",,\"StudyData\",A32, \"MA\", \"InputChoice=Vol,MAType=Sim,Period=21\", \"MA\",\"D\",\"-1\",\"all\",,,,\"T\"),\"\")","v":6.5628446200923729E-2},{"$f":"SMPO!R15","v":"https://finance.yahoo.com/quote/AEE "}]
[null,null,"Bottom 15 Description",null,null,null,null,"Last","NC","%NC","NC/ATR","Open","High","Low","Volume",null,"Ratio"]
[{"$f":"TRIM(SMPO!AC1)","v":"S.US.WMT"},"News",{"$f":"IFERROR(RTD(\"cqg.rtd\", ,\"ContractData\",A34, \"LongDescription\",, \"T\")&\" (\"&RIGHT(A34,LEN(A34)-5)&\")\",\"\")","v":"Walmart Inc. (WMT)"},null,null,null,null,{"$f":"IFERROR(RTD(\"cqg.rtd\", ,\"ContractData\",A34, \"LastTradeToday\",, \"T\"),\"\")","v":93.34},{"$f":"IFERROR(RTD(\"cqg.rtd\", ,\"ContractData\",A34, \"NetLastTradeToday\",, \"T\"),\"\")","v":-3.49},{"$f":"IFERROR(RTD(\"cqg.rtd\", ,\"ContractData\",A34, \"PerCentNetLastTrade\",, \"T\")/100,\"\")","v":-3.6042548796860474E-2},{"$f":"IFERROR(I34/RTD(\"cqg.rtd\",,\"StudyData\",A34, \"ATR\", \"MaType=Sim,Period=10\", \"ATR\",\"D\",\"-1\",\"ALL\",,,\"FALSE\",\"T\")/100,\"\")","v":-2.2691807542262681E-2},{"$f":"IFERROR(RTD(\"cqg.rtd\", ,\"ContractData\",A34, \"OPen\",, \"T\"),\"\")","v":94.3},{"$f":"IFERROR(RTD(\"cqg.rtd\", ,\"ContractData\", A34, \"HIgh\",, \"T\"),\"\")","v":94.460000000000008},{"$f":"IFERROR(RTD(\"cqg.rtd\", ,\"ContractData\",A34, \"LOw\",, \"T\"),\"\")","v":91.89},{"$f":"IFERROR(RTD(\"cqg.rtd\", ,\"ContractData\",A34, \"T_CVol\",, \"T\"),\"\")","v":11332969},null,{"$f":" IFERROR(O34/RTD(\"cqg.rtd\",,\"StudyData\",A34, \"MA\", \"InputChoice=Vol,MAType=Sim,Period=21\", \"MA\",\"D\",\"-1\",\"all\",,,,\"T\"),\"\")","v":0.66621816705514736},{"$f":"SMPO!AH1","v":"https://finance.yahoo.com/quote/WMT "}]
[{"$f":"TRIM(SMPO!AC2)","v":"S.US.TPL"},"News",{"$f":"IFERROR(RTD(\"cqg.rtd\", ,\"ContractData\",A35, \"LongDescription\",, \"T\")&\" (\"&RIGHT(A35,LEN(A35)-5)&\")\",\"\")","v":"TEXAS PACIFIC LAND TR (TPL)"},null,null,null,null,{"$f":"IFERROR(RTD(\"cqg.rtd\", ,\"ContractData\",A35, \"LastTradeToday\",, \"T\"),\"\")","v":1360},{"$f":"IFERROR(RTD(\"cqg.rtd\", ,\"ContractData\",A35, \"NetLastTradeToday\",, \"T\"),\"\")","v":-45.92},{"$f":"IFERROR(RTD(\"cqg.rtd\", ,\"ContractData\",A35, \"PerCentNetLastTrade\",, \"T\")/100,\"\")","v":-3.2661886878343011E-2},{"$f":"IFERROR(I35/RTD(\"cqg.rtd\",,\"StudyData\",A35, \"ATR\", \"MaType=Sim,Period=10\", \"ATR\",\"D\",\"-1\",\"ALL\",,,\"FALSE\",\"T\")/100,\"\")","v":-8.2683616327853503E-3},{"$f":"IFERROR(RTD(\"cqg.rtd\", ,\"ContractData\",A35, \"OPen\",, \"T\"),\"\")","v":1381.84},{"$f":"IFERROR(RTD(\"cqg.rtd\", ,\"ContractData\", A35, \"HIgh\",, \"T\"),\"\")","v":1381.84},{"$f":"IFERROR(RTD(\"cqg.rtd\", ,\"ContractData\",A35, \"LOw\",, \"T\"),\"\")","v":1349.71},{"$f":"IFERROR(RTD(\"cqg.rtd\", ,\"ContractData\",A35, \"T_CVol\",, \"T\"),\"\")","v":6436},null,{"$f":" IFERROR(O35/RTD(\"cqg.rtd\",,\"StudyData\",A35, \"MA\", \"InputChoice=Vol,MAType=Sim,Period=21\", \"MA\",\"D\",\"-1\",\"all\",,,,\"T\"),\"\")","v":6.5327184520923828E-2},{"$f":"SMPO!AH2","v":"https://finance.yahoo.com/quote/TPL "}]
[{"$f":"TRIM(SMPO!AC3)","v":"S.US.TSLA"},"News",{"$f":"IFERROR(RTD(\"cqg.rtd\", ,\"ContractData\",A36, \"LongDescription\",, \"T\")&\" (\"&RIGHT(A36,LEN(A36)-5)&\")\",\"\")","v":"Tesla Inc. (TSLA)"},null,null,null,null,{"$f":"IFERROR(RTD(\"cqg.rtd\", ,\"ContractData\",A36, \"LastTradeToday\",, \"T\"),\"\")","v":336.86},{"$f":"IFERROR(RTD(\"cqg.rtd\", ,\"ContractData\",A36, \"NetLastTradeToday\",, \"T\"),\"\")","v":-10.82},{"$f":"IFERROR(RTD(\"cqg.rtd\", ,\"ContractData\",A36, \"PerCentNetLastTrade\",, \"T\")/100,\"\")","v":-3.1120570639668662E-2},{"$f":"IFERROR(I36/RTD(\"cqg.rtd\",,\"StudyData\",A36, \"ATR\", \"MaType=Sim,Period=10\", \"ATR\",\"D\",\"-1\",\"ALL\",,,\"FALSE\",\"T\")/100,\"\")","v":-7.1598729486500798E-3},{"$f":"IFERROR(RTD(\"cqg.rtd\", ,\"ContractData\",A36, \"OPen\",, \"T\"),\"\")","v":340.34000000000003},{"$f":"IFERROR(RTD(\"cqg.rtd\", ,\"ContractData\", A36, \"HIgh\",, \"T\"),\"\")","v":342.25},{"$f":"IFERROR(RTD(\"cqg.rtd\", ,\"ContractData\",A36, \"LOw\",, \"T\"),\"\")","v":336.7},{"$f":"IFERROR(RTD(\"cqg.rtd\", ,\"ContractData\",A36, \"T_CVol\",, \"T\"),\"\")","v":21480458},null,{"$f":" IFERROR(O36/RTD(\"cqg.rtd\",,\"StudyData\",A36, \"MA\", \"InputChoice=Vol,MAType=Sim,Period=21\", \"MA\",\"D\",\"-1\",\"all\",,,,\"T\"),\"\")","v":0.19032634794849379},{"$f":"SMPO!AH3","v":"https://finance.yahoo.com/quote/TSLA "}]
[{"$f":"TRIM(SMPO!AC4)","v":"S.US.ANET"},"News",{"$f":"IFERROR(RTD(\"cqg.rtd\", ,\"ContractData\",A37, \"LongDescription\",, \"T\")&\" (\"&RIGHT(A37,LEN(A37)-5)&\")\",\"\")","v":"Arista Networks, Inc. (ANET)"},null,null,null,null,{"$f":"IFERROR(RTD(\"cqg.rtd\", ,\"ContractData\",A37, \"LastTradeToday\",, \"T\"),\"\")","v":95.23},{"$f":"IFERROR(RTD(\"cqg.rtd\", ,\"ContractData\",A37, \"NetLastTradeToday\",, \"T\"),\"\")","v":-2.99},{"$f":"IFERROR(RTD(\"cqg.rtd\", ,\"ContractData\",A37, \"PerCentNetLastTrade\",, \"T\")/100,\"\")","v":-3.0441865200570149E-2},{"$f":"IFERROR(I37/RTD(\"cqg.rtd\",,\"StudyData\",A37, \"ATR\", \"MaType=Sim,Period=10\", \"ATR\",\"D\",\"-1\",\"ALL\",,,\"FALSE\",\"T\")/100,\"\")","v":-6.3916203505771704E-3},{"$f":"IFERROR(RTD(\"cqg.rtd\", ,\"ContractData\",A37, \"OPen\",, \"T\"),\"\")","v":95.34},{"$f":"IFERROR(RTD(\"cqg.rtd\", ,\"ContractData\", A37, \"HIgh\",, \"T\"),\"\")","v":96.29},{"$f":"IFERROR(RTD(\"cqg.rtd\", ,\"ContractData\",A37, \"LOw\",, \"T\"),\"\")","v":94.63},{"$f":"IFERROR(RTD(\"cqg.rtd\", ,\"ContractData\",A37, \"T_CVol\",, \"T\"),\"\")","v":1243040},null,{"$f":" IFERROR(O37/RTD(\"cqg.rtd\",,\"StudyData\",A37, \"MA\", \"InputChoice=Vol,MAType=Sim,Period=21\", \"MA\",\"D\",\"-1\",\"all\",,,,\"T\"),\"\")","v":0.11331239596462497},{"$f":"SMPO!AH4","v":"https://finance.yahoo.com/quote/ANET "}]
[{"$f":"TRIM(SMPO!AC5)","v":"S.US.KKR"},"News",{"$f":"IFERROR(RTD(\"cqg.rtd\", ,\"ContractData\",A38, \"LongDescription\",, \"T\")&\" (\"&RIGHT(A38,LEN(A38)-5)&\")\",\"\")","v":"KKR & Co. Inc. (KKR)"},null,null,null,null,{"$f":"IFERROR(RTD(\"cqg.rtd\", ,\"ContractData\",A38, \"LastTradeToday\",, \"T\"),\"\")","v":125.51},{"$f":"IFERROR(RTD(\"cqg.rtd\", ,\"ContractData\",A38, \"NetLastTradeToday\",, \"T\"),\"\")","v":-3.52},{"$f":"IFERROR(RTD(\"cqg.rtd\", ,\"ContractData\",A38, \"PerCentNetLastTrade\",, \"T\")/100,\"\")","v":-2.7280477408354646E-2},{"$f":"IFERROR(I38/RTD(\"cqg.rtd\",,\"StudyData\",A38, \"ATR\", \"MaType=Sim,Period=10\", \"ATR\",\"D\",\"-1\",\"ALL\",,,\"FALSE\",\"T\")/100,\"\")","v":-8.0346952750513581E-3},{"$f":"IFERROR(RTD(\"cqg.rtd\", ,\"ContractData\",A38, \"OPen\",, \"T\"),\"\")","v":126.93},{"$f":"IFERROR(RTD(\"cqg.rtd\", ,\"ContractData\", A38, \"HIgh\",, \"T\"),\"\")","v":128.03},{"$f":"IFERROR(RTD(\"cqg.rtd\", ,\"ContractData\",A38, \"LOw\",, \"T\"),\"\")","v":125.21000000000001},{"$f":"IFERROR(RTD(\"cqg.rtd\", ,\"ContractData\",A38, \"T_CVol\",, \"T\"),\"\")","v":471517},null,{"$f":" IFERROR(O38/RTD(\"cqg.rtd\",,\"StudyData\",A38, \"MA\", \"InputChoice=Vol,MAType=Sim,Period=21\", \"MA\",\"D\",\"-1\",\"all\",,,,\"T\"),\"\")","v":9.5039699707836559E-2},{"$f":"SMPO!AH5","v":"https://finance.yahoo.com/quote/KKR "}]
[{"$f":"TRIM(SMPO!AC6)","v":"S.US.AMZN"},"News",{"$f":"IFERROR(RTD(\"cqg.rtd\", ,\"ContractData\",A39, \"LongDescription\",, \"T\")&\" (\"&RIGHT(A39,LEN(A39)-5)&\")\",\"\")","v":"Amazon.com Inc (AMZN)"},null,null,null,null,{"$f":"IFERROR(RTD(\"cqg.rtd\", ,\"ContractData\",A39, \"LastTradeToday\",, \"T\"),\"\")","v":204.93},{"$f":"IFERROR(RTD(\"cqg.rtd\", ,\"ContractData\",A39, \"NetLastTradeToday\",, \"T\"),\"\")","v":-5.32},{"$f":"IFERROR(RTD(\"cqg.rtd\", ,\"ContractData\",A39, \"PerCentNetLastTrade\",, \"T\")/100,\"\")","v":-2.5303210463733648E-2},{"$f":"IFERROR(I39/RTD(\"cqg.rtd\",,\"StudyData\",A39, \"ATR\", \"MaType=Sim,Period=10\", \"ATR\",\"D\",\"-1\",\"ALL\",,,\"FALSE\",\"T\")/100,\"\")","v":-8.1345565749235474E-3},{"$f":"IFERROR(RTD(\"cqg.rtd\", ,\"ContractData\",A39, \"OPen\",, \"T\"),\"\")","v":206.45000000000002},{"$f":"IFERROR(RTD(\"cqg.rtd\", ,\"ContractData\", A39, \"HIgh\",, \"T\"),\"\")","v":206.88},{"$f":"IFERROR(RTD(\"cqg.rtd\", ,\"ContractData\",A39, \"LOw\",, \"T\"),\"\")","v":203.5},{"$f":"IFERROR(RTD(\"cqg.rtd\", ,\"ContractData\",A39, \"T_CVol\",, \"T\"),\"\")","v":10336201},null,{"$f":" IFERROR(O39/RTD(\"cqg.rtd\",,\"StudyData\",A39, \"MA\", \"InputChoice=Vol,MAType=Sim,Period=21\", \"MA\",\"D\",\"-1\",\"all\",,,,\"T\"),\"\")","v":0.2128052327218144},{"$f":"SMPO!AH6","v":"https://finance.yahoo.com/quote/AMZN "}]
[{"$f":"TRIM(SMPO!AC7)","v":"S.US.PLTR"},"News",{"$f":"IFERROR(RTD(\"cqg.rtd\", ,\"ContractData\",A40, \"LongDescription\",, \"T\")&\" (\"&RIGHT(A40,LEN(A40)-5)&\")\",\"\")","v":"Palantir Technologies Inc. (PLTR)"},null,null,null,null,{"$f":"IFERROR(RTD(\"cqg.rtd\", ,\"ContractData\",A40, \"LastTradeToday\",, \"T\"),\"\")","v":127.63000000000001},{"$f":"IFERROR(RTD(\"cqg.rtd\", ,\"ContractData\",A40, \"NetLastTradeToday\",, \"T\"),\"\")","v":-2.5500000000000003},{"$f":"IFERROR(RTD(\"cqg.rtd\", ,\"ContractData\",A40, \"PerCentNetLastTrade\",, \"T\")/100,\"\")","v":-1.9588262405899524E-2},{"$f":"IFERROR(I40/RTD(\"cqg.rtd\",,\"StudyData\",A40, \"ATR\", \"MaType=Sim,Period=10\", \"ATR\",\"D\",\"-1\",\"ALL\",,,\"FALSE\",\"T\")/100,\"\")","v":-3.2793209876543217E-3},{"$f":"IFERROR(RTD(\"cqg.rtd\", ,\"ContractData\",A40, \"OPen\",, \"T\"),\"\")","v":128.37},{"$f":"IFERROR(RTD(\"cqg.rtd\", ,\"ContractData\", A40, \"HIgh\",, \"T\"),\"\")","v":130.19},{"$f":"IFERROR(RTD(\"cqg.rtd\", ,\"ContractData\",A40, \"LOw\",, \"T\"),\"\")","v":127.39},{"$f":"IFERROR(RTD(\"cqg.rtd\", ,\"ContractData\",A40, \"T_CVol\",, \"T\"),\"\")","v":14030579},null,{"$f":" IFERROR(O40/RTD(\"cqg.rtd\",,\"StudyData\",A40, \"MA\", \"InputChoice=Vol,MAType=Sim,Period=21\", \"MA\",\"D\",\"-1\",\"all\",,,,\"T\"),\"\")","v":0.12853072534618612},{"$f":"SMPO!AH7","v":"https://finance.yahoo.com/quote/PLTR "}]
[{"$f":"TRIM(SMPO!AC8)","v":"S.US.ISRG"},"News",{"$f":"IFERROR(RTD(\"cqg.rtd\", ,\"ContractData\",A41, \"LongDescription\",, \"T\")&\" (\"&RIGHT(A41,LEN(A41)-5)&\")\",\"\")","v":"Intuitive Surgical Inc (ISRG)"},null,null,null,null,{"$f":"IFERROR(RTD(\"cqg.rtd\", ,\"ContractData\",A41, \"LastTradeToday\",, \"T\"),\"\")","v":555.16999999999996},{"$f":"IFERROR(RTD(\"cqg.rtd\", ,\"ContractData\",A41, \"NetLastTradeToday\",, \"T\"),\"\")","v":-10.77},{"$f":"IFERROR(RTD(\"cqg.rtd\", ,\"ContractData\",A41, \"PerCentNetLastTrade\",, \"T\")/100,\"\")","v":-1.9030285896031382E-2},{"$f":"IFERROR(I41/RTD(\"cqg.rtd\",,\"StudyData\",A41, \"ATR\", \"MaType=Sim,Period=10\", \"ATR\",\"D\",\"-1\",\"ALL\",,,\"FALSE\",\"T\")/100,\"\")","v":-8.6777858351462407E-3},{"$f":"IFERROR(RTD(\"cqg.rtd\", ,\"ContractData\",A41, \"OPen\",, \"T\"),\"\")","v":559.32000000000005},{"$f":"IFERROR(RTD(\"cqg.rtd\", ,\"ContractData\", A41, \"HIgh\",, \"T\"),\"\")","v":562.41},{"$f":"IFERROR(RTD(\"cqg.rtd\", ,\"ContractData\",A41, \"LOw\",, \"T\"),\"\")","v":549.55000000000007},{"$f":"IFERROR(RTD(\"cqg.rtd\", ,\"ContractData\",A41, \"T_CVol\",, \"T\"),\"\")","v":375241},null,{"$f":" IFERROR(O41/RTD(\"cqg.rtd\",,\"StudyData\",A41, \"MA\", \"InputChoice=Vol,MAType=Sim,Period=21\", \"MA\",\"D\",\"-1\",\"all\",,,,\"T\"),\"\")","v":0.20817528667271867},{"$f":"SMPO!AH8","v":"https://finance.yahoo.com/quote/ISRG "}]
[{"$f":"TRIM(SMPO!AC9)","v":"S.US.BKR"},"News",{"$f":"IFERROR(RTD(\"cqg.rtd\", ,\"ContractData\",A42, \"LongDescription\",, \"T\")&\" (\"&RIGHT(A42,LEN(A42)-5)&\")\",\"\")","v":"Baker Hughes Company (BKR)"},null,null,null,null,{"$f":"IFERROR(RTD(\"cqg.rtd\", ,\"ContractData\",A42, \"LastTradeToday\",, \"T\"),\"\")","v":37.130000000000003},{"$f":"IFERROR(RTD(\"cqg.rtd\", ,\"ContractData\",A42, \"NetLastTradeToday\",, \"T\"),\"\")","v":-0.71},{"$f":"IFERROR(RTD(\"cqg.rtd\", ,\"ContractData\",A42, \"PerCentNetLastTrade\",, \"T\")/100,\"\")","v":-1.8763213530655392E-2},{"$f":"IFERROR(I42/RTD(\"cqg.rtd\",,\"StudyData\",A42, \"ATR\", \"MaType=Sim,Period=10\", \"ATR\",\"D\",\"-1\",\"ALL\",,,\"FALSE\",\"T\")/100,\"\")","v":-7.1862348178137643E-3},{"$f":"IFERROR(RTD(\"cqg.rtd\", ,\"ContractData\",A42, \"OPen\",, \"T\"),\"\")","v":37.36},{"$f":"IFERROR(RTD(\"cqg.rtd\", ,\"ContractData\", A42, \"HIgh\",, \"T\"),\"\")","v":37.380000000000003},{"$f":"IFERROR(RTD(\"cqg.rtd\", ,\"ContractData\",A42, \"LOw\",, \"T\"),\"\")","v":37.020000000000003},{"$f":"IFERROR(RTD(\"cqg.rtd\", ,\"ContractData\",A42, \"T_CVol\",, \"T\"),\"\")","v":587917},null,{"$f":" IFERROR(O42/RTD(\"cqg.rtd\",,\"StudyData\",A42, \"MA\", \"InputChoice=Vol,MAType=Sim,Period=21\", \"MA\",\"D\",\"-1\",\"all\",,,,\"T\"),\"\")","v":7.181170768908926E-2},{"$f":"SMPO!AH9","v":"https://finance.yahoo.com/quote/BKR "}]
[{"$f":"TRIM(SMPO!AC10)","v":"S.US.UAL"},"News",{"$f":"IFERROR(RTD(\"cqg.rtd\", ,\"ContractData\",A43, \"LongDescription\",, \"T\")&\" (\"&RIGHT(A43,LEN(A43)-5)&\")\",\"\")","v":"UAL Continental Holdings, Inc. (UAL)"},null,null,null,null,{"$f":"IFERROR(RTD(\"cqg.rtd\", ,\"ContractData\",A43, \"LastTradeToday\",, \"T\"),\"\")","v":77.67},{"$f":"IFERROR(RTD(\"cqg.rtd\", ,\"ContractData\",A43, \"NetLastTradeToday\",, \"T\"),\"\")","v":-1.32},{"$f":"IFERROR(RTD(\"cqg.rtd\", ,\"ContractData\",A43, \"PerCentNetLastTrade\",, \"T\")/100,\"\")","v":-1.6710976072920623E-2},{"$f":"IFERROR(I43/RTD(\"cqg.rtd\",,\"StudyData\",A43, \"ATR\", \"MaType=Sim,Period=10\", \"ATR\",\"D\",\"-1\",\"ALL\",,,\"FALSE\",\"T\")/100,\"\")","v":-2.9457710332515064E-3},{"$f":"IFERROR(RTD(\"cqg.rtd\", ,\"ContractData\",A43, \"OPen\",, \"T\"),\"\")","v":78.94},{"$f":"IFERROR(RTD(\"cqg.rtd\", ,\"ContractData\", A43, \"HIgh\",, \"T\"),\"\")","v":79.09},{"$f":"IFERROR(RTD(\"cqg.rtd\", ,\"ContractData\",A43, \"LOw\",, \"T\"),\"\")","v":77.45},{"$f":"IFERROR(RTD(\"cqg.rtd\", ,\"ContractData\",A43, \"T_CVol\",, \"T\"),\"\")","v":712537},null,{"$f":" IFERROR(O43/RTD(\"cqg.rtd\",,\"StudyData\",A43, \"MA\", \"InputChoice=Vol,MAType=Sim,Period=21\", \"MA\",\"D\",\"-1\",\"all\",,,,\"T\"),\"\")","v":8.1208059843267677E-2},{"$f":"SMPO!AH10","v":"https://finance.yahoo.com/quote/UAL "}]
[{"$f":"TRIM(SMPO!AC11)","v":"S.US.TRGP"},"News",{"$f":"IFERROR(RTD(\"cqg.rtd\", ,\"ContractData\",A44, \"LongDescription\",, \"T\")&\" (\"&RIGHT(A44,LEN(A44)-5)&\")\",\"\")","v":"Targa Resources Corp (TRGP)"},null,null,null,null,{"$f":"IFERROR(RTD(\"cqg.rtd\", ,\"ContractData\",A44, \"LastTradeToday\",, \"T\"),\"\")","v":165.9},{"$f":"IFERROR(RTD(\"cqg.rtd\", ,\"ContractData\",A44, \"NetLastTradeToday\",, \"T\"),\"\")","v":-2.68},{"$f":"IFERROR(RTD(\"cqg.rtd\", ,\"ContractData\",A44, \"PerCentNetLastTrade\",, \"T\")/100,\"\")","v":-1.5897496737454029E-2},{"$f":"IFERROR(I44/RTD(\"cqg.rtd\",,\"StudyData\",A44, \"ATR\", \"MaType=Sim,Period=10\", \"ATR\",\"D\",\"-1\",\"ALL\",,,\"FALSE\",\"T\")/100,\"\")","v":-4.2983159582999199E-3},{"$f":"IFERROR(RTD(\"cqg.rtd\", ,\"ContractData\",A44, \"OPen\",, \"T\"),\"\")","v":164.81},{"$f":"IFERROR(RTD(\"cqg.rtd\", ,\"ContractData\", A44, \"HIgh\",, \"T\"),\"\")","v":166.36},{"$f":"IFERROR(RTD(\"cqg.rtd\", ,\"ContractData\",A44, \"LOw\",, \"T\"),\"\")","v":164.22},{"$f":"IFERROR(RTD(\"cqg.rtd\", ,\"ContractData\",A44, \"T_CVol\",, \"T\"),\"\")","v":392675},null,{"$f":" IFERROR(O44/RTD(\"cqg.rtd\",,\"StudyData\",A44, \"MA\", \"InputChoice=Vol,MAType=Sim,Period=21\", \"MA\",\"D\",\"-1\",\"all\",,,,\"T\"),\"\")","v":0.17347647664930171},{"$f":"SMPO!AH11","v":"https://finance.yahoo.com/quote/TRGP "}]
[{"$f":"TRIM(SMPO!AC12)","v":"S.US.VST"},"News",{"$f":"IFERROR(RTD(\"cqg.rtd\", ,\"ContractData\",A45, \"LongDescription\",, \"T\")&\" (\"&RIGHT(A45,LEN(A45)-5)&\")\",\"\")","v":"Vistra Corp. (VST)"},null,null,null,null,{"$f":"IFERROR(RTD(\"cqg.rtd\", ,\"ContractData\",A45, \"LastTradeToday\",, \"T\"),\"\")","v":152.27000000000001},{"$f":"IFERROR(RTD(\"cqg.rtd\", ,\"ContractData\",A45, \"NetLastTradeToday\",, \"T\"),\"\")","v":-2.4500000000000002},{"$f":"IFERROR(RTD(\"cqg.rtd\", ,\"ContractData\",A45, \"PerCentNetLastTrade\",, \"T\")/100,\"\")","v":-1.5835056876938987E-2},{"$f":"IFERROR(I45/RTD(\"cqg.rtd\",,\"StudyData\",A45, \"ATR\", \"MaType=Sim,Period=10\", \"ATR\",\"D\",\"-1\",\"ALL\",,,\"FALSE\",\"T\")/100,\"\")","v":-2.9564377941353926E-3},{"$f":"IFERROR(RTD(\"cqg.rtd\", ,\"ContractData\",A45, \"OPen\",, \"T\"),\"\")","v":151},{"$f":"IFERROR(RTD(\"cqg.rtd\", ,\"ContractData\", A45, \"HIgh\",, \"T\"),\"\")","v":153.59},{"$f":"IFERROR(RTD(\"cqg.rtd\", ,\"ContractData\",A45, \"LOw\",, \"T\"),\"\")","v":150.84},{"$f":"IFERROR(RTD(\"cqg.rtd\", ,\"ContractData\",A45, \"T_CVol\",, \"T\"),\"\")","v":588284},null,{"$f":" IFERROR(O45/RTD(\"cqg.rtd\",,\"StudyData\",A45, \"MA\", \"InputChoice=Vol,MAType=Sim,Period=21\", \"MA\",\"D\",\"-1\",\"all\",,,,\"T\"),\"\")","v":8.9932875548378102E-2},{"$f":"SMPO!AH12","v":"https://finance.yahoo.com/quote/VST "}]
[{"$f":"TRIM(SMPO!AC13)","v":"S.US.OKE"},"News",{"$f":"IFERROR(RTD(\"cqg.rtd\", ,\"ContractData\",A46, \"LongDescription\",, \"T\")&\" (\"&RIGHT(A46,LEN(A46)-5)&\")\",\"\")","v":"ONEOK Inc New (OKE)"},null,null,null,null,{"$f":"IFERROR(RTD(\"cqg.rtd\", ,\"ContractData\",A46, \"LastTradeToday\",, \"T\"),\"\")","v":85.28},{"$f":"IFERROR(RTD(\"cqg.rtd\", ,\"ContractData\",A46, \"NetLastTradeToday\",, \"T\"),\"\")","v":-1.33},{"$f":"IFERROR(RTD(\"cqg.rtd\", ,\"ContractData\",A46, \"PerCentNetLastTrade\",, \"T\")/100,\"\")","v":-1.535619443482277E-2},{"$f":"IFERROR(I46/RTD(\"cqg.rtd\",,\"StudyData\",A46, \"ATR\", \"MaType=Sim,Period=10\", \"ATR\",\"D\",\"-1\",\"ALL\",,,\"FALSE\",\"T\")/100,\"\")","v":-5.2197802197802203E-3},{"$f":"IFERROR(RTD(\"cqg.rtd\", ,\"ContractData\",A46, \"OPen\",, \"T\"),\"\")","v":85.25},{"$f":"IFERROR(RTD(\"cqg.rtd\", ,\"ContractData\", A46, \"HIgh\",, \"T\"),\"\")","v":86.04},{"$f":"IFERROR(RTD(\"cqg.rtd\", ,\"ContractData\",A46, \"LOw\",, \"T\"),\"\")","v":85.16},{"$f":"IFERROR(RTD(\"cqg.rtd\", ,\"ContractData\",A46, \"T_CVol\",, \"T\"),\"\")","v":510241},null,{"$f":" IFERROR(O46/RTD(\"cqg.rtd\",,\"StudyData\",A46, \"MA\", \"InputChoice=Vol,MAType=Sim,Period=21\", \"MA\",\"D\",\"-1\",\"all\",,,,\"T\"),\"\")","v":0.13681672390101787},{"$f":"SMPO!AH13","v":"https://finance.yahoo.com/quote/OKE "}]
[{"$f":"TRIM(SMPO!AC14)","v":"S.US.NVDA"},"News",{"$f":"IFERROR(RTD(\"cqg.rtd\", ,\"ContractData\",A47, \"LongDescription\",, \"T\")&\" (\"&RIGHT(A47,LEN(A47)-5)&\")\",\"\")","v":"NVIDIA Corp (NVDA)"},null,null,null,null,{"$f":"IFERROR(RTD(\"cqg.rtd\", ,\"ContractData\",A47, \"LastTradeToday\",, \"T\"),\"\")","v":133.31},{"$f":"IFERROR(RTD(\"cqg.rtd\", ,\"ContractData\",A47, \"NetLastTradeToday\",, \"T\"),\"\")","v":-2.0300000000000002},{"$f":"IFERROR(RTD(\"cqg.rtd\", ,\"ContractData\",A47, \"PerCentNetLastTrade\",, \"T\")/100,\"\")","v":-1.4999261120141865E-2},{"$f":"IFERROR(I47/RTD(\"cqg.rtd\",,\"StudyData\",A47, \"ATR\", \"MaType=Sim,Period=10\", \"ATR\",\"D\",\"-1\",\"ALL\",,,\"FALSE\",\"T\")/100,\"\")","v":-4.3154761904761916E-3},{"$f":"IFERROR(RTD(\"cqg.rtd\", ,\"ContractData\",A47, \"OPen\",, \"T\"),\"\")","v":134.29},{"$f":"IFERROR(RTD(\"cqg.rtd\", ,\"ContractData\", A47, \"HIgh\",, \"T\"),\"\")","v":134.72},{"$f":"IFERROR(RTD(\"cqg.rtd\", ,\"ContractData\",A47, \"LOw\",, \"T\"),\"\")","v":132.66},{"$f":"IFERROR(RTD(\"cqg.rtd\", ,\"ContractData\",A47, \"T_CVol\",, \"T\"),\"\")","v":44235568},null,{"$f":" IFERROR(O47/RTD(\"cqg.rtd\",,\"StudyData\",A47, \"MA\", \"InputChoice=Vol,MAType=Sim,Period=21\", \"MA\",\"D\",\"-1\",\"all\",,,,\"T\"),\"\")","v":0.1905736317720246},{"$f":"SMPO!AH14","v":"https://finance.yahoo.com/quote/NVDA "}]
[{"$f":"TRIM(SMPO!AC15)","v":"S.US.SYF"},"News",{"$f":"IFERROR(RTD(\"cqg.rtd\", ,\"ContractData\",A48, \"LongDescription\",, \"T\")&\" (\"&RIGHT(A48,LEN(A48)-5)&\")\",\"\")","v":"Synchrony Financial (SYF)"},null,null,null,null,{"$f":"IFERROR(RTD(\"cqg.rtd\", ,\"ContractData\",A48, \"LastTradeToday\",, \"T\"),\"\")","v":60.29},{"$f":"IFERROR(RTD(\"cqg.rtd\", ,\"ContractData\",A48, \"NetLastTradeToday\",, \"T\"),\"\")","v":-0.81},{"$f":"IFERROR(RTD(\"cqg.rtd\", ,\"ContractData\",A48, \"PerCentNetLastTrade\",, \"T\")/100,\"\")","v":-1.3256955810147299E-2},{"$f":"IFERROR(I48/RTD(\"cqg.rtd\",,\"StudyData\",A48, \"ATR\", \"MaType=Sim,Period=10\", \"ATR\",\"D\",\"-1\",\"ALL\",,,\"FALSE\",\"T\")/100,\"\")","v":-4.4950055493895675E-3},{"$f":"IFERROR(RTD(\"cqg.rtd\", ,\"ContractData\",A48, \"OPen\",, \"T\"),\"\")","v":60.61},{"$f":"IFERROR(RTD(\"cqg.rtd\", ,\"ContractData\", A48, \"HIgh\",, \"T\"),\"\")","v":60.84},{"$f":"IFERROR(RTD(\"cqg.rtd\", ,\"ContractData\",A48, \"LOw\",, \"T\"),\"\")","v":60.13},{"$f":"IFERROR(RTD(\"cqg.rtd\", ,\"ContractData\",A48, \"T_CVol\",, \"T\"),\"\")","v":352993},null,{"$f":" IFERROR(O48/RTD(\"cqg.rtd\",,\"StudyData\",A48, \"MA\", \"InputChoice=Vol,MAType=Sim,Period=21\", \"MA\",\"D\",\"-1\",\"all\",,,,\"T\"),\"\")","v":8.098819531855779E-2},{"$f":"SMPO!AH15","v":"https://finance.yahoo.com/quote/SYF "}]
[null,null,"CQG Inc.,   Copyright © 2025",null,null,null,"Designed by Thom Hartle",null,null,"The Invesco S&P 500® Momentum ETF (Fund) is based on the S&P 500 Momentum Index (Index). ",null,null,null,null,null,null,null,null,null,null,null,null,null,null,null,{"$f":"Z52","v":"52% of the stocks in the ETF are higher today"}]
[]
[null,null,null,null,null,null,null,null,null,null,null,null,null,null,null,null,null,null,null,null,null,null,null,null,null,{"$f":"SMPO!B99","v":0.52040816326530615},"of the stocks in the ETF are higher today"]
[null,null,null,null,null,null,null,null,null,null,null,null,null,null,null,null,null,null,null,null,null,null,null,null,null,{"$f":"TEXT(Display!Z51,\"0%\")&\" \"&Display!AA51","v":"52% of the stocks in the ETF are higher today"}]

{"sheet":"SMPO","index":1,"n_rows":99,"n_cols":34,"rows_kept":99,"cut":false,"hidden":true,"merged":[]}
["S.US.FOX ",{"$f":"IF(J1>0,1,0)","v":1},"S.US.FOX ",{"$f":"RTD(\"cqg.rtd\", ,\"ContractData\",C1, \"LongDescription\",, \"T\")","v":"Fox Corporation"},null,null,null,{"$f":"RTD(\"cqg.rtd\", ,\"ContractData\",C1, \"LastTradeToday\",, \"T\")","v":50.97},{"$f":"RTD(\"cqg.rtd\", ,\"ContractData\",C1, \"NetLastTradeToday\",, \"T\")","v":0.43},{"$f":"IFERROR(RTD(\"cqg.rtd\", ,\"ContractData\",C1, \"PerCentNetLastTrade\",, \"T\")/100,\"\")","v":8.5081123862287295E-3},{"$f":"RTD(\"cqg.rtd\", ,\"ContractData\", C1, \"T_CVol\",, \"T\")","v":104745},1,{"$f":"IFERROR(RANK($J1,$J$1:J$98)+COUNTIF($J$1:J1,J1)-1,\"\")","v":26},{"$f":"C1","v":"S.US.FOX "},{"$f":"VLOOKUP($L1,$M$1:$N$98,2,FALSE)","v":"S.US.T "},{"$f":"RTD(\"cqg.rtd\", ,\"ContractData\",O1, \"LongDescription\",, \"T\")","v":"AT&T Inc"},{"$f":"IFERROR(RTD(\"cqg.rtd\", ,\"ContractData\",O1, \"PerCentNetLastTrade\",, \"T\")/100,\"\")","v":2.2314674735249621E-2},{"$f":"\"https://finance.yahoo.com/quote/\"&RIGHT(O1,(LEN(O1)-5))","v":"https://finance.yahoo.com/quote/T "},null,{"$f":"IF(Q1>=0,Q1,NA())","v":2.2314674735249621E-2},{"$f":"IF(Q1>=0,NA(),-1*Q1)","v":{"$error":"#N/A"}},null,{"$f":"IFERROR(RTD(\"cqg.rtd\", ,\"ContractData\",O1, \"LongDescription\",, \"T\"),\"\")","v":"AT&T Inc"},null,null,{"$f":"IFERROR(T1,Q1)","v":2.2314674735249621E-2},{"$f":"MIN(J1:J98)","v":-3.6042548796860474E-2},{"$f":"VLOOKUP(AA1,J1:O98,4,FALSE)","v":98},{"$f":"VLOOKUP($AB1,$M$1:$N$98,2,FALSE)","v":"S.US.WMT "},{"$f":"IFERROR(RTD(\"cqg.rtd\", ,\"ContractData\",AC1, \"PerCentNetLastTrade\",, \"T\")/100,\"\")","v":-3.6042548796860474E-2},{"$f":"IFERROR(RTD(\"cqg.rtd\", ,\"ContractData\",AC1, \"LongDescription\",, \"T\"),\"\")","v":"Walmart Inc."},{"$f":"IFERROR(U1,\"\")","v":""},{"$f":"IFERROR(AD1*-1,\"\")","v":3.6042548796860474E-2},{"$f":"\"https://finance.yahoo.com/quote/\"&RIGHT(AC1,(LEN(AC1)-5))","v":"https://finance.yahoo.com/quote/WMT "}]
["S.US.FOXA ",{"$f":"IF(J2>0,1,0)","v":1},"S.US.FOXA ",{"$f":"RTD(\"cqg.rtd\", ,\"ContractData\",C2, \"LongDescription\",, \"T\")","v":"Fox Corporation Class A"},null,null,null,{"$f":"RTD(\"cqg.rtd\", ,\"ContractData\",C2, \"LastTradeToday\",, \"T\")","v":55.07},{"$f":"RTD(\"cqg.rtd\", ,\"ContractData\",C2, \"NetLastTradeToday\",, \"T\")","v":0.43},{"$f":"IFERROR(RTD(\"cqg.rtd\", ,\"ContractData\",C2, \"PerCentNetLastTrade\",, \"T\")/100,\"\")","v":7.8696925329428992E-3},{"$f":"RTD(\"cqg.rtd\", ,\"ContractData\", C2, \"T_CVol\",, \"T\")","v":232670},{"$f":"L1+1","v":2},{"$f":"IFERROR(RANK($J2,$J$1:J$98)+COUNTIF($J$1:J2,J2)-1,\"\")","v":28},{"$f":"C2","v":"S.US.FOXA "},"S.US.PM ",{"$f":"RTD(\"cqg.rtd\", ,\"ContractData\",O2, \"LongDescription\",, \"T\")","v":"Philip Morris International"},{"$f":"IFERROR(RTD(\"cqg.rtd\", ,\"ContractData\",O2, \"PerCentNetLastTrade\",, \"T\")/100,\"\")","v":2.1886240321892337E-2},{"$f":"\"https://finance.yahoo.com/quote/\"&RIGHT(O2,(LEN(O2)-5))","v":"https://finance.yahoo.com/quote/PM "},null,{"$f":"IF(Q2>=0,Q2,NA())","v":2.1886240321892337E-2},{"$f":"IF(Q2>=0,NA(),-1*Q2)","v":{"$error":"#N/A"}},null,{"$f":"IFERROR(RTD(\"cqg.rtd\", ,\"ContractData\",O2, \"LongDescription\",, \"T\"),\"\")","v":"Philip Morris International"},null,null,{"$f":"IFERROR(T2,Q2)","v":2.1886240321892337E-2},null,{"$f":"AB1-1","v":97},"S.US.TPL ",{"$f":"IFERROR(RTD(\"cqg.rtd\", ,\"ContractData\",AC2, \"PerCentNetLastTrade\",, \"T\")/100,\"\")","v":-3.2661886878343011E-2},{"$f":"IFERROR(RTD(\"cqg.rtd\", ,\"ContractData\",AC2, \"LongDescription\",, \"T\"),\"\")","v":"TEXAS PACIFIC LAND TR"},{"$f":"IFERROR(U2,\"\")","v":""},{"$f":"IFERROR(AD2*-1,\"\")","v":3.2661886878343011E-2},{"$f":"\"https://finance.yahoo.com/quote/\"&RIGHT(AC2,(LEN(AC2)-5))","v":"https://finance.yahoo.com/quote/TPL "}]
["S.US.LYV ",1,"S.US.LYV ",{"$f":"RTD(\"cqg.rtd\", ,\"ContractData\",C3, \"LongDescription\",, \"T\")","v":"Live Nation Entertainment Inc"},null,null,null,{"$f":"RTD(\"cqg.rtd\", ,\"ContractData\",C3, \"LastTradeToday\",, \"T\")","v":142.33000000000001},{"$f":"RTD(\"cqg.rtd\", ,\"ContractData\",C3, \"NetLastTradeToday\",, \"T\")","v":0.11},{"$f":"IFERROR(RTD(\"cqg.rtd\", ,\"ContractData\",C3, \"PerCentNetLastTrade\",, \"T\")/100,\"\")","v":7.73449585149768E-4},{"$f":"RTD(\"cqg.rtd\", ,\"ContractData\", C3, \"T_CVol\",, \"T\")","v":120628},{"$f":"L2+1","v":3},{"$f":"IFERROR(RANK($J3,$J$1:J$98)+COUNTIF($J$1:J3,J3)-1,\"\")","v":47},"S.US.LYV ","S.US.TMUS ",{"$f":"RTD(\"cqg.rtd\", ,\"ContractData\",O3, \"LongDescription\",, \"T\")","v":"T-Mobile US, Inc."},{"$f":"IFERROR(RTD(\"cqg.rtd\", ,\"ContractData\",O3, \"PerCentNetLastTrade\",, \"T\")/100,\"\")","v":2.150537634408602E-2},"https://finance.yahoo.com/quote/TMUS ",null,2.150537634408602E-2,{"$error":"#N/A"},null,{"$f":"IFERROR(RTD(\"cqg.rtd\", ,\"ContractData\",O3, \"LongDescription\",, \"T\"),\"\")","v":"T-Mobile US, Inc."},null,null,2.150537634408602E-2,null,{"$f":"AB2-1","v":96},"S.US.TSLA ",{"$f":"IFERROR(RTD(\"cqg.rtd\", ,\"ContractData\",AC3, \"PerCentNetLastTrade\",, \"T\")/100,\"\")","v":-3.1120570639668662E-2},{"$f":"IFERROR(RTD(\"cqg.rtd\", ,\"ContractData\",AC3, \"LongDescription\",, \"T\"),\"\")","v":"Tesla Inc."},"",3.1120570639668662E-2,"https://finance.yahoo.com/quote/TSLA "]
["S.US.META ",0,"S.US.META ",{"$f":"RTD(\"cqg.rtd\", ,\"ContractData\",C4, \"LongDescription\",, \"T\")","v":"Meta Platforms, Inc."},null,null,null,{"$f":"RTD(\"cqg.rtd\", ,\"ContractData\",C4, \"LastTradeToday\",, \"T\")","v":650.65},{"$f":"RTD(\"cqg.rtd\", ,\"ContractData\",C4, \"NetLastTradeToday\",, \"T\")","v":-8.7100000000000009},{"$f":"IFERROR(RTD(\"cqg.rtd\", ,\"ContractData\",C4, \"PerCentNetLastTrade\",, \"T\")/100,\"\")","v":-1.3209779179810725E-2},{"$f":"RTD(\"cqg.rtd\", ,\"ContractData\", C4, \"T_CVol\",, \"T\")","v":2102109},4,{"$f":"IFERROR(RANK($J4,$J$1:J$98)+COUNTIF($J$1:J4,J4)-1,\"\")","v":83},"S.US.META ","S.US.ETR ",{"$f":"RTD(\"cqg.rtd\", ,\"ContractData\",O4, \"LongDescription\",, \"T\")","v":"Entergy Corporation"},{"$f":"IFERROR(RTD(\"cqg.rtd\", ,\"ContractData\",O4, \"PerCentNetLastTrade\",, \"T\")/100,\"\")","v":1.9749099490746491E-2},"https://finance.yahoo.com/quote/ETR ",null,1.9749099490746491E-2,{"$error":"#N/A"},null,{"$f":"IFERROR(RTD(\"cqg.rtd\", ,\"ContractData\",O4, \"LongDescription\",, \"T\"),\"\")","v":"Entergy Corporation"},null,null,1.9749099490746491E-2,null,95,"S.US.ANET ",{"$f":"IFERROR(RTD(\"cqg.rtd\", ,\"ContractData\",AC4, \"PerCentNetLastTrade\",, \"T\")/100,\"\")","v":-3.0441865200570149E-2},{"$f":"IFERROR(RTD(\"cqg.rtd\", ,\"ContractData\",AC4, \"LongDescription\",, \"T\"),\"\")","v":"Arista Networks, Inc."},"",3.0441865200570149E-2,"https://finance.yahoo.com/quote/ANET "]
["S.US.NFLX ",1,"S.US.NFLX ",{"$f":"RTD(\"cqg.rtd\", ,\"ContractData\",C5, \"LongDescription\",, \"T\")","v":"Netflix Inc"},null,null,null,{"$f":"RTD(\"cqg.rtd\", ,\"ContractData\",C5, \"LastTradeToday\",, \"T\")","v":1155.75},{"$f":"RTD(\"cqg.rtd\", ,\"ContractData\",C5, \"NetLastTradeToday\",, \"T\")","v":4.76},{"$f":"IFERROR(RTD(\"cqg.rtd\", ,\"ContractData\",C5, \"PerCentNetLastTrade\",, \"T\")/100,\"\")","v":4.1355702482210963E-3},{"$f":"RTD(\"cqg.rtd\", ,\"ContractData\", C5, \"T_CVol\",, \"T\")","v":533743},5,{"$f":"IFERROR(RANK($J5,$J$1:J$98)+COUNTIF($J$1:J5,J5)-1,\"\")","v":38},"S.US.NFLX ","S.US.EBAY ",{"$f":"RTD(\"cqg.rtd\", ,\"ContractData\",O5, \"LongDescription\",, \"T\")","v":"eBay Inc"},{"$f":"IFERROR(RTD(\"cqg.rtd\", ,\"ContractData\",O5, \"PerCentNetLastTrade\",, \"T\")/100,\"\")","v":1.923355025307303E-2},"https://finance.yahoo.com/quote/EBAY ",null,1.923355025307303E-2,{"$error":"#N/A"},null,{"$f":"IFERROR(RTD(\"cqg.rtd\", ,\"ContractData\",O5, \"LongDescription\",, \"T\"),\"\")","v":"eBay Inc"},null,null,1.923355025307303E-2,null,94,"S.US.KKR ",{"$f":"IFERROR(RTD(\"cqg.rtd\", ,\"ContractData\",AC5, \"PerCentNetLastTrade\",, \"T\")/100,\"\")","v":-2.7280477408354646E-2},{"$f":"IFERROR(RTD(\"cqg.rtd\", ,\"ContractData\",AC5, \"LongDescription\",, \"T\"),\"\")","v":"KKR & Co. Inc."},"",2.7280477408354646E-2,"https://finance.yahoo.com/quote/KKR "]
["S.US.T ",1,"S.US.T ",{"$f":"RTD(\"cqg.rtd\", ,\"ContractData\",C6, \"LongDescription\",, \"T\")","v":"AT&T Inc"},null,null,null,{"$f":"RTD(\"cqg.rtd\", ,\"ContractData\",C6, \"LastTradeToday\",, \"T\")","v":27.03},{"$f":"RTD(\"cqg.rtd\", ,\"ContractData\",C6, \"NetLastTradeToday\",, \"T\")","v":0.59},{"$f":"IFERROR(RTD(\"cqg.rtd\", ,\"ContractData\",C6, \"PerCentNetLastTrade\",, \"T\")/100,\"\")","v":2.2314674735249621E-2},{"$f":"RTD(\"cqg.rtd\", ,\"ContractData\", C6, \"T_CVol\",, \"T\")","v":3361524},6,{"$f":"IFERROR(RANK($J6,$J$1:J$98)+COUNTIF($J$1:J6,J6)-1,\"\")","v":1},"S.US.T ","S.US.MO ",{"$f":"RTD(\"cqg.rtd\", ,\"ContractData\",O6, \"LongDescription\",, \"T\")","v":"Altria Group Inc"},{"$f":"IFERROR(RTD(\"cqg.rtd\", ,\"ContractData\",O6, \"PerCentNetLastTrade\",, \"T\")/100,\"\")","v":1.8462630924906801E-2},"https://finance.yahoo.com/quote/MO ",null,1.8462630924906801E-2,{"$error":"#N/A"},null,{"$f":"IFERROR(RTD(\"cqg.rtd\", ,\"ContractData\",O6, \"LongDescription\",, \"T\"),\"\")","v":"Altria Group Inc"},null,null,1.8462630924906801E-2,null,93,"S.US.AMZN ",{"$f":"IFERROR(RTD(\"cqg.rtd\", ,\"ContractData\",AC6, \"PerCentNetLastTrade\",, \"T\")/100,\"\")","v":-2.5303210463733648E-2},{"$f":"IFERROR(RTD(\"cqg.rtd\", ,\"ContractData\",AC6, \"LongDescription\",, \"T\"),\"\")","v":"Amazon.com Inc"},"",2.5303210463733648E-2,"https://finance.yahoo.com/quote/AMZN "]
["S.US.TMUS ",1,"S.US.TMUS ",{"$f":"RTD(\"cqg.rtd\", ,\"ContractData\",C7, \"LongDescription\",, \"T\")","v":"T-Mobile US, Inc."},null,null,null,{"$f":"RTD(\"cqg.rtd\", ,\"ContractData\",C7, \"LastTradeToday\",, \"T\")","v":240.35},{"$f":"RTD(\"cqg.rtd\", ,\"ContractData\",C7, \"NetLastTradeToday\",, \"T\")","v":5.0600000000000005},{"$f":"IFERROR(RTD(\"cqg.rtd\", ,\"ContractData\",C7, \"PerCentNetLastTrade\",, \"T\")/100,\"\")","v":2.150537634408602E-2},{"$f":"RTD(\"cqg.rtd\", ,\"ContractData\", C7, \"T_CVol\",, \"T\")","v":454752},7,{"$f":"IFERROR(RANK($J7,$J$1:J$98)+COUNTIF($J$1:J7,J7)-1,\"\")","v":3},"S.US.TMUS ","S.US.NI ",{"$f":"RTD(\"cqg.rtd\", ,\"ContractData\",O7, \"LongDescription\",, \"T\")","v":"NiSource Inc"},{"$f":"IFERROR(RTD(\"cqg.rtd\", ,\"ContractData\",O7, \"PerCentNetLastTrade\",, \"T\")/100,\"\")","v":1.7687434002111934E-2},"https://finance.yahoo.com/quote/NI ",null,1.7687434002111934E-2,{"$error":"#N/A"},null,{"$f":"IFERROR(RTD(\"cqg.rtd\", ,\"ContractData\",O7, \"LongDescription\",, \"T\"),\"\")","v":"NiSource Inc"},null,null,1.7687434002111934E-2,null,92,"S.US.PLTR ",{"$f":"IFERROR(RTD(\"cqg.rtd\", ,\"ContractData\",AC7, \"PerCentNetLastTrade\",, \"T\")/100,\"\")","v":-1.9588262405899524E-2},{"$f":"IFERROR(RTD(\"cqg.rtd\", ,\"ContractData\",AC7, \"LongDescription\",, \"T\"),\"\")","v":"Palantir Technologies Inc."},"",1.9588262405899524E-2,"https://finance.yahoo.com/quote/PLTR "]
["S.US.AMZN ",0,"S.US.AMZN ",{"$f":"RTD(\"cqg.rtd\", ,\"ContractData\",C8, \"LongDescription\",, \"T\")","v":"Amazon.com Inc"},null,null,null,{"$f":"RTD(\"cqg.rtd\", ,\"ContractData\",C8, \"LastTradeToday\",, \"T\")","v":204.93},{"$f":"RTD(\"cqg.rtd\", ,\"ContractData\",C8, \"NetLastTradeToday\",, \"T\")","v":-5.32},{"$f":"IFERROR(RTD(\"cqg.rtd\", ,\"ContractData\",C8, \"PerCentNetLastTrade\",, \"T\")/100,\"\")","v":-2.5303210463733648E-2},{"$f":"RTD(\"cqg.rtd\", ,\"ContractData\", C8, \"T_CVol\",, \"T\")","v":10336201},8,{"$f":"IFERROR(RANK($J8,$J$1:J$98)+COUNTIF($J$1:J8,J8)-1,\"\")","v":93},"S.US.AMZN ","S.US.BRO ",{"$f":"RTD(\"cqg.rtd\", ,\"ContractData\",O8, \"LongDescription\",, \"T\")","v":"BROWN AND BROWN INC"},{"$f":"IFERROR(RTD(\"cqg.rtd\", ,\"ContractData\",O8, \"PerCentNetLastTrade\",, \"T\")/100,\"\")","v":1.7641082478987716E-2},"https://finance.yahoo.com/quote/BRO ",null,1.7641082478987716E-2,{"$error":"#N/A"},null,{"$f":"IFERROR(RTD(\"cqg.rtd\", ,\"ContractData\",O8, \"LongDescription\",, \"T\"),\"\")","v":"BROWN AND BROWN INC"},null,null,1.7641082478987716E-2,null,91,"S.US.ISRG ",{"$f":"IFERROR(RTD(\"cqg.rtd\", ,\"ContractData\",AC8, \"PerCentNetLastTrade\",, \"T\")/100,\"\")","v":-1.9030285896031382E-2},{"$f":"IFERROR(RTD(\"cqg.rtd\", ,\"ContractData\",AC8, \"LongDescription\",, \"T\"),\"\")","v":"Intuitive Surgical Inc"},"",1.9030285896031382E-2,"https://finance.yahoo.com/quote/ISRG "]
["S.US.EBAY ",1,"S.US.EBAY ",{"$f":"RTD(\"cqg.rtd\", ,\"ContractData\",C9, \"LongDescription\",, \"T\")","v":"eBay Inc"},null,null,null,{"$f":"RTD(\"cqg.rtd\", ,\"ContractData\",C9, \"LastTradeToday\",, \"T\")","v":70.48},{"$f":"RTD(\"cqg.rtd\", ,\"ContractData\",C9, \"NetLastTradeToday\",, \"T\")","v":1.33},{"$f":"IFERROR(RTD(\"cqg.rtd\", ,\"ContractData\",C9, \"PerCentNetLastTrade\",, \"T\")/100,\"\")","v":1.923355025307303E-2},{"$f":"RTD(\"cqg.rtd\", ,\"ContractData\", C9, \"T_CVol\",, \"T\")","v":557034},9,{"$f":"IFERROR(RANK($J9,$J$1:J$98)+COUNTIF($J$1:J9,J9)-1,\"\")","v":5},"S.US.EBAY ","S.US.PPL ",{"$f":"RTD(\"cqg.rtd\", ,\"ContractData\",O9, \"LongDescription\",, \"T\")","v":"PPL Corp"},{"$f":"IFERROR(RTD(\"cqg.rtd\", ,\"ContractData\",O9, \"PerCentNetLastTrade\",, \"T\")/100,\"\")","v":1.6109785202863963E-2},"https://finance.yahoo.com/quote/PPL ",null,1.6109785202863963E-2,{"$error":"#N/A"},null,{"$f":"IFERROR(RTD(\"cqg.rtd\", ,\"ContractData\",O9, \"LongDescription\",, \"T\"),\"\")","v":"PPL Corp"},null,null,1.6109785202863963E-2,null,90,"S.US.BKR ",{"$f":"IFERROR(RTD(\"cqg.rtd\", ,\"ContractData\",AC9, \"PerCentNetLastTrade\",, \"T\")/100,\"\")","v":-1.8763213530655392E-2},{"$f":"IFERROR(RTD(\"cqg.rtd\", ,\"ContractData\",AC9, \"LongDescription\",, \"T\"),\"\")","v":"Baker Hughes Company"},"",1.8763213530655392E-2,"https://finance.yahoo.com/quote/BKR "]
["S.US.GRMN ",1,"S.US.GRMN ",{"$f":"RTD(\"cqg.rtd\", ,\"ContractData\",C10, \"LongDescription\",, \"T\")","v":"Garmin Ltd"},null,null,null,{"$f":"RTD(\"cqg.rtd\", ,\"ContractData\",C10, \"LastTradeToday\",, \"T\")","v":200.85},{"$f":"RTD(\"cqg.rtd\", ,\"ContractData\",C10, \"NetLastTradeToday\",, \"T\")","v":0.27},{"$f":"IFERROR(RTD(\"cqg.rtd\", ,\"ContractData\",C10, \"PerCentNetLastTrade\",, \"T\")/100,\"\")","v":1.3460963206700569E-3},{"$f":"RTD(\"cqg.rtd\", ,\"ContractData\", C10, \"T_CVol\",, \"T\")","v":14125},10,{"$f":"IFERROR(RANK($J10,$J$1:J$98)+COUNTIF($J$1:J10,J10)-1,\"\")","v":44},"S.US.GRMN ","S.US.EVRG ",{"$f":"RTD(\"cqg.rtd\", ,\"ContractData\",O10, \"LongDescription\",, \"T\")","v":"Evergy, Inc."},{"$f":"IFERROR(RTD(\"cqg.rtd\", ,\"ContractData\",O10, \"PerCentNetLastTrade\",, \"T\")/100,\"\")","v":1.6078676241024038E-2},"https://finance.yahoo.com/quote/EVRG ",null,1.6078676241024038E-2,{"$error":"#N/A"},null,{"$f":"IFERROR(RTD(\"cqg.rtd\", ,\"ContractData\",O10, \"LongDescription\",, \"T\"),\"\")","v":"Evergy, Inc."},null,null,1.6078676241024038E-2,null,89,"S.US.UAL ",{"$f":"IFERROR(RTD(\"cqg.rtd\", ,\"ContractData\",AC10, \"PerCentNetLastTrade\",, \"T\")/100,\"\")","v":-1.6710976072920623E-2},{"$f":"IFERROR(RTD(\"cqg.rtd\", ,\"ContractData\",AC10, \"LongDescription\",, \"T\"),\"\")","v":"UAL Continental Holdings, Inc."},"",1.6710976072920623E-2,"https://finance.yahoo.com/quote/UAL "]
["S.US.HLT ",0,"S.US.HLT ",{"$f":"RTD(\"cqg.rtd\", ,\"ContractData\",C11, \"LongDescription\",, \"T\")","v":"Hilton Inc."},null,null,null,{"$f":"RTD(\"cqg.rtd\", ,\"ContractData\",C11, \"LastTradeToday\",, \"T\")","v":252.23000000000002},{"$f":"RTD(\"cqg.rtd\", ,\"ContractData\",C11, \"NetLastTradeToday\",, \"T\")","v":-0.77},{"$f":"IFERROR(RTD(\"cqg.rtd\", ,\"ContractData\",C11, \"PerCentNetLastTrade\",, \"T\")/100,\"\")","v":-3.0434782608695656E-3},{"$f":"RTD(\"cqg.rtd\", ,\"ContractData\", C11, \"T_CVol\",, \"T\")","v":126982},11,{"$f":"IFERROR(RANK($J11,$J$1:J$98)+COUNTIF($J$1:J11,J11)-1,\"\")","v":58},"S.US.HLT ","S.US.RTX ",{"$f":"RTD(\"cqg.rtd\", ,\"ContractData\",O11, \"LongDescription\",, \"T\")","v":"RTX Corporation"},{"$f":"IFERROR(RTD(\"cqg.rtd\", ,\"ContractData\",O11, \"PerCentNetLastTrade\",, \"T\")/100,\"\")","v":1.5826898080893034E-2},"https://finance.yahoo.com/quote/RTX ",null,1.5826898080893034E-2,{"$error":"#N/A"},null,{"$f":"IFERROR(RTD(\"cqg.rtd\", ,\"ContractData\",O11, \"LongDescription\",, \"T\"),\"\")","v":"RTX Corporation"},null,null,1.5826898080893034E-2,null,88,"S.US.TRGP ",{"$f":"IFERROR(RTD(\"cqg.rtd\", ,\"ContractData\",AC11, \"PerCentNetLastTrade\",, \"T\")/100,\"\")","v":-1.5897496737454029E-2},{"$f":"IFERROR(RTD(\"cqg.rtd\", ,\"ContractData\",AC11, \"LongDescription\",, \"T\"),\"\")","v":"Targa Resources Corp"},"",1.5897496737454029E-2,"https://finance.yahoo.com/quote/TRGP "]
["S.US.RCL ",0,"S.US.RCL ",{"$f":"RTD(\"cqg.rtd\", ,\"ContractData\",C12, \"LongDescription\",, \"T\")","v":"Royal Caribbean Group"},null,null,null,{"$f":"RTD(\"cqg.rtd\", ,\"ContractData\",C12, \"LastTradeToday\",, \"T\")","v":248.94},{"$f":"RTD(\"cqg.rtd\", ,\"ContractData\",C12, \"NetLastTradeToday\",, \"T\")","v":-2.4300000000000002},{"$f":"IFERROR(RTD(\"cqg.rtd\", ,\"ContractData\",C12, \"PerCentNetLastTrade\",, \"T\")/100,\"\")","v":-9.6670247046186895E-3},{"$f":"RTD(\"cqg.rtd\", ,\"ContractData\", C12, \"T_CVol\",, \"T\")","v":125075},12,{"$f":"IFERROR(RANK($J12,$J$1:J$98)+COUNTIF($J$1:J12,J12)-1,\"\")","v":77},"S.US.RCL ","S.US.IBM ",{"$f":"RTD(\"cqg.rtd\", ,\"ContractData\",O12, \"LongDescription\",, \"T\")","v":"International Business Machines"},{"$f":"IFERROR(RTD(\"cqg.rtd\", ,\"ContractData\",O12, \"PerCentNetLastTrade\",, \"T\")/100,\"\")","v":1.5553486928865099E-2},"https://finance.yahoo.com/quote/IBM ",null,1.5553486928865099E-2,{"$error":"#N/A"},null,{"$f":"IFERROR(RTD(\"cqg.rtd\", ,\"ContractData\",O12, \"LongDescription\",, \"T\"),\"\")","v":"International Business Machines"},null,null,1.5553486928865099E-2,null,87,"S.US.VST ",{"$f":"IFERROR(RTD(\"cqg.rtd\", ,\"ContractData\",AC12, \"PerCentNetLastTrade\",, \"T\")/100,\"\")","v":-1.5835056876938987E-2},{"$f":"IFERROR(RTD(\"cqg.rtd\", ,\"ContractData\",AC12, \"LongDescription\",, \"T\"),\"\")","v":"Vistra Corp."},"",1.5835056876938987E-2,"https://finance.yahoo.com/quote/VST "]
["S.US.RL ",0,"S.US.RL ",{"$f":"RTD(\"cqg.rtd\", ,\"ContractData\",C13, \"LongDescription\",, \"T\")","v":"Ralph Lauren Corporation"},null,null,null,{"$f":"RTD(\"cqg.rtd\", ,\"ContractData\",C13, \"LastTradeToday\",, \"T\")","v":267.98},{"$f":"RTD(\"cqg.rtd\", ,\"ContractData\",C13, \"NetLastTradeToday\",, \"T\")","v":-1.57},{"$f":"IFERROR(RTD(\"cqg.rtd\", ,\"ContractData\",C13, \"PerCentNetLastTrade\",, \"T\")/100,\"\")","v":-5.8245223520682621E-3},{"$f":"RTD(\"cqg.rtd\", ,\"ContractData\", C13, \"T_CVol\",, \"T\")","v":21645},13,{"$f":"IFERROR(RANK($J13,$J$1:J$98)+COUNTIF($J$1:J13,J13)-1,\"\")","v":69},"S.US.RL ","S.US.PEG ",{"$f":"RTD(\"cqg.rtd\", ,\"ContractData\",O13, \"LongDescription\",, \"T\")","v":"Pub Svc Entrpr Grp Inc"},{"$f":"IFERROR(RTD(\"cqg.rtd\", ,\"ContractData\",O13, \"PerCentNetLastTrade\",, \"T\")/100,\"\")","v":1.4879027041014362E-2},"https://finance.yahoo.com/quote/PEG ",null,1.4879027041014362E-2,{"$error":"#N/A"},null,{"$f":"IFERROR(RTD(\"cqg.rtd\", ,\"ContractData\",O13, \"LongDescription\",, \"T\"),\"\")","v":"Pub Svc Entrpr Grp Inc"},null,null,1.4879027041014362E-2,null,86,"S.US.OKE ",{"$f":"IFERROR(RTD(\"cqg.rtd\", ,\"ContractData\",AC13, \"PerCentNetLastTrade\",, \"T\")/100,\"\")","v":-1.535619443482277E-2},{"$f":"IFERROR(RTD(\"cqg.rtd\", ,\"ContractData\",AC13, \"LongDescription\",, \"T\"),\"\")","v":"ONEOK Inc New"},"",1.535619443482277E-2,"https://finance.yahoo.com/quote/OKE "]
["S.US.TJX ",1,"S.US.TJX ",{"$f":"RTD(\"cqg.rtd\", ,\"ContractData\",C14, \"LongDescription\",, \"T\")","v":"TJX Companies Inc"},null,null,null,{"$f":"RTD(\"cqg.rtd\", ,\"ContractData\",C14, \"LastTradeToday\",, \"T\")","v":131.84},{"$f":"RTD(\"cqg.rtd\", ,\"ContractData\",C14, \"NetLastTradeToday\",, \"T\")","v":0.59},{"$f":"IFERROR(RTD(\"cqg.rtd\", ,\"ContractData\",C14, \"PerCentNetLastTrade\",, \"T\")/100,\"\")","v":4.4952380952380955E-3},{"$f":"RTD(\"cqg.rtd\", ,\"ContractData\", C14, \"T_CVol\",, \"T\")","v":391307},14,{"$f":"IFERROR(RANK($J14,$J$1:J$98)+COUNTIF($J$1:J14,J14)-1,\"\")","v":37},"S.US.TJX ","S.US.ATO ",{"$f":"RTD(\"cqg.rtd\", ,\"ContractData\",O14, \"LongDescription\",, \"T\")","v":"Atmos Energy Corp"},{"$f":"IFERROR(RTD(\"cqg.rtd\", ,\"ContractData\",O14, \"PerCentNetLastTrade\",, \"T\")/100,\"\")","v":1.3858784893267653E-2},"https://finance.yahoo.com/quote/ATO ",null,1.3858784893267653E-2,{"$error":"#N/A"},null,{"$f":"IFERROR(RTD(\"cqg.rtd\", ,\"ContractData\",O14, \"LongDescription\",, \"T\"),\"\")","v":"Atmos Energy Corp"},null,null,1.3858784893267653E-2,null,85,"S.US.NVDA ",{"$f":"IFERROR(RTD(\"cqg.rtd\", ,\"ContractData\",AC14, \"PerCentNetLastTrade\",, \"T\")/100,\"\")","v":-1.4999261120141865E-2},{"$f":"IFERROR(RTD(\"cqg.rtd\", ,\"ContractData\",AC14, \"LongDescription\",, \"T\"),\"\")","v":"NVIDIA Corp"},"",1.4999261120141865E-2,"https://finance.yahoo.com/quote/NVDA "]
["S.US.TPR ",0,"S.US.TPR ",{"$f":"RTD(\"cqg.rtd\", ,\"ContractData\",C15, \"LongDescription\",, \"T\")","v":"Tapestry, Inc."},null,null,null,{"$f":"RTD(\"cqg.rtd\", ,\"ContractData\",C15, \"LastTradeToday\",, \"T\")","v":82.72},{"$f":"RTD(\"cqg.rtd\", ,\"ContractData\",C15, \"NetLastTradeToday\",, \"T\")","v":-0.54},{"$f":"IFERROR(RTD(\"cqg.rtd\", ,\"ContractData\",C15, \"PerCentNetLastTrade\",, \"T\")/100,\"\")","v":-6.4857074225318275E-3},{"$f":"RTD(\"cqg.rtd\", ,\"ContractData\", C15, \"T_CVol\",, \"T\")","v":215961},15,{"$f":"IFERROR(RANK($J15,$J$1:J$98)+COUNTIF($J$1:J15,J15)-1,\"\")","v":71},"S.US.TPR ","S.US.AEE ",{"$f":"RTD(\"cqg.rtd\", ,\"ContractData\",O15, \"LongDescription\",, \"T\")","v":"Ameren Corp"},{"$f":"IFERROR(RTD(\"cqg.rtd\", ,\"ContractData\",O15, \"PerCentNetLastTrade\",, \"T\")/100,\"\")","v":1.3788022313440691E-2},"https://finance.yahoo.com/quote/AEE ",null,1.3788022313440691E-2,{"$error":"#N/A"},null,{"$f":"IFERROR(RTD(\"cqg.rtd\", ,\"ContractData\",O15, \"LongDescription\",, \"T\"),\"\")","v":"Ameren Corp"},null,null,1.3788022313440691E-2,null,84,"S.US.SYF ",{"$f":"IFERROR(RTD(\"cqg.rtd\", ,\"ContractData\",AC15, \"PerCentNetLastTrade\",, \"T\")/100,\"\")","v":-1.3256955810147299E-2},{"$f":"IFERROR(RTD(\"cqg.rtd\", ,\"ContractData\",AC15, \"LongDescription\",, \"T\"),\"\")","v":"Synchrony Financial"},"",1.3256955810147299E-2,"https://finance.yahoo.com/quote/SYF "]
["S.US.TSLA ",0,"S.US.TSLA ",{"$f":"RTD(\"cqg.rtd\", ,\"ContractData\",C16, \"LongDescription\",, \"T\")","v":"Tesla Inc."},null,null,null,{"$f":"RTD(\"cqg.rtd\", ,\"ContractData\",C16, \"LastTradeToday\",, \"T\")","v":336.86},{"$f":"RTD(\"cqg.rtd\", ,\"ContractData\",C16, \"NetLastTradeToday\",, \"T\")","v":-10.82},{"$f":"IFERROR(RTD(\"cqg.rtd\", ,\"ContractData\",C16, \"PerCentNetLastTrade\",, \"T\")/100,\"\")","v":-3.1120570639668662E-2},{"$f":"RTD(\"cqg.rtd\", ,\"ContractData\", C16, \"T_CVol\",, \"T\")","v":21480458},16,{"$f":"IFERROR(RANK($J16,$J$1:J$98)+COUNTIF($J$1:J16,J16)-1,\"\")","v":96},"S.US.TSLA ","S.US.MSI "]
["S.US.COST ",1,"S.US.COST ",{"$f":"RTD(\"cqg.rtd\", ,\"ContractData\",C17, \"LongDescription\",, \"T\")","v":"Costco Wholesale Corp"},null,null,null,{"$f":"RTD(\"cqg.rtd\", ,\"ContractData\",C17, \"LastTradeToday\",, \"T\")","v":998.09},{"$f":"RTD(\"cqg.rtd\", ,\"ContractData\",C17, \"NetLastTradeToday\",, \"T\")","v":6.55},{"$f":"IFERROR(RTD(\"cqg.rtd\", ,\"ContractData\",C17, \"PerCentNetLastTrade\",, \"T\")/100,\"\")","v":6.6058857938156813E-3},{"$f":"RTD(\"cqg.rtd\", ,\"ContractData\", C17, \"T_CVol\",, \"T\")","v":295171},17,{"$f":"IFERROR(RANK($J17,$J$1:J$98)+COUNTIF($J$1:J17,J17)-1,\"\")","v":31},"S.US.COST ","S.US.WELL "]
["S.US.MO ",1,"S.US.MO ",{"$f":"RTD(\"cqg.rtd\", ,\"ContractData\",C18, \"LongDescription\",, \"T\")","v":"Altria Group Inc"},null,null,null,{"$f":"RTD(\"cqg.rtd\", ,\"ContractData\",C18, \"LastTradeToday\",, \"T\")","v":57.370000000000005},{"$f":"RTD(\"cqg.rtd\", ,\"ContractData\",C18, \"NetLastTradeToday\",, \"T\")","v":1.04},{"$f":"IFERROR(RTD(\"cqg.rtd\", ,\"ContractData\",C18, \"PerCentNetLastTrade\",, \"T\")/100,\"\")","v":1.8462630924906801E-2},{"$f":"RTD(\"cqg.rtd\", ,\"ContractData\", C18, \"T_CVol\",, \"T\")","v":859115},18,{"$f":"IFERROR(RANK($J18,$J$1:J$98)+COUNTIF($J$1:J18,J18)-1,\"\")","v":6},"S.US.MO ","S.US.AJG "]
["S.US.PM ",1,"S.US.PM ",{"$f":"RTD(\"cqg.rtd\", ,\"ContractData\",C19, \"LongDescription\",, \"T\")","v":"Philip Morris International"},null,null,null,{"$f":"RTD(\"cqg.rtd\", ,\"ContractData\",C19, \"LastTradeToday\",, \"T\")","v":167.62},{"$f":"RTD(\"cqg.rtd\", ,\"ContractData\",C19, \"NetLastTradeToday\",, \"T\")","v":3.59},{"$f":"IFERROR(RTD(\"cqg.rtd\", ,\"ContractData\",C19, \"PerCentNetLastTrade\",, \"T\")/100,\"\")","v":2.1886240321892337E-2},{"$f":"RTD(\"cqg.rtd\", ,\"ContractData\", C19, \"T_CVol\",, \"T\")","v":439179},19,{"$f":"IFERROR(RANK($J19,$J$1:J$98)+COUNTIF($J$1:J19,J19)-1,\"\")","v":2},"S.US.PM ","S.US.RSG "]
["S.US.WMT ",0,"S.US.WMT ",{"$f":"RTD(\"cqg.rtd\", ,\"ContractData\",C20, \"LongDescription\",, \"T\")","v":"Walmart Inc."},null,null,null,{"$f":"RTD(\"cqg.rtd\", ,\"ContractData\",C20, \"LastTradeToday\",, \"T\")","v":93.34},{"$f":"RTD(\"cqg.rtd\", ,\"ContractData\",C20, \"NetLastTradeToday\",, \"T\")","v":-3.49},{"$f":"IFERROR(RTD(\"cqg.rtd\", ,\"ContractData\",C20, \"PerCentNetLastTrade\",, \"T\")/100,\"\")","v":-3.6042548796860474E-2},{"$f":"RTD(\"cqg.rtd\", ,\"ContractData\", C20, \"T_CVol\",, \"T\")","v":11332969},20,{"$f":"IFERROR(RANK($J20,$J$1:J$98)+COUNTIF($J$1:J20,J20)-1,\"\")","v":98},"S.US.WMT ","S.US.NRG "]
["S.US.BKR ",0,"S.US.BKR ",{"$f":"RTD(\"cqg.rtd\", ,\"ContractData\",C21, \"LongDescription\",, \"T\")","v":"Baker Hughes Company"},null,null,null,{"$f":"RTD(\"cqg.rtd\", ,\"ContractData\",C21, \"LastTradeToday\",, \"T\")","v":37.130000000000003},{"$f":"RTD(\"cqg.rtd\", ,\"ContractData\",C21, \"NetLastTradeToday\",, \"T\")","v":-0.71},{"$f":"IFERROR(RTD(\"cqg.rtd\", ,\"ContractData\",C21, \"PerCentNetLastTrade\",, \"T\")/100,\"\")","v":-1.8763213530655392E-2},{"$f":"RTD(\"cqg.rtd\", ,\"ContractData\", C21, \"T_CVol\",, \"T\")","v":587917},21,{"$f":"IFERROR(RANK($J21,$J$1:J$98)+COUNTIF($J$1:J21,J21)-1,\"\")","v":90},"S.US.BKR ","S.US.WTW "]
["S.US.KMI ",1,"S.US.KMI ",{"$f":"RTD(\"cqg.rtd\", ,\"ContractData\",C22, \"LongDescription\",, \"T\")","v":"Kinder Morgan, Inc."},null,null,null,{"$f":"RTD(\"cqg.rtd\", ,\"ContractData\",C22, \"LastTradeToday\",, \"T\")","v":27.59},{"$f":"RTD(\"cqg.rtd\", ,\"ContractData\",C22, \"NetLastTradeToday\",, \"T\")","v":0.13},{"$f":"IFERROR(RTD(\"cqg.rtd\", ,\"ContractData\",C22, \"PerCentNetLastTrade\",, \"T\")/100,\"\")","v":4.7341587764020395E-3},{"$f":"RTD(\"cqg.rtd\", ,\"ContractData\", C22, \"T_CVol\",, \"T\")","v":1281603},22,{"$f":"IFERROR(RANK($J22,$J$1:J$98)+COUNTIF($J$1:J22,J22)-1,\"\")","v":36},"S.US.KMI ","S.US.BLK "]
["S.US.OKE ",0,"S.US.OKE ",{"$f":"RTD(\"cqg.rtd\", ,\"ContractData\",C23, \"LongDescription\",, \"T\")","v":"ONEOK Inc New"},null,null,null,{"$f":"RTD(\"cqg.rtd\", ,\"ContractData\",C23, \"LastTradeToday\",, \"T\")","v":85.28},{"$f":"RTD(\"cqg.rtd\", ,\"ContractData\",C23, \"NetLastTradeToday\",, \"T\")","v":-1.33},{"$f":"IFERROR(RTD(\"cqg.rtd\", ,\"ContractData\",C23, \"PerCentNetLastTrade\",, \"T\")/100,\"\")","v":-1.535619443482277E-2},{"$f":"RTD(\"cqg.rtd\", ,\"ContractData\", C23, \"T_CVol\",, \"T\")","v":510241},23,{"$f":"IFERROR(RANK($J23,$J$1:J$98)+COUNTIF($J$1:J23,J23)-1,\"\")","v":86},"S.US.OKE ","S.US.BSX "]
["S.US.TPL ",0,"S.US.TPL ",{"$f":"RTD(\"cqg.rtd\", ,\"ContractData\",C24, \"LongDescription\",, \"T\")","v":"TEXAS PACIFIC LAND TR"},null,null,null,{"$f":"RTD(\"cqg.rtd\", ,\"ContractData\",C24, \"LastTradeToday\",, \"T\")","v":1360},{"$f":"RTD(\"cqg.rtd\", ,\"ContractData\",C24, \"NetLastTradeToday\",, \"T\")","v":-45.92},{"$f":"IFERROR(RTD(\"cqg.rtd\", ,\"ContractData\",C24, \"PerCentNetLastTrade\",, \"T\")/100,\"\")","v":-3.2661886878343011E-2},{"$f":"RTD(\"cqg.rtd\", ,\"ContractData\", C24, \"T_CVol\",, \"T\")","v":6436},24,{"$f":"IFERROR(RANK($J24,$J$1:J$98)+COUNTIF($J$1:J24,J24)-1,\"\")","v":97},"S.US.TPL ","S.US.FICO "]
["S.US.TRGP ",0,"S.US.TRGP ",{"$f":"RTD(\"cqg.rtd\", ,\"ContractData\",C25, \"LongDescription\",, \"T\")","v":"Targa Resources Corp"},null,null,null,{"$f":"RTD(\"cqg.rtd\", ,\"ContractData\",C25, \"LastTradeToday\",, \"T\")","v":165.9},{"$f":"RTD(\"cqg.rtd\", ,\"ContractData\",C25, \"NetLastTradeToday\",, \"T\")","v":-2.68},{"$f":"IFERROR(RTD(\"cqg.rtd\", ,\"ContractData\",C25, \"PerCentNetLastTrade\",, \"T\")/100,\"\")","v":-1.5897496737454029E-2},{"$f":"RTD(\"cqg.rtd\", ,\"ContractData\", C25, \"T_CVol\",, \"T\")","v":392675},25,{"$f":"IFERROR(RANK($J25,$J$1:J$98)+COUNTIF($J$1:J25,J25)-1,\"\")","v":88},"S.US.TRGP ","S.US.ICE "]
["S.US.WMB ",1,"S.US.WMB ",{"$f":"RTD(\"cqg.rtd\", ,\"ContractData\",C26, \"LongDescription\",, \"T\")","v":"Williams Companies Inc"},null,null,null,{"$f":"RTD(\"cqg.rtd\", ,\"ContractData\",C26, \"LastTradeToday\",, \"T\")","v":58.28},{"$f":"RTD(\"cqg.rtd\", ,\"ContractData\",C26, \"NetLastTradeToday\",, \"T\")","v":0.08},{"$f":"IFERROR(RTD(\"cqg.rtd\", ,\"ContractData\",C26, \"PerCentNetLastTrade\",, \"T\")/100,\"\")","v":1.3745704467353953E-3},{"$f":"RTD(\"cqg.rtd\", ,\"ContractData\", C26, \"T_CVol\",, \"T\")","v":359543},26,{"$f":"IFERROR(RANK($J26,$J$1:J$98)+COUNTIF($J$1:J26,J26)-1,\"\")","v":43},"S.US.WMB ","S.US.FOX "]
["S.US.AJG ",1,"S.US.AJG ",{"$f":"RTD(\"cqg.rtd\", ,\"ContractData\",C27, \"LongDescription\",, \"T\")","v":"Arthur J Gallagher Co"},null,null,null,{"$f":"RTD(\"cqg.rtd\", ,\"ContractData\",C27, \"LastTradeToday\",, \"T\")","v":333.91},{"$f":"RTD(\"cqg.rtd\", ,\"ContractData\",C27, \"NetLastTradeToday\",, \"T\")","v":4.2700000000000005},{"$f":"IFERROR(RTD(\"cqg.rtd\", ,\"ContractData\",C27, \"PerCentNetLastTrade\",, \"T\")/100,\"\")","v":1.2953525057638636E-2},{"$f":"RTD(\"cqg.rtd\", ,\"ContractData\", C27, \"T_CVol\",, \"T\")","v":46491},27,{"$f":"IFERROR(RANK($J27,$J$1:J$98)+COUNTIF($J$1:J27,J27)-1,\"\")","v":18},"S.US.AJG ","S.US.PGR "]
["S.US.AMP ",0,"S.US.AMP ",{"$f":"RTD(\"cqg.rtd\", ,\"ContractData\",C28, \"LongDescription\",, \"T\")","v":"Ameriprise Financial Inc"},null,null,null,{"$f":"RTD(\"cqg.rtd\", ,\"ContractData\",C28, \"LastTradeToday\",, \"T\")","v":518.71},{"$f":"RTD(\"cqg.rtd\", ,\"ContractData\",C28, \"NetLastTradeToday\",, \"T\")","v":-2.96},{"$f":"IFERROR(RTD(\"cqg.rtd\", ,\"ContractData\",C28, \"PerCentNetLastTrade\",, \"T\")/100,\"\")","v":-5.6740851496156573E-3},{"$f":"RTD(\"cqg.rtd\", ,\"ContractData\", C28, \"T_CVol\",, \"T\")","v":19948},28,{"$f":"IFERROR(RANK($J28,$J$1:J$98)+COUNTIF($J$1:J28,J28)-1,\"\")","v":67},"S.US.AMP ","S.US.FOXA "]
["S.US.APO ",0,"S.US.APO ",{"$f":"RTD(\"cqg.rtd\", ,\"ContractData\",C29, \"LongDescription\",, \"T\")","v":"Apollo Global Management, LLC"},null,null,null,{"$f":"RTD(\"cqg.rtd\", ,\"ContractData\",C29, \"LastTradeToday\",, \"T\")","v":142.79},{"$f":"RTD(\"cqg.rtd\", ,\"ContractData\",C29, \"NetLastTradeToday\",, \"T\")","v":-1.45},{"$f":"IFERROR(RTD(\"cqg.rtd\", ,\"ContractData\",C29, \"PerCentNetLastTrade\",, \"T\")/100,\"\")","v":-1.0052689961175818E-2},{"$f":"RTD(\"cqg.rtd\", ,\"ContractData\", C29, \"T_CVol\",, \"T\")","v":141889},29,{"$f":"IFERROR(RANK($J29,$J$1:J$98)+COUNTIF($J$1:J29,J29)-1,\"\")","v":79},"S.US.APO ","S.US.IRM "]
["S.US.AXP ",0,"S.US.AXP ",{"$f":"RTD(\"cqg.rtd\", ,\"ContractData\",C30, \"LongDescription\",, \"T\")","v":"American Express Co"},null,null,null,{"$f":"RTD(\"cqg.rtd\", ,\"ContractData\",C30, \"LastTradeToday\",, \"T\")","v":298.38},{"$f":"RTD(\"cqg.rtd\", ,\"ContractData\",C30, \"NetLastTradeToday\",, \"T\")","v":-1.72},{"$f":"IFERROR(RTD(\"cqg.rtd\", ,\"ContractData\",C30, \"PerCentNetLastTrade\",, \"T\")/100,\"\")","v":-5.7314228590469836E-3},{"$f":"RTD(\"cqg.rtd\", ,\"ContractData\", C30, \"T_CVol\",, \"T\")","v":197112},30,{"$f":"IFERROR(RANK($J30,$J$1:J$98)+COUNTIF($J$1:J30,J30)-1,\"\")","v":68},"S.US.AXP ","S.US.BK "]
["S.US.BAC ",0,"S.US.BAC ",{"$f":"RTD(\"cqg.rtd\", ,\"ContractData\",C31, \"LongDescription\",, \"T\")","v":"Bank of America Corp"},null,null,null,{"$f":"RTD(\"cqg.rtd\", ,\"ContractData\",C31, \"LastTradeToday\",, \"T\")","v":44.51},{"$f":"RTD(\"cqg.rtd\", ,\"ContractData\",C31, \"NetLastTradeToday\",, \"T\")","v":-0.23},{"$f":"IFERROR(RTD(\"cqg.rtd\", ,\"ContractData\",C31, \"PerCentNetLastTrade\",, \"T\")/100,\"\")","v":-5.1408135896289673E-3},{"$f":"RTD(\"cqg.rtd\", ,\"ContractData\", C31, \"T_CVol\",, \"T\")","v":4276832},31,{"$f":"IFERROR(RANK($J31,$J$1:J$98)+COUNTIF($J$1:J31,J31)-1,\"\")","v":65},"S.US.BAC ","S.US.COST "]
["S.US.BK ",1,"S.US.BK ",{"$f":"RTD(\"cqg.rtd\", ,\"ContractData\",C32, \"LongDescription\",, \"T\")","v":"Bank of New York Co Inc"},null,null,null,{"$f":"RTD(\"cqg.rtd\", ,\"ContractData\",C32, \"LastTradeToday\",, \"T\")","v":88.53},{"$f":"RTD(\"cqg.rtd\", ,\"ContractData\",C32, \"NetLastTradeToday\",, \"T\")","v":0.59},{"$f":"IFERROR(RTD(\"cqg.rtd\", ,\"ContractData\",C32, \"PerCentNetLastTrade\",, \"T\")/100,\"\")","v":6.7091198544462138E-3},{"$f":"RTD(\"cqg.rtd\", ,\"ContractData\", C32, \"T_CVol\",, \"T\")","v":241560},32,{"$f":"IFERROR(RANK($J32,$J$1:J$98)+COUNTIF($J$1:J32,J32)-1,\"\")","v":30},"S.US.BK ","S.US.GE "]
["S.US.BLK ",1,"S.US.BLK ",{"$f":"RTD(\"cqg.rtd\", ,\"ContractData\",C33, \"LongDescription\",, \"T\")","v":"BlackRock, Inc."},null,null,null,{"$f":"RTD(\"cqg.rtd\", ,\"ContractData\",C33, \"LastTradeToday\",, \"T\")","v":976.6},{"$f":"RTD(\"cqg.rtd\", ,\"ContractData\",C33, \"NetLastTradeToday\",, \"T\")","v":9.5400000000000009},{"$f":"IFERROR(RTD(\"cqg.rtd\", ,\"ContractData\",C33, \"PerCentNetLastTrade\",, \"T\")/100,\"\")","v":9.8649515024920899E-3},{"$f":"RTD(\"cqg.rtd\", ,\"ContractData\", C33, \"T_CVol\",, \"T\")","v":113782},33,{"$f":"IFERROR(RANK($J33,$J$1:J$98)+COUNTIF($J$1:J33,J33)-1,\"\")","v":22},"S.US.BLK ",{"$f":"VLOOKUP($L33,$M$1:$N$98,2,FALSE)","v":"S.US.FI "}]
["S.US.BRO ",1,"S.US.BRO ",{"$f":"RTD(\"cqg.rtd\", ,\"ContractData\",C34, \"LongDescription\",, \"T\")","v":"BROWN AND BROWN INC"},null,null,null,{"$f":"RTD(\"cqg.rtd\", ,\"ContractData\",C34, \"LastTradeToday\",, \"T\")","v":110.18},{"$f":"RTD(\"cqg.rtd\", ,\"ContractData\",C34, \"NetLastTradeToday\",, \"T\")","v":1.9100000000000001},{"$f":"IFERROR(RTD(\"cqg.rtd\", ,\"ContractData\",C34, \"PerCentNetLastTrade\",, \"T\")/100,\"\")","v":1.7641082478987716E-2},{"$f":"RTD(\"cqg.rtd\", ,\"ContractData\", C34, \"T_CVol\",, \"T\")","v":372224},34,{"$f":"IFERROR(RANK($J34,$J$1:J$98)+COUNTIF($J$1:J34,J34)-1,\"\")","v":8},"S.US.BRO ","S.US.DVA "]
["S.US.C ",0,"S.US.C ",{"$f":"RTD(\"cqg.rtd\", ,\"ContractData\",C35, \"LongDescription\",, \"T\")","v":"Citigroup Inc"},null,null,null,{"$f":"RTD(\"cqg.rtd\", ,\"ContractData\",C35, \"LastTradeToday\",, \"T\")","v":75.040000000000006},{"$f":"RTD(\"cqg.rtd\", ,\"ContractData\",C35, \"NetLastTradeToday\",, \"T\")","v":-0.25},{"$f":"IFERROR(RTD(\"cqg.rtd\", ,\"ContractData\",C35, \"PerCentNetLastTrade\",, \"T\")/100,\"\")","v":-3.3204940895205206E-3},{"$f":"RTD(\"cqg.rtd\", ,\"ContractData\", C35, \"T_CVol\",, \"T\")","v":1763306},35,{"$f":"IFERROR(RANK($J35,$J$1:J$98)+COUNTIF($J$1:J35,J35)-1,\"\")","v":60},"S.US.C ","S.US.VLTO "]
["S.US.COF ",0,"S.US.COF ",{"$f":"RTD(\"cqg.rtd\", ,\"ContractData\",C36, \"LongDescription\",, \"T\")","v":"Capital One Financl Corp"},null,null,null,{"$f":"RTD(\"cqg.rtd\", ,\"ContractData\",C36, \"LastTradeToday\",, \"T\")","v":195.44},{"$f":"RTD(\"cqg.rtd\", ,\"ContractData\",C36, \"NetLastTradeToday\",, \"T\")","v":-1.8},{"$f":"IFERROR(RTD(\"cqg.rtd\", ,\"ContractData\",C36, \"PerCentNetLastTrade\",, \"T\")/100,\"\")","v":-9.1259379436219833E-3},{"$f":"RTD(\"cqg.rtd\", ,\"ContractData\", C36, \"T_CVol\",, \"T\")","v":950305},36,{"$f":"IFERROR(RANK($J36,$J$1:J$98)+COUNTIF($J$1:J36,J36)-1,\"\")","v":76},"S.US.COF ","S.US.KMI "]
["S.US.FI ",1,"S.US.FI ",{"$f":"RTD(\"cqg.rtd\", ,\"ContractData\",C37, \"LongDescription\",, \"T\")","v":"Fiserv, Inc."},null,null,null,{"$f":"RTD(\"cqg.rtd\", ,\"ContractData\",C37, \"LastTradeToday\",, \"T\")","v":190.83},{"$f":"RTD(\"cqg.rtd\", ,\"ContractData\",C37, \"NetLastTradeToday\",, \"T\")","v":0.97},{"$f":"IFERROR(RTD(\"cqg.rtd\", ,\"ContractData\",C37, \"PerCentNetLastTrade\",, \"T\")/100,\"\")","v":5.1090277046244607E-3},{"$f":"RTD(\"cqg.rtd\", ,\"ContractData\", C37, \"T_CVol\",, \"T\")","v":400190},37,{"$f":"IFERROR(RANK($J37,$J$1:J$98)+COUNTIF($J$1:J37,J37)-1,\"\")","v":33},"S.US.FI ","S.US.TJX "]
["S.US.GS ",1,"S.US.GS ",{"$f":"RTD(\"cqg.rtd\", ,\"ContractData\",C38, \"LongDescription\",, \"T\")","v":"Goldman Sachs Group"},null,null,null,{"$f":"RTD(\"cqg.rtd\", ,\"ContractData\",C38, \"LastTradeToday\",, \"T\")","v":612.21},{"$f":"RTD(\"cqg.rtd\", ,\"ContractData\",C38, \"NetLastTradeToday\",, \"T\")","v":0.61},{"$f":"IFERROR(RTD(\"cqg.rtd\", ,\"ContractData\",C38, \"PerCentNetLastTrade\",, \"T\")/100,\"\")","v":9.9738391105297581E-4},{"$f":"RTD(\"cqg.rtd\", ,\"ContractData\", C38, \"T_CVol\",, \"T\")","v":295546},38,{"$f":"IFERROR(RANK($J38,$J$1:J$98)+COUNTIF($J$1:J38,J38)-1,\"\")","v":46},"S.US.GS ","S.US.NFLX "]
["S.US.ICE ",1,"S.US.ICE ",{"$f":"RTD(\"cqg.rtd\", ,\"ContractData\",C39, \"LongDescription\",, \"T\")","v":"Intercontinental, Inc."},null,null,null,{"$f":"RTD(\"cqg.rtd\", ,\"ContractData\",C39, \"LastTradeToday\",, \"T\")","v":173.41},{"$f":"RTD(\"cqg.rtd\", ,\"ContractData\",C39, \"NetLastTradeToday\",, \"T\")","v":1.47},{"$f":"IFERROR(RTD(\"cqg.rtd\", ,\"ContractData\",C39, \"PerCentNetLastTrade\",, \"T\")/100,\"\")","v":8.5494940095382117E-3},{"$f":"RTD(\"cqg.rtd\", ,\"ContractData\", C39, \"T_CVol\",, \"T\")","v":170329},39,{"$f":"IFERROR(RANK($J39,$J$1:J$98)+COUNTIF($J$1:J39,J39)-1,\"\")","v":25},"S.US.ICE ","S.US.JPM "]
["S.US.JPM ",1,"S.US.JPM ",{"$f":"RTD(\"cqg.rtd\", ,\"ContractData\",C40, \"LongDescription\",, \"T\")","v":"JPMorgan Chase & Co."},null,null,null,{"$f":"RTD(\"cqg.rtd\", ,\"ContractData\",C40, \"LastTradeToday\",, \"T\")","v":266.56},{"$f":"RTD(\"cqg.rtd\", ,\"ContractData\",C40, \"NetLastTradeToday\",, \"T\")","v":0.92},{"$f":"IFERROR(RTD(\"cqg.rtd\", ,\"ContractData\",C40, \"PerCentNetLastTrade\",, \"T\")/100,\"\")","v":3.4633338352657735E-3},{"$f":"RTD(\"cqg.rtd\", ,\"ContractData\", C40, \"T_CVol\",, \"T\")","v":1200718},40,{"$f":"IFERROR(RANK($J40,$J$1:J$98)+COUNTIF($J$1:J40,J40)-1,\"\")","v":39},"S.US.JPM ","S.US.GLW "]
["S.US.KKR ",0,"S.US.KKR ",{"$f":"RTD(\"cqg.rtd\", ,\"ContractData\",C41, \"LongDescription\",, \"T\")","v":"KKR & Co. Inc."},null,null,null,{"$f":"RTD(\"cqg.rtd\", ,\"ContractData\",C41, \"LastTradeToday\",, \"T\")","v":125.51},{"$f":"RTD(\"cqg.rtd\", ,\"ContractData\",C41, \"NetLastTradeToday\",, \"T\")","v":-3.52},{"$f":"IFERROR(RTD(\"cqg.rtd\", ,\"ContractData\",C41, \"PerCentNetLastTrade\",, \"T\")/100,\"\")","v":-2.7280477408354646E-2},{"$f":"RTD(\"cqg.rtd\", ,\"ContractData\", C41, \"T_CVol\",, \"T\")","v":471517},41,{"$f":"IFERROR(RANK($J41,$J$1:J$98)+COUNTIF($J$1:J41,J41)-1,\"\")","v":94},"S.US.KKR ","S.US.FFIV "]
["S.US.MS ",0,"S.US.MS ",{"$f":"RTD(\"cqg.rtd\", ,\"ContractData\",C42, \"LongDescription\",, \"T\")","v":"Morgan Stanley"},null,null,null,{"$f":"RTD(\"cqg.rtd\", ,\"ContractData\",C42, \"LastTradeToday\",, \"T\")","v":130.44},{"$f":"RTD(\"cqg.rtd\", ,\"ContractData\",C42, \"NetLastTradeToday\",, \"T\")","v":-0.6},{"$f":"IFERROR(RTD(\"cqg.rtd\", ,\"ContractData\",C42, \"PerCentNetLastTrade\",, \"T\")/100,\"\")","v":-4.578754578754579E-3},{"$f":"RTD(\"cqg.rtd\", ,\"ContractData\", C42, \"T_CVol\",, \"T\")","v":1061394},42,{"$f":"IFERROR(RANK($J42,$J$1:J$98)+COUNTIF($J$1:J42,J42)-1,\"\")","v":63},"S.US.MS ","S.US.HWM "]
["S.US.MTB ",1,"S.US.MTB ",{"$f":"RTD(\"cqg.rtd\", ,\"ContractData\",C43, \"LongDescription\",, \"T\")","v":"M&T Bank Corp"},null,null,null,{"$f":"RTD(\"cqg.rtd\", ,\"ContractData\",C43, \"LastTradeToday\",, \"T\")","v":185.61},{"$f":"RTD(\"cqg.rtd\", ,\"ContractData\",C43, \"NetLastTradeToday\",, \"T\")","v":0.2},{"$f":"IFERROR(RTD(\"cqg.rtd\", ,\"ContractData\",C43, \"PerCentNetLastTrade\",, \"T\")/100,\"\")","v":1.0786904697696997E-3},{"$f":"RTD(\"cqg.rtd\", ,\"ContractData\", C43, \"T_CVol\",, \"T\")","v":50235},43,{"$f":"IFERROR(RANK($J43,$J$1:J$98)+COUNTIF($J$1:J43,J43)-1,\"\")","v":45},"S.US.MTB ","S.US.WMB "]
["S.US.NDAQ ",0,"S.US.NDAQ ",{"$f":"RTD(\"cqg.rtd\", ,\"ContractData\",C44, \"LongDescription\",, \"T\")","v":"Nasdaq, Inc."},null,null,null,{"$f":"RTD(\"cqg.rtd\", ,\"ContractData\",C44, \"LastTradeToday\",, \"T\")","v":80.98},{"$f":"RTD(\"cqg.rtd\", ,\"ContractData\",C44, \"NetLastTradeToday\",, \"T\")","v":-0.08},{"$f":"IFERROR(RTD(\"cqg.rtd\", ,\"ContractData\",C44, \"PerCentNetLastTrade\",, \"T\")/100,\"\")","v":-9.8692326671601278E-4},{"$f":"RTD(\"cqg.rtd\", ,\"ContractData\", C44, \"T_CVol\",, \"T\")","v":230362},44,{"$f":"IFERROR(RANK($J44,$J$1:J$98)+COUNTIF($J$1:J44,J44)-1,\"\")","v":54},"S.US.NDAQ ","S.US.GRMN "]
["S.US.NTRS ",0,"S.US.NTRS ",{"$f":"RTD(\"cqg.rtd\", ,\"ContractData\",C45, \"LongDescription\",, \"T\")","v":"Northern Trust Corp"},null,null,null,{"$f":"RTD(\"cqg.rtd\", ,\"ContractData\",C45, \"LastTradeToday\",, \"T\")","v":106.10000000000001},{"$f":"RTD(\"cqg.rtd\", ,\"ContractData\",C45, \"NetLastTradeToday\",, \"T\")","v":-0.28999999999999998},{"$f":"IFERROR(RTD(\"cqg.rtd\", ,\"ContractData\",C45, \"PerCentNetLastTrade\",, \"T\")/100,\"\")","v":-2.7258200958736722E-3},{"$f":"RTD(\"cqg.rtd\", ,\"ContractData\", C45, \"T_CVol\",, \"T\")","v":55872},45,{"$f":"IFERROR(RANK($J45,$J$1:J$98)+COUNTIF($J$1:J45,J45)-1,\"\")","v":57},"S.US.NTRS ","S.US.MTB "]
["S.US.PGR ",1,"S.US.PGR ",{"$f":"RTD(\"cqg.rtd\", ,\"ContractData\",C46, \"LongDescription\",, \"T\")","v":"Progressive Corp"},null,null,null,{"$f":"RTD(\"cqg.rtd\", ,\"ContractData\",C46, \"LastTradeToday\",, \"T\")","v":280.47000000000003},{"$f":"RTD(\"cqg.rtd\", ,\"ContractData\",C46, \"NetLastTradeToday\",, \"T\")","v":2.3000000000000003},{"$f":"IFERROR(RTD(\"cqg.rtd\", ,\"ContractData\",C46, \"PerCentNetLastTrade\",, \"T\")/100,\"\")","v":8.2683251249236079E-3},{"$f":"RTD(\"cqg.rtd\", ,\"ContractData\", C46, \"T_CVol\",, \"T\")","v":558315},46,{"$f":"IFERROR(RANK($J46,$J$1:J$98)+COUNTIF($J$1:J46,J46)-1,\"\")","v":27},"S.US.PGR ","S.US.GS "]
["S.US.RJF ",0,"S.US.RJF ",{"$f":"RTD(\"cqg.rtd\", ,\"ContractData\",C47, \"LongDescription\",, \"T\")","v":"Raymond James Fincl Inc"},null,null,null,{"$f":"RTD(\"cqg.rtd\", ,\"ContractData\",C47, \"LastTradeToday\",, \"T\")","v":151.71},{"$f":"RTD(\"cqg.rtd\", ,\"ContractData\",C47, \"NetLastTradeToday\",, \"T\")","v":-0.48},{"$f":"IFERROR(RTD(\"cqg.rtd\", ,\"ContractData\",C47, \"PerCentNetLastTrade\",, \"T\")/100,\"\")","v":-3.153952296471516E-3},{"$f":"RTD(\"cqg.rtd\", ,\"ContractData\", C47, \"T_CVol\",, \"T\")","v":34411},47,{"$f":"IFERROR(RANK($J47,$J$1:J$98)+COUNTIF($J$1:J47,J47)-1,\"\")","v":59},"S.US.RJF ","S.US.LYV "]
["S.US.STT ",1,"S.US.STT ",{"$f":"RTD(\"cqg.rtd\", ,\"ContractData\",C48, \"LongDescription\",, \"T\")","v":"State Street Corp"},null,null,null,{"$f":"RTD(\"cqg.rtd\", ,\"ContractData\",C48, \"LastTradeToday\",, \"T\")","v":97.76},{"$f":"RTD(\"cqg.rtd\", ,\"ContractData\",C48, \"NetLastTradeToday\",, \"T\")","v":0.05},{"$f":"IFERROR(RTD(\"cqg.rtd\", ,\"ContractData\",C48, \"PerCentNetLastTrade\",, \"T\")/100,\"\")","v":5.1171835022003893E-4},{"$f":"RTD(\"cqg.rtd\", ,\"ContractData\", C48, \"T_CVol\",, \"T\")","v":66140},48,{"$f":"IFERROR(RANK($J48,$J$1:J$98)+COUNTIF($J$1:J48,J48)-1,\"\")","v":48},"S.US.STT ","S.US.STT "]
["S.US.SYF ",0,"S.US.SYF ",{"$f":"RTD(\"cqg.rtd\", ,\"ContractData\",C49, \"LongDescription\",, \"T\")","v":"Synchrony Financial"},null,null,null,{"$f":"RTD(\"cqg.rtd\", ,\"ContractData\",C49, \"LastTradeToday\",, \"T\")","v":60.29},{"$f":"RTD(\"cqg.rtd\", ,\"ContractData\",C49, \"NetLastTradeToday\",, \"T\")","v":-0.81},{"$f":"IFERROR(RTD(\"cqg.rtd\", ,\"ContractData\",C49, \"PerCentNetLastTrade\",, \"T\")/100,\"\")","v":-1.3256955810147299E-2},{"$f":"RTD(\"cqg.rtd\", ,\"ContractData\", C49, \"T_CVol\",, \"T\")","v":352993},49,{"$f":"IFERROR(RANK($J49,$J$1:J$98)+COUNTIF($J$1:J49,J49)-1,\"\")","v":84},"S.US.SYF ","S.US.JCI "]
["S.US.WFC ",0,"S.US.WFC ",{"$f":"RTD(\"cqg.rtd\", ,\"ContractData\",C50, \"LongDescription\",, \"T\")","v":"Wells Fargo & Co New"},null,null,null,{"$f":"RTD(\"cqg.rtd\", ,\"ContractData\",C50, \"LastTradeToday\",, \"T\")","v":75.930000000000007},{"$f":"RTD(\"cqg.rtd\", ,\"ContractData\",C50, \"NetLastTradeToday\",, \"T\")","v":-0.35000000000000003},{"$f":"IFERROR(RTD(\"cqg.rtd\", ,\"ContractData\",C50, \"PerCentNetLastTrade\",, \"T\")/100,\"\")","v":-4.5883586785527009E-3},{"$f":"RTD(\"cqg.rtd\", ,\"ContractData\", C50, \"T_CVol\",, \"T\")","v":1188035},50,{"$f":"IFERROR(RANK($J50,$J$1:J$98)+COUNTIF($J$1:J50,J50)-1,\"\")","v":64},"S.US.WFC ","S.US.TYL "]
["S.US.WTW ",1,"S.US.WTW ",{"$f":"RTD(\"cqg.rtd\", ,\"ContractData\",C51, \"LongDescription\",, \"T\")","v":"Willis Towers Watson"},null,null,null,{"$f":"RTD(\"cqg.rtd\", ,\"ContractData\",C51, \"LastTradeToday\",, \"T\")","v":306.59000000000003},{"$f":"RTD(\"cqg.rtd\", ,\"ContractData\",C51, \"NetLastTradeToday\",, \"T\")","v":3.22},{"$f":"IFERROR(RTD(\"cqg.rtd\", ,\"ContractData\",C51, \"PerCentNetLastTrade\",, \"T\")/100,\"\")","v":1.061410159211524E-2},{"$f":"RTD(\"cqg.rtd\", ,\"ContractData\", C51, \"T_CVol\",, \"T\")","v":17477},51,{"$f":"IFERROR(RANK($J51,$J$1:J$98)+COUNTIF($J$1:J51,J51)-1,\"\")","v":21},"S.US.WTW ","S.US.GDDY "]
["S.US.BSX ",1,"S.US.BSX ",{"$f":"RTD(\"cqg.rtd\", ,\"ContractData\",C52, \"LongDescription\",, \"T\")","v":"Boston Scientific Corp"},null,null,null,{"$f":"RTD(\"cqg.rtd\", ,\"ContractData\",C52, \"LastTradeToday\",, \"T\")","v":103.96000000000001},{"$f":"RTD(\"cqg.rtd\", ,\"ContractData\",C52, \"NetLastTradeToday\",, \"T\")","v":1.01},{"$f":"IFERROR(RTD(\"cqg.rtd\", ,\"ContractData\",C52, \"PerCentNetLastTrade\",, \"T\")/100,\"\")","v":9.8105876639145214E-3},{"$f":"RTD(\"cqg.rtd\", ,\"ContractData\", C52, \"T_CVol\",, \"T\")","v":599199},52,{"$f":"IFERROR(RANK($J52,$J$1:J$98)+COUNTIF($J$1:J52,J52)-1,\"\")","v":23},"S.US.BSX ","S.US.PNR "]
["S.US.DVA ",1,"S.US.DVA ",{"$f":"RTD(\"cqg.rtd\", ,\"ContractData\",C53, \"LongDescription\",, \"T\")","v":"DaVita Inc."},null,null,null,{"$f":"RTD(\"cqg.rtd\", ,\"ContractData\",C53, \"LastTradeToday\",, \"T\")","v":140.58000000000001},{"$f":"RTD(\"cqg.rtd\", ,\"ContractData\",C53, \"NetLastTradeToday\",, \"T\")","v":0.68},{"$f":"IFERROR(RTD(\"cqg.rtd\", ,\"ContractData\",C53, \"PerCentNetLastTrade\",, \"T\")/100,\"\")","v":4.8606147248034309E-3},{"$f":"RTD(\"cqg.rtd\", ,\"ContractData\", C53, \"T_CVol\",, \"T\")","v":32896},53,{"$f":"IFERROR(RANK($J53,$J$1:J$98)+COUNTIF($J$1:J53,J53)-1,\"\")","v":34},"S.US.DVA ","S.US.TT "]
["S.US.ISRG ",0,"S.US.ISRG ",{"$f":"RTD(\"cqg.rtd\", ,\"ContractData\",C54, \"LongDescription\",, \"T\")","v":"Intuitive Surgical Inc"},null,null,null,{"$f":"RTD(\"cqg.rtd\", ,\"ContractData\",C54, \"LastTradeToday\",, \"T\")","v":555.16999999999996},{"$f":"RTD(\"cqg.rtd\", ,\"ContractData\",C54, \"NetLastTradeToday\",, \"T\")","v":-10.77},{"$f":"IFERROR(RTD(\"cqg.rtd\", ,\"ContractData\",C54, \"PerCentNetLastTrade\",, \"T\")/100,\"\")","v":-1.9030285896031382E-2},{"$f":"RTD(\"cqg.rtd\", ,\"ContractData\", C54, \"T_CVol\",, \"T\")","v":375241},54,{"$f":"IFERROR(RANK($J54,$J$1:J$98)+COUNTIF($J$1:J54,J54)-1,\"\")","v":91},"S.US.ISRG ","S.US.NDAQ "]
["S.US.AXON ",0,"S.US.AXON ",{"$f":"RTD(\"cqg.rtd\", ,\"ContractData\",C55, \"LongDescription\",, \"T\")","v":"Axon Enterprise, Inc."},null,null,null,{"$f":"RTD(\"cqg.rtd\", ,\"ContractData\",C55, \"LastTradeToday\",, \"T\")","v":724.7},{"$f":"RTD(\"cqg.rtd\", ,\"ContractData\",C55, \"NetLastTradeToday\",, \"T\")","v":-3.83},{"$f":"IFERROR(RTD(\"cqg.rtd\", ,\"ContractData\",C55, \"PerCentNetLastTrade\",, \"T\")/100,\"\")","v":-5.2571616817426873E-3},{"$f":"RTD(\"cqg.rtd\", ,\"ContractData\", C55, \"T_CVol\",, \"T\")","v":47129},55,{"$f":"IFERROR(RANK($J55,$J$1:J$98)+COUNTIF($J$1:J55,J55)-1,\"\")","v":66},"S.US.AXON ","S.US.CBRE "]
["S.US.CMI ",0,"S.US.CMI ",{"$f":"RTD(\"cqg.rtd\", ,\"ContractData\",C56, \"LongDescription\",, \"T\")","v":"Cummins Inc"},null,null,null,{"$f":"RTD(\"cqg.rtd\", ,\"ContractData\",C56, \"LastTradeToday\",, \"T\")","v":329.91},{"$f":"RTD(\"cqg.rtd\", ,\"ContractData\",C56, \"NetLastTradeToday\",, \"T\")","v":-2.92},{"$f":"IFERROR(RTD(\"cqg.rtd\", ,\"ContractData\",C56, \"PerCentNetLastTrade\",, \"T\")/100,\"\")","v":-8.7732476038818626E-3},{"$f":"RTD(\"cqg.rtd\", ,\"ContractData\", C56, \"T_CVol\",, \"T\")","v":35347},56,{"$f":"IFERROR(RANK($J56,$J$1:J$98)+COUNTIF($J$1:J56,J56)-1,\"\")","v":75},"S.US.CMI ","S.US.WAB "]
["S.US.DAL ",0,"S.US.DAL ",{"$f":"RTD(\"cqg.rtd\", ,\"ContractData\",C57, \"LongDescription\",, \"T\")","v":"Delta Airlines, Inc."},null,null,null,{"$f":"RTD(\"cqg.rtd\", ,\"ContractData\",C57, \"LastTradeToday\",, \"T\")","v":50.18},{"$f":"RTD(\"cqg.rtd\", ,\"ContractData\",C57, \"NetLastTradeToday\",, \"T\")","v":-0.4},{"$f":"IFERROR(RTD(\"cqg.rtd\", ,\"ContractData\",C57, \"PerCentNetLastTrade\",, \"T\")/100,\"\")","v":-7.9082641360221431E-3},{"$f":"RTD(\"cqg.rtd\", ,\"ContractData\", C57, \"T_CVol\",, \"T\")","v":728161},57,{"$f":"IFERROR(RANK($J57,$J$1:J$98)+COUNTIF($J$1:J57,J57)-1,\"\")","v":74},"S.US.DAL ","S.US.NTRS "]
["S.US.DOV ",0,"S.US.DOV ",{"$f":"RTD(\"cqg.rtd\", ,\"ContractData\",C58, \"LongDescription\",, \"T\")","v":"Dover Corporation"},null,null,null,{"$f":"RTD(\"cqg.rtd\", ,\"ContractData\",C58, \"LastTradeToday\",, \"T\")","v":184.02},{"$f":"RTD(\"cqg.rtd\", ,\"ContractData\",C58, \"NetLastTradeToday\",, \"T\")","v":-0.66},{"$f":"IFERROR(RTD(\"cqg.rtd\", ,\"ContractData\",C58, \"PerCentNetLastTrade\",, \"T\")/100,\"\")","v":-3.5737491877842753E-3},{"$f":"RTD(\"cqg.rtd\", ,\"ContractData\", C58, \"T_CVol\",, \"T\")","v":24162},58,{"$f":"IFERROR(RANK($J58,$J$1:J$98)+COUNTIF($J$1:J58,J58)-1,\"\")","v":62},"S.US.DOV ","S.US.HLT "]
["S.US.GE ",1,"S.US.GE ",{"$f":"RTD(\"cqg.rtd\", ,\"ContractData\",C59, \"LongDescription\",, \"T\")","v":"General Electric Co"},null,null,null,{"$f":"RTD(\"cqg.rtd\", ,\"ContractData\",C59, \"LastTradeToday\",, \"T\")","v":224.6},{"$f":"RTD(\"cqg.rtd\", ,\"ContractData\",C59, \"NetLastTradeToday\",, \"T\")","v":1.36},{"$f":"IFERROR(RTD(\"cqg.rtd\", ,\"ContractData\",C59, \"PerCentNetLastTrade\",, \"T\")/100,\"\")","v":6.0920981902884783E-3},{"$f":"RTD(\"cqg.rtd\", ,\"ContractData\", C59, \"T_CVol\",, \"T\")","v":602560},59,{"$f":"IFERROR(RANK($J59,$J$1:J$98)+COUNTIF($J$1:J59,J59)-1,\"\")","v":32},"S.US.GE ","S.US.RJF "]
["S.US.GEV ",0,"S.US.GEV ",{"$f":"RTD(\"cqg.rtd\", ,\"ContractData\",C60, \"LongDescription\",, \"T\")","v":"GE Vernova Inc."},null,null,null,{"$f":"RTD(\"cqg.rtd\", ,\"ContractData\",C60, \"LastTradeToday\",, \"T\")","v":428.58},{"$f":"RTD(\"cqg.rtd\", ,\"ContractData\",C60, \"NetLastTradeToday\",, \"T\")","v":-4.26},{"$f":"IFERROR(RTD(\"cqg.rtd\", ,\"ContractData\",C60, \"PerCentNetLastTrade\",, \"T\")/100,\"\")","v":-9.8419739395619633E-3},{"$f":"RTD(\"cqg.rtd\", ,\"ContractData\", C60, \"T_CVol\",, \"T\")","v":279096},60,{"$f":"IFERROR(RANK($J60,$J$1:J$98)+COUNTIF($J$1:J60,J60)-1,\"\")","v":78},"S.US.GEV ","S.US.C "]
["S.US.HWM ",1,"S.US.HWM ",{"$f":"RTD(\"cqg.rtd\", ,\"ContractData\",C61, \"LongDescription\",, \"T\")","v":"Howmet Aerospace Inc."},null,null,null,{"$f":"RTD(\"cqg.rtd\", ,\"ContractData\",C61, \"LastTradeToday\",, \"T\")","v":159.74},{"$f":"RTD(\"cqg.rtd\", ,\"ContractData\",C61, \"NetLastTradeToday\",, \"T\")","v":0.28000000000000003},{"$f":"IFERROR(RTD(\"cqg.rtd\", ,\"ContractData\",C61, \"PerCentNetLastTrade\",, \"T\")/100,\"\")","v":1.7559262510974539E-3},{"$f":"RTD(\"cqg.rtd\", ,\"ContractData\", C61, \"T_CVol\",, \"T\")","v":338206},61,{"$f":"IFERROR(RANK($J61,$J$1:J$98)+COUNTIF($J$1:J61,J61)-1,\"\")","v":42},"S.US.HWM ","S.US.PKG "]
["S.US.JCI ",1,"S.US.JCI ",{"$f":"RTD(\"cqg.rtd\", ,\"ContractData\",C62, \"LongDescription\",, \"T\")","v":"Johnson Controls International plc"},null,null,null,{"$f":"RTD(\"cqg.rtd\", ,\"ContractData\",C62, \"LastTradeToday\",, \"T\")","v":96.38},{"$f":"RTD(\"cqg.rtd\", ,\"ContractData\",C62, \"NetLastTradeToday\",, \"T\")","v":0.03},{"$f":"IFERROR(RTD(\"cqg.rtd\", ,\"ContractData\",C62, \"PerCentNetLastTrade\",, \"T\")/100,\"\")","v":3.1136481577581735E-4},{"$f":"RTD(\"cqg.rtd\", ,\"ContractData\", C62, \"T_CVol\",, \"T\")","v":175724},62,{"$f":"IFERROR(RANK($J62,$J$1:J$98)+COUNTIF($J$1:J62,J62)-1,\"\")","v":49},"S.US.JCI ","S.US.DOV "]
["S.US.MMM ",0,"S.US.MMM ",{"$f":"RTD(\"cqg.rtd\", ,\"ContractData\",C63, \"LongDescription\",, \"T\")","v":"3M Company"},null,null,null,{"$f":"RTD(\"cqg.rtd\", ,\"ContractData\",C63, \"LastTradeToday\",, \"T\")","v":146.24},{"$f":"RTD(\"cqg.rtd\", ,\"ContractData\",C63, \"NetLastTradeToday\",, \"T\")","v":-1.6400000000000001},{"$f":"IFERROR(RTD(\"cqg.rtd\", ,\"ContractData\",C63, \"PerCentNetLastTrade\",, \"T\")/100,\"\")","v":-1.1090073032188261E-2},{"$f":"RTD(\"cqg.rtd\", ,\"ContractData\", C63, \"T_CVol\",, \"T\")","v":1794810},63,{"$f":"IFERROR(RANK($J63,$J$1:J$98)+COUNTIF($J$1:J63,J63)-1,\"\")","v":82},"S.US.MMM ","S.US.MS "]
["S.US.PH ",0,"S.US.PH ",{"$f":"RTD(\"cqg.rtd\", ,\"ContractData\",C64, \"LongDescription\",, \"T\")","v":"Parker-Hannifin Corp"},null,null,null,{"$f":"RTD(\"cqg.rtd\", ,\"ContractData\",C64, \"LastTradeToday\",, \"T\")","v":670.22},{"$f":"RTD(\"cqg.rtd\", ,\"ContractData\",C64, \"NetLastTradeToday\",, \"T\")","v":-4.59},{"$f":"IFERROR(RTD(\"cqg.rtd\", ,\"ContractData\",C64, \"PerCentNetLastTrade\",, \"T\")/100,\"\")","v":-6.8019146130021777E-3},{"$f":"RTD(\"cqg.rtd\", ,\"ContractData\", C64, \"T_CVol\",, \"T\")","v":33786},64,{"$f":"IFERROR(RANK($J64,$J$1:J$98)+COUNTIF($J$1:J64,J64)-1,\"\")","v":73},"S.US.PH ","S.US.WFC "]
["S.US.PNR ",0,"S.US.PNR ",{"$f":"RTD(\"cqg.rtd\", ,\"ContractData\",C65, \"LongDescription\",, \"T\")","v":"Pentair Ltd."},null,null,null,{"$f":"RTD(\"cqg.rtd\", ,\"ContractData\",C65, \"LastTradeToday\",, \"T\")","v":97.17},{"$f":"RTD(\"cqg.rtd\", ,\"ContractData\",C65, \"NetLastTradeToday\",, \"T\")","v":-0.01},{"$f":"IFERROR(RTD(\"cqg.rtd\", ,\"ContractData\",C65, \"PerCentNetLastTrade\",, \"T\")/100,\"\")","v":-1.0290183165260341E-4},{"$f":"RTD(\"cqg.rtd\", ,\"ContractData\", C65, \"T_CVol\",, \"T\")","v":54391},65,{"$f":"IFERROR(RANK($J65,$J$1:J$98)+COUNTIF($J$1:J65,J65)-1,\"\")","v":52},"S.US.PNR ",{"$f":"VLOOKUP($L65,$M$1:$N$98,2,FALSE)","v":"S.US.BAC "}]
["S.US.RSG ",{"$f":"IF(J66>0,1,0)","v":1},"S.US.RSG ",{"$f":"RTD(\"cqg.rtd\", ,\"ContractData\",C66, \"LongDescription\",, \"T\")","v":"Republic Services Inc ClA"},null,null,null,{"$f":"RTD(\"cqg.rtd\", ,\"ContractData\",C66, \"LastTradeToday\",, \"T\")","v":240.99},{"$f":"RTD(\"cqg.rtd\", ,\"ContractData\",C66, \"NetLastTradeToday\",, \"T\")","v":2.92},{"$f":"IFERROR(RTD(\"cqg.rtd\", ,\"ContractData\",C66, \"PerCentNetLastTrade\",, \"T\")/100,\"\")","v":1.2265300121812912E-2},{"$f":"RTD(\"cqg.rtd\", ,\"ContractData\", C66, \"T_CVol\",, \"T\")","v":107358},66,{"$f":"IFERROR(RANK($J66,$J$1:J$98)+COUNTIF($J$1:J66,J66)-1,\"\")","v":19},{"$f":"C66","v":"S.US.RSG "},"S.US.AXON "]
["S.US.RTX ",1,"S.US.RTX ",{"$f":"RTD(\"cqg.rtd\", ,\"ContractData\",C67, \"LongDescription\",, \"T\")","v":"RTX Corporation"},null,null,null,{"$f":"RTD(\"cqg.rtd\", ,\"ContractData\",C67, \"LastTradeToday\",, \"T\")","v":132.86000000000001},{"$f":"RTD(\"cqg.rtd\", ,\"ContractData\",C67, \"NetLastTradeToday\",, \"T\")","v":2.0699999999999998},{"$f":"IFERROR(RTD(\"cqg.rtd\", ,\"ContractData\",C67, \"PerCentNetLastTrade\",, \"T\")/100,\"\")","v":1.5826898080893034E-2},{"$f":"RTD(\"cqg.rtd\", ,\"ContractData\", C67, \"T_CVol\",, \"T\")","v":389788},{"$f":"L66+1","v":67},{"$f":"IFERROR(RANK($J67,$J$1:J$98)+COUNTIF($J$1:J67,J67)-1,\"\")","v":11},"S.US.RTX ","S.US.AMP "]
["S.US.TT ",0,"S.US.TT ",{"$f":"RTD(\"cqg.rtd\", ,\"ContractData\",C68, \"LongDescription\",, \"T\")","v":"Trane Technologies plc"},null,null,null,{"$f":"RTD(\"cqg.rtd\", ,\"ContractData\",C68, \"LastTradeToday\",, \"T\")","v":419.59000000000003},{"$f":"RTD(\"cqg.rtd\", ,\"ContractData\",C68, \"NetLastTradeToday\",, \"T\")","v":-7.0000000000000007E-2},{"$f":"IFERROR(RTD(\"cqg.rtd\", ,\"ContractData\",C68, \"PerCentNetLastTrade\",, \"T\")/100,\"\")","v":-1.6680169661154268E-4},{"$f":"RTD(\"cqg.rtd\", ,\"ContractData\", C68, \"T_CVol\",, \"T\")","v":77231},68,{"$f":"IFERROR(RANK($J68,$J$1:J$98)+COUNTIF($J$1:J68,J68)-1,\"\")","v":53},"S.US.TT ","S.US.AXP "]
["S.US.UAL ",0,"S.US.UAL ",{"$f":"RTD(\"cqg.rtd\", ,\"ContractData\",C69, \"LongDescription\",, \"T\")","v":"UAL Continental Holdings, Inc."},null,null,null,{"$f":"RTD(\"cqg.rtd\", ,\"ContractData\",C69, \"LastTradeToday\",, \"T\")","v":77.67},{"$f":"RTD(\"cqg.rtd\", ,\"ContractData\",C69, \"NetLastTradeToday\",, \"T\")","v":-1.32},{"$f":"IFERROR(RTD(\"cqg.rtd\", ,\"ContractData\",C69, \"PerCentNetLastTrade\",, \"T\")/100,\"\")","v":-1.6710976072920623E-2},{"$f":"RTD(\"cqg.rtd\", ,\"ContractData\", C69, \"T_CVol\",, \"T\")","v":712537},69,{"$f":"IFERROR(RANK($J69,$J$1:J$98)+COUNTIF($J$1:J69,J69)-1,\"\")","v":89},"S.US.UAL ","S.US.RL "]
["S.US.VLTO ",1,"S.US.VLTO ",{"$f":"RTD(\"cqg.rtd\", ,\"ContractData\",C70, \"LongDescription\",, \"T\")","v":"Veralto Corporation"},null,null,null,{"$f":"RTD(\"cqg.rtd\", ,\"ContractData\",C70, \"LastTradeToday\",, \"T\")","v":99.94},{"$f":"RTD(\"cqg.rtd\", ,\"ContractData\",C70, \"NetLastTradeToday\",, \"T\")","v":0.48},{"$f":"IFERROR(RTD(\"cqg.rtd\", ,\"ContractData\",C70, \"PerCentNetLastTrade\",, \"T\")/100,\"\")","v":4.8260607279308268E-3},{"$f":"RTD(\"cqg.rtd\", ,\"ContractData\", C70, \"T_CVol\",, \"T\")","v":77969},70,{"$f":"IFERROR(RANK($J70,$J$1:J$98)+COUNTIF($J$1:J70,J70)-1,\"\")","v":35},"S.US.VLTO ","S.US.ZBRA "]
["S.US.WAB ",0,"S.US.WAB ",{"$f":"RTD(\"cqg.rtd\", ,\"ContractData\",C71, \"LongDescription\",, \"T\")","v":"Westinghouse Air Brake Co"},null,null,null,{"$f":"RTD(\"cqg.rtd\", ,\"ContractData\",C71, \"LastTradeToday\",, \"T\")","v":203.33},{"$f":"RTD(\"cqg.rtd\", ,\"ContractData\",C71, \"NetLastTradeToday\",, \"T\")","v":-0.45},{"$f":"IFERROR(RTD(\"cqg.rtd\", ,\"ContractData\",C71, \"PerCentNetLastTrade\",, \"T\")/100,\"\")","v":-2.2082638139169692E-3},{"$f":"RTD(\"cqg.rtd\", ,\"ContractData\", C71, \"T_CVol\",, \"T\")","v":42256},71,{"$f":"IFERROR(RANK($J71,$J$1:J$98)+COUNTIF($J$1:J71,J71)-1,\"\")","v":56},"S.US.WAB ","S.US.TPR "]
["S.US.ANET ",0,"S.US.ANET ",{"$f":"RTD(\"cqg.rtd\", ,\"ContractData\",C72, \"LongDescription\",, \"T\")","v":"Arista Networks, Inc."},null,null,null,{"$f":"RTD(\"cqg.rtd\", ,\"ContractData\",C72, \"LastTradeToday\",, \"T\")","v":95.23},{"$f":"RTD(\"cqg.rtd\", ,\"ContractData\",C72, \"NetLastTradeToday\",, \"T\")","v":-2.99},{"$f":"IFERROR(RTD(\"cqg.rtd\", ,\"ContractData\",C72, \"PerCentNetLastTrade\",, \"T\")/100,\"\")","v":-3.0441865200570149E-2},{"$f":"RTD(\"cqg.rtd\", ,\"ContractData\", C72, \"T_CVol\",, \"T\")","v":1243040},72,{"$f":"IFERROR(RANK($J72,$J$1:J$98)+COUNTIF($J$1:J72,J72)-1,\"\")","v":95},"S.US.ANET ","S.US.CEG "]
["S.US.AVGO ",0,"S.US.AVGO ",{"$f":"RTD(\"cqg.rtd\", ,\"ContractData\",C73, \"LongDescription\",, \"T\")","v":"Broadcom Inc."},null,null,null,{"$f":"RTD(\"cqg.rtd\", ,\"ContractData\",C73, \"LastTradeToday\",, \"T\")","v":229.58},{"$f":"RTD(\"cqg.rtd\", ,\"ContractData\",C73, \"NetLastTradeToday\",, \"T\")","v":-2.54},{"$f":"IFERROR(RTD(\"cqg.rtd\", ,\"ContractData\",C73, \"PerCentNetLastTrade\",, \"T\")/100,\"\")","v":-1.0942615888333619E-2},{"$f":"RTD(\"cqg.rtd\", ,\"ContractData\", C73, \"T_CVol\",, \"T\")","v":2290528},73,{"$f":"IFERROR(RANK($J73,$J$1:J$98)+COUNTIF($J$1:J73,J73)-1,\"\")","v":81},"S.US.AVGO ","S.US.PH "]
["S.US.FFIV ",1,"S.US.FFIV ",{"$f":"RTD(\"cqg.rtd\", ,\"ContractData\",C74, \"LongDescription\",, \"T\")","v":"F5, Inc."},null,null,null,{"$f":"RTD(\"cqg.rtd\", ,\"ContractData\",C74, \"LastTradeToday\",, \"T\")","v":282.31},{"$f":"RTD(\"cqg.rtd\", ,\"ContractData\",C74, \"NetLastTradeToday\",, \"T\")","v":0.72},{"$f":"IFERROR(RTD(\"cqg.rtd\", ,\"ContractData\",C74, \"PerCentNetLastTrade\",, \"T\")/100,\"\")","v":2.5569089811427964E-3},{"$f":"RTD(\"cqg.rtd\", ,\"ContractData\", C74, \"T_CVol\",, \"T\")","v":12387},74,{"$f":"IFERROR(RANK($J74,$J$1:J$98)+COUNTIF($J$1:J74,J74)-1,\"\")","v":41},"S.US.FFIV ","S.US.DAL "]
["S.US.FICO ",1,"S.US.FICO ",{"$f":"RTD(\"cqg.rtd\", ,\"ContractData\",C75, \"LongDescription\",, \"T\")","v":"Fair Isaac Inc"},null,null,null,{"$f":"RTD(\"cqg.rtd\", ,\"ContractData\",C75, \"LastTradeToday\",, \"T\")","v":2146.73},{"$f":"RTD(\"cqg.rtd\", ,\"ContractData\",C75, \"NetLastTradeToday\",, \"T\")","v":20.830000000000002},{"$f":"IFERROR(RTD(\"cqg.rtd\", ,\"ContractData\",C75, \"PerCentNetLastTrade\",, \"T\")/100,\"\")","v":9.7982031139752582E-3},{"$f":"RTD(\"cqg.rtd\", ,\"ContractData\", C75, \"T_CVol\",, \"T\")","v":15985},75,{"$f":"IFERROR(RANK($J75,$J$1:J$98)+COUNTIF($J$1:J75,J75)-1,\"\")","v":24},"S.US.FICO ","S.US.CMI "]
["S.US.GDDY ",1,"S.US.GDDY ",{"$f":"RTD(\"cqg.rtd\", ,\"ContractData\",C76, \"LongDescription\",, \"T\")","v":"GoDaddy Inc."},null,null,null,{"$f":"RTD(\"cqg.rtd\", ,\"ContractData\",C76, \"LastTradeToday\",, \"T\")","v":188.1},{"$f":"RTD(\"cqg.rtd\", ,\"ContractData\",C76, \"NetLastTradeToday\",, \"T\")","v":0.01},{"$f":"IFERROR(RTD(\"cqg.rtd\", ,\"ContractData\",C76, \"PerCentNetLastTrade\",, \"T\")/100,\"\")","v":5.3166037535222501E-5},{"$f":"RTD(\"cqg.rtd\", ,\"ContractData\", C76, \"T_CVol\",, \"T\")","v":50697},76,{"$f":"IFERROR(RANK($J76,$J$1:J$98)+COUNTIF($J$1:J76,J76)-1,\"\")","v":51},"S.US.GDDY ","S.US.COF "]
["S.US.GLW ",1,"S.US.GLW ",{"$f":"RTD(\"cqg.rtd\", ,\"ContractData\",C77, \"LongDescription\",, \"T\")","v":"Corning Incorporated"},null,null,null,{"$f":"RTD(\"cqg.rtd\", ,\"ContractData\",C77, \"LastTradeToday\",, \"T\")","v":47.17},{"$f":"RTD(\"cqg.rtd\", ,\"ContractData\",C77, \"NetLastTradeToday\",, \"T\")","v":0.16},{"$f":"IFERROR(RTD(\"cqg.rtd\", ,\"ContractData\",C77, \"PerCentNetLastTrade\",, \"T\")/100,\"\")","v":3.4035311635822164E-3},{"$f":"RTD(\"cqg.rtd\", ,\"ContractData\", C77, \"T_CVol\",, \"T\")","v":497682},77,{"$f":"IFERROR(RANK($J77,$J$1:J$98)+COUNTIF($J$1:J77,J77)-1,\"\")","v":40},"S.US.GLW ","S.US.RCL "]
["S.US.IBM ",1,"S.US.IBM ",{"$f":"RTD(\"cqg.rtd\", ,\"ContractData\",C78, \"LongDescription\",, \"T\")","v":"International Business Machines"},null,null,null,{"$f":"RTD(\"cqg.rtd\", ,\"ContractData\",C78, \"LastTradeToday\",, \"T\")","v":261.83},{"$f":"RTD(\"cqg.rtd\", ,\"ContractData\",C78, \"NetLastTradeToday\",, \"T\")","v":4.01},{"$f":"IFERROR(RTD(\"cqg.rtd\", ,\"ContractData\",C78, \"PerCentNetLastTrade\",, \"T\")/100,\"\")","v":1.5553486928865099E-2},{"$f":"RTD(\"cqg.rtd\", ,\"ContractData\", C78, \"T_CVol\",, \"T\")","v":303957},78,{"$f":"IFERROR(RANK($J78,$J$1:J$98)+COUNTIF($J$1:J78,J78)-1,\"\")","v":12},"S.US.IBM ","S.US.GEV "]
["S.US.MSI ",1,"S.US.MSI ",{"$f":"RTD(\"cqg.rtd\", ,\"ContractData\",C79, \"LongDescription\",, \"T\")","v":"Motorola Solutions, Inc."},null,null,null,{"$f":"RTD(\"cqg.rtd\", ,\"ContractData\",C79, \"LastTradeToday\",, \"T\")","v":420.75},{"$f":"RTD(\"cqg.rtd\", ,\"ContractData\",C79, \"NetLastTradeToday\",, \"T\")","v":5.55},{"$f":"IFERROR(RTD(\"cqg.rtd\", ,\"ContractData\",C79, \"PerCentNetLastTrade\",, \"T\")/100,\"\")","v":1.3367052023121386E-2},{"$f":"RTD(\"cqg.rtd\", ,\"ContractData\", C79, \"T_CVol\",, \"T\")","v":53873},79,{"$f":"IFERROR(RANK($J79,$J$1:J$98)+COUNTIF($J$1:J79,J79)-1,\"\")","v":16},"S.US.MSI ","S.US.APO "]
["S.US.NVDA ",0,"S.US.NVDA ",{"$f":"RTD(\"cqg.rtd\", ,\"ContractData\",C80, \"LongDescription\",, \"T\")","v":"NVIDIA Corp"},null,null,null,{"$f":"RTD(\"cqg.rtd\", ,\"ContractData\",C80, \"LastTradeToday\",, \"T\")","v":133.31},{"$f":"RTD(\"cqg.rtd\", ,\"ContractData\",C80, \"NetLastTradeToday\",, \"T\")","v":-2.0300000000000002},{"$f":"IFERROR(RTD(\"cqg.rtd\", ,\"ContractData\",C80, \"PerCentNetLastTrade\",, \"T\")/100,\"\")","v":-1.4999261120141865E-2},{"$f":"RTD(\"cqg.rtd\", ,\"ContractData\", C80, \"T_CVol\",, \"T\")","v":44235568},80,{"$f":"IFERROR(RANK($J80,$J$1:J$98)+COUNTIF($J$1:J80,J80)-1,\"\")","v":85},"S.US.NVDA ","S.US.IP "]
["S.US.PLTR ",0,"S.US.PLTR ",{"$f":"RTD(\"cqg.rtd\", ,\"ContractData\",C81, \"LongDescription\",, \"T\")","v":"Palantir Technologies Inc."},null,null,null,{"$f":"RTD(\"cqg.rtd\", ,\"ContractData\",C81, \"LastTradeToday\",, \"T\")","v":127.63000000000001},{"$f":"RTD(\"cqg.rtd\", ,\"ContractData\",C81, \"NetLastTradeToday\",, \"T\")","v":-2.5500000000000003},{"$f":"IFERROR(RTD(\"cqg.rtd\", ,\"ContractData\",C81, \"PerCentNetLastTrade\",, \"T\")/100,\"\")","v":-1.9588262405899524E-2},{"$f":"RTD(\"cqg.rtd\", ,\"ContractData\", C81, \"T_CVol\",, \"T\")","v":14030579},81,{"$f":"IFERROR(RANK($J81,$J$1:J$98)+COUNTIF($J$1:J81,J81)-1,\"\")","v":92},"S.US.PLTR ","S.US.AVGO "]
["S.US.TYL ",1,"S.US.TYL ",{"$f":"RTD(\"cqg.rtd\", ,\"ContractData\",C82, \"LongDescription\",, \"T\")","v":"TYLER TECHNOLOGIES INC"},null,null,null,{"$f":"RTD(\"cqg.rtd\", ,\"ContractData\",C82, \"LastTradeToday\",, \"T\")","v":562.07000000000005},{"$f":"RTD(\"cqg.rtd\", ,\"ContractData\",C82, \"NetLastTradeToday\",, \"T\")","v":7.0000000000000007E-2},{"$f":"IFERROR(RTD(\"cqg.rtd\", ,\"ContractData\",C82, \"PerCentNetLastTrade\",, \"T\")/100,\"\")","v":1.2455516014234875E-4},{"$f":"RTD(\"cqg.rtd\", ,\"ContractData\", C82, \"T_CVol\",, \"T\")","v":11457},82,{"$f":"IFERROR(RANK($J82,$J$1:J$98)+COUNTIF($J$1:J82,J82)-1,\"\")","v":50},"S.US.TYL ","S.US.MMM "]
["S.US.ZBRA ",0,"S.US.ZBRA ",{"$f":"RTD(\"cqg.rtd\", ,\"ContractData\",C83, \"LongDescription\",, \"T\")","v":"Zebra Technologies Corp"},null,null,null,{"$f":"RTD(\"cqg.rtd\", ,\"ContractData\",C83, \"LastTradeToday\",, \"T\")","v":297.52},{"$f":"RTD(\"cqg.rtd\", ,\"ContractData\",C83, \"NetLastTradeToday\",, \"T\")","v":-1.75},{"$f":"IFERROR(RTD(\"cqg.rtd\", ,\"ContractData\",C83, \"PerCentNetLastTrade\",, \"T\")/100,\"\")","v":-5.847562401844488E-3},{"$f":"RTD(\"cqg.rtd\", ,\"ContractData\", C83, \"T_CVol\",, \"T\")","v":32162},83,{"$f":"IFERROR(RANK($J83,$J$1:J$98)+COUNTIF($J$1:J83,J83)-1,\"\")","v":70},"S.US.ZBRA ","S.US.META "]
["S.US.IP ",0,"S.US.IP ",{"$f":"RTD(\"cqg.rtd\", ,\"ContractData\",C84, \"LongDescription\",, \"T\")","v":"International Paper Co"},null,null,null,{"$f":"RTD(\"cqg.rtd\", ,\"ContractData\",C84, \"LastTradeToday\",, \"T\")","v":49.77},{"$f":"RTD(\"cqg.rtd\", ,\"ContractData\",C84, \"NetLastTradeToday\",, \"T\")","v":-0.55000000000000004},{"$f":"IFERROR(RTD(\"cqg.rtd\", ,\"ContractData\",C84, \"PerCentNetLastTrade\",, \"T\")/100,\"\")","v":-1.0930047694753578E-2},{"$f":"RTD(\"cqg.rtd\", ,\"ContractData\", C84, \"T_CVol\",, \"T\")","v":723541},84,{"$f":"IFERROR(RANK($J84,$J$1:J$98)+COUNTIF($J$1:J84,J84)-1,\"\")","v":80},"S.US.IP ","S.US.SYF "]
["S.US.PKG ",0,"S.US.PKG ",{"$f":"RTD(\"cqg.rtd\", ,\"ContractData\",C85, \"LongDescription\",, \"T\")","v":"Packaging Corp of America"},null,null,null,{"$f":"RTD(\"cqg.rtd\", ,\"ContractData\",C85, \"LastTradeToday\",, \"T\")","v":191.26},{"$f":"RTD(\"cqg.rtd\", ,\"ContractData\",C85, \"NetLastTradeToday\",, \"T\")","v":-0.65},{"$f":"IFERROR(RTD(\"cqg.rtd\", ,\"ContractData\",C85, \"PerCentNetLastTrade\",, \"T\")/100,\"\")","v":-3.3870043249439839E-3},{"$f":"RTD(\"cqg.rtd\", ,\"ContractData\", C85, \"T_CVol\",, \"T\")","v":75829},85,{"$f":"IFERROR(RANK($J85,$J$1:J$98)+COUNTIF($J$1:J85,J85)-1,\"\")","v":61},"S.US.PKG ","S.US.NVDA "]
["S.US.CBRE ",0,"S.US.CBRE ",{"$f":"RTD(\"cqg.rtd\", ,\"ContractData\",C86, \"LongDescription\",, \"T\")","v":"CBRE Group, Inc."},null,null,null,{"$f":"RTD(\"cqg.rtd\", ,\"ContractData\",C86, \"LastTradeToday\",, \"T\")","v":128.83000000000001},{"$f":"RTD(\"cqg.rtd\", ,\"ContractData\",C86, \"NetLastTradeToday\",, \"T\")","v":-0.23},{"$f":"IFERROR(RTD(\"cqg.rtd\", ,\"ContractData\",C86, \"PerCentNetLastTrade\",, \"T\")/100,\"\")","v":-1.7821168448783511E-3},{"$f":"RTD(\"cqg.rtd\", ,\"ContractData\", C86, \"T_CVol\",, \"T\")","v":44461},86,{"$f":"IFERROR(RANK($J86,$J$1:J$98)+COUNTIF($J$1:J86,J86)-1,\"\")","v":55},"S.US.CBRE ","S.US.OKE "]
["S.US.IRM ",1,"S.US.IRM ",{"$f":"RTD(\"cqg.rtd\", ,\"ContractData\",C87, \"LongDescription\",, \"T\")","v":"Iron Mountain Inc"},null,null,null,{"$f":"RTD(\"cqg.rtd\", ,\"ContractData\",C87, \"LastTradeToday\",, \"T\")","v":97.84},{"$f":"RTD(\"cqg.rtd\", ,\"ContractData\",C87, \"NetLastTradeToday\",, \"T\")","v":0.70000000000000007},{"$f":"IFERROR(RTD(\"cqg.rtd\", ,\"ContractData\",C87, \"PerCentNetLastTrade\",, \"T\")/100,\"\")","v":7.2060942968910843E-3},{"$f":"RTD(\"cqg.rtd\", ,\"ContractData\", C87, \"T_CVol\",, \"T\")","v":60523},87,{"$f":"IFERROR(RANK($J87,$J$1:J$98)+COUNTIF($J$1:J87,J87)-1,\"\")","v":29},"S.US.IRM ","S.US.VST "]
["S.US.WELL ",1,"S.US.WELL ",{"$f":"RTD(\"cqg.rtd\", ,\"ContractData\",C88, \"LongDescription\",, \"T\")","v":"Welltower Inc."},null,null,null,{"$f":"RTD(\"cqg.rtd\", ,\"ContractData\",C88, \"LastTradeToday\",, \"T\")","v":145.27000000000001},{"$f":"RTD(\"cqg.rtd\", ,\"ContractData\",C88, \"NetLastTradeToday\",, \"T\")","v":1.87},{"$f":"IFERROR(RTD(\"cqg.rtd\", ,\"ContractData\",C88, \"PerCentNetLastTrade\",, \"T\")/100,\"\")","v":1.304044630404463E-2},{"$f":"RTD(\"cqg.rtd\", ,\"ContractData\", C88, \"T_CVol\",, \"T\")","v":105301},88,{"$f":"IFERROR(RANK($J88,$J$1:J$98)+COUNTIF($J$1:J88,J88)-1,\"\")","v":17},"S.US.WELL ","S.US.TRGP "]
["S.US.AEE ",1,"S.US.AEE ",{"$f":"RTD(\"cqg.rtd\", ,\"ContractData\",C89, \"LongDescription\",, \"T\")","v":"Ameren Corp"},null,null,null,{"$f":"RTD(\"cqg.rtd\", ,\"ContractData\",C89, \"LastTradeToday\",, \"T\")","v":96.320000000000007},{"$f":"RTD(\"cqg.rtd\", ,\"ContractData\",C89, \"NetLastTradeToday\",, \"T\")","v":1.31},{"$f":"IFERROR(RTD(\"cqg.rtd\", ,\"ContractData\",C89, \"PerCentNetLastTrade\",, \"T\")/100,\"\")","v":1.3788022313440691E-2},{"$f":"RTD(\"cqg.rtd\", ,\"ContractData\", C89, \"T_CVol\",, \"T\")","v":107835},89,{"$f":"IFERROR(RANK($J89,$J$1:J$98)+COUNTIF($J$1:J89,J89)-1,\"\")","v":15},"S.US.AEE ","S.US.UAL "]
["S.US.ATO ",1,"S.US.ATO ",{"$f":"RTD(\"cqg.rtd\", ,\"ContractData\",C90, \"LongDescription\",, \"T\")","v":"Atmos Energy Corp"},null,null,null,{"$f":"RTD(\"cqg.rtd\", ,\"ContractData\",C90, \"LastTradeToday\",, \"T\")","v":154.36000000000001},{"$f":"RTD(\"cqg.rtd\", ,\"ContractData\",C90, \"NetLastTradeToday\",, \"T\")","v":2.11},{"$f":"IFERROR(RTD(\"cqg.rtd\", ,\"ContractData\",C90, \"PerCentNetLastTrade\",, \"T\")/100,\"\")","v":1.3858784893267653E-2},{"$f":"RTD(\"cqg.rtd\", ,\"ContractData\", C90, \"T_CVol\",, \"T\")","v":45471},90,{"$f":"IFERROR(RANK($J90,$J$1:J$98)+COUNTIF($J$1:J90,J90)-1,\"\")","v":14},"S.US.ATO ","S.US.BKR "]
["S.US.CEG ",0,"S.US.CEG ",{"$f":"RTD(\"cqg.rtd\", ,\"ContractData\",C91, \"LongDescription\",, \"T\")","v":"Constellation Energy Corporation"},null,null,null,{"$f":"RTD(\"cqg.rtd\", ,\"ContractData\",C91, \"LastTradeToday\",, \"T\")","v":286.2},{"$f":"RTD(\"cqg.rtd\", ,\"ContractData\",C91, \"NetLastTradeToday\",, \"T\")","v":-1.95},{"$f":"IFERROR(RTD(\"cqg.rtd\", ,\"ContractData\",C91, \"PerCentNetLastTrade\",, \"T\")/100,\"\")","v":-6.7673086933888607E-3},{"$f":"RTD(\"cqg.rtd\", ,\"ContractData\", C91, \"T_CVol\",, \"T\")","v":139894},91,{"$f":"IFERROR(RANK($J91,$J$1:J$98)+COUNTIF($J$1:J91,J91)-1,\"\")","v":72},"S.US.CEG ","S.US.ISRG "]
["S.US.ETR ",1,"S.US.ETR ",{"$f":"RTD(\"cqg.rtd\", ,\"ContractData\",C92, \"LongDescription\",, \"T\")","v":"Entergy Corporation"},null,null,null,{"$f":"RTD(\"cqg.rtd\", ,\"ContractData\",C92, \"LastTradeToday\",, \"T\")","v":82.100000000000009},{"$f":"RTD(\"cqg.rtd\", ,\"ContractData\",C92, \"NetLastTradeToday\",, \"T\")","v":1.59},{"$f":"IFERROR(RTD(\"cqg.rtd\", ,\"ContractData\",C92, \"PerCentNetLastTrade\",, \"T\")/100,\"\")","v":1.9749099490746491E-2},{"$f":"RTD(\"cqg.rtd\", ,\"ContractData\", C92, \"T_CVol\",, \"T\")","v":188503},92,{"$f":"IFERROR(RANK($J92,$J$1:J$98)+COUNTIF($J$1:J92,J92)-1,\"\")","v":4},"S.US.ETR ","S.US.PLTR "]
["S.US.EVRG ",1,"S.US.EVRG ",{"$f":"RTD(\"cqg.rtd\", ,\"ContractData\",C93, \"LongDescription\",, \"T\")","v":"Evergy, Inc."},null,null,null,{"$f":"RTD(\"cqg.rtd\", ,\"ContractData\",C93, \"LastTradeToday\",, \"T\")","v":65.09},{"$f":"RTD(\"cqg.rtd\", ,\"ContractData\",C93, \"NetLastTradeToday\",, \"T\")","v":1.03},{"$f":"IFERROR(RTD(\"cqg.rtd\", ,\"ContractData\",C93, \"PerCentNetLastTrade\",, \"T\")/100,\"\")","v":1.6078676241024038E-2},{"$f":"RTD(\"cqg.rtd\", ,\"ContractData\", C93, \"T_CVol\",, \"T\")","v":94390},93,{"$f":"IFERROR(RANK($J93,$J$1:J$98)+COUNTIF($J$1:J93,J93)-1,\"\")","v":10},"S.US.EVRG ","S.US.AMZN "]
["S.US.NI ",1,"S.US.NI ",{"$f":"RTD(\"cqg.rtd\", ,\"ContractData\",C94, \"LongDescription\",, \"T\")","v":"NiSource Inc"},null,null,null,{"$f":"RTD(\"cqg.rtd\", ,\"ContractData\",C94, \"LastTradeToday\",, \"T\")","v":38.550000000000004},{"$f":"RTD(\"cqg.rtd\", ,\"ContractData\",C94, \"NetLastTradeToday\",, \"T\")","v":0.67},{"$f":"IFERROR(RTD(\"cqg.rtd\", ,\"ContractData\",C94, \"PerCentNetLastTrade\",, \"T\")/100,\"\")","v":1.7687434002111934E-2},{"$f":"RTD(\"cqg.rtd\", ,\"ContractData\", C94, \"T_CVol\",, \"T\")","v":134166},94,{"$f":"IFERROR(RANK($J94,$J$1:J$98)+COUNTIF($J$1:J94,J94)-1,\"\")","v":7},"S.US.NI ","S.US.KKR "]
["S.US.NRG ",1,"S.US.NRG ",{"$f":"RTD(\"cqg.rtd\", ,\"ContractData\",C95, \"LongDescription\",, \"T\")","v":"NRG Energy Inc"},null,null,null,{"$f":"RTD(\"cqg.rtd\", ,\"ContractData\",C95, \"LastTradeToday\",, \"T\")","v":155.55000000000001},{"$f":"RTD(\"cqg.rtd\", ,\"ContractData\",C95, \"NetLastTradeToday\",, \"T\")","v":1.74},{"$f":"IFERROR(RTD(\"cqg.rtd\", ,\"ContractData\",C95, \"PerCentNetLastTrade\",, \"T\")/100,\"\")","v":1.1312658474741564E-2},{"$f":"RTD(\"cqg.rtd\", ,\"ContractData\", C95, \"T_CVol\",, \"T\")","v":356424},95,{"$f":"IFERROR(RANK($J95,$J$1:J$98)+COUNTIF($J$1:J95,J95)-1,\"\")","v":20},"S.US.NRG ","S.US.ANET "]
["S.US.PEG ",1,"S.US.PEG ",{"$f":"RTD(\"cqg.rtd\", ,\"ContractData\",C96, \"LongDescription\",, \"T\")","v":"Pub Svc Entrpr Grp Inc"},null,null,null,{"$f":"RTD(\"cqg.rtd\", ,\"ContractData\",C96, \"LastTradeToday\",, \"T\")","v":78.44},{"$f":"RTD(\"cqg.rtd\", ,\"ContractData\",C96, \"NetLastTradeToday\",, \"T\")","v":1.1500000000000001},{"$f":"IFERROR(RTD(\"cqg.rtd\", ,\"ContractData\",C96, \"PerCentNetLastTrade\",, \"T\")/100,\"\")","v":1.4879027041014362E-2},{"$f":"RTD(\"cqg.rtd\", ,\"ContractData\", C96, \"T_CVol\",, \"T\")","v":98909},96,{"$f":"IFERROR(RANK($J96,$J$1:J$98)+COUNTIF($J$1:J96,J96)-1,\"\")","v":13},"S.US.PEG ","S.US.TSLA "]
["S.US.PPL ",1,"S.US.PPL ",{"$f":"RTD(\"cqg.rtd\", ,\"ContractData\",C97, \"LongDescription\",, \"T\")","v":"PPL Corp"},null,null,null,{"$f":"RTD(\"cqg.rtd\", ,\"ContractData\",C97, \"LastTradeToday\",, \"T\")","v":34.06},{"$f":"RTD(\"cqg.rtd\", ,\"ContractData\",C97, \"NetLastTradeToday\",, \"T\")","v":0.54},{"$f":"IFERROR(RTD(\"cqg.rtd\", ,\"ContractData\",C97, \"PerCentNetLastTrade\",, \"T\")/100,\"\")","v":1.6109785202863963E-2},{"$f":"RTD(\"cqg.rtd\", ,\"ContractData\", C97, \"T_CVol\",, \"T\")","v":389558},97,{"$f":"IFERROR(RANK($J97,$J$1:J$98)+COUNTIF($J$1:J97,J97)-1,\"\")","v":9},"S.US.PPL ","S.US.TPL "]
["S.US.VST ",0,"S.US.VST ",{"$f":"RTD(\"cqg.rtd\", ,\"ContractData\",C98, \"LongDescription\",, \"T\")","v":"Vistra Corp."},null,null,null,{"$f":"RTD(\"cqg.rtd\", ,\"ContractData\",C98, \"LastTradeToday\",, \"T\")","v":152.27000000000001},{"$f":"RTD(\"cqg.rtd\", ,\"ContractData\",C98, \"NetLastTradeToday\",, \"T\")","v":-2.4500000000000002},{"$f":"IFERROR(RTD(\"cqg.rtd\", ,\"ContractData\",C98, \"PerCentNetLastTrade\",, \"T\")/100,\"\")","v":-1.5835056876938987E-2},{"$f":"RTD(\"cqg.rtd\", ,\"ContractData\", C98, \"T_CVol\",, \"T\")","v":588284},98,{"$f":"IFERROR(RANK($J98,$J$1:J$98)+COUNTIF($J$1:J98,J98)-1,\"\")","v":87},"S.US.VST ","S.US.WMT "]
[null,{"$f":"SUM(B1:B98)/98","v":0.52040816326530615}]