{"text_format":"1","workbook":"xlsx","n_sheets":2,"sheets":["Display","Rank"],"not_rendered":{"charts":0,"images":0,"macros":1,"external_links":0,"defined_names":0,"comments":0,"pivot_tables":0},"unopened":[],"bounds":{"document_bytes":16777216,"sheet_cells":100000,"rows_first":2000,"rows_last":500,"rows_between":2000,"halvings":0,"cell_chars":16384,"cell_head_chars":4096},"cells_cut":0,"cells_raw":0,"read":"whole","date_system":"1900"}

{"sheet":"Display","index":0,"n_rows":13,"n_cols":17,"rows_kept":13,"cut":false,"hidden":false,"merged":[]}
[null,null,null,null,null,null,null,null,null,null,null,null,null,null,null,"Current","Updated"]
[null,null,null,null,null,null,null,null,null,null,null,null,null,null,null,"Time","Time"]
[null,"Symbol","Description","Last","NC","%NC","%NC","Bid Vol","Bid","Ask","Ask Vol","Ask Vol","High","Low","Volume",{"$f":"MOD(RTD(\"cqg.rtd\", ,\"SystemInfo\", \"Linetime\"),1)","v":"09:15:32"},"09:14:43"]
[null,{"$f":"Rank!F4","v":"S.TSLA"},{"$f":"IF(B4=\"\",\"\",RTD(\"cqg.rtd\", ,\"ContractData\",B4, \"LongDescription\",, \"T\"))","v":"Tesla Inc."},{"$f":"IF(B4=\"\",\"\",RTD(\"cqg.rtd\", ,\"ContractData\", B4, \"LastQuoteToday\",, \"T\"))","v":344.7},{"$f":"IF(B4=\"\",\"\",RTD(\"cqg.rtd\", ,\"ContractData\",B4, \"NetLastQuoteToday\",, \"T\"))","v":2.61},{"$f":"IFERROR(RTD(\"cqg.rtd\", ,\"ContractData\",B4, \"PerCentNetLastQuote\",, \"T\")/100,\"\")","v":7.629571165482768E-3},{"$f":"IFERROR(RTD(\"cqg.rtd\", ,\"ContractData\",B4, \"PerCentNetLastQuote\",, \"T\")/100,\"\")","v":7.629571165482768E-3},{"$f":"IF(B4=\"\",\"\",RTD(\"cqg.rtd\", ,\"ContractData\",B4, \"MT_LastBidVolume\",, \"T\"))","v":100},{"$f":"IF(B4=\"\",\"\",RTD(\"cqg.rtd\", ,\"ContractData\", B4, \"Bid\",, \"T\"))","v":344.53000000000003},{"$f":"IF(B4=\"\",\"\",RTD(\"cqg.rtd\", ,\"ContractData\", B4, \"Ask\",, \"T\"))","v":344.6},{"$f":"IF(B4=\"\",\"\",RTD(\"cqg.rtd\", ,\"ContractData\",B4, \"MT_LastAskVolume\",, \"T\"))","v":200},{"$f":"IF(B4=\"\",\"\",RTD(\"cqg.rtd\", ,\"ContractData\",B4, \"Open\",, \"T\"))","v":347.87},{"$f":"IF(B4=\"\",\"\",RTD(\"cqg.rtd\", ,\"ContractData\",B4, \"High\",, \"T\"))","v":354.57},{"$f":"IF(B4=\"\",\"\",RTD(\"cqg.rtd\", ,\"ContractData\",B4, \"Low\",, \"T\"))","v":342.86},{"$f":"IF(B4=\"\",\"\",RTD(\"cqg.rtd\", ,\"ContractData\",B4, \"T_CVol\",, \"T\"))","v":35122120},"News",{"$f":"IF(B4=\"\",\"\",\"https://finance.yahoo.com/quote/\"&RIGHT(B4,LEN(B4)-FIND(\".\",B4)))","v":"https://finance.yahoo.com/quote/TSLA"}]
[null,{"$f":"Rank!F5","v":"S.COST"},{"$f":"IF(B5=\"\",\"\",RTD(\"cqg.rtd\", ,\"ContractData\",B5, \"LongDescription\",, \"T\"))","v":"Costco Wholesale Corp"},{"$f":"IF(B5=\"\",\"\",RTD(\"cqg.rtd\", ,\"ContractData\", B5, \"LastQuoteToday\",, \"T\"))","v":1033.3900000000001},{"$f":"IF(B5=\"\",\"\",RTD(\"cqg.rtd\", ,\"ContractData\",B5, \"NetLastQuoteToday\",, \"T\"))","v":-0.95000000000000007},{"$f":"IFERROR(RTD(\"cqg.rtd\", ,\"ContractData\",B5, \"PerCentNetLastQuote\",, \"T\")/100,\"\")","v":-9.1846008082448703E-4},{"$f":"IFERROR(RTD(\"cqg.rtd\", ,\"ContractData\",B5, \"PerCentNetLastQuote\",, \"T\")/100,\"\")","v":-9.1846008082448703E-4},{"$f":"IF(B5=\"\",\"\",RTD(\"cqg.rtd\", ,\"ContractData\",B5, \"MT_LastBidVolume\",, \"T\"))","v":300},{"$f":"IF(B5=\"\",\"\",RTD(\"cqg.rtd\", ,\"ContractData\", B5, \"Bid\",, \"T\"))","v":1032.8900000000001},{"$f":"IF(B5=\"\",\"\",RTD(\"cqg.rtd\", ,\"ContractData\", B5, \"Ask\",, \"T\"))","v":1033.3900000000001},{"$f":"IF(B5=\"\",\"\",RTD(\"cqg.rtd\", ,\"ContractData\",B5, \"MT_LastAskVolume\",, \"T\"))","v":400},{"$f":"IF(B5=\"\",\"\",RTD(\"cqg.rtd\", ,\"ContractData\",B5, \"Open\",, \"T\"))","v":1030.01},{"$f":"IF(B5=\"\",\"\",RTD(\"cqg.rtd\", ,\"ContractData\",B5, \"High\",, \"T\"))","v":1036.8399999999999},{"$f":"IF(B5=\"\",\"\",RTD(\"cqg.rtd\", ,\"ContractData\",B5, \"Low\",, \"T\"))","v":1030.01},{"$f":"IF(B5=\"\",\"\",RTD(\"cqg.rtd\", ,\"ContractData\",B5, \"T_CVol\",, \"T\"))","v":208024},"News",{"$f":"IF(B5=\"\",\"\",\"https://finance.yahoo.com/quote/\"&RIGHT(B5,LEN(B5)-FIND(\".\",B5)))","v":"https://finance.yahoo.com/quote/COST"}]
[null,{"$f":"Rank!F6","v":"S.GOOGL"},{"$f":"IF(B6=\"\",\"\",RTD(\"cqg.rtd\", ,\"ContractData\",B6, \"LongDescription\",, \"T\"))","v":"Alphabet, Inc. Class A"},{"$f":"IF(B6=\"\",\"\",RTD(\"cqg.rtd\", ,\"ContractData\", B6, \"LastQuoteToday\",, \"T\"))","v":166.02},{"$f":"IF(B6=\"\",\"\",RTD(\"cqg.rtd\", ,\"ContractData\",B6, \"NetLastQuoteToday\",, \"T\"))","v":-0.52},{"$f":"IFERROR(RTD(\"cqg.rtd\", ,\"ContractData\",B6, \"PerCentNetLastQuote\",, \"T\")/100,\"\")","v":-3.1223730034826468E-3},{"$f":"IFERROR(RTD(\"cqg.rtd\", ,\"ContractData\",B6, \"PerCentNetLastQuote\",, \"T\")/100,\"\")","v":-3.1223730034826468E-3},{"$f":"IF(B6=\"\",\"\",RTD(\"cqg.rtd\", ,\"ContractData\",B6, \"MT_LastBidVolume\",, \"T\"))","v":200},{"$f":"IF(B6=\"\",\"\",RTD(\"cqg.rtd\", ,\"ContractData\", B6, \"Bid\",, \"T\"))","v":166.01},{"$f":"IF(B6=\"\",\"\",RTD(\"cqg.rtd\", ,\"ContractData\", B6, \"Ask\",, \"T\"))","v":166.02},{"$f":"IF(B6=\"\",\"\",RTD(\"cqg.rtd\", ,\"ContractData\",B6, \"MT_LastAskVolume\",, \"T\"))","v":100},{"$f":"IF(B6=\"\",\"\",RTD(\"cqg.rtd\", ,\"ContractData\",B6, \"Open\",, \"T\"))","v":166.43},{"$f":"IF(B6=\"\",\"\",RTD(\"cqg.rtd\", ,\"ContractData\",B6, \"High\",, \"T\"))","v":167.54},{"$f":"IF(B6=\"\",\"\",RTD(\"cqg.rtd\", ,\"ContractData\",B6, \"Low\",, \"T\"))","v":165.44},{"$f":"IF(B6=\"\",\"\",RTD(\"cqg.rtd\", ,\"ContractData\",B6, \"T_CVol\",, \"T\"))","v":7439941},"News","https://finance.yahoo.com/quote/GOOGL"]
[null,{"$f":"Rank!F7","v":"S.AAPL"},{"$f":"IF(B7=\"\",\"\",RTD(\"cqg.rtd\", ,\"ContractData\",B7, \"LongDescription\",, \"T\"))","v":"Apple Inc"},{"$f":"IF(B7=\"\",\"\",RTD(\"cqg.rtd\", ,\"ContractData\", B7, \"LastQuoteToday\",, \"T\"))","v":208.06},{"$f":"IF(B7=\"\",\"\",RTD(\"cqg.rtd\", ,\"ContractData\",B7, \"NetLastQuoteToday\",, \"T\"))","v":-0.72},{"$f":"IFERROR(RTD(\"cqg.rtd\", ,\"ContractData\",B7, \"PerCentNetLastQuote\",, \"T\")/100,\"\")","v":-3.4486061883322156E-3},{"$f":"IFERROR(RTD(\"cqg.rtd\", ,\"ContractData\",B7, \"PerCentNetLastQuote\",, \"T\")/100,\"\")","v":-3.4486061883322156E-3},{"$f":"IF(B7=\"\",\"\",RTD(\"cqg.rtd\", ,\"ContractData\",B7, \"MT_LastBidVolume\",, \"T\"))","v":200},{"$f":"IF(B7=\"\",\"\",RTD(\"cqg.rtd\", ,\"ContractData\", B7, \"Bid\",, \"T\"))","v":208.04},{"$f":"IF(B7=\"\",\"\",RTD(\"cqg.rtd\", ,\"ContractData\", B7, \"Ask\",, \"T\"))","v":208.06},{"$f":"IF(B7=\"\",\"\",RTD(\"cqg.rtd\", ,\"ContractData\",B7, \"MT_LastAskVolume\",, \"T\"))","v":100},{"$f":"IF(B7=\"\",\"\",RTD(\"cqg.rtd\", ,\"ContractData\",B7, \"Open\",, \"T\"))","v":207.67000000000002},{"$f":"IF(B7=\"\",\"\",RTD(\"cqg.rtd\", ,\"ContractData\",B7, \"High\",, \"T\"))","v":208.3},{"$f":"IF(B7=\"\",\"\",RTD(\"cqg.rtd\", ,\"ContractData\",B7, \"Low\",, \"T\"))","v":206.47},{"$f":"IF(B7=\"\",\"\",RTD(\"cqg.rtd\", ,\"ContractData\",B7, \"T_CVol\",, \"T\"))","v":8716067},"News","https://finance.yahoo.com/quote/AAPL"]
[null,{"$f":"Rank!F8","v":"S.META"},{"$f":"IF(B8=\"\",\"\",RTD(\"cqg.rtd\", ,\"ContractData\",B8, \"LongDescription\",, \"T\"))","v":"Meta Platforms, Inc."},{"$f":"IF(B8=\"\",\"\",RTD(\"cqg.rtd\", ,\"ContractData\", B8, \"LastQuoteToday\",, \"T\"))","v":636.96},{"$f":"IF(B8=\"\",\"\",RTD(\"cqg.rtd\", ,\"ContractData\",B8, \"NetLastQuoteToday\",, \"T\"))","v":-3.47},{"$f":"IFERROR(RTD(\"cqg.rtd\", ,\"ContractData\",B8, \"PerCentNetLastQuote\",, \"T\")/100,\"\")","v":-5.41823462361226E-3},{"$f":"IFERROR(RTD(\"cqg.rtd\", ,\"ContractData\",B8, \"PerCentNetLastQuote\",, \"T\")/100,\"\")","v":-5.41823462361226E-3},{"$f":"IF(B8=\"\",\"\",RTD(\"cqg.rtd\", ,\"ContractData\",B8, \"MT_LastBidVolume\",, \"T\"))","v":100},{"$f":"IF(B8=\"\",\"\",RTD(\"cqg.rtd\", ,\"ContractData\", B8, \"Bid\",, \"T\"))","v":636.79},{"$f":"IF(B8=\"\",\"\",RTD(\"cqg.rtd\", ,\"ContractData\", B8, \"Ask\",, \"T\"))","v":637.13},{"$f":"IF(B8=\"\",\"\",RTD(\"cqg.rtd\", ,\"ContractData\",B8, \"MT_LastAskVolume\",, \"T\"))","v":100},{"$f":"IF(B8=\"\",\"\",RTD(\"cqg.rtd\", ,\"ContractData\",B8, \"Open\",, \"T\"))","v":636.01},{"$f":"IF(B8=\"\",\"\",RTD(\"cqg.rtd\", ,\"ContractData\",B8, \"High\",, \"T\"))","v":639.25},{"$f":"IF(B8=\"\",\"\",RTD(\"cqg.rtd\", ,\"ContractData\",B8, \"Low\",, \"T\"))","v":635.1},{"$f":"IF(B8=\"\",\"\",RTD(\"cqg.rtd\", ,\"ContractData\",B8, \"T_CVol\",, \"T\"))","v":1342008},"News","https://finance.yahoo.com/quote/META"]
[null,{"$f":"Rank!F9","v":"S.AVGO"},{"$f":"IF(B9=\"\",\"\",RTD(\"cqg.rtd\", ,\"ContractData\",B9, \"LongDescription\",, \"T\"))","v":"Broadcom Inc."},{"$f":"IF(B9=\"\",\"\",RTD(\"cqg.rtd\", ,\"ContractData\", B9, \"LastQuoteToday\",, \"T\"))","v":229},{"$f":"IF(B9=\"\",\"\",RTD(\"cqg.rtd\", ,\"ContractData\",B9, \"NetLastQuoteToday\",, \"T\"))","v":-1.6300000000000001},{"$f":"IFERROR(RTD(\"cqg.rtd\", ,\"ContractData\",B9, \"PerCentNetLastQuote\",, \"T\")/100,\"\")","v":-7.0675974504617791E-3},{"$f":"IFERROR(RTD(\"cqg.rtd\", ,\"ContractData\",B9, \"PerCentNetLastQuote\",, \"T\")/100,\"\")","v":-7.0675974504617791E-3},{"$f":"IF(B9=\"\",\"\",RTD(\"cqg.rtd\", ,\"ContractData\",B9, \"MT_LastBidVolume\",, \"T\"))","v":300},{"$f":"IF(B9=\"\",\"\",RTD(\"cqg.rtd\", ,\"ContractData\", B9, \"Bid\",, \"T\"))","v":228.94},{"$f":"IF(B9=\"\",\"\",RTD(\"cqg.rtd\", ,\"ContractData\", B9, \"Ask\",, \"T\"))","v":229.07},{"$f":"IF(B9=\"\",\"\",RTD(\"cqg.rtd\", ,\"ContractData\",B9, \"MT_LastAskVolume\",, \"T\"))","v":300},{"$f":"IF(B9=\"\",\"\",RTD(\"cqg.rtd\", ,\"ContractData\",B9, \"Open\",, \"T\"))","v":226.49},{"$f":"IF(B9=\"\",\"\",RTD(\"cqg.rtd\", ,\"ContractData\",B9, \"High\",, \"T\"))","v":230.07},{"$f":"IF(B9=\"\",\"\",RTD(\"cqg.rtd\", ,\"ContractData\",B9, \"Low\",, \"T\"))","v":226.34},{"$f":"IF(B9=\"\",\"\",RTD(\"cqg.rtd\", ,\"ContractData\",B9, \"T_CVol\",, \"T\"))","v":2251305},"News","https://finance.yahoo.com/quote/AVGO"]
[null,{"$f":"Rank!F10","v":"S.NFLX"},{"$f":"IF(B10=\"\",\"\",RTD(\"cqg.rtd\", ,\"ContractData\",B10, \"LongDescription\",, \"T\"))","v":"Netflix Inc"},{"$f":"IF(B10=\"\",\"\",RTD(\"cqg.rtd\", ,\"ContractData\", B10, \"LastQuoteToday\",, \"T\"))","v":1181.54},{"$f":"IF(B10=\"\",\"\",RTD(\"cqg.rtd\", ,\"ContractData\",B10, \"NetLastQuoteToday\",, \"T\"))","v":-10.1},{"$f":"IFERROR(RTD(\"cqg.rtd\", ,\"ContractData\",B10, \"PerCentNetLastQuote\",, \"T\")/100,\"\")","v":-8.4757141418549224E-3},{"$f":"IFERROR(RTD(\"cqg.rtd\", ,\"ContractData\",B10, \"PerCentNetLastQuote\",, \"T\")/100,\"\")","v":-8.4757141418549224E-3},{"$f":"IF(B10=\"\",\"\",RTD(\"cqg.rtd\", ,\"ContractData\",B10, \"MT_LastBidVolume\",, \"T\"))","v":100},{"$f":"IF(B10=\"\",\"\",RTD(\"cqg.rtd\", ,\"ContractData\", B10, \"Bid\",, \"T\"))","v":1180.6400000000001},{"$f":"IF(B10=\"\",\"\",RTD(\"cqg.rtd\", ,\"ContractData\", B10, \"Ask\",, \"T\"))","v":1181.8600000000001},{"$f":"IF(B10=\"\",\"\",RTD(\"cqg.rtd\", ,\"ContractData\",B10, \"MT_LastAskVolume\",, \"T\"))","v":100},{"$f":"IF(B10=\"\",\"\",RTD(\"cqg.rtd\", ,\"ContractData\",B10, \"Open\",, \"T\"))","v":1186.79},{"$f":"IF(B10=\"\",\"\",RTD(\"cqg.rtd\", ,\"ContractData\",B10, \"High\",, \"T\"))","v":1191},{"$f":"IF(B10=\"\",\"\",RTD(\"cqg.rtd\", ,\"ContractData\",B10, \"Low\",, \"T\"))","v":1179.02},{"$f":"IF(B10=\"\",\"\",RTD(\"cqg.rtd\", ,\"ContractData\",B10, \"T_CVol\",, \"T\"))","v":453308},"News","https://finance.yahoo.com/quote/NFLX"]
[null,{"$f":"Rank!F11","v":"S.MSFT"},{"$f":"IF(B11=\"\",\"\",RTD(\"cqg.rtd\", ,\"ContractData\",B11, \"LongDescription\",, \"T\"))","v":"Microsoft Corporation"},{"$f":"IF(B11=\"\",\"\",RTD(\"cqg.rtd\", ,\"ContractData\", B11, \"LastQuoteToday\",, \"T\"))","v":454.98},{"$f":"IF(B11=\"\",\"\",RTD(\"cqg.rtd\", ,\"ContractData\",B11, \"NetLastQuoteToday\",, \"T\"))","v":-3.89},{"$f":"IFERROR(RTD(\"cqg.rtd\", ,\"ContractData\",B11, \"PerCentNetLastQuote\",, \"T\")/100,\"\")","v":-8.4773465251596312E-3},{"$f":"IFERROR(RTD(\"cqg.rtd\", ,\"ContractData\",B11, \"PerCentNetLastQuote\",, \"T\")/100,\"\")","v":-8.4773465251596312E-3},{"$f":"IF(B11=\"\",\"\",RTD(\"cqg.rtd\", ,\"ContractData\",B11, \"MT_LastBidVolume\",, \"T\"))","v":100},{"$f":"IF(B11=\"\",\"\",RTD(\"cqg.rtd\", ,\"ContractData\", B11, \"Bid\",, \"T\"))","v":454.84000000000003},{"$f":"IF(B11=\"\",\"\",RTD(\"cqg.rtd\", ,\"ContractData\", B11, \"Ask\",, \"T\"))","v":454.98},{"$f":"IF(B11=\"\",\"\",RTD(\"cqg.rtd\", ,\"ContractData\",B11, \"MT_LastAskVolume\",, \"T\"))","v":200},{"$f":"IF(B11=\"\",\"\",RTD(\"cqg.rtd\", ,\"ContractData\",B11, \"Open\",, \"T\"))","v":455.59000000000003},{"$f":"IF(B11=\"\",\"\",RTD(\"cqg.rtd\", ,\"ContractData\",B11, \"High\",, \"T\"))","v":457.06},{"$f":"IF(B11=\"\",\"\",RTD(\"cqg.rtd\", ,\"ContractData\",B11, \"Low\",, \"T\"))","v":454.32},{"$f":"IF(B11=\"\",\"\",RTD(\"cqg.rtd\", ,\"ContractData\",B11, \"T_CVol\",, \"T\"))","v":3066430},"News","https://finance.yahoo.com/quote/MSFT"]
[null,{"$f":"Rank!F12","v":"S.AMZN"},{"$f":"IF(B12=\"\",\"\",RTD(\"cqg.rtd\", ,\"ContractData\",B12, \"LongDescription\",, \"T\"))","v":"Amazon.com Inc"},{"$f":"IF(B12=\"\",\"\",RTD(\"cqg.rtd\", ,\"ContractData\", B12, \"LastQuoteToday\",, \"T\"))","v":204.03},{"$f":"IF(B12=\"\",\"\",RTD(\"cqg.rtd\", ,\"ContractData\",B12, \"NetLastQuoteToday\",, \"T\"))","v":-2.13},{"$f":"IFERROR(RTD(\"cqg.rtd\", ,\"ContractData\",B12, \"PerCentNetLastQuote\",, \"T\")/100,\"\")","v":-1.0331781140861467E-2},{"$f":"IFERROR(RTD(\"cqg.rtd\", ,\"ContractData\",B12, \"PerCentNetLastQuote\",, \"T\")/100,\"\")","v":-1.0331781140861467E-2},{"$f":"IF(B12=\"\",\"\",RTD(\"cqg.rtd\", ,\"ContractData\",B12, \"MT_LastBidVolume\",, \"T\"))","v":100},{"$f":"IF(B12=\"\",\"\",RTD(\"cqg.rtd\", ,\"ContractData\", B12, \"Bid\",, \"T\"))","v":204},{"$f":"IF(B12=\"\",\"\",RTD(\"cqg.rtd\", ,\"ContractData\", B12, \"Ask\",, \"T\"))","v":204.03},{"$f":"IF(B12=\"\",\"\",RTD(\"cqg.rtd\", ,\"ContractData\",B12, \"MT_LastAskVolume\",, \"T\"))","v":200},{"$f":"IF(B12=\"\",\"\",RTD(\"cqg.rtd\", ,\"ContractData\",B12, \"Open\",, \"T\"))","v":204.62},{"$f":"IF(B12=\"\",\"\",RTD(\"cqg.rtd\", ,\"ContractData\",B12, \"High\",, \"T\"))","v":205.58},{"$f":"IF(B12=\"\",\"\",RTD(\"cqg.rtd\", ,\"ContractData\",B12, \"Low\",, \"T\"))","v":203.88},{"$f":"IF(B12=\"\",\"\",RTD(\"cqg.rtd\", ,\"ContractData\",B12, \"T_CVol\",, \"T\"))","v":5070601},"News","https://finance.yahoo.com/quote/AMZN"]
[null,{"$f":"Rank!F13","v":"S.NVDA"},{"$f":"IF(B13=\"\",\"\",RTD(\"cqg.rtd\", ,\"ContractData\",B13, \"LongDescription\",, \"T\"))","v":"NVIDIA Corp"},{"$f":"IF(B13=\"\",\"\",RTD(\"cqg.rtd\", ,\"ContractData\", B13, \"LastQuoteToday\",, \"T\"))","v":133.11000000000001},{"$f":"IF(B13=\"\",\"\",RTD(\"cqg.rtd\", ,\"ContractData\",B13, \"NetLastQuoteToday\",, \"T\"))","v":-2.46},{"$f":"IFERROR(RTD(\"cqg.rtd\", ,\"ContractData\",B13, \"PerCentNetLastQuote\",, \"T\")/100,\"\")","v":-1.8145607435273291E-2},{"$f":"IFERROR(RTD(\"cqg.rtd\", ,\"ContractData\",B13, \"PerCentNetLastQuote\",, \"T\")/100,\"\")","v":-1.8145607435273291E-2},{"$f":"IF(B13=\"\",\"\",RTD(\"cqg.rtd\", ,\"ContractData\",B13, \"MT_LastBidVolume\",, \"T\"))","v":700},{"$f":"IF(B13=\"\",\"\",RTD(\"cqg.rtd\", ,\"ContractData\", B13, \"Bid\",, \"T\"))","v":133.11000000000001},{"$f":"IF(B13=\"\",\"\",RTD(\"cqg.rtd\", ,\"ContractData\", B13, \"Ask\",, \"T\"))","v":133.12},{"$f":"IF(B13=\"\",\"\",RTD(\"cqg.rtd\", ,\"ContractData\",B13, \"MT_LastAskVolume\",, \"T\"))","v":400},{"$f":"IF(B13=\"\",\"\",RTD(\"cqg.rtd\", ,\"ContractData\",B13, \"Open\",, \"T\"))","v":134.29},{"$f":"IF(B13=\"\",\"\",RTD(\"cqg.rtd\", ,\"ContractData\",B13, \"High\",, \"T\"))","v":134.58000000000001},{"$f":"IF(B13=\"\",\"\",RTD(\"cqg.rtd\", ,\"ContractData\",B13, \"Low\",, \"T\"))","v":132.62},{"$f":"IF(B13=\"\",\"\",RTD(\"cqg.rtd\", ,\"ContractData\",B13, \"T_CVol\",, \"T\"))","v":40996993},"News","https://finance.yahoo.com/quote/NVDA"]

{"sheet":"Rank","index":1,"n_rows":13,"n_cols":6,"rows_kept":13,"cut":false,"hidden":false,"merged":[]}
[]
[]
[]
["S.AAPL",{"$f":"IFERROR(RTD(\"cqg.rtd\", ,\"ContractData\",A4, \"PerCentNetLastTrade\",, \"T\")/100,\"\")","v":-3.4965034965034965E-3},{"$f":"IFERROR(RANK(B4,$B$4:$B$13,0)+COUNTIF($B$4:B4,B4)-1,\"\")","v":4},{"$f":"A4","v":"S.AAPL"},1,{"$f":"IFERROR(VLOOKUP(E4,$C$4:$D$13,2,FALSE),\"\")","v":"S.TSLA"}]
["S.AMZN",{"$f":"IFERROR(RTD(\"cqg.rtd\", ,\"ContractData\",A5, \"PerCentNetLastTrade\",, \"T\")/100,\"\")","v":-1.0428793170353123E-2},{"$f":"IFERROR(RANK(B5,$B$4:$B$13,0)+COUNTIF($B$4:B5,B5)-1,\"\")","v":9},{"$f":"A5","v":"S.AMZN"},2,{"$f":"IFERROR(VLOOKUP(E5,$C$4:$D$13,2,FALSE),\"\")","v":"S.COST"}]
["S.AVGO",{"$f":"IFERROR(RTD(\"cqg.rtd\", ,\"ContractData\",A6, \"PerCentNetLastTrade\",, \"T\")/100,\"\")","v":-7.0675974504617791E-3},{"$f":"IFERROR(RANK(B6,$B$4:$B$13,0)+COUNTIF($B$4:B6,B6)-1,\"\")","v":6},"S.AVGO",3,"S.GOOGL"]
["S.COST",{"$f":"IFERROR(RTD(\"cqg.rtd\", ,\"ContractData\",A7, \"PerCentNetLastTrade\",, \"T\")/100,\"\")","v":-1.295512114005066E-3},{"$f":"IFERROR(RANK(B7,$B$4:$B$13,0)+COUNTIF($B$4:B7,B7)-1,\"\")","v":2},"S.COST",4,"S.AAPL"]
["S.GOOGL",{"$f":"IFERROR(RTD(\"cqg.rtd\", ,\"ContractData\",A8, \"PerCentNetLastTrade\",, \"T\")/100,\"\")","v":-3.2424642728473641E-3},{"$f":"IFERROR(RANK(B8,$B$4:$B$13,0)+COUNTIF($B$4:B8,B8)-1,\"\")","v":3},"S.GOOGL",5,"S.META"]
["S.META",{"$f":"IFERROR(RTD(\"cqg.rtd\", ,\"ContractData\",A9, \"PerCentNetLastTrade\",, \"T\")/100,\"\")","v":-5.41823462361226E-3},{"$f":"IFERROR(RANK(B9,$B$4:$B$13,0)+COUNTIF($B$4:B9,B9)-1,\"\")","v":5},"S.META",6,"S.AVGO"]
["S.MSFT",{"$f":"IFERROR(RTD(\"cqg.rtd\", ,\"ContractData\",A10, \"PerCentNetLastTrade\",, \"T\")/100,\"\")","v":-8.6516878418724259E-3},{"$f":"IFERROR(RANK(B10,$B$4:$B$13,0)+COUNTIF($B$4:B10,B10)-1,\"\")","v":8},"S.MSFT",7,"S.NFLX"]
["S.NFLX",{"$f":"IFERROR(RTD(\"cqg.rtd\", ,\"ContractData\",A11, \"PerCentNetLastTrade\",, \"T\")/100,\"\")","v":-8.4757141418549224E-3},{"$f":"IFERROR(RANK(B11,$B$4:$B$13,0)+COUNTIF($B$4:B11,B11)-1,\"\")","v":7},"S.NFLX",8,"S.MSFT"]
["S.NVDA",{"$f":"IFERROR(RTD(\"cqg.rtd\", ,\"ContractData\",A12, \"PerCentNetLastTrade\",, \"T\")/100,\"\")","v":-1.8145607435273291E-2},{"$f":"IFERROR(RANK(B12,$B$4:$B$13,0)+COUNTIF($B$4:B12,B12)-1,\"\")","v":10},"S.NVDA",9,"S.AMZN"]
["S.TSLA",{"$f":"IFERROR(RTD(\"cqg.rtd\", ,\"ContractData\",A13, \"PerCentNetLastTrade\",, \"T\")/100,\"\")","v":7.629571165482768E-3},{"$f":"IFERROR(RANK(B13,$B$4:$B$13,0)+COUNTIF($B$4:B13,B13)-1,\"\")","v":1},"S.TSLA",10,"S.NVDA"]