{"text_format":"1","workbook":"xlsx","n_sheets":2,"sheets":["Display","SPY"],"not_rendered":{"charts":3,"images":3,"macros":1,"external_links":0,"defined_names":0,"comments":0,"pivot_tables":0},"unopened":[],"bounds":{"document_bytes":16777216,"sheet_cells":100000,"rows_first":2000,"rows_last":500,"rows_between":2000,"halvings":0,"cell_chars":16384,"cell_head_chars":4096},"cells_cut":0,"cells_raw":0,"read":"whole","date_system":"1900"}

{"sheet":"Display","index":0,"n_rows":52,"n_cols":28,"rows_kept":52,"cut":false,"hidden":false,"merged":[[3,2,3,6],[3,14,3,15],[4,2,4,6],[4,14,4,15],[6,12,6,15],[5,14,5,15],[48,25,48,30],[35,2,35,6],[35,14,35,15],[36,2,36,6],[36,14,36,15],[48,9,48,24],[46,2,46,6],[46,14,46,15],[47,2,47,6],[47,14,47,15],[37,2,37,6],[37,14,37,15],[38,2,38,6],[38,14,38,15],[39,2,39,6],[39,14,39,15],[44,2,44,6],[44,14,44,15],[45,2,45,6],[45,14,45,15],[40,2,40,6],[40,14,40,15],[42,2,42,6],[42,14,42,15],[41,2,41,6],[41,14,41,15],[43,2,43,6],[43,14,43,15],[31,2,31,6],[31,14,31,15],[33,2,33,6],[33,14,33,15],[34,2,34,6],[34,14,34,15],[32,2,32,6],[32,14,32,15],[28,2,28,6],[28,14,28,15],[29,2,29,6],[29,14,29,15],[30,2,30,6],[30,14,30,15],[25,2,25,6],[25,14,25,15],[26,2,26,6],[26,14,26,15],[27,2,27,6],[27,14,27,15],[22,2,22,6],[22,14,22,15],[23,2,23,6],[23,14,23,15],[24,2,24,6],[24,14,24,15],[18,14,18,15],[19,2,19,6],[19,14,19,15],[16,2,16,6],[16,14,16,15],[1,1,2,4],[1,27,2,30],[1,5,2,26],[4,18,4,30],[17,2,17,6],[17,14,17,15],[15,2,15,6],[5,2,5,6],[15,14,15,15],[14,14,14,15],[13,14,13,15],[12,14,12,15],[11,14,11,15],[10,14,10,15],[9,14,9,15],[9,2,9,6],[26,18,26,30],[6,2,6,6],[7,2,7,6],[8,2,8,6],[14,2,14,6],[10,2,10,6],[11,2,11,6],[12,2,12,6],[13,2,13,6],[8,14,8,15],[7,14,7,15],[20,2,20,6],[20,14,20,15],[21,2,21,6],[21,14,21,15],[18,2,18,6]]}
[]
[null,null,null,null,null,"CQG S&P 500 SPDR® ETF",null,null,null,null,null,null,null,null,null,null,null,null,null,null,null,null,null,null,null,null,null,{"$f":"RTD(\"cqg.rtd\", ,\"SystemInfo\", \"Linetime\")","v":45873.297824074078}]
[]
[null,"Symbol","Sectors",null,null,null,null,"Last","NC"]
[null,"S.XLC",{"$f":"LEFT(RTD(\"cqg.rtd\",,\"ContractData\",B5,\"LongDescription\",,\"T\"),FIND(\"Sel\",RTD(\"cqg.rtd\",,\"ContractData\",B5,\"LongDescription\",,\"T\"))-2)&\" SPDR\"&\", \"&TEXT(J5,\"0.00%\")","v":"Communication Services SPDR, "},null,null,null,null,{"$f":"RTD(\"cqg.rtd\", ,\"ContractData\",B5, \"LastTradeToday\",, \"T\")","v":""},{"$f":"RTD(\"cqg.rtd\", ,\"ContractData\",B5, \"NetLastTradeToday\",, \"T\")","v":""},{"$f":"IFERROR(RTD(\"cqg.rtd\", ,\"ContractData\",B5, \"PerCentNetLastTrade\",, \"T\")/100,\"\")","v":""},{"$f":"LEFT(C5,LEN(C5)-13)&\", \"&TEXT(J5,\"0.00%\")","v":"Communication Se, "},null,null,null,null,null,null,null,"Top 15 Performing Companies "]
[null,"S.XLY",{"$f":"LEFT(RTD(\"cqg.rtd\",,\"ContractData\",B6,\"LongDescription\",,\"T\"),FIND(\"Sel\",RTD(\"cqg.rtd\",,\"ContractData\",B6,\"LongDescription\",,\"T\"))-2)&\" SPDR\"&\", \"&TEXT(J6,\"0.00%\")","v":"Consumer Discretionary SPDR, "},null,null,null,null,{"$f":"RTD(\"cqg.rtd\", ,\"ContractData\",B6, \"LastTradeToday\",, \"T\")","v":""},{"$f":"RTD(\"cqg.rtd\", ,\"ContractData\",B6, \"NetLastTradeToday\",, \"T\")","v":""},{"$f":"IFERROR(RTD(\"cqg.rtd\", ,\"ContractData\",B6, \"PerCentNetLastTrade\",, \"T\")/100,\"\")","v":""},{"$f":"LEFT(C6,LEN(C6)-13)&\", \"&TEXT(J6,\"0.00%\")","v":"Consumer Discret, "}]
[null,"S.XLP",{"$f":"LEFT(RTD(\"cqg.rtd\",,\"ContractData\",B7,\"LongDescription\",,\"T\"),FIND(\"Sel\",RTD(\"cqg.rtd\",,\"ContractData\",B7,\"LongDescription\",,\"T\"))-2)&\" SPDR\"&\", \"&TEXT(J7,\"0.00%\")","v":"Consumer Staples SPDR, "},null,null,null,null,{"$f":"RTD(\"cqg.rtd\", ,\"ContractData\",B7, \"LastTradeToday\",, \"T\")","v":""},{"$f":"RTD(\"cqg.rtd\", ,\"ContractData\",B7, \"NetLastTradeToday\",, \"T\")","v":""},{"$f":"IFERROR(RTD(\"cqg.rtd\", ,\"ContractData\",B7, \"PerCentNetLastTrade\",, \"T\")/100,\"\")","v":""},{"$f":"LEFT(C7,LEN(C7)-12)&\", \"&TEXT(J7,\"0.00%\")","v":"Consumer St, "}]
[null,"S.XLE",{"$f":"LEFT(RTD(\"cqg.rtd\",,\"ContractData\",B8,\"LongDescription\",,\"T\"),FIND(\"Sel\",RTD(\"cqg.rtd\",,\"ContractData\",B8,\"LongDescription\",,\"T\"))-2)&\" SPDR\"&\", \"&TEXT(J8,\"0.00%\")","v":"Energy SPDR, "},null,null,null,null,{"$f":"RTD(\"cqg.rtd\", ,\"ContractData\",B8, \"LastTradeToday\",, \"T\")","v":""},{"$f":"RTD(\"cqg.rtd\", ,\"ContractData\",B8, \"NetLastTradeToday\",, \"T\")","v":""},{"$f":"IFERROR(RTD(\"cqg.rtd\", ,\"ContractData\",B8, \"PerCentNetLastTrade\",, \"T\")/100,\"\")","v":""},", "]
[null,"S.XLF",{"$f":"LEFT(RTD(\"cqg.rtd\",,\"ContractData\",B9,\"LongDescription\",,\"T\"),FIND(\"Sel\",RTD(\"cqg.rtd\",,\"ContractData\",B9,\"LongDescription\",,\"T\"))-2)&\" SPDR\"&\", \"&TEXT(J9,\"0.00%\")","v":"Financial SPDR, "},null,null,null,null,{"$f":"RTD(\"cqg.rtd\", ,\"ContractData\",B9, \"LastTradeToday\",, \"T\")","v":""},{"$f":"RTD(\"cqg.rtd\", ,\"ContractData\",B9, \"NetLastTradeToday\",, \"T\")","v":""},{"$f":"IFERROR(RTD(\"cqg.rtd\", ,\"ContractData\",B9, \"PerCentNetLastTrade\",, \"T\")/100,\"\")","v":""},"Fin, "]
[null,"S.XLV",{"$f":"LEFT(RTD(\"cqg.rtd\",,\"ContractData\",B10,\"LongDescription\",,\"T\"),FIND(\"Sel\",RTD(\"cqg.rtd\",,\"ContractData\",B10,\"LongDescription\",,\"T\"))-2)&\" SPDR\"&\", \"&TEXT(J10,\"0.00%\")","v":"Health Care SPDR, "},null,null,null,null,{"$f":"RTD(\"cqg.rtd\", ,\"ContractData\",B10, \"LastTradeToday\",, \"T\")","v":""},{"$f":"RTD(\"cqg.rtd\", ,\"ContractData\",B10, \"NetLastTradeToday\",, \"T\")","v":""},{"$f":"IFERROR(RTD(\"cqg.rtd\", ,\"ContractData\",B10, \"PerCentNetLastTrade\",, \"T\")/100,\"\")","v":""},{"$f":"LEFT(C10,LEN(C10)-12)&\", \"&TEXT(J10,\"0.00%\")","v":"Health, "}]
[null,"S.XLI",{"$f":"LEFT(RTD(\"cqg.rtd\",,\"ContractData\",B11,\"LongDescription\",,\"T\"),FIND(\"Sel\",RTD(\"cqg.rtd\",,\"ContractData\",B11,\"LongDescription\",,\"T\"))-2)&\"s\"&\" SPDR\"&\", \"&TEXT(J11,\"0.00%\")","v":"Industrials SPDR, "},null,null,null,null,{"$f":"RTD(\"cqg.rtd\", ,\"ContractData\",B11, \"LastTradeToday\",, \"T\")","v":""},{"$f":"RTD(\"cqg.rtd\", ,\"ContractData\",B11, \"NetLastTradeToday\",, \"T\")","v":""},{"$f":"IFERROR(RTD(\"cqg.rtd\", ,\"ContractData\",B11, \"PerCentNetLastTrade\",, \"T\")/100,\"\")","v":""},"Indus, "]
[null,"S.XLB",{"$f":"LEFT(RTD(\"cqg.rtd\",,\"ContractData\",B12,\"LongDescription\",,\"T\"),FIND(\"Sel\",RTD(\"cqg.rtd\",,\"ContractData\",B12,\"LongDescription\",,\"T\"))-2)&\" SPDR\"&\", \"&TEXT(J12,\"0.00%\")","v":"Materials SPDR, "},null,null,null,null,{"$f":"RTD(\"cqg.rtd\", ,\"ContractData\",B12, \"LastTradeToday\",, \"T\")","v":""},{"$f":"RTD(\"cqg.rtd\", ,\"ContractData\",B12, \"NetLastTradeToday\",, \"T\")","v":""},{"$f":"IFERROR(RTD(\"cqg.rtd\", ,\"ContractData\",B12, \"PerCentNetLastTrade\",, \"T\")/100,\"\")","v":""},"Mat, "]
[null,"S.XLRE",{"$f":"LEFT(RTD(\"cqg.rtd\",,\"ContractData\",B13,\"LongDescription\",,\"T\"),FIND(\"Sel\",RTD(\"cqg.rtd\",,\"ContractData\",B13,\"LongDescription\",,\"T\"))-2)&\" SPDR\"&\", \"&TEXT(J13,\"0.00%\")","v":"Real Estate SPDR, "},null,null,null,null,{"$f":"RTD(\"cqg.rtd\", ,\"ContractData\",B13, \"LastTradeToday\",, \"T\")","v":""},{"$f":"RTD(\"cqg.rtd\", ,\"ContractData\",B13, \"NetLastTradeToday\",, \"T\")","v":""},{"$f":"IFERROR(RTD(\"cqg.rtd\", ,\"ContractData\",B13, \"PerCentNetLastTrade\",, \"T\")/100,\"\")","v":""},"Real , "]
[null,"S.XLK",{"$f":"LEFT(RTD(\"cqg.rtd\",,\"ContractData\",B14,\"LongDescription\",,\"T\"),FIND(\"Sec\",RTD(\"cqg.rtd\",,\"ContractData\",B14,\"LongDescription\",,\"T\"))-2)&\" SPDR\"&\", \"&TEXT(J14,\"0.00%\")","v":"Technology SPDR, "},null,null,null,null,{"$f":"RTD(\"cqg.rtd\", ,\"ContractData\",B14, \"LastTradeToday\",, \"T\")","v":""},{"$f":"RTD(\"cqg.rtd\", ,\"ContractData\",B14, \"NetLastTradeToday\",, \"T\")","v":""},{"$f":"IFERROR(RTD(\"cqg.rtd\", ,\"ContractData\",B14, \"PerCentNetLastTrade\",, \"T\")/100,\"\")","v":""},"Tech, "]
[null,"S.XLU",{"$f":"LEFT(RTD(\"cqg.rtd\",,\"ContractData\",B15,\"LongDescription\",,\"T\"),FIND(\"Sel\",RTD(\"cqg.rtd\",,\"ContractData\",B15,\"LongDescription\",,\"T\"))-2)&\" SPDR\"&\", \"&TEXT(J15,\"0.00%\")","v":"Utilities SPDR, "},null,null,null,null,{"$f":"RTD(\"cqg.rtd\", ,\"ContractData\",B15, \"LastTradeToday\",, \"T\")","v":""},{"$f":"RTD(\"cqg.rtd\", ,\"ContractData\",B15, \"NetLastTradeToday\",, \"T\")","v":""},{"$f":"IFERROR(RTD(\"cqg.rtd\", ,\"ContractData\",B15, \"PerCentNetLastTrade\",, \"T\")/100,\"\")","v":""},{"$f":"LEFT(C15,LEN(C15)-12)&\", \"&TEXT(J15,\"0.00%\")","v":"Util, "}]
[null,"S.SPY",{"$f":"\"S&P 500\"&\" SPDR\"&\", \"&TEXT(J16,\"0.00%\")","v":"S&P 500 SPDR, "},null,null,null,null,{"$f":"RTD(\"cqg.rtd\", ,\"ContractData\",B16, \"LastTradeToday\",, \"T\")","v":""},{"$f":"RTD(\"cqg.rtd\", ,\"ContractData\",B16, \"NetLastTradeToday\",, \"T\")","v":""},{"$f":"IFERROR(RTD(\"cqg.rtd\", ,\"ContractData\",B16, \"PerCentNetLastTrade\",, \"T\")/100,\"\")","v":""},"S, "]
[null,null,"Top 15 Description",null,null,null,null,"Last","NC","%NC","NC/ATR","Open","High","Low","Volume",null,"Ratio"]
[{"$f":"TRIM(SPY!O1)","v":{"$error":"#N/A"}},"News",{"$f":"IFERROR(RTD(\"cqg.rtd\", ,\"ContractData\",A18, \"LongDescription\",, \"T\")&\" (\"&RIGHT(A18,LEN(A18)-5)&\")\",\"\")","v":""},null,null,null,null,{"$f":"IFERROR(RTD(\"cqg.rtd\", ,\"ContractData\",A18, \"LastTradeToday\",, \"T\"),\"\")","v":""},{"$f":"IFERROR(RTD(\"cqg.rtd\", ,\"ContractData\",A18, \"NetLastTradeToday\",, \"T\"),\"\")","v":""},{"$f":"IFERROR(RTD(\"cqg.rtd\", ,\"ContractData\",A18, \"PerCentNetLastTrade\",, \"T\")/100,\"\")","v":""},{"$f":"IFERROR(I18/RTD(\"cqg.rtd\",,\"StudyData\",A18, \"ATR\", \"MaType=Sim,Period=10\", \"ATR\",\"D\",\"-1\",\"ALL\",,,\"FALSE\",\"T\")/100,\"\")","v":""},{"$f":"IFERROR(RTD(\"cqg.rtd\", ,\"ContractData\",A18, \"OPen\",, \"T\"),\"\")","v":""},{"$f":"IFERROR(RTD(\"cqg.rtd\", ,\"ContractData\", A18, \"HIgh\",, \"T\"),\"\")","v":""},{"$f":"IFERROR(RTD(\"cqg.rtd\", ,\"ContractData\",A18, \"LOw\",, \"T\"),\"\")","v":""},{"$f":"IFERROR(RTD(\"cqg.rtd\", ,\"ContractData\",A18, \"T_CVol\",, \"T\"),\"\")","v":""},null,{"$f":" IFERROR(O18/RTD(\"cqg.rtd\",,\"StudyData\",A18, \"MA\", \"InputChoice=Vol,MAType=Sim,Period=21\", \"MA\",\"D\",\"-1\",\"all\",,,,\"T\"),\"\")","v":""},{"$f":"SPY!R1","v":{"$error":"#N/A"}}]
[{"$f":"TRIM(SPY!O2)","v":{"$error":"#N/A"}},"News",{"$f":"IFERROR(RTD(\"cqg.rtd\", ,\"ContractData\",A19, \"LongDescription\",, \"T\")&\" (\"&RIGHT(A19,LEN(A19)-5)&\")\",\"\")","v":""},null,null,null,null,{"$f":"IFERROR(RTD(\"cqg.rtd\", ,\"ContractData\",A19, \"LastTradeToday\",, \"T\"),\"\")","v":""},{"$f":"IFERROR(RTD(\"cqg.rtd\", ,\"ContractData\",A19, \"NetLastTradeToday\",, \"T\"),\"\")","v":""},{"$f":"IFERROR(RTD(\"cqg.rtd\", ,\"ContractData\",A19, \"PerCentNetLastTrade\",, \"T\")/100,\"\")","v":""},{"$f":"IFERROR(I19/RTD(\"cqg.rtd\",,\"StudyData\",A19, \"ATR\", \"MaType=Sim,Period=10\", \"ATR\",\"D\",\"-1\",\"ALL\",,,\"FALSE\",\"T\")/100,\"\")","v":""},{"$f":"IFERROR(RTD(\"cqg.rtd\", ,\"ContractData\",A19, \"OPen\",, \"T\"),\"\")","v":""},{"$f":"IFERROR(RTD(\"cqg.rtd\", ,\"ContractData\", A19, \"HIgh\",, \"T\"),\"\")","v":""},{"$f":"IFERROR(RTD(\"cqg.rtd\", ,\"ContractData\",A19, \"LOw\",, \"T\"),\"\")","v":""},{"$f":"IFERROR(RTD(\"cqg.rtd\", ,\"ContractData\",A19, \"T_CVol\",, \"T\"),\"\")","v":""},null,{"$f":" IFERROR(O19/RTD(\"cqg.rtd\",,\"StudyData\",A19, \"MA\", \"InputChoice=Vol,MAType=Sim,Period=21\", \"MA\",\"D\",\"-1\",\"all\",,,,\"T\"),\"\")","v":""},{"$f":"SPY!R2","v":{"$error":"#N/A"}}]
[{"$f":"TRIM(SPY!O3)","v":{"$error":"#N/A"}},"News",{"$f":"IFERROR(RTD(\"cqg.rtd\", ,\"ContractData\",A20, \"LongDescription\",, \"T\")&\" (\"&RIGHT(A20,LEN(A20)-5)&\")\",\"\")","v":""},null,null,null,null,{"$f":"IFERROR(RTD(\"cqg.rtd\", ,\"ContractData\",A20, \"LastTradeToday\",, \"T\"),\"\")","v":""},{"$f":"IFERROR(RTD(\"cqg.rtd\", ,\"ContractData\",A20, \"NetLastTradeToday\",, \"T\"),\"\")","v":""},{"$f":"IFERROR(RTD(\"cqg.rtd\", ,\"ContractData\",A20, \"PerCentNetLastTrade\",, \"T\")/100,\"\")","v":""},{"$f":"IFERROR(I20/RTD(\"cqg.rtd\",,\"StudyData\",A20, \"ATR\", \"MaType=Sim,Period=10\", \"ATR\",\"D\",\"-1\",\"ALL\",,,\"FALSE\",\"T\")/100,\"\")","v":""},{"$f":"IFERROR(RTD(\"cqg.rtd\", ,\"ContractData\",A20, \"OPen\",, \"T\"),\"\")","v":""},{"$f":"IFERROR(RTD(\"cqg.rtd\", ,\"ContractData\", A20, \"HIgh\",, \"T\"),\"\")","v":""},{"$f":"IFERROR(RTD(\"cqg.rtd\", ,\"ContractData\",A20, \"LOw\",, \"T\"),\"\")","v":""},{"$f":"IFERROR(RTD(\"cqg.rtd\", ,\"ContractData\",A20, \"T_CVol\",, \"T\"),\"\")","v":""},null,{"$f":" IFERROR(O20/RTD(\"cqg.rtd\",,\"StudyData\",A20, \"MA\", \"InputChoice=Vol,MAType=Sim,Period=21\", \"MA\",\"D\",\"-1\",\"all\",,,,\"T\"),\"\")","v":""},{"$f":"SPY!R3","v":{"$error":"#N/A"}}]
[{"$f":"TRIM(SPY!O4)","v":{"$error":"#N/A"}},"News",{"$f":"IFERROR(RTD(\"cqg.rtd\", ,\"ContractData\",A21, \"LongDescription\",, \"T\")&\" (\"&RIGHT(A21,LEN(A21)-5)&\")\",\"\")","v":""},null,null,null,null,{"$f":"IFERROR(RTD(\"cqg.rtd\", ,\"ContractData\",A21, \"LastTradeToday\",, \"T\"),\"\")","v":""},{"$f":"IFERROR(RTD(\"cqg.rtd\", ,\"ContractData\",A21, \"NetLastTradeToday\",, \"T\"),\"\")","v":""},{"$f":"IFERROR(RTD(\"cqg.rtd\", ,\"ContractData\",A21, \"PerCentNetLastTrade\",, \"T\")/100,\"\")","v":""},{"$f":"IFERROR(I21/RTD(\"cqg.rtd\",,\"StudyData\",A21, \"ATR\", \"MaType=Sim,Period=10\", \"ATR\",\"D\",\"-1\",\"ALL\",,,\"FALSE\",\"T\")/100,\"\")","v":""},{"$f":"IFERROR(RTD(\"cqg.rtd\", ,\"ContractData\",A21, \"OPen\",, \"T\"),\"\")","v":""},{"$f":"IFERROR(RTD(\"cqg.rtd\", ,\"ContractData\", A21, \"HIgh\",, \"T\"),\"\")","v":""},{"$f":"IFERROR(RTD(\"cqg.rtd\", ,\"ContractData\",A21, \"LOw\",, \"T\"),\"\")","v":""},{"$f":"IFERROR(RTD(\"cqg.rtd\", ,\"ContractData\",A21, \"T_CVol\",, \"T\"),\"\")","v":""},null,{"$f":" IFERROR(O21/RTD(\"cqg.rtd\",,\"StudyData\",A21, \"MA\", \"InputChoice=Vol,MAType=Sim,Period=21\", \"MA\",\"D\",\"-1\",\"all\",,,,\"T\"),\"\")","v":""},{"$f":"SPY!R4","v":{"$error":"#N/A"}}]
[{"$f":"TRIM(SPY!O5)","v":{"$error":"#N/A"}},"News",{"$f":"IFERROR(RTD(\"cqg.rtd\", ,\"ContractData\",A22, \"LongDescription\",, \"T\")&\" (\"&RIGHT(A22,LEN(A22)-5)&\")\",\"\")","v":""},null,null,null,null,{"$f":"IFERROR(RTD(\"cqg.rtd\", ,\"ContractData\",A22, \"LastTradeToday\",, \"T\"),\"\")","v":""},{"$f":"IFERROR(RTD(\"cqg.rtd\", ,\"ContractData\",A22, \"NetLastTradeToday\",, \"T\"),\"\")","v":""},{"$f":"IFERROR(RTD(\"cqg.rtd\", ,\"ContractData\",A22, \"PerCentNetLastTrade\",, \"T\")/100,\"\")","v":""},{"$f":"IFERROR(I22/RTD(\"cqg.rtd\",,\"StudyData\",A22, \"ATR\", \"MaType=Sim,Period=10\", \"ATR\",\"D\",\"-1\",\"ALL\",,,\"FALSE\",\"T\")/100,\"\")","v":""},{"$f":"IFERROR(RTD(\"cqg.rtd\", ,\"ContractData\",A22, \"OPen\",, \"T\"),\"\")","v":""},{"$f":"IFERROR(RTD(\"cqg.rtd\", ,\"ContractData\", A22, \"HIgh\",, \"T\"),\"\")","v":""},{"$f":"IFERROR(RTD(\"cqg.rtd\", ,\"ContractData\",A22, \"LOw\",, \"T\"),\"\")","v":""},{"$f":"IFERROR(RTD(\"cqg.rtd\", ,\"ContractData\",A22, \"T_CVol\",, \"T\"),\"\")","v":""},null,{"$f":" IFERROR(O22/RTD(\"cqg.rtd\",,\"StudyData\",A22, \"MA\", \"InputChoice=Vol,MAType=Sim,Period=21\", \"MA\",\"D\",\"-1\",\"all\",,,,\"T\"),\"\")","v":""},{"$f":"SPY!R5","v":{"$error":"#N/A"}}]
[{"$f":"TRIM(SPY!O6)","v":{"$error":"#N/A"}},"News",{"$f":"IFERROR(RTD(\"cqg.rtd\", ,\"ContractData\",A23, \"LongDescription\",, \"T\")&\" (\"&RIGHT(A23,LEN(A23)-5)&\")\",\"\")","v":""},null,null,null,null,{"$f":"IFERROR(RTD(\"cqg.rtd\", ,\"ContractData\",A23, \"LastTradeToday\",, \"T\"),\"\")","v":""},{"$f":"IFERROR(RTD(\"cqg.rtd\", ,\"ContractData\",A23, \"NetLastTradeToday\",, \"T\"),\"\")","v":""},{"$f":"IFERROR(RTD(\"cqg.rtd\", ,\"ContractData\",A23, \"PerCentNetLastTrade\",, \"T\")/100,\"\")","v":""},{"$f":"IFERROR(I23/RTD(\"cqg.rtd\",,\"StudyData\",A23, \"ATR\", \"MaType=Sim,Period=10\", \"ATR\",\"D\",\"-1\",\"ALL\",,,\"FALSE\",\"T\")/100,\"\")","v":""},{"$f":"IFERROR(RTD(\"cqg.rtd\", ,\"ContractData\",A23, \"OPen\",, \"T\"),\"\")","v":""},{"$f":"IFERROR(RTD(\"cqg.rtd\", ,\"ContractData\", A23, \"HIgh\",, \"T\"),\"\")","v":""},{"$f":"IFERROR(RTD(\"cqg.rtd\", ,\"ContractData\",A23, \"LOw\",, \"T\"),\"\")","v":""},{"$f":"IFERROR(RTD(\"cqg.rtd\", ,\"ContractData\",A23, \"T_CVol\",, \"T\"),\"\")","v":""},null,{"$f":" IFERROR(O23/RTD(\"cqg.rtd\",,\"StudyData\",A23, \"MA\", \"InputChoice=Vol,MAType=Sim,Period=21\", \"MA\",\"D\",\"-1\",\"all\",,,,\"T\"),\"\")","v":""},{"$f":"SPY!R6","v":{"$error":"#N/A"}}]
[{"$f":"TRIM(SPY!O7)","v":{"$error":"#N/A"}},"News",{"$f":"IFERROR(RTD(\"cqg.rtd\", ,\"ContractData\",A24, \"LongDescription\",, \"T\")&\" (\"&RIGHT(A24,LEN(A24)-5)&\")\",\"\")","v":""},null,null,null,null,{"$f":"IFERROR(RTD(\"cqg.rtd\", ,\"ContractData\",A24, \"LastTradeToday\",, \"T\"),\"\")","v":""},{"$f":"IFERROR(RTD(\"cqg.rtd\", ,\"ContractData\",A24, \"NetLastTradeToday\",, \"T\"),\"\")","v":""},{"$f":"IFERROR(RTD(\"cqg.rtd\", ,\"ContractData\",A24, \"PerCentNetLastTrade\",, \"T\")/100,\"\")","v":""},{"$f":"IFERROR(I24/RTD(\"cqg.rtd\",,\"StudyData\",A24, \"ATR\", \"MaType=Sim,Period=10\", \"ATR\",\"D\",\"-1\",\"ALL\",,,\"FALSE\",\"T\")/100,\"\")","v":""},{"$f":"IFERROR(RTD(\"cqg.rtd\", ,\"ContractData\",A24, \"OPen\",, \"T\"),\"\")","v":""},{"$f":"IFERROR(RTD(\"cqg.rtd\", ,\"ContractData\", A24, \"HIgh\",, \"T\"),\"\")","v":""},{"$f":"IFERROR(RTD(\"cqg.rtd\", ,\"ContractData\",A24, \"LOw\",, \"T\"),\"\")","v":""},{"$f":"IFERROR(RTD(\"cqg.rtd\", ,\"ContractData\",A24, \"T_CVol\",, \"T\"),\"\")","v":""},null,{"$f":" IFERROR(O24/RTD(\"cqg.rtd\",,\"StudyData\",A24, \"MA\", \"InputChoice=Vol,MAType=Sim,Period=21\", \"MA\",\"D\",\"-1\",\"all\",,,,\"T\"),\"\")","v":""},{"$f":"SPY!R7","v":{"$error":"#N/A"}}]
[{"$f":"TRIM(SPY!O8)","v":{"$error":"#N/A"}},"News",{"$f":"IFERROR(RTD(\"cqg.rtd\", ,\"ContractData\",A25, \"LongDescription\",, \"T\")&\" (\"&RIGHT(A25,LEN(A25)-5)&\")\",\"\")","v":""},null,null,null,null,{"$f":"IFERROR(RTD(\"cqg.rtd\", ,\"ContractData\",A25, \"LastTradeToday\",, \"T\"),\"\")","v":""},{"$f":"IFERROR(RTD(\"cqg.rtd\", ,\"ContractData\",A25, \"NetLastTradeToday\",, \"T\"),\"\")","v":""},{"$f":"IFERROR(RTD(\"cqg.rtd\", ,\"ContractData\",A25, \"PerCentNetLastTrade\",, \"T\")/100,\"\")","v":""},{"$f":"IFERROR(I25/RTD(\"cqg.rtd\",,\"StudyData\",A25, \"ATR\", \"MaType=Sim,Period=10\", \"ATR\",\"D\",\"-1\",\"ALL\",,,\"FALSE\",\"T\")/100,\"\")","v":""},{"$f":"IFERROR(RTD(\"cqg.rtd\", ,\"ContractData\",A25, \"OPen\",, \"T\"),\"\")","v":""},{"$f":"IFERROR(RTD(\"cqg.rtd\", ,\"ContractData\", A25, \"HIgh\",, \"T\"),\"\")","v":""},{"$f":"IFERROR(RTD(\"cqg.rtd\", ,\"ContractData\",A25, \"LOw\",, \"T\"),\"\")","v":""},{"$f":"IFERROR(RTD(\"cqg.rtd\", ,\"ContractData\",A25, \"T_CVol\",, \"T\"),\"\")","v":""},null,{"$f":" IFERROR(O25/RTD(\"cqg.rtd\",,\"StudyData\",A25, \"MA\", \"InputChoice=Vol,MAType=Sim,Period=21\", \"MA\",\"D\",\"-1\",\"all\",,,,\"T\"),\"\")","v":""},{"$f":"SPY!R8","v":{"$error":"#N/A"}}]
[{"$f":"TRIM(SPY!O9)","v":{"$error":"#N/A"}},"News",{"$f":"IFERROR(RTD(\"cqg.rtd\", ,\"ContractData\",A26, \"LongDescription\",, \"T\")&\" (\"&RIGHT(A26,LEN(A26)-5)&\")\",\"\")","v":""},null,null,null,null,{"$f":"IFERROR(RTD(\"cqg.rtd\", ,\"ContractData\",A26, \"LastTradeToday\",, \"T\"),\"\")","v":""},{"$f":"IFERROR(RTD(\"cqg.rtd\", ,\"ContractData\",A26, \"NetLastTradeToday\",, \"T\"),\"\")","v":""},{"$f":"IFERROR(RTD(\"cqg.rtd\", ,\"ContractData\",A26, \"PerCentNetLastTrade\",, \"T\")/100,\"\")","v":""},{"$f":"IFERROR(I26/RTD(\"cqg.rtd\",,\"StudyData\",A26, \"ATR\", \"MaType=Sim,Period=10\", \"ATR\",\"D\",\"-1\",\"ALL\",,,\"FALSE\",\"T\")/100,\"\")","v":""},{"$f":"IFERROR(RTD(\"cqg.rtd\", ,\"ContractData\",A26, \"OPen\",, \"T\"),\"\")","v":""},{"$f":"IFERROR(RTD(\"cqg.rtd\", ,\"ContractData\", A26, \"HIgh\",, \"T\"),\"\")","v":""},{"$f":"IFERROR(RTD(\"cqg.rtd\", ,\"ContractData\",A26, \"LOw\",, \"T\"),\"\")","v":""},{"$f":"IFERROR(RTD(\"cqg.rtd\", ,\"ContractData\",A26, \"T_CVol\",, \"T\"),\"\")","v":""},null,{"$f":" IFERROR(O26/RTD(\"cqg.rtd\",,\"StudyData\",A26, \"MA\", \"InputChoice=Vol,MAType=Sim,Period=21\", \"MA\",\"D\",\"-1\",\"all\",,,,\"T\"),\"\")","v":""},{"$f":"SPY!R9","v":{"$error":"#N/A"}}]
[{"$f":"TRIM(SPY!O10)","v":{"$error":"#N/A"}},"News",{"$f":"IFERROR(RTD(\"cqg.rtd\", ,\"ContractData\",A27, \"LongDescription\",, \"T\")&\" (\"&RIGHT(A27,LEN(A27)-5)&\")\",\"\")","v":""},null,null,null,null,{"$f":"IFERROR(RTD(\"cqg.rtd\", ,\"ContractData\",A27, \"LastTradeToday\",, \"T\"),\"\")","v":""},{"$f":"IFERROR(RTD(\"cqg.rtd\", ,\"ContractData\",A27, \"NetLastTradeToday\",, \"T\"),\"\")","v":""},{"$f":"IFERROR(RTD(\"cqg.rtd\", ,\"ContractData\",A27, \"PerCentNetLastTrade\",, \"T\")/100,\"\")","v":""},{"$f":"IFERROR(I27/RTD(\"cqg.rtd\",,\"StudyData\",A27, \"ATR\", \"MaType=Sim,Period=10\", \"ATR\",\"D\",\"-1\",\"ALL\",,,\"FALSE\",\"T\")/100,\"\")","v":""},{"$f":"IFERROR(RTD(\"cqg.rtd\", ,\"ContractData\",A27, \"OPen\",, \"T\"),\"\")","v":""},{"$f":"IFERROR(RTD(\"cqg.rtd\", ,\"ContractData\", A27, \"HIgh\",, \"T\"),\"\")","v":""},{"$f":"IFERROR(RTD(\"cqg.rtd\", ,\"ContractData\",A27, \"LOw\",, \"T\"),\"\")","v":""},{"$f":"IFERROR(RTD(\"cqg.rtd\", ,\"ContractData\",A27, \"T_CVol\",, \"T\"),\"\")","v":""},null,{"$f":" IFERROR(O27/RTD(\"cqg.rtd\",,\"StudyData\",A27, \"MA\", \"InputChoice=Vol,MAType=Sim,Period=21\", \"MA\",\"D\",\"-1\",\"all\",,,,\"T\"),\"\")","v":""},{"$f":"SPY!R10","v":{"$error":"#N/A"}},"Bottom 15 Performing Companies "]
[{"$f":"TRIM(SPY!O11)","v":{"$error":"#N/A"}},"News",{"$f":"IFERROR(RTD(\"cqg.rtd\", ,\"ContractData\",A28, \"LongDescription\",, \"T\")&\" (\"&RIGHT(A28,LEN(A28)-5)&\")\",\"\")","v":""},null,null,null,null,{"$f":"IFERROR(RTD(\"cqg.rtd\", ,\"ContractData\",A28, \"LastTradeToday\",, \"T\"),\"\")","v":""},{"$f":"IFERROR(RTD(\"cqg.rtd\", ,\"ContractData\",A28, \"NetLastTradeToday\",, \"T\"),\"\")","v":""},{"$f":"IFERROR(RTD(\"cqg.rtd\", ,\"ContractData\",A28, \"PerCentNetLastTrade\",, \"T\")/100,\"\")","v":""},{"$f":"IFERROR(I28/RTD(\"cqg.rtd\",,\"StudyData\",A28, \"ATR\", \"MaType=Sim,Period=10\", \"ATR\",\"D\",\"-1\",\"ALL\",,,\"FALSE\",\"T\")/100,\"\")","v":""},{"$f":"IFERROR(RTD(\"cqg.rtd\", ,\"ContractData\",A28, \"OPen\",, \"T\"),\"\")","v":""},{"$f":"IFERROR(RTD(\"cqg.rtd\", ,\"ContractData\", A28, \"HIgh\",, \"T\"),\"\")","v":""},{"$f":"IFERROR(RTD(\"cqg.rtd\", ,\"ContractData\",A28, \"LOw\",, \"T\"),\"\")","v":""},{"$f":"IFERROR(RTD(\"cqg.rtd\", ,\"ContractData\",A28, \"T_CVol\",, \"T\"),\"\")","v":""},null,{"$f":" IFERROR(O28/RTD(\"cqg.rtd\",,\"StudyData\",A28, \"MA\", \"InputChoice=Vol,MAType=Sim,Period=21\", \"MA\",\"D\",\"-1\",\"all\",,,,\"T\"),\"\")","v":""},{"$f":"SPY!R11","v":{"$error":"#N/A"}}]
[{"$f":"TRIM(SPY!O12)","v":{"$error":"#N/A"}},"News",{"$f":"IFERROR(RTD(\"cqg.rtd\", ,\"ContractData\",A29, \"LongDescription\",, \"T\")&\" (\"&RIGHT(A29,LEN(A29)-5)&\")\",\"\")","v":""},null,null,null,null,{"$f":"IFERROR(RTD(\"cqg.rtd\", ,\"ContractData\",A29, \"LastTradeToday\",, \"T\"),\"\")","v":""},{"$f":"IFERROR(RTD(\"cqg.rtd\", ,\"ContractData\",A29, \"NetLastTradeToday\",, \"T\"),\"\")","v":""},{"$f":"IFERROR(RTD(\"cqg.rtd\", ,\"ContractData\",A29, \"PerCentNetLastTrade\",, \"T\")/100,\"\")","v":""},{"$f":"IFERROR(I29/RTD(\"cqg.rtd\",,\"StudyData\",A29, \"ATR\", \"MaType=Sim,Period=10\", \"ATR\",\"D\",\"-1\",\"ALL\",,,\"FALSE\",\"T\")/100,\"\")","v":""},{"$f":"IFERROR(RTD(\"cqg.rtd\", ,\"ContractData\",A29, \"OPen\",, \"T\"),\"\")","v":""},{"$f":"IFERROR(RTD(\"cqg.rtd\", ,\"ContractData\", A29, \"HIgh\",, \"T\"),\"\")","v":""},{"$f":"IFERROR(RTD(\"cqg.rtd\", ,\"ContractData\",A29, \"LOw\",, \"T\"),\"\")","v":""},{"$f":"IFERROR(RTD(\"cqg.rtd\", ,\"ContractData\",A29, \"T_CVol\",, \"T\"),\"\")","v":""},null,{"$f":" IFERROR(O29/RTD(\"cqg.rtd\",,\"StudyData\",A29, \"MA\", \"InputChoice=Vol,MAType=Sim,Period=21\", \"MA\",\"D\",\"-1\",\"all\",,,,\"T\"),\"\")","v":""},{"$f":"SPY!R12","v":{"$error":"#N/A"}}]
[{"$f":"TRIM(SPY!O13)","v":{"$error":"#N/A"}},"News",{"$f":"IFERROR(RTD(\"cqg.rtd\", ,\"ContractData\",A30, \"LongDescription\",, \"T\")&\" (\"&RIGHT(A30,LEN(A30)-5)&\")\",\"\")","v":""},null,null,null,null,{"$f":"IFERROR(RTD(\"cqg.rtd\", ,\"ContractData\",A30, \"LastTradeToday\",, \"T\"),\"\")","v":""},{"$f":"IFERROR(RTD(\"cqg.rtd\", ,\"ContractData\",A30, \"NetLastTradeToday\",, \"T\"),\"\")","v":""},{"$f":"IFERROR(RTD(\"cqg.rtd\", ,\"ContractData\",A30, \"PerCentNetLastTrade\",, \"T\")/100,\"\")","v":""},{"$f":"IFERROR(I30/RTD(\"cqg.rtd\",,\"StudyData\",A30, \"ATR\", \"MaType=Sim,Period=10\", \"ATR\",\"D\",\"-1\",\"ALL\",,,\"FALSE\",\"T\")/100,\"\")","v":""},{"$f":"IFERROR(RTD(\"cqg.rtd\", ,\"ContractData\",A30, \"OPen\",, \"T\"),\"\")","v":""},{"$f":"IFERROR(RTD(\"cqg.rtd\", ,\"ContractData\", A30, \"HIgh\",, \"T\"),\"\")","v":""},{"$f":"IFERROR(RTD(\"cqg.rtd\", ,\"ContractData\",A30, \"LOw\",, \"T\"),\"\")","v":""},{"$f":"IFERROR(RTD(\"cqg.rtd\", ,\"ContractData\",A30, \"T_CVol\",, \"T\"),\"\")","v":""},null,{"$f":" IFERROR(O30/RTD(\"cqg.rtd\",,\"StudyData\",A30, \"MA\", \"InputChoice=Vol,MAType=Sim,Period=21\", \"MA\",\"D\",\"-1\",\"all\",,,,\"T\"),\"\")","v":""},{"$f":"SPY!R13","v":{"$error":"#N/A"}}]
[{"$f":"TRIM(SPY!O14)","v":{"$error":"#N/A"}},"News",{"$f":"IFERROR(RTD(\"cqg.rtd\", ,\"ContractData\",A31, \"LongDescription\",, \"T\")&\" (\"&RIGHT(A31,LEN(A31)-5)&\")\",\"\")","v":""},null,null,null,null,{"$f":"IFERROR(RTD(\"cqg.rtd\", ,\"ContractData\",A31, \"LastTradeToday\",, \"T\"),\"\")","v":""},{"$f":"IFERROR(RTD(\"cqg.rtd\", ,\"ContractData\",A31, \"NetLastTradeToday\",, \"T\"),\"\")","v":""},{"$f":"IFERROR(RTD(\"cqg.rtd\", ,\"ContractData\",A31, \"PerCentNetLastTrade\",, \"T\")/100,\"\")","v":""},{"$f":"IFERROR(I31/RTD(\"cqg.rtd\",,\"StudyData\",A31, \"ATR\", \"MaType=Sim,Period=10\", \"ATR\",\"D\",\"-1\",\"ALL\",,,\"FALSE\",\"T\")/100,\"\")","v":""},{"$f":"IFERROR(RTD(\"cqg.rtd\", ,\"ContractData\",A31, \"OPen\",, \"T\"),\"\")","v":""},{"$f":"IFERROR(RTD(\"cqg.rtd\", ,\"ContractData\", A31, \"HIgh\",, \"T\"),\"\")","v":""},{"$f":"IFERROR(RTD(\"cqg.rtd\", ,\"ContractData\",A31, \"LOw\",, \"T\"),\"\")","v":""},{"$f":"IFERROR(RTD(\"cqg.rtd\", ,\"ContractData\",A31, \"T_CVol\",, \"T\"),\"\")","v":""},null,{"$f":" IFERROR(O31/RTD(\"cqg.rtd\",,\"StudyData\",A31, \"MA\", \"InputChoice=Vol,MAType=Sim,Period=21\", \"MA\",\"D\",\"-1\",\"all\",,,,\"T\"),\"\")","v":""},{"$f":"SPY!R14","v":{"$error":"#N/A"}}]
[{"$f":"TRIM(SPY!O15)","v":{"$error":"#N/A"}},"News",{"$f":"IFERROR(RTD(\"cqg.rtd\", ,\"ContractData\",A32, \"LongDescription\",, \"T\")&\" (\"&RIGHT(A32,LEN(A32)-5)&\")\",\"\")","v":""},null,null,null,null,{"$f":"IFERROR(RTD(\"cqg.rtd\", ,\"ContractData\",A32, \"LastTradeToday\",, \"T\"),\"\")","v":""},{"$f":"IFERROR(RTD(\"cqg.rtd\", ,\"ContractData\",A32, \"NetLastTradeToday\",, \"T\"),\"\")","v":""},{"$f":"IFERROR(RTD(\"cqg.rtd\", ,\"ContractData\",A32, \"PerCentNetLastTrade\",, \"T\")/100,\"\")","v":""},{"$f":"IFERROR(I32/RTD(\"cqg.rtd\",,\"StudyData\",A32, \"ATR\", \"MaType=Sim,Period=10\", \"ATR\",\"D\",\"-1\",\"ALL\",,,\"FALSE\",\"T\")/100,\"\")","v":""},{"$f":"IFERROR(RTD(\"cqg.rtd\", ,\"ContractData\",A32, \"OPen\",, \"T\"),\"\")","v":""},{"$f":"IFERROR(RTD(\"cqg.rtd\", ,\"ContractData\", A32, \"HIgh\",, \"T\"),\"\")","v":""},{"$f":"IFERROR(RTD(\"cqg.rtd\", ,\"ContractData\",A32, \"LOw\",, \"T\"),\"\")","v":""},{"$f":"IFERROR(RTD(\"cqg.rtd\", ,\"ContractData\",A32, \"T_CVol\",, \"T\"),\"\")","v":""},null,{"$f":" IFERROR(O32/RTD(\"cqg.rtd\",,\"StudyData\",A32, \"MA\", \"InputChoice=Vol,MAType=Sim,Period=21\", \"MA\",\"D\",\"-1\",\"all\",,,,\"T\"),\"\")","v":""},{"$f":"SPY!R15","v":{"$error":"#N/A"}}]
[null,null,"Bottom 15 Description",null,null,null,null,"Last","NC","%NC","NC/ATR","Open","High","Low","Volume",null,"Ratio"]
[{"$f":"TRIM(SPY!AC1)","v":{"$error":"#N/A"}},"News",{"$f":"IFERROR(RTD(\"cqg.rtd\", ,\"ContractData\",A34, \"LongDescription\",, \"T\")&\" (\"&RIGHT(A34,LEN(A34)-5)&\")\",\"\")","v":""},null,null,null,null,{"$f":"IFERROR(RTD(\"cqg.rtd\", ,\"ContractData\",A34, \"LastTradeToday\",, \"T\"),\"\")","v":""},{"$f":"IFERROR(RTD(\"cqg.rtd\", ,\"ContractData\",A34, \"NetLastTradeToday\",, \"T\"),\"\")","v":""},{"$f":"IFERROR(RTD(\"cqg.rtd\", ,\"ContractData\",A34, \"PerCentNetLastTrade\",, \"T\")/100,\"\")","v":""},{"$f":"IFERROR(I34/RTD(\"cqg.rtd\",,\"StudyData\",A34, \"ATR\", \"MaType=Sim,Period=10\", \"ATR\",\"D\",\"-1\",\"ALL\",,,\"FALSE\",\"T\")/100,\"\")","v":""},{"$f":"IFERROR(RTD(\"cqg.rtd\", ,\"ContractData\",A34, \"OPen\",, \"T\"),\"\")","v":""},{"$f":"IFERROR(RTD(\"cqg.rtd\", ,\"ContractData\", A34, \"HIgh\",, \"T\"),\"\")","v":""},{"$f":"IFERROR(RTD(\"cqg.rtd\", ,\"ContractData\",A34, \"LOw\",, \"T\"),\"\")","v":""},{"$f":"IFERROR(RTD(\"cqg.rtd\", ,\"ContractData\",A34, \"T_CVol\",, \"T\"),\"\")","v":""},null,{"$f":" IFERROR(O34/RTD(\"cqg.rtd\",,\"StudyData\",A34, \"MA\", \"InputChoice=Vol,MAType=Sim,Period=21\", \"MA\",\"D\",\"-1\",\"all\",,,,\"T\"),\"\")","v":""},{"$f":"SPY!AH1","v":{"$error":"#N/A"}}]
[{"$f":"TRIM(SPY!AC2)","v":{"$error":"#N/A"}},"News",{"$f":"IFERROR(RTD(\"cqg.rtd\", ,\"ContractData\",A35, \"LongDescription\",, \"T\")&\" (\"&RIGHT(A35,LEN(A35)-5)&\")\",\"\")","v":""},null,null,null,null,{"$f":"IFERROR(RTD(\"cqg.rtd\", ,\"ContractData\",A35, \"LastTradeToday\",, \"T\"),\"\")","v":""},{"$f":"IFERROR(RTD(\"cqg.rtd\", ,\"ContractData\",A35, \"NetLastTradeToday\",, \"T\"),\"\")","v":""},{"$f":"IFERROR(RTD(\"cqg.rtd\", ,\"ContractData\",A35, \"PerCentNetLastTrade\",, \"T\")/100,\"\")","v":""},{"$f":"IFERROR(I35/RTD(\"cqg.rtd\",,\"StudyData\",A35, \"ATR\", \"MaType=Sim,Period=10\", \"ATR\",\"D\",\"-1\",\"ALL\",,,\"FALSE\",\"T\")/100,\"\")","v":""},{"$f":"IFERROR(RTD(\"cqg.rtd\", ,\"ContractData\",A35, \"OPen\",, \"T\"),\"\")","v":""},{"$f":"IFERROR(RTD(\"cqg.rtd\", ,\"ContractData\", A35, \"HIgh\",, \"T\"),\"\")","v":""},{"$f":"IFERROR(RTD(\"cqg.rtd\", ,\"ContractData\",A35, \"LOw\",, \"T\"),\"\")","v":""},{"$f":"IFERROR(RTD(\"cqg.rtd\", ,\"ContractData\",A35, \"T_CVol\",, \"T\"),\"\")","v":""},null,{"$f":" IFERROR(O35/RTD(\"cqg.rtd\",,\"StudyData\",A35, \"MA\", \"InputChoice=Vol,MAType=Sim,Period=21\", \"MA\",\"D\",\"-1\",\"all\",,,,\"T\"),\"\")","v":""},{"$f":"SPY!AH2","v":{"$error":"#N/A"}}]
[{"$f":"TRIM(SPY!AC3)","v":{"$error":"#N/A"}},"News",{"$f":"IFERROR(RTD(\"cqg.rtd\", ,\"ContractData\",A36, \"LongDescription\",, \"T\")&\" (\"&RIGHT(A36,LEN(A36)-5)&\")\",\"\")","v":""},null,null,null,null,{"$f":"IFERROR(RTD(\"cqg.rtd\", ,\"ContractData\",A36, \"LastTradeToday\",, \"T\"),\"\")","v":""},{"$f":"IFERROR(RTD(\"cqg.rtd\", ,\"ContractData\",A36, \"NetLastTradeToday\",, \"T\"),\"\")","v":""},{"$f":"IFERROR(RTD(\"cqg.rtd\", ,\"ContractData\",A36, \"PerCentNetLastTrade\",, \"T\")/100,\"\")","v":""},{"$f":"IFERROR(I36/RTD(\"cqg.rtd\",,\"StudyData\",A36, \"ATR\", \"MaType=Sim,Period=10\", \"ATR\",\"D\",\"-1\",\"ALL\",,,\"FALSE\",\"T\")/100,\"\")","v":""},{"$f":"IFERROR(RTD(\"cqg.rtd\", ,\"ContractData\",A36, \"OPen\",, \"T\"),\"\")","v":""},{"$f":"IFERROR(RTD(\"cqg.rtd\", ,\"ContractData\", A36, \"HIgh\",, \"T\"),\"\")","v":""},{"$f":"IFERROR(RTD(\"cqg.rtd\", ,\"ContractData\",A36, \"LOw\",, \"T\"),\"\")","v":""},{"$f":"IFERROR(RTD(\"cqg.rtd\", ,\"ContractData\",A36, \"T_CVol\",, \"T\"),\"\")","v":""},null,{"$f":" IFERROR(O36/RTD(\"cqg.rtd\",,\"StudyData\",A36, \"MA\", \"InputChoice=Vol,MAType=Sim,Period=21\", \"MA\",\"D\",\"-1\",\"all\",,,,\"T\"),\"\")","v":""},{"$f":"SPY!AH3","v":{"$error":"#N/A"}}]
[{"$f":"TRIM(SPY!AC4)","v":{"$error":"#N/A"}},"News",{"$f":"IFERROR(RTD(\"cqg.rtd\", ,\"ContractData\",A37, \"LongDescription\",, \"T\")&\" (\"&RIGHT(A37,LEN(A37)-5)&\")\",\"\")","v":""},null,null,null,null,{"$f":"IFERROR(RTD(\"cqg.rtd\", ,\"ContractData\",A37, \"LastTradeToday\",, \"T\"),\"\")","v":""},{"$f":"IFERROR(RTD(\"cqg.rtd\", ,\"ContractData\",A37, \"NetLastTradeToday\",, \"T\"),\"\")","v":""}," ",{"$f":"IFERROR(I37/RTD(\"cqg.rtd\",,\"StudyData\",A37, \"ATR\", \"MaType=Sim,Period=10\", \"ATR\",\"D\",\"-1\",\"ALL\",,,\"FALSE\",\"T\")/100,\"\")","v":""},{"$f":"IFERROR(RTD(\"cqg.rtd\", ,\"ContractData\",A37, \"OPen\",, \"T\"),\"\")","v":""},{"$f":"IFERROR(RTD(\"cqg.rtd\", ,\"ContractData\", A37, \"HIgh\",, \"T\"),\"\")","v":""},{"$f":"IFERROR(RTD(\"cqg.rtd\", ,\"ContractData\",A37, \"LOw\",, \"T\"),\"\")","v":""},{"$f":"IFERROR(RTD(\"cqg.rtd\", ,\"ContractData\",A37, \"T_CVol\",, \"T\"),\"\")","v":""},null,{"$f":" IFERROR(O37/RTD(\"cqg.rtd\",,\"StudyData\",A37, \"MA\", \"InputChoice=Vol,MAType=Sim,Period=21\", \"MA\",\"D\",\"-1\",\"all\",,,,\"T\"),\"\")","v":""},{"$f":"SPY!AH4","v":{"$error":"#N/A"}}]
[{"$f":"TRIM(SPY!AC5)","v":{"$error":"#N/A"}},"News",{"$f":"IFERROR(RTD(\"cqg.rtd\", ,\"ContractData\",A38, \"LongDescription\",, \"T\")&\" (\"&RIGHT(A38,LEN(A38)-5)&\")\",\"\")","v":""},null,null,null,null,{"$f":"IFERROR(RTD(\"cqg.rtd\", ,\"ContractData\",A38, \"LastTradeToday\",, \"T\"),\"\")","v":""},{"$f":"IFERROR(RTD(\"cqg.rtd\", ,\"ContractData\",A38, \"NetLastTradeToday\",, \"T\"),\"\")","v":""},{"$f":"IFERROR(RTD(\"cqg.rtd\", ,\"ContractData\",A38, \"PerCentNetLastTrade\",, \"T\")/100,\"\")","v":""},{"$f":"IFERROR(I38/RTD(\"cqg.rtd\",,\"StudyData\",A38, \"ATR\", \"MaType=Sim,Period=10\", \"ATR\",\"D\",\"-1\",\"ALL\",,,\"FALSE\",\"T\")/100,\"\")","v":""},{"$f":"IFERROR(RTD(\"cqg.rtd\", ,\"ContractData\",A38, \"OPen\",, \"T\"),\"\")","v":""},{"$f":"IFERROR(RTD(\"cqg.rtd\", ,\"ContractData\", A38, \"HIgh\",, \"T\"),\"\")","v":""},{"$f":"IFERROR(RTD(\"cqg.rtd\", ,\"ContractData\",A38, \"LOw\",, \"T\"),\"\")","v":""},{"$f":"IFERROR(RTD(\"cqg.rtd\", ,\"ContractData\",A38, \"T_CVol\",, \"T\"),\"\")","v":""},null,{"$f":" IFERROR(O38/RTD(\"cqg.rtd\",,\"StudyData\",A38, \"MA\", \"InputChoice=Vol,MAType=Sim,Period=21\", \"MA\",\"D\",\"-1\",\"all\",,,,\"T\"),\"\")","v":""},{"$f":"SPY!AH5","v":{"$error":"#N/A"}}]
[{"$f":"TRIM(SPY!AC6)","v":{"$error":"#N/A"}},"News",{"$f":"IFERROR(RTD(\"cqg.rtd\", ,\"ContractData\",A39, \"LongDescription\",, \"T\")&\" (\"&RIGHT(A39,LEN(A39)-5)&\")\",\"\")","v":""},null,null,null,null,{"$f":"IFERROR(RTD(\"cqg.rtd\", ,\"ContractData\",A39, \"LastTradeToday\",, \"T\"),\"\")","v":""},{"$f":"IFERROR(RTD(\"cqg.rtd\", ,\"ContractData\",A39, \"NetLastTradeToday\",, \"T\"),\"\")","v":""},{"$f":"IFERROR(RTD(\"cqg.rtd\", ,\"ContractData\",A39, \"PerCentNetLastTrade\",, \"T\")/100,\"\")","v":""},{"$f":"IFERROR(I39/RTD(\"cqg.rtd\",,\"StudyData\",A39, \"ATR\", \"MaType=Sim,Period=10\", \"ATR\",\"D\",\"-1\",\"ALL\",,,\"FALSE\",\"T\")/100,\"\")","v":""},{"$f":"IFERROR(RTD(\"cqg.rtd\", ,\"ContractData\",A39, \"OPen\",, \"T\"),\"\")","v":""},{"$f":"IFERROR(RTD(\"cqg.rtd\", ,\"ContractData\", A39, \"HIgh\",, \"T\"),\"\")","v":""},{"$f":"IFERROR(RTD(\"cqg.rtd\", ,\"ContractData\",A39, \"LOw\",, \"T\"),\"\")","v":""},{"$f":"IFERROR(RTD(\"cqg.rtd\", ,\"ContractData\",A39, \"T_CVol\",, \"T\"),\"\")","v":""},null,{"$f":" IFERROR(O39/RTD(\"cqg.rtd\",,\"StudyData\",A39, \"MA\", \"InputChoice=Vol,MAType=Sim,Period=21\", \"MA\",\"D\",\"-1\",\"all\",,,,\"T\"),\"\")","v":""},{"$f":"SPY!AH6","v":{"$error":"#N/A"}}]
[{"$f":"TRIM(SPY!AC7)","v":{"$error":"#N/A"}},"News",{"$f":"IFERROR(RTD(\"cqg.rtd\", ,\"ContractData\",A40, \"LongDescription\",, \"T\")&\" (\"&RIGHT(A40,LEN(A40)-5)&\")\",\"\")","v":""},null,null,null,null,{"$f":"IFERROR(RTD(\"cqg.rtd\", ,\"ContractData\",A40, \"LastTradeToday\",, \"T\"),\"\")","v":""},{"$f":"IFERROR(RTD(\"cqg.rtd\", ,\"ContractData\",A40, \"NetLastTradeToday\",, \"T\"),\"\")","v":""},{"$f":"IFERROR(RTD(\"cqg.rtd\", ,\"ContractData\",A40, \"PerCentNetLastTrade\",, \"T\")/100,\"\")","v":""},{"$f":"IFERROR(I40/RTD(\"cqg.rtd\",,\"StudyData\",A40, \"ATR\", \"MaType=Sim,Period=10\", \"ATR\",\"D\",\"-1\",\"ALL\",,,\"FALSE\",\"T\")/100,\"\")","v":""},{"$f":"IFERROR(RTD(\"cqg.rtd\", ,\"ContractData\",A40, \"OPen\",, \"T\"),\"\")","v":""},{"$f":"IFERROR(RTD(\"cqg.rtd\", ,\"ContractData\", A40, \"HIgh\",, \"T\"),\"\")","v":""},{"$f":"IFERROR(RTD(\"cqg.rtd\", ,\"ContractData\",A40, \"LOw\",, \"T\"),\"\")","v":""},{"$f":"IFERROR(RTD(\"cqg.rtd\", ,\"ContractData\",A40, \"T_CVol\",, \"T\"),\"\")","v":""},null,{"$f":" IFERROR(O40/RTD(\"cqg.rtd\",,\"StudyData\",A40, \"MA\", \"InputChoice=Vol,MAType=Sim,Period=21\", \"MA\",\"D\",\"-1\",\"all\",,,,\"T\"),\"\")","v":""},{"$f":"SPY!AH7","v":{"$error":"#N/A"}}]
[{"$f":"TRIM(SPY!AC8)","v":{"$error":"#N/A"}},"News",{"$f":"IFERROR(RTD(\"cqg.rtd\", ,\"ContractData\",A41, \"LongDescription\",, \"T\")&\" (\"&RIGHT(A41,LEN(A41)-5)&\")\",\"\")","v":""},null,null,null,null,{"$f":"IFERROR(RTD(\"cqg.rtd\", ,\"ContractData\",A41, \"LastTradeToday\",, \"T\"),\"\")","v":""},{"$f":"IFERROR(RTD(\"cqg.rtd\", ,\"ContractData\",A41, \"NetLastTradeToday\",, \"T\"),\"\")","v":""},{"$f":"IFERROR(RTD(\"cqg.rtd\", ,\"ContractData\",A41, \"PerCentNetLastTrade\",, \"T\")/100,\"\")","v":""},{"$f":"IFERROR(I41/RTD(\"cqg.rtd\",,\"StudyData\",A41, \"ATR\", \"MaType=Sim,Period=10\", \"ATR\",\"D\",\"-1\",\"ALL\",,,\"FALSE\",\"T\")/100,\"\")","v":""},{"$f":"IFERROR(RTD(\"cqg.rtd\", ,\"ContractData\",A41, \"OPen\",, \"T\"),\"\")","v":""},{"$f":"IFERROR(RTD(\"cqg.rtd\", ,\"ContractData\", A41, \"HIgh\",, \"T\"),\"\")","v":""},{"$f":"IFERROR(RTD(\"cqg.rtd\", ,\"ContractData\",A41, \"LOw\",, \"T\"),\"\")","v":""},{"$f":"IFERROR(RTD(\"cqg.rtd\", ,\"ContractData\",A41, \"T_CVol\",, \"T\"),\"\")","v":""},null,{"$f":" IFERROR(O41/RTD(\"cqg.rtd\",,\"StudyData\",A41, \"MA\", \"InputChoice=Vol,MAType=Sim,Period=21\", \"MA\",\"D\",\"-1\",\"all\",,,,\"T\"),\"\")","v":""},{"$f":"SPY!AH8","v":{"$error":"#N/A"}}]
[{"$f":"TRIM(SPY!AC9)","v":{"$error":"#N/A"}},"News",{"$f":"IFERROR(RTD(\"cqg.rtd\", ,\"ContractData\",A42, \"LongDescription\",, \"T\")&\" (\"&RIGHT(A42,LEN(A42)-5)&\")\",\"\")","v":""},null,null,null,null,{"$f":"IFERROR(RTD(\"cqg.rtd\", ,\"ContractData\",A42, \"LastTradeToday\",, \"T\"),\"\")","v":""},{"$f":"IFERROR(RTD(\"cqg.rtd\", ,\"ContractData\",A42, \"NetLastTradeToday\",, \"T\"),\"\")","v":""},{"$f":"IFERROR(RTD(\"cqg.rtd\", ,\"ContractData\",A42, \"PerCentNetLastTrade\",, \"T\")/100,\"\")","v":""},{"$f":"IFERROR(I42/RTD(\"cqg.rtd\",,\"StudyData\",A42, \"ATR\", \"MaType=Sim,Period=10\", \"ATR\",\"D\",\"-1\",\"ALL\",,,\"FALSE\",\"T\")/100,\"\")","v":""},{"$f":"IFERROR(RTD(\"cqg.rtd\", ,\"ContractData\",A42, \"OPen\",, \"T\"),\"\")","v":""},{"$f":"IFERROR(RTD(\"cqg.rtd\", ,\"ContractData\", A42, \"HIgh\",, \"T\"),\"\")","v":""},{"$f":"IFERROR(RTD(\"cqg.rtd\", ,\"ContractData\",A42, \"LOw\",, \"T\"),\"\")","v":""},{"$f":"IFERROR(RTD(\"cqg.rtd\", ,\"ContractData\",A42, \"T_CVol\",, \"T\"),\"\")","v":""},null,{"$f":" IFERROR(O42/RTD(\"cqg.rtd\",,\"StudyData\",A42, \"MA\", \"InputChoice=Vol,MAType=Sim,Period=21\", \"MA\",\"D\",\"-1\",\"all\",,,,\"T\"),\"\")","v":""},{"$f":"SPY!AH9","v":{"$error":"#N/A"}}]
[{"$f":"TRIM(SPY!AC10)","v":{"$error":"#N/A"}},"News",{"$f":"IFERROR(RTD(\"cqg.rtd\", ,\"ContractData\",A43, \"LongDescription\",, \"T\")&\" (\"&RIGHT(A43,LEN(A43)-5)&\")\",\"\")","v":""},null,null,null,null,{"$f":"IFERROR(RTD(\"cqg.rtd\", ,\"ContractData\",A43, \"LastTradeToday\",, \"T\"),\"\")","v":""},{"$f":"IFERROR(RTD(\"cqg.rtd\", ,\"ContractData\",A43, \"NetLastTradeToday\",, \"T\"),\"\")","v":""},{"$f":"IFERROR(RTD(\"cqg.rtd\", ,\"ContractData\",A43, \"PerCentNetLastTrade\",, \"T\")/100,\"\")","v":""},{"$f":"IFERROR(I43/RTD(\"cqg.rtd\",,\"StudyData\",A43, \"ATR\", \"MaType=Sim,Period=10\", \"ATR\",\"D\",\"-1\",\"ALL\",,,\"FALSE\",\"T\")/100,\"\")","v":""},{"$f":"IFERROR(RTD(\"cqg.rtd\", ,\"ContractData\",A43, \"OPen\",, \"T\"),\"\")","v":""},{"$f":"IFERROR(RTD(\"cqg.rtd\", ,\"ContractData\", A43, \"HIgh\",, \"T\"),\"\")","v":""},{"$f":"IFERROR(RTD(\"cqg.rtd\", ,\"ContractData\",A43, \"LOw\",, \"T\"),\"\")","v":""},{"$f":"IFERROR(RTD(\"cqg.rtd\", ,\"ContractData\",A43, \"T_CVol\",, \"T\"),\"\")","v":""},null,{"$f":" IFERROR(O43/RTD(\"cqg.rtd\",,\"StudyData\",A43, \"MA\", \"InputChoice=Vol,MAType=Sim,Period=21\", \"MA\",\"D\",\"-1\",\"all\",,,,\"T\"),\"\")","v":""},{"$f":"SPY!AH10","v":{"$error":"#N/A"}}]
[{"$f":"TRIM(SPY!AC11)","v":{"$error":"#N/A"}},"News",{"$f":"IFERROR(RTD(\"cqg.rtd\", ,\"ContractData\",A44, \"LongDescription\",, \"T\")&\" (\"&RIGHT(A44,LEN(A44)-5)&\")\",\"\")","v":""},null,null,null,null,{"$f":"IFERROR(RTD(\"cqg.rtd\", ,\"ContractData\",A44, \"LastTradeToday\",, \"T\"),\"\")","v":""},{"$f":"IFERROR(RTD(\"cqg.rtd\", ,\"ContractData\",A44, \"NetLastTradeToday\",, \"T\"),\"\")","v":""},{"$f":"IFERROR(RTD(\"cqg.rtd\", ,\"ContractData\",A44, \"PerCentNetLastTrade\",, \"T\")/100,\"\")","v":""},{"$f":"IFERROR(I44/RTD(\"cqg.rtd\",,\"StudyData\",A44, \"ATR\", \"MaType=Sim,Period=10\", \"ATR\",\"D\",\"-1\",\"ALL\",,,\"FALSE\",\"T\")/100,\"\")","v":""},{"$f":"IFERROR(RTD(\"cqg.rtd\", ,\"ContractData\",A44, \"OPen\",, \"T\"),\"\")","v":""},{"$f":"IFERROR(RTD(\"cqg.rtd\", ,\"ContractData\", A44, \"HIgh\",, \"T\"),\"\")","v":""},{"$f":"IFERROR(RTD(\"cqg.rtd\", ,\"ContractData\",A44, \"LOw\",, \"T\"),\"\")","v":""},{"$f":"IFERROR(RTD(\"cqg.rtd\", ,\"ContractData\",A44, \"T_CVol\",, \"T\"),\"\")","v":""},null,{"$f":" IFERROR(O44/RTD(\"cqg.rtd\",,\"StudyData\",A44, \"MA\", \"InputChoice=Vol,MAType=Sim,Period=21\", \"MA\",\"D\",\"-1\",\"all\",,,,\"T\"),\"\")","v":""},{"$f":"SPY!AH11","v":{"$error":"#N/A"}}]
[{"$f":"TRIM(SPY!AC12)","v":{"$error":"#N/A"}},"News",{"$f":"IFERROR(RTD(\"cqg.rtd\", ,\"ContractData\",A45, \"LongDescription\",, \"T\")&\" (\"&RIGHT(A45,LEN(A45)-5)&\")\",\"\")","v":""},null,null,null,null,{"$f":"IFERROR(RTD(\"cqg.rtd\", ,\"ContractData\",A45, \"LastTradeToday\",, \"T\"),\"\")","v":""},{"$f":"IFERROR(RTD(\"cqg.rtd\", ,\"ContractData\",A45, \"NetLastTradeToday\",, \"T\"),\"\")","v":""},{"$f":"IFERROR(RTD(\"cqg.rtd\", ,\"ContractData\",A45, \"PerCentNetLastTrade\",, \"T\")/100,\"\")","v":""},{"$f":"IFERROR(I45/RTD(\"cqg.rtd\",,\"StudyData\",A45, \"ATR\", \"MaType=Sim,Period=10\", \"ATR\",\"D\",\"-1\",\"ALL\",,,\"FALSE\",\"T\")/100,\"\")","v":""},{"$f":"IFERROR(RTD(\"cqg.rtd\", ,\"ContractData\",A45, \"OPen\",, \"T\"),\"\")","v":""},{"$f":"IFERROR(RTD(\"cqg.rtd\", ,\"ContractData\", A45, \"HIgh\",, \"T\"),\"\")","v":""},{"$f":"IFERROR(RTD(\"cqg.rtd\", ,\"ContractData\",A45, \"LOw\",, \"T\"),\"\")","v":""},{"$f":"IFERROR(RTD(\"cqg.rtd\", ,\"ContractData\",A45, \"T_CVol\",, \"T\"),\"\")","v":""},null,{"$f":" IFERROR(O45/RTD(\"cqg.rtd\",,\"StudyData\",A45, \"MA\", \"InputChoice=Vol,MAType=Sim,Period=21\", \"MA\",\"D\",\"-1\",\"all\",,,,\"T\"),\"\")","v":""},{"$f":"SPY!AH12","v":{"$error":"#N/A"}}]
[{"$f":"TRIM(SPY!AC13)","v":{"$error":"#N/A"}},"News",{"$f":"IFERROR(RTD(\"cqg.rtd\", ,\"ContractData\",A46, \"LongDescription\",, \"T\")&\" (\"&RIGHT(A46,LEN(A46)-5)&\")\",\"\")","v":""},null,null,null,null,{"$f":"IFERROR(RTD(\"cqg.rtd\", ,\"ContractData\",A46, \"LastTradeToday\",, \"T\"),\"\")","v":""},{"$f":"IFERROR(RTD(\"cqg.rtd\", ,\"ContractData\",A46, \"NetLastTradeToday\",, \"T\"),\"\")","v":""},{"$f":"IFERROR(RTD(\"cqg.rtd\", ,\"ContractData\",A46, \"PerCentNetLastTrade\",, \"T\")/100,\"\")","v":""},{"$f":"IFERROR(I46/RTD(\"cqg.rtd\",,\"StudyData\",A46, \"ATR\", \"MaType=Sim,Period=10\", \"ATR\",\"D\",\"-1\",\"ALL\",,,\"FALSE\",\"T\")/100,\"\")","v":""},{"$f":"IFERROR(RTD(\"cqg.rtd\", ,\"ContractData\",A46, \"OPen\",, \"T\"),\"\")","v":""},{"$f":"IFERROR(RTD(\"cqg.rtd\", ,\"ContractData\", A46, \"HIgh\",, \"T\"),\"\")","v":""},{"$f":"IFERROR(RTD(\"cqg.rtd\", ,\"ContractData\",A46, \"LOw\",, \"T\"),\"\")","v":""},{"$f":"IFERROR(RTD(\"cqg.rtd\", ,\"ContractData\",A46, \"T_CVol\",, \"T\"),\"\")","v":""},null,{"$f":" IFERROR(O46/RTD(\"cqg.rtd\",,\"StudyData\",A46, \"MA\", \"InputChoice=Vol,MAType=Sim,Period=21\", \"MA\",\"D\",\"-1\",\"all\",,,,\"T\"),\"\")","v":""},{"$f":"SPY!AH13","v":{"$error":"#N/A"}}]
[{"$f":"TRIM(SPY!AC14)","v":{"$error":"#N/A"}},"News",{"$f":"IFERROR(RTD(\"cqg.rtd\", ,\"ContractData\",A47, \"LongDescription\",, \"T\")&\" (\"&RIGHT(A47,LEN(A47)-5)&\")\",\"\")","v":""},null,null,null,null,{"$f":"IFERROR(RTD(\"cqg.rtd\", ,\"ContractData\",A47, \"LastTradeToday\",, \"T\"),\"\")","v":""},{"$f":"IFERROR(RTD(\"cqg.rtd\", ,\"ContractData\",A47, \"NetLastTradeToday\",, \"T\"),\"\")","v":""},{"$f":"IFERROR(RTD(\"cqg.rtd\", ,\"ContractData\",A47, \"PerCentNetLastTrade\",, \"T\")/100,\"\")","v":""},{"$f":"IFERROR(I47/RTD(\"cqg.rtd\",,\"StudyData\",A47, \"ATR\", \"MaType=Sim,Period=10\", \"ATR\",\"D\",\"-1\",\"ALL\",,,\"FALSE\",\"T\")/100,\"\")","v":""},{"$f":"IFERROR(RTD(\"cqg.rtd\", ,\"ContractData\",A47, \"OPen\",, \"T\"),\"\")","v":""},{"$f":"IFERROR(RTD(\"cqg.rtd\", ,\"ContractData\", A47, \"HIgh\",, \"T\"),\"\")","v":""},{"$f":"IFERROR(RTD(\"cqg.rtd\", ,\"ContractData\",A47, \"LOw\",, \"T\"),\"\")","v":""},{"$f":"IFERROR(RTD(\"cqg.rtd\", ,\"ContractData\",A47, \"T_CVol\",, \"T\"),\"\")","v":""},null,{"$f":" IFERROR(O47/RTD(\"cqg.rtd\",,\"StudyData\",A47, \"MA\", \"InputChoice=Vol,MAType=Sim,Period=21\", \"MA\",\"D\",\"-1\",\"all\",,,,\"T\"),\"\")","v":""},{"$f":"SPY!AH14","v":{"$error":"#N/A"}}]
[{"$f":"TRIM(SPY!AC15)","v":{"$error":"#N/A"}},"News",{"$f":"IFERROR(RTD(\"cqg.rtd\", ,\"ContractData\",A48, \"LongDescription\",, \"T\")&\" (\"&RIGHT(A48,LEN(A48)-5)&\")\",\"\")","v":""},null,null,null,null,{"$f":"IFERROR(RTD(\"cqg.rtd\", ,\"ContractData\",A48, \"LastTradeToday\",, \"T\"),\"\")","v":""},{"$f":"IFERROR(RTD(\"cqg.rtd\", ,\"ContractData\",A48, \"NetLastTradeToday\",, \"T\"),\"\")","v":""},{"$f":"IFERROR(RTD(\"cqg.rtd\", ,\"ContractData\",A48, \"PerCentNetLastTrade\",, \"T\")/100,\"\")","v":""},{"$f":"IFERROR(I48/RTD(\"cqg.rtd\",,\"StudyData\",A48, \"ATR\", \"MaType=Sim,Period=10\", \"ATR\",\"D\",\"-1\",\"ALL\",,,\"FALSE\",\"T\")/100,\"\")","v":""},{"$f":"IFERROR(RTD(\"cqg.rtd\", ,\"ContractData\",A48, \"OPen\",, \"T\"),\"\")","v":""},{"$f":"IFERROR(RTD(\"cqg.rtd\", ,\"ContractData\", A48, \"HIgh\",, \"T\"),\"\")","v":""},{"$f":"IFERROR(RTD(\"cqg.rtd\", ,\"ContractData\",A48, \"LOw\",, \"T\"),\"\")","v":""},{"$f":"IFERROR(RTD(\"cqg.rtd\", ,\"ContractData\",A48, \"T_CVol\",, \"T\"),\"\")","v":""},null,{"$f":" IFERROR(O48/RTD(\"cqg.rtd\",,\"StudyData\",A48, \"MA\", \"InputChoice=Vol,MAType=Sim,Period=21\", \"MA\",\"D\",\"-1\",\"all\",,,,\"T\"),\"\")","v":""},{"$f":"SPY!AH15","v":{"$error":"#N/A"}}]
[null,null,"CQG Inc.,   Copyright © 2025",null,null,null,"Designed by Thom Hartle",null,null,"The SPDR® S&P 500® ETF Trust seeks to provide investment results that, before expenses, correspond generally to the price and yield performance of the S&P 500® Index.",null,null,null,null,null,null,null,null,null,null,null,null,null,null,null,{"$f":"Z52","v":"100% of the stocks in the ETF are higher today"}]
[]
[null,null,null,null,null,null,null,null,null,null,null,null,null,null,null,null,null,null,null,null,null,null,null,null,null,{"$f":"SPY!B505","v":1},"of the stocks in the ETF are higher today"]
[null,null,null,null,null,null,null,null,null,null,null,null,null,null,null,null,null,null,null,null,null,null,null,null,null,{"$f":"TEXT(Display!Z51,\"0%\")&\" \"&Display!AA51","v":"100% of the stocks in the ETF are higher today"}]

{"sheet":"SPY","index":1,"n_rows":505,"n_cols":34,"rows_kept":505,"cut":false,"hidden":true,"merged":[]}
["S.US.A",{"$f":"IF(J1>0,1,0)","v":1},"S.US.A",{"$f":"RTD(\"cqg.rtd\", ,\"ContractData\",C1, \"LongDescription\",, \"T\")","v":"Agilent Technologies"},null,null,null,{"$f":"RTD(\"cqg.rtd\", ,\"ContractData\",C1, \"LastTradeToday\",, \"T\")","v":""},{"$f":"RTD(\"cqg.rtd\", ,\"ContractData\",C1, \"NetLastTradeToday\",, \"T\")","v":""},{"$f":"IFERROR(RTD(\"cqg.rtd\", ,\"ContractData\",C1, \"PerCentNetLastTrade\",, \"T\")/100,\"\")","v":""},{"$f":"RTD(\"cqg.rtd\", ,\"ContractData\", C1, \"T_CVol\",, \"T\")","v":640},1,{"$f":"IFERROR(RANK($J1,$J$1:J$503)+COUNTIF($J$1:J1,J1)-1,\"\")","v":""},{"$f":"C1","v":"S.US.A"},{"$f":"TRIM(VLOOKUP($L1,$M$1:$N$503,2,FALSE))","v":{"$error":"#N/A"}},{"$f":"RTD(\"cqg.rtd\", ,\"ContractData\",O1, \"LongDescription\",, \"T\")","v":{"$error":"#N/A"}},{"$f":"IFERROR(RTD(\"cqg.rtd\", ,\"ContractData\",O1, \"PerCentNetLastTrade\",, \"T\")/100,\"\")","v":""},{"$f":"\"https://finance.yahoo.com/quote/\"&RIGHT(O1,(LEN(O1)-5))","v":{"$error":"#N/A"}},null,{"$f":"IF(Q1>=0,Q1,NA())","v":""},{"$f":"IF(Q1>=0,NA(),-1*Q1)","v":{"$error":"#N/A"}},null,{"$f":"IFERROR(RTD(\"cqg.rtd\", ,\"ContractData\",O1, \"LongDescription\",, \"T\"),\"\")","v":""},null,null,{"$f":"IFERROR(T1,Q1)","v":""},{"$f":"MIN(J1:J503)","v":0},{"$f":"VLOOKUP(AA1,J1:O503,4,FALSE)","v":{"$error":"#N/A"}},{"$f":"VLOOKUP($AB1,$M$1:$N$503,2,FALSE)","v":{"$error":"#N/A"}},{"$f":"IFERROR(RTD(\"cqg.rtd\", ,\"ContractData\",AC1, \"PerCentNetLastTrade\",, \"T\")/100,\"\")","v":""},{"$f":"IFERROR(RTD(\"cqg.rtd\", ,\"ContractData\",AC1, \"LongDescription\",, \"T\"),\"\")","v":""},{"$f":"IFERROR(U1,\"\")","v":""},{"$f":"IFERROR(AD1*-1,\"\")","v":""},{"$f":"\"https://finance.yahoo.com/quote/\"&RIGHT(AC1,(LEN(AC1)-5))","v":{"$error":"#N/A"}}]
["S.US.AAPL",{"$f":"IF(J2>0,1,0)","v":1},"S.US.AAPL",{"$f":"RTD(\"cqg.rtd\", ,\"ContractData\",C2, \"LongDescription\",, \"T\")","v":"Apple Inc"},null,null,null,{"$f":"RTD(\"cqg.rtd\", ,\"ContractData\",C2, \"LastTradeToday\",, \"T\")","v":""},{"$f":"RTD(\"cqg.rtd\", ,\"ContractData\",C2, \"NetLastTradeToday\",, \"T\")","v":""},{"$f":"IFERROR(RTD(\"cqg.rtd\", ,\"ContractData\",C2, \"PerCentNetLastTrade\",, \"T\")/100,\"\")","v":""},{"$f":"RTD(\"cqg.rtd\", ,\"ContractData\", C2, \"T_CVol\",, \"T\")","v":465243},{"$f":"L1+1","v":2},{"$f":"IFERROR(RANK($J2,$J$1:J$503)+COUNTIF($J$1:J2,J2)-1,\"\")","v":""},{"$f":"C2","v":"S.US.AAPL"},{"$f":"TRIM(VLOOKUP($L2,$M$1:$N$503,2,FALSE))","v":{"$error":"#N/A"}},{"$f":"RTD(\"cqg.rtd\", ,\"ContractData\",O2, \"LongDescription\",, \"T\")","v":{"$error":"#N/A"}},{"$f":"IFERROR(RTD(\"cqg.rtd\", ,\"ContractData\",O2, \"PerCentNetLastTrade\",, \"T\")/100,\"\")","v":""},{"$f":"\"https://finance.yahoo.com/quote/\"&RIGHT(O2,(LEN(O2)-5))","v":{"$error":"#N/A"}},null,{"$f":"IF(Q2>=0,Q2,NA())","v":""},{"$f":"IF(Q2>=0,NA(),-1*Q2)","v":{"$error":"#N/A"}},null,{"$f":"IFERROR(RTD(\"cqg.rtd\", ,\"ContractData\",O2, \"LongDescription\",, \"T\"),\"\")","v":""},null,null,{"$f":"IFERROR(T2,Q2)","v":""},null,{"$f":"AB1-1","v":{"$error":"#N/A"}},{"$f":"VLOOKUP($AB2,$M$1:$N$503,2,FALSE)","v":{"$error":"#N/A"}},{"$f":"IFERROR(RTD(\"cqg.rtd\", ,\"ContractData\",AC2, \"PerCentNetLastTrade\",, \"T\")/100,\"\")","v":""},{"$f":"IFERROR(RTD(\"cqg.rtd\", ,\"ContractData\",AC2, \"LongDescription\",, \"T\"),\"\")","v":""},{"$f":"IFERROR(U2,\"\")","v":""},{"$f":"IFERROR(AD2*-1,\"\")","v":""},{"$f":"\"https://finance.yahoo.com/quote/\"&RIGHT(AC2,(LEN(AC2)-5))","v":{"$error":"#N/A"}}]
["S.US.ABBV",1,"S.US.ABBV",{"$f":"RTD(\"cqg.rtd\", ,\"ContractData\",C3, \"LongDescription\",, \"T\")","v":"AbbVie Inc."},null,null,null,{"$f":"RTD(\"cqg.rtd\", ,\"ContractData\",C3, \"LastTradeToday\",, \"T\")","v":""},{"$f":"RTD(\"cqg.rtd\", ,\"ContractData\",C3, \"NetLastTradeToday\",, \"T\")","v":""},{"$f":"IFERROR(RTD(\"cqg.rtd\", ,\"ContractData\",C3, \"PerCentNetLastTrade\",, \"T\")/100,\"\")","v":""},{"$f":"RTD(\"cqg.rtd\", ,\"ContractData\", C3, \"T_CVol\",, \"T\")","v":5526},{"$f":"L2+1","v":3},{"$f":"IFERROR(RANK($J3,$J$1:J$503)+COUNTIF($J$1:J3,J3)-1,\"\")","v":""},"S.US.ABBV",{"$error":"#N/A"},{"$f":"RTD(\"cqg.rtd\", ,\"ContractData\",O3, \"LongDescription\",, \"T\")","v":{"$error":"#N/A"}},{"$f":"IFERROR(RTD(\"cqg.rtd\", ,\"ContractData\",O3, \"PerCentNetLastTrade\",, \"T\")/100,\"\")","v":""},{"$error":"#N/A"},null,"",{"$error":"#N/A"},null,{"$f":"IFERROR(RTD(\"cqg.rtd\", ,\"ContractData\",O3, \"LongDescription\",, \"T\"),\"\")","v":""},null,null,"",null,{"$f":"AB2-1","v":{"$error":"#N/A"}},{"$error":"#N/A"},{"$f":"IFERROR(RTD(\"cqg.rtd\", ,\"ContractData\",AC3, \"PerCentNetLastTrade\",, \"T\")/100,\"\")","v":""},{"$f":"IFERROR(RTD(\"cqg.rtd\", ,\"ContractData\",AC3, \"LongDescription\",, \"T\"),\"\")","v":""},"","",{"$error":"#N/A"}]
["S.US.ABNB",1,"S.US.ABNB",{"$f":"RTD(\"cqg.rtd\", ,\"ContractData\",C4, \"LongDescription\",, \"T\")","v":"Airbnb, Inc. Class A"},null,null,null,{"$f":"RTD(\"cqg.rtd\", ,\"ContractData\",C4, \"LastTradeToday\",, \"T\")","v":""},{"$f":"RTD(\"cqg.rtd\", ,\"ContractData\",C4, \"NetLastTradeToday\",, \"T\")","v":""},{"$f":"IFERROR(RTD(\"cqg.rtd\", ,\"ContractData\",C4, \"PerCentNetLastTrade\",, \"T\")/100,\"\")","v":""},{"$f":"RTD(\"cqg.rtd\", ,\"ContractData\", C4, \"T_CVol\",, \"T\")","v":4709},4,{"$f":"IFERROR(RANK($J4,$J$1:J$503)+COUNTIF($J$1:J4,J4)-1,\"\")","v":""},"S.US.ABNB",{"$error":"#N/A"},{"$f":"RTD(\"cqg.rtd\", ,\"ContractData\",O4, \"LongDescription\",, \"T\")","v":{"$error":"#N/A"}},{"$f":"IFERROR(RTD(\"cqg.rtd\", ,\"ContractData\",O4, \"PerCentNetLastTrade\",, \"T\")/100,\"\")","v":""},{"$error":"#N/A"},null,"",{"$error":"#N/A"},null,{"$f":"IFERROR(RTD(\"cqg.rtd\", ,\"ContractData\",O4, \"LongDescription\",, \"T\"),\"\")","v":""},null,null,"",null,{"$error":"#N/A"},{"$error":"#N/A"},{"$f":"IFERROR(RTD(\"cqg.rtd\", ,\"ContractData\",AC4, \"PerCentNetLastTrade\",, \"T\")/100,\"\")","v":""},{"$f":"IFERROR(RTD(\"cqg.rtd\", ,\"ContractData\",AC4, \"LongDescription\",, \"T\"),\"\")","v":""},"","",{"$error":"#N/A"}]
["S.US.ABT",1,"S.US.ABT",{"$f":"RTD(\"cqg.rtd\", ,\"ContractData\",C5, \"LongDescription\",, \"T\")","v":"Abbott Laboratories"},null,null,null,{"$f":"RTD(\"cqg.rtd\", ,\"ContractData\",C5, \"LastTradeToday\",, \"T\")","v":""},{"$f":"RTD(\"cqg.rtd\", ,\"ContractData\",C5, \"NetLastTradeToday\",, \"T\")","v":""},{"$f":"IFERROR(RTD(\"cqg.rtd\", ,\"ContractData\",C5, \"PerCentNetLastTrade\",, \"T\")/100,\"\")","v":""},{"$f":"RTD(\"cqg.rtd\", ,\"ContractData\", C5, \"T_CVol\",, \"T\")","v":1380},5,{"$f":"IFERROR(RANK($J5,$J$1:J$503)+COUNTIF($J$1:J5,J5)-1,\"\")","v":""},"S.US.ABT",{"$error":"#N/A"},{"$f":"RTD(\"cqg.rtd\", ,\"ContractData\",O5, \"LongDescription\",, \"T\")","v":{"$error":"#N/A"}},{"$f":"IFERROR(RTD(\"cqg.rtd\", ,\"ContractData\",O5, \"PerCentNetLastTrade\",, \"T\")/100,\"\")","v":""},{"$error":"#N/A"},null,"",{"$error":"#N/A"},null,{"$f":"IFERROR(RTD(\"cqg.rtd\", ,\"ContractData\",O5, \"LongDescription\",, \"T\"),\"\")","v":""},null,null,"",null,{"$error":"#N/A"},{"$error":"#N/A"},{"$f":"IFERROR(RTD(\"cqg.rtd\", ,\"ContractData\",AC5, \"PerCentNetLastTrade\",, \"T\")/100,\"\")","v":""},{"$f":"IFERROR(RTD(\"cqg.rtd\", ,\"ContractData\",AC5, \"LongDescription\",, \"T\"),\"\")","v":""},"","",{"$error":"#N/A"}]
["S.US.ACGL",1,"S.US.ACGL",{"$f":"RTD(\"cqg.rtd\", ,\"ContractData\",C6, \"LongDescription\",, \"T\")","v":"Arch Capital Grp Ltd"},null,null,null,{"$f":"RTD(\"cqg.rtd\", ,\"ContractData\",C6, \"LastTradeToday\",, \"T\")","v":""},{"$f":"RTD(\"cqg.rtd\", ,\"ContractData\",C6, \"NetLastTradeToday\",, \"T\")","v":""},{"$f":"IFERROR(RTD(\"cqg.rtd\", ,\"ContractData\",C6, \"PerCentNetLastTrade\",, \"T\")/100,\"\")","v":""},{"$f":"RTD(\"cqg.rtd\", ,\"ContractData\", C6, \"T_CVol\",, \"T\")","v":322},6,{"$f":"IFERROR(RANK($J6,$J$1:J$503)+COUNTIF($J$1:J6,J6)-1,\"\")","v":""},"S.US.ACGL",{"$error":"#N/A"},{"$f":"RTD(\"cqg.rtd\", ,\"ContractData\",O6, \"LongDescription\",, \"T\")","v":{"$error":"#N/A"}},{"$f":"IFERROR(RTD(\"cqg.rtd\", ,\"ContractData\",O6, \"PerCentNetLastTrade\",, \"T\")/100,\"\")","v":""},{"$error":"#N/A"},null,"",{"$error":"#N/A"},null,{"$f":"IFERROR(RTD(\"cqg.rtd\", ,\"ContractData\",O6, \"LongDescription\",, \"T\"),\"\")","v":""},null,null,"",null,{"$error":"#N/A"},{"$error":"#N/A"},{"$f":"IFERROR(RTD(\"cqg.rtd\", ,\"ContractData\",AC6, \"PerCentNetLastTrade\",, \"T\")/100,\"\")","v":""},{"$f":"IFERROR(RTD(\"cqg.rtd\", ,\"ContractData\",AC6, \"LongDescription\",, \"T\"),\"\")","v":""},"","",{"$error":"#N/A"}]
["S.US.ACN",1,"S.US.ACN",{"$f":"RTD(\"cqg.rtd\", ,\"ContractData\",C7, \"LongDescription\",, \"T\")","v":"Accenture PLC Ireland"},null,null,null,{"$f":"RTD(\"cqg.rtd\", ,\"ContractData\",C7, \"LastTradeToday\",, \"T\")","v":""},{"$f":"RTD(\"cqg.rtd\", ,\"ContractData\",C7, \"NetLastTradeToday\",, \"T\")","v":""},{"$f":"IFERROR(RTD(\"cqg.rtd\", ,\"ContractData\",C7, \"PerCentNetLastTrade\",, \"T\")/100,\"\")","v":""},{"$f":"RTD(\"cqg.rtd\", ,\"ContractData\", C7, \"T_CVol\",, \"T\")","v":1862},7,{"$f":"IFERROR(RANK($J7,$J$1:J$503)+COUNTIF($J$1:J7,J7)-1,\"\")","v":""},"S.US.ACN",{"$error":"#N/A"},{"$f":"RTD(\"cqg.rtd\", ,\"ContractData\",O7, \"LongDescription\",, \"T\")","v":{"$error":"#N/A"}},{"$f":"IFERROR(RTD(\"cqg.rtd\", ,\"ContractData\",O7, \"PerCentNetLastTrade\",, \"T\")/100,\"\")","v":""},{"$error":"#N/A"},null,"",{"$error":"#N/A"},null,{"$f":"IFERROR(RTD(\"cqg.rtd\", ,\"ContractData\",O7, \"LongDescription\",, \"T\"),\"\")","v":""},null,null,"",null,{"$error":"#N/A"},{"$error":"#N/A"},{"$f":"IFERROR(RTD(\"cqg.rtd\", ,\"ContractData\",AC7, \"PerCentNetLastTrade\",, \"T\")/100,\"\")","v":""},{"$f":"IFERROR(RTD(\"cqg.rtd\", ,\"ContractData\",AC7, \"LongDescription\",, \"T\"),\"\")","v":""},"","",{"$error":"#N/A"}]
["S.US.ADBE",1,"S.US.ADBE",{"$f":"RTD(\"cqg.rtd\", ,\"ContractData\",C8, \"LongDescription\",, \"T\")","v":"Adobe Inc."},null,null,null,{"$f":"RTD(\"cqg.rtd\", ,\"ContractData\",C8, \"LastTradeToday\",, \"T\")","v":""},{"$f":"RTD(\"cqg.rtd\", ,\"ContractData\",C8, \"NetLastTradeToday\",, \"T\")","v":""},{"$f":"IFERROR(RTD(\"cqg.rtd\", ,\"ContractData\",C8, \"PerCentNetLastTrade\",, \"T\")/100,\"\")","v":""},{"$f":"RTD(\"cqg.rtd\", ,\"ContractData\", C8, \"T_CVol\",, \"T\")","v":7709},8,{"$f":"IFERROR(RANK($J8,$J$1:J$503)+COUNTIF($J$1:J8,J8)-1,\"\")","v":""},"S.US.ADBE",{"$error":"#N/A"},{"$f":"RTD(\"cqg.rtd\", ,\"ContractData\",O8, \"LongDescription\",, \"T\")","v":{"$error":"#N/A"}},{"$f":"IFERROR(RTD(\"cqg.rtd\", ,\"ContractData\",O8, \"PerCentNetLastTrade\",, \"T\")/100,\"\")","v":""},{"$error":"#N/A"},null,"",{"$error":"#N/A"},null,{"$f":"IFERROR(RTD(\"cqg.rtd\", ,\"ContractData\",O8, \"LongDescription\",, \"T\"),\"\")","v":""},null,null,"",null,{"$error":"#N/A"},{"$error":"#N/A"},{"$f":"IFERROR(RTD(\"cqg.rtd\", ,\"ContractData\",AC8, \"PerCentNetLastTrade\",, \"T\")/100,\"\")","v":""},{"$f":"IFERROR(RTD(\"cqg.rtd\", ,\"ContractData\",AC8, \"LongDescription\",, \"T\"),\"\")","v":""},"","",{"$error":"#N/A"}]
["S.US.ADI",1,"S.US.ADI",{"$f":"RTD(\"cqg.rtd\", ,\"ContractData\",C9, \"LongDescription\",, \"T\")","v":"Analog Devices Inc"},null,null,null,{"$f":"RTD(\"cqg.rtd\", ,\"ContractData\",C9, \"LastTradeToday\",, \"T\")","v":""},{"$f":"RTD(\"cqg.rtd\", ,\"ContractData\",C9, \"NetLastTradeToday\",, \"T\")","v":""},{"$f":"IFERROR(RTD(\"cqg.rtd\", ,\"ContractData\",C9, \"PerCentNetLastTrade\",, \"T\")/100,\"\")","v":""},{"$f":"RTD(\"cqg.rtd\", ,\"ContractData\", C9, \"T_CVol\",, \"T\")","v":3420},9,{"$f":"IFERROR(RANK($J9,$J$1:J$503)+COUNTIF($J$1:J9,J9)-1,\"\")","v":""},"S.US.ADI",{"$error":"#N/A"},{"$f":"RTD(\"cqg.rtd\", ,\"ContractData\",O9, \"LongDescription\",, \"T\")","v":{"$error":"#N/A"}},{"$f":"IFERROR(RTD(\"cqg.rtd\", ,\"ContractData\",O9, \"PerCentNetLastTrade\",, \"T\")/100,\"\")","v":""},{"$error":"#N/A"},null,"",{"$error":"#N/A"},null,{"$f":"IFERROR(RTD(\"cqg.rtd\", ,\"ContractData\",O9, \"LongDescription\",, \"T\"),\"\")","v":""},null,null,"",null,{"$error":"#N/A"},{"$error":"#N/A"},{"$f":"IFERROR(RTD(\"cqg.rtd\", ,\"ContractData\",AC9, \"PerCentNetLastTrade\",, \"T\")/100,\"\")","v":""},{"$f":"IFERROR(RTD(\"cqg.rtd\", ,\"ContractData\",AC9, \"LongDescription\",, \"T\"),\"\")","v":""},"","",{"$error":"#N/A"}]
["S.US.ADM",1,"S.US.ADM",{"$f":"RTD(\"cqg.rtd\", ,\"ContractData\",C10, \"LongDescription\",, \"T\")","v":"Archer-Daniels-Midland"},null,null,null,{"$f":"RTD(\"cqg.rtd\", ,\"ContractData\",C10, \"LastTradeToday\",, \"T\")","v":""},{"$f":"RTD(\"cqg.rtd\", ,\"ContractData\",C10, \"NetLastTradeToday\",, \"T\")","v":""},{"$f":"IFERROR(RTD(\"cqg.rtd\", ,\"ContractData\",C10, \"PerCentNetLastTrade\",, \"T\")/100,\"\")","v":""},{"$f":"RTD(\"cqg.rtd\", ,\"ContractData\", C10, \"T_CVol\",, \"T\")","v":363},10,{"$f":"IFERROR(RANK($J10,$J$1:J$503)+COUNTIF($J$1:J10,J10)-1,\"\")","v":""},"S.US.ADM",{"$error":"#N/A"},{"$f":"RTD(\"cqg.rtd\", ,\"ContractData\",O10, \"LongDescription\",, \"T\")","v":{"$error":"#N/A"}},{"$f":"IFERROR(RTD(\"cqg.rtd\", ,\"ContractData\",O10, \"PerCentNetLastTrade\",, \"T\")/100,\"\")","v":""},{"$error":"#N/A"},null,"",{"$error":"#N/A"},null,{"$f":"IFERROR(RTD(\"cqg.rtd\", ,\"ContractData\",O10, \"LongDescription\",, \"T\"),\"\")","v":""},null,null,"",null,{"$error":"#N/A"},{"$error":"#N/A"},{"$f":"IFERROR(RTD(\"cqg.rtd\", ,\"ContractData\",AC10, \"PerCentNetLastTrade\",, \"T\")/100,\"\")","v":""},{"$f":"IFERROR(RTD(\"cqg.rtd\", ,\"ContractData\",AC10, \"LongDescription\",, \"T\"),\"\")","v":""},"","",{"$error":"#N/A"}]
["S.US.ADP",1,"S.US.ADP",{"$f":"RTD(\"cqg.rtd\", ,\"ContractData\",C11, \"LongDescription\",, \"T\")","v":"Auto Data Processing Inc"},null,null,null,{"$f":"RTD(\"cqg.rtd\", ,\"ContractData\",C11, \"LastTradeToday\",, \"T\")","v":""},{"$f":"RTD(\"cqg.rtd\", ,\"ContractData\",C11, \"NetLastTradeToday\",, \"T\")","v":""},{"$f":"IFERROR(RTD(\"cqg.rtd\", ,\"ContractData\",C11, \"PerCentNetLastTrade\",, \"T\")/100,\"\")","v":""},{"$f":"RTD(\"cqg.rtd\", ,\"ContractData\", C11, \"T_CVol\",, \"T\")","v":775},11,{"$f":"IFERROR(RANK($J11,$J$1:J$503)+COUNTIF($J$1:J11,J11)-1,\"\")","v":""},"S.US.ADP",{"$error":"#N/A"},{"$f":"RTD(\"cqg.rtd\", ,\"ContractData\",O11, \"LongDescription\",, \"T\")","v":{"$error":"#N/A"}},{"$f":"IFERROR(RTD(\"cqg.rtd\", ,\"ContractData\",O11, \"PerCentNetLastTrade\",, \"T\")/100,\"\")","v":""},{"$error":"#N/A"},null,"",{"$error":"#N/A"},null,{"$f":"IFERROR(RTD(\"cqg.rtd\", ,\"ContractData\",O11, \"LongDescription\",, \"T\"),\"\")","v":""},null,null,"",null,{"$error":"#N/A"},{"$error":"#N/A"},{"$f":"IFERROR(RTD(\"cqg.rtd\", ,\"ContractData\",AC11, \"PerCentNetLastTrade\",, \"T\")/100,\"\")","v":""},{"$f":"IFERROR(RTD(\"cqg.rtd\", ,\"ContractData\",AC11, \"LongDescription\",, \"T\"),\"\")","v":""},"","",{"$error":"#N/A"}]
["S.US.ADSK",1,"S.US.ADSK",{"$f":"RTD(\"cqg.rtd\", ,\"ContractData\",C12, \"LongDescription\",, \"T\")","v":"Autodesk Inc"},null,null,null,{"$f":"RTD(\"cqg.rtd\", ,\"ContractData\",C12, \"LastTradeToday\",, \"T\")","v":""},{"$f":"RTD(\"cqg.rtd\", ,\"ContractData\",C12, \"NetLastTradeToday\",, \"T\")","v":""},{"$f":"IFERROR(RTD(\"cqg.rtd\", ,\"ContractData\",C12, \"PerCentNetLastTrade\",, \"T\")/100,\"\")","v":""},{"$f":"RTD(\"cqg.rtd\", ,\"ContractData\", C12, \"T_CVol\",, \"T\")","v":271},12,{"$f":"IFERROR(RANK($J12,$J$1:J$503)+COUNTIF($J$1:J12,J12)-1,\"\")","v":""},"S.US.ADSK",{"$error":"#N/A"},{"$f":"RTD(\"cqg.rtd\", ,\"ContractData\",O12, \"LongDescription\",, \"T\")","v":{"$error":"#N/A"}},{"$f":"IFERROR(RTD(\"cqg.rtd\", ,\"ContractData\",O12, \"PerCentNetLastTrade\",, \"T\")/100,\"\")","v":""},{"$error":"#N/A"},null,"",{"$error":"#N/A"},null,{"$f":"IFERROR(RTD(\"cqg.rtd\", ,\"ContractData\",O12, \"LongDescription\",, \"T\"),\"\")","v":""},null,null,"",null,{"$error":"#N/A"},{"$error":"#N/A"},{"$f":"IFERROR(RTD(\"cqg.rtd\", ,\"ContractData\",AC12, \"PerCentNetLastTrade\",, \"T\")/100,\"\")","v":""},{"$f":"IFERROR(RTD(\"cqg.rtd\", ,\"ContractData\",AC12, \"LongDescription\",, \"T\"),\"\")","v":""},"","",{"$error":"#N/A"}]
["S.US.AEE",1,"S.US.AEE",{"$f":"RTD(\"cqg.rtd\", ,\"ContractData\",C13, \"LongDescription\",, \"T\")","v":"Ameren Corp"},null,null,null,{"$f":"RTD(\"cqg.rtd\", ,\"ContractData\",C13, \"LastTradeToday\",, \"T\")","v":""},{"$f":"RTD(\"cqg.rtd\", ,\"ContractData\",C13, \"NetLastTradeToday\",, \"T\")","v":""},{"$f":"IFERROR(RTD(\"cqg.rtd\", ,\"ContractData\",C13, \"PerCentNetLastTrade\",, \"T\")/100,\"\")","v":""},{"$f":"RTD(\"cqg.rtd\", ,\"ContractData\", C13, \"T_CVol\",, \"T\")","v":3},13,{"$f":"IFERROR(RANK($J13,$J$1:J$503)+COUNTIF($J$1:J13,J13)-1,\"\")","v":""},"S.US.AEE",{"$error":"#N/A"},{"$f":"RTD(\"cqg.rtd\", ,\"ContractData\",O13, \"LongDescription\",, \"T\")","v":{"$error":"#N/A"}},{"$f":"IFERROR(RTD(\"cqg.rtd\", ,\"ContractData\",O13, \"PerCentNetLastTrade\",, \"T\")/100,\"\")","v":""},{"$error":"#N/A"},null,"",{"$error":"#N/A"},null,{"$f":"IFERROR(RTD(\"cqg.rtd\", ,\"ContractData\",O13, \"LongDescription\",, \"T\"),\"\")","v":""},null,null,"",null,{"$error":"#N/A"},{"$error":"#N/A"},{"$f":"IFERROR(RTD(\"cqg.rtd\", ,\"ContractData\",AC13, \"PerCentNetLastTrade\",, \"T\")/100,\"\")","v":""},{"$f":"IFERROR(RTD(\"cqg.rtd\", ,\"ContractData\",AC13, \"LongDescription\",, \"T\"),\"\")","v":""},"","",{"$error":"#N/A"}]
["S.US.AEP",1,"S.US.AEP",{"$f":"RTD(\"cqg.rtd\", ,\"ContractData\",C14, \"LongDescription\",, \"T\")","v":"American Electric Power Company, Inc."},null,null,null,{"$f":"RTD(\"cqg.rtd\", ,\"ContractData\",C14, \"LastTradeToday\",, \"T\")","v":""},{"$f":"RTD(\"cqg.rtd\", ,\"ContractData\",C14, \"NetLastTradeToday\",, \"T\")","v":""},{"$f":"IFERROR(RTD(\"cqg.rtd\", ,\"ContractData\",C14, \"PerCentNetLastTrade\",, \"T\")/100,\"\")","v":""},{"$f":"RTD(\"cqg.rtd\", ,\"ContractData\", C14, \"T_CVol\",, \"T\")","v":1097},14,{"$f":"IFERROR(RANK($J14,$J$1:J$503)+COUNTIF($J$1:J14,J14)-1,\"\")","v":""},"S.US.AEP",{"$error":"#N/A"},{"$f":"RTD(\"cqg.rtd\", ,\"ContractData\",O14, \"LongDescription\",, \"T\")","v":{"$error":"#N/A"}},{"$f":"IFERROR(RTD(\"cqg.rtd\", ,\"ContractData\",O14, \"PerCentNetLastTrade\",, \"T\")/100,\"\")","v":""},{"$error":"#N/A"},null,"",{"$error":"#N/A"},null,{"$f":"IFERROR(RTD(\"cqg.rtd\", ,\"ContractData\",O14, \"LongDescription\",, \"T\"),\"\")","v":""},null,null,"",null,{"$error":"#N/A"},{"$error":"#N/A"},{"$f":"IFERROR(RTD(\"cqg.rtd\", ,\"ContractData\",AC14, \"PerCentNetLastTrade\",, \"T\")/100,\"\")","v":""},{"$f":"IFERROR(RTD(\"cqg.rtd\", ,\"ContractData\",AC14, \"LongDescription\",, \"T\"),\"\")","v":""},"","",{"$error":"#N/A"}]
["S.US.AES",1,"S.US.AES",{"$f":"RTD(\"cqg.rtd\", ,\"ContractData\",C15, \"LongDescription\",, \"T\")","v":"AES Corp"},null,null,null,{"$f":"RTD(\"cqg.rtd\", ,\"ContractData\",C15, \"LastTradeToday\",, \"T\")","v":""},{"$f":"RTD(\"cqg.rtd\", ,\"ContractData\",C15, \"NetLastTradeToday\",, \"T\")","v":""},{"$f":"IFERROR(RTD(\"cqg.rtd\", ,\"ContractData\",C15, \"PerCentNetLastTrade\",, \"T\")/100,\"\")","v":""},{"$f":"RTD(\"cqg.rtd\", ,\"ContractData\", C15, \"T_CVol\",, \"T\")","v":6184},15,{"$f":"IFERROR(RANK($J15,$J$1:J$503)+COUNTIF($J$1:J15,J15)-1,\"\")","v":""},"S.US.AES",{"$error":"#N/A"},{"$f":"RTD(\"cqg.rtd\", ,\"ContractData\",O15, \"LongDescription\",, \"T\")","v":{"$error":"#N/A"}},{"$f":"IFERROR(RTD(\"cqg.rtd\", ,\"ContractData\",O15, \"PerCentNetLastTrade\",, \"T\")/100,\"\")","v":""},{"$error":"#N/A"},null,"",{"$error":"#N/A"},null,{"$f":"IFERROR(RTD(\"cqg.rtd\", ,\"ContractData\",O15, \"LongDescription\",, \"T\"),\"\")","v":""},null,null,"",null,{"$error":"#N/A"},{"$error":"#N/A"},{"$f":"IFERROR(RTD(\"cqg.rtd\", ,\"ContractData\",AC15, \"PerCentNetLastTrade\",, \"T\")/100,\"\")","v":""},{"$f":"IFERROR(RTD(\"cqg.rtd\", ,\"ContractData\",AC15, \"LongDescription\",, \"T\"),\"\")","v":""},"","",{"$error":"#N/A"}]
["S.US.AFL",1,"S.US.AFL",{"$f":"RTD(\"cqg.rtd\", ,\"ContractData\",C16, \"LongDescription\",, \"T\")","v":"AFLAC Inc"},null,null,null,{"$f":"RTD(\"cqg.rtd\", ,\"ContractData\",C16, \"LastTradeToday\",, \"T\")","v":""},{"$f":"RTD(\"cqg.rtd\", ,\"ContractData\",C16, \"NetLastTradeToday\",, \"T\")","v":""},{"$f":"IFERROR(RTD(\"cqg.rtd\", ,\"ContractData\",C16, \"PerCentNetLastTrade\",, \"T\")/100,\"\")","v":""},{"$f":"RTD(\"cqg.rtd\", ,\"ContractData\", C16, \"T_CVol\",, \"T\")","v":92},16,{"$f":"IFERROR(RANK($J16,$J$1:J$503)+COUNTIF($J$1:J16,J16)-1,\"\")","v":""},"S.US.AFL",{"$error":"#N/A"}]
["S.US.AIG",1,"S.US.AIG",{"$f":"RTD(\"cqg.rtd\", ,\"ContractData\",C17, \"LongDescription\",, \"T\")","v":"American Intl Group Inc"},null,null,null,{"$f":"RTD(\"cqg.rtd\", ,\"ContractData\",C17, \"LastTradeToday\",, \"T\")","v":""},{"$f":"RTD(\"cqg.rtd\", ,\"ContractData\",C17, \"NetLastTradeToday\",, \"T\")","v":""},{"$f":"IFERROR(RTD(\"cqg.rtd\", ,\"ContractData\",C17, \"PerCentNetLastTrade\",, \"T\")/100,\"\")","v":""},{"$f":"RTD(\"cqg.rtd\", ,\"ContractData\", C17, \"T_CVol\",, \"T\")","v":290},17,{"$f":"IFERROR(RANK($J17,$J$1:J$503)+COUNTIF($J$1:J17,J17)-1,\"\")","v":""},"S.US.AIG",{"$error":"#N/A"}]
["S.US.AIZ",1,"S.US.AIZ",{"$f":"RTD(\"cqg.rtd\", ,\"ContractData\",C18, \"LongDescription\",, \"T\")","v":"Assurant Inc"},null,null,null,{"$f":"RTD(\"cqg.rtd\", ,\"ContractData\",C18, \"LastTradeToday\",, \"T\")","v":""},{"$f":"RTD(\"cqg.rtd\", ,\"ContractData\",C18, \"NetLastTradeToday\",, \"T\")","v":""},{"$f":"IFERROR(RTD(\"cqg.rtd\", ,\"ContractData\",C18, \"PerCentNetLastTrade\",, \"T\")/100,\"\")","v":""},{"$f":"RTD(\"cqg.rtd\", ,\"ContractData\", C18, \"T_CVol\",, \"T\")","v":4},18,{"$f":"IFERROR(RANK($J18,$J$1:J$503)+COUNTIF($J$1:J18,J18)-1,\"\")","v":""},"S.US.AIZ",{"$error":"#N/A"}]
["S.US.AJG",1,"S.US.AJG",{"$f":"RTD(\"cqg.rtd\", ,\"ContractData\",C19, \"LongDescription\",, \"T\")","v":"Arthur J Gallagher Co"},null,null,null,{"$f":"RTD(\"cqg.rtd\", ,\"ContractData\",C19, \"LastTradeToday\",, \"T\")","v":""},{"$f":"RTD(\"cqg.rtd\", ,\"ContractData\",C19, \"NetLastTradeToday\",, \"T\")","v":""},{"$f":"IFERROR(RTD(\"cqg.rtd\", ,\"ContractData\",C19, \"PerCentNetLastTrade\",, \"T\")/100,\"\")","v":""},{"$f":"RTD(\"cqg.rtd\", ,\"ContractData\", C19, \"T_CVol\",, \"T\")","v":9},19,{"$f":"IFERROR(RANK($J19,$J$1:J$503)+COUNTIF($J$1:J19,J19)-1,\"\")","v":""},"S.US.AJG",{"$error":"#N/A"}]
["S.US.AKAM",1,"S.US.AKAM",{"$f":"RTD(\"cqg.rtd\", ,\"ContractData\",C20, \"LongDescription\",, \"T\")","v":"Akamai Tech Inc"},null,null,null,{"$f":"RTD(\"cqg.rtd\", ,\"ContractData\",C20, \"LastTradeToday\",, \"T\")","v":""},{"$f":"RTD(\"cqg.rtd\", ,\"ContractData\",C20, \"NetLastTradeToday\",, \"T\")","v":""},{"$f":"IFERROR(RTD(\"cqg.rtd\", ,\"ContractData\",C20, \"PerCentNetLastTrade\",, \"T\")/100,\"\")","v":""},{"$f":"RTD(\"cqg.rtd\", ,\"ContractData\", C20, \"T_CVol\",, \"T\")","v":28579},20,{"$f":"IFERROR(RANK($J20,$J$1:J$503)+COUNTIF($J$1:J20,J20)-1,\"\")","v":""},"S.US.AKAM",{"$error":"#N/A"}]
["S.US.ALB",1,"S.US.ALB",{"$f":"RTD(\"cqg.rtd\", ,\"ContractData\",C21, \"LongDescription\",, \"T\")","v":"Albemarle Corporation"},null,null,null,{"$f":"RTD(\"cqg.rtd\", ,\"ContractData\",C21, \"LastTradeToday\",, \"T\")","v":""},{"$f":"RTD(\"cqg.rtd\", ,\"ContractData\",C21, \"NetLastTradeToday\",, \"T\")","v":""},{"$f":"IFERROR(RTD(\"cqg.rtd\", ,\"ContractData\",C21, \"PerCentNetLastTrade\",, \"T\")/100,\"\")","v":""},{"$f":"RTD(\"cqg.rtd\", ,\"ContractData\", C21, \"T_CVol\",, \"T\")","v":18314},21,{"$f":"IFERROR(RANK($J21,$J$1:J$503)+COUNTIF($J$1:J21,J21)-1,\"\")","v":""},"S.US.ALB",{"$error":"#N/A"}]
["S.US.ALGN",1,"S.US.ALGN",{"$f":"RTD(\"cqg.rtd\", ,\"ContractData\",C22, \"LongDescription\",, \"T\")","v":"Align Technology Inc"},null,null,null,{"$f":"RTD(\"cqg.rtd\", ,\"ContractData\",C22, \"LastTradeToday\",, \"T\")","v":""},{"$f":"RTD(\"cqg.rtd\", ,\"ContractData\",C22, \"NetLastTradeToday\",, \"T\")","v":""},{"$f":"IFERROR(RTD(\"cqg.rtd\", ,\"ContractData\",C22, \"PerCentNetLastTrade\",, \"T\")/100,\"\")","v":""},{"$f":"RTD(\"cqg.rtd\", ,\"ContractData\", C22, \"T_CVol\",, \"T\")","v":9573},22,{"$f":"IFERROR(RANK($J22,$J$1:J$503)+COUNTIF($J$1:J22,J22)-1,\"\")","v":""},"S.US.ALGN",{"$error":"#N/A"}]
["S.US.ALL",1,"S.US.ALL",{"$f":"RTD(\"cqg.rtd\", ,\"ContractData\",C23, \"LongDescription\",, \"T\")","v":"Allstate Corporation"},null,null,null,{"$f":"RTD(\"cqg.rtd\", ,\"ContractData\",C23, \"LastTradeToday\",, \"T\")","v":""},{"$f":"RTD(\"cqg.rtd\", ,\"ContractData\",C23, \"NetLastTradeToday\",, \"T\")","v":""},{"$f":"IFERROR(RTD(\"cqg.rtd\", ,\"ContractData\",C23, \"PerCentNetLastTrade\",, \"T\")/100,\"\")","v":""},{"$f":"RTD(\"cqg.rtd\", ,\"ContractData\", C23, \"T_CVol\",, \"T\")","v":176},23,{"$f":"IFERROR(RANK($J23,$J$1:J$503)+COUNTIF($J$1:J23,J23)-1,\"\")","v":""},"S.US.ALL",{"$error":"#N/A"}]
["S.US.ALLE",1,"S.US.ALLE",{"$f":"RTD(\"cqg.rtd\", ,\"ContractData\",C24, \"LongDescription\",, \"T\")","v":"Allegion plc"},null,null,null,{"$f":"RTD(\"cqg.rtd\", ,\"ContractData\",C24, \"LastTradeToday\",, \"T\")","v":""},{"$f":"RTD(\"cqg.rtd\", ,\"ContractData\",C24, \"NetLastTradeToday\",, \"T\")","v":""},{"$f":"IFERROR(RTD(\"cqg.rtd\", ,\"ContractData\",C24, \"PerCentNetLastTrade\",, \"T\")/100,\"\")","v":""},{"$f":"RTD(\"cqg.rtd\", ,\"ContractData\", C24, \"T_CVol\",, \"T\")","v":15},24,{"$f":"IFERROR(RANK($J24,$J$1:J$503)+COUNTIF($J$1:J24,J24)-1,\"\")","v":""},"S.US.ALLE",{"$error":"#N/A"}]
["S.US.AMAT",1,"S.US.AMAT",{"$f":"RTD(\"cqg.rtd\", ,\"ContractData\",C25, \"LongDescription\",, \"T\")","v":"Applied Materials Inc"},null,null,null,{"$f":"RTD(\"cqg.rtd\", ,\"ContractData\",C25, \"LastTradeToday\",, \"T\")","v":""},{"$f":"RTD(\"cqg.rtd\", ,\"ContractData\",C25, \"NetLastTradeToday\",, \"T\")","v":""},{"$f":"IFERROR(RTD(\"cqg.rtd\", ,\"ContractData\",C25, \"PerCentNetLastTrade\",, \"T\")/100,\"\")","v":""},{"$f":"RTD(\"cqg.rtd\", ,\"ContractData\", C25, \"T_CVol\",, \"T\")","v":4842},25,{"$f":"IFERROR(RANK($J25,$J$1:J$503)+COUNTIF($J$1:J25,J25)-1,\"\")","v":""},"S.US.AMAT",{"$error":"#N/A"}]
["S.US.AMCR",1,"S.US.AMCR",{"$f":"RTD(\"cqg.rtd\", ,\"ContractData\",C26, \"LongDescription\",, \"T\")","v":"Amcor PLC"},null,null,null,{"$f":"RTD(\"cqg.rtd\", ,\"ContractData\",C26, \"LastTradeToday\",, \"T\")","v":""},{"$f":"RTD(\"cqg.rtd\", ,\"ContractData\",C26, \"NetLastTradeToday\",, \"T\")","v":""},{"$f":"IFERROR(RTD(\"cqg.rtd\", ,\"ContractData\",C26, \"PerCentNetLastTrade\",, \"T\")/100,\"\")","v":""},{"$f":"RTD(\"cqg.rtd\", ,\"ContractData\", C26, \"T_CVol\",, \"T\")","v":24079},26,{"$f":"IFERROR(RANK($J26,$J$1:J$503)+COUNTIF($J$1:J26,J26)-1,\"\")","v":""},"S.US.AMCR",{"$error":"#N/A"}]
["S.US.AMD",1,"S.US.AMD",{"$f":"RTD(\"cqg.rtd\", ,\"ContractData\",C27, \"LongDescription\",, \"T\")","v":"Advanced Micro Devices"},null,null,null,{"$f":"RTD(\"cqg.rtd\", ,\"ContractData\",C27, \"LastTradeToday\",, \"T\")","v":""},{"$f":"RTD(\"cqg.rtd\", ,\"ContractData\",C27, \"NetLastTradeToday\",, \"T\")","v":""},{"$f":"IFERROR(RTD(\"cqg.rtd\", ,\"ContractData\",C27, \"PerCentNetLastTrade\",, \"T\")/100,\"\")","v":""},{"$f":"RTD(\"cqg.rtd\", ,\"ContractData\", C27, \"T_CVol\",, \"T\")","v":1270419},27,{"$f":"IFERROR(RANK($J27,$J$1:J$503)+COUNTIF($J$1:J27,J27)-1,\"\")","v":""},"S.US.AMD",{"$error":"#N/A"}]
["S.US.AME",1,"S.US.AME",{"$f":"RTD(\"cqg.rtd\", ,\"ContractData\",C28, \"LongDescription\",, \"T\")","v":"Ametek Inc New"},null,null,null,{"$f":"RTD(\"cqg.rtd\", ,\"ContractData\",C28, \"LastTradeToday\",, \"T\")","v":""},{"$f":"RTD(\"cqg.rtd\", ,\"ContractData\",C28, \"NetLastTradeToday\",, \"T\")","v":""},{"$f":"IFERROR(RTD(\"cqg.rtd\", ,\"ContractData\",C28, \"PerCentNetLastTrade\",, \"T\")/100,\"\")","v":""},{"$f":"RTD(\"cqg.rtd\", ,\"ContractData\", C28, \"T_CVol\",, \"T\")","v":65},28,{"$f":"IFERROR(RANK($J28,$J$1:J$503)+COUNTIF($J$1:J28,J28)-1,\"\")","v":""},"S.US.AME",{"$error":"#N/A"}]
["S.US.AMGN",1,"S.US.AMGN",{"$f":"RTD(\"cqg.rtd\", ,\"ContractData\",C29, \"LongDescription\",, \"T\")","v":"Amgen Inc"},null,null,null,{"$f":"RTD(\"cqg.rtd\", ,\"ContractData\",C29, \"LastTradeToday\",, \"T\")","v":""},{"$f":"RTD(\"cqg.rtd\", ,\"ContractData\",C29, \"NetLastTradeToday\",, \"T\")","v":""},{"$f":"IFERROR(RTD(\"cqg.rtd\", ,\"ContractData\",C29, \"PerCentNetLastTrade\",, \"T\")/100,\"\")","v":""},{"$f":"RTD(\"cqg.rtd\", ,\"ContractData\", C29, \"T_CVol\",, \"T\")","v":913},29,{"$f":"IFERROR(RANK($J29,$J$1:J$503)+COUNTIF($J$1:J29,J29)-1,\"\")","v":""},"S.US.AMGN",{"$error":"#N/A"}]
["S.US.AMP",1,"S.US.AMP",{"$f":"RTD(\"cqg.rtd\", ,\"ContractData\",C30, \"LongDescription\",, \"T\")","v":"Ameriprise Financial Inc"},null,null,null,{"$f":"RTD(\"cqg.rtd\", ,\"ContractData\",C30, \"LastTradeToday\",, \"T\")","v":""},{"$f":"RTD(\"cqg.rtd\", ,\"ContractData\",C30, \"NetLastTradeToday\",, \"T\")","v":""},{"$f":"IFERROR(RTD(\"cqg.rtd\", ,\"ContractData\",C30, \"PerCentNetLastTrade\",, \"T\")/100,\"\")","v":""},{"$f":"RTD(\"cqg.rtd\", ,\"ContractData\", C30, \"T_CVol\",, \"T\")","v":12},30,{"$f":"IFERROR(RANK($J30,$J$1:J$503)+COUNTIF($J$1:J30,J30)-1,\"\")","v":""},"S.US.AMP",{"$error":"#N/A"}]
["S.US.AMT",1,"S.US.AMT",{"$f":"RTD(\"cqg.rtd\", ,\"ContractData\",C31, \"LongDescription\",, \"T\")","v":"American Tower Corp ClA"},null,null,null,{"$f":"RTD(\"cqg.rtd\", ,\"ContractData\",C31, \"LastTradeToday\",, \"T\")","v":""},{"$f":"RTD(\"cqg.rtd\", ,\"ContractData\",C31, \"NetLastTradeToday\",, \"T\")","v":""},{"$f":"IFERROR(RTD(\"cqg.rtd\", ,\"ContractData\",C31, \"PerCentNetLastTrade\",, \"T\")/100,\"\")","v":""},{"$f":"RTD(\"cqg.rtd\", ,\"ContractData\", C31, \"T_CVol\",, \"T\")","v":707},31,{"$f":"IFERROR(RANK($J31,$J$1:J$503)+COUNTIF($J$1:J31,J31)-1,\"\")","v":""},"S.US.AMT",{"$error":"#N/A"}]
["S.US.AMZN",1,"S.US.AMZN",{"$f":"RTD(\"cqg.rtd\", ,\"ContractData\",C32, \"LongDescription\",, \"T\")","v":"Amazon.com Inc"},null,null,null,{"$f":"RTD(\"cqg.rtd\", ,\"ContractData\",C32, \"LastTradeToday\",, \"T\")","v":""},{"$f":"RTD(\"cqg.rtd\", ,\"ContractData\",C32, \"NetLastTradeToday\",, \"T\")","v":""},{"$f":"IFERROR(RTD(\"cqg.rtd\", ,\"ContractData\",C32, \"PerCentNetLastTrade\",, \"T\")/100,\"\")","v":""},{"$f":"RTD(\"cqg.rtd\", ,\"ContractData\", C32, \"T_CVol\",, \"T\")","v":1300043},32,{"$f":"IFERROR(RANK($J32,$J$1:J$503)+COUNTIF($J$1:J32,J32)-1,\"\")","v":""},"S.US.AMZN",{"$error":"#N/A"}]
["S.US.ANET",1,"S.US.ANET",{"$f":"RTD(\"cqg.rtd\", ,\"ContractData\",C33, \"LongDescription\",, \"T\")","v":"Arista Networks, Inc."},null,null,null,{"$f":"RTD(\"cqg.rtd\", ,\"ContractData\",C33, \"LastTradeToday\",, \"T\")","v":""},{"$f":"RTD(\"cqg.rtd\", ,\"ContractData\",C33, \"NetLastTradeToday\",, \"T\")","v":""},{"$f":"IFERROR(RTD(\"cqg.rtd\", ,\"ContractData\",C33, \"PerCentNetLastTrade\",, \"T\")/100,\"\")","v":""},{"$f":"RTD(\"cqg.rtd\", ,\"ContractData\", C33, \"T_CVol\",, \"T\")","v":40630},33,{"$f":"IFERROR(RANK($J33,$J$1:J$503)+COUNTIF($J$1:J33,J33)-1,\"\")","v":""},"S.US.ANET",{"$error":"#N/A"}]
["S.US.AON",1,"S.US.AON",{"$f":"RTD(\"cqg.rtd\", ,\"ContractData\",C34, \"LongDescription\",, \"T\")","v":"AON Corporation"},null,null,null,{"$f":"RTD(\"cqg.rtd\", ,\"ContractData\",C34, \"LastTradeToday\",, \"T\")","v":""},{"$f":"RTD(\"cqg.rtd\", ,\"ContractData\",C34, \"NetLastTradeToday\",, \"T\")","v":""},{"$f":"IFERROR(RTD(\"cqg.rtd\", ,\"ContractData\",C34, \"PerCentNetLastTrade\",, \"T\")/100,\"\")","v":""},{"$f":"RTD(\"cqg.rtd\", ,\"ContractData\", C34, \"T_CVol\",, \"T\")","v":104},34,{"$f":"IFERROR(RANK($J34,$J$1:J$503)+COUNTIF($J$1:J34,J34)-1,\"\")","v":""},"S.US.AON",{"$error":"#N/A"}]
["S.US.AOS",1,"S.US.AOS",{"$f":"RTD(\"cqg.rtd\", ,\"ContractData\",C35, \"LongDescription\",, \"T\")","v":"AO Smith Corp"},null,null,null,{"$f":"RTD(\"cqg.rtd\", ,\"ContractData\",C35, \"LastTradeToday\",, \"T\")","v":""},{"$f":"RTD(\"cqg.rtd\", ,\"ContractData\",C35, \"NetLastTradeToday\",, \"T\")","v":""},{"$f":"IFERROR(RTD(\"cqg.rtd\", ,\"ContractData\",C35, \"PerCentNetLastTrade\",, \"T\")/100,\"\")","v":""},{"$f":"RTD(\"cqg.rtd\", ,\"ContractData\", C35, \"T_CVol\",, \"T\")","v":244},35,{"$f":"IFERROR(RANK($J35,$J$1:J$503)+COUNTIF($J$1:J35,J35)-1,\"\")","v":""},"S.US.AOS",{"$error":"#N/A"}]
["S.US.APA",1,"S.US.APA",{"$f":"RTD(\"cqg.rtd\", ,\"ContractData\",C36, \"LongDescription\",, \"T\")","v":"APA Corporation"},null,null,null,{"$f":"RTD(\"cqg.rtd\", ,\"ContractData\",C36, \"LastTradeToday\",, \"T\")","v":""},{"$f":"RTD(\"cqg.rtd\", ,\"ContractData\",C36, \"NetLastTradeToday\",, \"T\")","v":""},{"$f":"IFERROR(RTD(\"cqg.rtd\", ,\"ContractData\",C36, \"PerCentNetLastTrade\",, \"T\")/100,\"\")","v":""},{"$f":"RTD(\"cqg.rtd\", ,\"ContractData\", C36, \"T_CVol\",, \"T\")","v":9394},36,{"$f":"IFERROR(RANK($J36,$J$1:J$503)+COUNTIF($J$1:J36,J36)-1,\"\")","v":""},"S.US.APA",{"$error":"#N/A"}]
["S.US.APD",1,"S.US.APD",{"$f":"RTD(\"cqg.rtd\", ,\"ContractData\",C37, \"LongDescription\",, \"T\")","v":"Air Products & Chems Inc"},null,null,null,{"$f":"RTD(\"cqg.rtd\", ,\"ContractData\",C37, \"LastTradeToday\",, \"T\")","v":""},{"$f":"RTD(\"cqg.rtd\", ,\"ContractData\",C37, \"NetLastTradeToday\",, \"T\")","v":""},{"$f":"IFERROR(RTD(\"cqg.rtd\", ,\"ContractData\",C37, \"PerCentNetLastTrade\",, \"T\")/100,\"\")","v":""},{"$f":"RTD(\"cqg.rtd\", ,\"ContractData\", C37, \"T_CVol\",, \"T\")","v":69},37,{"$f":"IFERROR(RANK($J37,$J$1:J$503)+COUNTIF($J$1:J37,J37)-1,\"\")","v":""},"S.US.APD",{"$error":"#N/A"}]
["S.US.APH",1,"S.US.APH",{"$f":"RTD(\"cqg.rtd\", ,\"ContractData\",C38, \"LongDescription\",, \"T\")","v":"Amphenol"},null,null,null,{"$f":"RTD(\"cqg.rtd\", ,\"ContractData\",C38, \"LastTradeToday\",, \"T\")","v":""},{"$f":"RTD(\"cqg.rtd\", ,\"ContractData\",C38, \"NetLastTradeToday\",, \"T\")","v":""},{"$f":"IFERROR(RTD(\"cqg.rtd\", ,\"ContractData\",C38, \"PerCentNetLastTrade\",, \"T\")/100,\"\")","v":""},{"$f":"RTD(\"cqg.rtd\", ,\"ContractData\", C38, \"T_CVol\",, \"T\")","v":39250},38,{"$f":"IFERROR(RANK($J38,$J$1:J$503)+COUNTIF($J$1:J38,J38)-1,\"\")","v":""},"S.US.APH",{"$error":"#N/A"}]
["S.US.APO",1,"S.US.APO",{"$f":"RTD(\"cqg.rtd\", ,\"ContractData\",C39, \"LongDescription\",, \"T\")","v":"Apollo Global Management, LLC"},null,null,null,{"$f":"RTD(\"cqg.rtd\", ,\"ContractData\",C39, \"LastTradeToday\",, \"T\")","v":""},{"$f":"RTD(\"cqg.rtd\", ,\"ContractData\",C39, \"NetLastTradeToday\",, \"T\")","v":""},{"$f":"IFERROR(RTD(\"cqg.rtd\", ,\"ContractData\",C39, \"PerCentNetLastTrade\",, \"T\")/100,\"\")","v":""},{"$f":"RTD(\"cqg.rtd\", ,\"ContractData\", C39, \"T_CVol\",, \"T\")","v":392},39,{"$f":"IFERROR(RANK($J39,$J$1:J$503)+COUNTIF($J$1:J39,J39)-1,\"\")","v":""},"S.US.APO",{"$error":"#N/A"}]
["S.US.APTV",1,"S.US.APTV",{"$f":"RTD(\"cqg.rtd\", ,\"ContractData\",C40, \"LongDescription\",, \"T\")","v":"Aptiv PLC"},null,null,null,{"$f":"RTD(\"cqg.rtd\", ,\"ContractData\",C40, \"LastTradeToday\",, \"T\")","v":""},{"$f":"RTD(\"cqg.rtd\", ,\"ContractData\",C40, \"NetLastTradeToday\",, \"T\")","v":""},{"$f":"IFERROR(RTD(\"cqg.rtd\", ,\"ContractData\",C40, \"PerCentNetLastTrade\",, \"T\")/100,\"\")","v":""},{"$f":"RTD(\"cqg.rtd\", ,\"ContractData\", C40, \"T_CVol\",, \"T\")","v":155},40,{"$f":"IFERROR(RANK($J40,$J$1:J$503)+COUNTIF($J$1:J40,J40)-1,\"\")","v":""},"S.US.APTV",{"$error":"#N/A"}]
["S.US.ARE",1,"S.US.ARE",{"$f":"RTD(\"cqg.rtd\", ,\"ContractData\",C41, \"LongDescription\",, \"T\")","v":"Alexandria Real Estate Equities Inc"},null,null,null,{"$f":"RTD(\"cqg.rtd\", ,\"ContractData\",C41, \"LastTradeToday\",, \"T\")","v":""},{"$f":"RTD(\"cqg.rtd\", ,\"ContractData\",C41, \"NetLastTradeToday\",, \"T\")","v":""},{"$f":"IFERROR(RTD(\"cqg.rtd\", ,\"ContractData\",C41, \"PerCentNetLastTrade\",, \"T\")/100,\"\")","v":""},{"$f":"RTD(\"cqg.rtd\", ,\"ContractData\", C41, \"T_CVol\",, \"T\")","v":2446},41,{"$f":"IFERROR(RANK($J41,$J$1:J$503)+COUNTIF($J$1:J41,J41)-1,\"\")","v":""},"S.US.ARE",{"$error":"#N/A"}]
["S.US.ATO",1,"S.US.ATO",{"$f":"RTD(\"cqg.rtd\", ,\"ContractData\",C42, \"LongDescription\",, \"T\")","v":"Atmos Energy Corp"},null,null,null,{"$f":"RTD(\"cqg.rtd\", ,\"ContractData\",C42, \"LastTradeToday\",, \"T\")","v":""},{"$f":"RTD(\"cqg.rtd\", ,\"ContractData\",C42, \"NetLastTradeToday\",, \"T\")","v":""},{"$f":"IFERROR(RTD(\"cqg.rtd\", ,\"ContractData\",C42, \"PerCentNetLastTrade\",, \"T\")/100,\"\")","v":""},{"$f":"RTD(\"cqg.rtd\", ,\"ContractData\", C42, \"T_CVol\",, \"T\")","v":55},42,{"$f":"IFERROR(RANK($J42,$J$1:J$503)+COUNTIF($J$1:J42,J42)-1,\"\")","v":""},"S.US.ATO",{"$error":"#N/A"}]
["S.US.AVB",1,"S.US.AVB",{"$f":"RTD(\"cqg.rtd\", ,\"ContractData\",C43, \"LongDescription\",, \"T\")","v":"AvalonBay Communities, Inc."},null,null,null,{"$f":"RTD(\"cqg.rtd\", ,\"ContractData\",C43, \"LastTradeToday\",, \"T\")","v":""},{"$f":"RTD(\"cqg.rtd\", ,\"ContractData\",C43, \"NetLastTradeToday\",, \"T\")","v":""},{"$f":"IFERROR(RTD(\"cqg.rtd\", ,\"ContractData\",C43, \"PerCentNetLastTrade\",, \"T\")/100,\"\")","v":""},{"$f":"RTD(\"cqg.rtd\", ,\"ContractData\", C43, \"T_CVol\",, \"T\")","v":260},43,{"$f":"IFERROR(RANK($J43,$J$1:J$503)+COUNTIF($J$1:J43,J43)-1,\"\")","v":""},"S.US.AVB",{"$error":"#N/A"}]
["S.US.AVGO",1,"S.US.AVGO",{"$f":"RTD(\"cqg.rtd\", ,\"ContractData\",C44, \"LongDescription\",, \"T\")","v":"Broadcom Inc."},null,null,null,{"$f":"RTD(\"cqg.rtd\", ,\"ContractData\",C44, \"LastTradeToday\",, \"T\")","v":""},{"$f":"RTD(\"cqg.rtd\", ,\"ContractData\",C44, \"NetLastTradeToday\",, \"T\")","v":""},{"$f":"IFERROR(RTD(\"cqg.rtd\", ,\"ContractData\",C44, \"PerCentNetLastTrade\",, \"T\")/100,\"\")","v":""},{"$f":"RTD(\"cqg.rtd\", ,\"ContractData\", C44, \"T_CVol\",, \"T\")","v":132270},44,{"$f":"IFERROR(RANK($J44,$J$1:J$503)+COUNTIF($J$1:J44,J44)-1,\"\")","v":""},"S.US.AVGO",{"$error":"#N/A"}]
["S.US.AVY",1,"S.US.AVY",{"$f":"RTD(\"cqg.rtd\", ,\"ContractData\",C45, \"LongDescription\",, \"T\")","v":"Avery Dennison Corp"},null,null,null,{"$f":"RTD(\"cqg.rtd\", ,\"ContractData\",C45, \"LastTradeToday\",, \"T\")","v":""},{"$f":"RTD(\"cqg.rtd\", ,\"ContractData\",C45, \"NetLastTradeToday\",, \"T\")","v":""},{"$f":"IFERROR(RTD(\"cqg.rtd\", ,\"ContractData\",C45, \"PerCentNetLastTrade\",, \"T\")/100,\"\")","v":""},{"$f":"RTD(\"cqg.rtd\", ,\"ContractData\", C45, \"T_CVol\",, \"T\")","v":7},45,{"$f":"IFERROR(RANK($J45,$J$1:J$503)+COUNTIF($J$1:J45,J45)-1,\"\")","v":""},"S.US.AVY",{"$error":"#N/A"}]
["S.US.AWK",1,"S.US.AWK",{"$f":"RTD(\"cqg.rtd\", ,\"ContractData\",C46, \"LongDescription\",, \"T\")","v":"American Water Works"},null,null,null,{"$f":"RTD(\"cqg.rtd\", ,\"ContractData\",C46, \"LastTradeToday\",, \"T\")","v":""},{"$f":"RTD(\"cqg.rtd\", ,\"ContractData\",C46, \"NetLastTradeToday\",, \"T\")","v":""},{"$f":"IFERROR(RTD(\"cqg.rtd\", ,\"ContractData\",C46, \"PerCentNetLastTrade\",, \"T\")/100,\"\")","v":""},{"$f":"RTD(\"cqg.rtd\", ,\"ContractData\", C46, \"T_CVol\",, \"T\")","v":3181},46,{"$f":"IFERROR(RANK($J46,$J$1:J$503)+COUNTIF($J$1:J46,J46)-1,\"\")","v":""},"S.US.AWK",{"$error":"#N/A"}]
["S.US.AXON",1,"S.US.AXON",{"$f":"RTD(\"cqg.rtd\", ,\"ContractData\",C47, \"LongDescription\",, \"T\")","v":"Axon Enterprise, Inc."},null,null,null,{"$f":"RTD(\"cqg.rtd\", ,\"ContractData\",C47, \"LastTradeToday\",, \"T\")","v":""},{"$f":"RTD(\"cqg.rtd\", ,\"ContractData\",C47, \"NetLastTradeToday\",, \"T\")","v":""},{"$f":"IFERROR(RTD(\"cqg.rtd\", ,\"ContractData\",C47, \"PerCentNetLastTrade\",, \"T\")/100,\"\")","v":""},{"$f":"RTD(\"cqg.rtd\", ,\"ContractData\", C47, \"T_CVol\",, \"T\")","v":3060},47,{"$f":"IFERROR(RANK($J47,$J$1:J$503)+COUNTIF($J$1:J47,J47)-1,\"\")","v":""},"S.US.AXON",{"$error":"#N/A"}]
["S.US.AXP",1,"S.US.AXP",{"$f":"RTD(\"cqg.rtd\", ,\"ContractData\",C48, \"LongDescription\",, \"T\")","v":"American Express Co"},null,null,null,{"$f":"RTD(\"cqg.rtd\", ,\"ContractData\",C48, \"LastTradeToday\",, \"T\")","v":""},{"$f":"RTD(\"cqg.rtd\", ,\"ContractData\",C48, \"NetLastTradeToday\",, \"T\")","v":""},{"$f":"IFERROR(RTD(\"cqg.rtd\", ,\"ContractData\",C48, \"PerCentNetLastTrade\",, \"T\")/100,\"\")","v":""},{"$f":"RTD(\"cqg.rtd\", ,\"ContractData\", C48, \"T_CVol\",, \"T\")","v":2447},48,{"$f":"IFERROR(RANK($J48,$J$1:J$503)+COUNTIF($J$1:J48,J48)-1,\"\")","v":""},"S.US.AXP",{"$error":"#N/A"}]
["S.US.AZO",1,"S.US.AZO",{"$f":"RTD(\"cqg.rtd\", ,\"ContractData\",C49, \"LongDescription\",, \"T\")","v":"Autozone Inc"},null,null,null,{"$f":"RTD(\"cqg.rtd\", ,\"ContractData\",C49, \"LastTradeToday\",, \"T\")","v":""},{"$f":"RTD(\"cqg.rtd\", ,\"ContractData\",C49, \"NetLastTradeToday\",, \"T\")","v":""},{"$f":"IFERROR(RTD(\"cqg.rtd\", ,\"ContractData\",C49, \"PerCentNetLastTrade\",, \"T\")/100,\"\")","v":""},{"$f":"RTD(\"cqg.rtd\", ,\"ContractData\", C49, \"T_CVol\",, \"T\")","v":58},49,{"$f":"IFERROR(RANK($J49,$J$1:J$503)+COUNTIF($J$1:J49,J49)-1,\"\")","v":""},"S.US.AZO",{"$error":"#N/A"}]
["S.US.BA",1,"S.US.BA",{"$f":"RTD(\"cqg.rtd\", ,\"ContractData\",C50, \"LongDescription\",, \"T\")","v":"Boeing Company"},null,null,null,{"$f":"RTD(\"cqg.rtd\", ,\"ContractData\",C50, \"LastTradeToday\",, \"T\")","v":""},{"$f":"RTD(\"cqg.rtd\", ,\"ContractData\",C50, \"NetLastTradeToday\",, \"T\")","v":""},{"$f":"IFERROR(RTD(\"cqg.rtd\", ,\"ContractData\",C50, \"PerCentNetLastTrade\",, \"T\")/100,\"\")","v":""},{"$f":"RTD(\"cqg.rtd\", ,\"ContractData\", C50, \"T_CVol\",, \"T\")","v":38060},50,{"$f":"IFERROR(RANK($J50,$J$1:J$503)+COUNTIF($J$1:J50,J50)-1,\"\")","v":""},"S.US.BA",{"$error":"#N/A"}]
["S.US.BAC",1,"S.US.BAC",{"$f":"RTD(\"cqg.rtd\", ,\"ContractData\",C51, \"LongDescription\",, \"T\")","v":"Bank of America Corp"},null,null,null,{"$f":"RTD(\"cqg.rtd\", ,\"ContractData\",C51, \"LastTradeToday\",, \"T\")","v":""},{"$f":"RTD(\"cqg.rtd\", ,\"ContractData\",C51, \"NetLastTradeToday\",, \"T\")","v":""},{"$f":"IFERROR(RTD(\"cqg.rtd\", ,\"ContractData\",C51, \"PerCentNetLastTrade\",, \"T\")/100,\"\")","v":""},{"$f":"RTD(\"cqg.rtd\", ,\"ContractData\", C51, \"T_CVol\",, \"T\")","v":41718},51,{"$f":"IFERROR(RANK($J51,$J$1:J$503)+COUNTIF($J$1:J51,J51)-1,\"\")","v":""},"S.US.BAC",{"$error":"#N/A"}]
["S.US.BALL",1,"S.US.BALL",{"$f":"RTD(\"cqg.rtd\", ,\"ContractData\",C52, \"LongDescription\",, \"T\")","v":"Ball Corp"},null,null,null,{"$f":"RTD(\"cqg.rtd\", ,\"ContractData\",C52, \"LastTradeToday\",, \"T\")","v":""},{"$f":"RTD(\"cqg.rtd\", ,\"ContractData\",C52, \"NetLastTradeToday\",, \"T\")","v":""},{"$f":"IFERROR(RTD(\"cqg.rtd\", ,\"ContractData\",C52, \"PerCentNetLastTrade\",, \"T\")/100,\"\")","v":""},{"$f":"RTD(\"cqg.rtd\", ,\"ContractData\", C52, \"T_CVol\",, \"T\")","v":75},52,{"$f":"IFERROR(RANK($J52,$J$1:J$503)+COUNTIF($J$1:J52,J52)-1,\"\")","v":""},"S.US.BALL",{"$error":"#N/A"}]
["S.US.BAX",1,"S.US.BAX",{"$f":"RTD(\"cqg.rtd\", ,\"ContractData\",C53, \"LongDescription\",, \"T\")","v":"Baxter International Inc"},null,null,null,{"$f":"RTD(\"cqg.rtd\", ,\"ContractData\",C53, \"LastTradeToday\",, \"T\")","v":""},{"$f":"RTD(\"cqg.rtd\", ,\"ContractData\",C53, \"NetLastTradeToday\",, \"T\")","v":""},{"$f":"IFERROR(RTD(\"cqg.rtd\", ,\"ContractData\",C53, \"PerCentNetLastTrade\",, \"T\")/100,\"\")","v":""},{"$f":"RTD(\"cqg.rtd\", ,\"ContractData\", C53, \"T_CVol\",, \"T\")","v":8493},53,{"$f":"IFERROR(RANK($J53,$J$1:J$503)+COUNTIF($J$1:J53,J53)-1,\"\")","v":""},"S.US.BAX",{"$error":"#N/A"}]
["S.US.BBY",1,"S.US.BBY",{"$f":"RTD(\"cqg.rtd\", ,\"ContractData\",C54, \"LongDescription\",, \"T\")","v":"Best Buy Co Inc"},null,null,null,{"$f":"RTD(\"cqg.rtd\", ,\"ContractData\",C54, \"LastTradeToday\",, \"T\")","v":""},{"$f":"RTD(\"cqg.rtd\", ,\"ContractData\",C54, \"NetLastTradeToday\",, \"T\")","v":""},{"$f":"IFERROR(RTD(\"cqg.rtd\", ,\"ContractData\",C54, \"PerCentNetLastTrade\",, \"T\")/100,\"\")","v":""},{"$f":"RTD(\"cqg.rtd\", ,\"ContractData\", C54, \"T_CVol\",, \"T\")","v":126},54,{"$f":"IFERROR(RANK($J54,$J$1:J$503)+COUNTIF($J$1:J54,J54)-1,\"\")","v":""},"S.US.BBY",{"$error":"#N/A"}]
["S.US.BDX",1,"S.US.BDX",{"$f":"RTD(\"cqg.rtd\", ,\"ContractData\",C55, \"LongDescription\",, \"T\")","v":"Becton Dickinson & Co"},null,null,null,{"$f":"RTD(\"cqg.rtd\", ,\"ContractData\",C55, \"LastTradeToday\",, \"T\")","v":""},{"$f":"RTD(\"cqg.rtd\", ,\"ContractData\",C55, \"NetLastTradeToday\",, \"T\")","v":""},{"$f":"IFERROR(RTD(\"cqg.rtd\", ,\"ContractData\",C55, \"PerCentNetLastTrade\",, \"T\")/100,\"\")","v":""},{"$f":"RTD(\"cqg.rtd\", ,\"ContractData\", C55, \"T_CVol\",, \"T\")","v":435},55,{"$f":"IFERROR(RANK($J55,$J$1:J$503)+COUNTIF($J$1:J55,J55)-1,\"\")","v":""},"S.US.BDX",{"$error":"#N/A"}]
["S.US.BEN",1,"S.US.BEN",{"$f":"RTD(\"cqg.rtd\", ,\"ContractData\",C56, \"LongDescription\",, \"T\")","v":"Franklin Resources Inc"},null,null,null,{"$f":"RTD(\"cqg.rtd\", ,\"ContractData\",C56, \"LastTradeToday\",, \"T\")","v":""},{"$f":"RTD(\"cqg.rtd\", ,\"ContractData\",C56, \"NetLastTradeToday\",, \"T\")","v":""},{"$f":"IFERROR(RTD(\"cqg.rtd\", ,\"ContractData\",C56, \"PerCentNetLastTrade\",, \"T\")/100,\"\")","v":""},{"$f":"RTD(\"cqg.rtd\", ,\"ContractData\", C56, \"T_CVol\",, \"T\")","v":979},56,{"$f":"IFERROR(RANK($J56,$J$1:J$503)+COUNTIF($J$1:J56,J56)-1,\"\")","v":""},"S.US.BEN",{"$error":"#N/A"}]
["S.US.BFB",1,"S.US.BFB",{"$f":"RTD(\"cqg.rtd\", ,\"ContractData\",C57, \"LongDescription\",, \"T\")","v":"Brown-Forman Corporation ClsB"},null,null,null,{"$f":"RTD(\"cqg.rtd\", ,\"ContractData\",C57, \"LastTradeToday\",, \"T\")","v":""},{"$f":"RTD(\"cqg.rtd\", ,\"ContractData\",C57, \"NetLastTradeToday\",, \"T\")","v":""},{"$f":"IFERROR(RTD(\"cqg.rtd\", ,\"ContractData\",C57, \"PerCentNetLastTrade\",, \"T\")/100,\"\")","v":""},{"$f":"RTD(\"cqg.rtd\", ,\"ContractData\", C57, \"T_CVol\",, \"T\")","v":593},57,{"$f":"IFERROR(RANK($J57,$J$1:J$503)+COUNTIF($J$1:J57,J57)-1,\"\")","v":""},"S.US.BFB",{"$error":"#N/A"}]
["S.US.BG",1,"S.US.BG",{"$f":"RTD(\"cqg.rtd\", ,\"ContractData\",C58, \"LongDescription\",, \"T\")","v":"Bunge Limited"},null,null,null,{"$f":"RTD(\"cqg.rtd\", ,\"ContractData\",C58, \"LastTradeToday\",, \"T\")","v":""},{"$f":"RTD(\"cqg.rtd\", ,\"ContractData\",C58, \"NetLastTradeToday\",, \"T\")","v":""},{"$f":"IFERROR(RTD(\"cqg.rtd\", ,\"ContractData\",C58, \"PerCentNetLastTrade\",, \"T\")/100,\"\")","v":""},{"$f":"RTD(\"cqg.rtd\", ,\"ContractData\", C58, \"T_CVol\",, \"T\")","v":63},58,{"$f":"IFERROR(RANK($J58,$J$1:J$503)+COUNTIF($J$1:J58,J58)-1,\"\")","v":""},"S.US.BG",{"$error":"#N/A"}]
["S.US.BIIB",1,"S.US.BIIB",{"$f":"RTD(\"cqg.rtd\", ,\"ContractData\",C59, \"LongDescription\",, \"T\")","v":"Biogen Inc."},null,null,null,{"$f":"RTD(\"cqg.rtd\", ,\"ContractData\",C59, \"LastTradeToday\",, \"T\")","v":""},{"$f":"RTD(\"cqg.rtd\", ,\"ContractData\",C59, \"NetLastTradeToday\",, \"T\")","v":""},{"$f":"IFERROR(RTD(\"cqg.rtd\", ,\"ContractData\",C59, \"PerCentNetLastTrade\",, \"T\")/100,\"\")","v":""},{"$f":"RTD(\"cqg.rtd\", ,\"ContractData\", C59, \"T_CVol\",, \"T\")","v":815},59,{"$f":"IFERROR(RANK($J59,$J$1:J$503)+COUNTIF($J$1:J59,J59)-1,\"\")","v":""},"S.US.BIIB",{"$error":"#N/A"}]
["S.US.BK",1,"S.US.BK",{"$f":"RTD(\"cqg.rtd\", ,\"ContractData\",C60, \"LongDescription\",, \"T\")","v":"Bank of New York Co Inc"},null,null,null,{"$f":"RTD(\"cqg.rtd\", ,\"ContractData\",C60, \"LastTradeToday\",, \"T\")","v":""},{"$f":"RTD(\"cqg.rtd\", ,\"ContractData\",C60, \"NetLastTradeToday\",, \"T\")","v":""},{"$f":"IFERROR(RTD(\"cqg.rtd\", ,\"ContractData\",C60, \"PerCentNetLastTrade\",, \"T\")/100,\"\")","v":""},{"$f":"RTD(\"cqg.rtd\", ,\"ContractData\", C60, \"T_CVol\",, \"T\")","v":1396},60,{"$f":"IFERROR(RANK($J60,$J$1:J$503)+COUNTIF($J$1:J60,J60)-1,\"\")","v":""},"S.US.BK",{"$error":"#N/A"}]
["S.US.BKNG",1,"S.US.BKNG",{"$f":"RTD(\"cqg.rtd\", ,\"ContractData\",C61, \"LongDescription\",, \"T\")","v":"Booking Holdings Inc."},null,null,null,{"$f":"RTD(\"cqg.rtd\", ,\"ContractData\",C61, \"LastTradeToday\",, \"T\")","v":""},{"$f":"RTD(\"cqg.rtd\", ,\"ContractData\",C61, \"NetLastTradeToday\",, \"T\")","v":""},{"$f":"IFERROR(RTD(\"cqg.rtd\", ,\"ContractData\",C61, \"PerCentNetLastTrade\",, \"T\")/100,\"\")","v":""},{"$f":"RTD(\"cqg.rtd\", ,\"ContractData\", C61, \"T_CVol\",, \"T\")","v":153},61,{"$f":"IFERROR(RANK($J61,$J$1:J$503)+COUNTIF($J$1:J61,J61)-1,\"\")","v":""},"S.US.BKNG",{"$error":"#N/A"}]
["S.US.BKR",1,"S.US.BKR",{"$f":"RTD(\"cqg.rtd\", ,\"ContractData\",C62, \"LongDescription\",, \"T\")","v":"Baker Hughes Company"},null,null,null,{"$f":"RTD(\"cqg.rtd\", ,\"ContractData\",C62, \"LastTradeToday\",, \"T\")","v":""},{"$f":"RTD(\"cqg.rtd\", ,\"ContractData\",C62, \"NetLastTradeToday\",, \"T\")","v":""},{"$f":"IFERROR(RTD(\"cqg.rtd\", ,\"ContractData\",C62, \"PerCentNetLastTrade\",, \"T\")/100,\"\")","v":""},{"$f":"RTD(\"cqg.rtd\", ,\"ContractData\", C62, \"T_CVol\",, \"T\")","v":1187},62,{"$f":"IFERROR(RANK($J62,$J$1:J$503)+COUNTIF($J$1:J62,J62)-1,\"\")","v":""},"S.US.BKR",{"$error":"#N/A"}]
["S.US.BLDR",1,"S.US.BLDR",{"$f":"RTD(\"cqg.rtd\", ,\"ContractData\",C63, \"LongDescription\",, \"T\")","v":"Builders FirstSource Inc"},null,null,null,{"$f":"RTD(\"cqg.rtd\", ,\"ContractData\",C63, \"LastTradeToday\",, \"T\")","v":""},{"$f":"RTD(\"cqg.rtd\", ,\"ContractData\",C63, \"NetLastTradeToday\",, \"T\")","v":""},{"$f":"IFERROR(RTD(\"cqg.rtd\", ,\"ContractData\",C63, \"PerCentNetLastTrade\",, \"T\")/100,\"\")","v":""},{"$f":"RTD(\"cqg.rtd\", ,\"ContractData\", C63, \"T_CVol\",, \"T\")","v":792},63,{"$f":"IFERROR(RANK($J63,$J$1:J$503)+COUNTIF($J$1:J63,J63)-1,\"\")","v":""},"S.US.BLDR",{"$error":"#N/A"}]
["S.US.BLK",1,"S.US.BLK",{"$f":"RTD(\"cqg.rtd\", ,\"ContractData\",C64, \"LongDescription\",, \"T\")","v":"BlackRock, Inc."},null,null,null,{"$f":"RTD(\"cqg.rtd\", ,\"ContractData\",C64, \"LastTradeToday\",, \"T\")","v":""},{"$f":"RTD(\"cqg.rtd\", ,\"ContractData\",C64, \"NetLastTradeToday\",, \"T\")","v":""},{"$f":"IFERROR(RTD(\"cqg.rtd\", ,\"ContractData\",C64, \"PerCentNetLastTrade\",, \"T\")/100,\"\")","v":""},{"$f":"RTD(\"cqg.rtd\", ,\"ContractData\", C64, \"T_CVol\",, \"T\")","v":221},64,{"$f":"IFERROR(RANK($J64,$J$1:J$503)+COUNTIF($J$1:J64,J64)-1,\"\")","v":""},"S.US.BLK",{"$error":"#N/A"}]
["S.US.BMY",1,"S.US.BMY",{"$f":"RTD(\"cqg.rtd\", ,\"ContractData\",C65, \"LongDescription\",, \"T\")","v":"Bristol-Myers Squibb Co"},null,null,null,{"$f":"RTD(\"cqg.rtd\", ,\"ContractData\",C65, \"LastTradeToday\",, \"T\")","v":""},{"$f":"RTD(\"cqg.rtd\", ,\"ContractData\",C65, \"NetLastTradeToday\",, \"T\")","v":""},{"$f":"IFERROR(RTD(\"cqg.rtd\", ,\"ContractData\",C65, \"PerCentNetLastTrade\",, \"T\")/100,\"\")","v":""},{"$f":"RTD(\"cqg.rtd\", ,\"ContractData\", C65, \"T_CVol\",, \"T\")","v":12649},65,{"$f":"IFERROR(RANK($J65,$J$1:J$503)+COUNTIF($J$1:J65,J65)-1,\"\")","v":""},"S.US.BMY",{"$error":"#N/A"}]
["S.US.BR",{"$f":"IF(J66>0,1,0)","v":1},"S.US.BR",{"$f":"RTD(\"cqg.rtd\", ,\"ContractData\",C66, \"LongDescription\",, \"T\")","v":"Broadridge Financial Solutions"},null,null,null,{"$f":"RTD(\"cqg.rtd\", ,\"ContractData\",C66, \"LastTradeToday\",, \"T\")","v":""},{"$f":"RTD(\"cqg.rtd\", ,\"ContractData\",C66, \"NetLastTradeToday\",, \"T\")","v":""},{"$f":"IFERROR(RTD(\"cqg.rtd\", ,\"ContractData\",C66, \"PerCentNetLastTrade\",, \"T\")/100,\"\")","v":""},{"$f":"RTD(\"cqg.rtd\", ,\"ContractData\", C66, \"T_CVol\",, \"T\")","v":10},66,{"$f":"IFERROR(RANK($J66,$J$1:J$503)+COUNTIF($J$1:J66,J66)-1,\"\")","v":""},{"$f":"C66","v":"S.US.BR"},{"$f":"TRIM(VLOOKUP($L66,$M$1:$N$503,2,FALSE))","v":{"$error":"#N/A"}}]
["S.US.BRKB",1,"S.US.BRKB",{"$f":"RTD(\"cqg.rtd\", ,\"ContractData\",C67, \"LongDescription\",, \"T\")","v":"Berkshire Hathaway Inc. ClsB"},null,null,null,{"$f":"RTD(\"cqg.rtd\", ,\"ContractData\",C67, \"LastTradeToday\",, \"T\")","v":""},{"$f":"RTD(\"cqg.rtd\", ,\"ContractData\",C67, \"NetLastTradeToday\",, \"T\")","v":""},{"$f":"IFERROR(RTD(\"cqg.rtd\", ,\"ContractData\",C67, \"PerCentNetLastTrade\",, \"T\")/100,\"\")","v":""},{"$f":"RTD(\"cqg.rtd\", ,\"ContractData\", C67, \"T_CVol\",, \"T\")","v":51752},{"$f":"L66+1","v":67},{"$f":"IFERROR(RANK($J67,$J$1:J$503)+COUNTIF($J$1:J67,J67)-1,\"\")","v":""},"S.US.BRKB",{"$error":"#N/A"}]
["S.US.BRO",1,"S.US.BRO",{"$f":"RTD(\"cqg.rtd\", ,\"ContractData\",C68, \"LongDescription\",, \"T\")","v":"BROWN AND BROWN INC"},null,null,null,{"$f":"RTD(\"cqg.rtd\", ,\"ContractData\",C68, \"LastTradeToday\",, \"T\")","v":""},{"$f":"RTD(\"cqg.rtd\", ,\"ContractData\",C68, \"NetLastTradeToday\",, \"T\")","v":""},{"$f":"IFERROR(RTD(\"cqg.rtd\", ,\"ContractData\",C68, \"PerCentNetLastTrade\",, \"T\")/100,\"\")","v":""},{"$f":"RTD(\"cqg.rtd\", ,\"ContractData\", C68, \"T_CVol\",, \"T\")","v":429},68,{"$f":"IFERROR(RANK($J68,$J$1:J$503)+COUNTIF($J$1:J68,J68)-1,\"\")","v":""},"S.US.BRO",{"$error":"#N/A"}]
["S.US.BSX",1,"S.US.BSX",{"$f":"RTD(\"cqg.rtd\", ,\"ContractData\",C69, \"LongDescription\",, \"T\")","v":"Boston Scientific Corp"},null,null,null,{"$f":"RTD(\"cqg.rtd\", ,\"ContractData\",C69, \"LastTradeToday\",, \"T\")","v":""},{"$f":"RTD(\"cqg.rtd\", ,\"ContractData\",C69, \"NetLastTradeToday\",, \"T\")","v":""},{"$f":"IFERROR(RTD(\"cqg.rtd\", ,\"ContractData\",C69, \"PerCentNetLastTrade\",, \"T\")/100,\"\")","v":""},{"$f":"RTD(\"cqg.rtd\", ,\"ContractData\", C69, \"T_CVol\",, \"T\")","v":563},69,{"$f":"IFERROR(RANK($J69,$J$1:J$503)+COUNTIF($J$1:J69,J69)-1,\"\")","v":""},"S.US.BSX",{"$error":"#N/A"}]
["S.US.BX",1,"S.US.BX",{"$f":"RTD(\"cqg.rtd\", ,\"ContractData\",C70, \"LongDescription\",, \"T\")","v":"Blackstone Inc."},null,null,null,{"$f":"RTD(\"cqg.rtd\", ,\"ContractData\",C70, \"LastTradeToday\",, \"T\")","v":""},{"$f":"RTD(\"cqg.rtd\", ,\"ContractData\",C70, \"NetLastTradeToday\",, \"T\")","v":""},{"$f":"IFERROR(RTD(\"cqg.rtd\", ,\"ContractData\",C70, \"PerCentNetLastTrade\",, \"T\")/100,\"\")","v":""},{"$f":"RTD(\"cqg.rtd\", ,\"ContractData\", C70, \"T_CVol\",, \"T\")","v":2223},70,{"$f":"IFERROR(RANK($J70,$J$1:J$503)+COUNTIF($J$1:J70,J70)-1,\"\")","v":""},"S.US.BX",{"$error":"#N/A"}]
["S.US.BXP",1,"S.US.BXP",{"$f":"RTD(\"cqg.rtd\", ,\"ContractData\",C71, \"LongDescription\",, \"T\")","v":"BXP, Inc."},null,null,null,{"$f":"RTD(\"cqg.rtd\", ,\"ContractData\",C71, \"LastTradeToday\",, \"T\")","v":""},{"$f":"RTD(\"cqg.rtd\", ,\"ContractData\",C71, \"NetLastTradeToday\",, \"T\")","v":""},{"$f":"IFERROR(RTD(\"cqg.rtd\", ,\"ContractData\",C71, \"PerCentNetLastTrade\",, \"T\")/100,\"\")","v":""},{"$f":"RTD(\"cqg.rtd\", ,\"ContractData\", C71, \"T_CVol\",, \"T\")","v":2},71,{"$f":"IFERROR(RANK($J71,$J$1:J$503)+COUNTIF($J$1:J71,J71)-1,\"\")","v":""},"S.US.BXP",{"$error":"#N/A"}]
["S.US.C",1,"S.US.C",{"$f":"RTD(\"cqg.rtd\", ,\"ContractData\",C72, \"LongDescription\",, \"T\")","v":"Citigroup Inc"},null,null,null,{"$f":"RTD(\"cqg.rtd\", ,\"ContractData\",C72, \"LastTradeToday\",, \"T\")","v":""},{"$f":"RTD(\"cqg.rtd\", ,\"ContractData\",C72, \"NetLastTradeToday\",, \"T\")","v":""},{"$f":"IFERROR(RTD(\"cqg.rtd\", ,\"ContractData\",C72, \"PerCentNetLastTrade\",, \"T\")/100,\"\")","v":""},{"$f":"RTD(\"cqg.rtd\", ,\"ContractData\", C72, \"T_CVol\",, \"T\")","v":21591},72,{"$f":"IFERROR(RANK($J72,$J$1:J$503)+COUNTIF($J$1:J72,J72)-1,\"\")","v":""},"S.US.C",{"$error":"#N/A"}]
["S.US.CAG",1,"S.US.CAG",{"$f":"RTD(\"cqg.rtd\", ,\"ContractData\",C73, \"LongDescription\",, \"T\")","v":"Conagra Brands, Inc."},null,null,null,{"$f":"RTD(\"cqg.rtd\", ,\"ContractData\",C73, \"LastTradeToday\",, \"T\")","v":""},{"$f":"RTD(\"cqg.rtd\", ,\"ContractData\",C73, \"NetLastTradeToday\",, \"T\")","v":""},{"$f":"IFERROR(RTD(\"cqg.rtd\", ,\"ContractData\",C73, \"PerCentNetLastTrade\",, \"T\")/100,\"\")","v":""},{"$f":"RTD(\"cqg.rtd\", ,\"ContractData\", C73, \"T_CVol\",, \"T\")","v":3424},73,{"$f":"IFERROR(RANK($J73,$J$1:J$503)+COUNTIF($J$1:J73,J73)-1,\"\")","v":""},"S.US.CAG",{"$error":"#N/A"}]
["S.US.CAH",1,"S.US.CAH",{"$f":"RTD(\"cqg.rtd\", ,\"ContractData\",C74, \"LongDescription\",, \"T\")","v":"Cardinal Health Inc"},null,null,null,{"$f":"RTD(\"cqg.rtd\", ,\"ContractData\",C74, \"LastTradeToday\",, \"T\")","v":""},{"$f":"RTD(\"cqg.rtd\", ,\"ContractData\",C74, \"NetLastTradeToday\",, \"T\")","v":""},{"$f":"IFERROR(RTD(\"cqg.rtd\", ,\"ContractData\",C74, \"PerCentNetLastTrade\",, \"T\")/100,\"\")","v":""},{"$f":"RTD(\"cqg.rtd\", ,\"ContractData\", C74, \"T_CVol\",, \"T\")","v":112},74,{"$f":"IFERROR(RANK($J74,$J$1:J$503)+COUNTIF($J$1:J74,J74)-1,\"\")","v":""},"S.US.CAH",{"$error":"#N/A"}]
["S.US.CARR",1,"S.US.CARR",{"$f":"RTD(\"cqg.rtd\", ,\"ContractData\",C75, \"LongDescription\",, \"T\")","v":"Carrier Global Corporation"},null,null,null,{"$f":"RTD(\"cqg.rtd\", ,\"ContractData\",C75, \"LastTradeToday\",, \"T\")","v":""},{"$f":"RTD(\"cqg.rtd\", ,\"ContractData\",C75, \"NetLastTradeToday\",, \"T\")","v":""},{"$f":"IFERROR(RTD(\"cqg.rtd\", ,\"ContractData\",C75, \"PerCentNetLastTrade\",, \"T\")/100,\"\")","v":""},{"$f":"RTD(\"cqg.rtd\", ,\"ContractData\", C75, \"T_CVol\",, \"T\")","v":516},75,{"$f":"IFERROR(RANK($J75,$J$1:J$503)+COUNTIF($J$1:J75,J75)-1,\"\")","v":""},"S.US.CARR",{"$error":"#N/A"}]
["S.US.CAT",1,"S.US.CAT",{"$f":"RTD(\"cqg.rtd\", ,\"ContractData\",C76, \"LongDescription\",, \"T\")","v":"Caterpillar Inc"},null,null,null,{"$f":"RTD(\"cqg.rtd\", ,\"ContractData\",C76, \"LastTradeToday\",, \"T\")","v":""},{"$f":"RTD(\"cqg.rtd\", ,\"ContractData\",C76, \"NetLastTradeToday\",, \"T\")","v":""},{"$f":"IFERROR(RTD(\"cqg.rtd\", ,\"ContractData\",C76, \"PerCentNetLastTrade\",, \"T\")/100,\"\")","v":""},{"$f":"RTD(\"cqg.rtd\", ,\"ContractData\", C76, \"T_CVol\",, \"T\")","v":3372},76,{"$f":"IFERROR(RANK($J76,$J$1:J$503)+COUNTIF($J$1:J76,J76)-1,\"\")","v":""},"S.US.CAT",{"$error":"#N/A"}]
["S.US.CB",1,"S.US.CB",{"$f":"RTD(\"cqg.rtd\", ,\"ContractData\",C77, \"LongDescription\",, \"T\")","v":"Chubb Limited"},null,null,null,{"$f":"RTD(\"cqg.rtd\", ,\"ContractData\",C77, \"LastTradeToday\",, \"T\")","v":""},{"$f":"RTD(\"cqg.rtd\", ,\"ContractData\",C77, \"NetLastTradeToday\",, \"T\")","v":""},{"$f":"IFERROR(RTD(\"cqg.rtd\", ,\"ContractData\",C77, \"PerCentNetLastTrade\",, \"T\")/100,\"\")","v":""},{"$f":"RTD(\"cqg.rtd\", ,\"ContractData\", C77, \"T_CVol\",, \"T\")","v":778},77,{"$f":"IFERROR(RANK($J77,$J$1:J$503)+COUNTIF($J$1:J77,J77)-1,\"\")","v":""},"S.US.CB",{"$error":"#N/A"}]
["S.US.CBOE",1,"S.US.CBOE",{"$f":"RTD(\"cqg.rtd\", ,\"ContractData\",C78, \"LongDescription\",, \"T\")","v":"Cboe Global Markets, Inc."},null,null,null,{"$f":"RTD(\"cqg.rtd\", ,\"ContractData\",C78, \"LastTradeToday\",, \"T\")","v":""},{"$f":"RTD(\"cqg.rtd\", ,\"ContractData\",C78, \"NetLastTradeToday\",, \"T\")","v":""},{"$f":"IFERROR(RTD(\"cqg.rtd\", ,\"ContractData\",C78, \"PerCentNetLastTrade\",, \"T\")/100,\"\")","v":""},{"$f":"RTD(\"cqg.rtd\", ,\"ContractData\", C78, \"T_CVol\",, \"T\")","v":46},78,{"$f":"IFERROR(RANK($J78,$J$1:J$503)+COUNTIF($J$1:J78,J78)-1,\"\")","v":""},"S.US.CBOE",{"$error":"#N/A"}]
["S.US.CBRE",1,"S.US.CBRE",{"$f":"RTD(\"cqg.rtd\", ,\"ContractData\",C79, \"LongDescription\",, \"T\")","v":"CBRE Group, Inc."},null,null,null,{"$f":"RTD(\"cqg.rtd\", ,\"ContractData\",C79, \"LastTradeToday\",, \"T\")","v":""},{"$f":"RTD(\"cqg.rtd\", ,\"ContractData\",C79, \"NetLastTradeToday\",, \"T\")","v":""},{"$f":"IFERROR(RTD(\"cqg.rtd\", ,\"ContractData\",C79, \"PerCentNetLastTrade\",, \"T\")/100,\"\")","v":""},{"$f":"RTD(\"cqg.rtd\", ,\"ContractData\", C79, \"T_CVol\",, \"T\")","v":2},79,{"$f":"IFERROR(RANK($J79,$J$1:J$503)+COUNTIF($J$1:J79,J79)-1,\"\")","v":""},"S.US.CBRE",{"$error":"#N/A"}]
["S.US.CCI",1,"S.US.CCI",{"$f":"RTD(\"cqg.rtd\", ,\"ContractData\",C80, \"LongDescription\",, \"T\")","v":"Crown Castle Intl"},null,null,null,{"$f":"RTD(\"cqg.rtd\", ,\"ContractData\",C80, \"LastTradeToday\",, \"T\")","v":""},{"$f":"RTD(\"cqg.rtd\", ,\"ContractData\",C80, \"NetLastTradeToday\",, \"T\")","v":""},{"$f":"IFERROR(RTD(\"cqg.rtd\", ,\"ContractData\",C80, \"PerCentNetLastTrade\",, \"T\")/100,\"\")","v":""},{"$f":"RTD(\"cqg.rtd\", ,\"ContractData\", C80, \"T_CVol\",, \"T\")","v":155},80,{"$f":"IFERROR(RANK($J80,$J$1:J$503)+COUNTIF($J$1:J80,J80)-1,\"\")","v":""},"S.US.CCI",{"$error":"#N/A"}]
["S.US.CCL",1,"S.US.CCL",{"$f":"RTD(\"cqg.rtd\", ,\"ContractData\",C81, \"LongDescription\",, \"T\")","v":"Carnival Corp"},null,null,null,{"$f":"RTD(\"cqg.rtd\", ,\"ContractData\",C81, \"LastTradeToday\",, \"T\")","v":""},{"$f":"RTD(\"cqg.rtd\", ,\"ContractData\",C81, \"NetLastTradeToday\",, \"T\")","v":""},{"$f":"IFERROR(RTD(\"cqg.rtd\", ,\"ContractData\",C81, \"PerCentNetLastTrade\",, \"T\")/100,\"\")","v":""},{"$f":"RTD(\"cqg.rtd\", ,\"ContractData\", C81, \"T_CVol\",, \"T\")","v":81024},81,{"$f":"IFERROR(RANK($J81,$J$1:J$503)+COUNTIF($J$1:J81,J81)-1,\"\")","v":""},"S.US.CCL",{"$error":"#N/A"}]
["S.US.CDNS",1,"S.US.CDNS",{"$f":"RTD(\"cqg.rtd\", ,\"ContractData\",C82, \"LongDescription\",, \"T\")","v":"Cadence Design Systems, Inc"},null,null,null,{"$f":"RTD(\"cqg.rtd\", ,\"ContractData\",C82, \"LastTradeToday\",, \"T\")","v":""},{"$f":"RTD(\"cqg.rtd\", ,\"ContractData\",C82, \"NetLastTradeToday\",, \"T\")","v":""},{"$f":"IFERROR(RTD(\"cqg.rtd\", ,\"ContractData\",C82, \"PerCentNetLastTrade\",, \"T\")/100,\"\")","v":""},{"$f":"RTD(\"cqg.rtd\", ,\"ContractData\", C82, \"T_CVol\",, \"T\")","v":1933},82,{"$f":"IFERROR(RANK($J82,$J$1:J$503)+COUNTIF($J$1:J82,J82)-1,\"\")","v":""},"S.US.CDNS",{"$error":"#N/A"}]
["S.US.CDW",1,"S.US.CDW",{"$f":"RTD(\"cqg.rtd\", ,\"ContractData\",C83, \"LongDescription\",, \"T\")","v":"CDW Corporation"},null,null,null,{"$f":"RTD(\"cqg.rtd\", ,\"ContractData\",C83, \"LastTradeToday\",, \"T\")","v":""},{"$f":"RTD(\"cqg.rtd\", ,\"ContractData\",C83, \"NetLastTradeToday\",, \"T\")","v":""},{"$f":"IFERROR(RTD(\"cqg.rtd\", ,\"ContractData\",C83, \"PerCentNetLastTrade\",, \"T\")/100,\"\")","v":""},{"$f":"RTD(\"cqg.rtd\", ,\"ContractData\", C83, \"T_CVol\",, \"T\")","v":73},83,{"$f":"IFERROR(RANK($J83,$J$1:J$503)+COUNTIF($J$1:J83,J83)-1,\"\")","v":""},"S.US.CDW",{"$error":"#N/A"}]
["S.US.CEG",1,"S.US.CEG",{"$f":"RTD(\"cqg.rtd\", ,\"ContractData\",C84, \"LongDescription\",, \"T\")","v":"Constellation Energy Corporation"},null,null,null,{"$f":"RTD(\"cqg.rtd\", ,\"ContractData\",C84, \"LastTradeToday\",, \"T\")","v":""},{"$f":"RTD(\"cqg.rtd\", ,\"ContractData\",C84, \"NetLastTradeToday\",, \"T\")","v":""},{"$f":"IFERROR(RTD(\"cqg.rtd\", ,\"ContractData\",C84, \"PerCentNetLastTrade\",, \"T\")/100,\"\")","v":""},{"$f":"RTD(\"cqg.rtd\", ,\"ContractData\", C84, \"T_CVol\",, \"T\")","v":9478},84,{"$f":"IFERROR(RANK($J84,$J$1:J$503)+COUNTIF($J$1:J84,J84)-1,\"\")","v":""},"S.US.CEG",{"$error":"#N/A"}]
["S.US.CF",1,"S.US.CF",{"$f":"RTD(\"cqg.rtd\", ,\"ContractData\",C85, \"LongDescription\",, \"T\")","v":"CF Industries Holdings, Inc"},null,null,null,{"$f":"RTD(\"cqg.rtd\", ,\"ContractData\",C85, \"LastTradeToday\",, \"T\")","v":""},{"$f":"RTD(\"cqg.rtd\", ,\"ContractData\",C85, \"NetLastTradeToday\",, \"T\")","v":""},{"$f":"IFERROR(RTD(\"cqg.rtd\", ,\"ContractData\",C85, \"PerCentNetLastTrade\",, \"T\")/100,\"\")","v":""},{"$f":"RTD(\"cqg.rtd\", ,\"ContractData\", C85, \"T_CVol\",, \"T\")","v":119},85,{"$f":"IFERROR(RANK($J85,$J$1:J$503)+COUNTIF($J$1:J85,J85)-1,\"\")","v":""},"S.US.CF",{"$error":"#N/A"}]
["S.US.CFG",1,"S.US.CFG",{"$f":"RTD(\"cqg.rtd\", ,\"ContractData\",C86, \"LongDescription\",, \"T\")","v":"Citizens Financial Group, Inc."},null,null,null,{"$f":"RTD(\"cqg.rtd\", ,\"ContractData\",C86, \"LastTradeToday\",, \"T\")","v":""},{"$f":"RTD(\"cqg.rtd\", ,\"ContractData\",C86, \"NetLastTradeToday\",, \"T\")","v":""},{"$f":"IFERROR(RTD(\"cqg.rtd\", ,\"ContractData\",C86, \"PerCentNetLastTrade\",, \"T\")/100,\"\")","v":""},{"$f":"RTD(\"cqg.rtd\", ,\"ContractData\", C86, \"T_CVol\",, \"T\")","v":1236},86,{"$f":"IFERROR(RANK($J86,$J$1:J$503)+COUNTIF($J$1:J86,J86)-1,\"\")","v":""},"S.US.CFG",{"$error":"#N/A"}]
["S.US.CHD",1,"S.US.CHD",{"$f":"RTD(\"cqg.rtd\", ,\"ContractData\",C87, \"LongDescription\",, \"T\")","v":"Church/Dwight Co Inc"},null,null,null,{"$f":"RTD(\"cqg.rtd\", ,\"ContractData\",C87, \"LastTradeToday\",, \"T\")","v":""},{"$f":"RTD(\"cqg.rtd\", ,\"ContractData\",C87, \"NetLastTradeToday\",, \"T\")","v":""},{"$f":"IFERROR(RTD(\"cqg.rtd\", ,\"ContractData\",C87, \"PerCentNetLastTrade\",, \"T\")/100,\"\")","v":""},{"$f":"RTD(\"cqg.rtd\", ,\"ContractData\", C87, \"T_CVol\",, \"T\")","v":31},87,{"$f":"IFERROR(RANK($J87,$J$1:J$503)+COUNTIF($J$1:J87,J87)-1,\"\")","v":""},"S.US.CHD",{"$error":"#N/A"}]
["S.US.CHRW",1,"S.US.CHRW",{"$f":"RTD(\"cqg.rtd\", ,\"ContractData\",C88, \"LongDescription\",, \"T\")","v":"CH Robinson Worldwide Inc"},null,null,null,{"$f":"RTD(\"cqg.rtd\", ,\"ContractData\",C88, \"LastTradeToday\",, \"T\")","v":""},{"$f":"RTD(\"cqg.rtd\", ,\"ContractData\",C88, \"NetLastTradeToday\",, \"T\")","v":""},{"$f":"IFERROR(RTD(\"cqg.rtd\", ,\"ContractData\",C88, \"PerCentNetLastTrade\",, \"T\")/100,\"\")","v":""},{"$f":"RTD(\"cqg.rtd\", ,\"ContractData\", C88, \"T_CVol\",, \"T\")","v":407},88,{"$f":"IFERROR(RANK($J88,$J$1:J$503)+COUNTIF($J$1:J88,J88)-1,\"\")","v":""},"S.US.CHRW",{"$error":"#N/A"}]
["S.US.CHTR",1,"S.US.CHTR",{"$f":"RTD(\"cqg.rtd\", ,\"ContractData\",C89, \"LongDescription\",, \"T\")","v":"Charter Communications, Inc. Class A"},null,null,null,{"$f":"RTD(\"cqg.rtd\", ,\"ContractData\",C89, \"LastTradeToday\",, \"T\")","v":""},{"$f":"RTD(\"cqg.rtd\", ,\"ContractData\",C89, \"NetLastTradeToday\",, \"T\")","v":""},{"$f":"IFERROR(RTD(\"cqg.rtd\", ,\"ContractData\",C89, \"PerCentNetLastTrade\",, \"T\")/100,\"\")","v":""},{"$f":"RTD(\"cqg.rtd\", ,\"ContractData\", C89, \"T_CVol\",, \"T\")","v":295},89,{"$f":"IFERROR(RANK($J89,$J$1:J$503)+COUNTIF($J$1:J89,J89)-1,\"\")","v":""},"S.US.CHTR",{"$error":"#N/A"}]
["S.US.CI",1,"S.US.CI",{"$f":"RTD(\"cqg.rtd\", ,\"ContractData\",C90, \"LongDescription\",, \"T\")","v":"The Cigna Group"},null,null,null,{"$f":"RTD(\"cqg.rtd\", ,\"ContractData\",C90, \"LastTradeToday\",, \"T\")","v":""},{"$f":"RTD(\"cqg.rtd\", ,\"ContractData\",C90, \"NetLastTradeToday\",, \"T\")","v":""},{"$f":"IFERROR(RTD(\"cqg.rtd\", ,\"ContractData\",C90, \"PerCentNetLastTrade\",, \"T\")/100,\"\")","v":""},{"$f":"RTD(\"cqg.rtd\", ,\"ContractData\", C90, \"T_CVol\",, \"T\")","v":610},90,{"$f":"IFERROR(RANK($J90,$J$1:J$503)+COUNTIF($J$1:J90,J90)-1,\"\")","v":""},"S.US.CI",{"$error":"#N/A"}]
["S.US.CINF",1,"S.US.CINF",{"$f":"RTD(\"cqg.rtd\", ,\"ContractData\",C91, \"LongDescription\",, \"T\")","v":"Cincinnati Fincl Corp"},null,null,null,{"$f":"RTD(\"cqg.rtd\", ,\"ContractData\",C91, \"LastTradeToday\",, \"T\")","v":""},{"$f":"RTD(\"cqg.rtd\", ,\"ContractData\",C91, \"NetLastTradeToday\",, \"T\")","v":""},{"$f":"IFERROR(RTD(\"cqg.rtd\", ,\"ContractData\",C91, \"PerCentNetLastTrade\",, \"T\")/100,\"\")","v":""},{"$f":"RTD(\"cqg.rtd\", ,\"ContractData\", C91, \"T_CVol\",, \"T\")","v":6},91,{"$f":"IFERROR(RANK($J91,$J$1:J$503)+COUNTIF($J$1:J91,J91)-1,\"\")","v":""},"S.US.CINF",{"$error":"#N/A"}]
["S.US.CL",1,"S.US.CL",{"$f":"RTD(\"cqg.rtd\", ,\"ContractData\",C92, \"LongDescription\",, \"T\")","v":"Colgate-Palmolive Co"},null,null,null,{"$f":"RTD(\"cqg.rtd\", ,\"ContractData\",C92, \"LastTradeToday\",, \"T\")","v":""},{"$f":"RTD(\"cqg.rtd\", ,\"ContractData\",C92, \"NetLastTradeToday\",, \"T\")","v":""},{"$f":"IFERROR(RTD(\"cqg.rtd\", ,\"ContractData\",C92, \"PerCentNetLastTrade\",, \"T\")/100,\"\")","v":""},{"$f":"RTD(\"cqg.rtd\", ,\"ContractData\", C92, \"T_CVol\",, \"T\")","v":1434},92,{"$f":"IFERROR(RANK($J92,$J$1:J$503)+COUNTIF($J$1:J92,J92)-1,\"\")","v":""},"S.US.CL",{"$error":"#N/A"}]
["S.US.CLX",1,"S.US.CLX",{"$f":"RTD(\"cqg.rtd\", ,\"ContractData\",C93, \"LongDescription\",, \"T\")","v":"Clorox Company"},null,null,null,{"$f":"RTD(\"cqg.rtd\", ,\"ContractData\",C93, \"LastTradeToday\",, \"T\")","v":""},{"$f":"RTD(\"cqg.rtd\", ,\"ContractData\",C93, \"NetLastTradeToday\",, \"T\")","v":""},{"$f":"IFERROR(RTD(\"cqg.rtd\", ,\"ContractData\",C93, \"PerCentNetLastTrade\",, \"T\")/100,\"\")","v":""},{"$f":"RTD(\"cqg.rtd\", ,\"ContractData\", C93, \"T_CVol\",, \"T\")","v":492},93,{"$f":"IFERROR(RANK($J93,$J$1:J$503)+COUNTIF($J$1:J93,J93)-1,\"\")","v":""},"S.US.CLX",{"$error":"#N/A"}]
["S.US.CMCSA",1,"S.US.CMCSA",{"$f":"RTD(\"cqg.rtd\", ,\"ContractData\",C94, \"LongDescription\",, \"T\")","v":"Comcast Corp ClsA"},null,null,null,{"$f":"RTD(\"cqg.rtd\", ,\"ContractData\",C94, \"LastTradeToday\",, \"T\")","v":""},{"$f":"RTD(\"cqg.rtd\", ,\"ContractData\",C94, \"NetLastTradeToday\",, \"T\")","v":""},{"$f":"IFERROR(RTD(\"cqg.rtd\", ,\"ContractData\",C94, \"PerCentNetLastTrade\",, \"T\")/100,\"\")","v":""},{"$f":"RTD(\"cqg.rtd\", ,\"ContractData\", C94, \"T_CVol\",, \"T\")","v":10833},94,{"$f":"IFERROR(RANK($J94,$J$1:J$503)+COUNTIF($J$1:J94,J94)-1,\"\")","v":""},"S.US.CMCSA",{"$error":"#N/A"}]
["S.US.CME",1,"S.US.CME",{"$f":"RTD(\"cqg.rtd\", ,\"ContractData\",C95, \"LongDescription\",, \"T\")","v":"Chicago Merc Exch Holding Inc"},null,null,null,{"$f":"RTD(\"cqg.rtd\", ,\"ContractData\",C95, \"LastTradeToday\",, \"T\")","v":""},{"$f":"RTD(\"cqg.rtd\", ,\"ContractData\",C95, \"NetLastTradeToday\",, \"T\")","v":""},{"$f":"IFERROR(RTD(\"cqg.rtd\", ,\"ContractData\",C95, \"PerCentNetLastTrade\",, \"T\")/100,\"\")","v":""},{"$f":"RTD(\"cqg.rtd\", ,\"ContractData\", C95, \"T_CVol\",, \"T\")","v":560},95,{"$f":"IFERROR(RANK($J95,$J$1:J$503)+COUNTIF($J$1:J95,J95)-1,\"\")","v":""},"S.US.CME",{"$error":"#N/A"}]
["S.US.CMG",1,"S.US.CMG",{"$f":"RTD(\"cqg.rtd\", ,\"ContractData\",C96, \"LongDescription\",, \"T\")","v":"Chipotle Mexican Grill"},null,null,null,{"$f":"RTD(\"cqg.rtd\", ,\"ContractData\",C96, \"LastTradeToday\",, \"T\")","v":""},{"$f":"RTD(\"cqg.rtd\", ,\"ContractData\",C96, \"NetLastTradeToday\",, \"T\")","v":""},{"$f":"IFERROR(RTD(\"cqg.rtd\", ,\"ContractData\",C96, \"PerCentNetLastTrade\",, \"T\")/100,\"\")","v":""},{"$f":"RTD(\"cqg.rtd\", ,\"ContractData\", C96, \"T_CVol\",, \"T\")","v":30884},96,{"$f":"IFERROR(RANK($J96,$J$1:J$503)+COUNTIF($J$1:J96,J96)-1,\"\")","v":""},"S.US.CMG",{"$error":"#N/A"}]
["S.US.CMI",1,"S.US.CMI",{"$f":"RTD(\"cqg.rtd\", ,\"ContractData\",C97, \"LongDescription\",, \"T\")","v":"Cummins Inc"},null,null,null,{"$f":"RTD(\"cqg.rtd\", ,\"ContractData\",C97, \"LastTradeToday\",, \"T\")","v":""},{"$f":"RTD(\"cqg.rtd\", ,\"ContractData\",C97, \"NetLastTradeToday\",, \"T\")","v":""},{"$f":"IFERROR(RTD(\"cqg.rtd\", ,\"ContractData\",C97, \"PerCentNetLastTrade\",, \"T\")/100,\"\")","v":""},{"$f":"RTD(\"cqg.rtd\", ,\"ContractData\", C97, \"T_CVol\",, \"T\")","v":59},97,{"$f":"IFERROR(RANK($J97,$J$1:J$503)+COUNTIF($J$1:J97,J97)-1,\"\")","v":""},"S.US.CMI",{"$error":"#N/A"}]
["S.US.CMS",1,"S.US.CMS",{"$f":"RTD(\"cqg.rtd\", ,\"ContractData\",C98, \"LongDescription\",, \"T\")","v":"CMS Energy Corporation"},null,null,null,{"$f":"RTD(\"cqg.rtd\", ,\"ContractData\",C98, \"LastTradeToday\",, \"T\")","v":""},{"$f":"RTD(\"cqg.rtd\", ,\"ContractData\",C98, \"NetLastTradeToday\",, \"T\")","v":""},{"$f":"IFERROR(RTD(\"cqg.rtd\", ,\"ContractData\",C98, \"PerCentNetLastTrade\",, \"T\")/100,\"\")","v":""},{"$f":"RTD(\"cqg.rtd\", ,\"ContractData\", C98, \"T_CVol\",, \"T\")","v":33},98,{"$f":"IFERROR(RANK($J98,$J$1:J$503)+COUNTIF($J$1:J98,J98)-1,\"\")","v":""},"S.US.CMS",{"$error":"#N/A"}]
["S.US.CNC",1,"S.US.CNC",{"$f":"RTD(\"cqg.rtd\", ,\"ContractData\",C99, \"LongDescription\",, \"T\")","v":"Cenetene Corporation"},null,null,null,{"$f":"RTD(\"cqg.rtd\", ,\"ContractData\",C99, \"LastTradeToday\",, \"T\")","v":""},{"$f":"RTD(\"cqg.rtd\", ,\"ContractData\",C99, \"NetLastTradeToday\",, \"T\")","v":""},{"$f":"IFERROR(RTD(\"cqg.rtd\", ,\"ContractData\",C99, \"PerCentNetLastTrade\",, \"T\")/100,\"\")","v":""},{"$f":"RTD(\"cqg.rtd\", ,\"ContractData\", C99, \"T_CVol\",, \"T\")","v":64831},99,{"$f":"IFERROR(RANK($J99,$J$1:J$503)+COUNTIF($J$1:J99,J99)-1,\"\")","v":""},"S.US.CNC",{"$error":"#N/A"}]
["S.US.CNP",1,"S.US.CNP",{"$f":"RTD(\"cqg.rtd\", ,\"ContractData\",C100, \"LongDescription\",, \"T\")","v":"Centerpoint Energy Holding Co."},null,null,null,{"$f":"RTD(\"cqg.rtd\", ,\"ContractData\",C100, \"LastTradeToday\",, \"T\")","v":""},{"$f":"RTD(\"cqg.rtd\", ,\"ContractData\",C100, \"NetLastTradeToday\",, \"T\")","v":""},{"$f":"IFERROR(RTD(\"cqg.rtd\", ,\"ContractData\",C100, \"PerCentNetLastTrade\",, \"T\")/100,\"\")","v":""},{"$f":"RTD(\"cqg.rtd\", ,\"ContractData\", C100, \"T_CVol\",, \"T\")","v":60024},100,{"$f":"IFERROR(RANK($J100,$J$1:J$503)+COUNTIF($J$1:J100,J100)-1,\"\")","v":""},"S.US.CNP",{"$error":"#N/A"}]
["S.US.COF",1,"S.US.COF",{"$f":"RTD(\"cqg.rtd\", ,\"ContractData\",C101, \"LongDescription\",, \"T\")","v":"Capital One Financl Corp"},null,null,null,{"$f":"RTD(\"cqg.rtd\", ,\"ContractData\",C101, \"LastTradeToday\",, \"T\")","v":""},{"$f":"RTD(\"cqg.rtd\", ,\"ContractData\",C101, \"NetLastTradeToday\",, \"T\")","v":""},{"$f":"IFERROR(RTD(\"cqg.rtd\", ,\"ContractData\",C101, \"PerCentNetLastTrade\",, \"T\")/100,\"\")","v":""},{"$f":"RTD(\"cqg.rtd\", ,\"ContractData\", C101, \"T_CVol\",, \"T\")","v":5907},101,{"$f":"IFERROR(RANK($J101,$J$1:J$503)+COUNTIF($J$1:J101,J101)-1,\"\")","v":""},"S.US.COF",{"$error":"#N/A"}]
["S.US.COIN",1,"S.US.COIN",{"$f":"RTD(\"cqg.rtd\", ,\"ContractData\",C102, \"LongDescription\",, \"T\")","v":"Coinbase Global, Inc. Class A"},null,null,null,{"$f":"RTD(\"cqg.rtd\", ,\"ContractData\",C102, \"LastTradeToday\",, \"T\")","v":""},{"$f":"RTD(\"cqg.rtd\", ,\"ContractData\",C102, \"NetLastTradeToday\",, \"T\")","v":""},{"$f":"IFERROR(RTD(\"cqg.rtd\", ,\"ContractData\",C102, \"PerCentNetLastTrade\",, \"T\")/100,\"\")","v":""},{"$f":"RTD(\"cqg.rtd\", ,\"ContractData\", C102, \"T_CVol\",, \"T\")","v":454175},102,{"$f":"IFERROR(RANK($J102,$J$1:J$503)+COUNTIF($J$1:J102,J102)-1,\"\")","v":""},"S.US.COIN",{"$error":"#N/A"}]
["S.US.COO",1,"S.US.COO",{"$f":"RTD(\"cqg.rtd\", ,\"ContractData\",C103, \"LongDescription\",, \"T\")","v":"Cooper Companies Inc (The)"},null,null,null,{"$f":"RTD(\"cqg.rtd\", ,\"ContractData\",C103, \"LastTradeToday\",, \"T\")","v":""},{"$f":"RTD(\"cqg.rtd\", ,\"ContractData\",C103, \"NetLastTradeToday\",, \"T\")","v":""},{"$f":"IFERROR(RTD(\"cqg.rtd\", ,\"ContractData\",C103, \"PerCentNetLastTrade\",, \"T\")/100,\"\")","v":""},{"$f":"RTD(\"cqg.rtd\", ,\"ContractData\", C103, \"T_CVol\",, \"T\")","v":110},103,{"$f":"IFERROR(RANK($J103,$J$1:J$503)+COUNTIF($J$1:J103,J103)-1,\"\")","v":""},"S.US.COO",{"$error":"#N/A"}]
["S.US.COP",1,"S.US.COP",{"$f":"RTD(\"cqg.rtd\", ,\"ContractData\",C104, \"LongDescription\",, \"T\")","v":"ConocoPhillips"},null,null,null,{"$f":"RTD(\"cqg.rtd\", ,\"ContractData\",C104, \"LastTradeToday\",, \"T\")","v":""},{"$f":"RTD(\"cqg.rtd\", ,\"ContractData\",C104, \"NetLastTradeToday\",, \"T\")","v":""},{"$f":"IFERROR(RTD(\"cqg.rtd\", ,\"ContractData\",C104, \"PerCentNetLastTrade\",, \"T\")/100,\"\")","v":""},{"$f":"RTD(\"cqg.rtd\", ,\"ContractData\", C104, \"T_CVol\",, \"T\")","v":4987},104,{"$f":"IFERROR(RANK($J104,$J$1:J$503)+COUNTIF($J$1:J104,J104)-1,\"\")","v":""},"S.US.COP",{"$error":"#N/A"}]
["S.US.COR",1,"S.US.COR",{"$f":"RTD(\"cqg.rtd\", ,\"ContractData\",C105, \"LongDescription\",, \"T\")","v":"Cencora Inc."},null,null,null,{"$f":"RTD(\"cqg.rtd\", ,\"ContractData\",C105, \"LastTradeToday\",, \"T\")","v":""},{"$f":"RTD(\"cqg.rtd\", ,\"ContractData\",C105, \"NetLastTradeToday\",, \"T\")","v":""},{"$f":"IFERROR(RTD(\"cqg.rtd\", ,\"ContractData\",C105, \"PerCentNetLastTrade\",, \"T\")/100,\"\")","v":""},{"$f":"RTD(\"cqg.rtd\", ,\"ContractData\", C105, \"T_CVol\",, \"T\")","v":60},105,{"$f":"IFERROR(RANK($J105,$J$1:J$503)+COUNTIF($J$1:J105,J105)-1,\"\")","v":""},"S.US.COR",{"$error":"#N/A"}]
["S.US.COST",1,"S.US.COST",{"$f":"RTD(\"cqg.rtd\", ,\"ContractData\",C106, \"LongDescription\",, \"T\")","v":"Costco Wholesale Corp"},null,null,null,{"$f":"RTD(\"cqg.rtd\", ,\"ContractData\",C106, \"LastTradeToday\",, \"T\")","v":""},{"$f":"RTD(\"cqg.rtd\", ,\"ContractData\",C106, \"NetLastTradeToday\",, \"T\")","v":""},{"$f":"IFERROR(RTD(\"cqg.rtd\", ,\"ContractData\",C106, \"PerCentNetLastTrade\",, \"T\")/100,\"\")","v":""},{"$f":"RTD(\"cqg.rtd\", ,\"ContractData\", C106, \"T_CVol\",, \"T\")","v":7280},106,{"$f":"IFERROR(RANK($J106,$J$1:J$503)+COUNTIF($J$1:J106,J106)-1,\"\")","v":""},"S.US.COST",{"$error":"#N/A"}]
["S.US.CPAY",1,"S.US.CPAY",{"$f":"RTD(\"cqg.rtd\", ,\"ContractData\",C107, \"LongDescription\",, \"T\")","v":"Corpay, Inc."},null,null,null,{"$f":"RTD(\"cqg.rtd\", ,\"ContractData\",C107, \"LastTradeToday\",, \"T\")","v":""},{"$f":"RTD(\"cqg.rtd\", ,\"ContractData\",C107, \"NetLastTradeToday\",, \"T\")","v":""},{"$f":"IFERROR(RTD(\"cqg.rtd\", ,\"ContractData\",C107, \"PerCentNetLastTrade\",, \"T\")/100,\"\")","v":""},{"$f":"RTD(\"cqg.rtd\", ,\"ContractData\", C107, \"T_CVol\",, \"T\")","v":5},107,{"$f":"IFERROR(RANK($J107,$J$1:J$503)+COUNTIF($J$1:J107,J107)-1,\"\")","v":""},"S.US.CPAY",{"$error":"#N/A"}]
["S.US.CPB",1,"S.US.CPB",{"$f":"RTD(\"cqg.rtd\", ,\"ContractData\",C108, \"LongDescription\",, \"T\")","v":"The Campbell's Company"},null,null,null,{"$f":"RTD(\"cqg.rtd\", ,\"ContractData\",C108, \"LastTradeToday\",, \"T\")","v":""},{"$f":"RTD(\"cqg.rtd\", ,\"ContractData\",C108, \"NetLastTradeToday\",, \"T\")","v":""},{"$f":"IFERROR(RTD(\"cqg.rtd\", ,\"ContractData\",C108, \"PerCentNetLastTrade\",, \"T\")/100,\"\")","v":""},{"$f":"RTD(\"cqg.rtd\", ,\"ContractData\", C108, \"T_CVol\",, \"T\")","v":576},108,{"$f":"IFERROR(RANK($J108,$J$1:J$503)+COUNTIF($J$1:J108,J108)-1,\"\")","v":""},"S.US.CPB",{"$error":"#N/A"}]
["S.US.CPRT",1,"S.US.CPRT",{"$f":"RTD(\"cqg.rtd\", ,\"ContractData\",C109, \"LongDescription\",, \"T\")","v":"Copart Inc"},null,null,null,{"$f":"RTD(\"cqg.rtd\", ,\"ContractData\",C109, \"LastTradeToday\",, \"T\")","v":""},{"$f":"RTD(\"cqg.rtd\", ,\"ContractData\",C109, \"NetLastTradeToday\",, \"T\")","v":""},{"$f":"IFERROR(RTD(\"cqg.rtd\", ,\"ContractData\",C109, \"PerCentNetLastTrade\",, \"T\")/100,\"\")","v":""},{"$f":"RTD(\"cqg.rtd\", ,\"ContractData\", C109, \"T_CVol\",, \"T\")","v":2835},109,{"$f":"IFERROR(RANK($J109,$J$1:J$503)+COUNTIF($J$1:J109,J109)-1,\"\")","v":""},"S.US.CPRT",{"$error":"#N/A"}]
["S.US.CPT",1,"S.US.CPT",{"$f":"RTD(\"cqg.rtd\", ,\"ContractData\",C110, \"LongDescription\",, \"T\")","v":"Camden Property Trust"},null,null,null,{"$f":"RTD(\"cqg.rtd\", ,\"ContractData\",C110, \"LastTradeToday\",, \"T\")","v":""},{"$f":"RTD(\"cqg.rtd\", ,\"ContractData\",C110, \"NetLastTradeToday\",, \"T\")","v":""},{"$f":"IFERROR(RTD(\"cqg.rtd\", ,\"ContractData\",C110, \"PerCentNetLastTrade\",, \"T\")/100,\"\")","v":""},{"$f":"RTD(\"cqg.rtd\", ,\"ContractData\", C110, \"T_CVol\",, \"T\")","v":30},110,{"$f":"IFERROR(RANK($J110,$J$1:J$503)+COUNTIF($J$1:J110,J110)-1,\"\")","v":""},"S.US.CPT",{"$error":"#N/A"}]
["S.US.CRL",1,"S.US.CRL",{"$f":"RTD(\"cqg.rtd\", ,\"ContractData\",C111, \"LongDescription\",, \"T\")","v":"Charles River Labs Hldgs Inc"},null,null,null,{"$f":"RTD(\"cqg.rtd\", ,\"ContractData\",C111, \"LastTradeToday\",, \"T\")","v":""},{"$f":"RTD(\"cqg.rtd\", ,\"ContractData\",C111, \"NetLastTradeToday\",, \"T\")","v":""},{"$f":"IFERROR(RTD(\"cqg.rtd\", ,\"ContractData\",C111, \"PerCentNetLastTrade\",, \"T\")/100,\"\")","v":""},{"$f":"RTD(\"cqg.rtd\", ,\"ContractData\", C111, \"T_CVol\",, \"T\")","v":147},111,{"$f":"IFERROR(RANK($J111,$J$1:J$503)+COUNTIF($J$1:J111,J111)-1,\"\")","v":""},"S.US.CRL",{"$error":"#N/A"}]
["S.US.CRM",1,"S.US.CRM",{"$f":"RTD(\"cqg.rtd\", ,\"ContractData\",C112, \"LongDescription\",, \"T\")","v":"Salesforce, Inc."},null,null,null,{"$f":"RTD(\"cqg.rtd\", ,\"ContractData\",C112, \"LastTradeToday\",, \"T\")","v":""},{"$f":"RTD(\"cqg.rtd\", ,\"ContractData\",C112, \"NetLastTradeToday\",, \"T\")","v":""},{"$f":"IFERROR(RTD(\"cqg.rtd\", ,\"ContractData\",C112, \"PerCentNetLastTrade\",, \"T\")/100,\"\")","v":""},{"$f":"RTD(\"cqg.rtd\", ,\"ContractData\", C112, \"T_CVol\",, \"T\")","v":9758},112,{"$f":"IFERROR(RANK($J112,$J$1:J$503)+COUNTIF($J$1:J112,J112)-1,\"\")","v":""},"S.US.CRM",{"$error":"#N/A"}]
["S.US.CRWD",1,"S.US.CRWD",{"$f":"RTD(\"cqg.rtd\", ,\"ContractData\",C113, \"LongDescription\",, \"T\")","v":"CrowdStrike Holdings, Inc. Class A"},null,null,null,{"$f":"RTD(\"cqg.rtd\", ,\"ContractData\",C113, \"LastTradeToday\",, \"T\")","v":""},{"$f":"RTD(\"cqg.rtd\", ,\"ContractData\",C113, \"NetLastTradeToday\",, \"T\")","v":""},{"$f":"IFERROR(RTD(\"cqg.rtd\", ,\"ContractData\",C113, \"PerCentNetLastTrade\",, \"T\")/100,\"\")","v":""},{"$f":"RTD(\"cqg.rtd\", ,\"ContractData\", C113, \"T_CVol\",, \"T\")","v":8293},113,{"$f":"IFERROR(RANK($J113,$J$1:J$503)+COUNTIF($J$1:J113,J113)-1,\"\")","v":""},"S.US.CRWD",{"$error":"#N/A"}]
["S.US.CSCO",1,"S.US.CSCO",{"$f":"RTD(\"cqg.rtd\", ,\"ContractData\",C114, \"LongDescription\",, \"T\")","v":"Cisco Systems Inc"},null,null,null,{"$f":"RTD(\"cqg.rtd\", ,\"ContractData\",C114, \"LastTradeToday\",, \"T\")","v":""},{"$f":"RTD(\"cqg.rtd\", ,\"ContractData\",C114, \"NetLastTradeToday\",, \"T\")","v":""},{"$f":"IFERROR(RTD(\"cqg.rtd\", ,\"ContractData\",C114, \"PerCentNetLastTrade\",, \"T\")/100,\"\")","v":""},{"$f":"RTD(\"cqg.rtd\", ,\"ContractData\", C114, \"T_CVol\",, \"T\")","v":12641},114,{"$f":"IFERROR(RANK($J114,$J$1:J$503)+COUNTIF($J$1:J114,J114)-1,\"\")","v":""},"S.US.CSCO",{"$error":"#N/A"}]
["S.US.CSGP",1,"S.US.CSGP",{"$f":"RTD(\"cqg.rtd\", ,\"ContractData\",C115, \"LongDescription\",, \"T\")","v":"CoStar Group"},null,null,null,{"$f":"RTD(\"cqg.rtd\", ,\"ContractData\",C115, \"LastTradeToday\",, \"T\")","v":""},{"$f":"RTD(\"cqg.rtd\", ,\"ContractData\",C115, \"NetLastTradeToday\",, \"T\")","v":""},{"$f":"IFERROR(RTD(\"cqg.rtd\", ,\"ContractData\",C115, \"PerCentNetLastTrade\",, \"T\")/100,\"\")","v":""},{"$f":"RTD(\"cqg.rtd\", ,\"ContractData\", C115, \"T_CVol\",, \"T\")","v":9},115,{"$f":"IFERROR(RANK($J115,$J$1:J$503)+COUNTIF($J$1:J115,J115)-1,\"\")","v":""},"S.US.CSGP",{"$error":"#N/A"}]
["S.US.CSX",1,"S.US.CSX",{"$f":"RTD(\"cqg.rtd\", ,\"ContractData\",C116, \"LongDescription\",, \"T\")","v":"CSX Corporation"},null,null,null,{"$f":"RTD(\"cqg.rtd\", ,\"ContractData\",C116, \"LastTradeToday\",, \"T\")","v":""},{"$f":"RTD(\"cqg.rtd\", ,\"ContractData\",C116, \"NetLastTradeToday\",, \"T\")","v":""},{"$f":"IFERROR(RTD(\"cqg.rtd\", ,\"ContractData\",C116, \"PerCentNetLastTrade\",, \"T\")/100,\"\")","v":""},{"$f":"RTD(\"cqg.rtd\", ,\"ContractData\", C116, \"T_CVol\",, \"T\")","v":4381},116,{"$f":"IFERROR(RANK($J116,$J$1:J$503)+COUNTIF($J$1:J116,J116)-1,\"\")","v":""},"S.US.CSX",{"$error":"#N/A"}]
["S.US.CTAS",1,"S.US.CTAS",{"$f":"RTD(\"cqg.rtd\", ,\"ContractData\",C117, \"LongDescription\",, \"T\")","v":"Cintas Corp"},null,null,null,{"$f":"RTD(\"cqg.rtd\", ,\"ContractData\",C117, \"LastTradeToday\",, \"T\")","v":""},{"$f":"RTD(\"cqg.rtd\", ,\"ContractData\",C117, \"NetLastTradeToday\",, \"T\")","v":""},{"$f":"IFERROR(RTD(\"cqg.rtd\", ,\"ContractData\",C117, \"PerCentNetLastTrade\",, \"T\")/100,\"\")","v":""},{"$f":"RTD(\"cqg.rtd\", ,\"ContractData\", C117, \"T_CVol\",, \"T\")","v":1018},117,{"$f":"IFERROR(RANK($J117,$J$1:J$503)+COUNTIF($J$1:J117,J117)-1,\"\")","v":""},"S.US.CTAS",{"$error":"#N/A"}]
["S.US.CTRA",1,"S.US.CTRA",{"$f":"RTD(\"cqg.rtd\", ,\"ContractData\",C118, \"LongDescription\",, \"T\")","v":"Cottera Energy, Inc"},null,null,null,{"$f":"RTD(\"cqg.rtd\", ,\"ContractData\",C118, \"LastTradeToday\",, \"T\")","v":""},{"$f":"RTD(\"cqg.rtd\", ,\"ContractData\",C118, \"NetLastTradeToday\",, \"T\")","v":""},{"$f":"IFERROR(RTD(\"cqg.rtd\", ,\"ContractData\",C118, \"PerCentNetLastTrade\",, \"T\")/100,\"\")","v":""},{"$f":"RTD(\"cqg.rtd\", ,\"ContractData\", C118, \"T_CVol\",, \"T\")","v":1152},118,{"$f":"IFERROR(RANK($J118,$J$1:J$503)+COUNTIF($J$1:J118,J118)-1,\"\")","v":""},"S.US.CTRA",{"$error":"#N/A"}]
["S.US.CTSH",1,"S.US.CTSH",{"$f":"RTD(\"cqg.rtd\", ,\"ContractData\",C119, \"LongDescription\",, \"T\")","v":"Cognizant Tech Solutions Corp"},null,null,null,{"$f":"RTD(\"cqg.rtd\", ,\"ContractData\",C119, \"LastTradeToday\",, \"T\")","v":""},{"$f":"RTD(\"cqg.rtd\", ,\"ContractData\",C119, \"NetLastTradeToday\",, \"T\")","v":""},{"$f":"IFERROR(RTD(\"cqg.rtd\", ,\"ContractData\",C119, \"PerCentNetLastTrade\",, \"T\")/100,\"\")","v":""},{"$f":"RTD(\"cqg.rtd\", ,\"ContractData\", C119, \"T_CVol\",, \"T\")","v":77},119,{"$f":"IFERROR(RANK($J119,$J$1:J$503)+COUNTIF($J$1:J119,J119)-1,\"\")","v":""},"S.US.CTSH",{"$error":"#N/A"}]
["S.US.CTVA",1,"S.US.CTVA",{"$f":"RTD(\"cqg.rtd\", ,\"ContractData\",C120, \"LongDescription\",, \"T\")","v":"Corteva Inc"},null,null,null,{"$f":"RTD(\"cqg.rtd\", ,\"ContractData\",C120, \"LastTradeToday\",, \"T\")","v":""},{"$f":"RTD(\"cqg.rtd\", ,\"ContractData\",C120, \"NetLastTradeToday\",, \"T\")","v":""},{"$f":"IFERROR(RTD(\"cqg.rtd\", ,\"ContractData\",C120, \"PerCentNetLastTrade\",, \"T\")/100,\"\")","v":""},{"$f":"RTD(\"cqg.rtd\", ,\"ContractData\", C120, \"T_CVol\",, \"T\")","v":124},120,{"$f":"IFERROR(RANK($J120,$J$1:J$503)+COUNTIF($J$1:J120,J120)-1,\"\")","v":""},"S.US.CTVA",{"$error":"#N/A"}]
["S.US.CVS",1,"S.US.CVS",{"$f":"RTD(\"cqg.rtd\", ,\"ContractData\",C121, \"LongDescription\",, \"T\")","v":"CVS Health Corporation"},null,null,null,{"$f":"RTD(\"cqg.rtd\", ,\"ContractData\",C121, \"LastTradeToday\",, \"T\")","v":""},{"$f":"RTD(\"cqg.rtd\", ,\"ContractData\",C121, \"NetLastTradeToday\",, \"T\")","v":""},{"$f":"IFERROR(RTD(\"cqg.rtd\", ,\"ContractData\",C121, \"PerCentNetLastTrade\",, \"T\")/100,\"\")","v":""},{"$f":"RTD(\"cqg.rtd\", ,\"ContractData\", C121, \"T_CVol\",, \"T\")","v":6516},121,{"$f":"IFERROR(RANK($J121,$J$1:J$503)+COUNTIF($J$1:J121,J121)-1,\"\")","v":""},"S.US.CVS",{"$error":"#N/A"}]
["S.US.CVX",1,"S.US.CVX",{"$f":"RTD(\"cqg.rtd\", ,\"ContractData\",C122, \"LongDescription\",, \"T\")","v":"Chevron Corp"},null,null,null,{"$f":"RTD(\"cqg.rtd\", ,\"ContractData\",C122, \"LastTradeToday\",, \"T\")","v":""},{"$f":"RTD(\"cqg.rtd\", ,\"ContractData\",C122, \"NetLastTradeToday\",, \"T\")","v":""},{"$f":"IFERROR(RTD(\"cqg.rtd\", ,\"ContractData\",C122, \"PerCentNetLastTrade\",, \"T\")/100,\"\")","v":""},{"$f":"RTD(\"cqg.rtd\", ,\"ContractData\", C122, \"T_CVol\",, \"T\")","v":6582},122,{"$f":"IFERROR(RANK($J122,$J$1:J$503)+COUNTIF($J$1:J122,J122)-1,\"\")","v":""},"S.US.CVX",{"$error":"#N/A"}]
["S.US.CZR",1,"S.US.CZR",{"$f":"RTD(\"cqg.rtd\", ,\"ContractData\",C123, \"LongDescription\",, \"T\")","v":"Caesars Entertainment, Inc."},null,null,null,{"$f":"RTD(\"cqg.rtd\", ,\"ContractData\",C123, \"LastTradeToday\",, \"T\")","v":""},{"$f":"RTD(\"cqg.rtd\", ,\"ContractData\",C123, \"NetLastTradeToday\",, \"T\")","v":""},{"$f":"IFERROR(RTD(\"cqg.rtd\", ,\"ContractData\",C123, \"PerCentNetLastTrade\",, \"T\")/100,\"\")","v":""},{"$f":"RTD(\"cqg.rtd\", ,\"ContractData\", C123, \"T_CVol\",, \"T\")","v":574},123,{"$f":"IFERROR(RANK($J123,$J$1:J$503)+COUNTIF($J$1:J123,J123)-1,\"\")","v":""},"S.US.CZR",{"$error":"#N/A"}]
["S.US.D",1,"S.US.D",{"$f":"RTD(\"cqg.rtd\", ,\"ContractData\",C124, \"LongDescription\",, \"T\")","v":"Dominion Energy, Inc."},null,null,null,{"$f":"RTD(\"cqg.rtd\", ,\"ContractData\",C124, \"LastTradeToday\",, \"T\")","v":""},{"$f":"RTD(\"cqg.rtd\", ,\"ContractData\",C124, \"NetLastTradeToday\",, \"T\")","v":""},{"$f":"IFERROR(RTD(\"cqg.rtd\", ,\"ContractData\",C124, \"PerCentNetLastTrade\",, \"T\")/100,\"\")","v":""},{"$f":"RTD(\"cqg.rtd\", ,\"ContractData\", C124, \"T_CVol\",, \"T\")","v":6460},124,{"$f":"IFERROR(RANK($J124,$J$1:J$503)+COUNTIF($J$1:J124,J124)-1,\"\")","v":""},"S.US.D",{"$error":"#N/A"}]
["S.US.DAL",1,"S.US.DAL",{"$f":"RTD(\"cqg.rtd\", ,\"ContractData\",C125, \"LongDescription\",, \"T\")","v":"Delta Airlines, Inc."},null,null,null,{"$f":"RTD(\"cqg.rtd\", ,\"ContractData\",C125, \"LastTradeToday\",, \"T\")","v":""},{"$f":"RTD(\"cqg.rtd\", ,\"ContractData\",C125, \"NetLastTradeToday\",, \"T\")","v":""},{"$f":"IFERROR(RTD(\"cqg.rtd\", ,\"ContractData\",C125, \"PerCentNetLastTrade\",, \"T\")/100,\"\")","v":""},{"$f":"RTD(\"cqg.rtd\", ,\"ContractData\", C125, \"T_CVol\",, \"T\")","v":20357},125,{"$f":"IFERROR(RANK($J125,$J$1:J$503)+COUNTIF($J$1:J125,J125)-1,\"\")","v":""},"S.US.DAL",{"$error":"#N/A"}]
["S.US.DASH",1,"S.US.DASH",{"$f":"RTD(\"cqg.rtd\", ,\"ContractData\",C126, \"LongDescription\",, \"T\")","v":"DoorDash, Inc"},null,null,null,{"$f":"RTD(\"cqg.rtd\", ,\"ContractData\",C126, \"LastTradeToday\",, \"T\")","v":""},{"$f":"RTD(\"cqg.rtd\", ,\"ContractData\",C126, \"NetLastTradeToday\",, \"T\")","v":""},{"$f":"IFERROR(RTD(\"cqg.rtd\", ,\"ContractData\",C126, \"PerCentNetLastTrade\",, \"T\")/100,\"\")","v":""},{"$f":"RTD(\"cqg.rtd\", ,\"ContractData\", C126, \"T_CVol\",, \"T\")","v":2028},126,{"$f":"IFERROR(RANK($J126,$J$1:J$503)+COUNTIF($J$1:J126,J126)-1,\"\")","v":""},"S.US.DASH",{"$error":"#N/A"}]
["S.US.DAY",1,"S.US.DAY",{"$f":"RTD(\"cqg.rtd\", ,\"ContractData\",C127, \"LongDescription\",, \"T\")","v":"Dayforce Inc."},null,null,null,{"$f":"RTD(\"cqg.rtd\", ,\"ContractData\",C127, \"LastTradeToday\",, \"T\")","v":""},{"$f":"RTD(\"cqg.rtd\", ,\"ContractData\",C127, \"NetLastTradeToday\",, \"T\")","v":""},{"$f":"IFERROR(RTD(\"cqg.rtd\", ,\"ContractData\",C127, \"PerCentNetLastTrade\",, \"T\")/100,\"\")","v":""},{"$f":"RTD(\"cqg.rtd\", ,\"ContractData\", C127, \"T_CVol\",, \"T\")","v":25},127,{"$f":"IFERROR(RANK($J127,$J$1:J$503)+COUNTIF($J$1:J127,J127)-1,\"\")","v":""},"S.US.DAY",{"$error":"#N/A"}]
["S.US.DD",1,"S.US.DD",{"$f":"RTD(\"cqg.rtd\", ,\"ContractData\",C128, \"LongDescription\",, \"T\")","v":"E.I. du Pont de Nemours and Co. (DuPont)"},null,null,null,{"$f":"RTD(\"cqg.rtd\", ,\"ContractData\",C128, \"LastTradeToday\",, \"T\")","v":""},{"$f":"RTD(\"cqg.rtd\", ,\"ContractData\",C128, \"NetLastTradeToday\",, \"T\")","v":""},{"$f":"IFERROR(RTD(\"cqg.rtd\", ,\"ContractData\",C128, \"PerCentNetLastTrade\",, \"T\")/100,\"\")","v":""},{"$f":"RTD(\"cqg.rtd\", ,\"ContractData\", C128, \"T_CVol\",, \"T\")","v":439},128,{"$f":"IFERROR(RANK($J128,$J$1:J$503)+COUNTIF($J$1:J128,J128)-1,\"\")","v":""},"S.US.DD",{"$error":"#N/A"}]
["S.US.DDOG",1,"S.US.DDOG",{"$f":"RTD(\"cqg.rtd\", ,\"ContractData\",C129, \"LongDescription\",, \"T\")","v":"Datadog, Inc. Class A"},null,null,null,{"$f":"RTD(\"cqg.rtd\", ,\"ContractData\",C129, \"LastTradeToday\",, \"T\")","v":""},{"$f":"RTD(\"cqg.rtd\", ,\"ContractData\",C129, \"NetLastTradeToday\",, \"T\")","v":""},{"$f":"IFERROR(RTD(\"cqg.rtd\", ,\"ContractData\",C129, \"PerCentNetLastTrade\",, \"T\")/100,\"\")","v":""},{"$f":"RTD(\"cqg.rtd\", ,\"ContractData\", C129, \"T_CVol\",, \"T\")","v":5834},129,{"$f":"IFERROR(RANK($J129,$J$1:J$503)+COUNTIF($J$1:J129,J129)-1,\"\")","v":""},"S.US.DDOG",{"$error":"#N/A"}]
["S.US.DE",{"$f":"IF(J130>0,1,0)","v":1},"S.US.DE",{"$f":"RTD(\"cqg.rtd\", ,\"ContractData\",C130, \"LongDescription\",, \"T\")","v":"Deere & Company"},null,null,null,{"$f":"RTD(\"cqg.rtd\", ,\"ContractData\",C130, \"LastTradeToday\",, \"T\")","v":""},{"$f":"RTD(\"cqg.rtd\", ,\"ContractData\",C130, \"NetLastTradeToday\",, \"T\")","v":""},{"$f":"IFERROR(RTD(\"cqg.rtd\", ,\"ContractData\",C130, \"PerCentNetLastTrade\",, \"T\")/100,\"\")","v":""},{"$f":"RTD(\"cqg.rtd\", ,\"ContractData\", C130, \"T_CVol\",, \"T\")","v":1073},130,{"$f":"IFERROR(RANK($J130,$J$1:J$503)+COUNTIF($J$1:J130,J130)-1,\"\")","v":""},{"$f":"C130","v":"S.US.DE"},{"$f":"TRIM(VLOOKUP($L130,$M$1:$N$503,2,FALSE))","v":{"$error":"#N/A"}}]
["S.US.DECK",1,"S.US.DECK",{"$f":"RTD(\"cqg.rtd\", ,\"ContractData\",C131, \"LongDescription\",, \"T\")","v":"Deckers Outdoor Corp"},null,null,null,{"$f":"RTD(\"cqg.rtd\", ,\"ContractData\",C131, \"LastTradeToday\",, \"T\")","v":""},{"$f":"RTD(\"cqg.rtd\", ,\"ContractData\",C131, \"NetLastTradeToday\",, \"T\")","v":""},{"$f":"IFERROR(RTD(\"cqg.rtd\", ,\"ContractData\",C131, \"PerCentNetLastTrade\",, \"T\")/100,\"\")","v":""},{"$f":"RTD(\"cqg.rtd\", ,\"ContractData\", C131, \"T_CVol\",, \"T\")","v":3665},{"$f":"L130+1","v":131},{"$f":"IFERROR(RANK($J131,$J$1:J$503)+COUNTIF($J$1:J131,J131)-1,\"\")","v":""},"S.US.DECK",{"$error":"#N/A"}]
["S.US.DELL",1,"S.US.DELL",{"$f":"RTD(\"cqg.rtd\", ,\"ContractData\",C132, \"LongDescription\",, \"T\")","v":"Dell Technologies Inc."},null,null,null,{"$f":"RTD(\"cqg.rtd\", ,\"ContractData\",C132, \"LastTradeToday\",, \"T\")","v":""},{"$f":"RTD(\"cqg.rtd\", ,\"ContractData\",C132, \"NetLastTradeToday\",, \"T\")","v":""},{"$f":"IFERROR(RTD(\"cqg.rtd\", ,\"ContractData\",C132, \"PerCentNetLastTrade\",, \"T\")/100,\"\")","v":""},{"$f":"RTD(\"cqg.rtd\", ,\"ContractData\", C132, \"T_CVol\",, \"T\")","v":8627},132,{"$f":"IFERROR(RANK($J132,$J$1:J$503)+COUNTIF($J$1:J132,J132)-1,\"\")","v":""},"S.US.DELL",{"$error":"#N/A"}]
["S.US.DG",1,"S.US.DG",{"$f":"RTD(\"cqg.rtd\", ,\"ContractData\",C133, \"LongDescription\",, \"T\")","v":"Dollar General Corporation"},null,null,null,{"$f":"RTD(\"cqg.rtd\", ,\"ContractData\",C133, \"LastTradeToday\",, \"T\")","v":""},{"$f":"RTD(\"cqg.rtd\", ,\"ContractData\",C133, \"NetLastTradeToday\",, \"T\")","v":""},{"$f":"IFERROR(RTD(\"cqg.rtd\", ,\"ContractData\",C133, \"PerCentNetLastTrade\",, \"T\")/100,\"\")","v":""},{"$f":"RTD(\"cqg.rtd\", ,\"ContractData\", C133, \"T_CVol\",, \"T\")","v":698},133,{"$f":"IFERROR(RANK($J133,$J$1:J$503)+COUNTIF($J$1:J133,J133)-1,\"\")","v":""},"S.US.DG",{"$error":"#N/A"}]
["S.US.DGX",1,"S.US.DGX",{"$f":"RTD(\"cqg.rtd\", ,\"ContractData\",C134, \"LongDescription\",, \"T\")","v":"Quest Diagnostics Inc"},null,null,null,{"$f":"RTD(\"cqg.rtd\", ,\"ContractData\",C134, \"LastTradeToday\",, \"T\")","v":""},{"$f":"RTD(\"cqg.rtd\", ,\"ContractData\",C134, \"NetLastTradeToday\",, \"T\")","v":""},{"$f":"IFERROR(RTD(\"cqg.rtd\", ,\"ContractData\",C134, \"PerCentNetLastTrade\",, \"T\")/100,\"\")","v":""},{"$f":"RTD(\"cqg.rtd\", ,\"ContractData\", C134, \"T_CVol\",, \"T\")","v":49},134,{"$f":"IFERROR(RANK($J134,$J$1:J$503)+COUNTIF($J$1:J134,J134)-1,\"\")","v":""},"S.US.DGX",{"$error":"#N/A"}]
["S.US.DHI",1,"S.US.DHI",{"$f":"RTD(\"cqg.rtd\", ,\"ContractData\",C135, \"LongDescription\",, \"T\")","v":"DR Horton Inc"},null,null,null,{"$f":"RTD(\"cqg.rtd\", ,\"ContractData\",C135, \"LastTradeToday\",, \"T\")","v":""},{"$f":"RTD(\"cqg.rtd\", ,\"ContractData\",C135, \"NetLastTradeToday\",, \"T\")","v":""},{"$f":"IFERROR(RTD(\"cqg.rtd\", ,\"ContractData\",C135, \"PerCentNetLastTrade\",, \"T\")/100,\"\")","v":""},{"$f":"RTD(\"cqg.rtd\", ,\"ContractData\", C135, \"T_CVol\",, \"T\")","v":7549},135,{"$f":"IFERROR(RANK($J135,$J$1:J$503)+COUNTIF($J$1:J135,J135)-1,\"\")","v":""},"S.US.DHI",{"$error":"#N/A"}]
["S.US.DHR",1,"S.US.DHR",{"$f":"RTD(\"cqg.rtd\", ,\"ContractData\",C136, \"LongDescription\",, \"T\")","v":"Danaher Corporation"},null,null,null,{"$f":"RTD(\"cqg.rtd\", ,\"ContractData\",C136, \"LastTradeToday\",, \"T\")","v":""},{"$f":"RTD(\"cqg.rtd\", ,\"ContractData\",C136, \"NetLastTradeToday\",, \"T\")","v":""},{"$f":"IFERROR(RTD(\"cqg.rtd\", ,\"ContractData\",C136, \"PerCentNetLastTrade\",, \"T\")/100,\"\")","v":""},{"$f":"RTD(\"cqg.rtd\", ,\"ContractData\", C136, \"T_CVol\",, \"T\")","v":1276},136,{"$f":"IFERROR(RANK($J136,$J$1:J$503)+COUNTIF($J$1:J136,J136)-1,\"\")","v":""},"S.US.DHR",{"$error":"#N/A"}]
["S.US.DIS",1,"S.US.DIS",{"$f":"RTD(\"cqg.rtd\", ,\"ContractData\",C137, \"LongDescription\",, \"T\")","v":"The Walt Disney Company"},null,null,null,{"$f":"RTD(\"cqg.rtd\", ,\"ContractData\",C137, \"LastTradeToday\",, \"T\")","v":""},{"$f":"RTD(\"cqg.rtd\", ,\"ContractData\",C137, \"NetLastTradeToday\",, \"T\")","v":""},{"$f":"IFERROR(RTD(\"cqg.rtd\", ,\"ContractData\",C137, \"PerCentNetLastTrade\",, \"T\")/100,\"\")","v":""},{"$f":"RTD(\"cqg.rtd\", ,\"ContractData\", C137, \"T_CVol\",, \"T\")","v":27654},137,{"$f":"IFERROR(RANK($J137,$J$1:J$503)+COUNTIF($J$1:J137,J137)-1,\"\")","v":""},"S.US.DIS",{"$error":"#N/A"}]
["S.US.DLR",1,"S.US.DLR",{"$f":"RTD(\"cqg.rtd\", ,\"ContractData\",C138, \"LongDescription\",, \"T\")","v":"Digital Realty"},null,null,null,{"$f":"RTD(\"cqg.rtd\", ,\"ContractData\",C138, \"LastTradeToday\",, \"T\")","v":""},{"$f":"RTD(\"cqg.rtd\", ,\"ContractData\",C138, \"NetLastTradeToday\",, \"T\")","v":""},{"$f":"IFERROR(RTD(\"cqg.rtd\", ,\"ContractData\",C138, \"PerCentNetLastTrade\",, \"T\")/100,\"\")","v":""},{"$f":"RTD(\"cqg.rtd\", ,\"ContractData\", C138, \"T_CVol\",, \"T\")","v":220},138,{"$f":"IFERROR(RANK($J138,$J$1:J$503)+COUNTIF($J$1:J138,J138)-1,\"\")","v":""},"S.US.DLR",{"$error":"#N/A"}]
["S.US.DLTR",1,"S.US.DLTR",{"$f":"RTD(\"cqg.rtd\", ,\"ContractData\",C139, \"LongDescription\",, \"T\")","v":"Dollar Tree Stores"},null,null,null,{"$f":"RTD(\"cqg.rtd\", ,\"ContractData\",C139, \"LastTradeToday\",, \"T\")","v":""},{"$f":"RTD(\"cqg.rtd\", ,\"ContractData\",C139, \"NetLastTradeToday\",, \"T\")","v":""},{"$f":"IFERROR(RTD(\"cqg.rtd\", ,\"ContractData\",C139, \"PerCentNetLastTrade\",, \"T\")/100,\"\")","v":""},{"$f":"RTD(\"cqg.rtd\", ,\"ContractData\", C139, \"T_CVol\",, \"T\")","v":1176},139,{"$f":"IFERROR(RANK($J139,$J$1:J$503)+COUNTIF($J$1:J139,J139)-1,\"\")","v":""},"S.US.DLTR",{"$error":"#N/A"}]
["S.US.DOC",1,"S.US.DOC",{"$f":"RTD(\"cqg.rtd\", ,\"ContractData\",C140, \"LongDescription\",, \"T\")","v":"Healthpeak Properties, Inc."},null,null,null,{"$f":"RTD(\"cqg.rtd\", ,\"ContractData\",C140, \"LastTradeToday\",, \"T\")","v":""},{"$f":"RTD(\"cqg.rtd\", ,\"ContractData\",C140, \"NetLastTradeToday\",, \"T\")","v":""},{"$f":"IFERROR(RTD(\"cqg.rtd\", ,\"ContractData\",C140, \"PerCentNetLastTrade\",, \"T\")/100,\"\")","v":""},{"$f":"RTD(\"cqg.rtd\", ,\"ContractData\", C140, \"T_CVol\",, \"T\")","v":2474},140,{"$f":"IFERROR(RANK($J140,$J$1:J$503)+COUNTIF($J$1:J140,J140)-1,\"\")","v":""},"S.US.DOC",{"$error":"#N/A"}]
["S.US.DOV",1,"S.US.DOV",{"$f":"RTD(\"cqg.rtd\", ,\"ContractData\",C141, \"LongDescription\",, \"T\")","v":"Dover Corporation"},null,null,null,{"$f":"RTD(\"cqg.rtd\", ,\"ContractData\",C141, \"LastTradeToday\",, \"T\")","v":""},{"$f":"RTD(\"cqg.rtd\", ,\"ContractData\",C141, \"NetLastTradeToday\",, \"T\")","v":""},{"$f":"IFERROR(RTD(\"cqg.rtd\", ,\"ContractData\",C141, \"PerCentNetLastTrade\",, \"T\")/100,\"\")","v":""},{"$f":"RTD(\"cqg.rtd\", ,\"ContractData\", C141, \"T_CVol\",, \"T\")","v":54},141,{"$f":"IFERROR(RANK($J141,$J$1:J$503)+COUNTIF($J$1:J141,J141)-1,\"\")","v":""},"S.US.DOV",{"$error":"#N/A"}]
["S.US.DOW",1,"S.US.DOW",{"$f":"RTD(\"cqg.rtd\", ,\"ContractData\",C142, \"LongDescription\",, \"T\")","v":"Dow Inc."},null,null,null,{"$f":"RTD(\"cqg.rtd\", ,\"ContractData\",C142, \"LastTradeToday\",, \"T\")","v":""},{"$f":"RTD(\"cqg.rtd\", ,\"ContractData\",C142, \"NetLastTradeToday\",, \"T\")","v":""},{"$f":"IFERROR(RTD(\"cqg.rtd\", ,\"ContractData\",C142, \"PerCentNetLastTrade\",, \"T\")/100,\"\")","v":""},{"$f":"RTD(\"cqg.rtd\", ,\"ContractData\", C142, \"T_CVol\",, \"T\")","v":43836},142,{"$f":"IFERROR(RANK($J142,$J$1:J$503)+COUNTIF($J$1:J142,J142)-1,\"\")","v":""},"S.US.DOW",{"$error":"#N/A"}]
["S.US.DPZ",1,"S.US.DPZ",{"$f":"RTD(\"cqg.rtd\", ,\"ContractData\",C143, \"LongDescription\",, \"T\")","v":"Dominos Pizza, Inc."},null,null,null,{"$f":"RTD(\"cqg.rtd\", ,\"ContractData\",C143, \"LastTradeToday\",, \"T\")","v":""},{"$f":"RTD(\"cqg.rtd\", ,\"ContractData\",C143, \"NetLastTradeToday\",, \"T\")","v":""},{"$f":"IFERROR(RTD(\"cqg.rtd\", ,\"ContractData\",C143, \"PerCentNetLastTrade\",, \"T\")/100,\"\")","v":""},{"$f":"RTD(\"cqg.rtd\", ,\"ContractData\", C143, \"T_CVol\",, \"T\")","v":22},143,{"$f":"IFERROR(RANK($J143,$J$1:J$503)+COUNTIF($J$1:J143,J143)-1,\"\")","v":""},"S.US.DPZ",{"$error":"#N/A"}]
["S.US.DRI",1,"S.US.DRI",{"$f":"RTD(\"cqg.rtd\", ,\"ContractData\",C144, \"LongDescription\",, \"T\")","v":"Darden Restaurants Inc"},null,null,null,{"$f":"RTD(\"cqg.rtd\", ,\"ContractData\",C144, \"LastTradeToday\",, \"T\")","v":""},{"$f":"RTD(\"cqg.rtd\", ,\"ContractData\",C144, \"NetLastTradeToday\",, \"T\")","v":""},{"$f":"IFERROR(RTD(\"cqg.rtd\", ,\"ContractData\",C144, \"PerCentNetLastTrade\",, \"T\")/100,\"\")","v":""},{"$f":"RTD(\"cqg.rtd\", ,\"ContractData\", C144, \"T_CVol\",, \"T\")","v":36},144,{"$f":"IFERROR(RANK($J144,$J$1:J$503)+COUNTIF($J$1:J144,J144)-1,\"\")","v":""},"S.US.DRI",{"$error":"#N/A"}]
["S.US.DTE",1,"S.US.DTE",{"$f":"RTD(\"cqg.rtd\", ,\"ContractData\",C145, \"LongDescription\",, \"T\")","v":"DTE Energy Corp"},null,null,null,{"$f":"RTD(\"cqg.rtd\", ,\"ContractData\",C145, \"LastTradeToday\",, \"T\")","v":""},{"$f":"RTD(\"cqg.rtd\", ,\"ContractData\",C145, \"NetLastTradeToday\",, \"T\")","v":""},{"$f":"IFERROR(RTD(\"cqg.rtd\", ,\"ContractData\",C145, \"PerCentNetLastTrade\",, \"T\")/100,\"\")","v":""},{"$f":"RTD(\"cqg.rtd\", ,\"ContractData\", C145, \"T_CVol\",, \"T\")","v":308},145,{"$f":"IFERROR(RANK($J145,$J$1:J$503)+COUNTIF($J$1:J145,J145)-1,\"\")","v":""},"S.US.DTE",{"$error":"#N/A"}]
["S.US.DUK",1,"S.US.DUK",{"$f":"RTD(\"cqg.rtd\", ,\"ContractData\",C146, \"LongDescription\",, \"T\")","v":"Duke Energy Corp"},null,null,null,{"$f":"RTD(\"cqg.rtd\", ,\"ContractData\",C146, \"LastTradeToday\",, \"T\")","v":""},{"$f":"RTD(\"cqg.rtd\", ,\"ContractData\",C146, \"NetLastTradeToday\",, \"T\")","v":""},{"$f":"IFERROR(RTD(\"cqg.rtd\", ,\"ContractData\",C146, \"PerCentNetLastTrade\",, \"T\")/100,\"\")","v":""},{"$f":"RTD(\"cqg.rtd\", ,\"ContractData\", C146, \"T_CVol\",, \"T\")","v":7500},146,{"$f":"IFERROR(RANK($J146,$J$1:J$503)+COUNTIF($J$1:J146,J146)-1,\"\")","v":""},"S.US.DUK",{"$error":"#N/A"}]
["S.US.DVA",1,"S.US.DVA",{"$f":"RTD(\"cqg.rtd\", ,\"ContractData\",C147, \"LongDescription\",, \"T\")","v":"DaVita Inc."},null,null,null,{"$f":"RTD(\"cqg.rtd\", ,\"ContractData\",C147, \"LastTradeToday\",, \"T\")","v":""},{"$f":"RTD(\"cqg.rtd\", ,\"ContractData\",C147, \"NetLastTradeToday\",, \"T\")","v":""},{"$f":"IFERROR(RTD(\"cqg.rtd\", ,\"ContractData\",C147, \"PerCentNetLastTrade\",, \"T\")/100,\"\")","v":""},{"$f":"RTD(\"cqg.rtd\", ,\"ContractData\", C147, \"T_CVol\",, \"T\")","v":3},147,{"$f":"IFERROR(RANK($J147,$J$1:J$503)+COUNTIF($J$1:J147,J147)-1,\"\")","v":""},"S.US.DVA",{"$error":"#N/A"}]
["S.US.DVN",1,"S.US.DVN",{"$f":"RTD(\"cqg.rtd\", ,\"ContractData\",C148, \"LongDescription\",, \"T\")","v":"Devon Energy Corp"},null,null,null,{"$f":"RTD(\"cqg.rtd\", ,\"ContractData\",C148, \"LastTradeToday\",, \"T\")","v":""},{"$f":"RTD(\"cqg.rtd\", ,\"ContractData\",C148, \"NetLastTradeToday\",, \"T\")","v":""},{"$f":"IFERROR(RTD(\"cqg.rtd\", ,\"ContractData\",C148, \"PerCentNetLastTrade\",, \"T\")/100,\"\")","v":""},{"$f":"RTD(\"cqg.rtd\", ,\"ContractData\", C148, \"T_CVol\",, \"T\")","v":14994},148,{"$f":"IFERROR(RANK($J148,$J$1:J$503)+COUNTIF($J$1:J148,J148)-1,\"\")","v":""},"S.US.DVN",{"$error":"#N/A"}]
["S.US.DXCM",1,"S.US.DXCM",{"$f":"RTD(\"cqg.rtd\", ,\"ContractData\",C149, \"LongDescription\",, \"T\")","v":"DexCom Inc"},null,null,null,{"$f":"RTD(\"cqg.rtd\", ,\"ContractData\",C149, \"LastTradeToday\",, \"T\")","v":""},{"$f":"RTD(\"cqg.rtd\", ,\"ContractData\",C149, \"NetLastTradeToday\",, \"T\")","v":""},{"$f":"IFERROR(RTD(\"cqg.rtd\", ,\"ContractData\",C149, \"PerCentNetLastTrade\",, \"T\")/100,\"\")","v":""},{"$f":"RTD(\"cqg.rtd\", ,\"ContractData\", C149, \"T_CVol\",, \"T\")","v":5237},149,{"$f":"IFERROR(RANK($J149,$J$1:J$503)+COUNTIF($J$1:J149,J149)-1,\"\")","v":""},"S.US.DXCM",{"$error":"#N/A"}]
["S.US.EA",1,"S.US.EA",{"$f":"RTD(\"cqg.rtd\", ,\"ContractData\",C150, \"LongDescription\",, \"T\")","v":"Electronic Arts"},null,null,null,{"$f":"RTD(\"cqg.rtd\", ,\"ContractData\",C150, \"LastTradeToday\",, \"T\")","v":""},{"$f":"RTD(\"cqg.rtd\", ,\"ContractData\",C150, \"NetLastTradeToday\",, \"T\")","v":""},{"$f":"IFERROR(RTD(\"cqg.rtd\", ,\"ContractData\",C150, \"PerCentNetLastTrade\",, \"T\")/100,\"\")","v":""},{"$f":"RTD(\"cqg.rtd\", ,\"ContractData\", C150, \"T_CVol\",, \"T\")","v":792},150,{"$f":"IFERROR(RANK($J150,$J$1:J$503)+COUNTIF($J$1:J150,J150)-1,\"\")","v":""},"S.US.EA",{"$error":"#N/A"}]
["S.US.EBAY",1,"S.US.EBAY",{"$f":"RTD(\"cqg.rtd\", ,\"ContractData\",C151, \"LongDescription\",, \"T\")","v":"eBay Inc"},null,null,null,{"$f":"RTD(\"cqg.rtd\", ,\"ContractData\",C151, \"LastTradeToday\",, \"T\")","v":""},{"$f":"RTD(\"cqg.rtd\", ,\"ContractData\",C151, \"NetLastTradeToday\",, \"T\")","v":""},{"$f":"IFERROR(RTD(\"cqg.rtd\", ,\"ContractData\",C151, \"PerCentNetLastTrade\",, \"T\")/100,\"\")","v":""},{"$f":"RTD(\"cqg.rtd\", ,\"ContractData\", C151, \"T_CVol\",, \"T\")","v":5343},151,{"$f":"IFERROR(RANK($J151,$J$1:J$503)+COUNTIF($J$1:J151,J151)-1,\"\")","v":""},"S.US.EBAY",{"$error":"#N/A"}]
["S.US.ECL",1,"S.US.ECL",{"$f":"RTD(\"cqg.rtd\", ,\"ContractData\",C152, \"LongDescription\",, \"T\")","v":"Ecolab Inc"},null,null,null,{"$f":"RTD(\"cqg.rtd\", ,\"ContractData\",C152, \"LastTradeToday\",, \"T\")","v":""},{"$f":"RTD(\"cqg.rtd\", ,\"ContractData\",C152, \"NetLastTradeToday\",, \"T\")","v":""},{"$f":"IFERROR(RTD(\"cqg.rtd\", ,\"ContractData\",C152, \"PerCentNetLastTrade\",, \"T\")/100,\"\")","v":""},{"$f":"RTD(\"cqg.rtd\", ,\"ContractData\", C152, \"T_CVol\",, \"T\")","v":126},152,{"$f":"IFERROR(RANK($J152,$J$1:J$503)+COUNTIF($J$1:J152,J152)-1,\"\")","v":""},"S.US.ECL",{"$error":"#N/A"}]
["S.US.ED",1,"S.US.ED",{"$f":"RTD(\"cqg.rtd\", ,\"ContractData\",C153, \"LongDescription\",, \"T\")","v":"Consol Edison Hldg Co"},null,null,null,{"$f":"RTD(\"cqg.rtd\", ,\"ContractData\",C153, \"LastTradeToday\",, \"T\")","v":""},{"$f":"RTD(\"cqg.rtd\", ,\"ContractData\",C153, \"NetLastTradeToday\",, \"T\")","v":""},{"$f":"IFERROR(RTD(\"cqg.rtd\", ,\"ContractData\",C153, \"PerCentNetLastTrade\",, \"T\")/100,\"\")","v":""},{"$f":"RTD(\"cqg.rtd\", ,\"ContractData\", C153, \"T_CVol\",, \"T\")","v":234},153,{"$f":"IFERROR(RANK($J153,$J$1:J$503)+COUNTIF($J$1:J153,J153)-1,\"\")","v":""},"S.US.ED",{"$error":"#N/A"}]
["S.US.EFX",1,"S.US.EFX",{"$f":"RTD(\"cqg.rtd\", ,\"ContractData\",C154, \"LongDescription\",, \"T\")","v":"Equifax Inc"},null,null,null,{"$f":"RTD(\"cqg.rtd\", ,\"ContractData\",C154, \"LastTradeToday\",, \"T\")","v":""},{"$f":"RTD(\"cqg.rtd\", ,\"ContractData\",C154, \"NetLastTradeToday\",, \"T\")","v":""},{"$f":"IFERROR(RTD(\"cqg.rtd\", ,\"ContractData\",C154, \"PerCentNetLastTrade\",, \"T\")/100,\"\")","v":""},{"$f":"RTD(\"cqg.rtd\", ,\"ContractData\", C154, \"T_CVol\",, \"T\")","v":51},154,{"$f":"IFERROR(RANK($J154,$J$1:J$503)+COUNTIF($J$1:J154,J154)-1,\"\")","v":""},"S.US.EFX",{"$error":"#N/A"}]
["S.US.EG",1,"S.US.EG",{"$f":"RTD(\"cqg.rtd\", ,\"ContractData\",C155, \"LongDescription\",, \"T\")","v":"Everest Group, Ltd."},null,null,null,{"$f":"RTD(\"cqg.rtd\", ,\"ContractData\",C155, \"LastTradeToday\",, \"T\")","v":""},{"$f":"RTD(\"cqg.rtd\", ,\"ContractData\",C155, \"NetLastTradeToday\",, \"T\")","v":""},{"$f":"IFERROR(RTD(\"cqg.rtd\", ,\"ContractData\",C155, \"PerCentNetLastTrade\",, \"T\")/100,\"\")","v":""},{"$f":"RTD(\"cqg.rtd\", ,\"ContractData\", C155, \"T_CVol\",, \"T\")","v":26},155,{"$f":"IFERROR(RANK($J155,$J$1:J$503)+COUNTIF($J$1:J155,J155)-1,\"\")","v":""},"S.US.EG",{"$error":"#N/A"}]
["S.US.EIX",1,"S.US.EIX",{"$f":"RTD(\"cqg.rtd\", ,\"ContractData\",C156, \"LongDescription\",, \"T\")","v":"Edison International"},null,null,null,{"$f":"RTD(\"cqg.rtd\", ,\"ContractData\",C156, \"LastTradeToday\",, \"T\")","v":""},{"$f":"RTD(\"cqg.rtd\", ,\"ContractData\",C156, \"NetLastTradeToday\",, \"T\")","v":""},{"$f":"IFERROR(RTD(\"cqg.rtd\", ,\"ContractData\",C156, \"PerCentNetLastTrade\",, \"T\")/100,\"\")","v":""},{"$f":"RTD(\"cqg.rtd\", ,\"ContractData\", C156, \"T_CVol\",, \"T\")","v":3208},156,{"$f":"IFERROR(RANK($J156,$J$1:J$503)+COUNTIF($J$1:J156,J156)-1,\"\")","v":""},"S.US.EIX",{"$error":"#N/A"}]
["S.US.EL",1,"S.US.EL",{"$f":"RTD(\"cqg.rtd\", ,\"ContractData\",C157, \"LongDescription\",, \"T\")","v":"Estee Lauder Companies"},null,null,null,{"$f":"RTD(\"cqg.rtd\", ,\"ContractData\",C157, \"LastTradeToday\",, \"T\")","v":""},{"$f":"RTD(\"cqg.rtd\", ,\"ContractData\",C157, \"NetLastTradeToday\",, \"T\")","v":""},{"$f":"IFERROR(RTD(\"cqg.rtd\", ,\"ContractData\",C157, \"PerCentNetLastTrade\",, \"T\")/100,\"\")","v":""},{"$f":"RTD(\"cqg.rtd\", ,\"ContractData\", C157, \"T_CVol\",, \"T\")","v":4008},157,{"$f":"IFERROR(RANK($J157,$J$1:J$503)+COUNTIF($J$1:J157,J157)-1,\"\")","v":""},"S.US.EL",{"$error":"#N/A"}]
["S.US.ELV",1,"S.US.ELV",{"$f":"RTD(\"cqg.rtd\", ,\"ContractData\",C158, \"LongDescription\",, \"T\")","v":"Elevance Health, Inc."},null,null,null,{"$f":"RTD(\"cqg.rtd\", ,\"ContractData\",C158, \"LastTradeToday\",, \"T\")","v":""},{"$f":"RTD(\"cqg.rtd\", ,\"ContractData\",C158, \"NetLastTradeToday\",, \"T\")","v":""},{"$f":"IFERROR(RTD(\"cqg.rtd\", ,\"ContractData\",C158, \"PerCentNetLastTrade\",, \"T\")/100,\"\")","v":""},{"$f":"RTD(\"cqg.rtd\", ,\"ContractData\", C158, \"T_CVol\",, \"T\")","v":2010},158,{"$f":"IFERROR(RANK($J158,$J$1:J$503)+COUNTIF($J$1:J158,J158)-1,\"\")","v":""},"S.US.ELV",{"$error":"#N/A"}]
["S.US.EMN",1,"S.US.EMN",{"$f":"RTD(\"cqg.rtd\", ,\"ContractData\",C159, \"LongDescription\",, \"T\")","v":"Eastman Chemical Co"},null,null,null,{"$f":"RTD(\"cqg.rtd\", ,\"ContractData\",C159, \"LastTradeToday\",, \"T\")","v":""},{"$f":"RTD(\"cqg.rtd\", ,\"ContractData\",C159, \"NetLastTradeToday\",, \"T\")","v":""},{"$f":"IFERROR(RTD(\"cqg.rtd\", ,\"ContractData\",C159, \"PerCentNetLastTrade\",, \"T\")/100,\"\")","v":""},{"$f":"RTD(\"cqg.rtd\", ,\"ContractData\", C159, \"T_CVol\",, \"T\")","v":6700},159,{"$f":"IFERROR(RANK($J159,$J$1:J$503)+COUNTIF($J$1:J159,J159)-1,\"\")","v":""},"S.US.EMN",{"$error":"#N/A"}]
["S.US.EMR",1,"S.US.EMR",{"$f":"RTD(\"cqg.rtd\", ,\"ContractData\",C160, \"LongDescription\",, \"T\")","v":"Emerson Electric Co"},null,null,null,{"$f":"RTD(\"cqg.rtd\", ,\"ContractData\",C160, \"LastTradeToday\",, \"T\")","v":""},{"$f":"RTD(\"cqg.rtd\", ,\"ContractData\",C160, \"NetLastTradeToday\",, \"T\")","v":""},{"$f":"IFERROR(RTD(\"cqg.rtd\", ,\"ContractData\",C160, \"PerCentNetLastTrade\",, \"T\")/100,\"\")","v":""},{"$f":"RTD(\"cqg.rtd\", ,\"ContractData\", C160, \"T_CVol\",, \"T\")","v":115},160,{"$f":"IFERROR(RANK($J160,$J$1:J$503)+COUNTIF($J$1:J160,J160)-1,\"\")","v":""},"S.US.EMR",{"$error":"#N/A"}]
["S.US.ENPH",1,"S.US.ENPH",{"$f":"RTD(\"cqg.rtd\", ,\"ContractData\",C161, \"LongDescription\",, \"T\")","v":"Enphase Energy, Inc."},null,null,null,{"$f":"RTD(\"cqg.rtd\", ,\"ContractData\",C161, \"LastTradeToday\",, \"T\")","v":""},{"$f":"RTD(\"cqg.rtd\", ,\"ContractData\",C161, \"NetLastTradeToday\",, \"T\")","v":""},{"$f":"IFERROR(RTD(\"cqg.rtd\", ,\"ContractData\",C161, \"PerCentNetLastTrade\",, \"T\")/100,\"\")","v":""},{"$f":"RTD(\"cqg.rtd\", ,\"ContractData\", C161, \"T_CVol\",, \"T\")","v":24739},161,{"$f":"IFERROR(RANK($J161,$J$1:J$503)+COUNTIF($J$1:J161,J161)-1,\"\")","v":""},"S.US.ENPH",{"$error":"#N/A"}]
["S.US.EOG",1,"S.US.EOG",{"$f":"RTD(\"cqg.rtd\", ,\"ContractData\",C162, \"LongDescription\",, \"T\")","v":"EOG Resources"},null,null,null,{"$f":"RTD(\"cqg.rtd\", ,\"ContractData\",C162, \"LastTradeToday\",, \"T\")","v":""},{"$f":"RTD(\"cqg.rtd\", ,\"ContractData\",C162, \"NetLastTradeToday\",, \"T\")","v":""},{"$f":"IFERROR(RTD(\"cqg.rtd\", ,\"ContractData\",C162, \"PerCentNetLastTrade\",, \"T\")/100,\"\")","v":""},{"$f":"RTD(\"cqg.rtd\", ,\"ContractData\", C162, \"T_CVol\",, \"T\")","v":2103},162,{"$f":"IFERROR(RANK($J162,$J$1:J$503)+COUNTIF($J$1:J162,J162)-1,\"\")","v":""},"S.US.EOG",{"$error":"#N/A"}]
["S.US.EPAM",1,"S.US.EPAM",{"$f":"RTD(\"cqg.rtd\", ,\"ContractData\",C163, \"LongDescription\",, \"T\")","v":"EPAM Systems, Inc."},null,null,null,{"$f":"RTD(\"cqg.rtd\", ,\"ContractData\",C163, \"LastTradeToday\",, \"T\")","v":""},{"$f":"RTD(\"cqg.rtd\", ,\"ContractData\",C163, \"NetLastTradeToday\",, \"T\")","v":""},{"$f":"IFERROR(RTD(\"cqg.rtd\", ,\"ContractData\",C163, \"PerCentNetLastTrade\",, \"T\")/100,\"\")","v":""},{"$f":"RTD(\"cqg.rtd\", ,\"ContractData\", C163, \"T_CVol\",, \"T\")","v":74},163,{"$f":"IFERROR(RANK($J163,$J$1:J$503)+COUNTIF($J$1:J163,J163)-1,\"\")","v":""},"S.US.EPAM",{"$error":"#N/A"}]
["S.US.EQIX",1,"S.US.EQIX",{"$f":"RTD(\"cqg.rtd\", ,\"ContractData\",C164, \"LongDescription\",, \"T\")","v":"Equinix Inc"},null,null,null,{"$f":"RTD(\"cqg.rtd\", ,\"ContractData\",C164, \"LastTradeToday\",, \"T\")","v":""},{"$f":"RTD(\"cqg.rtd\", ,\"ContractData\",C164, \"NetLastTradeToday\",, \"T\")","v":""},{"$f":"IFERROR(RTD(\"cqg.rtd\", ,\"ContractData\",C164, \"PerCentNetLastTrade\",, \"T\")/100,\"\")","v":""},{"$f":"RTD(\"cqg.rtd\", ,\"ContractData\", C164, \"T_CVol\",, \"T\")","v":118},164,{"$f":"IFERROR(RANK($J164,$J$1:J$503)+COUNTIF($J$1:J164,J164)-1,\"\")","v":""},"S.US.EQIX",{"$error":"#N/A"}]
["S.US.EQR",1,"S.US.EQR",{"$f":"RTD(\"cqg.rtd\", ,\"ContractData\",C165, \"LongDescription\",, \"T\")","v":"Equity Residential Properties Trust"},null,null,null,{"$f":"RTD(\"cqg.rtd\", ,\"ContractData\",C165, \"LastTradeToday\",, \"T\")","v":""},{"$f":"RTD(\"cqg.rtd\", ,\"ContractData\",C165, \"NetLastTradeToday\",, \"T\")","v":""},{"$f":"IFERROR(RTD(\"cqg.rtd\", ,\"ContractData\",C165, \"PerCentNetLastTrade\",, \"T\")/100,\"\")","v":""},{"$f":"RTD(\"cqg.rtd\", ,\"ContractData\", C165, \"T_CVol\",, \"T\")","v":55},165,{"$f":"IFERROR(RANK($J165,$J$1:J$503)+COUNTIF($J$1:J165,J165)-1,\"\")","v":""},"S.US.EQR",{"$error":"#N/A"}]
["S.US.EQT",1,"S.US.EQT",{"$f":"RTD(\"cqg.rtd\", ,\"ContractData\",C166, \"LongDescription\",, \"T\")","v":"EQT Corp"},null,null,null,{"$f":"RTD(\"cqg.rtd\", ,\"ContractData\",C166, \"LastTradeToday\",, \"T\")","v":""},{"$f":"RTD(\"cqg.rtd\", ,\"ContractData\",C166, \"NetLastTradeToday\",, \"T\")","v":""},{"$f":"IFERROR(RTD(\"cqg.rtd\", ,\"ContractData\",C166, \"PerCentNetLastTrade\",, \"T\")/100,\"\")","v":""},{"$f":"RTD(\"cqg.rtd\", ,\"ContractData\", C166, \"T_CVol\",, \"T\")","v":84411},166,{"$f":"IFERROR(RANK($J166,$J$1:J$503)+COUNTIF($J$1:J166,J166)-1,\"\")","v":""},"S.US.EQT",{"$error":"#N/A"}]
["S.US.ERIE",1,"S.US.ERIE",{"$f":"RTD(\"cqg.rtd\", ,\"ContractData\",C167, \"LongDescription\",, \"T\")","v":"Erie Indemnity Co"},null,null,null,{"$f":"RTD(\"cqg.rtd\", ,\"ContractData\",C167, \"LastTradeToday\",, \"T\")","v":""},{"$f":"RTD(\"cqg.rtd\", ,\"ContractData\",C167, \"NetLastTradeToday\",, \"T\")","v":""},{"$f":"IFERROR(RTD(\"cqg.rtd\", ,\"ContractData\",C167, \"PerCentNetLastTrade\",, \"T\")/100,\"\")","v":""},{"$f":"RTD(\"cqg.rtd\", ,\"ContractData\", C167, \"T_CVol\",, \"T\")","v":0},167,{"$f":"IFERROR(RANK($J167,$J$1:J$503)+COUNTIF($J$1:J167,J167)-1,\"\")","v":""},"S.US.ERIE",{"$error":"#N/A"}]
["S.US.ES",1,"S.US.ES",{"$f":"RTD(\"cqg.rtd\", ,\"ContractData\",C168, \"LongDescription\",, \"T\")","v":"Eversource Energy"},null,null,null,{"$f":"RTD(\"cqg.rtd\", ,\"ContractData\",C168, \"LastTradeToday\",, \"T\")","v":""},{"$f":"RTD(\"cqg.rtd\", ,\"ContractData\",C168, \"NetLastTradeToday\",, \"T\")","v":""},{"$f":"IFERROR(RTD(\"cqg.rtd\", ,\"ContractData\",C168, \"PerCentNetLastTrade\",, \"T\")/100,\"\")","v":""},{"$f":"RTD(\"cqg.rtd\", ,\"ContractData\", C168, \"T_CVol\",, \"T\")","v":138},168,{"$f":"IFERROR(RANK($J168,$J$1:J$503)+COUNTIF($J$1:J168,J168)-1,\"\")","v":""},"S.US.ES",{"$error":"#N/A"}]
["S.US.ESS",1,"S.US.ESS",{"$f":"RTD(\"cqg.rtd\", ,\"ContractData\",C169, \"LongDescription\",, \"T\")","v":"Essex Property Trust Inc"},null,null,null,{"$f":"RTD(\"cqg.rtd\", ,\"ContractData\",C169, \"LastTradeToday\",, \"T\")","v":""},{"$f":"RTD(\"cqg.rtd\", ,\"ContractData\",C169, \"NetLastTradeToday\",, \"T\")","v":""},{"$f":"IFERROR(RTD(\"cqg.rtd\", ,\"ContractData\",C169, \"PerCentNetLastTrade\",, \"T\")/100,\"\")","v":""},{"$f":"RTD(\"cqg.rtd\", ,\"ContractData\", C169, \"T_CVol\",, \"T\")","v":144},169,{"$f":"IFERROR(RANK($J169,$J$1:J$503)+COUNTIF($J$1:J169,J169)-1,\"\")","v":""},"S.US.ESS",{"$error":"#N/A"}]
["S.US.ETN",1,"S.US.ETN",{"$f":"RTD(\"cqg.rtd\", ,\"ContractData\",C170, \"LongDescription\",, \"T\")","v":"Eaton Corporation"},null,null,null,{"$f":"RTD(\"cqg.rtd\", ,\"ContractData\",C170, \"LastTradeToday\",, \"T\")","v":""},{"$f":"RTD(\"cqg.rtd\", ,\"ContractData\",C170, \"NetLastTradeToday\",, \"T\")","v":""},{"$f":"IFERROR(RTD(\"cqg.rtd\", ,\"ContractData\",C170, \"PerCentNetLastTrade\",, \"T\")/100,\"\")","v":""},{"$f":"RTD(\"cqg.rtd\", ,\"ContractData\", C170, \"T_CVol\",, \"T\")","v":4849},170,{"$f":"IFERROR(RANK($J170,$J$1:J$503)+COUNTIF($J$1:J170,J170)-1,\"\")","v":""},"S.US.ETN",{"$error":"#N/A"}]
["S.US.ETR",1,"S.US.ETR",{"$f":"RTD(\"cqg.rtd\", ,\"ContractData\",C171, \"LongDescription\",, \"T\")","v":"Entergy Corporation"},null,null,null,{"$f":"RTD(\"cqg.rtd\", ,\"ContractData\",C171, \"LastTradeToday\",, \"T\")","v":""},{"$f":"RTD(\"cqg.rtd\", ,\"ContractData\",C171, \"NetLastTradeToday\",, \"T\")","v":""},{"$f":"IFERROR(RTD(\"cqg.rtd\", ,\"ContractData\",C171, \"PerCentNetLastTrade\",, \"T\")/100,\"\")","v":""},{"$f":"RTD(\"cqg.rtd\", ,\"ContractData\", C171, \"T_CVol\",, \"T\")","v":38374},171,{"$f":"IFERROR(RANK($J171,$J$1:J$503)+COUNTIF($J$1:J171,J171)-1,\"\")","v":""},"S.US.ETR",{"$error":"#N/A"}]
["S.US.EVRG",1,"S.US.EVRG",{"$f":"RTD(\"cqg.rtd\", ,\"ContractData\",C172, \"LongDescription\",, \"T\")","v":"Evergy, Inc."},null,null,null,{"$f":"RTD(\"cqg.rtd\", ,\"ContractData\",C172, \"LastTradeToday\",, \"T\")","v":""},{"$f":"RTD(\"cqg.rtd\", ,\"ContractData\",C172, \"NetLastTradeToday\",, \"T\")","v":""},{"$f":"IFERROR(RTD(\"cqg.rtd\", ,\"ContractData\",C172, \"PerCentNetLastTrade\",, \"T\")/100,\"\")","v":""},{"$f":"RTD(\"cqg.rtd\", ,\"ContractData\", C172, \"T_CVol\",, \"T\")","v":5968},172,{"$f":"IFERROR(RANK($J172,$J$1:J$503)+COUNTIF($J$1:J172,J172)-1,\"\")","v":""},"S.US.EVRG",{"$error":"#N/A"}]
["S.US.EW",1,"S.US.EW",{"$f":"RTD(\"cqg.rtd\", ,\"ContractData\",C173, \"LongDescription\",, \"T\")","v":"Edwards LifeSciences"},null,null,null,{"$f":"RTD(\"cqg.rtd\", ,\"ContractData\",C173, \"LastTradeToday\",, \"T\")","v":""},{"$f":"RTD(\"cqg.rtd\", ,\"ContractData\",C173, \"NetLastTradeToday\",, \"T\")","v":""},{"$f":"IFERROR(RTD(\"cqg.rtd\", ,\"ContractData\",C173, \"PerCentNetLastTrade\",, \"T\")/100,\"\")","v":""},{"$f":"RTD(\"cqg.rtd\", ,\"ContractData\", C173, \"T_CVol\",, \"T\")","v":160},173,{"$f":"IFERROR(RANK($J173,$J$1:J$503)+COUNTIF($J$1:J173,J173)-1,\"\")","v":""},"S.US.EW",{"$error":"#N/A"}]
["S.US.EXC",1,"S.US.EXC",{"$f":"RTD(\"cqg.rtd\", ,\"ContractData\",C174, \"LongDescription\",, \"T\")","v":"Exelon Corporation"},null,null,null,{"$f":"RTD(\"cqg.rtd\", ,\"ContractData\",C174, \"LastTradeToday\",, \"T\")","v":""},{"$f":"RTD(\"cqg.rtd\", ,\"ContractData\",C174, \"NetLastTradeToday\",, \"T\")","v":""},{"$f":"IFERROR(RTD(\"cqg.rtd\", ,\"ContractData\",C174, \"PerCentNetLastTrade\",, \"T\")/100,\"\")","v":""},{"$f":"RTD(\"cqg.rtd\", ,\"ContractData\", C174, \"T_CVol\",, \"T\")","v":2525},174,{"$f":"IFERROR(RANK($J174,$J$1:J$503)+COUNTIF($J$1:J174,J174)-1,\"\")","v":""},"S.US.EXC",{"$error":"#N/A"}]
["S.US.EXE",1,"S.US.EXE",{"$f":"RTD(\"cqg.rtd\", ,\"ContractData\",C175, \"LongDescription\",, \"T\")","v":"Expand Energy Corporation"},null,null,null,{"$f":"RTD(\"cqg.rtd\", ,\"ContractData\",C175, \"LastTradeToday\",, \"T\")","v":""},{"$f":"RTD(\"cqg.rtd\", ,\"ContractData\",C175, \"NetLastTradeToday\",, \"T\")","v":""},{"$f":"IFERROR(RTD(\"cqg.rtd\", ,\"ContractData\",C175, \"PerCentNetLastTrade\",, \"T\")/100,\"\")","v":""},{"$f":"RTD(\"cqg.rtd\", ,\"ContractData\", C175, \"T_CVol\",, \"T\")","v":341},175,{"$f":"IFERROR(RANK($J175,$J$1:J$503)+COUNTIF($J$1:J175,J175)-1,\"\")","v":""},"S.US.EXE",{"$error":"#N/A"}]
["S.US.EXPD",1,"S.US.EXPD",{"$f":"RTD(\"cqg.rtd\", ,\"ContractData\",C176, \"LongDescription\",, \"T\")","v":"Expeditors Intl of WA Inc"},null,null,null,{"$f":"RTD(\"cqg.rtd\", ,\"ContractData\",C176, \"LastTradeToday\",, \"T\")","v":""},{"$f":"RTD(\"cqg.rtd\", ,\"ContractData\",C176, \"NetLastTradeToday\",, \"T\")","v":""},{"$f":"IFERROR(RTD(\"cqg.rtd\", ,\"ContractData\",C176, \"PerCentNetLastTrade\",, \"T\")/100,\"\")","v":""},{"$f":"RTD(\"cqg.rtd\", ,\"ContractData\", C176, \"T_CVol\",, \"T\")","v":39},176,{"$f":"IFERROR(RANK($J176,$J$1:J$503)+COUNTIF($J$1:J176,J176)-1,\"\")","v":""},"S.US.EXPD",{"$error":"#N/A"}]
["S.US.EXPE",1,"S.US.EXPE",{"$f":"RTD(\"cqg.rtd\", ,\"ContractData\",C177, \"LongDescription\",, \"T\")","v":"Expedia Group, Inc."},null,null,null,{"$f":"RTD(\"cqg.rtd\", ,\"ContractData\",C177, \"LastTradeToday\",, \"T\")","v":""},{"$f":"RTD(\"cqg.rtd\", ,\"ContractData\",C177, \"NetLastTradeToday\",, \"T\")","v":""},{"$f":"IFERROR(RTD(\"cqg.rtd\", ,\"ContractData\",C177, \"PerCentNetLastTrade\",, \"T\")/100,\"\")","v":""},{"$f":"RTD(\"cqg.rtd\", ,\"ContractData\", C177, \"T_CVol\",, \"T\")","v":4092},177,{"$f":"IFERROR(RANK($J177,$J$1:J$503)+COUNTIF($J$1:J177,J177)-1,\"\")","v":""},"S.US.EXPE",{"$error":"#N/A"}]
["S.US.EXR",1,"S.US.EXR",{"$f":"RTD(\"cqg.rtd\", ,\"ContractData\",C178, \"LongDescription\",, \"T\")","v":"Extra Space Storage Inc"},null,null,null,{"$f":"RTD(\"cqg.rtd\", ,\"ContractData\",C178, \"LastTradeToday\",, \"T\")","v":""},{"$f":"RTD(\"cqg.rtd\", ,\"ContractData\",C178, \"NetLastTradeToday\",, \"T\")","v":""},{"$f":"IFERROR(RTD(\"cqg.rtd\", ,\"ContractData\",C178, \"PerCentNetLastTrade\",, \"T\")/100,\"\")","v":""},{"$f":"RTD(\"cqg.rtd\", ,\"ContractData\", C178, \"T_CVol\",, \"T\")","v":61},178,{"$f":"IFERROR(RANK($J178,$J$1:J$503)+COUNTIF($J$1:J178,J178)-1,\"\")","v":""},"S.US.EXR",{"$error":"#N/A"}]
["S.US.F",1,"S.US.F",{"$f":"RTD(\"cqg.rtd\", ,\"ContractData\",C179, \"LongDescription\",, \"T\")","v":"Ford Motor Company"},null,null,null,{"$f":"RTD(\"cqg.rtd\", ,\"ContractData\",C179, \"LastTradeToday\",, \"T\")","v":""},{"$f":"RTD(\"cqg.rtd\", ,\"ContractData\",C179, \"NetLastTradeToday\",, \"T\")","v":""},{"$f":"IFERROR(RTD(\"cqg.rtd\", ,\"ContractData\",C179, \"PerCentNetLastTrade\",, \"T\")/100,\"\")","v":""},{"$f":"RTD(\"cqg.rtd\", ,\"ContractData\", C179, \"T_CVol\",, \"T\")","v":398749},179,{"$f":"IFERROR(RANK($J179,$J$1:J$503)+COUNTIF($J$1:J179,J179)-1,\"\")","v":""},"S.US.F",{"$error":"#N/A"}]
["S.US.FANG",1,"S.US.FANG",{"$f":"RTD(\"cqg.rtd\", ,\"ContractData\",C180, \"LongDescription\",, \"T\")","v":"Diamondback Energy, Inc."},null,null,null,{"$f":"RTD(\"cqg.rtd\", ,\"ContractData\",C180, \"LastTradeToday\",, \"T\")","v":""},{"$f":"RTD(\"cqg.rtd\", ,\"ContractData\",C180, \"NetLastTradeToday\",, \"T\")","v":""},{"$f":"IFERROR(RTD(\"cqg.rtd\", ,\"ContractData\",C180, \"PerCentNetLastTrade\",, \"T\")/100,\"\")","v":""},{"$f":"RTD(\"cqg.rtd\", ,\"ContractData\", C180, \"T_CVol\",, \"T\")","v":1413},180,{"$f":"IFERROR(RANK($J180,$J$1:J$503)+COUNTIF($J$1:J180,J180)-1,\"\")","v":""},"S.US.FANG",{"$error":"#N/A"}]
["S.US.FAST",1,"S.US.FAST",{"$f":"RTD(\"cqg.rtd\", ,\"ContractData\",C181, \"LongDescription\",, \"T\")","v":"Fastenal Co"},null,null,null,{"$f":"RTD(\"cqg.rtd\", ,\"ContractData\",C181, \"LastTradeToday\",, \"T\")","v":""},{"$f":"RTD(\"cqg.rtd\", ,\"ContractData\",C181, \"NetLastTradeToday\",, \"T\")","v":""},{"$f":"IFERROR(RTD(\"cqg.rtd\", ,\"ContractData\",C181, \"PerCentNetLastTrade\",, \"T\")/100,\"\")","v":""},{"$f":"RTD(\"cqg.rtd\", ,\"ContractData\", C181, \"T_CVol\",, \"T\")","v":1261},181,{"$f":"IFERROR(RANK($J181,$J$1:J$503)+COUNTIF($J$1:J181,J181)-1,\"\")","v":""},"S.US.FAST",{"$error":"#N/A"}]
["S.US.FCX",1,"S.US.FCX",{"$f":"RTD(\"cqg.rtd\", ,\"ContractData\",C182, \"LongDescription\",, \"T\")","v":"Freeport-McMoRan Inc."},null,null,null,{"$f":"RTD(\"cqg.rtd\", ,\"ContractData\",C182, \"LastTradeToday\",, \"T\")","v":""},{"$f":"RTD(\"cqg.rtd\", ,\"ContractData\",C182, \"NetLastTradeToday\",, \"T\")","v":""},{"$f":"IFERROR(RTD(\"cqg.rtd\", ,\"ContractData\",C182, \"PerCentNetLastTrade\",, \"T\")/100,\"\")","v":""},{"$f":"RTD(\"cqg.rtd\", ,\"ContractData\", C182, \"T_CVol\",, \"T\")","v":17853},182,{"$f":"IFERROR(RANK($J182,$J$1:J$503)+COUNTIF($J$1:J182,J182)-1,\"\")","v":""},"S.US.FCX",{"$error":"#N/A"}]
["S.US.FDS",1,"S.US.FDS",{"$f":"RTD(\"cqg.rtd\", ,\"ContractData\",C183, \"LongDescription\",, \"T\")","v":"Factet Research"},null,null,null,{"$f":"RTD(\"cqg.rtd\", ,\"ContractData\",C183, \"LastTradeToday\",, \"T\")","v":""},{"$f":"RTD(\"cqg.rtd\", ,\"ContractData\",C183, \"NetLastTradeToday\",, \"T\")","v":""},{"$f":"IFERROR(RTD(\"cqg.rtd\", ,\"ContractData\",C183, \"PerCentNetLastTrade\",, \"T\")/100,\"\")","v":""},{"$f":"RTD(\"cqg.rtd\", ,\"ContractData\", C183, \"T_CVol\",, \"T\")","v":27},183,{"$f":"IFERROR(RANK($J183,$J$1:J$503)+COUNTIF($J$1:J183,J183)-1,\"\")","v":""},"S.US.FDS",{"$error":"#N/A"}]
["S.US.FDX",1,"S.US.FDX",{"$f":"RTD(\"cqg.rtd\", ,\"ContractData\",C184, \"LongDescription\",, \"T\")","v":"FedEx Corp"},null,null,null,{"$f":"RTD(\"cqg.rtd\", ,\"ContractData\",C184, \"LastTradeToday\",, \"T\")","v":""},{"$f":"RTD(\"cqg.rtd\", ,\"ContractData\",C184, \"NetLastTradeToday\",, \"T\")","v":""},{"$f":"IFERROR(RTD(\"cqg.rtd\", ,\"ContractData\",C184, \"PerCentNetLastTrade\",, \"T\")/100,\"\")","v":""},{"$f":"RTD(\"cqg.rtd\", ,\"ContractData\", C184, \"T_CVol\",, \"T\")","v":733},184,{"$f":"IFERROR(RANK($J184,$J$1:J$503)+COUNTIF($J$1:J184,J184)-1,\"\")","v":""},"S.US.FDX",{"$error":"#N/A"}]
["S.US.FE",1,"S.US.FE",{"$f":"RTD(\"cqg.rtd\", ,\"ContractData\",C185, \"LongDescription\",, \"T\")","v":"FirstEnergy Corp"},null,null,null,{"$f":"RTD(\"cqg.rtd\", ,\"ContractData\",C185, \"LastTradeToday\",, \"T\")","v":""},{"$f":"RTD(\"cqg.rtd\", ,\"ContractData\",C185, \"NetLastTradeToday\",, \"T\")","v":""},{"$f":"IFERROR(RTD(\"cqg.rtd\", ,\"ContractData\",C185, \"PerCentNetLastTrade\",, \"T\")/100,\"\")","v":""},{"$f":"RTD(\"cqg.rtd\", ,\"ContractData\", C185, \"T_CVol\",, \"T\")","v":51},185,{"$f":"IFERROR(RANK($J185,$J$1:J$503)+COUNTIF($J$1:J185,J185)-1,\"\")","v":""},"S.US.FE",{"$error":"#N/A"}]
["S.US.FFIV",1,"S.US.FFIV",{"$f":"RTD(\"cqg.rtd\", ,\"ContractData\",C186, \"LongDescription\",, \"T\")","v":"F5, Inc."},null,null,null,{"$f":"RTD(\"cqg.rtd\", ,\"ContractData\",C186, \"LastTradeToday\",, \"T\")","v":""},{"$f":"RTD(\"cqg.rtd\", ,\"ContractData\",C186, \"NetLastTradeToday\",, \"T\")","v":""},{"$f":"IFERROR(RTD(\"cqg.rtd\", ,\"ContractData\",C186, \"PerCentNetLastTrade\",, \"T\")/100,\"\")","v":""},{"$f":"RTD(\"cqg.rtd\", ,\"ContractData\", C186, \"T_CVol\",, \"T\")","v":330},186,{"$f":"IFERROR(RANK($J186,$J$1:J$503)+COUNTIF($J$1:J186,J186)-1,\"\")","v":""},"S.US.FFIV",{"$error":"#N/A"}]
["S.US.FI",1,"S.US.FI",{"$f":"RTD(\"cqg.rtd\", ,\"ContractData\",C187, \"LongDescription\",, \"T\")","v":"Fiserv, Inc."},null,null,null,{"$f":"RTD(\"cqg.rtd\", ,\"ContractData\",C187, \"LastTradeToday\",, \"T\")","v":""},{"$f":"RTD(\"cqg.rtd\", ,\"ContractData\",C187, \"NetLastTradeToday\",, \"T\")","v":""},{"$f":"IFERROR(RTD(\"cqg.rtd\", ,\"ContractData\",C187, \"PerCentNetLastTrade\",, \"T\")/100,\"\")","v":""},{"$f":"RTD(\"cqg.rtd\", ,\"ContractData\", C187, \"T_CVol\",, \"T\")","v":1846},187,{"$f":"IFERROR(RANK($J187,$J$1:J$503)+COUNTIF($J$1:J187,J187)-1,\"\")","v":""},"S.US.FI",{"$error":"#N/A"}]
["S.US.FICO",1,"S.US.FICO",{"$f":"RTD(\"cqg.rtd\", ,\"ContractData\",C188, \"LongDescription\",, \"T\")","v":"Fair Isaac Inc"},null,null,null,{"$f":"RTD(\"cqg.rtd\", ,\"ContractData\",C188, \"LastTradeToday\",, \"T\")","v":""},{"$f":"RTD(\"cqg.rtd\", ,\"ContractData\",C188, \"NetLastTradeToday\",, \"T\")","v":""},{"$f":"IFERROR(RTD(\"cqg.rtd\", ,\"ContractData\",C188, \"PerCentNetLastTrade\",, \"T\")/100,\"\")","v":""},{"$f":"RTD(\"cqg.rtd\", ,\"ContractData\", C188, \"T_CVol\",, \"T\")","v":114},188,{"$f":"IFERROR(RANK($J188,$J$1:J$503)+COUNTIF($J$1:J188,J188)-1,\"\")","v":""},"S.US.FICO",{"$error":"#N/A"}]
["S.US.FIS",1,"S.US.FIS",{"$f":"RTD(\"cqg.rtd\", ,\"ContractData\",C189, \"LongDescription\",, \"T\")","v":"Fidelity National Info Services"},null,null,null,{"$f":"RTD(\"cqg.rtd\", ,\"ContractData\",C189, \"LastTradeToday\",, \"T\")","v":""},{"$f":"RTD(\"cqg.rtd\", ,\"ContractData\",C189, \"NetLastTradeToday\",, \"T\")","v":""},{"$f":"IFERROR(RTD(\"cqg.rtd\", ,\"ContractData\",C189, \"PerCentNetLastTrade\",, \"T\")/100,\"\")","v":""},{"$f":"RTD(\"cqg.rtd\", ,\"ContractData\", C189, \"T_CVol\",, \"T\")","v":40},189,{"$f":"IFERROR(RANK($J189,$J$1:J$503)+COUNTIF($J$1:J189,J189)-1,\"\")","v":""},"S.US.FIS",{"$error":"#N/A"}]
["S.US.FITB",1,"S.US.FITB",{"$f":"RTD(\"cqg.rtd\", ,\"ContractData\",C190, \"LongDescription\",, \"T\")","v":"Fifth Third Bancorp"},null,null,null,{"$f":"RTD(\"cqg.rtd\", ,\"ContractData\",C190, \"LastTradeToday\",, \"T\")","v":""},{"$f":"RTD(\"cqg.rtd\", ,\"ContractData\",C190, \"NetLastTradeToday\",, \"T\")","v":""},{"$f":"IFERROR(RTD(\"cqg.rtd\", ,\"ContractData\",C190, \"PerCentNetLastTrade\",, \"T\")/100,\"\")","v":""},{"$f":"RTD(\"cqg.rtd\", ,\"ContractData\", C190, \"T_CVol\",, \"T\")","v":51},190,{"$f":"IFERROR(RANK($J190,$J$1:J$503)+COUNTIF($J$1:J190,J190)-1,\"\")","v":""},"S.US.FITB",{"$error":"#N/A"}]
["S.US.FOX",1,"S.US.FOX",{"$f":"RTD(\"cqg.rtd\", ,\"ContractData\",C191, \"LongDescription\",, \"T\")","v":"Fox Corporation"},null,null,null,{"$f":"RTD(\"cqg.rtd\", ,\"ContractData\",C191, \"LastTradeToday\",, \"T\")","v":""},{"$f":"RTD(\"cqg.rtd\", ,\"ContractData\",C191, \"NetLastTradeToday\",, \"T\")","v":""},{"$f":"IFERROR(RTD(\"cqg.rtd\", ,\"ContractData\",C191, \"PerCentNetLastTrade\",, \"T\")/100,\"\")","v":""},{"$f":"RTD(\"cqg.rtd\", ,\"ContractData\", C191, \"T_CVol\",, \"T\")","v":47},191,{"$f":"IFERROR(RANK($J191,$J$1:J$503)+COUNTIF($J$1:J191,J191)-1,\"\")","v":""},"S.US.FOX",{"$error":"#N/A"}]
["S.US.FOXA",1,"S.US.FOXA",{"$f":"RTD(\"cqg.rtd\", ,\"ContractData\",C192, \"LongDescription\",, \"T\")","v":"Fox Corporation Class A"},null,null,null,{"$f":"RTD(\"cqg.rtd\", ,\"ContractData\",C192, \"LastTradeToday\",, \"T\")","v":""},{"$f":"RTD(\"cqg.rtd\", ,\"ContractData\",C192, \"NetLastTradeToday\",, \"T\")","v":""},{"$f":"IFERROR(RTD(\"cqg.rtd\", ,\"ContractData\",C192, \"PerCentNetLastTrade\",, \"T\")/100,\"\")","v":""},{"$f":"RTD(\"cqg.rtd\", ,\"ContractData\", C192, \"T_CVol\",, \"T\")","v":307},192,{"$f":"IFERROR(RANK($J192,$J$1:J$503)+COUNTIF($J$1:J192,J192)-1,\"\")","v":""},"S.US.FOXA",{"$error":"#N/A"}]
["S.US.FRT",1,"S.US.FRT",{"$f":"RTD(\"cqg.rtd\", ,\"ContractData\",C193, \"LongDescription\",, \"T\")","v":"Federal Realty Invstmt Trst"},null,null,null,{"$f":"RTD(\"cqg.rtd\", ,\"ContractData\",C193, \"LastTradeToday\",, \"T\")","v":""},{"$f":"RTD(\"cqg.rtd\", ,\"ContractData\",C193, \"NetLastTradeToday\",, \"T\")","v":""},{"$f":"IFERROR(RTD(\"cqg.rtd\", ,\"ContractData\",C193, \"PerCentNetLastTrade\",, \"T\")/100,\"\")","v":""},{"$f":"RTD(\"cqg.rtd\", ,\"ContractData\", C193, \"T_CVol\",, \"T\")","v":3},193,{"$f":"IFERROR(RANK($J193,$J$1:J$503)+COUNTIF($J$1:J193,J193)-1,\"\")","v":""},"S.US.FRT",{"$error":"#N/A"}]
["S.US.FSLR",{"$f":"IF(J194>0,1,0)","v":1},"S.US.FSLR",{"$f":"RTD(\"cqg.rtd\", ,\"ContractData\",C194, \"LongDescription\",, \"T\")","v":"First Solar, Inc"},null,null,null,{"$f":"RTD(\"cqg.rtd\", ,\"ContractData\",C194, \"LastTradeToday\",, \"T\")","v":""},{"$f":"RTD(\"cqg.rtd\", ,\"ContractData\",C194, \"NetLastTradeToday\",, \"T\")","v":""},{"$f":"IFERROR(RTD(\"cqg.rtd\", ,\"ContractData\",C194, \"PerCentNetLastTrade\",, \"T\")/100,\"\")","v":""},{"$f":"RTD(\"cqg.rtd\", ,\"ContractData\", C194, \"T_CVol\",, \"T\")","v":5375},194,{"$f":"IFERROR(RANK($J194,$J$1:J$503)+COUNTIF($J$1:J194,J194)-1,\"\")","v":""},{"$f":"C194","v":"S.US.FSLR"},{"$f":"TRIM(VLOOKUP($L194,$M$1:$N$503,2,FALSE))","v":{"$error":"#N/A"}}]
["S.US.FTNT",1,"S.US.FTNT",{"$f":"RTD(\"cqg.rtd\", ,\"ContractData\",C195, \"LongDescription\",, \"T\")","v":"Fortinet, Inc."},null,null,null,{"$f":"RTD(\"cqg.rtd\", ,\"ContractData\",C195, \"LastTradeToday\",, \"T\")","v":""},{"$f":"RTD(\"cqg.rtd\", ,\"ContractData\",C195, \"NetLastTradeToday\",, \"T\")","v":""},{"$f":"IFERROR(RTD(\"cqg.rtd\", ,\"ContractData\",C195, \"PerCentNetLastTrade\",, \"T\")/100,\"\")","v":""},{"$f":"RTD(\"cqg.rtd\", ,\"ContractData\", C195, \"T_CVol\",, \"T\")","v":5609},{"$f":"L194+1","v":195},{"$f":"IFERROR(RANK($J195,$J$1:J$503)+COUNTIF($J$1:J195,J195)-1,\"\")","v":""},"S.US.FTNT",{"$error":"#N/A"}]
["S.US.FTV",1,"S.US.FTV",{"$f":"RTD(\"cqg.rtd\", ,\"ContractData\",C196, \"LongDescription\",, \"T\")","v":"Fortive Corporation"},null,null,null,{"$f":"RTD(\"cqg.rtd\", ,\"ContractData\",C196, \"LastTradeToday\",, \"T\")","v":""},{"$f":"RTD(\"cqg.rtd\", ,\"ContractData\",C196, \"NetLastTradeToday\",, \"T\")","v":""},{"$f":"IFERROR(RTD(\"cqg.rtd\", ,\"ContractData\",C196, \"PerCentNetLastTrade\",, \"T\")/100,\"\")","v":""},{"$f":"RTD(\"cqg.rtd\", ,\"ContractData\", C196, \"T_CVol\",, \"T\")","v":53},196,{"$f":"IFERROR(RANK($J196,$J$1:J$503)+COUNTIF($J$1:J196,J196)-1,\"\")","v":""},"S.US.FTV",{"$error":"#N/A"}]
["S.US.GD",1,"S.US.GD",{"$f":"RTD(\"cqg.rtd\", ,\"ContractData\",C197, \"LongDescription\",, \"T\")","v":"General Dynamics Corp"},null,null,null,{"$f":"RTD(\"cqg.rtd\", ,\"ContractData\",C197, \"LastTradeToday\",, \"T\")","v":""},{"$f":"RTD(\"cqg.rtd\", ,\"ContractData\",C197, \"NetLastTradeToday\",, \"T\")","v":""},{"$f":"IFERROR(RTD(\"cqg.rtd\", ,\"ContractData\",C197, \"PerCentNetLastTrade\",, \"T\")/100,\"\")","v":""},{"$f":"RTD(\"cqg.rtd\", ,\"ContractData\", C197, \"T_CVol\",, \"T\")","v":1658},197,{"$f":"IFERROR(RANK($J197,$J$1:J$503)+COUNTIF($J$1:J197,J197)-1,\"\")","v":""},"S.US.GD",{"$error":"#N/A"}]
["S.US.GDDY",1,"S.US.GDDY",{"$f":"RTD(\"cqg.rtd\", ,\"ContractData\",C198, \"LongDescription\",, \"T\")","v":"GoDaddy Inc."},null,null,null,{"$f":"RTD(\"cqg.rtd\", ,\"ContractData\",C198, \"LastTradeToday\",, \"T\")","v":""},{"$f":"RTD(\"cqg.rtd\", ,\"ContractData\",C198, \"NetLastTradeToday\",, \"T\")","v":""},{"$f":"IFERROR(RTD(\"cqg.rtd\", ,\"ContractData\",C198, \"PerCentNetLastTrade\",, \"T\")/100,\"\")","v":""},{"$f":"RTD(\"cqg.rtd\", ,\"ContractData\", C198, \"T_CVol\",, \"T\")","v":76},198,{"$f":"IFERROR(RANK($J198,$J$1:J$503)+COUNTIF($J$1:J198,J198)-1,\"\")","v":""},"S.US.GDDY",{"$error":"#N/A"}]
["S.US.GE",1,"S.US.GE",{"$f":"RTD(\"cqg.rtd\", ,\"ContractData\",C199, \"LongDescription\",, \"T\")","v":"General Electric Co"},null,null,null,{"$f":"RTD(\"cqg.rtd\", ,\"ContractData\",C199, \"LastTradeToday\",, \"T\")","v":""},{"$f":"RTD(\"cqg.rtd\", ,\"ContractData\",C199, \"NetLastTradeToday\",, \"T\")","v":""},{"$f":"IFERROR(RTD(\"cqg.rtd\", ,\"ContractData\",C199, \"PerCentNetLastTrade\",, \"T\")/100,\"\")","v":""},{"$f":"RTD(\"cqg.rtd\", ,\"ContractData\", C199, \"T_CVol\",, \"T\")","v":5031},199,{"$f":"IFERROR(RANK($J199,$J$1:J$503)+COUNTIF($J$1:J199,J199)-1,\"\")","v":""},"S.US.GE",{"$error":"#N/A"}]
["S.US.GEHC",1,"S.US.GEHC",{"$f":"RTD(\"cqg.rtd\", ,\"ContractData\",C200, \"LongDescription\",, \"T\")","v":"GE HealthCare Technologies Inc."},null,null,null,{"$f":"RTD(\"cqg.rtd\", ,\"ContractData\",C200, \"LastTradeToday\",, \"T\")","v":""},{"$f":"RTD(\"cqg.rtd\", ,\"ContractData\",C200, \"NetLastTradeToday\",, \"T\")","v":""},{"$f":"IFERROR(RTD(\"cqg.rtd\", ,\"ContractData\",C200, \"PerCentNetLastTrade\",, \"T\")/100,\"\")","v":""},{"$f":"RTD(\"cqg.rtd\", ,\"ContractData\", C200, \"T_CVol\",, \"T\")","v":1887},200,{"$f":"IFERROR(RANK($J200,$J$1:J$503)+COUNTIF($J$1:J200,J200)-1,\"\")","v":""},"S.US.GEHC",{"$error":"#N/A"}]
["S.US.GEN",1,"S.US.GEN",{"$f":"RTD(\"cqg.rtd\", ,\"ContractData\",C201, \"LongDescription\",, \"T\")","v":"Gen Digital Inc."},null,null,null,{"$f":"RTD(\"cqg.rtd\", ,\"ContractData\",C201, \"LastTradeToday\",, \"T\")","v":""},{"$f":"RTD(\"cqg.rtd\", ,\"ContractData\",C201, \"NetLastTradeToday\",, \"T\")","v":""},{"$f":"IFERROR(RTD(\"cqg.rtd\", ,\"ContractData\",C201, \"PerCentNetLastTrade\",, \"T\")/100,\"\")","v":""},{"$f":"RTD(\"cqg.rtd\", ,\"ContractData\", C201, \"T_CVol\",, \"T\")","v":462},201,{"$f":"IFERROR(RANK($J201,$J$1:J$503)+COUNTIF($J$1:J201,J201)-1,\"\")","v":""},"S.US.GEN",{"$error":"#N/A"}]
["S.US.GEV",1,"S.US.GEV",{"$f":"RTD(\"cqg.rtd\", ,\"ContractData\",C202, \"LongDescription\",, \"T\")","v":"GE Vernova Inc."},null,null,null,{"$f":"RTD(\"cqg.rtd\", ,\"ContractData\",C202, \"LastTradeToday\",, \"T\")","v":""},{"$f":"RTD(\"cqg.rtd\", ,\"ContractData\",C202, \"NetLastTradeToday\",, \"T\")","v":""},{"$f":"IFERROR(RTD(\"cqg.rtd\", ,\"ContractData\",C202, \"PerCentNetLastTrade\",, \"T\")/100,\"\")","v":""},{"$f":"RTD(\"cqg.rtd\", ,\"ContractData\", C202, \"T_CVol\",, \"T\")","v":12213},202,{"$f":"IFERROR(RANK($J202,$J$1:J$503)+COUNTIF($J$1:J202,J202)-1,\"\")","v":""},"S.US.GEV",{"$error":"#N/A"}]
["S.US.GILD",1,"S.US.GILD",{"$f":"RTD(\"cqg.rtd\", ,\"ContractData\",C203, \"LongDescription\",, \"T\")","v":"Gilead Sciences Inc"},null,null,null,{"$f":"RTD(\"cqg.rtd\", ,\"ContractData\",C203, \"LastTradeToday\",, \"T\")","v":""},{"$f":"RTD(\"cqg.rtd\", ,\"ContractData\",C203, \"NetLastTradeToday\",, \"T\")","v":""},{"$f":"IFERROR(RTD(\"cqg.rtd\", ,\"ContractData\",C203, \"PerCentNetLastTrade\",, \"T\")/100,\"\")","v":""},{"$f":"RTD(\"cqg.rtd\", ,\"ContractData\", C203, \"T_CVol\",, \"T\")","v":3103},203,{"$f":"IFERROR(RANK($J203,$J$1:J$503)+COUNTIF($J$1:J203,J203)-1,\"\")","v":""},"S.US.GILD",{"$error":"#N/A"}]
["S.US.GIS",1,"S.US.GIS",{"$f":"RTD(\"cqg.rtd\", ,\"ContractData\",C204, \"LongDescription\",, \"T\")","v":"General Mills Inc"},null,null,null,{"$f":"RTD(\"cqg.rtd\", ,\"ContractData\",C204, \"LastTradeToday\",, \"T\")","v":""},{"$f":"RTD(\"cqg.rtd\", ,\"ContractData\",C204, \"NetLastTradeToday\",, \"T\")","v":""},{"$f":"IFERROR(RTD(\"cqg.rtd\", ,\"ContractData\",C204, \"PerCentNetLastTrade\",, \"T\")/100,\"\")","v":""},{"$f":"RTD(\"cqg.rtd\", ,\"ContractData\", C204, \"T_CVol\",, \"T\")","v":3235},204,{"$f":"IFERROR(RANK($J204,$J$1:J$503)+COUNTIF($J$1:J204,J204)-1,\"\")","v":""},"S.US.GIS",{"$error":"#N/A"}]
["S.US.GL",1,"S.US.GL",{"$f":"RTD(\"cqg.rtd\", ,\"ContractData\",C205, \"LongDescription\",, \"T\")","v":"Globe Life Inc."},null,null,null,{"$f":"RTD(\"cqg.rtd\", ,\"ContractData\",C205, \"LastTradeToday\",, \"T\")","v":""},{"$f":"RTD(\"cqg.rtd\", ,\"ContractData\",C205, \"NetLastTradeToday\",, \"T\")","v":""},{"$f":"IFERROR(RTD(\"cqg.rtd\", ,\"ContractData\",C205, \"PerCentNetLastTrade\",, \"T\")/100,\"\")","v":""},{"$f":"RTD(\"cqg.rtd\", ,\"ContractData\", C205, \"T_CVol\",, \"T\")","v":77},205,{"$f":"IFERROR(RANK($J205,$J$1:J$503)+COUNTIF($J$1:J205,J205)-1,\"\")","v":""},"S.US.GL",{"$error":"#N/A"}]
["S.US.GLW",1,"S.US.GLW",{"$f":"RTD(\"cqg.rtd\", ,\"ContractData\",C206, \"LongDescription\",, \"T\")","v":"Corning Incorporated"},null,null,null,{"$f":"RTD(\"cqg.rtd\", ,\"ContractData\",C206, \"LastTradeToday\",, \"T\")","v":""},{"$f":"RTD(\"cqg.rtd\", ,\"ContractData\",C206, \"NetLastTradeToday\",, \"T\")","v":""},{"$f":"IFERROR(RTD(\"cqg.rtd\", ,\"ContractData\",C206, \"PerCentNetLastTrade\",, \"T\")/100,\"\")","v":""},{"$f":"RTD(\"cqg.rtd\", ,\"ContractData\", C206, \"T_CVol\",, \"T\")","v":2962},206,{"$f":"IFERROR(RANK($J206,$J$1:J$503)+COUNTIF($J$1:J206,J206)-1,\"\")","v":""},"S.US.GLW",{"$error":"#N/A"}]
["S.US.GM",1,"S.US.GM",{"$f":"RTD(\"cqg.rtd\", ,\"ContractData\",C207, \"LongDescription\",, \"T\")","v":"General Motors Company"},null,null,null,{"$f":"RTD(\"cqg.rtd\", ,\"ContractData\",C207, \"LastTradeToday\",, \"T\")","v":""},{"$f":"RTD(\"cqg.rtd\", ,\"ContractData\",C207, \"NetLastTradeToday\",, \"T\")","v":""},{"$f":"IFERROR(RTD(\"cqg.rtd\", ,\"ContractData\",C207, \"PerCentNetLastTrade\",, \"T\")/100,\"\")","v":""},{"$f":"RTD(\"cqg.rtd\", ,\"ContractData\", C207, \"T_CVol\",, \"T\")","v":1413},207,{"$f":"IFERROR(RANK($J207,$J$1:J$503)+COUNTIF($J$1:J207,J207)-1,\"\")","v":""},"S.US.GM",{"$error":"#N/A"}]
["S.US.GNRC",1,"S.US.GNRC",{"$f":"RTD(\"cqg.rtd\", ,\"ContractData\",C208, \"LongDescription\",, \"T\")","v":"Generac Holdings Inc."},null,null,null,{"$f":"RTD(\"cqg.rtd\", ,\"ContractData\",C208, \"LastTradeToday\",, \"T\")","v":""},{"$f":"RTD(\"cqg.rtd\", ,\"ContractData\",C208, \"NetLastTradeToday\",, \"T\")","v":""},{"$f":"IFERROR(RTD(\"cqg.rtd\", ,\"ContractData\",C208, \"PerCentNetLastTrade\",, \"T\")/100,\"\")","v":""},{"$f":"RTD(\"cqg.rtd\", ,\"ContractData\", C208, \"T_CVol\",, \"T\")","v":269},208,{"$f":"IFERROR(RANK($J208,$J$1:J$503)+COUNTIF($J$1:J208,J208)-1,\"\")","v":""},"S.US.GNRC",{"$error":"#N/A"}]
["S.US.GOOG",1,"S.US.GOOG",{"$f":"RTD(\"cqg.rtd\", ,\"ContractData\",C209, \"LongDescription\",, \"T\")","v":"Alphabet, Inc. Class C"},null,null,null,{"$f":"RTD(\"cqg.rtd\", ,\"ContractData\",C209, \"LastTradeToday\",, \"T\")","v":""},{"$f":"RTD(\"cqg.rtd\", ,\"ContractData\",C209, \"NetLastTradeToday\",, \"T\")","v":""},{"$f":"IFERROR(RTD(\"cqg.rtd\", ,\"ContractData\",C209, \"PerCentNetLastTrade\",, \"T\")/100,\"\")","v":""},{"$f":"RTD(\"cqg.rtd\", ,\"ContractData\", C209, \"T_CVol\",, \"T\")","v":150249},209,{"$f":"IFERROR(RANK($J209,$J$1:J$503)+COUNTIF($J$1:J209,J209)-1,\"\")","v":""},"S.US.GOOG",{"$error":"#N/A"}]
["S.US.GOOGL",1,"S.US.GOOGL",{"$f":"RTD(\"cqg.rtd\", ,\"ContractData\",C210, \"LongDescription\",, \"T\")","v":"Alphabet, Inc. Class A"},null,null,null,{"$f":"RTD(\"cqg.rtd\", ,\"ContractData\",C210, \"LastTradeToday\",, \"T\")","v":""},{"$f":"RTD(\"cqg.rtd\", ,\"ContractData\",C210, \"NetLastTradeToday\",, \"T\")","v":""},{"$f":"IFERROR(RTD(\"cqg.rtd\", ,\"ContractData\",C210, \"PerCentNetLastTrade\",, \"T\")/100,\"\")","v":""},{"$f":"RTD(\"cqg.rtd\", ,\"ContractData\", C210, \"T_CVol\",, \"T\")","v":286930},210,{"$f":"IFERROR(RANK($J210,$J$1:J$503)+COUNTIF($J$1:J210,J210)-1,\"\")","v":""},"S.US.GOOGL",{"$error":"#N/A"}]
["S.US.GPC",1,"S.US.GPC",{"$f":"RTD(\"cqg.rtd\", ,\"ContractData\",C211, \"LongDescription\",, \"T\")","v":"Genuine Parts Company"},null,null,null,{"$f":"RTD(\"cqg.rtd\", ,\"ContractData\",C211, \"LastTradeToday\",, \"T\")","v":""},{"$f":"RTD(\"cqg.rtd\", ,\"ContractData\",C211, \"NetLastTradeToday\",, \"T\")","v":""},{"$f":"IFERROR(RTD(\"cqg.rtd\", ,\"ContractData\",C211, \"PerCentNetLastTrade\",, \"T\")/100,\"\")","v":""},{"$f":"RTD(\"cqg.rtd\", ,\"ContractData\", C211, \"T_CVol\",, \"T\")","v":70},211,{"$f":"IFERROR(RANK($J211,$J$1:J$503)+COUNTIF($J$1:J211,J211)-1,\"\")","v":""},"S.US.GPC",{"$error":"#N/A"}]
["S.US.GPN",1,"S.US.GPN",{"$f":"RTD(\"cqg.rtd\", ,\"ContractData\",C212, \"LongDescription\",, \"T\")","v":"Global Payments"},null,null,null,{"$f":"RTD(\"cqg.rtd\", ,\"ContractData\",C212, \"LastTradeToday\",, \"T\")","v":""},{"$f":"RTD(\"cqg.rtd\", ,\"ContractData\",C212, \"NetLastTradeToday\",, \"T\")","v":""},{"$f":"IFERROR(RTD(\"cqg.rtd\", ,\"ContractData\",C212, \"PerCentNetLastTrade\",, \"T\")/100,\"\")","v":""},{"$f":"RTD(\"cqg.rtd\", ,\"ContractData\", C212, \"T_CVol\",, \"T\")","v":942},212,{"$f":"IFERROR(RANK($J212,$J$1:J$503)+COUNTIF($J$1:J212,J212)-1,\"\")","v":""},"S.US.GPN",{"$error":"#N/A"}]
["S.US.GRMN",1,"S.US.GRMN",{"$f":"RTD(\"cqg.rtd\", ,\"ContractData\",C213, \"LongDescription\",, \"T\")","v":"Garmin Ltd"},null,null,null,{"$f":"RTD(\"cqg.rtd\", ,\"ContractData\",C213, \"LastTradeToday\",, \"T\")","v":""},{"$f":"RTD(\"cqg.rtd\", ,\"ContractData\",C213, \"NetLastTradeToday\",, \"T\")","v":""},{"$f":"IFERROR(RTD(\"cqg.rtd\", ,\"ContractData\",C213, \"PerCentNetLastTrade\",, \"T\")/100,\"\")","v":""},{"$f":"RTD(\"cqg.rtd\", ,\"ContractData\", C213, \"T_CVol\",, \"T\")","v":16},213,{"$f":"IFERROR(RANK($J213,$J$1:J$503)+COUNTIF($J$1:J213,J213)-1,\"\")","v":""},"S.US.GRMN",{"$error":"#N/A"}]
["S.US.GS",1,"S.US.GS",{"$f":"RTD(\"cqg.rtd\", ,\"ContractData\",C214, \"LongDescription\",, \"T\")","v":"Goldman Sachs Group"},null,null,null,{"$f":"RTD(\"cqg.rtd\", ,\"ContractData\",C214, \"LastTradeToday\",, \"T\")","v":""},{"$f":"RTD(\"cqg.rtd\", ,\"ContractData\",C214, \"NetLastTradeToday\",, \"T\")","v":""},{"$f":"IFERROR(RTD(\"cqg.rtd\", ,\"ContractData\",C214, \"PerCentNetLastTrade\",, \"T\")/100,\"\")","v":""},{"$f":"RTD(\"cqg.rtd\", ,\"ContractData\", C214, \"T_CVol\",, \"T\")","v":2367},214,{"$f":"IFERROR(RANK($J214,$J$1:J$503)+COUNTIF($J$1:J214,J214)-1,\"\")","v":""},"S.US.GS",{"$error":"#N/A"}]
["S.US.GWW",1,"S.US.GWW",{"$f":"RTD(\"cqg.rtd\", ,\"ContractData\",C215, \"LongDescription\",, \"T\")","v":"Grainger (WW) Inc"},null,null,null,{"$f":"RTD(\"cqg.rtd\", ,\"ContractData\",C215, \"LastTradeToday\",, \"T\")","v":""},{"$f":"RTD(\"cqg.rtd\", ,\"ContractData\",C215, \"NetLastTradeToday\",, \"T\")","v":""},{"$f":"IFERROR(RTD(\"cqg.rtd\", ,\"ContractData\",C215, \"PerCentNetLastTrade\",, \"T\")/100,\"\")","v":""},{"$f":"RTD(\"cqg.rtd\", ,\"ContractData\", C215, \"T_CVol\",, \"T\")","v":76},215,{"$f":"IFERROR(RANK($J215,$J$1:J$503)+COUNTIF($J$1:J215,J215)-1,\"\")","v":""},"S.US.GWW",{"$error":"#N/A"}]
["S.US.HAL",1,"S.US.HAL",{"$f":"RTD(\"cqg.rtd\", ,\"ContractData\",C216, \"LongDescription\",, \"T\")","v":"Halliburton Company"},null,null,null,{"$f":"RTD(\"cqg.rtd\", ,\"ContractData\",C216, \"LastTradeToday\",, \"T\")","v":""},{"$f":"RTD(\"cqg.rtd\", ,\"ContractData\",C216, \"NetLastTradeToday\",, \"T\")","v":""},{"$f":"IFERROR(RTD(\"cqg.rtd\", ,\"ContractData\",C216, \"PerCentNetLastTrade\",, \"T\")/100,\"\")","v":""},{"$f":"RTD(\"cqg.rtd\", ,\"ContractData\", C216, \"T_CVol\",, \"T\")","v":6737},216,{"$f":"IFERROR(RANK($J216,$J$1:J$503)+COUNTIF($J$1:J216,J216)-1,\"\")","v":""},"S.US.HAL",{"$error":"#N/A"}]
["S.US.HAS",1,"S.US.HAS",{"$f":"RTD(\"cqg.rtd\", ,\"ContractData\",C217, \"LongDescription\",, \"T\")","v":"Hasbro Inc"},null,null,null,{"$f":"RTD(\"cqg.rtd\", ,\"ContractData\",C217, \"LastTradeToday\",, \"T\")","v":""},{"$f":"RTD(\"cqg.rtd\", ,\"ContractData\",C217, \"NetLastTradeToday\",, \"T\")","v":""},{"$f":"IFERROR(RTD(\"cqg.rtd\", ,\"ContractData\",C217, \"PerCentNetLastTrade\",, \"T\")/100,\"\")","v":""},{"$f":"RTD(\"cqg.rtd\", ,\"ContractData\", C217, \"T_CVol\",, \"T\")","v":770},217,{"$f":"IFERROR(RANK($J217,$J$1:J$503)+COUNTIF($J$1:J217,J217)-1,\"\")","v":""},"S.US.HAS",{"$error":"#N/A"}]
["S.US.HBAN",1,"S.US.HBAN",{"$f":"RTD(\"cqg.rtd\", ,\"ContractData\",C218, \"LongDescription\",, \"T\")","v":"Huntington Bancshrs Inc"},null,null,null,{"$f":"RTD(\"cqg.rtd\", ,\"ContractData\",C218, \"LastTradeToday\",, \"T\")","v":""},{"$f":"RTD(\"cqg.rtd\", ,\"ContractData\",C218, \"NetLastTradeToday\",, \"T\")","v":""},{"$f":"IFERROR(RTD(\"cqg.rtd\", ,\"ContractData\",C218, \"PerCentNetLastTrade\",, \"T\")/100,\"\")","v":""},{"$f":"RTD(\"cqg.rtd\", ,\"ContractData\", C218, \"T_CVol\",, \"T\")","v":2702},218,{"$f":"IFERROR(RANK($J218,$J$1:J$503)+COUNTIF($J$1:J218,J218)-1,\"\")","v":""},"S.US.HBAN",{"$error":"#N/A"}]
["S.US.HCA",1,"S.US.HCA",{"$f":"RTD(\"cqg.rtd\", ,\"ContractData\",C219, \"LongDescription\",, \"T\")","v":"HCA Holdings Inc."},null,null,null,{"$f":"RTD(\"cqg.rtd\", ,\"ContractData\",C219, \"LastTradeToday\",, \"T\")","v":""},{"$f":"RTD(\"cqg.rtd\", ,\"ContractData\",C219, \"NetLastTradeToday\",, \"T\")","v":""},{"$f":"IFERROR(RTD(\"cqg.rtd\", ,\"ContractData\",C219, \"PerCentNetLastTrade\",, \"T\")/100,\"\")","v":""},{"$f":"RTD(\"cqg.rtd\", ,\"ContractData\", C219, \"T_CVol\",, \"T\")","v":259},219,{"$f":"IFERROR(RANK($J219,$J$1:J$503)+COUNTIF($J$1:J219,J219)-1,\"\")","v":""},"S.US.HCA",{"$error":"#N/A"}]
["S.US.HD",1,"S.US.HD",{"$f":"RTD(\"cqg.rtd\", ,\"ContractData\",C220, \"LongDescription\",, \"T\")","v":"Home Depot, Inc."},null,null,null,{"$f":"RTD(\"cqg.rtd\", ,\"ContractData\",C220, \"LastTradeToday\",, \"T\")","v":""},{"$f":"RTD(\"cqg.rtd\", ,\"ContractData\",C220, \"NetLastTradeToday\",, \"T\")","v":""},{"$f":"IFERROR(RTD(\"cqg.rtd\", ,\"ContractData\",C220, \"PerCentNetLastTrade\",, \"T\")/100,\"\")","v":""},{"$f":"RTD(\"cqg.rtd\", ,\"ContractData\", C220, \"T_CVol\",, \"T\")","v":2040},220,{"$f":"IFERROR(RANK($J220,$J$1:J$503)+COUNTIF($J$1:J220,J220)-1,\"\")","v":""},"S.US.HD",{"$error":"#N/A"}]
["S.US.HIG",1,"S.US.HIG",{"$f":"RTD(\"cqg.rtd\", ,\"ContractData\",C221, \"LongDescription\",, \"T\")","v":"The Hartford Insurance Group, Inc."},null,null,null,{"$f":"RTD(\"cqg.rtd\", ,\"ContractData\",C221, \"LastTradeToday\",, \"T\")","v":""},{"$f":"RTD(\"cqg.rtd\", ,\"ContractData\",C221, \"NetLastTradeToday\",, \"T\")","v":""},{"$f":"IFERROR(RTD(\"cqg.rtd\", ,\"ContractData\",C221, \"PerCentNetLastTrade\",, \"T\")/100,\"\")","v":""},{"$f":"RTD(\"cqg.rtd\", ,\"ContractData\", C221, \"T_CVol\",, \"T\")","v":15},221,{"$f":"IFERROR(RANK($J221,$J$1:J$503)+COUNTIF($J$1:J221,J221)-1,\"\")","v":""},"S.US.HIG",{"$error":"#N/A"}]
["S.US.HII",1,"S.US.HII",{"$f":"RTD(\"cqg.rtd\", ,\"ContractData\",C222, \"LongDescription\",, \"T\")","v":"Huntington Ingalls Industries"},null,null,null,{"$f":"RTD(\"cqg.rtd\", ,\"ContractData\",C222, \"LastTradeToday\",, \"T\")","v":""},{"$f":"RTD(\"cqg.rtd\", ,\"ContractData\",C222, \"NetLastTradeToday\",, \"T\")","v":""},{"$f":"IFERROR(RTD(\"cqg.rtd\", ,\"ContractData\",C222, \"PerCentNetLastTrade\",, \"T\")/100,\"\")","v":""},{"$f":"RTD(\"cqg.rtd\", ,\"ContractData\", C222, \"T_CVol\",, \"T\")","v":294},222,{"$f":"IFERROR(RANK($J222,$J$1:J$503)+COUNTIF($J$1:J222,J222)-1,\"\")","v":""},"S.US.HII",{"$error":"#N/A"}]
["S.US.HLT",1,"S.US.HLT",{"$f":"RTD(\"cqg.rtd\", ,\"ContractData\",C223, \"LongDescription\",, \"T\")","v":"Hilton Inc."},null,null,null,{"$f":"RTD(\"cqg.rtd\", ,\"ContractData\",C223, \"LastTradeToday\",, \"T\")","v":""},{"$f":"RTD(\"cqg.rtd\", ,\"ContractData\",C223, \"NetLastTradeToday\",, \"T\")","v":""},{"$f":"IFERROR(RTD(\"cqg.rtd\", ,\"ContractData\",C223, \"PerCentNetLastTrade\",, \"T\")/100,\"\")","v":""},{"$f":"RTD(\"cqg.rtd\", ,\"ContractData\", C223, \"T_CVol\",, \"T\")","v":90},223,{"$f":"IFERROR(RANK($J223,$J$1:J$503)+COUNTIF($J$1:J223,J223)-1,\"\")","v":""},"S.US.HLT",{"$error":"#N/A"}]
["S.US.HOLX",1,"S.US.HOLX",{"$f":"RTD(\"cqg.rtd\", ,\"ContractData\",C224, \"LongDescription\",, \"T\")","v":"Hologic Inc"},null,null,null,{"$f":"RTD(\"cqg.rtd\", ,\"ContractData\",C224, \"LastTradeToday\",, \"T\")","v":""},{"$f":"RTD(\"cqg.rtd\", ,\"ContractData\",C224, \"NetLastTradeToday\",, \"T\")","v":""},{"$f":"IFERROR(RTD(\"cqg.rtd\", ,\"ContractData\",C224, \"PerCentNetLastTrade\",, \"T\")/100,\"\")","v":""},{"$f":"RTD(\"cqg.rtd\", ,\"ContractData\", C224, \"T_CVol\",, \"T\")","v":2360},224,{"$f":"IFERROR(RANK($J224,$J$1:J$503)+COUNTIF($J$1:J224,J224)-1,\"\")","v":""},"S.US.HOLX",{"$error":"#N/A"}]
["S.US.HON",1,"S.US.HON",{"$f":"RTD(\"cqg.rtd\", ,\"ContractData\",C225, \"LongDescription\",, \"T\")","v":"Honeywell Intl"},null,null,null,{"$f":"RTD(\"cqg.rtd\", ,\"ContractData\",C225, \"LastTradeToday\",, \"T\")","v":""},{"$f":"RTD(\"cqg.rtd\", ,\"ContractData\",C225, \"NetLastTradeToday\",, \"T\")","v":""},{"$f":"IFERROR(RTD(\"cqg.rtd\", ,\"ContractData\",C225, \"PerCentNetLastTrade\",, \"T\")/100,\"\")","v":""},{"$f":"RTD(\"cqg.rtd\", ,\"ContractData\", C225, \"T_CVol\",, \"T\")","v":2680},225,{"$f":"IFERROR(RANK($J225,$J$1:J$503)+COUNTIF($J$1:J225,J225)-1,\"\")","v":""},"S.US.HON",{"$error":"#N/A"}]
["S.US.HPE",1,"S.US.HPE",{"$f":"RTD(\"cqg.rtd\", ,\"ContractData\",C226, \"LongDescription\",, \"T\")","v":"Hewlett Packard Enterprise Company"},null,null,null,{"$f":"RTD(\"cqg.rtd\", ,\"ContractData\",C226, \"LastTradeToday\",, \"T\")","v":""},{"$f":"RTD(\"cqg.rtd\", ,\"ContractData\",C226, \"NetLastTradeToday\",, \"T\")","v":""},{"$f":"IFERROR(RTD(\"cqg.rtd\", ,\"ContractData\",C226, \"PerCentNetLastTrade\",, \"T\")/100,\"\")","v":""},{"$f":"RTD(\"cqg.rtd\", ,\"ContractData\", C226, \"T_CVol\",, \"T\")","v":2970},226,{"$f":"IFERROR(RANK($J226,$J$1:J$503)+COUNTIF($J$1:J226,J226)-1,\"\")","v":""},"S.US.HPE",{"$error":"#N/A"}]
["S.US.HPQ",1,"S.US.HPQ",{"$f":"RTD(\"cqg.rtd\", ,\"ContractData\",C227, \"LongDescription\",, \"T\")","v":"Hewlett-Packard Company"},null,null,null,{"$f":"RTD(\"cqg.rtd\", ,\"ContractData\",C227, \"LastTradeToday\",, \"T\")","v":""},{"$f":"RTD(\"cqg.rtd\", ,\"ContractData\",C227, \"NetLastTradeToday\",, \"T\")","v":""},{"$f":"IFERROR(RTD(\"cqg.rtd\", ,\"ContractData\",C227, \"PerCentNetLastTrade\",, \"T\")/100,\"\")","v":""},{"$f":"RTD(\"cqg.rtd\", ,\"ContractData\", C227, \"T_CVol\",, \"T\")","v":2532},227,{"$f":"IFERROR(RANK($J227,$J$1:J$503)+COUNTIF($J$1:J227,J227)-1,\"\")","v":""},"S.US.HPQ",{"$error":"#N/A"}]
["S.US.HRL",1,"S.US.HRL",{"$f":"RTD(\"cqg.rtd\", ,\"ContractData\",C228, \"LongDescription\",, \"T\")","v":"Hormel Foods Corp"},null,null,null,{"$f":"RTD(\"cqg.rtd\", ,\"ContractData\",C228, \"LastTradeToday\",, \"T\")","v":""},{"$f":"RTD(\"cqg.rtd\", ,\"ContractData\",C228, \"NetLastTradeToday\",, \"T\")","v":""},{"$f":"IFERROR(RTD(\"cqg.rtd\", ,\"ContractData\",C228, \"PerCentNetLastTrade\",, \"T\")/100,\"\")","v":""},{"$f":"RTD(\"cqg.rtd\", ,\"ContractData\", C228, \"T_CVol\",, \"T\")","v":11272},228,{"$f":"IFERROR(RANK($J228,$J$1:J$503)+COUNTIF($J$1:J228,J228)-1,\"\")","v":""},"S.US.HRL",{"$error":"#N/A"}]
["S.US.HSIC",1,"S.US.HSIC",{"$f":"RTD(\"cqg.rtd\", ,\"ContractData\",C229, \"LongDescription\",, \"T\")","v":"Henry Schein Inc"},null,null,null,{"$f":"RTD(\"cqg.rtd\", ,\"ContractData\",C229, \"LastTradeToday\",, \"T\")","v":""},{"$f":"RTD(\"cqg.rtd\", ,\"ContractData\",C229, \"NetLastTradeToday\",, \"T\")","v":""},{"$f":"IFERROR(RTD(\"cqg.rtd\", ,\"ContractData\",C229, \"PerCentNetLastTrade\",, \"T\")/100,\"\")","v":""},{"$f":"RTD(\"cqg.rtd\", ,\"ContractData\", C229, \"T_CVol\",, \"T\")","v":111},229,{"$f":"IFERROR(RANK($J229,$J$1:J$503)+COUNTIF($J$1:J229,J229)-1,\"\")","v":""},"S.US.HSIC",{"$error":"#N/A"}]
["S.US.HST",1,"S.US.HST",{"$f":"RTD(\"cqg.rtd\", ,\"ContractData\",C230, \"LongDescription\",, \"T\")","v":"Host Hotels & Resorts Inc"},null,null,null,{"$f":"RTD(\"cqg.rtd\", ,\"ContractData\",C230, \"LastTradeToday\",, \"T\")","v":""},{"$f":"RTD(\"cqg.rtd\", ,\"ContractData\",C230, \"NetLastTradeToday\",, \"T\")","v":""},{"$f":"IFERROR(RTD(\"cqg.rtd\", ,\"ContractData\",C230, \"PerCentNetLastTrade\",, \"T\")/100,\"\")","v":""},{"$f":"RTD(\"cqg.rtd\", ,\"ContractData\", C230, \"T_CVol\",, \"T\")","v":30},230,{"$f":"IFERROR(RANK($J230,$J$1:J$503)+COUNTIF($J$1:J230,J230)-1,\"\")","v":""},"S.US.HST",{"$error":"#N/A"}]
["S.US.HSY",1,"S.US.HSY",{"$f":"RTD(\"cqg.rtd\", ,\"ContractData\",C231, \"LongDescription\",, \"T\")","v":"Hershey Foods Corp"},null,null,null,{"$f":"RTD(\"cqg.rtd\", ,\"ContractData\",C231, \"LastTradeToday\",, \"T\")","v":""},{"$f":"RTD(\"cqg.rtd\", ,\"ContractData\",C231, \"NetLastTradeToday\",, \"T\")","v":""},{"$f":"IFERROR(RTD(\"cqg.rtd\", ,\"ContractData\",C231, \"PerCentNetLastTrade\",, \"T\")/100,\"\")","v":""},{"$f":"RTD(\"cqg.rtd\", ,\"ContractData\", C231, \"T_CVol\",, \"T\")","v":191},231,{"$f":"IFERROR(RANK($J231,$J$1:J$503)+COUNTIF($J$1:J231,J231)-1,\"\")","v":""},"S.US.HSY",{"$error":"#N/A"}]
["S.US.HUBB",1,"S.US.HUBB",{"$f":"RTD(\"cqg.rtd\", ,\"ContractData\",C232, \"LongDescription\",, \"T\")","v":"Hubbell Inc Cls B"},null,null,null,{"$f":"RTD(\"cqg.rtd\", ,\"ContractData\",C232, \"LastTradeToday\",, \"T\")","v":""},{"$f":"RTD(\"cqg.rtd\", ,\"ContractData\",C232, \"NetLastTradeToday\",, \"T\")","v":""},{"$f":"IFERROR(RTD(\"cqg.rtd\", ,\"ContractData\",C232, \"PerCentNetLastTrade\",, \"T\")/100,\"\")","v":""},{"$f":"RTD(\"cqg.rtd\", ,\"ContractData\", C232, \"T_CVol\",, \"T\")","v":8},232,{"$f":"IFERROR(RANK($J232,$J$1:J$503)+COUNTIF($J$1:J232,J232)-1,\"\")","v":""},"S.US.HUBB",{"$error":"#N/A"}]
["S.US.HUM",1,"S.US.HUM",{"$f":"RTD(\"cqg.rtd\", ,\"ContractData\",C233, \"LongDescription\",, \"T\")","v":"Humana Inc"},null,null,null,{"$f":"RTD(\"cqg.rtd\", ,\"ContractData\",C233, \"LastTradeToday\",, \"T\")","v":""},{"$f":"RTD(\"cqg.rtd\", ,\"ContractData\",C233, \"NetLastTradeToday\",, \"T\")","v":""},{"$f":"IFERROR(RTD(\"cqg.rtd\", ,\"ContractData\",C233, \"PerCentNetLastTrade\",, \"T\")/100,\"\")","v":""},{"$f":"RTD(\"cqg.rtd\", ,\"ContractData\", C233, \"T_CVol\",, \"T\")","v":266},233,{"$f":"IFERROR(RANK($J233,$J$1:J$503)+COUNTIF($J$1:J233,J233)-1,\"\")","v":""},"S.US.HUM",{"$error":"#N/A"}]
["S.US.HWM",1,"S.US.HWM",{"$f":"RTD(\"cqg.rtd\", ,\"ContractData\",C234, \"LongDescription\",, \"T\")","v":"Howmet Aerospace Inc."},null,null,null,{"$f":"RTD(\"cqg.rtd\", ,\"ContractData\",C234, \"LastTradeToday\",, \"T\")","v":""},{"$f":"RTD(\"cqg.rtd\", ,\"ContractData\",C234, \"NetLastTradeToday\",, \"T\")","v":""},{"$f":"IFERROR(RTD(\"cqg.rtd\", ,\"ContractData\",C234, \"PerCentNetLastTrade\",, \"T\")/100,\"\")","v":""},{"$f":"RTD(\"cqg.rtd\", ,\"ContractData\", C234, \"T_CVol\",, \"T\")","v":1858},234,{"$f":"IFERROR(RANK($J234,$J$1:J$503)+COUNTIF($J$1:J234,J234)-1,\"\")","v":""},"S.US.HWM",{"$error":"#N/A"}]
["S.US.IBM",1,"S.US.IBM",{"$f":"RTD(\"cqg.rtd\", ,\"ContractData\",C235, \"LongDescription\",, \"T\")","v":"International Business Machines"},null,null,null,{"$f":"RTD(\"cqg.rtd\", ,\"ContractData\",C235, \"LastTradeToday\",, \"T\")","v":""},{"$f":"RTD(\"cqg.rtd\", ,\"ContractData\",C235, \"NetLastTradeToday\",, \"T\")","v":""},{"$f":"IFERROR(RTD(\"cqg.rtd\", ,\"ContractData\",C235, \"PerCentNetLastTrade\",, \"T\")/100,\"\")","v":""},{"$f":"RTD(\"cqg.rtd\", ,\"ContractData\", C235, \"T_CVol\",, \"T\")","v":8539},235,{"$f":"IFERROR(RANK($J235,$J$1:J$503)+COUNTIF($J$1:J235,J235)-1,\"\")","v":""},"S.US.IBM",{"$error":"#N/A"}]
["S.US.ICE",1,"S.US.ICE",{"$f":"RTD(\"cqg.rtd\", ,\"ContractData\",C236, \"LongDescription\",, \"T\")","v":"Intercontinental, Inc."},null,null,null,{"$f":"RTD(\"cqg.rtd\", ,\"ContractData\",C236, \"LastTradeToday\",, \"T\")","v":""},{"$f":"RTD(\"cqg.rtd\", ,\"ContractData\",C236, \"NetLastTradeToday\",, \"T\")","v":""},{"$f":"IFERROR(RTD(\"cqg.rtd\", ,\"ContractData\",C236, \"PerCentNetLastTrade\",, \"T\")/100,\"\")","v":""},{"$f":"RTD(\"cqg.rtd\", ,\"ContractData\", C236, \"T_CVol\",, \"T\")","v":65},236,{"$f":"IFERROR(RANK($J236,$J$1:J$503)+COUNTIF($J$1:J236,J236)-1,\"\")","v":""},"S.US.ICE",{"$error":"#N/A"}]
["S.US.IDXX",1,"S.US.IDXX",{"$f":"RTD(\"cqg.rtd\", ,\"ContractData\",C237, \"LongDescription\",, \"T\")","v":"IDEXX Laboratories Inc"},null,null,null,{"$f":"RTD(\"cqg.rtd\", ,\"ContractData\",C237, \"LastTradeToday\",, \"T\")","v":""},{"$f":"RTD(\"cqg.rtd\", ,\"ContractData\",C237, \"NetLastTradeToday\",, \"T\")","v":""},{"$f":"IFERROR(RTD(\"cqg.rtd\", ,\"ContractData\",C237, \"PerCentNetLastTrade\",, \"T\")/100,\"\")","v":""},{"$f":"RTD(\"cqg.rtd\", ,\"ContractData\", C237, \"T_CVol\",, \"T\")","v":3529},237,{"$f":"IFERROR(RANK($J237,$J$1:J$503)+COUNTIF($J$1:J237,J237)-1,\"\")","v":""},"S.US.IDXX",{"$error":"#N/A"}]
["S.US.IEX",1,"S.US.IEX",{"$f":"RTD(\"cqg.rtd\", ,\"ContractData\",C238, \"LongDescription\",, \"T\")","v":"Idex Corp"},null,null,null,{"$f":"RTD(\"cqg.rtd\", ,\"ContractData\",C238, \"LastTradeToday\",, \"T\")","v":""},{"$f":"RTD(\"cqg.rtd\", ,\"ContractData\",C238, \"NetLastTradeToday\",, \"T\")","v":""},{"$f":"IFERROR(RTD(\"cqg.rtd\", ,\"ContractData\",C238, \"PerCentNetLastTrade\",, \"T\")/100,\"\")","v":""},{"$f":"RTD(\"cqg.rtd\", ,\"ContractData\", C238, \"T_CVol\",, \"T\")","v":230},238,{"$f":"IFERROR(RANK($J238,$J$1:J$503)+COUNTIF($J$1:J238,J238)-1,\"\")","v":""},"S.US.IEX",{"$error":"#N/A"}]
["S.US.IFF",1,"S.US.IFF",{"$f":"RTD(\"cqg.rtd\", ,\"ContractData\",C239, \"LongDescription\",, \"T\")","v":"Intl Flvrs & Fragrances"},null,null,null,{"$f":"RTD(\"cqg.rtd\", ,\"ContractData\",C239, \"LastTradeToday\",, \"T\")","v":""},{"$f":"RTD(\"cqg.rtd\", ,\"ContractData\",C239, \"NetLastTradeToday\",, \"T\")","v":""},{"$f":"IFERROR(RTD(\"cqg.rtd\", ,\"ContractData\",C239, \"PerCentNetLastTrade\",, \"T\")/100,\"\")","v":""},{"$f":"RTD(\"cqg.rtd\", ,\"ContractData\", C239, \"T_CVol\",, \"T\")","v":39},239,{"$f":"IFERROR(RANK($J239,$J$1:J$503)+COUNTIF($J$1:J239,J239)-1,\"\")","v":""},"S.US.IFF",{"$error":"#N/A"}]
["S.US.INCY",1,"S.US.INCY",{"$f":"RTD(\"cqg.rtd\", ,\"ContractData\",C240, \"LongDescription\",, \"T\")","v":"Incyte Corporation"},null,null,null,{"$f":"RTD(\"cqg.rtd\", ,\"ContractData\",C240, \"LastTradeToday\",, \"T\")","v":""},{"$f":"RTD(\"cqg.rtd\", ,\"ContractData\",C240, \"NetLastTradeToday\",, \"T\")","v":""},{"$f":"IFERROR(RTD(\"cqg.rtd\", ,\"ContractData\",C240, \"PerCentNetLastTrade\",, \"T\")/100,\"\")","v":""},{"$f":"RTD(\"cqg.rtd\", ,\"ContractData\", C240, \"T_CVol\",, \"T\")","v":97},240,{"$f":"IFERROR(RANK($J240,$J$1:J$503)+COUNTIF($J$1:J240,J240)-1,\"\")","v":""},"S.US.INCY",{"$error":"#N/A"}]
["S.US.INTC",1,"S.US.INTC",{"$f":"RTD(\"cqg.rtd\", ,\"ContractData\",C241, \"LongDescription\",, \"T\")","v":"Intel Corporation"},null,null,null,{"$f":"RTD(\"cqg.rtd\", ,\"ContractData\",C241, \"LastTradeToday\",, \"T\")","v":""},{"$f":"RTD(\"cqg.rtd\", ,\"ContractData\",C241, \"NetLastTradeToday\",, \"T\")","v":""},{"$f":"IFERROR(RTD(\"cqg.rtd\", ,\"ContractData\",C241, \"PerCentNetLastTrade\",, \"T\")/100,\"\")","v":""},{"$f":"RTD(\"cqg.rtd\", ,\"ContractData\", C241, \"T_CVol\",, \"T\")","v":950505},241,{"$f":"IFERROR(RANK($J241,$J$1:J$503)+COUNTIF($J$1:J241,J241)-1,\"\")","v":""},"S.US.INTC",{"$error":"#N/A"}]
["S.US.INTU",1,"S.US.INTU",{"$f":"RTD(\"cqg.rtd\", ,\"ContractData\",C242, \"LongDescription\",, \"T\")","v":"Intuit Corp"},null,null,null,{"$f":"RTD(\"cqg.rtd\", ,\"ContractData\",C242, \"LastTradeToday\",, \"T\")","v":""},{"$f":"RTD(\"cqg.rtd\", ,\"ContractData\",C242, \"NetLastTradeToday\",, \"T\")","v":""},{"$f":"IFERROR(RTD(\"cqg.rtd\", ,\"ContractData\",C242, \"PerCentNetLastTrade\",, \"T\")/100,\"\")","v":""},{"$f":"RTD(\"cqg.rtd\", ,\"ContractData\", C242, \"T_CVol\",, \"T\")","v":688},242,{"$f":"IFERROR(RANK($J242,$J$1:J$503)+COUNTIF($J$1:J242,J242)-1,\"\")","v":""},"S.US.INTU",{"$error":"#N/A"}]
["S.US.INVH",1,"S.US.INVH",{"$f":"RTD(\"cqg.rtd\", ,\"ContractData\",C243, \"LongDescription\",, \"T\")","v":"Invitation Homes Inc."},null,null,null,{"$f":"RTD(\"cqg.rtd\", ,\"ContractData\",C243, \"LastTradeToday\",, \"T\")","v":""},{"$f":"RTD(\"cqg.rtd\", ,\"ContractData\",C243, \"NetLastTradeToday\",, \"T\")","v":""},{"$f":"IFERROR(RTD(\"cqg.rtd\", ,\"ContractData\",C243, \"PerCentNetLastTrade\",, \"T\")/100,\"\")","v":""},{"$f":"RTD(\"cqg.rtd\", ,\"ContractData\", C243, \"T_CVol\",, \"T\")","v":165},243,{"$f":"IFERROR(RANK($J243,$J$1:J$503)+COUNTIF($J$1:J243,J243)-1,\"\")","v":""},"S.US.INVH",{"$error":"#N/A"}]
["S.US.IP",1,"S.US.IP",{"$f":"RTD(\"cqg.rtd\", ,\"ContractData\",C244, \"LongDescription\",, \"T\")","v":"International Paper Co"},null,null,null,{"$f":"RTD(\"cqg.rtd\", ,\"ContractData\",C244, \"LastTradeToday\",, \"T\")","v":""},{"$f":"RTD(\"cqg.rtd\", ,\"ContractData\",C244, \"NetLastTradeToday\",, \"T\")","v":""},{"$f":"IFERROR(RTD(\"cqg.rtd\", ,\"ContractData\",C244, \"PerCentNetLastTrade\",, \"T\")/100,\"\")","v":""},{"$f":"RTD(\"cqg.rtd\", ,\"ContractData\", C244, \"T_CVol\",, \"T\")","v":1318},244,{"$f":"IFERROR(RANK($J244,$J$1:J$503)+COUNTIF($J$1:J244,J244)-1,\"\")","v":""},"S.US.IP",{"$error":"#N/A"}]
["S.US.IPG",1,"S.US.IPG",{"$f":"RTD(\"cqg.rtd\", ,\"ContractData\",C245, \"LongDescription\",, \"T\")","v":"Interpublic Grp of Cos"},null,null,null,{"$f":"RTD(\"cqg.rtd\", ,\"ContractData\",C245, \"LastTradeToday\",, \"T\")","v":""},{"$f":"RTD(\"cqg.rtd\", ,\"ContractData\",C245, \"NetLastTradeToday\",, \"T\")","v":""},{"$f":"IFERROR(RTD(\"cqg.rtd\", ,\"ContractData\",C245, \"PerCentNetLastTrade\",, \"T\")/100,\"\")","v":""},{"$f":"RTD(\"cqg.rtd\", ,\"ContractData\", C245, \"T_CVol\",, \"T\")","v":0},245,{"$f":"IFERROR(RANK($J245,$J$1:J$503)+COUNTIF($J$1:J245,J245)-1,\"\")","v":""},"S.US.IPG",{"$error":"#N/A"}]
["S.US.IQV",1,"S.US.IQV",{"$f":"RTD(\"cqg.rtd\", ,\"ContractData\",C246, \"LongDescription\",, \"T\")","v":"IQVIA Holdings, Inc."},null,null,null,{"$f":"RTD(\"cqg.rtd\", ,\"ContractData\",C246, \"LastTradeToday\",, \"T\")","v":""},{"$f":"RTD(\"cqg.rtd\", ,\"ContractData\",C246, \"NetLastTradeToday\",, \"T\")","v":""},{"$f":"IFERROR(RTD(\"cqg.rtd\", ,\"ContractData\",C246, \"PerCentNetLastTrade\",, \"T\")/100,\"\")","v":""},{"$f":"RTD(\"cqg.rtd\", ,\"ContractData\", C246, \"T_CVol\",, \"T\")","v":51},246,{"$f":"IFERROR(RANK($J246,$J$1:J$503)+COUNTIF($J$1:J246,J246)-1,\"\")","v":""},"S.US.IQV",{"$error":"#N/A"}]
["S.US.IR",1,"S.US.IR",{"$f":"RTD(\"cqg.rtd\", ,\"ContractData\",C247, \"LongDescription\",, \"T\")","v":"Ingersoll Rand Inc."},null,null,null,{"$f":"RTD(\"cqg.rtd\", ,\"ContractData\",C247, \"LastTradeToday\",, \"T\")","v":""},{"$f":"RTD(\"cqg.rtd\", ,\"ContractData\",C247, \"NetLastTradeToday\",, \"T\")","v":""},{"$f":"IFERROR(RTD(\"cqg.rtd\", ,\"ContractData\",C247, \"PerCentNetLastTrade\",, \"T\")/100,\"\")","v":""},{"$f":"RTD(\"cqg.rtd\", ,\"ContractData\", C247, \"T_CVol\",, \"T\")","v":698},247,{"$f":"IFERROR(RANK($J247,$J$1:J$503)+COUNTIF($J$1:J247,J247)-1,\"\")","v":""},"S.US.IR",{"$error":"#N/A"}]
["S.US.IRM",1,"S.US.IRM",{"$f":"RTD(\"cqg.rtd\", ,\"ContractData\",C248, \"LongDescription\",, \"T\")","v":"Iron Mountain Inc"},null,null,null,{"$f":"RTD(\"cqg.rtd\", ,\"ContractData\",C248, \"LastTradeToday\",, \"T\")","v":""},{"$f":"RTD(\"cqg.rtd\", ,\"ContractData\",C248, \"NetLastTradeToday\",, \"T\")","v":""},{"$f":"IFERROR(RTD(\"cqg.rtd\", ,\"ContractData\",C248, \"PerCentNetLastTrade\",, \"T\")/100,\"\")","v":""},{"$f":"RTD(\"cqg.rtd\", ,\"ContractData\", C248, \"T_CVol\",, \"T\")","v":47},248,{"$f":"IFERROR(RANK($J248,$J$1:J$503)+COUNTIF($J$1:J248,J248)-1,\"\")","v":""},"S.US.IRM",{"$error":"#N/A"}]
["S.US.ISRG",1,"S.US.ISRG",{"$f":"RTD(\"cqg.rtd\", ,\"ContractData\",C249, \"LongDescription\",, \"T\")","v":"Intuitive Surgical Inc"},null,null,null,{"$f":"RTD(\"cqg.rtd\", ,\"ContractData\",C249, \"LastTradeToday\",, \"T\")","v":""},{"$f":"RTD(\"cqg.rtd\", ,\"ContractData\",C249, \"NetLastTradeToday\",, \"T\")","v":""},{"$f":"IFERROR(RTD(\"cqg.rtd\", ,\"ContractData\",C249, \"PerCentNetLastTrade\",, \"T\")/100,\"\")","v":""},{"$f":"RTD(\"cqg.rtd\", ,\"ContractData\", C249, \"T_CVol\",, \"T\")","v":1760},249,{"$f":"IFERROR(RANK($J249,$J$1:J$503)+COUNTIF($J$1:J249,J249)-1,\"\")","v":""},"S.US.ISRG",{"$error":"#N/A"}]
["S.US.IT",1,"S.US.IT",{"$f":"RTD(\"cqg.rtd\", ,\"ContractData\",C250, \"LongDescription\",, \"T\")","v":"Gartner Group"},null,null,null,{"$f":"RTD(\"cqg.rtd\", ,\"ContractData\",C250, \"LastTradeToday\",, \"T\")","v":""},{"$f":"RTD(\"cqg.rtd\", ,\"ContractData\",C250, \"NetLastTradeToday\",, \"T\")","v":""},{"$f":"IFERROR(RTD(\"cqg.rtd\", ,\"ContractData\",C250, \"PerCentNetLastTrade\",, \"T\")/100,\"\")","v":""},{"$f":"RTD(\"cqg.rtd\", ,\"ContractData\", C250, \"T_CVol\",, \"T\")","v":27},250,{"$f":"IFERROR(RANK($J250,$J$1:J$503)+COUNTIF($J$1:J250,J250)-1,\"\")","v":""},"S.US.IT",{"$error":"#N/A"}]
["S.US.ITW",1,"S.US.ITW",{"$f":"RTD(\"cqg.rtd\", ,\"ContractData\",C251, \"LongDescription\",, \"T\")","v":"Illinois Tools Works Inc"},null,null,null,{"$f":"RTD(\"cqg.rtd\", ,\"ContractData\",C251, \"LastTradeToday\",, \"T\")","v":""},{"$f":"RTD(\"cqg.rtd\", ,\"ContractData\",C251, \"NetLastTradeToday\",, \"T\")","v":""},{"$f":"IFERROR(RTD(\"cqg.rtd\", ,\"ContractData\",C251, \"PerCentNetLastTrade\",, \"T\")/100,\"\")","v":""},{"$f":"RTD(\"cqg.rtd\", ,\"ContractData\", C251, \"T_CVol\",, \"T\")","v":66},251,{"$f":"IFERROR(RANK($J251,$J$1:J$503)+COUNTIF($J$1:J251,J251)-1,\"\")","v":""},"S.US.ITW",{"$error":"#N/A"}]
["S.US.IVZ",1,"S.US.IVZ",{"$f":"RTD(\"cqg.rtd\", ,\"ContractData\",C252, \"LongDescription\",, \"T\")","v":"Invesco Ltd."},null,null,null,{"$f":"RTD(\"cqg.rtd\", ,\"ContractData\",C252, \"LastTradeToday\",, \"T\")","v":""},{"$f":"RTD(\"cqg.rtd\", ,\"ContractData\",C252, \"NetLastTradeToday\",, \"T\")","v":""},{"$f":"IFERROR(RTD(\"cqg.rtd\", ,\"ContractData\",C252, \"PerCentNetLastTrade\",, \"T\")/100,\"\")","v":""},{"$f":"RTD(\"cqg.rtd\", ,\"ContractData\", C252, \"T_CVol\",, \"T\")","v":1455},252,{"$f":"IFERROR(RANK($J252,$J$1:J$503)+COUNTIF($J$1:J252,J252)-1,\"\")","v":""},"S.US.IVZ",{"$error":"#N/A"}]
["S.US.J",1,"S.US.J",{"$f":"RTD(\"cqg.rtd\", ,\"ContractData\",C253, \"LongDescription\",, \"T\")","v":"Jacobs Solutions Inc."},null,null,null,{"$f":"RTD(\"cqg.rtd\", ,\"ContractData\",C253, \"LastTradeToday\",, \"T\")","v":""},{"$f":"RTD(\"cqg.rtd\", ,\"ContractData\",C253, \"NetLastTradeToday\",, \"T\")","v":""},{"$f":"IFERROR(RTD(\"cqg.rtd\", ,\"ContractData\",C253, \"PerCentNetLastTrade\",, \"T\")/100,\"\")","v":""},{"$f":"RTD(\"cqg.rtd\", ,\"ContractData\", C253, \"T_CVol\",, \"T\")","v":27},253,{"$f":"IFERROR(RANK($J253,$J$1:J$503)+COUNTIF($J$1:J253,J253)-1,\"\")","v":""},"S.US.J",{"$error":"#N/A"}]
["S.US.JBHT",1,"S.US.JBHT",{"$f":"RTD(\"cqg.rtd\", ,\"ContractData\",C254, \"LongDescription\",, \"T\")","v":"Hunt (JB) Transport Svcs"},null,null,null,{"$f":"RTD(\"cqg.rtd\", ,\"ContractData\",C254, \"LastTradeToday\",, \"T\")","v":""},{"$f":"RTD(\"cqg.rtd\", ,\"ContractData\",C254, \"NetLastTradeToday\",, \"T\")","v":""},{"$f":"IFERROR(RTD(\"cqg.rtd\", ,\"ContractData\",C254, \"PerCentNetLastTrade\",, \"T\")/100,\"\")","v":""},{"$f":"RTD(\"cqg.rtd\", ,\"ContractData\", C254, \"T_CVol\",, \"T\")","v":238},254,{"$f":"IFERROR(RANK($J254,$J$1:J$503)+COUNTIF($J$1:J254,J254)-1,\"\")","v":""},"S.US.JBHT",{"$error":"#N/A"}]
["S.US.JBL",1,"S.US.JBL",{"$f":"RTD(\"cqg.rtd\", ,\"ContractData\",C255, \"LongDescription\",, \"T\")","v":"Jabil Inc."},null,null,null,{"$f":"RTD(\"cqg.rtd\", ,\"ContractData\",C255, \"LastTradeToday\",, \"T\")","v":""},{"$f":"RTD(\"cqg.rtd\", ,\"ContractData\",C255, \"NetLastTradeToday\",, \"T\")","v":""},{"$f":"IFERROR(RTD(\"cqg.rtd\", ,\"ContractData\",C255, \"PerCentNetLastTrade\",, \"T\")/100,\"\")","v":""},{"$f":"RTD(\"cqg.rtd\", ,\"ContractData\", C255, \"T_CVol\",, \"T\")","v":136},255,{"$f":"IFERROR(RANK($J255,$J$1:J$503)+COUNTIF($J$1:J255,J255)-1,\"\")","v":""},"S.US.JBL",{"$error":"#N/A"}]
["S.US.JCI",1,"S.US.JCI",{"$f":"RTD(\"cqg.rtd\", ,\"ContractData\",C256, \"LongDescription\",, \"T\")","v":"Johnson Controls International plc"},null,null,null,{"$f":"RTD(\"cqg.rtd\", ,\"ContractData\",C256, \"LastTradeToday\",, \"T\")","v":""},{"$f":"RTD(\"cqg.rtd\", ,\"ContractData\",C256, \"NetLastTradeToday\",, \"T\")","v":""},{"$f":"IFERROR(RTD(\"cqg.rtd\", ,\"ContractData\",C256, \"PerCentNetLastTrade\",, \"T\")/100,\"\")","v":""},{"$f":"RTD(\"cqg.rtd\", ,\"ContractData\", C256, \"T_CVol\",, \"T\")","v":651},256,{"$f":"IFERROR(RANK($J256,$J$1:J$503)+COUNTIF($J$1:J256,J256)-1,\"\")","v":""},"S.US.JCI",{"$error":"#N/A"}]
["S.US.JKHY",1,"S.US.JKHY",{"$f":"RTD(\"cqg.rtd\", ,\"ContractData\",C257, \"LongDescription\",, \"T\")","v":"Jack Henry/Associates Inc"},null,null,null,{"$f":"RTD(\"cqg.rtd\", ,\"ContractData\",C257, \"LastTradeToday\",, \"T\")","v":""},{"$f":"RTD(\"cqg.rtd\", ,\"ContractData\",C257, \"NetLastTradeToday\",, \"T\")","v":""},{"$f":"IFERROR(RTD(\"cqg.rtd\", ,\"ContractData\",C257, \"PerCentNetLastTrade\",, \"T\")/100,\"\")","v":""},{"$f":"RTD(\"cqg.rtd\", ,\"ContractData\", C257, \"T_CVol\",, \"T\")","v":9},257,{"$f":"IFERROR(RANK($J257,$J$1:J$503)+COUNTIF($J$1:J257,J257)-1,\"\")","v":""},"S.US.JKHY",{"$error":"#N/A"}]
["S.US.JNJ",{"$f":"IF(J258>0,1,0)","v":1},"S.US.JNJ",{"$f":"RTD(\"cqg.rtd\", ,\"ContractData\",C258, \"LongDescription\",, \"T\")","v":"Johnson & Johnson"},null,null,null,{"$f":"RTD(\"cqg.rtd\", ,\"ContractData\",C258, \"LastTradeToday\",, \"T\")","v":""},{"$f":"RTD(\"cqg.rtd\", ,\"ContractData\",C258, \"NetLastTradeToday\",, \"T\")","v":""},{"$f":"IFERROR(RTD(\"cqg.rtd\", ,\"ContractData\",C258, \"PerCentNetLastTrade\",, \"T\")/100,\"\")","v":""},{"$f":"RTD(\"cqg.rtd\", ,\"ContractData\", C258, \"T_CVol\",, \"T\")","v":4423},258,{"$f":"IFERROR(RANK($J258,$J$1:J$503)+COUNTIF($J$1:J258,J258)-1,\"\")","v":""},{"$f":"C258","v":"S.US.JNJ"},{"$f":"TRIM(VLOOKUP($L258,$M$1:$N$503,2,FALSE))","v":{"$error":"#N/A"}}]
["S.US.JPM",1,"S.US.JPM",{"$f":"RTD(\"cqg.rtd\", ,\"ContractData\",C259, \"LongDescription\",, \"T\")","v":"JPMorgan Chase & Co."},null,null,null,{"$f":"RTD(\"cqg.rtd\", ,\"ContractData\",C259, \"LastTradeToday\",, \"T\")","v":""},{"$f":"RTD(\"cqg.rtd\", ,\"ContractData\",C259, \"NetLastTradeToday\",, \"T\")","v":""},{"$f":"IFERROR(RTD(\"cqg.rtd\", ,\"ContractData\",C259, \"PerCentNetLastTrade\",, \"T\")/100,\"\")","v":""},{"$f":"RTD(\"cqg.rtd\", ,\"ContractData\", C259, \"T_CVol\",, \"T\")","v":6178},{"$f":"L258+1","v":259},{"$f":"IFERROR(RANK($J259,$J$1:J$503)+COUNTIF($J$1:J259,J259)-1,\"\")","v":""},"S.US.JPM",{"$error":"#N/A"}]
["S.US.K",1,"S.US.K",{"$f":"RTD(\"cqg.rtd\", ,\"ContractData\",C260, \"LongDescription\",, \"T\")","v":"Kellanova"},null,null,null,{"$f":"RTD(\"cqg.rtd\", ,\"ContractData\",C260, \"LastTradeToday\",, \"T\")","v":""},{"$f":"RTD(\"cqg.rtd\", ,\"ContractData\",C260, \"NetLastTradeToday\",, \"T\")","v":""},{"$f":"IFERROR(RTD(\"cqg.rtd\", ,\"ContractData\",C260, \"PerCentNetLastTrade\",, \"T\")/100,\"\")","v":""},{"$f":"RTD(\"cqg.rtd\", ,\"ContractData\", C260, \"T_CVol\",, \"T\")","v":103},260,{"$f":"IFERROR(RANK($J260,$J$1:J$503)+COUNTIF($J$1:J260,J260)-1,\"\")","v":""},"S.US.K",{"$error":"#N/A"}]
["S.US.KDP",1,"S.US.KDP",{"$f":"RTD(\"cqg.rtd\", ,\"ContractData\",C261, \"LongDescription\",, \"T\")","v":"Keurig Dr Pepper Inc."},null,null,null,{"$f":"RTD(\"cqg.rtd\", ,\"ContractData\",C261, \"LastTradeToday\",, \"T\")","v":""},{"$f":"RTD(\"cqg.rtd\", ,\"ContractData\",C261, \"NetLastTradeToday\",, \"T\")","v":""},{"$f":"IFERROR(RTD(\"cqg.rtd\", ,\"ContractData\",C261, \"PerCentNetLastTrade\",, \"T\")/100,\"\")","v":""},{"$f":"RTD(\"cqg.rtd\", ,\"ContractData\", C261, \"T_CVol\",, \"T\")","v":1194},261,{"$f":"IFERROR(RANK($J261,$J$1:J$503)+COUNTIF($J$1:J261,J261)-1,\"\")","v":""},"S.US.KDP",{"$error":"#N/A"}]
["S.US.KEY",1,"S.US.KEY",{"$f":"RTD(\"cqg.rtd\", ,\"ContractData\",C262, \"LongDescription\",, \"T\")","v":"KeyCorp"},null,null,null,{"$f":"RTD(\"cqg.rtd\", ,\"ContractData\",C262, \"LastTradeToday\",, \"T\")","v":""},{"$f":"RTD(\"cqg.rtd\", ,\"ContractData\",C262, \"NetLastTradeToday\",, \"T\")","v":""},{"$f":"IFERROR(RTD(\"cqg.rtd\", ,\"ContractData\",C262, \"PerCentNetLastTrade\",, \"T\")/100,\"\")","v":""},{"$f":"RTD(\"cqg.rtd\", ,\"ContractData\", C262, \"T_CVol\",, \"T\")","v":3433},262,{"$f":"IFERROR(RANK($J262,$J$1:J$503)+COUNTIF($J$1:J262,J262)-1,\"\")","v":""},"S.US.KEY",{"$error":"#N/A"}]
["S.US.KEYS",1,"S.US.KEYS",{"$f":"RTD(\"cqg.rtd\", ,\"ContractData\",C263, \"LongDescription\",, \"T\")","v":"Keysight Technologies Inc."},null,null,null,{"$f":"RTD(\"cqg.rtd\", ,\"ContractData\",C263, \"LastTradeToday\",, \"T\")","v":""},{"$f":"RTD(\"cqg.rtd\", ,\"ContractData\",C263, \"NetLastTradeToday\",, \"T\")","v":""},{"$f":"IFERROR(RTD(\"cqg.rtd\", ,\"ContractData\",C263, \"PerCentNetLastTrade\",, \"T\")/100,\"\")","v":""},{"$f":"RTD(\"cqg.rtd\", ,\"ContractData\", C263, \"T_CVol\",, \"T\")","v":16},263,{"$f":"IFERROR(RANK($J263,$J$1:J$503)+COUNTIF($J$1:J263,J263)-1,\"\")","v":""},"S.US.KEYS",{"$error":"#N/A"}]
["S.US.KHC",1,"S.US.KHC",{"$f":"RTD(\"cqg.rtd\", ,\"ContractData\",C264, \"LongDescription\",, \"T\")","v":"The Kraft Heinz Company"},null,null,null,{"$f":"RTD(\"cqg.rtd\", ,\"ContractData\",C264, \"LastTradeToday\",, \"T\")","v":""},{"$f":"RTD(\"cqg.rtd\", ,\"ContractData\",C264, \"NetLastTradeToday\",, \"T\")","v":""},{"$f":"IFERROR(RTD(\"cqg.rtd\", ,\"ContractData\",C264, \"PerCentNetLastTrade\",, \"T\")/100,\"\")","v":""},{"$f":"RTD(\"cqg.rtd\", ,\"ContractData\", C264, \"T_CVol\",, \"T\")","v":24020},264,{"$f":"IFERROR(RANK($J264,$J$1:J$503)+COUNTIF($J$1:J264,J264)-1,\"\")","v":""},"S.US.KHC",{"$error":"#N/A"}]
["S.US.KIM",1,"S.US.KIM",{"$f":"RTD(\"cqg.rtd\", ,\"ContractData\",C265, \"LongDescription\",, \"T\")","v":"Kimco Realty Corp"},null,null,null,{"$f":"RTD(\"cqg.rtd\", ,\"ContractData\",C265, \"LastTradeToday\",, \"T\")","v":""},{"$f":"RTD(\"cqg.rtd\", ,\"ContractData\",C265, \"NetLastTradeToday\",, \"T\")","v":""},{"$f":"IFERROR(RTD(\"cqg.rtd\", ,\"ContractData\",C265, \"PerCentNetLastTrade\",, \"T\")/100,\"\")","v":""},{"$f":"RTD(\"cqg.rtd\", ,\"ContractData\", C265, \"T_CVol\",, \"T\")","v":44},265,{"$f":"IFERROR(RANK($J265,$J$1:J$503)+COUNTIF($J$1:J265,J265)-1,\"\")","v":""},"S.US.KIM",{"$error":"#N/A"}]
["S.US.KKR",1,"S.US.KKR",{"$f":"RTD(\"cqg.rtd\", ,\"ContractData\",C266, \"LongDescription\",, \"T\")","v":"KKR & Co. Inc."},null,null,null,{"$f":"RTD(\"cqg.rtd\", ,\"ContractData\",C266, \"LastTradeToday\",, \"T\")","v":""},{"$f":"RTD(\"cqg.rtd\", ,\"ContractData\",C266, \"NetLastTradeToday\",, \"T\")","v":""},{"$f":"IFERROR(RTD(\"cqg.rtd\", ,\"ContractData\",C266, \"PerCentNetLastTrade\",, \"T\")/100,\"\")","v":""},{"$f":"RTD(\"cqg.rtd\", ,\"ContractData\", C266, \"T_CVol\",, \"T\")","v":1661},266,{"$f":"IFERROR(RANK($J266,$J$1:J$503)+COUNTIF($J$1:J266,J266)-1,\"\")","v":""},"S.US.KKR",{"$error":"#N/A"}]
["S.US.KLAC",1,"S.US.KLAC",{"$f":"RTD(\"cqg.rtd\", ,\"ContractData\",C267, \"LongDescription\",, \"T\")","v":"KLA Corporation"},null,null,null,{"$f":"RTD(\"cqg.rtd\", ,\"ContractData\",C267, \"LastTradeToday\",, \"T\")","v":""},{"$f":"RTD(\"cqg.rtd\", ,\"ContractData\",C267, \"NetLastTradeToday\",, \"T\")","v":""},{"$f":"IFERROR(RTD(\"cqg.rtd\", ,\"ContractData\",C267, \"PerCentNetLastTrade\",, \"T\")/100,\"\")","v":""},{"$f":"RTD(\"cqg.rtd\", ,\"ContractData\", C267, \"T_CVol\",, \"T\")","v":672},267,{"$f":"IFERROR(RANK($J267,$J$1:J$503)+COUNTIF($J$1:J267,J267)-1,\"\")","v":""},"S.US.KLAC",{"$error":"#N/A"}]
["S.US.KMB",1,"S.US.KMB",{"$f":"RTD(\"cqg.rtd\", ,\"ContractData\",C268, \"LongDescription\",, \"T\")","v":"Kimberly-Clark Corp"},null,null,null,{"$f":"RTD(\"cqg.rtd\", ,\"ContractData\",C268, \"LastTradeToday\",, \"T\")","v":""},{"$f":"RTD(\"cqg.rtd\", ,\"ContractData\",C268, \"NetLastTradeToday\",, \"T\")","v":""},{"$f":"IFERROR(RTD(\"cqg.rtd\", ,\"ContractData\",C268, \"PerCentNetLastTrade\",, \"T\")/100,\"\")","v":""},{"$f":"RTD(\"cqg.rtd\", ,\"ContractData\", C268, \"T_CVol\",, \"T\")","v":658},268,{"$f":"IFERROR(RANK($J268,$J$1:J$503)+COUNTIF($J$1:J268,J268)-1,\"\")","v":""},"S.US.KMB",{"$error":"#N/A"}]
["S.US.KMI",1,"S.US.KMI",{"$f":"RTD(\"cqg.rtd\", ,\"ContractData\",C269, \"LongDescription\",, \"T\")","v":"Kinder Morgan, Inc."},null,null,null,{"$f":"RTD(\"cqg.rtd\", ,\"ContractData\",C269, \"LastTradeToday\",, \"T\")","v":""},{"$f":"RTD(\"cqg.rtd\", ,\"ContractData\",C269, \"NetLastTradeToday\",, \"T\")","v":""},{"$f":"IFERROR(RTD(\"cqg.rtd\", ,\"ContractData\",C269, \"PerCentNetLastTrade\",, \"T\")/100,\"\")","v":""},{"$f":"RTD(\"cqg.rtd\", ,\"ContractData\", C269, \"T_CVol\",, \"T\")","v":2493},269,{"$f":"IFERROR(RANK($J269,$J$1:J$503)+COUNTIF($J$1:J269,J269)-1,\"\")","v":""},"S.US.KMI",{"$error":"#N/A"}]
["S.US.KMX",1,"S.US.KMX",{"$f":"RTD(\"cqg.rtd\", ,\"ContractData\",C270, \"LongDescription\",, \"T\")","v":"Carmax Inc"},null,null,null,{"$f":"RTD(\"cqg.rtd\", ,\"ContractData\",C270, \"LastTradeToday\",, \"T\")","v":""},{"$f":"RTD(\"cqg.rtd\", ,\"ContractData\",C270, \"NetLastTradeToday\",, \"T\")","v":""},{"$f":"IFERROR(RTD(\"cqg.rtd\", ,\"ContractData\",C270, \"PerCentNetLastTrade\",, \"T\")/100,\"\")","v":""},{"$f":"RTD(\"cqg.rtd\", ,\"ContractData\", C270, \"T_CVol\",, \"T\")","v":2282},270,{"$f":"IFERROR(RANK($J270,$J$1:J$503)+COUNTIF($J$1:J270,J270)-1,\"\")","v":""},"S.US.KMX",{"$error":"#N/A"}]
["S.US.KO",1,"S.US.KO",{"$f":"RTD(\"cqg.rtd\", ,\"ContractData\",C271, \"LongDescription\",, \"T\")","v":"Coca-Cola Company"},null,null,null,{"$f":"RTD(\"cqg.rtd\", ,\"ContractData\",C271, \"LastTradeToday\",, \"T\")","v":""},{"$f":"RTD(\"cqg.rtd\", ,\"ContractData\",C271, \"NetLastTradeToday\",, \"T\")","v":""},{"$f":"IFERROR(RTD(\"cqg.rtd\", ,\"ContractData\",C271, \"PerCentNetLastTrade\",, \"T\")/100,\"\")","v":""},{"$f":"RTD(\"cqg.rtd\", ,\"ContractData\", C271, \"T_CVol\",, \"T\")","v":38451},271,{"$f":"IFERROR(RANK($J271,$J$1:J$503)+COUNTIF($J$1:J271,J271)-1,\"\")","v":""},"S.US.KO",{"$error":"#N/A"}]
["S.US.KR",1,"S.US.KR",{"$f":"RTD(\"cqg.rtd\", ,\"ContractData\",C272, \"LongDescription\",, \"T\")","v":"Kroger Co (The)"},null,null,null,{"$f":"RTD(\"cqg.rtd\", ,\"ContractData\",C272, \"LastTradeToday\",, \"T\")","v":""},{"$f":"RTD(\"cqg.rtd\", ,\"ContractData\",C272, \"NetLastTradeToday\",, \"T\")","v":""},{"$f":"IFERROR(RTD(\"cqg.rtd\", ,\"ContractData\",C272, \"PerCentNetLastTrade\",, \"T\")/100,\"\")","v":""},{"$f":"RTD(\"cqg.rtd\", ,\"ContractData\", C272, \"T_CVol\",, \"T\")","v":2991},272,{"$f":"IFERROR(RANK($J272,$J$1:J$503)+COUNTIF($J$1:J272,J272)-1,\"\")","v":""},"S.US.KR",{"$error":"#N/A"}]
["S.US.KVUE",1,"S.US.KVUE",{"$f":"RTD(\"cqg.rtd\", ,\"ContractData\",C273, \"LongDescription\",, \"T\")","v":"Kenvue Inc."},null,null,null,{"$f":"RTD(\"cqg.rtd\", ,\"ContractData\",C273, \"LastTradeToday\",, \"T\")","v":""},{"$f":"RTD(\"cqg.rtd\", ,\"ContractData\",C273, \"NetLastTradeToday\",, \"T\")","v":""},{"$f":"IFERROR(RTD(\"cqg.rtd\", ,\"ContractData\",C273, \"PerCentNetLastTrade\",, \"T\")/100,\"\")","v":""},{"$f":"RTD(\"cqg.rtd\", ,\"ContractData\", C273, \"T_CVol\",, \"T\")","v":2261},273,{"$f":"IFERROR(RANK($J273,$J$1:J$503)+COUNTIF($J$1:J273,J273)-1,\"\")","v":""},"S.US.KVUE",{"$error":"#N/A"}]
["S.US.L",1,"S.US.L",{"$f":"RTD(\"cqg.rtd\", ,\"ContractData\",C274, \"LongDescription\",, \"T\")","v":"Loews Corporation"},null,null,null,{"$f":"RTD(\"cqg.rtd\", ,\"ContractData\",C274, \"LastTradeToday\",, \"T\")","v":""},{"$f":"RTD(\"cqg.rtd\", ,\"ContractData\",C274, \"NetLastTradeToday\",, \"T\")","v":""},{"$f":"IFERROR(RTD(\"cqg.rtd\", ,\"ContractData\",C274, \"PerCentNetLastTrade\",, \"T\")/100,\"\")","v":""},{"$f":"RTD(\"cqg.rtd\", ,\"ContractData\", C274, \"T_CVol\",, \"T\")","v":4},274,{"$f":"IFERROR(RANK($J274,$J$1:J$503)+COUNTIF($J$1:J274,J274)-1,\"\")","v":""},"S.US.L",{"$error":"#N/A"}]
["S.US.LDOS",1,"S.US.LDOS",{"$f":"RTD(\"cqg.rtd\", ,\"ContractData\",C275, \"LongDescription\",, \"T\")","v":"Leidos Holdings, Inc."},null,null,null,{"$f":"RTD(\"cqg.rtd\", ,\"ContractData\",C275, \"LastTradeToday\",, \"T\")","v":""},{"$f":"RTD(\"cqg.rtd\", ,\"ContractData\",C275, \"NetLastTradeToday\",, \"T\")","v":""},{"$f":"IFERROR(RTD(\"cqg.rtd\", ,\"ContractData\",C275, \"PerCentNetLastTrade\",, \"T\")/100,\"\")","v":""},{"$f":"RTD(\"cqg.rtd\", ,\"ContractData\", C275, \"T_CVol\",, \"T\")","v":1068},275,{"$f":"IFERROR(RANK($J275,$J$1:J$503)+COUNTIF($J$1:J275,J275)-1,\"\")","v":""},"S.US.LDOS",{"$error":"#N/A"}]
["S.US.LEN",1,"S.US.LEN",{"$f":"RTD(\"cqg.rtd\", ,\"ContractData\",C276, \"LongDescription\",, \"T\")","v":"Lennar Corp"},null,null,null,{"$f":"RTD(\"cqg.rtd\", ,\"ContractData\",C276, \"LastTradeToday\",, \"T\")","v":""},{"$f":"RTD(\"cqg.rtd\", ,\"ContractData\",C276, \"NetLastTradeToday\",, \"T\")","v":""},{"$f":"IFERROR(RTD(\"cqg.rtd\", ,\"ContractData\",C276, \"PerCentNetLastTrade\",, \"T\")/100,\"\")","v":""},{"$f":"RTD(\"cqg.rtd\", ,\"ContractData\", C276, \"T_CVol\",, \"T\")","v":1680},276,{"$f":"IFERROR(RANK($J276,$J$1:J$503)+COUNTIF($J$1:J276,J276)-1,\"\")","v":""},"S.US.LEN",{"$error":"#N/A"}]
["S.US.LH",1,"S.US.LH",{"$f":"RTD(\"cqg.rtd\", ,\"ContractData\",C277, \"LongDescription\",, \"T\")","v":"Laboratory Corp of Amer"},null,null,null,{"$f":"RTD(\"cqg.rtd\", ,\"ContractData\",C277, \"LastTradeToday\",, \"T\")","v":""},{"$f":"RTD(\"cqg.rtd\", ,\"ContractData\",C277, \"NetLastTradeToday\",, \"T\")","v":""},{"$f":"IFERROR(RTD(\"cqg.rtd\", ,\"ContractData\",C277, \"PerCentNetLastTrade\",, \"T\")/100,\"\")","v":""},{"$f":"RTD(\"cqg.rtd\", ,\"ContractData\", C277, \"T_CVol\",, \"T\")","v":23},277,{"$f":"IFERROR(RANK($J277,$J$1:J$503)+COUNTIF($J$1:J277,J277)-1,\"\")","v":""},"S.US.LH",{"$error":"#N/A"}]
["S.US.LHX",1,"S.US.LHX",{"$f":"RTD(\"cqg.rtd\", ,\"ContractData\",C278, \"LongDescription\",, \"T\")","v":"L3Harris Technologies, Inc."},null,null,null,{"$f":"RTD(\"cqg.rtd\", ,\"ContractData\",C278, \"LastTradeToday\",, \"T\")","v":""},{"$f":"RTD(\"cqg.rtd\", ,\"ContractData\",C278, \"NetLastTradeToday\",, \"T\")","v":""},{"$f":"IFERROR(RTD(\"cqg.rtd\", ,\"ContractData\",C278, \"PerCentNetLastTrade\",, \"T\")/100,\"\")","v":""},{"$f":"RTD(\"cqg.rtd\", ,\"ContractData\", C278, \"T_CVol\",, \"T\")","v":1266},278,{"$f":"IFERROR(RANK($J278,$J$1:J$503)+COUNTIF($J$1:J278,J278)-1,\"\")","v":""},"S.US.LHX",{"$error":"#N/A"}]
["S.US.LII",1,"S.US.LII",{"$f":"RTD(\"cqg.rtd\", ,\"ContractData\",C279, \"LongDescription\",, \"T\")","v":"Lennox Internatl"},null,null,null,{"$f":"RTD(\"cqg.rtd\", ,\"ContractData\",C279, \"LastTradeToday\",, \"T\")","v":""},{"$f":"RTD(\"cqg.rtd\", ,\"ContractData\",C279, \"NetLastTradeToday\",, \"T\")","v":""},{"$f":"IFERROR(RTD(\"cqg.rtd\", ,\"ContractData\",C279, \"PerCentNetLastTrade\",, \"T\")/100,\"\")","v":""},{"$f":"RTD(\"cqg.rtd\", ,\"ContractData\", C279, \"T_CVol\",, \"T\")","v":352},279,{"$f":"IFERROR(RANK($J279,$J$1:J$503)+COUNTIF($J$1:J279,J279)-1,\"\")","v":""},"S.US.LII",{"$error":"#N/A"}]
["S.US.LIN",1,"S.US.LIN",{"$f":"RTD(\"cqg.rtd\", ,\"ContractData\",C280, \"LongDescription\",, \"T\")","v":"Linde PLC"},null,null,null,{"$f":"RTD(\"cqg.rtd\", ,\"ContractData\",C280, \"LastTradeToday\",, \"T\")","v":""},{"$f":"RTD(\"cqg.rtd\", ,\"ContractData\",C280, \"NetLastTradeToday\",, \"T\")","v":""},{"$f":"IFERROR(RTD(\"cqg.rtd\", ,\"ContractData\",C280, \"PerCentNetLastTrade\",, \"T\")/100,\"\")","v":""},{"$f":"RTD(\"cqg.rtd\", ,\"ContractData\", C280, \"T_CVol\",, \"T\")","v":1297},280,{"$f":"IFERROR(RANK($J280,$J$1:J$503)+COUNTIF($J$1:J280,J280)-1,\"\")","v":""},"S.US.LIN",{"$error":"#N/A"}]
["S.US.LKQ",1,"S.US.LKQ",{"$f":"RTD(\"cqg.rtd\", ,\"ContractData\",C281, \"LongDescription\",, \"T\")","v":"LKQ Corporation"},null,null,null,{"$f":"RTD(\"cqg.rtd\", ,\"ContractData\",C281, \"LastTradeToday\",, \"T\")","v":""},{"$f":"RTD(\"cqg.rtd\", ,\"ContractData\",C281, \"NetLastTradeToday\",, \"T\")","v":""},{"$f":"IFERROR(RTD(\"cqg.rtd\", ,\"ContractData\",C281, \"PerCentNetLastTrade\",, \"T\")/100,\"\")","v":""},{"$f":"RTD(\"cqg.rtd\", ,\"ContractData\", C281, \"T_CVol\",, \"T\")","v":216},281,{"$f":"IFERROR(RANK($J281,$J$1:J$503)+COUNTIF($J$1:J281,J281)-1,\"\")","v":""},"S.US.LKQ",{"$error":"#N/A"}]
["S.US.LLY",1,"S.US.LLY",{"$f":"RTD(\"cqg.rtd\", ,\"ContractData\",C282, \"LongDescription\",, \"T\")","v":"Lilly (Eli) & Company"},null,null,null,{"$f":"RTD(\"cqg.rtd\", ,\"ContractData\",C282, \"LastTradeToday\",, \"T\")","v":""},{"$f":"RTD(\"cqg.rtd\", ,\"ContractData\",C282, \"NetLastTradeToday\",, \"T\")","v":""},{"$f":"IFERROR(RTD(\"cqg.rtd\", ,\"ContractData\",C282, \"PerCentNetLastTrade\",, \"T\")/100,\"\")","v":""},{"$f":"RTD(\"cqg.rtd\", ,\"ContractData\", C282, \"T_CVol\",, \"T\")","v":9195},282,{"$f":"IFERROR(RANK($J282,$J$1:J$503)+COUNTIF($J$1:J282,J282)-1,\"\")","v":""},"S.US.LLY",{"$error":"#N/A"}]
["S.US.LMT",1,"S.US.LMT",{"$f":"RTD(\"cqg.rtd\", ,\"ContractData\",C283, \"LongDescription\",, \"T\")","v":"Lockheed Martin Corp"},null,null,null,{"$f":"RTD(\"cqg.rtd\", ,\"ContractData\",C283, \"LastTradeToday\",, \"T\")","v":""},{"$f":"RTD(\"cqg.rtd\", ,\"ContractData\",C283, \"NetLastTradeToday\",, \"T\")","v":""},{"$f":"IFERROR(RTD(\"cqg.rtd\", ,\"ContractData\",C283, \"PerCentNetLastTrade\",, \"T\")/100,\"\")","v":""},{"$f":"RTD(\"cqg.rtd\", ,\"ContractData\", C283, \"T_CVol\",, \"T\")","v":4145},283,{"$f":"IFERROR(RANK($J283,$J$1:J$503)+COUNTIF($J$1:J283,J283)-1,\"\")","v":""},"S.US.LMT",{"$error":"#N/A"}]
["S.US.LNT",1,"S.US.LNT",{"$f":"RTD(\"cqg.rtd\", ,\"ContractData\",C284, \"LongDescription\",, \"T\")","v":"Alliant Energy Corp"},null,null,null,{"$f":"RTD(\"cqg.rtd\", ,\"ContractData\",C284, \"LastTradeToday\",, \"T\")","v":""},{"$f":"RTD(\"cqg.rtd\", ,\"ContractData\",C284, \"NetLastTradeToday\",, \"T\")","v":""},{"$f":"IFERROR(RTD(\"cqg.rtd\", ,\"ContractData\",C284, \"PerCentNetLastTrade\",, \"T\")/100,\"\")","v":""},{"$f":"RTD(\"cqg.rtd\", ,\"ContractData\", C284, \"T_CVol\",, \"T\")","v":2976},284,{"$f":"IFERROR(RANK($J284,$J$1:J$503)+COUNTIF($J$1:J284,J284)-1,\"\")","v":""},"S.US.LNT",{"$error":"#N/A"}]
["S.US.LOW",1,"S.US.LOW",{"$f":"RTD(\"cqg.rtd\", ,\"ContractData\",C285, \"LongDescription\",, \"T\")","v":"Lowes Companies Inc"},null,null,null,{"$f":"RTD(\"cqg.rtd\", ,\"ContractData\",C285, \"LastTradeToday\",, \"T\")","v":""},{"$f":"RTD(\"cqg.rtd\", ,\"ContractData\",C285, \"NetLastTradeToday\",, \"T\")","v":""},{"$f":"IFERROR(RTD(\"cqg.rtd\", ,\"ContractData\",C285, \"PerCentNetLastTrade\",, \"T\")/100,\"\")","v":""},{"$f":"RTD(\"cqg.rtd\", ,\"ContractData\", C285, \"T_CVol\",, \"T\")","v":1073},285,{"$f":"IFERROR(RANK($J285,$J$1:J$503)+COUNTIF($J$1:J285,J285)-1,\"\")","v":""},"S.US.LOW",{"$error":"#N/A"}]
["S.US.LRCX",1,"S.US.LRCX",{"$f":"RTD(\"cqg.rtd\", ,\"ContractData\",C286, \"LongDescription\",, \"T\")","v":"LAM Research Corporation"},null,null,null,{"$f":"RTD(\"cqg.rtd\", ,\"ContractData\",C286, \"LastTradeToday\",, \"T\")","v":""},{"$f":"RTD(\"cqg.rtd\", ,\"ContractData\",C286, \"NetLastTradeToday\",, \"T\")","v":""},{"$f":"IFERROR(RTD(\"cqg.rtd\", ,\"ContractData\",C286, \"PerCentNetLastTrade\",, \"T\")/100,\"\")","v":""},{"$f":"RTD(\"cqg.rtd\", ,\"ContractData\", C286, \"T_CVol\",, \"T\")","v":12388},286,{"$f":"IFERROR(RANK($J286,$J$1:J$503)+COUNTIF($J$1:J286,J286)-1,\"\")","v":""},"S.US.LRCX",{"$error":"#N/A"}]
["S.US.LULU",1,"S.US.LULU",{"$f":"RTD(\"cqg.rtd\", ,\"ContractData\",C287, \"LongDescription\",, \"T\")","v":"Lululemon Athletica Inc"},null,null,null,{"$f":"RTD(\"cqg.rtd\", ,\"ContractData\",C287, \"LastTradeToday\",, \"T\")","v":""},{"$f":"RTD(\"cqg.rtd\", ,\"ContractData\",C287, \"NetLastTradeToday\",, \"T\")","v":""},{"$f":"IFERROR(RTD(\"cqg.rtd\", ,\"ContractData\",C287, \"PerCentNetLastTrade\",, \"T\")/100,\"\")","v":""},{"$f":"RTD(\"cqg.rtd\", ,\"ContractData\", C287, \"T_CVol\",, \"T\")","v":12890},287,{"$f":"IFERROR(RANK($J287,$J$1:J$503)+COUNTIF($J$1:J287,J287)-1,\"\")","v":""},"S.US.LULU",{"$error":"#N/A"}]
["S.US.LUV",1,"S.US.LUV",{"$f":"RTD(\"cqg.rtd\", ,\"ContractData\",C288, \"LongDescription\",, \"T\")","v":"Southwest Airlines Co"},null,null,null,{"$f":"RTD(\"cqg.rtd\", ,\"ContractData\",C288, \"LastTradeToday\",, \"T\")","v":""},{"$f":"RTD(\"cqg.rtd\", ,\"ContractData\",C288, \"NetLastTradeToday\",, \"T\")","v":""},{"$f":"IFERROR(RTD(\"cqg.rtd\", ,\"ContractData\",C288, \"PerCentNetLastTrade\",, \"T\")/100,\"\")","v":""},{"$f":"RTD(\"cqg.rtd\", ,\"ContractData\", C288, \"T_CVol\",, \"T\")","v":3147},288,{"$f":"IFERROR(RANK($J288,$J$1:J$503)+COUNTIF($J$1:J288,J288)-1,\"\")","v":""},"S.US.LUV",{"$error":"#N/A"}]
["S.US.LVS",1,"S.US.LVS",{"$f":"RTD(\"cqg.rtd\", ,\"ContractData\",C289, \"LongDescription\",, \"T\")","v":"Las Vegas Sands Corp"},null,null,null,{"$f":"RTD(\"cqg.rtd\", ,\"ContractData\",C289, \"LastTradeToday\",, \"T\")","v":""},{"$f":"RTD(\"cqg.rtd\", ,\"ContractData\",C289, \"NetLastTradeToday\",, \"T\")","v":""},{"$f":"IFERROR(RTD(\"cqg.rtd\", ,\"ContractData\",C289, \"PerCentNetLastTrade\",, \"T\")/100,\"\")","v":""},{"$f":"RTD(\"cqg.rtd\", ,\"ContractData\", C289, \"T_CVol\",, \"T\")","v":1766},289,{"$f":"IFERROR(RANK($J289,$J$1:J$503)+COUNTIF($J$1:J289,J289)-1,\"\")","v":""},"S.US.LVS",{"$error":"#N/A"}]
["S.US.LW",1,"S.US.LW",{"$f":"RTD(\"cqg.rtd\", ,\"ContractData\",C290, \"LongDescription\",, \"T\")","v":"Lamb Weston Holdings, Inc."},null,null,null,{"$f":"RTD(\"cqg.rtd\", ,\"ContractData\",C290, \"LastTradeToday\",, \"T\")","v":""},{"$f":"RTD(\"cqg.rtd\", ,\"ContractData\",C290, \"NetLastTradeToday\",, \"T\")","v":""},{"$f":"IFERROR(RTD(\"cqg.rtd\", ,\"ContractData\",C290, \"PerCentNetLastTrade\",, \"T\")/100,\"\")","v":""},{"$f":"RTD(\"cqg.rtd\", ,\"ContractData\", C290, \"T_CVol\",, \"T\")","v":296},290,{"$f":"IFERROR(RANK($J290,$J$1:J$503)+COUNTIF($J$1:J290,J290)-1,\"\")","v":""},"S.US.LW",{"$error":"#N/A"}]
["S.US.LYB",1,"S.US.LYB",{"$f":"RTD(\"cqg.rtd\", ,\"ContractData\",C291, \"LongDescription\",, \"T\")","v":"LyondellBasell Industries NV Class A"},null,null,null,{"$f":"RTD(\"cqg.rtd\", ,\"ContractData\",C291, \"LastTradeToday\",, \"T\")","v":""},{"$f":"RTD(\"cqg.rtd\", ,\"ContractData\",C291, \"NetLastTradeToday\",, \"T\")","v":""},{"$f":"IFERROR(RTD(\"cqg.rtd\", ,\"ContractData\",C291, \"PerCentNetLastTrade\",, \"T\")/100,\"\")","v":""},{"$f":"RTD(\"cqg.rtd\", ,\"ContractData\", C291, \"T_CVol\",, \"T\")","v":5682},291,{"$f":"IFERROR(RANK($J291,$J$1:J$503)+COUNTIF($J$1:J291,J291)-1,\"\")","v":""},"S.US.LYB",{"$error":"#N/A"}]
["S.US.LYV",1,"S.US.LYV",{"$f":"RTD(\"cqg.rtd\", ,\"ContractData\",C292, \"LongDescription\",, \"T\")","v":"Live Nation Entertainment Inc"},null,null,null,{"$f":"RTD(\"cqg.rtd\", ,\"ContractData\",C292, \"LastTradeToday\",, \"T\")","v":""},{"$f":"RTD(\"cqg.rtd\", ,\"ContractData\",C292, \"NetLastTradeToday\",, \"T\")","v":""},{"$f":"IFERROR(RTD(\"cqg.rtd\", ,\"ContractData\",C292, \"PerCentNetLastTrade\",, \"T\")/100,\"\")","v":""},{"$f":"RTD(\"cqg.rtd\", ,\"ContractData\", C292, \"T_CVol\",, \"T\")","v":5002},292,{"$f":"IFERROR(RANK($J292,$J$1:J$503)+COUNTIF($J$1:J292,J292)-1,\"\")","v":""},"S.US.LYV",{"$error":"#N/A"}]
["S.US.MA",1,"S.US.MA",{"$f":"RTD(\"cqg.rtd\", ,\"ContractData\",C293, \"LongDescription\",, \"T\")","v":"Mastercard Inc."},null,null,null,{"$f":"RTD(\"cqg.rtd\", ,\"ContractData\",C293, \"LastTradeToday\",, \"T\")","v":""},{"$f":"RTD(\"cqg.rtd\", ,\"ContractData\",C293, \"NetLastTradeToday\",, \"T\")","v":""},{"$f":"IFERROR(RTD(\"cqg.rtd\", ,\"ContractData\",C293, \"PerCentNetLastTrade\",, \"T\")/100,\"\")","v":""},{"$f":"RTD(\"cqg.rtd\", ,\"ContractData\", C293, \"T_CVol\",, \"T\")","v":1219},293,{"$f":"IFERROR(RANK($J293,$J$1:J$503)+COUNTIF($J$1:J293,J293)-1,\"\")","v":""},"S.US.MA",{"$error":"#N/A"}]
["S.US.MAA",1,"S.US.MAA",{"$f":"RTD(\"cqg.rtd\", ,\"ContractData\",C294, \"LongDescription\",, \"T\")","v":"Mid-America Apt Communities Inc"},null,null,null,{"$f":"RTD(\"cqg.rtd\", ,\"ContractData\",C294, \"LastTradeToday\",, \"T\")","v":""},{"$f":"RTD(\"cqg.rtd\", ,\"ContractData\",C294, \"NetLastTradeToday\",, \"T\")","v":""},{"$f":"IFERROR(RTD(\"cqg.rtd\", ,\"ContractData\",C294, \"PerCentNetLastTrade\",, \"T\")/100,\"\")","v":""},{"$f":"RTD(\"cqg.rtd\", ,\"ContractData\", C294, \"T_CVol\",, \"T\")","v":345},294,{"$f":"IFERROR(RANK($J294,$J$1:J$503)+COUNTIF($J$1:J294,J294)-1,\"\")","v":""},"S.US.MAA",{"$error":"#N/A"}]
["S.US.MAR",1,"S.US.MAR",{"$f":"RTD(\"cqg.rtd\", ,\"ContractData\",C295, \"LongDescription\",, \"T\")","v":"Marriot International, Inc."},null,null,null,{"$f":"RTD(\"cqg.rtd\", ,\"ContractData\",C295, \"LastTradeToday\",, \"T\")","v":""},{"$f":"RTD(\"cqg.rtd\", ,\"ContractData\",C295, \"NetLastTradeToday\",, \"T\")","v":""},{"$f":"IFERROR(RTD(\"cqg.rtd\", ,\"ContractData\",C295, \"PerCentNetLastTrade\",, \"T\")/100,\"\")","v":""},{"$f":"RTD(\"cqg.rtd\", ,\"ContractData\", C295, \"T_CVol\",, \"T\")","v":919},295,{"$f":"IFERROR(RANK($J295,$J$1:J$503)+COUNTIF($J$1:J295,J295)-1,\"\")","v":""},"S.US.MAR",{"$error":"#N/A"}]
["S.US.MAS",1,"S.US.MAS",{"$f":"RTD(\"cqg.rtd\", ,\"ContractData\",C296, \"LongDescription\",, \"T\")","v":"Masco Corporation"},null,null,null,{"$f":"RTD(\"cqg.rtd\", ,\"ContractData\",C296, \"LastTradeToday\",, \"T\")","v":""},{"$f":"RTD(\"cqg.rtd\", ,\"ContractData\",C296, \"NetLastTradeToday\",, \"T\")","v":""},{"$f":"IFERROR(RTD(\"cqg.rtd\", ,\"ContractData\",C296, \"PerCentNetLastTrade\",, \"T\")/100,\"\")","v":""},{"$f":"RTD(\"cqg.rtd\", ,\"ContractData\", C296, \"T_CVol\",, \"T\")","v":17},296,{"$f":"IFERROR(RANK($J296,$J$1:J$503)+COUNTIF($J$1:J296,J296)-1,\"\")","v":""},"S.US.MAS",{"$error":"#N/A"}]
["S.US.MCD",1,"S.US.MCD",{"$f":"RTD(\"cqg.rtd\", ,\"ContractData\",C297, \"LongDescription\",, \"T\")","v":"McDonald's Corporation"},null,null,null,{"$f":"RTD(\"cqg.rtd\", ,\"ContractData\",C297, \"LastTradeToday\",, \"T\")","v":""},{"$f":"RTD(\"cqg.rtd\", ,\"ContractData\",C297, \"NetLastTradeToday\",, \"T\")","v":""},{"$f":"IFERROR(RTD(\"cqg.rtd\", ,\"ContractData\",C297, \"PerCentNetLastTrade\",, \"T\")/100,\"\")","v":""},{"$f":"RTD(\"cqg.rtd\", ,\"ContractData\", C297, \"T_CVol\",, \"T\")","v":2507},297,{"$f":"IFERROR(RANK($J297,$J$1:J$503)+COUNTIF($J$1:J297,J297)-1,\"\")","v":""},"S.US.MCD",{"$error":"#N/A"}]
["S.US.MCHP",1,"S.US.MCHP",{"$f":"RTD(\"cqg.rtd\", ,\"ContractData\",C298, \"LongDescription\",, \"T\")","v":"Microchip Technology Inc"},null,null,null,{"$f":"RTD(\"cqg.rtd\", ,\"ContractData\",C298, \"LastTradeToday\",, \"T\")","v":""},{"$f":"RTD(\"cqg.rtd\", ,\"ContractData\",C298, \"NetLastTradeToday\",, \"T\")","v":""},{"$f":"IFERROR(RTD(\"cqg.rtd\", ,\"ContractData\",C298, \"PerCentNetLastTrade\",, \"T\")/100,\"\")","v":""},{"$f":"RTD(\"cqg.rtd\", ,\"ContractData\", C298, \"T_CVol\",, \"T\")","v":27949},298,{"$f":"IFERROR(RANK($J298,$J$1:J$503)+COUNTIF($J$1:J298,J298)-1,\"\")","v":""},"S.US.MCHP",{"$error":"#N/A"}]
["S.US.MCK",1,"S.US.MCK",{"$f":"RTD(\"cqg.rtd\", ,\"ContractData\",C299, \"LongDescription\",, \"T\")","v":"McKesson Corporation"},null,null,null,{"$f":"RTD(\"cqg.rtd\", ,\"ContractData\",C299, \"LastTradeToday\",, \"T\")","v":""},{"$f":"RTD(\"cqg.rtd\", ,\"ContractData\",C299, \"NetLastTradeToday\",, \"T\")","v":""},{"$f":"IFERROR(RTD(\"cqg.rtd\", ,\"ContractData\",C299, \"PerCentNetLastTrade\",, \"T\")/100,\"\")","v":""},{"$f":"RTD(\"cqg.rtd\", ,\"ContractData\", C299, \"T_CVol\",, \"T\")","v":72},299,{"$f":"IFERROR(RANK($J299,$J$1:J$503)+COUNTIF($J$1:J299,J299)-1,\"\")","v":""},"S.US.MCK",{"$error":"#N/A"}]
["S.US.MCO",1,"S.US.MCO",{"$f":"RTD(\"cqg.rtd\", ,\"ContractData\",C300, \"LongDescription\",, \"T\")","v":"Moodys Corp"},null,null,null,{"$f":"RTD(\"cqg.rtd\", ,\"ContractData\",C300, \"LastTradeToday\",, \"T\")","v":""},{"$f":"RTD(\"cqg.rtd\", ,\"ContractData\",C300, \"NetLastTradeToday\",, \"T\")","v":""},{"$f":"IFERROR(RTD(\"cqg.rtd\", ,\"ContractData\",C300, \"PerCentNetLastTrade\",, \"T\")/100,\"\")","v":""},{"$f":"RTD(\"cqg.rtd\", ,\"ContractData\", C300, \"T_CVol\",, \"T\")","v":18},300,{"$f":"IFERROR(RANK($J300,$J$1:J$503)+COUNTIF($J$1:J300,J300)-1,\"\")","v":""},"S.US.MCO",{"$error":"#N/A"}]
["S.US.MDLZ",1,"S.US.MDLZ",{"$f":"RTD(\"cqg.rtd\", ,\"ContractData\",C301, \"LongDescription\",, \"T\")","v":"Mondelez International, Inc."},null,null,null,{"$f":"RTD(\"cqg.rtd\", ,\"ContractData\",C301, \"LastTradeToday\",, \"T\")","v":""},{"$f":"RTD(\"cqg.rtd\", ,\"ContractData\",C301, \"NetLastTradeToday\",, \"T\")","v":""},{"$f":"IFERROR(RTD(\"cqg.rtd\", ,\"ContractData\",C301, \"PerCentNetLastTrade\",, \"T\")/100,\"\")","v":""},{"$f":"RTD(\"cqg.rtd\", ,\"ContractData\", C301, \"T_CVol\",, \"T\")","v":1484},301,{"$f":"IFERROR(RANK($J301,$J$1:J$503)+COUNTIF($J$1:J301,J301)-1,\"\")","v":""},"S.US.MDLZ",{"$error":"#N/A"}]
["S.US.MDT",1,"S.US.MDT",{"$f":"RTD(\"cqg.rtd\", ,\"ContractData\",C302, \"LongDescription\",, \"T\")","v":"Medtronic Inc"},null,null,null,{"$f":"RTD(\"cqg.rtd\", ,\"ContractData\",C302, \"LastTradeToday\",, \"T\")","v":""},{"$f":"RTD(\"cqg.rtd\", ,\"ContractData\",C302, \"NetLastTradeToday\",, \"T\")","v":""},{"$f":"IFERROR(RTD(\"cqg.rtd\", ,\"ContractData\",C302, \"PerCentNetLastTrade\",, \"T\")/100,\"\")","v":""},{"$f":"RTD(\"cqg.rtd\", ,\"ContractData\", C302, \"T_CVol\",, \"T\")","v":1118},302,{"$f":"IFERROR(RANK($J302,$J$1:J$503)+COUNTIF($J$1:J302,J302)-1,\"\")","v":""},"S.US.MDT",{"$error":"#N/A"}]
["S.US.MET",1,"S.US.MET",{"$f":"RTD(\"cqg.rtd\", ,\"ContractData\",C303, \"LongDescription\",, \"T\")","v":"MetLife Inc"},null,null,null,{"$f":"RTD(\"cqg.rtd\", ,\"ContractData\",C303, \"LastTradeToday\",, \"T\")","v":""},{"$f":"RTD(\"cqg.rtd\", ,\"ContractData\",C303, \"NetLastTradeToday\",, \"T\")","v":""},{"$f":"IFERROR(RTD(\"cqg.rtd\", ,\"ContractData\",C303, \"PerCentNetLastTrade\",, \"T\")/100,\"\")","v":""},{"$f":"RTD(\"cqg.rtd\", ,\"ContractData\", C303, \"T_CVol\",, \"T\")","v":974},303,{"$f":"IFERROR(RANK($J303,$J$1:J$503)+COUNTIF($J$1:J303,J303)-1,\"\")","v":""},"S.US.MET",{"$error":"#N/A"}]
["S.US.META",1,"S.US.META",{"$f":"RTD(\"cqg.rtd\", ,\"ContractData\",C304, \"LongDescription\",, \"T\")","v":"Meta Platforms, Inc."},null,null,null,{"$f":"RTD(\"cqg.rtd\", ,\"ContractData\",C304, \"LastTradeToday\",, \"T\")","v":""},{"$f":"RTD(\"cqg.rtd\", ,\"ContractData\",C304, \"NetLastTradeToday\",, \"T\")","v":""},{"$f":"IFERROR(RTD(\"cqg.rtd\", ,\"ContractData\",C304, \"PerCentNetLastTrade\",, \"T\")/100,\"\")","v":""},{"$f":"RTD(\"cqg.rtd\", ,\"ContractData\", C304, \"T_CVol\",, \"T\")","v":204216},304,{"$f":"IFERROR(RANK($J304,$J$1:J$503)+COUNTIF($J$1:J304,J304)-1,\"\")","v":""},"S.US.META",{"$error":"#N/A"}]
["S.US.MGM",1,"S.US.MGM",{"$f":"RTD(\"cqg.rtd\", ,\"ContractData\",C305, \"LongDescription\",, \"T\")","v":"MGM Resorts International"},null,null,null,{"$f":"RTD(\"cqg.rtd\", ,\"ContractData\",C305, \"LastTradeToday\",, \"T\")","v":""},{"$f":"RTD(\"cqg.rtd\", ,\"ContractData\",C305, \"NetLastTradeToday\",, \"T\")","v":""},{"$f":"IFERROR(RTD(\"cqg.rtd\", ,\"ContractData\",C305, \"PerCentNetLastTrade\",, \"T\")/100,\"\")","v":""},{"$f":"RTD(\"cqg.rtd\", ,\"ContractData\", C305, \"T_CVol\",, \"T\")","v":1478},305,{"$f":"IFERROR(RANK($J305,$J$1:J$503)+COUNTIF($J$1:J305,J305)-1,\"\")","v":""},"S.US.MGM",{"$error":"#N/A"}]
["S.US.MHK",1,"S.US.MHK",{"$f":"RTD(\"cqg.rtd\", ,\"ContractData\",C306, \"LongDescription\",, \"T\")","v":"Mohawk Industries Inc"},null,null,null,{"$f":"RTD(\"cqg.rtd\", ,\"ContractData\",C306, \"LastTradeToday\",, \"T\")","v":""},{"$f":"RTD(\"cqg.rtd\", ,\"ContractData\",C306, \"NetLastTradeToday\",, \"T\")","v":""},{"$f":"IFERROR(RTD(\"cqg.rtd\", ,\"ContractData\",C306, \"PerCentNetLastTrade\",, \"T\")/100,\"\")","v":""},{"$f":"RTD(\"cqg.rtd\", ,\"ContractData\", C306, \"T_CVol\",, \"T\")","v":23},306,{"$f":"IFERROR(RANK($J306,$J$1:J$503)+COUNTIF($J$1:J306,J306)-1,\"\")","v":""},"S.US.MHK",{"$error":"#N/A"}]
["S.US.MKC",1,"S.US.MKC",{"$f":"RTD(\"cqg.rtd\", ,\"ContractData\",C307, \"LongDescription\",, \"T\")","v":"McCormick & Company Inc"},null,null,null,{"$f":"RTD(\"cqg.rtd\", ,\"ContractData\",C307, \"LastTradeToday\",, \"T\")","v":""},{"$f":"RTD(\"cqg.rtd\", ,\"ContractData\",C307, \"NetLastTradeToday\",, \"T\")","v":""},{"$f":"IFERROR(RTD(\"cqg.rtd\", ,\"ContractData\",C307, \"PerCentNetLastTrade\",, \"T\")/100,\"\")","v":""},{"$f":"RTD(\"cqg.rtd\", ,\"ContractData\", C307, \"T_CVol\",, \"T\")","v":23},307,{"$f":"IFERROR(RANK($J307,$J$1:J$503)+COUNTIF($J$1:J307,J307)-1,\"\")","v":""},"S.US.MKC",{"$error":"#N/A"}]
["S.US.MKTX",1,"S.US.MKTX",{"$f":"RTD(\"cqg.rtd\", ,\"ContractData\",C308, \"LongDescription\",, \"T\")","v":"MarketAxcess Inc"},null,null,null,{"$f":"RTD(\"cqg.rtd\", ,\"ContractData\",C308, \"LastTradeToday\",, \"T\")","v":""},{"$f":"RTD(\"cqg.rtd\", ,\"ContractData\",C308, \"NetLastTradeToday\",, \"T\")","v":""},{"$f":"IFERROR(RTD(\"cqg.rtd\", ,\"ContractData\",C308, \"PerCentNetLastTrade\",, \"T\")/100,\"\")","v":""},{"$f":"RTD(\"cqg.rtd\", ,\"ContractData\", C308, \"T_CVol\",, \"T\")","v":14},308,{"$f":"IFERROR(RANK($J308,$J$1:J$503)+COUNTIF($J$1:J308,J308)-1,\"\")","v":""},"S.US.MKTX",{"$error":"#N/A"}]
["S.US.MLM",1,"S.US.MLM",{"$f":"RTD(\"cqg.rtd\", ,\"ContractData\",C309, \"LongDescription\",, \"T\")","v":"Martin Marietta Materials Inc"},null,null,null,{"$f":"RTD(\"cqg.rtd\", ,\"ContractData\",C309, \"LastTradeToday\",, \"T\")","v":""},{"$f":"RTD(\"cqg.rtd\", ,\"ContractData\",C309, \"NetLastTradeToday\",, \"T\")","v":""},{"$f":"IFERROR(RTD(\"cqg.rtd\", ,\"ContractData\",C309, \"PerCentNetLastTrade\",, \"T\")/100,\"\")","v":""},{"$f":"RTD(\"cqg.rtd\", ,\"ContractData\", C309, \"T_CVol\",, \"T\")","v":19},309,{"$f":"IFERROR(RANK($J309,$J$1:J$503)+COUNTIF($J$1:J309,J309)-1,\"\")","v":""},"S.US.MLM",{"$error":"#N/A"}]
["S.US.MMC",1,"S.US.MMC",{"$f":"RTD(\"cqg.rtd\", ,\"ContractData\",C310, \"LongDescription\",, \"T\")","v":"Marsh & McLennan Cos Inc"},null,null,null,{"$f":"RTD(\"cqg.rtd\", ,\"ContractData\",C310, \"LastTradeToday\",, \"T\")","v":""},{"$f":"RTD(\"cqg.rtd\", ,\"ContractData\",C310, \"NetLastTradeToday\",, \"T\")","v":""},{"$f":"IFERROR(RTD(\"cqg.rtd\", ,\"ContractData\",C310, \"PerCentNetLastTrade\",, \"T\")/100,\"\")","v":""},{"$f":"RTD(\"cqg.rtd\", ,\"ContractData\", C310, \"T_CVol\",, \"T\")","v":330},310,{"$f":"IFERROR(RANK($J310,$J$1:J$503)+COUNTIF($J$1:J310,J310)-1,\"\")","v":""},"S.US.MMC",{"$error":"#N/A"}]
["S.US.MMM",1,"S.US.MMM",{"$f":"RTD(\"cqg.rtd\", ,\"ContractData\",C311, \"LongDescription\",, \"T\")","v":"3M Company"},null,null,null,{"$f":"RTD(\"cqg.rtd\", ,\"ContractData\",C311, \"LastTradeToday\",, \"T\")","v":""},{"$f":"RTD(\"cqg.rtd\", ,\"ContractData\",C311, \"NetLastTradeToday\",, \"T\")","v":""},{"$f":"IFERROR(RTD(\"cqg.rtd\", ,\"ContractData\",C311, \"PerCentNetLastTrade\",, \"T\")/100,\"\")","v":""},{"$f":"RTD(\"cqg.rtd\", ,\"ContractData\", C311, \"T_CVol\",, \"T\")","v":814},311,{"$f":"IFERROR(RANK($J311,$J$1:J$503)+COUNTIF($J$1:J311,J311)-1,\"\")","v":""},"S.US.MMM",{"$error":"#N/A"}]
["S.US.MNST",1,"S.US.MNST",{"$f":"RTD(\"cqg.rtd\", ,\"ContractData\",C312, \"LongDescription\",, \"T\")","v":"Monster Beverage Corporation"},null,null,null,{"$f":"RTD(\"cqg.rtd\", ,\"ContractData\",C312, \"LastTradeToday\",, \"T\")","v":""},{"$f":"RTD(\"cqg.rtd\", ,\"ContractData\",C312, \"NetLastTradeToday\",, \"T\")","v":""},{"$f":"IFERROR(RTD(\"cqg.rtd\", ,\"ContractData\",C312, \"PerCentNetLastTrade\",, \"T\")/100,\"\")","v":""},{"$f":"RTD(\"cqg.rtd\", ,\"ContractData\", C312, \"T_CVol\",, \"T\")","v":1297},312,{"$f":"IFERROR(RANK($J312,$J$1:J$503)+COUNTIF($J$1:J312,J312)-1,\"\")","v":""},"S.US.MNST",{"$error":"#N/A"}]
["S.US.MO",1,"S.US.MO",{"$f":"RTD(\"cqg.rtd\", ,\"ContractData\",C313, \"LongDescription\",, \"T\")","v":"Altria Group Inc"},null,null,null,{"$f":"RTD(\"cqg.rtd\", ,\"ContractData\",C313, \"LastTradeToday\",, \"T\")","v":""},{"$f":"RTD(\"cqg.rtd\", ,\"ContractData\",C313, \"NetLastTradeToday\",, \"T\")","v":""},{"$f":"IFERROR(RTD(\"cqg.rtd\", ,\"ContractData\",C313, \"PerCentNetLastTrade\",, \"T\")/100,\"\")","v":""},{"$f":"RTD(\"cqg.rtd\", ,\"ContractData\", C313, \"T_CVol\",, \"T\")","v":14562},313,{"$f":"IFERROR(RANK($J313,$J$1:J$503)+COUNTIF($J$1:J313,J313)-1,\"\")","v":""},"S.US.MO",{"$error":"#N/A"}]
["S.US.MOH",1,"S.US.MOH",{"$f":"RTD(\"cqg.rtd\", ,\"ContractData\",C314, \"LongDescription\",, \"T\")","v":"Mohlina Heathcare Inc"},null,null,null,{"$f":"RTD(\"cqg.rtd\", ,\"ContractData\",C314, \"LastTradeToday\",, \"T\")","v":""},{"$f":"RTD(\"cqg.rtd\", ,\"ContractData\",C314, \"NetLastTradeToday\",, \"T\")","v":""},{"$f":"IFERROR(RTD(\"cqg.rtd\", ,\"ContractData\",C314, \"PerCentNetLastTrade\",, \"T\")/100,\"\")","v":""},{"$f":"RTD(\"cqg.rtd\", ,\"ContractData\", C314, \"T_CVol\",, \"T\")","v":516},314,{"$f":"IFERROR(RANK($J314,$J$1:J$503)+COUNTIF($J$1:J314,J314)-1,\"\")","v":""},"S.US.MOH",{"$error":"#N/A"}]
["S.US.MOS",1,"S.US.MOS",{"$f":"RTD(\"cqg.rtd\", ,\"ContractData\",C315, \"LongDescription\",, \"T\")","v":"Mosaic Company"},null,null,null,{"$f":"RTD(\"cqg.rtd\", ,\"ContractData\",C315, \"LastTradeToday\",, \"T\")","v":""},{"$f":"RTD(\"cqg.rtd\", ,\"ContractData\",C315, \"NetLastTradeToday\",, \"T\")","v":""},{"$f":"IFERROR(RTD(\"cqg.rtd\", ,\"ContractData\",C315, \"PerCentNetLastTrade\",, \"T\")/100,\"\")","v":""},{"$f":"RTD(\"cqg.rtd\", ,\"ContractData\", C315, \"T_CVol\",, \"T\")","v":478},315,{"$f":"IFERROR(RANK($J315,$J$1:J$503)+COUNTIF($J$1:J315,J315)-1,\"\")","v":""},"S.US.MOS",{"$error":"#N/A"}]
["S.US.MPC",1,"S.US.MPC",{"$f":"RTD(\"cqg.rtd\", ,\"ContractData\",C316, \"LongDescription\",, \"T\")","v":"Marathon Petroleum Corporation"},null,null,null,{"$f":"RTD(\"cqg.rtd\", ,\"ContractData\",C316, \"LastTradeToday\",, \"T\")","v":""},{"$f":"RTD(\"cqg.rtd\", ,\"ContractData\",C316, \"NetLastTradeToday\",, \"T\")","v":""},{"$f":"IFERROR(RTD(\"cqg.rtd\", ,\"ContractData\",C316, \"PerCentNetLastTrade\",, \"T\")/100,\"\")","v":""},{"$f":"RTD(\"cqg.rtd\", ,\"ContractData\", C316, \"T_CVol\",, \"T\")","v":91},316,{"$f":"IFERROR(RANK($J316,$J$1:J$503)+COUNTIF($J$1:J316,J316)-1,\"\")","v":""},"S.US.MPC",{"$error":"#N/A"}]
["S.US.MPWR",1,"S.US.MPWR",{"$f":"RTD(\"cqg.rtd\", ,\"ContractData\",C317, \"LongDescription\",, \"T\")","v":"Monolithic Power Systems Inc"},null,null,null,{"$f":"RTD(\"cqg.rtd\", ,\"ContractData\",C317, \"LastTradeToday\",, \"T\")","v":""},{"$f":"RTD(\"cqg.rtd\", ,\"ContractData\",C317, \"NetLastTradeToday\",, \"T\")","v":""},{"$f":"IFERROR(RTD(\"cqg.rtd\", ,\"ContractData\",C317, \"PerCentNetLastTrade\",, \"T\")/100,\"\")","v":""},{"$f":"RTD(\"cqg.rtd\", ,\"ContractData\", C317, \"T_CVol\",, \"T\")","v":1400},317,{"$f":"IFERROR(RANK($J317,$J$1:J$503)+COUNTIF($J$1:J317,J317)-1,\"\")","v":""},"S.US.MPWR",{"$error":"#N/A"}]
["S.US.MRK",1,"S.US.MRK",{"$f":"RTD(\"cqg.rtd\", ,\"ContractData\",C318, \"LongDescription\",, \"T\")","v":"Merck & Co Inc"},null,null,null,{"$f":"RTD(\"cqg.rtd\", ,\"ContractData\",C318, \"LastTradeToday\",, \"T\")","v":""},{"$f":"RTD(\"cqg.rtd\", ,\"ContractData\",C318, \"NetLastTradeToday\",, \"T\")","v":""},{"$f":"IFERROR(RTD(\"cqg.rtd\", ,\"ContractData\",C318, \"PerCentNetLastTrade\",, \"T\")/100,\"\")","v":""},{"$f":"RTD(\"cqg.rtd\", ,\"ContractData\", C318, \"T_CVol\",, \"T\")","v":10848},318,{"$f":"IFERROR(RANK($J318,$J$1:J$503)+COUNTIF($J$1:J318,J318)-1,\"\")","v":""},"S.US.MRK",{"$error":"#N/A"}]
["S.US.MRNA",1,"S.US.MRNA",{"$f":"RTD(\"cqg.rtd\", ,\"ContractData\",C319, \"LongDescription\",, \"T\")","v":"Moderna, Inc."},null,null,null,{"$f":"RTD(\"cqg.rtd\", ,\"ContractData\",C319, \"LastTradeToday\",, \"T\")","v":""},{"$f":"RTD(\"cqg.rtd\", ,\"ContractData\",C319, \"NetLastTradeToday\",, \"T\")","v":""},{"$f":"IFERROR(RTD(\"cqg.rtd\", ,\"ContractData\",C319, \"PerCentNetLastTrade\",, \"T\")/100,\"\")","v":""},{"$f":"RTD(\"cqg.rtd\", ,\"ContractData\", C319, \"T_CVol\",, \"T\")","v":65838},319,{"$f":"IFERROR(RANK($J319,$J$1:J$503)+COUNTIF($J$1:J319,J319)-1,\"\")","v":""},"S.US.MRNA",{"$error":"#N/A"}]
["S.US.MS",1,"S.US.MS",{"$f":"RTD(\"cqg.rtd\", ,\"ContractData\",C320, \"LongDescription\",, \"T\")","v":"Morgan Stanley"},null,null,null,{"$f":"RTD(\"cqg.rtd\", ,\"ContractData\",C320, \"LastTradeToday\",, \"T\")","v":""},{"$f":"RTD(\"cqg.rtd\", ,\"ContractData\",C320, \"NetLastTradeToday\",, \"T\")","v":""},{"$f":"IFERROR(RTD(\"cqg.rtd\", ,\"ContractData\",C320, \"PerCentNetLastTrade\",, \"T\")/100,\"\")","v":""},{"$f":"RTD(\"cqg.rtd\", ,\"ContractData\", C320, \"T_CVol\",, \"T\")","v":3053},320,{"$f":"IFERROR(RANK($J320,$J$1:J$503)+COUNTIF($J$1:J320,J320)-1,\"\")","v":""},"S.US.MS",{"$error":"#N/A"}]
["S.US.MSCI",1,"S.US.MSCI",{"$f":"RTD(\"cqg.rtd\", ,\"ContractData\",C321, \"LongDescription\",, \"T\")","v":"MSCI, Inc."},null,null,null,{"$f":"RTD(\"cqg.rtd\", ,\"ContractData\",C321, \"LastTradeToday\",, \"T\")","v":""},{"$f":"RTD(\"cqg.rtd\", ,\"ContractData\",C321, \"NetLastTradeToday\",, \"T\")","v":""},{"$f":"IFERROR(RTD(\"cqg.rtd\", ,\"ContractData\",C321, \"PerCentNetLastTrade\",, \"T\")/100,\"\")","v":""},{"$f":"RTD(\"cqg.rtd\", ,\"ContractData\", C321, \"T_CVol\",, \"T\")","v":128},321,{"$f":"IFERROR(RANK($J321,$J$1:J$503)+COUNTIF($J$1:J321,J321)-1,\"\")","v":""},"S.US.MSCI",{"$error":"#N/A"}]
["S.US.MSFT",{"$f":"IF(J322>0,1,0)","v":1},"S.US.MSFT",{"$f":"RTD(\"cqg.rtd\", ,\"ContractData\",C322, \"LongDescription\",, \"T\")","v":"Microsoft Corporation"},null,null,null,{"$f":"RTD(\"cqg.rtd\", ,\"ContractData\",C322, \"LastTradeToday\",, \"T\")","v":""},{"$f":"RTD(\"cqg.rtd\", ,\"ContractData\",C322, \"NetLastTradeToday\",, \"T\")","v":""},{"$f":"IFERROR(RTD(\"cqg.rtd\", ,\"ContractData\",C322, \"PerCentNetLastTrade\",, \"T\")/100,\"\")","v":""},{"$f":"RTD(\"cqg.rtd\", ,\"ContractData\", C322, \"T_CVol\",, \"T\")","v":164740},322,{"$f":"IFERROR(RANK($J322,$J$1:J$503)+COUNTIF($J$1:J322,J322)-1,\"\")","v":""},{"$f":"C322","v":"S.US.MSFT"},{"$f":"TRIM(VLOOKUP($L322,$M$1:$N$503,2,FALSE))","v":{"$error":"#N/A"}}]
["S.US.MSI",1,"S.US.MSI",{"$f":"RTD(\"cqg.rtd\", ,\"ContractData\",C323, \"LongDescription\",, \"T\")","v":"Motorola Solutions, Inc."},null,null,null,{"$f":"RTD(\"cqg.rtd\", ,\"ContractData\",C323, \"LastTradeToday\",, \"T\")","v":""},{"$f":"RTD(\"cqg.rtd\", ,\"ContractData\",C323, \"NetLastTradeToday\",, \"T\")","v":""},{"$f":"IFERROR(RTD(\"cqg.rtd\", ,\"ContractData\",C323, \"PerCentNetLastTrade\",, \"T\")/100,\"\")","v":""},{"$f":"RTD(\"cqg.rtd\", ,\"ContractData\", C323, \"T_CVol\",, \"T\")","v":126},{"$f":"L322+1","v":323},{"$f":"IFERROR(RANK($J323,$J$1:J$503)+COUNTIF($J$1:J323,J323)-1,\"\")","v":""},"S.US.MSI",{"$error":"#N/A"}]
["S.US.MTB",1,"S.US.MTB",{"$f":"RTD(\"cqg.rtd\", ,\"ContractData\",C324, \"LongDescription\",, \"T\")","v":"M&T Bank Corp"},null,null,null,{"$f":"RTD(\"cqg.rtd\", ,\"ContractData\",C324, \"LastTradeToday\",, \"T\")","v":""},{"$f":"RTD(\"cqg.rtd\", ,\"ContractData\",C324, \"NetLastTradeToday\",, \"T\")","v":""},{"$f":"IFERROR(RTD(\"cqg.rtd\", ,\"ContractData\",C324, \"PerCentNetLastTrade\",, \"T\")/100,\"\")","v":""},{"$f":"RTD(\"cqg.rtd\", ,\"ContractData\", C324, \"T_CVol\",, \"T\")","v":892},324,{"$f":"IFERROR(RANK($J324,$J$1:J$503)+COUNTIF($J$1:J324,J324)-1,\"\")","v":""},"S.US.MTB",{"$error":"#N/A"}]
["S.US.MTCH",1,"S.US.MTCH",{"$f":"RTD(\"cqg.rtd\", ,\"ContractData\",C325, \"LongDescription\",, \"T\")","v":"Match Group, Inc."},null,null,null,{"$f":"RTD(\"cqg.rtd\", ,\"ContractData\",C325, \"LastTradeToday\",, \"T\")","v":""},{"$f":"RTD(\"cqg.rtd\", ,\"ContractData\",C325, \"NetLastTradeToday\",, \"T\")","v":""},{"$f":"IFERROR(RTD(\"cqg.rtd\", ,\"ContractData\",C325, \"PerCentNetLastTrade\",, \"T\")/100,\"\")","v":""},{"$f":"RTD(\"cqg.rtd\", ,\"ContractData\", C325, \"T_CVol\",, \"T\")","v":2509},325,{"$f":"IFERROR(RANK($J325,$J$1:J$503)+COUNTIF($J$1:J325,J325)-1,\"\")","v":""},"S.US.MTCH",{"$error":"#N/A"}]
["S.US.MTD",1,"S.US.MTD",{"$f":"RTD(\"cqg.rtd\", ,\"ContractData\",C326, \"LongDescription\",, \"T\")","v":"Mettler-Toledo Internatl Inc"},null,null,null,{"$f":"RTD(\"cqg.rtd\", ,\"ContractData\",C326, \"LastTradeToday\",, \"T\")","v":""},{"$f":"RTD(\"cqg.rtd\", ,\"ContractData\",C326, \"NetLastTradeToday\",, \"T\")","v":""},{"$f":"IFERROR(RTD(\"cqg.rtd\", ,\"ContractData\",C326, \"PerCentNetLastTrade\",, \"T\")/100,\"\")","v":""},{"$f":"RTD(\"cqg.rtd\", ,\"ContractData\", C326, \"T_CVol\",, \"T\")","v":13},326,{"$f":"IFERROR(RANK($J326,$J$1:J$503)+COUNTIF($J$1:J326,J326)-1,\"\")","v":""},"S.US.MTD",{"$error":"#N/A"}]
["S.US.MU",1,"S.US.MU",{"$f":"RTD(\"cqg.rtd\", ,\"ContractData\",C327, \"LongDescription\",, \"T\")","v":"Micron Technology Inc"},null,null,null,{"$f":"RTD(\"cqg.rtd\", ,\"ContractData\",C327, \"LastTradeToday\",, \"T\")","v":""},{"$f":"RTD(\"cqg.rtd\", ,\"ContractData\",C327, \"NetLastTradeToday\",, \"T\")","v":""},{"$f":"IFERROR(RTD(\"cqg.rtd\", ,\"ContractData\",C327, \"PerCentNetLastTrade\",, \"T\")/100,\"\")","v":""},{"$f":"RTD(\"cqg.rtd\", ,\"ContractData\", C327, \"T_CVol\",, \"T\")","v":114938},327,{"$f":"IFERROR(RANK($J327,$J$1:J$503)+COUNTIF($J$1:J327,J327)-1,\"\")","v":""},"S.US.MU",{"$error":"#N/A"}]
["S.US.NCLH",1,"S.US.NCLH",{"$f":"RTD(\"cqg.rtd\", ,\"ContractData\",C328, \"LongDescription\",, \"T\")","v":"Norwegian Cruise Line"},null,null,null,{"$f":"RTD(\"cqg.rtd\", ,\"ContractData\",C328, \"LastTradeToday\",, \"T\")","v":""},{"$f":"RTD(\"cqg.rtd\", ,\"ContractData\",C328, \"NetLastTradeToday\",, \"T\")","v":""},{"$f":"IFERROR(RTD(\"cqg.rtd\", ,\"ContractData\",C328, \"PerCentNetLastTrade\",, \"T\")/100,\"\")","v":""},{"$f":"RTD(\"cqg.rtd\", ,\"ContractData\", C328, \"T_CVol\",, \"T\")","v":57330},328,{"$f":"IFERROR(RANK($J328,$J$1:J$503)+COUNTIF($J$1:J328,J328)-1,\"\")","v":""},"S.US.NCLH",{"$error":"#N/A"}]
["S.US.NDAQ",1,"S.US.NDAQ",{"$f":"RTD(\"cqg.rtd\", ,\"ContractData\",C329, \"LongDescription\",, \"T\")","v":"Nasdaq, Inc."},null,null,null,{"$f":"RTD(\"cqg.rtd\", ,\"ContractData\",C329, \"LastTradeToday\",, \"T\")","v":""},{"$f":"RTD(\"cqg.rtd\", ,\"ContractData\",C329, \"NetLastTradeToday\",, \"T\")","v":""},{"$f":"IFERROR(RTD(\"cqg.rtd\", ,\"ContractData\",C329, \"PerCentNetLastTrade\",, \"T\")/100,\"\")","v":""},{"$f":"RTD(\"cqg.rtd\", ,\"ContractData\", C329, \"T_CVol\",, \"T\")","v":3744},329,{"$f":"IFERROR(RANK($J329,$J$1:J$503)+COUNTIF($J$1:J329,J329)-1,\"\")","v":""},"S.US.NDAQ",{"$error":"#N/A"}]
["S.US.NDSN",1,"S.US.NDSN",{"$f":"RTD(\"cqg.rtd\", ,\"ContractData\",C330, \"LongDescription\",, \"T\")","v":"Nordson Corporation"},null,null,null,{"$f":"RTD(\"cqg.rtd\", ,\"ContractData\",C330, \"LastTradeToday\",, \"T\")","v":""},{"$f":"RTD(\"cqg.rtd\", ,\"ContractData\",C330, \"NetLastTradeToday\",, \"T\")","v":""},{"$f":"IFERROR(RTD(\"cqg.rtd\", ,\"ContractData\",C330, \"PerCentNetLastTrade\",, \"T\")/100,\"\")","v":""},{"$f":"RTD(\"cqg.rtd\", ,\"ContractData\", C330, \"T_CVol\",, \"T\")","v":1},330,{"$f":"IFERROR(RANK($J330,$J$1:J$503)+COUNTIF($J$1:J330,J330)-1,\"\")","v":""},"S.US.NDSN",{"$error":"#N/A"}]
["S.US.NEE",1,"S.US.NEE",{"$f":"RTD(\"cqg.rtd\", ,\"ContractData\",C331, \"LongDescription\",, \"T\")","v":"Nextera Energy, Inc."},null,null,null,{"$f":"RTD(\"cqg.rtd\", ,\"ContractData\",C331, \"LastTradeToday\",, \"T\")","v":""},{"$f":"RTD(\"cqg.rtd\", ,\"ContractData\",C331, \"NetLastTradeToday\",, \"T\")","v":""},{"$f":"IFERROR(RTD(\"cqg.rtd\", ,\"ContractData\",C331, \"PerCentNetLastTrade\",, \"T\")/100,\"\")","v":""},{"$f":"RTD(\"cqg.rtd\", ,\"ContractData\", C331, \"T_CVol\",, \"T\")","v":5582},331,{"$f":"IFERROR(RANK($J331,$J$1:J$503)+COUNTIF($J$1:J331,J331)-1,\"\")","v":""},"S.US.NEE",{"$error":"#N/A"}]
["S.US.NEM",1,"S.US.NEM",{"$f":"RTD(\"cqg.rtd\", ,\"ContractData\",C332, \"LongDescription\",, \"T\")","v":"Newmont Goldcorp Corporation"},null,null,null,{"$f":"RTD(\"cqg.rtd\", ,\"ContractData\",C332, \"LastTradeToday\",, \"T\")","v":""},{"$f":"RTD(\"cqg.rtd\", ,\"ContractData\",C332, \"NetLastTradeToday\",, \"T\")","v":""},{"$f":"IFERROR(RTD(\"cqg.rtd\", ,\"ContractData\",C332, \"PerCentNetLastTrade\",, \"T\")/100,\"\")","v":""},{"$f":"RTD(\"cqg.rtd\", ,\"ContractData\", C332, \"T_CVol\",, \"T\")","v":22931},332,{"$f":"IFERROR(RANK($J332,$J$1:J$503)+COUNTIF($J$1:J332,J332)-1,\"\")","v":""},"S.US.NEM",{"$error":"#N/A"}]
["S.US.NFLX",1,"S.US.NFLX",{"$f":"RTD(\"cqg.rtd\", ,\"ContractData\",C333, \"LongDescription\",, \"T\")","v":"Netflix Inc"},null,null,null,{"$f":"RTD(\"cqg.rtd\", ,\"ContractData\",C333, \"LastTradeToday\",, \"T\")","v":""},{"$f":"RTD(\"cqg.rtd\", ,\"ContractData\",C333, \"NetLastTradeToday\",, \"T\")","v":""},{"$f":"IFERROR(RTD(\"cqg.rtd\", ,\"ContractData\",C333, \"PerCentNetLastTrade\",, \"T\")/100,\"\")","v":""},{"$f":"RTD(\"cqg.rtd\", ,\"ContractData\", C333, \"T_CVol\",, \"T\")","v":13306},333,{"$f":"IFERROR(RANK($J333,$J$1:J$503)+COUNTIF($J$1:J333,J333)-1,\"\")","v":""},"S.US.NFLX",{"$error":"#N/A"}]
["S.US.NI",1,"S.US.NI",{"$f":"RTD(\"cqg.rtd\", ,\"ContractData\",C334, \"LongDescription\",, \"T\")","v":"NiSource Inc"},null,null,null,{"$f":"RTD(\"cqg.rtd\", ,\"ContractData\",C334, \"LastTradeToday\",, \"T\")","v":""},{"$f":"RTD(\"cqg.rtd\", ,\"ContractData\",C334, \"NetLastTradeToday\",, \"T\")","v":""},{"$f":"IFERROR(RTD(\"cqg.rtd\", ,\"ContractData\",C334, \"PerCentNetLastTrade\",, \"T\")/100,\"\")","v":""},{"$f":"RTD(\"cqg.rtd\", ,\"ContractData\", C334, \"T_CVol\",, \"T\")","v":425},334,{"$f":"IFERROR(RANK($J334,$J$1:J$503)+COUNTIF($J$1:J334,J334)-1,\"\")","v":""},"S.US.NI",{"$error":"#N/A"}]
["S.US.NKE",1,"S.US.NKE",{"$f":"RTD(\"cqg.rtd\", ,\"ContractData\",C335, \"LongDescription\",, \"T\")","v":"NIKE Inc ClsB"},null,null,null,{"$f":"RTD(\"cqg.rtd\", ,\"ContractData\",C335, \"LastTradeToday\",, \"T\")","v":""},{"$f":"RTD(\"cqg.rtd\", ,\"ContractData\",C335, \"NetLastTradeToday\",, \"T\")","v":""},{"$f":"IFERROR(RTD(\"cqg.rtd\", ,\"ContractData\",C335, \"PerCentNetLastTrade\",, \"T\")/100,\"\")","v":""},{"$f":"RTD(\"cqg.rtd\", ,\"ContractData\", C335, \"T_CVol\",, \"T\")","v":20253},335,{"$f":"IFERROR(RANK($J335,$J$1:J$503)+COUNTIF($J$1:J335,J335)-1,\"\")","v":""},"S.US.NKE",{"$error":"#N/A"}]
["S.US.NOC",1,"S.US.NOC",{"$f":"RTD(\"cqg.rtd\", ,\"ContractData\",C336, \"LongDescription\",, \"T\")","v":"Northrop Grumman Corporation"},null,null,null,{"$f":"RTD(\"cqg.rtd\", ,\"ContractData\",C336, \"LastTradeToday\",, \"T\")","v":""},{"$f":"RTD(\"cqg.rtd\", ,\"ContractData\",C336, \"NetLastTradeToday\",, \"T\")","v":""},{"$f":"IFERROR(RTD(\"cqg.rtd\", ,\"ContractData\",C336, \"PerCentNetLastTrade\",, \"T\")/100,\"\")","v":""},{"$f":"RTD(\"cqg.rtd\", ,\"ContractData\", C336, \"T_CVol\",, \"T\")","v":531},336,{"$f":"IFERROR(RANK($J336,$J$1:J$503)+COUNTIF($J$1:J336,J336)-1,\"\")","v":""},"S.US.NOC",{"$error":"#N/A"}]
["S.US.NOW",1,"S.US.NOW",{"$f":"RTD(\"cqg.rtd\", ,\"ContractData\",C337, \"LongDescription\",, \"T\")","v":"ServiceNow, Inc."},null,null,null,{"$f":"RTD(\"cqg.rtd\", ,\"ContractData\",C337, \"LastTradeToday\",, \"T\")","v":""},{"$f":"RTD(\"cqg.rtd\", ,\"ContractData\",C337, \"NetLastTradeToday\",, \"T\")","v":""},{"$f":"IFERROR(RTD(\"cqg.rtd\", ,\"ContractData\",C337, \"PerCentNetLastTrade\",, \"T\")/100,\"\")","v":""},{"$f":"RTD(\"cqg.rtd\", ,\"ContractData\", C337, \"T_CVol\",, \"T\")","v":1840},337,{"$f":"IFERROR(RANK($J337,$J$1:J$503)+COUNTIF($J$1:J337,J337)-1,\"\")","v":""},"S.US.NOW",{"$error":"#N/A"}]
["S.US.NRG",1,"S.US.NRG",{"$f":"RTD(\"cqg.rtd\", ,\"ContractData\",C338, \"LongDescription\",, \"T\")","v":"NRG Energy Inc"},null,null,null,{"$f":"RTD(\"cqg.rtd\", ,\"ContractData\",C338, \"LastTradeToday\",, \"T\")","v":""},{"$f":"RTD(\"cqg.rtd\", ,\"ContractData\",C338, \"NetLastTradeToday\",, \"T\")","v":""},{"$f":"IFERROR(RTD(\"cqg.rtd\", ,\"ContractData\",C338, \"PerCentNetLastTrade\",, \"T\")/100,\"\")","v":""},{"$f":"RTD(\"cqg.rtd\", ,\"ContractData\", C338, \"T_CVol\",, \"T\")","v":2387},338,{"$f":"IFERROR(RANK($J338,$J$1:J$503)+COUNTIF($J$1:J338,J338)-1,\"\")","v":""},"S.US.NRG",{"$error":"#N/A"}]
["S.US.NSC",1,"S.US.NSC",{"$f":"RTD(\"cqg.rtd\", ,\"ContractData\",C339, \"LongDescription\",, \"T\")","v":"Norfolk Southern Corp"},null,null,null,{"$f":"RTD(\"cqg.rtd\", ,\"ContractData\",C339, \"LastTradeToday\",, \"T\")","v":""},{"$f":"RTD(\"cqg.rtd\", ,\"ContractData\",C339, \"NetLastTradeToday\",, \"T\")","v":""},{"$f":"IFERROR(RTD(\"cqg.rtd\", ,\"ContractData\",C339, \"PerCentNetLastTrade\",, \"T\")/100,\"\")","v":""},{"$f":"RTD(\"cqg.rtd\", ,\"ContractData\", C339, \"T_CVol\",, \"T\")","v":236},339,{"$f":"IFERROR(RANK($J339,$J$1:J$503)+COUNTIF($J$1:J339,J339)-1,\"\")","v":""},"S.US.NSC",{"$error":"#N/A"}]
["S.US.NTAP",1,"S.US.NTAP",{"$f":"RTD(\"cqg.rtd\", ,\"ContractData\",C340, \"LongDescription\",, \"T\")","v":"NetApp inc."},null,null,null,{"$f":"RTD(\"cqg.rtd\", ,\"ContractData\",C340, \"LastTradeToday\",, \"T\")","v":""},{"$f":"RTD(\"cqg.rtd\", ,\"ContractData\",C340, \"NetLastTradeToday\",, \"T\")","v":""},{"$f":"IFERROR(RTD(\"cqg.rtd\", ,\"ContractData\",C340, \"PerCentNetLastTrade\",, \"T\")/100,\"\")","v":""},{"$f":"RTD(\"cqg.rtd\", ,\"ContractData\", C340, \"T_CVol\",, \"T\")","v":219},340,{"$f":"IFERROR(RANK($J340,$J$1:J$503)+COUNTIF($J$1:J340,J340)-1,\"\")","v":""},"S.US.NTAP",{"$error":"#N/A"}]
["S.US.NTRS",1,"S.US.NTRS",{"$f":"RTD(\"cqg.rtd\", ,\"ContractData\",C341, \"LongDescription\",, \"T\")","v":"Northern Trust Corp"},null,null,null,{"$f":"RTD(\"cqg.rtd\", ,\"ContractData\",C341, \"LastTradeToday\",, \"T\")","v":""},{"$f":"RTD(\"cqg.rtd\", ,\"ContractData\",C341, \"NetLastTradeToday\",, \"T\")","v":""},{"$f":"IFERROR(RTD(\"cqg.rtd\", ,\"ContractData\",C341, \"PerCentNetLastTrade\",, \"T\")/100,\"\")","v":""},{"$f":"RTD(\"cqg.rtd\", ,\"ContractData\", C341, \"T_CVol\",, \"T\")","v":6},341,{"$f":"IFERROR(RANK($J341,$J$1:J$503)+COUNTIF($J$1:J341,J341)-1,\"\")","v":""},"S.US.NTRS",{"$error":"#N/A"}]
["S.US.NUE",1,"S.US.NUE",{"$f":"RTD(\"cqg.rtd\", ,\"ContractData\",C342, \"LongDescription\",, \"T\")","v":"Nucor Corp"},null,null,null,{"$f":"RTD(\"cqg.rtd\", ,\"ContractData\",C342, \"LastTradeToday\",, \"T\")","v":""},{"$f":"RTD(\"cqg.rtd\", ,\"ContractData\",C342, \"NetLastTradeToday\",, \"T\")","v":""},{"$f":"IFERROR(RTD(\"cqg.rtd\", ,\"ContractData\",C342, \"PerCentNetLastTrade\",, \"T\")/100,\"\")","v":""},{"$f":"RTD(\"cqg.rtd\", ,\"ContractData\", C342, \"T_CVol\",, \"T\")","v":574},342,{"$f":"IFERROR(RANK($J342,$J$1:J$503)+COUNTIF($J$1:J342,J342)-1,\"\")","v":""},"S.US.NUE",{"$error":"#N/A"}]
["S.US.NVDA",1,"S.US.NVDA",{"$f":"RTD(\"cqg.rtd\", ,\"ContractData\",C343, \"LongDescription\",, \"T\")","v":"NVIDIA Corp"},null,null,null,{"$f":"RTD(\"cqg.rtd\", ,\"ContractData\",C343, \"LastTradeToday\",, \"T\")","v":""},{"$f":"RTD(\"cqg.rtd\", ,\"ContractData\",C343, \"NetLastTradeToday\",, \"T\")","v":""},{"$f":"IFERROR(RTD(\"cqg.rtd\", ,\"ContractData\",C343, \"PerCentNetLastTrade\",, \"T\")/100,\"\")","v":""},{"$f":"RTD(\"cqg.rtd\", ,\"ContractData\", C343, \"T_CVol\",, \"T\")","v":3276387},343,{"$f":"IFERROR(RANK($J343,$J$1:J$503)+COUNTIF($J$1:J343,J343)-1,\"\")","v":""},"S.US.NVDA",{"$error":"#N/A"}]
["S.US.NVR",1,"S.US.NVR",{"$f":"RTD(\"cqg.rtd\", ,\"ContractData\",C344, \"LongDescription\",, \"T\")","v":"NVR Inc"},null,null,null,{"$f":"RTD(\"cqg.rtd\", ,\"ContractData\",C344, \"LastTradeToday\",, \"T\")","v":""},{"$f":"RTD(\"cqg.rtd\", ,\"ContractData\",C344, \"NetLastTradeToday\",, \"T\")","v":""},{"$f":"IFERROR(RTD(\"cqg.rtd\", ,\"ContractData\",C344, \"PerCentNetLastTrade\",, \"T\")/100,\"\")","v":""},{"$f":"RTD(\"cqg.rtd\", ,\"ContractData\", C344, \"T_CVol\",, \"T\")","v":10},344,{"$f":"IFERROR(RANK($J344,$J$1:J$503)+COUNTIF($J$1:J344,J344)-1,\"\")","v":""},"S.US.NVR",{"$error":"#N/A"}]
["S.US.NWS",1,"S.US.NWS",{"$f":"RTD(\"cqg.rtd\", ,\"ContractData\",C345, \"LongDescription\",, \"T\")","v":"News Corporation Class B"},null,null,null,{"$f":"RTD(\"cqg.rtd\", ,\"ContractData\",C345, \"LastTradeToday\",, \"T\")","v":""},{"$f":"RTD(\"cqg.rtd\", ,\"ContractData\",C345, \"NetLastTradeToday\",, \"T\")","v":""},{"$f":"IFERROR(RTD(\"cqg.rtd\", ,\"ContractData\",C345, \"PerCentNetLastTrade\",, \"T\")/100,\"\")","v":""},{"$f":"RTD(\"cqg.rtd\", ,\"ContractData\", C345, \"T_CVol\",, \"T\")","v":5},345,{"$f":"IFERROR(RANK($J345,$J$1:J$503)+COUNTIF($J$1:J345,J345)-1,\"\")","v":""},"S.US.NWS",{"$error":"#N/A"}]
["S.US.NWSA",1,"S.US.NWSA",{"$f":"RTD(\"cqg.rtd\", ,\"ContractData\",C346, \"LongDescription\",, \"T\")","v":"News Corporation Class A"},null,null,null,{"$f":"RTD(\"cqg.rtd\", ,\"ContractData\",C346, \"LastTradeToday\",, \"T\")","v":""},{"$f":"RTD(\"cqg.rtd\", ,\"ContractData\",C346, \"NetLastTradeToday\",, \"T\")","v":""},{"$f":"IFERROR(RTD(\"cqg.rtd\", ,\"ContractData\",C346, \"PerCentNetLastTrade\",, \"T\")/100,\"\")","v":""},{"$f":"RTD(\"cqg.rtd\", ,\"ContractData\", C346, \"T_CVol\",, \"T\")","v":64},346,{"$f":"IFERROR(RANK($J346,$J$1:J$503)+COUNTIF($J$1:J346,J346)-1,\"\")","v":""},"S.US.NWSA",{"$error":"#N/A"}]
["S.US.NXPI",1,"S.US.NXPI",{"$f":"RTD(\"cqg.rtd\", ,\"ContractData\",C347, \"LongDescription\",, \"T\")","v":"NXP Semiconductors N.V."},null,null,null,{"$f":"RTD(\"cqg.rtd\", ,\"ContractData\",C347, \"LastTradeToday\",, \"T\")","v":""},{"$f":"RTD(\"cqg.rtd\", ,\"ContractData\",C347, \"NetLastTradeToday\",, \"T\")","v":""},{"$f":"IFERROR(RTD(\"cqg.rtd\", ,\"ContractData\",C347, \"PerCentNetLastTrade\",, \"T\")/100,\"\")","v":""},{"$f":"RTD(\"cqg.rtd\", ,\"ContractData\", C347, \"T_CVol\",, \"T\")","v":2258},347,{"$f":"IFERROR(RANK($J347,$J$1:J$503)+COUNTIF($J$1:J347,J347)-1,\"\")","v":""},"S.US.NXPI",{"$error":"#N/A"}]
["S.US.O",1,"S.US.O",{"$f":"RTD(\"cqg.rtd\", ,\"ContractData\",C348, \"LongDescription\",, \"T\")","v":"Realty Income Corp"},null,null,null,{"$f":"RTD(\"cqg.rtd\", ,\"ContractData\",C348, \"LastTradeToday\",, \"T\")","v":""},{"$f":"RTD(\"cqg.rtd\", ,\"ContractData\",C348, \"NetLastTradeToday\",, \"T\")","v":""},{"$f":"IFERROR(RTD(\"cqg.rtd\", ,\"ContractData\",C348, \"PerCentNetLastTrade\",, \"T\")/100,\"\")","v":""},{"$f":"RTD(\"cqg.rtd\", ,\"ContractData\", C348, \"T_CVol\",, \"T\")","v":31534},348,{"$f":"IFERROR(RANK($J348,$J$1:J$503)+COUNTIF($J$1:J348,J348)-1,\"\")","v":""},"S.US.O",{"$error":"#N/A"}]
["S.US.ODFL",1,"S.US.ODFL",{"$f":"RTD(\"cqg.rtd\", ,\"ContractData\",C349, \"LongDescription\",, \"T\")","v":"Old Dominion Freight Line Inc"},null,null,null,{"$f":"RTD(\"cqg.rtd\", ,\"ContractData\",C349, \"LastTradeToday\",, \"T\")","v":""},{"$f":"RTD(\"cqg.rtd\", ,\"ContractData\",C349, \"NetLastTradeToday\",, \"T\")","v":""},{"$f":"IFERROR(RTD(\"cqg.rtd\", ,\"ContractData\",C349, \"PerCentNetLastTrade\",, \"T\")/100,\"\")","v":""},{"$f":"RTD(\"cqg.rtd\", ,\"ContractData\", C349, \"T_CVol\",, \"T\")","v":207},349,{"$f":"IFERROR(RANK($J349,$J$1:J$503)+COUNTIF($J$1:J349,J349)-1,\"\")","v":""},"S.US.ODFL",{"$error":"#N/A"}]
["S.US.OKE",1,"S.US.OKE",{"$f":"RTD(\"cqg.rtd\", ,\"ContractData\",C350, \"LongDescription\",, \"T\")","v":"ONEOK Inc New"},null,null,null,{"$f":"RTD(\"cqg.rtd\", ,\"ContractData\",C350, \"LastTradeToday\",, \"T\")","v":""},{"$f":"RTD(\"cqg.rtd\", ,\"ContractData\",C350, \"NetLastTradeToday\",, \"T\")","v":""},{"$f":"IFERROR(RTD(\"cqg.rtd\", ,\"ContractData\",C350, \"PerCentNetLastTrade\",, \"T\")/100,\"\")","v":""},{"$f":"RTD(\"cqg.rtd\", ,\"ContractData\", C350, \"T_CVol\",, \"T\")","v":3912},350,{"$f":"IFERROR(RANK($J350,$J$1:J$503)+COUNTIF($J$1:J350,J350)-1,\"\")","v":""},"S.US.OKE",{"$error":"#N/A"}]
["S.US.OMC",1,"S.US.OMC",{"$f":"RTD(\"cqg.rtd\", ,\"ContractData\",C351, \"LongDescription\",, \"T\")","v":"Omnicom Group Inc"},null,null,null,{"$f":"RTD(\"cqg.rtd\", ,\"ContractData\",C351, \"LastTradeToday\",, \"T\")","v":""},{"$f":"RTD(\"cqg.rtd\", ,\"ContractData\",C351, \"NetLastTradeToday\",, \"T\")","v":""},{"$f":"IFERROR(RTD(\"cqg.rtd\", ,\"ContractData\",C351, \"PerCentNetLastTrade\",, \"T\")/100,\"\")","v":""},{"$f":"RTD(\"cqg.rtd\", ,\"ContractData\", C351, \"T_CVol\",, \"T\")","v":5},351,{"$f":"IFERROR(RANK($J351,$J$1:J$503)+COUNTIF($J$1:J351,J351)-1,\"\")","v":""},"S.US.OMC",{"$error":"#N/A"}]
["S.US.ON",1,"S.US.ON",{"$f":"RTD(\"cqg.rtd\", ,\"ContractData\",C352, \"LongDescription\",, \"T\")","v":"ON Semiconductor Corp"},null,null,null,{"$f":"RTD(\"cqg.rtd\", ,\"ContractData\",C352, \"LastTradeToday\",, \"T\")","v":""},{"$f":"RTD(\"cqg.rtd\", ,\"ContractData\",C352, \"NetLastTradeToday\",, \"T\")","v":""},{"$f":"IFERROR(RTD(\"cqg.rtd\", ,\"ContractData\",C352, \"PerCentNetLastTrade\",, \"T\")/100,\"\")","v":""},{"$f":"RTD(\"cqg.rtd\", ,\"ContractData\", C352, \"T_CVol\",, \"T\")","v":221695},352,{"$f":"IFERROR(RANK($J352,$J$1:J$503)+COUNTIF($J$1:J352,J352)-1,\"\")","v":""},"S.US.ON",{"$error":"#N/A"}]
["S.US.ORCL",1,"S.US.ORCL",{"$f":"RTD(\"cqg.rtd\", ,\"ContractData\",C353, \"LongDescription\",, \"T\")","v":"Oracle Corporation"},null,null,null,{"$f":"RTD(\"cqg.rtd\", ,\"ContractData\",C353, \"LastTradeToday\",, \"T\")","v":""},{"$f":"RTD(\"cqg.rtd\", ,\"ContractData\",C353, \"NetLastTradeToday\",, \"T\")","v":""},{"$f":"IFERROR(RTD(\"cqg.rtd\", ,\"ContractData\",C353, \"PerCentNetLastTrade\",, \"T\")/100,\"\")","v":""},{"$f":"RTD(\"cqg.rtd\", ,\"ContractData\", C353, \"T_CVol\",, \"T\")","v":59146},353,{"$f":"IFERROR(RANK($J353,$J$1:J$503)+COUNTIF($J$1:J353,J353)-1,\"\")","v":""},"S.US.ORCL",{"$error":"#N/A"}]
["S.US.ORLY",1,"S.US.ORLY",{"$f":"RTD(\"cqg.rtd\", ,\"ContractData\",C354, \"LongDescription\",, \"T\")","v":"OReilly Automotive Inc"},null,null,null,{"$f":"RTD(\"cqg.rtd\", ,\"ContractData\",C354, \"LastTradeToday\",, \"T\")","v":""},{"$f":"RTD(\"cqg.rtd\", ,\"ContractData\",C354, \"NetLastTradeToday\",, \"T\")","v":""},{"$f":"IFERROR(RTD(\"cqg.rtd\", ,\"ContractData\",C354, \"PerCentNetLastTrade\",, \"T\")/100,\"\")","v":""},{"$f":"RTD(\"cqg.rtd\", ,\"ContractData\", C354, \"T_CVol\",, \"T\")","v":666},354,{"$f":"IFERROR(RANK($J354,$J$1:J$503)+COUNTIF($J$1:J354,J354)-1,\"\")","v":""},"S.US.ORLY",{"$error":"#N/A"}]
["S.US.OTIS",1,"S.US.OTIS",{"$f":"RTD(\"cqg.rtd\", ,\"ContractData\",C355, \"LongDescription\",, \"T\")","v":"Otis Worldwide Corporation"},null,null,null,{"$f":"RTD(\"cqg.rtd\", ,\"ContractData\",C355, \"LastTradeToday\",, \"T\")","v":""},{"$f":"RTD(\"cqg.rtd\", ,\"ContractData\",C355, \"NetLastTradeToday\",, \"T\")","v":""},{"$f":"IFERROR(RTD(\"cqg.rtd\", ,\"ContractData\",C355, \"PerCentNetLastTrade\",, \"T\")/100,\"\")","v":""},{"$f":"RTD(\"cqg.rtd\", ,\"ContractData\", C355, \"T_CVol\",, \"T\")","v":830},355,{"$f":"IFERROR(RANK($J355,$J$1:J$503)+COUNTIF($J$1:J355,J355)-1,\"\")","v":""},"S.US.OTIS",{"$error":"#N/A"}]
["S.US.OXY",1,"S.US.OXY",{"$f":"RTD(\"cqg.rtd\", ,\"ContractData\",C356, \"LongDescription\",, \"T\")","v":"Occidental Petroleum"},null,null,null,{"$f":"RTD(\"cqg.rtd\", ,\"ContractData\",C356, \"LastTradeToday\",, \"T\")","v":""},{"$f":"RTD(\"cqg.rtd\", ,\"ContractData\",C356, \"NetLastTradeToday\",, \"T\")","v":""},{"$f":"IFERROR(RTD(\"cqg.rtd\", ,\"ContractData\",C356, \"PerCentNetLastTrade\",, \"T\")/100,\"\")","v":""},{"$f":"RTD(\"cqg.rtd\", ,\"ContractData\", C356, \"T_CVol\",, \"T\")","v":50611},356,{"$f":"IFERROR(RANK($J356,$J$1:J$503)+COUNTIF($J$1:J356,J356)-1,\"\")","v":""},"S.US.OXY",{"$error":"#N/A"}]
["S.US.PANW",1,"S.US.PANW",{"$f":"RTD(\"cqg.rtd\", ,\"ContractData\",C357, \"LongDescription\",, \"T\")","v":"Palo Alto Networks, Inc."},null,null,null,{"$f":"RTD(\"cqg.rtd\", ,\"ContractData\",C357, \"LastTradeToday\",, \"T\")","v":""},{"$f":"RTD(\"cqg.rtd\", ,\"ContractData\",C357, \"NetLastTradeToday\",, \"T\")","v":""},{"$f":"IFERROR(RTD(\"cqg.rtd\", ,\"ContractData\",C357, \"PerCentNetLastTrade\",, \"T\")/100,\"\")","v":""},{"$f":"RTD(\"cqg.rtd\", ,\"ContractData\", C357, \"T_CVol\",, \"T\")","v":32589},357,{"$f":"IFERROR(RANK($J357,$J$1:J$503)+COUNTIF($J$1:J357,J357)-1,\"\")","v":""},"S.US.PANW",{"$error":"#N/A"}]
["S.US.PARA",1,"S.US.PARA",{"$f":"RTD(\"cqg.rtd\", ,\"ContractData\",C358, \"LongDescription\",, \"T\")","v":"Paramount Global Class B"},null,null,null,{"$f":"RTD(\"cqg.rtd\", ,\"ContractData\",C358, \"LastTradeToday\",, \"T\")","v":""},{"$f":"RTD(\"cqg.rtd\", ,\"ContractData\",C358, \"NetLastTradeToday\",, \"T\")","v":""},{"$f":"IFERROR(RTD(\"cqg.rtd\", ,\"ContractData\",C358, \"PerCentNetLastTrade\",, \"T\")/100,\"\")","v":""},{"$f":"RTD(\"cqg.rtd\", ,\"ContractData\", C358, \"T_CVol\",, \"T\")","v":6125},358,{"$f":"IFERROR(RANK($J358,$J$1:J$503)+COUNTIF($J$1:J358,J358)-1,\"\")","v":""},"S.US.PARA",{"$error":"#N/A"}]
["S.US.PAYC",1,"S.US.PAYC",{"$f":"RTD(\"cqg.rtd\", ,\"ContractData\",C359, \"LongDescription\",, \"T\")","v":"Paycom Software, Inc."},null,null,null,{"$f":"RTD(\"cqg.rtd\", ,\"ContractData\",C359, \"LastTradeToday\",, \"T\")","v":""},{"$f":"RTD(\"cqg.rtd\", ,\"ContractData\",C359, \"NetLastTradeToday\",, \"T\")","v":""},{"$f":"IFERROR(RTD(\"cqg.rtd\", ,\"ContractData\",C359, \"PerCentNetLastTrade\",, \"T\")/100,\"\")","v":""},{"$f":"RTD(\"cqg.rtd\", ,\"ContractData\", C359, \"T_CVol\",, \"T\")","v":118},359,{"$f":"IFERROR(RANK($J359,$J$1:J$503)+COUNTIF($J$1:J359,J359)-1,\"\")","v":""},"S.US.PAYC",{"$error":"#N/A"}]
["S.US.PAYX",1,"S.US.PAYX",{"$f":"RTD(\"cqg.rtd\", ,\"ContractData\",C360, \"LongDescription\",, \"T\")","v":"Paychex Inc"},null,null,null,{"$f":"RTD(\"cqg.rtd\", ,\"ContractData\",C360, \"LastTradeToday\",, \"T\")","v":""},{"$f":"RTD(\"cqg.rtd\", ,\"ContractData\",C360, \"NetLastTradeToday\",, \"T\")","v":""},{"$f":"IFERROR(RTD(\"cqg.rtd\", ,\"ContractData\",C360, \"PerCentNetLastTrade\",, \"T\")/100,\"\")","v":""},{"$f":"RTD(\"cqg.rtd\", ,\"ContractData\", C360, \"T_CVol\",, \"T\")","v":627},360,{"$f":"IFERROR(RANK($J360,$J$1:J$503)+COUNTIF($J$1:J360,J360)-1,\"\")","v":""},"S.US.PAYX",{"$error":"#N/A"}]
["S.US.PCAR",1,"S.US.PCAR",{"$f":"RTD(\"cqg.rtd\", ,\"ContractData\",C361, \"LongDescription\",, \"T\")","v":"PACCAR Inc"},null,null,null,{"$f":"RTD(\"cqg.rtd\", ,\"ContractData\",C361, \"LastTradeToday\",, \"T\")","v":""},{"$f":"RTD(\"cqg.rtd\", ,\"ContractData\",C361, \"NetLastTradeToday\",, \"T\")","v":""},{"$f":"IFERROR(RTD(\"cqg.rtd\", ,\"ContractData\",C361, \"PerCentNetLastTrade\",, \"T\")/100,\"\")","v":""},{"$f":"RTD(\"cqg.rtd\", ,\"ContractData\", C361, \"T_CVol\",, \"T\")","v":327},361,{"$f":"IFERROR(RANK($J361,$J$1:J$503)+COUNTIF($J$1:J361,J361)-1,\"\")","v":""},"S.US.PCAR",{"$error":"#N/A"}]
["S.US.PCG",1,"S.US.PCG",{"$f":"RTD(\"cqg.rtd\", ,\"ContractData\",C362, \"LongDescription\",, \"T\")","v":"PG&E Corp Hldg Co"},null,null,null,{"$f":"RTD(\"cqg.rtd\", ,\"ContractData\",C362, \"LastTradeToday\",, \"T\")","v":""},{"$f":"RTD(\"cqg.rtd\", ,\"ContractData\",C362, \"NetLastTradeToday\",, \"T\")","v":""},{"$f":"IFERROR(RTD(\"cqg.rtd\", ,\"ContractData\",C362, \"PerCentNetLastTrade\",, \"T\")/100,\"\")","v":""},{"$f":"RTD(\"cqg.rtd\", ,\"ContractData\", C362, \"T_CVol\",, \"T\")","v":12341},362,{"$f":"IFERROR(RANK($J362,$J$1:J$503)+COUNTIF($J$1:J362,J362)-1,\"\")","v":""},"S.US.PCG",{"$error":"#N/A"}]
["S.US.PEG",1,"S.US.PEG",{"$f":"RTD(\"cqg.rtd\", ,\"ContractData\",C363, \"LongDescription\",, \"T\")","v":"Pub Svc Entrpr Grp Inc"},null,null,null,{"$f":"RTD(\"cqg.rtd\", ,\"ContractData\",C363, \"LastTradeToday\",, \"T\")","v":""},{"$f":"RTD(\"cqg.rtd\", ,\"ContractData\",C363, \"NetLastTradeToday\",, \"T\")","v":""},{"$f":"IFERROR(RTD(\"cqg.rtd\", ,\"ContractData\",C363, \"PerCentNetLastTrade\",, \"T\")/100,\"\")","v":""},{"$f":"RTD(\"cqg.rtd\", ,\"ContractData\", C363, \"T_CVol\",, \"T\")","v":93},363,{"$f":"IFERROR(RANK($J363,$J$1:J$503)+COUNTIF($J$1:J363,J363)-1,\"\")","v":""},"S.US.PEG",{"$error":"#N/A"}]
["S.US.PEP",1,"S.US.PEP",{"$f":"RTD(\"cqg.rtd\", ,\"ContractData\",C364, \"LongDescription\",, \"T\")","v":"PepsiCo Inc"},null,null,null,{"$f":"RTD(\"cqg.rtd\", ,\"ContractData\",C364, \"LastTradeToday\",, \"T\")","v":""},{"$f":"RTD(\"cqg.rtd\", ,\"ContractData\",C364, \"NetLastTradeToday\",, \"T\")","v":""},{"$f":"IFERROR(RTD(\"cqg.rtd\", ,\"ContractData\",C364, \"PerCentNetLastTrade\",, \"T\")/100,\"\")","v":""},{"$f":"RTD(\"cqg.rtd\", ,\"ContractData\", C364, \"T_CVol\",, \"T\")","v":7187},364,{"$f":"IFERROR(RANK($J364,$J$1:J$503)+COUNTIF($J$1:J364,J364)-1,\"\")","v":""},"S.US.PEP",{"$error":"#N/A"}]
["S.US.PFE",1,"S.US.PFE",{"$f":"RTD(\"cqg.rtd\", ,\"ContractData\",C365, \"LongDescription\",, \"T\")","v":"Pfizer Inc"},null,null,null,{"$f":"RTD(\"cqg.rtd\", ,\"ContractData\",C365, \"LastTradeToday\",, \"T\")","v":""},{"$f":"RTD(\"cqg.rtd\", ,\"ContractData\",C365, \"NetLastTradeToday\",, \"T\")","v":""},{"$f":"IFERROR(RTD(\"cqg.rtd\", ,\"ContractData\",C365, \"PerCentNetLastTrade\",, \"T\")/100,\"\")","v":""},{"$f":"RTD(\"cqg.rtd\", ,\"ContractData\", C365, \"T_CVol\",, \"T\")","v":147952},365,{"$f":"IFERROR(RANK($J365,$J$1:J$503)+COUNTIF($J$1:J365,J365)-1,\"\")","v":""},"S.US.PFE",{"$error":"#N/A"}]
["S.US.PFG",1,"S.US.PFG",{"$f":"RTD(\"cqg.rtd\", ,\"ContractData\",C366, \"LongDescription\",, \"T\")","v":"Principal Financial Group"},null,null,null,{"$f":"RTD(\"cqg.rtd\", ,\"ContractData\",C366, \"LastTradeToday\",, \"T\")","v":""},{"$f":"RTD(\"cqg.rtd\", ,\"ContractData\",C366, \"NetLastTradeToday\",, \"T\")","v":""},{"$f":"IFERROR(RTD(\"cqg.rtd\", ,\"ContractData\",C366, \"PerCentNetLastTrade\",, \"T\")/100,\"\")","v":""},{"$f":"RTD(\"cqg.rtd\", ,\"ContractData\", C366, \"T_CVol\",, \"T\")","v":48},366,{"$f":"IFERROR(RANK($J366,$J$1:J$503)+COUNTIF($J$1:J366,J366)-1,\"\")","v":""},"S.US.PFG",{"$error":"#N/A"}]
["S.US.PG",1,"S.US.PG",{"$f":"RTD(\"cqg.rtd\", ,\"ContractData\",C367, \"LongDescription\",, \"T\")","v":"Procter & Gamble Co"},null,null,null,{"$f":"RTD(\"cqg.rtd\", ,\"ContractData\",C367, \"LastTradeToday\",, \"T\")","v":""},{"$f":"RTD(\"cqg.rtd\", ,\"ContractData\",C367, \"NetLastTradeToday\",, \"T\")","v":""},{"$f":"IFERROR(RTD(\"cqg.rtd\", ,\"ContractData\",C367, \"PerCentNetLastTrade\",, \"T\")/100,\"\")","v":""},{"$f":"RTD(\"cqg.rtd\", ,\"ContractData\", C367, \"T_CVol\",, \"T\")","v":4942},367,{"$f":"IFERROR(RANK($J367,$J$1:J$503)+COUNTIF($J$1:J367,J367)-1,\"\")","v":""},"S.US.PG",{"$error":"#N/A"}]
["S.US.PGR",1,"S.US.PGR",{"$f":"RTD(\"cqg.rtd\", ,\"ContractData\",C368, \"LongDescription\",, \"T\")","v":"Progressive Corp"},null,null,null,{"$f":"RTD(\"cqg.rtd\", ,\"ContractData\",C368, \"LastTradeToday\",, \"T\")","v":""},{"$f":"RTD(\"cqg.rtd\", ,\"ContractData\",C368, \"NetLastTradeToday\",, \"T\")","v":""},{"$f":"IFERROR(RTD(\"cqg.rtd\", ,\"ContractData\",C368, \"PerCentNetLastTrade\",, \"T\")/100,\"\")","v":""},{"$f":"RTD(\"cqg.rtd\", ,\"ContractData\", C368, \"T_CVol\",, \"T\")","v":495},368,{"$f":"IFERROR(RANK($J368,$J$1:J$503)+COUNTIF($J$1:J368,J368)-1,\"\")","v":""},"S.US.PGR",{"$error":"#N/A"}]
["S.US.PH",1,"S.US.PH",{"$f":"RTD(\"cqg.rtd\", ,\"ContractData\",C369, \"LongDescription\",, \"T\")","v":"Parker-Hannifin Corp"},null,null,null,{"$f":"RTD(\"cqg.rtd\", ,\"ContractData\",C369, \"LastTradeToday\",, \"T\")","v":""},{"$f":"RTD(\"cqg.rtd\", ,\"ContractData\",C369, \"NetLastTradeToday\",, \"T\")","v":""},{"$f":"IFERROR(RTD(\"cqg.rtd\", ,\"ContractData\",C369, \"PerCentNetLastTrade\",, \"T\")/100,\"\")","v":""},{"$f":"RTD(\"cqg.rtd\", ,\"ContractData\", C369, \"T_CVol\",, \"T\")","v":39},369,{"$f":"IFERROR(RANK($J369,$J$1:J$503)+COUNTIF($J$1:J369,J369)-1,\"\")","v":""},"S.US.PH",{"$error":"#N/A"}]
["S.US.PHM",1,"S.US.PHM",{"$f":"RTD(\"cqg.rtd\", ,\"ContractData\",C370, \"LongDescription\",, \"T\")","v":"PulteGroup Inc"},null,null,null,{"$f":"RTD(\"cqg.rtd\", ,\"ContractData\",C370, \"LastTradeToday\",, \"T\")","v":""},{"$f":"RTD(\"cqg.rtd\", ,\"ContractData\",C370, \"NetLastTradeToday\",, \"T\")","v":""},{"$f":"IFERROR(RTD(\"cqg.rtd\", ,\"ContractData\",C370, \"PerCentNetLastTrade\",, \"T\")/100,\"\")","v":""},{"$f":"RTD(\"cqg.rtd\", ,\"ContractData\", C370, \"T_CVol\",, \"T\")","v":1183},370,{"$f":"IFERROR(RANK($J370,$J$1:J$503)+COUNTIF($J$1:J370,J370)-1,\"\")","v":""},"S.US.PHM",{"$error":"#N/A"}]
["S.US.PKG",1,"S.US.PKG",{"$f":"RTD(\"cqg.rtd\", ,\"ContractData\",C371, \"LongDescription\",, \"T\")","v":"Packaging Corp of America"},null,null,null,{"$f":"RTD(\"cqg.rtd\", ,\"ContractData\",C371, \"LastTradeToday\",, \"T\")","v":""},{"$f":"RTD(\"cqg.rtd\", ,\"ContractData\",C371, \"NetLastTradeToday\",, \"T\")","v":""},{"$f":"IFERROR(RTD(\"cqg.rtd\", ,\"ContractData\",C371, \"PerCentNetLastTrade\",, \"T\")/100,\"\")","v":""},{"$f":"RTD(\"cqg.rtd\", ,\"ContractData\", C371, \"T_CVol\",, \"T\")","v":15},371,{"$f":"IFERROR(RANK($J371,$J$1:J$503)+COUNTIF($J$1:J371,J371)-1,\"\")","v":""},"S.US.PKG",{"$error":"#N/A"}]
["S.US.PLD",1,"S.US.PLD",{"$f":"RTD(\"cqg.rtd\", ,\"ContractData\",C372, \"LongDescription\",, \"T\")","v":"Prologis, Inc"},null,null,null,{"$f":"RTD(\"cqg.rtd\", ,\"ContractData\",C372, \"LastTradeToday\",, \"T\")","v":""},{"$f":"RTD(\"cqg.rtd\", ,\"ContractData\",C372, \"NetLastTradeToday\",, \"T\")","v":""},{"$f":"IFERROR(RTD(\"cqg.rtd\", ,\"ContractData\",C372, \"PerCentNetLastTrade\",, \"T\")/100,\"\")","v":""},{"$f":"RTD(\"cqg.rtd\", ,\"ContractData\", C372, \"T_CVol\",, \"T\")","v":298},372,{"$f":"IFERROR(RANK($J372,$J$1:J$503)+COUNTIF($J$1:J372,J372)-1,\"\")","v":""},"S.US.PLD",{"$error":"#N/A"}]
["S.US.PLTR",1,"S.US.PLTR",{"$f":"RTD(\"cqg.rtd\", ,\"ContractData\",C373, \"LongDescription\",, \"T\")","v":"Palantir Technologies Inc."},null,null,null,{"$f":"RTD(\"cqg.rtd\", ,\"ContractData\",C373, \"LastTradeToday\",, \"T\")","v":""},{"$f":"RTD(\"cqg.rtd\", ,\"ContractData\",C373, \"NetLastTradeToday\",, \"T\")","v":""},{"$f":"IFERROR(RTD(\"cqg.rtd\", ,\"ContractData\",C373, \"PerCentNetLastTrade\",, \"T\")/100,\"\")","v":""},{"$f":"RTD(\"cqg.rtd\", ,\"ContractData\", C373, \"T_CVol\",, \"T\")","v":1031828},373,{"$f":"IFERROR(RANK($J373,$J$1:J$503)+COUNTIF($J$1:J373,J373)-1,\"\")","v":""},"S.US.PLTR",{"$error":"#N/A"}]
["S.US.PM",1,"S.US.PM",{"$f":"RTD(\"cqg.rtd\", ,\"ContractData\",C374, \"LongDescription\",, \"T\")","v":"Philip Morris International"},null,null,null,{"$f":"RTD(\"cqg.rtd\", ,\"ContractData\",C374, \"LastTradeToday\",, \"T\")","v":""},{"$f":"RTD(\"cqg.rtd\", ,\"ContractData\",C374, \"NetLastTradeToday\",, \"T\")","v":""},{"$f":"IFERROR(RTD(\"cqg.rtd\", ,\"ContractData\",C374, \"PerCentNetLastTrade\",, \"T\")/100,\"\")","v":""},{"$f":"RTD(\"cqg.rtd\", ,\"ContractData\", C374, \"T_CVol\",, \"T\")","v":4080},374,{"$f":"IFERROR(RANK($J374,$J$1:J$503)+COUNTIF($J$1:J374,J374)-1,\"\")","v":""},"S.US.PM",{"$error":"#N/A"}]
["S.US.PNC",1,"S.US.PNC",{"$f":"RTD(\"cqg.rtd\", ,\"ContractData\",C375, \"LongDescription\",, \"T\")","v":"PNC Fincl Svcs Grp Inc"},null,null,null,{"$f":"RTD(\"cqg.rtd\", ,\"ContractData\",C375, \"LastTradeToday\",, \"T\")","v":""},{"$f":"RTD(\"cqg.rtd\", ,\"ContractData\",C375, \"NetLastTradeToday\",, \"T\")","v":""},{"$f":"IFERROR(RTD(\"cqg.rtd\", ,\"ContractData\",C375, \"PerCentNetLastTrade\",, \"T\")/100,\"\")","v":""},{"$f":"RTD(\"cqg.rtd\", ,\"ContractData\", C375, \"T_CVol\",, \"T\")","v":62},375,{"$f":"IFERROR(RANK($J375,$J$1:J$503)+COUNTIF($J$1:J375,J375)-1,\"\")","v":""},"S.US.PNC",{"$error":"#N/A"}]
["S.US.PNR",1,"S.US.PNR",{"$f":"RTD(\"cqg.rtd\", ,\"ContractData\",C376, \"LongDescription\",, \"T\")","v":"Pentair Ltd."},null,null,null,{"$f":"RTD(\"cqg.rtd\", ,\"ContractData\",C376, \"LastTradeToday\",, \"T\")","v":""},{"$f":"RTD(\"cqg.rtd\", ,\"ContractData\",C376, \"NetLastTradeToday\",, \"T\")","v":""},{"$f":"IFERROR(RTD(\"cqg.rtd\", ,\"ContractData\",C376, \"PerCentNetLastTrade\",, \"T\")/100,\"\")","v":""},{"$f":"RTD(\"cqg.rtd\", ,\"ContractData\", C376, \"T_CVol\",, \"T\")","v":22},376,{"$f":"IFERROR(RANK($J376,$J$1:J$503)+COUNTIF($J$1:J376,J376)-1,\"\")","v":""},"S.US.PNR",{"$error":"#N/A"}]
["S.US.PNW",1,"S.US.PNW",{"$f":"RTD(\"cqg.rtd\", ,\"ContractData\",C377, \"LongDescription\",, \"T\")","v":"Pinnacle West Captl Corp"},null,null,null,{"$f":"RTD(\"cqg.rtd\", ,\"ContractData\",C377, \"LastTradeToday\",, \"T\")","v":""},{"$f":"RTD(\"cqg.rtd\", ,\"ContractData\",C377, \"NetLastTradeToday\",, \"T\")","v":""},{"$f":"IFERROR(RTD(\"cqg.rtd\", ,\"ContractData\",C377, \"PerCentNetLastTrade\",, \"T\")/100,\"\")","v":""},{"$f":"RTD(\"cqg.rtd\", ,\"ContractData\", C377, \"T_CVol\",, \"T\")","v":1},377,{"$f":"IFERROR(RANK($J377,$J$1:J$503)+COUNTIF($J$1:J377,J377)-1,\"\")","v":""},"S.US.PNW",{"$error":"#N/A"}]
["S.US.PODD",1,"S.US.PODD",{"$f":"RTD(\"cqg.rtd\", ,\"ContractData\",C378, \"LongDescription\",, \"T\")","v":"Insulet Corporation"},null,null,null,{"$f":"RTD(\"cqg.rtd\", ,\"ContractData\",C378, \"LastTradeToday\",, \"T\")","v":""},{"$f":"RTD(\"cqg.rtd\", ,\"ContractData\",C378, \"NetLastTradeToday\",, \"T\")","v":""},{"$f":"IFERROR(RTD(\"cqg.rtd\", ,\"ContractData\",C378, \"PerCentNetLastTrade\",, \"T\")/100,\"\")","v":""},{"$f":"RTD(\"cqg.rtd\", ,\"ContractData\", C378, \"T_CVol\",, \"T\")","v":46},378,{"$f":"IFERROR(RANK($J378,$J$1:J$503)+COUNTIF($J$1:J378,J378)-1,\"\")","v":""},"S.US.PODD",{"$error":"#N/A"}]
["S.US.POOL",1,"S.US.POOL",{"$f":"RTD(\"cqg.rtd\", ,\"ContractData\",C379, \"LongDescription\",, \"T\")","v":"Pool Corporation"},null,null,null,{"$f":"RTD(\"cqg.rtd\", ,\"ContractData\",C379, \"LastTradeToday\",, \"T\")","v":""},{"$f":"RTD(\"cqg.rtd\", ,\"ContractData\",C379, \"NetLastTradeToday\",, \"T\")","v":""},{"$f":"IFERROR(RTD(\"cqg.rtd\", ,\"ContractData\",C379, \"PerCentNetLastTrade\",, \"T\")/100,\"\")","v":""},{"$f":"RTD(\"cqg.rtd\", ,\"ContractData\", C379, \"T_CVol\",, \"T\")","v":67},379,{"$f":"IFERROR(RANK($J379,$J$1:J$503)+COUNTIF($J$1:J379,J379)-1,\"\")","v":""},"S.US.POOL",{"$error":"#N/A"}]
["S.US.PPG",1,"S.US.PPG",{"$f":"RTD(\"cqg.rtd\", ,\"ContractData\",C380, \"LongDescription\",, \"T\")","v":"PPG Industries Inc"},null,null,null,{"$f":"RTD(\"cqg.rtd\", ,\"ContractData\",C380, \"LastTradeToday\",, \"T\")","v":""},{"$f":"RTD(\"cqg.rtd\", ,\"ContractData\",C380, \"NetLastTradeToday\",, \"T\")","v":""},{"$f":"IFERROR(RTD(\"cqg.rtd\", ,\"ContractData\",C380, \"PerCentNetLastTrade\",, \"T\")/100,\"\")","v":""},{"$f":"RTD(\"cqg.rtd\", ,\"ContractData\", C380, \"T_CVol\",, \"T\")","v":227},380,{"$f":"IFERROR(RANK($J380,$J$1:J$503)+COUNTIF($J$1:J380,J380)-1,\"\")","v":""},"S.US.PPG",{"$error":"#N/A"}]
["S.US.PPL",1,"S.US.PPL",{"$f":"RTD(\"cqg.rtd\", ,\"ContractData\",C381, \"LongDescription\",, \"T\")","v":"PPL Corp"},null,null,null,{"$f":"RTD(\"cqg.rtd\", ,\"ContractData\",C381, \"LastTradeToday\",, \"T\")","v":""},{"$f":"RTD(\"cqg.rtd\", ,\"ContractData\",C381, \"NetLastTradeToday\",, \"T\")","v":""},{"$f":"IFERROR(RTD(\"cqg.rtd\", ,\"ContractData\",C381, \"PerCentNetLastTrade\",, \"T\")/100,\"\")","v":""},{"$f":"RTD(\"cqg.rtd\", ,\"ContractData\", C381, \"T_CVol\",, \"T\")","v":266},381,{"$f":"IFERROR(RANK($J381,$J$1:J$503)+COUNTIF($J$1:J381,J381)-1,\"\")","v":""},"S.US.PPL",{"$error":"#N/A"}]
["S.US.PRU",1,"S.US.PRU",{"$f":"RTD(\"cqg.rtd\", ,\"ContractData\",C382, \"LongDescription\",, \"T\")","v":"Prudential Financial Inc"},null,null,null,{"$f":"RTD(\"cqg.rtd\", ,\"ContractData\",C382, \"LastTradeToday\",, \"T\")","v":""},{"$f":"RTD(\"cqg.rtd\", ,\"ContractData\",C382, \"NetLastTradeToday\",, \"T\")","v":""},{"$f":"IFERROR(RTD(\"cqg.rtd\", ,\"ContractData\",C382, \"PerCentNetLastTrade\",, \"T\")/100,\"\")","v":""},{"$f":"RTD(\"cqg.rtd\", ,\"ContractData\", C382, \"T_CVol\",, \"T\")","v":177},382,{"$f":"IFERROR(RANK($J382,$J$1:J$503)+COUNTIF($J$1:J382,J382)-1,\"\")","v":""},"S.US.PRU",{"$error":"#N/A"}]
["S.US.PSA",1,"S.US.PSA",{"$f":"RTD(\"cqg.rtd\", ,\"ContractData\",C383, \"LongDescription\",, \"T\")","v":"Public Storage Inc"},null,null,null,{"$f":"RTD(\"cqg.rtd\", ,\"ContractData\",C383, \"LastTradeToday\",, \"T\")","v":""},{"$f":"RTD(\"cqg.rtd\", ,\"ContractData\",C383, \"NetLastTradeToday\",, \"T\")","v":""},{"$f":"IFERROR(RTD(\"cqg.rtd\", ,\"ContractData\",C383, \"PerCentNetLastTrade\",, \"T\")/100,\"\")","v":""},{"$f":"RTD(\"cqg.rtd\", ,\"ContractData\", C383, \"T_CVol\",, \"T\")","v":487},383,{"$f":"IFERROR(RANK($J383,$J$1:J$503)+COUNTIF($J$1:J383,J383)-1,\"\")","v":""},"S.US.PSA",{"$error":"#N/A"}]
["S.US.PSX",1,"S.US.PSX",{"$f":"RTD(\"cqg.rtd\", ,\"ContractData\",C384, \"LongDescription\",, \"T\")","v":"Phillips 66 Common Stock"},null,null,null,{"$f":"RTD(\"cqg.rtd\", ,\"ContractData\",C384, \"LastTradeToday\",, \"T\")","v":""},{"$f":"RTD(\"cqg.rtd\", ,\"ContractData\",C384, \"NetLastTradeToday\",, \"T\")","v":""},{"$f":"IFERROR(RTD(\"cqg.rtd\", ,\"ContractData\",C384, \"PerCentNetLastTrade\",, \"T\")/100,\"\")","v":""},{"$f":"RTD(\"cqg.rtd\", ,\"ContractData\", C384, \"T_CVol\",, \"T\")","v":1082},384,{"$f":"IFERROR(RANK($J384,$J$1:J$503)+COUNTIF($J$1:J384,J384)-1,\"\")","v":""},"S.US.PSX",{"$error":"#N/A"}]
["S.US.PTC",1,"S.US.PTC",{"$f":"RTD(\"cqg.rtd\", ,\"ContractData\",C385, \"LongDescription\",, \"T\")","v":"PTC Inc"},null,null,null,{"$f":"RTD(\"cqg.rtd\", ,\"ContractData\",C385, \"LastTradeToday\",, \"T\")","v":""},{"$f":"RTD(\"cqg.rtd\", ,\"ContractData\",C385, \"NetLastTradeToday\",, \"T\")","v":""},{"$f":"IFERROR(RTD(\"cqg.rtd\", ,\"ContractData\",C385, \"PerCentNetLastTrade\",, \"T\")/100,\"\")","v":""},{"$f":"RTD(\"cqg.rtd\", ,\"ContractData\", C385, \"T_CVol\",, \"T\")","v":24},385,{"$f":"IFERROR(RANK($J385,$J$1:J$503)+COUNTIF($J$1:J385,J385)-1,\"\")","v":""},"S.US.PTC",{"$error":"#N/A"}]
["S.US.PWR",{"$f":"IF(J386>0,1,0)","v":1},"S.US.PWR",{"$f":"RTD(\"cqg.rtd\", ,\"ContractData\",C386, \"LongDescription\",, \"T\")","v":"Quanta Services Inc"},null,null,null,{"$f":"RTD(\"cqg.rtd\", ,\"ContractData\",C386, \"LastTradeToday\",, \"T\")","v":""},{"$f":"RTD(\"cqg.rtd\", ,\"ContractData\",C386, \"NetLastTradeToday\",, \"T\")","v":""},{"$f":"IFERROR(RTD(\"cqg.rtd\", ,\"ContractData\",C386, \"PerCentNetLastTrade\",, \"T\")/100,\"\")","v":""},{"$f":"RTD(\"cqg.rtd\", ,\"ContractData\", C386, \"T_CVol\",, \"T\")","v":582},386,{"$f":"IFERROR(RANK($J386,$J$1:J$503)+COUNTIF($J$1:J386,J386)-1,\"\")","v":""},{"$f":"C386","v":"S.US.PWR"},{"$f":"TRIM(VLOOKUP($L386,$M$1:$N$503,2,FALSE))","v":{"$error":"#N/A"}}]
["S.US.PYPL",1,"S.US.PYPL",{"$f":"RTD(\"cqg.rtd\", ,\"ContractData\",C387, \"LongDescription\",, \"T\")","v":"PayPal Holdings, Inc."},null,null,null,{"$f":"RTD(\"cqg.rtd\", ,\"ContractData\",C387, \"LastTradeToday\",, \"T\")","v":""},{"$f":"RTD(\"cqg.rtd\", ,\"ContractData\",C387, \"NetLastTradeToday\",, \"T\")","v":""},{"$f":"IFERROR(RTD(\"cqg.rtd\", ,\"ContractData\",C387, \"PerCentNetLastTrade\",, \"T\")/100,\"\")","v":""},{"$f":"RTD(\"cqg.rtd\", ,\"ContractData\", C387, \"T_CVol\",, \"T\")","v":68810},{"$f":"L386+1","v":387},{"$f":"IFERROR(RANK($J387,$J$1:J$503)+COUNTIF($J$1:J387,J387)-1,\"\")","v":""},"S.US.PYPL",{"$error":"#N/A"}]
["S.US.QCOM",1,"S.US.QCOM",{"$f":"RTD(\"cqg.rtd\", ,\"ContractData\",C388, \"LongDescription\",, \"T\")","v":"QUALCOMM Inc"},null,null,null,{"$f":"RTD(\"cqg.rtd\", ,\"ContractData\",C388, \"LastTradeToday\",, \"T\")","v":""},{"$f":"RTD(\"cqg.rtd\", ,\"ContractData\",C388, \"NetLastTradeToday\",, \"T\")","v":""},{"$f":"IFERROR(RTD(\"cqg.rtd\", ,\"ContractData\",C388, \"PerCentNetLastTrade\",, \"T\")/100,\"\")","v":""},{"$f":"RTD(\"cqg.rtd\", ,\"ContractData\", C388, \"T_CVol\",, \"T\")","v":23420},388,{"$f":"IFERROR(RANK($J388,$J$1:J$503)+COUNTIF($J$1:J388,J388)-1,\"\")","v":""},"S.US.QCOM",{"$error":"#N/A"}]
["S.US.RCL",1,"S.US.RCL",{"$f":"RTD(\"cqg.rtd\", ,\"ContractData\",C389, \"LongDescription\",, \"T\")","v":"Royal Caribbean Group"},null,null,null,{"$f":"RTD(\"cqg.rtd\", ,\"ContractData\",C389, \"LastTradeToday\",, \"T\")","v":""},{"$f":"RTD(\"cqg.rtd\", ,\"ContractData\",C389, \"NetLastTradeToday\",, \"T\")","v":""},{"$f":"IFERROR(RTD(\"cqg.rtd\", ,\"ContractData\",C389, \"PerCentNetLastTrade\",, \"T\")/100,\"\")","v":""},{"$f":"RTD(\"cqg.rtd\", ,\"ContractData\", C389, \"T_CVol\",, \"T\")","v":2669},389,{"$f":"IFERROR(RANK($J389,$J$1:J$503)+COUNTIF($J$1:J389,J389)-1,\"\")","v":""},"S.US.RCL",{"$error":"#N/A"}]
["S.US.REG",1,"S.US.REG",{"$f":"RTD(\"cqg.rtd\", ,\"ContractData\",C390, \"LongDescription\",, \"T\")","v":"Regency Centers Corporation"},null,null,null,{"$f":"RTD(\"cqg.rtd\", ,\"ContractData\",C390, \"LastTradeToday\",, \"T\")","v":""},{"$f":"RTD(\"cqg.rtd\", ,\"ContractData\",C390, \"NetLastTradeToday\",, \"T\")","v":""},{"$f":"IFERROR(RTD(\"cqg.rtd\", ,\"ContractData\",C390, \"PerCentNetLastTrade\",, \"T\")/100,\"\")","v":""},{"$f":"RTD(\"cqg.rtd\", ,\"ContractData\", C390, \"T_CVol\",, \"T\")","v":4},390,{"$f":"IFERROR(RANK($J390,$J$1:J$503)+COUNTIF($J$1:J390,J390)-1,\"\")","v":""},"S.US.REG",{"$error":"#N/A"}]
["S.US.REGN",1,"S.US.REGN",{"$f":"RTD(\"cqg.rtd\", ,\"ContractData\",C391, \"LongDescription\",, \"T\")","v":"Regeneron Pharm Inc"},null,null,null,{"$f":"RTD(\"cqg.rtd\", ,\"ContractData\",C391, \"LastTradeToday\",, \"T\")","v":""},{"$f":"RTD(\"cqg.rtd\", ,\"ContractData\",C391, \"NetLastTradeToday\",, \"T\")","v":""},{"$f":"IFERROR(RTD(\"cqg.rtd\", ,\"ContractData\",C391, \"PerCentNetLastTrade\",, \"T\")/100,\"\")","v":""},{"$f":"RTD(\"cqg.rtd\", ,\"ContractData\", C391, \"T_CVol\",, \"T\")","v":1136},391,{"$f":"IFERROR(RANK($J391,$J$1:J$503)+COUNTIF($J$1:J391,J391)-1,\"\")","v":""},"S.US.REGN",{"$error":"#N/A"}]
["S.US.RF",1,"S.US.RF",{"$f":"RTD(\"cqg.rtd\", ,\"ContractData\",C392, \"LongDescription\",, \"T\")","v":"Regions Financial Corp"},null,null,null,{"$f":"RTD(\"cqg.rtd\", ,\"ContractData\",C392, \"LastTradeToday\",, \"T\")","v":""},{"$f":"RTD(\"cqg.rtd\", ,\"ContractData\",C392, \"NetLastTradeToday\",, \"T\")","v":""},{"$f":"IFERROR(RTD(\"cqg.rtd\", ,\"ContractData\",C392, \"PerCentNetLastTrade\",, \"T\")/100,\"\")","v":""},{"$f":"RTD(\"cqg.rtd\", ,\"ContractData\", C392, \"T_CVol\",, \"T\")","v":1186},392,{"$f":"IFERROR(RANK($J392,$J$1:J$503)+COUNTIF($J$1:J392,J392)-1,\"\")","v":""},"S.US.RF",{"$error":"#N/A"}]
["S.US.RJF",1,"S.US.RJF",{"$f":"RTD(\"cqg.rtd\", ,\"ContractData\",C393, \"LongDescription\",, \"T\")","v":"Raymond James Fincl Inc"},null,null,null,{"$f":"RTD(\"cqg.rtd\", ,\"ContractData\",C393, \"LastTradeToday\",, \"T\")","v":""},{"$f":"RTD(\"cqg.rtd\", ,\"ContractData\",C393, \"NetLastTradeToday\",, \"T\")","v":""},{"$f":"IFERROR(RTD(\"cqg.rtd\", ,\"ContractData\",C393, \"PerCentNetLastTrade\",, \"T\")/100,\"\")","v":""},{"$f":"RTD(\"cqg.rtd\", ,\"ContractData\", C393, \"T_CVol\",, \"T\")","v":51},393,{"$f":"IFERROR(RANK($J393,$J$1:J$503)+COUNTIF($J$1:J393,J393)-1,\"\")","v":""},"S.US.RJF",{"$error":"#N/A"}]
["S.US.RL",1,"S.US.RL",{"$f":"RTD(\"cqg.rtd\", ,\"ContractData\",C394, \"LongDescription\",, \"T\")","v":"Ralph Lauren Corporation"},null,null,null,{"$f":"RTD(\"cqg.rtd\", ,\"ContractData\",C394, \"LastTradeToday\",, \"T\")","v":""},{"$f":"RTD(\"cqg.rtd\", ,\"ContractData\",C394, \"NetLastTradeToday\",, \"T\")","v":""},{"$f":"IFERROR(RTD(\"cqg.rtd\", ,\"ContractData\",C394, \"PerCentNetLastTrade\",, \"T\")/100,\"\")","v":""},{"$f":"RTD(\"cqg.rtd\", ,\"ContractData\", C394, \"T_CVol\",, \"T\")","v":126},394,{"$f":"IFERROR(RANK($J394,$J$1:J$503)+COUNTIF($J$1:J394,J394)-1,\"\")","v":""},"S.US.RL",{"$error":"#N/A"}]
["S.US.RMD",1,"S.US.RMD",{"$f":"RTD(\"cqg.rtd\", ,\"ContractData\",C395, \"LongDescription\",, \"T\")","v":"Resmed Inc"},null,null,null,{"$f":"RTD(\"cqg.rtd\", ,\"ContractData\",C395, \"LastTradeToday\",, \"T\")","v":""},{"$f":"RTD(\"cqg.rtd\", ,\"ContractData\",C395, \"NetLastTradeToday\",, \"T\")","v":""},{"$f":"IFERROR(RTD(\"cqg.rtd\", ,\"ContractData\",C395, \"PerCentNetLastTrade\",, \"T\")/100,\"\")","v":""},{"$f":"RTD(\"cqg.rtd\", ,\"ContractData\", C395, \"T_CVol\",, \"T\")","v":302},395,{"$f":"IFERROR(RANK($J395,$J$1:J$503)+COUNTIF($J$1:J395,J395)-1,\"\")","v":""},"S.US.RMD",{"$error":"#N/A"}]
["S.US.ROK",1,"S.US.ROK",{"$f":"RTD(\"cqg.rtd\", ,\"ContractData\",C396, \"LongDescription\",, \"T\")","v":"Rockwell Automation Inc"},null,null,null,{"$f":"RTD(\"cqg.rtd\", ,\"ContractData\",C396, \"LastTradeToday\",, \"T\")","v":""},{"$f":"RTD(\"cqg.rtd\", ,\"ContractData\",C396, \"NetLastTradeToday\",, \"T\")","v":""},{"$f":"IFERROR(RTD(\"cqg.rtd\", ,\"ContractData\",C396, \"PerCentNetLastTrade\",, \"T\")/100,\"\")","v":""},{"$f":"RTD(\"cqg.rtd\", ,\"ContractData\", C396, \"T_CVol\",, \"T\")","v":29},396,{"$f":"IFERROR(RANK($J396,$J$1:J$503)+COUNTIF($J$1:J396,J396)-1,\"\")","v":""},"S.US.ROK",{"$error":"#N/A"}]
["S.US.ROL",1,"S.US.ROL",{"$f":"RTD(\"cqg.rtd\", ,\"ContractData\",C397, \"LongDescription\",, \"T\")","v":"Rollins Inc"},null,null,null,{"$f":"RTD(\"cqg.rtd\", ,\"ContractData\",C397, \"LastTradeToday\",, \"T\")","v":""},{"$f":"RTD(\"cqg.rtd\", ,\"ContractData\",C397, \"NetLastTradeToday\",, \"T\")","v":""},{"$f":"IFERROR(RTD(\"cqg.rtd\", ,\"ContractData\",C397, \"PerCentNetLastTrade\",, \"T\")/100,\"\")","v":""},{"$f":"RTD(\"cqg.rtd\", ,\"ContractData\", C397, \"T_CVol\",, \"T\")","v":279},397,{"$f":"IFERROR(RANK($J397,$J$1:J$503)+COUNTIF($J$1:J397,J397)-1,\"\")","v":""},"S.US.ROL",{"$error":"#N/A"}]
["S.US.ROP",1,"S.US.ROP",{"$f":"RTD(\"cqg.rtd\", ,\"ContractData\",C398, \"LongDescription\",, \"T\")","v":"Roper Technologies, Inc."},null,null,null,{"$f":"RTD(\"cqg.rtd\", ,\"ContractData\",C398, \"LastTradeToday\",, \"T\")","v":""},{"$f":"RTD(\"cqg.rtd\", ,\"ContractData\",C398, \"NetLastTradeToday\",, \"T\")","v":""},{"$f":"IFERROR(RTD(\"cqg.rtd\", ,\"ContractData\",C398, \"PerCentNetLastTrade\",, \"T\")/100,\"\")","v":""},{"$f":"RTD(\"cqg.rtd\", ,\"ContractData\", C398, \"T_CVol\",, \"T\")","v":99},398,{"$f":"IFERROR(RANK($J398,$J$1:J$503)+COUNTIF($J$1:J398,J398)-1,\"\")","v":""},"S.US.ROP",{"$error":"#N/A"}]
["S.US.ROST",1,"S.US.ROST",{"$f":"RTD(\"cqg.rtd\", ,\"ContractData\",C399, \"LongDescription\",, \"T\")","v":"Ross Stores Inc"},null,null,null,{"$f":"RTD(\"cqg.rtd\", ,\"ContractData\",C399, \"LastTradeToday\",, \"T\")","v":""},{"$f":"RTD(\"cqg.rtd\", ,\"ContractData\",C399, \"NetLastTradeToday\",, \"T\")","v":""},{"$f":"IFERROR(RTD(\"cqg.rtd\", ,\"ContractData\",C399, \"PerCentNetLastTrade\",, \"T\")/100,\"\")","v":""},{"$f":"RTD(\"cqg.rtd\", ,\"ContractData\", C399, \"T_CVol\",, \"T\")","v":149},399,{"$f":"IFERROR(RANK($J399,$J$1:J$503)+COUNTIF($J$1:J399,J399)-1,\"\")","v":""},"S.US.ROST",{"$error":"#N/A"}]
["S.US.RSG",1,"S.US.RSG",{"$f":"RTD(\"cqg.rtd\", ,\"ContractData\",C400, \"LongDescription\",, \"T\")","v":"Republic Services Inc ClA"},null,null,null,{"$f":"RTD(\"cqg.rtd\", ,\"ContractData\",C400, \"LastTradeToday\",, \"T\")","v":""},{"$f":"RTD(\"cqg.rtd\", ,\"ContractData\",C400, \"NetLastTradeToday\",, \"T\")","v":""},{"$f":"IFERROR(RTD(\"cqg.rtd\", ,\"ContractData\",C400, \"PerCentNetLastTrade\",, \"T\")/100,\"\")","v":""},{"$f":"RTD(\"cqg.rtd\", ,\"ContractData\", C400, \"T_CVol\",, \"T\")","v":156},400,{"$f":"IFERROR(RANK($J400,$J$1:J$503)+COUNTIF($J$1:J400,J400)-1,\"\")","v":""},"S.US.RSG",{"$error":"#N/A"}]
["S.US.RTX",1,"S.US.RTX",{"$f":"RTD(\"cqg.rtd\", ,\"ContractData\",C401, \"LongDescription\",, \"T\")","v":"RTX Corporation"},null,null,null,{"$f":"RTD(\"cqg.rtd\", ,\"ContractData\",C401, \"LastTradeToday\",, \"T\")","v":""},{"$f":"RTD(\"cqg.rtd\", ,\"ContractData\",C401, \"NetLastTradeToday\",, \"T\")","v":""},{"$f":"IFERROR(RTD(\"cqg.rtd\", ,\"ContractData\",C401, \"PerCentNetLastTrade\",, \"T\")/100,\"\")","v":""},{"$f":"RTD(\"cqg.rtd\", ,\"ContractData\", C401, \"T_CVol\",, \"T\")","v":2047},401,{"$f":"IFERROR(RANK($J401,$J$1:J$503)+COUNTIF($J$1:J401,J401)-1,\"\")","v":""},"S.US.RTX",{"$error":"#N/A"}]
["S.US.RVTY",1,"S.US.RVTY",{"$f":"RTD(\"cqg.rtd\", ,\"ContractData\",C402, \"LongDescription\",, \"T\")","v":"Revvity Inc."},null,null,null,{"$f":"RTD(\"cqg.rtd\", ,\"ContractData\",C402, \"LastTradeToday\",, \"T\")","v":""},{"$f":"RTD(\"cqg.rtd\", ,\"ContractData\",C402, \"NetLastTradeToday\",, \"T\")","v":""},{"$f":"IFERROR(RTD(\"cqg.rtd\", ,\"ContractData\",C402, \"PerCentNetLastTrade\",, \"T\")/100,\"\")","v":""},{"$f":"RTD(\"cqg.rtd\", ,\"ContractData\", C402, \"T_CVol\",, \"T\")","v":265},402,{"$f":"IFERROR(RANK($J402,$J$1:J$503)+COUNTIF($J$1:J402,J402)-1,\"\")","v":""},"S.US.RVTY",{"$error":"#N/A"}]
["S.US.SBAC",1,"S.US.SBAC",{"$f":"RTD(\"cqg.rtd\", ,\"ContractData\",C403, \"LongDescription\",, \"T\")","v":"SBA Comms Corp"},null,null,null,{"$f":"RTD(\"cqg.rtd\", ,\"ContractData\",C403, \"LastTradeToday\",, \"T\")","v":""},{"$f":"RTD(\"cqg.rtd\", ,\"ContractData\",C403, \"NetLastTradeToday\",, \"T\")","v":""},{"$f":"IFERROR(RTD(\"cqg.rtd\", ,\"ContractData\",C403, \"PerCentNetLastTrade\",, \"T\")/100,\"\")","v":""},{"$f":"RTD(\"cqg.rtd\", ,\"ContractData\", C403, \"T_CVol\",, \"T\")","v":615},403,{"$f":"IFERROR(RANK($J403,$J$1:J$503)+COUNTIF($J$1:J403,J403)-1,\"\")","v":""},"S.US.SBAC",{"$error":"#N/A"}]
["S.US.SBUX",1,"S.US.SBUX",{"$f":"RTD(\"cqg.rtd\", ,\"ContractData\",C404, \"LongDescription\",, \"T\")","v":"Starbucks Corp"},null,null,null,{"$f":"RTD(\"cqg.rtd\", ,\"ContractData\",C404, \"LastTradeToday\",, \"T\")","v":""},{"$f":"RTD(\"cqg.rtd\", ,\"ContractData\",C404, \"NetLastTradeToday\",, \"T\")","v":""},{"$f":"IFERROR(RTD(\"cqg.rtd\", ,\"ContractData\",C404, \"PerCentNetLastTrade\",, \"T\")/100,\"\")","v":""},{"$f":"RTD(\"cqg.rtd\", ,\"ContractData\", C404, \"T_CVol\",, \"T\")","v":15408},404,{"$f":"IFERROR(RANK($J404,$J$1:J$503)+COUNTIF($J$1:J404,J404)-1,\"\")","v":""},"S.US.SBUX",{"$error":"#N/A"}]
["S.US.SCHW",1,"S.US.SCHW",{"$f":"RTD(\"cqg.rtd\", ,\"ContractData\",C405, \"LongDescription\",, \"T\")","v":"Charles Schwab Corp"},null,null,null,{"$f":"RTD(\"cqg.rtd\", ,\"ContractData\",C405, \"LastTradeToday\",, \"T\")","v":""},{"$f":"RTD(\"cqg.rtd\", ,\"ContractData\",C405, \"NetLastTradeToday\",, \"T\")","v":""},{"$f":"IFERROR(RTD(\"cqg.rtd\", ,\"ContractData\",C405, \"PerCentNetLastTrade\",, \"T\")/100,\"\")","v":""},{"$f":"RTD(\"cqg.rtd\", ,\"ContractData\", C405, \"T_CVol\",, \"T\")","v":3370},405,{"$f":"IFERROR(RANK($J405,$J$1:J$503)+COUNTIF($J$1:J405,J405)-1,\"\")","v":""},"S.US.SCHW",{"$error":"#N/A"}]
["S.US.SHW",1,"S.US.SHW",{"$f":"RTD(\"cqg.rtd\", ,\"ContractData\",C406, \"LongDescription\",, \"T\")","v":"Sherwin-Williams Co"},null,null,null,{"$f":"RTD(\"cqg.rtd\", ,\"ContractData\",C406, \"LastTradeToday\",, \"T\")","v":""},{"$f":"RTD(\"cqg.rtd\", ,\"ContractData\",C406, \"NetLastTradeToday\",, \"T\")","v":""},{"$f":"IFERROR(RTD(\"cqg.rtd\", ,\"ContractData\",C406, \"PerCentNetLastTrade\",, \"T\")/100,\"\")","v":""},{"$f":"RTD(\"cqg.rtd\", ,\"ContractData\", C406, \"T_CVol\",, \"T\")","v":59},406,{"$f":"IFERROR(RANK($J406,$J$1:J$503)+COUNTIF($J$1:J406,J406)-1,\"\")","v":""},"S.US.SHW",{"$error":"#N/A"}]
["S.US.SJM",1,"S.US.SJM",{"$f":"RTD(\"cqg.rtd\", ,\"ContractData\",C407, \"LongDescription\",, \"T\")","v":"SMUCKER JM CO"},null,null,null,{"$f":"RTD(\"cqg.rtd\", ,\"ContractData\",C407, \"LastTradeToday\",, \"T\")","v":""},{"$f":"RTD(\"cqg.rtd\", ,\"ContractData\",C407, \"NetLastTradeToday\",, \"T\")","v":""},{"$f":"IFERROR(RTD(\"cqg.rtd\", ,\"ContractData\",C407, \"PerCentNetLastTrade\",, \"T\")/100,\"\")","v":""},{"$f":"RTD(\"cqg.rtd\", ,\"ContractData\", C407, \"T_CVol\",, \"T\")","v":30},407,{"$f":"IFERROR(RANK($J407,$J$1:J$503)+COUNTIF($J$1:J407,J407)-1,\"\")","v":""},"S.US.SJM",{"$error":"#N/A"}]
["S.US.SLB",1,"S.US.SLB",{"$f":"RTD(\"cqg.rtd\", ,\"ContractData\",C408, \"LongDescription\",, \"T\")","v":"Schlumberger Limited"},null,null,null,{"$f":"RTD(\"cqg.rtd\", ,\"ContractData\",C408, \"LastTradeToday\",, \"T\")","v":""},{"$f":"RTD(\"cqg.rtd\", ,\"ContractData\",C408, \"NetLastTradeToday\",, \"T\")","v":""},{"$f":"IFERROR(RTD(\"cqg.rtd\", ,\"ContractData\",C408, \"PerCentNetLastTrade\",, \"T\")/100,\"\")","v":""},{"$f":"RTD(\"cqg.rtd\", ,\"ContractData\", C408, \"T_CVol\",, \"T\")","v":10602},408,{"$f":"IFERROR(RANK($J408,$J$1:J$503)+COUNTIF($J$1:J408,J408)-1,\"\")","v":""},"S.US.SLB",{"$error":"#N/A"}]
["S.US.SMCI",1,"S.US.SMCI",{"$f":"RTD(\"cqg.rtd\", ,\"ContractData\",C409, \"LongDescription\",, \"T\")","v":"Super Micro Computer"},null,null,null,{"$f":"RTD(\"cqg.rtd\", ,\"ContractData\",C409, \"LastTradeToday\",, \"T\")","v":""},{"$f":"RTD(\"cqg.rtd\", ,\"ContractData\",C409, \"NetLastTradeToday\",, \"T\")","v":""},{"$f":"IFERROR(RTD(\"cqg.rtd\", ,\"ContractData\",C409, \"PerCentNetLastTrade\",, \"T\")/100,\"\")","v":""},{"$f":"RTD(\"cqg.rtd\", ,\"ContractData\", C409, \"T_CVol\",, \"T\")","v":582706},409,{"$f":"IFERROR(RANK($J409,$J$1:J$503)+COUNTIF($J$1:J409,J409)-1,\"\")","v":""},"S.US.SMCI",{"$error":"#N/A"}]
["S.US.SNA",1,"S.US.SNA",{"$f":"RTD(\"cqg.rtd\", ,\"ContractData\",C410, \"LongDescription\",, \"T\")","v":"Snap-On Tools Corp"},null,null,null,{"$f":"RTD(\"cqg.rtd\", ,\"ContractData\",C410, \"LastTradeToday\",, \"T\")","v":""},{"$f":"RTD(\"cqg.rtd\", ,\"ContractData\",C410, \"NetLastTradeToday\",, \"T\")","v":""},{"$f":"IFERROR(RTD(\"cqg.rtd\", ,\"ContractData\",C410, \"PerCentNetLastTrade\",, \"T\")/100,\"\")","v":""},{"$f":"RTD(\"cqg.rtd\", ,\"ContractData\", C410, \"T_CVol\",, \"T\")","v":8},410,{"$f":"IFERROR(RANK($J410,$J$1:J$503)+COUNTIF($J$1:J410,J410)-1,\"\")","v":""},"S.US.SNA",{"$error":"#N/A"}]
["S.US.SNPS",1,"S.US.SNPS",{"$f":"RTD(\"cqg.rtd\", ,\"ContractData\",C411, \"LongDescription\",, \"T\")","v":"Synopsis"},null,null,null,{"$f":"RTD(\"cqg.rtd\", ,\"ContractData\",C411, \"LastTradeToday\",, \"T\")","v":""},{"$f":"RTD(\"cqg.rtd\", ,\"ContractData\",C411, \"NetLastTradeToday\",, \"T\")","v":""},{"$f":"IFERROR(RTD(\"cqg.rtd\", ,\"ContractData\",C411, \"PerCentNetLastTrade\",, \"T\")/100,\"\")","v":""},{"$f":"RTD(\"cqg.rtd\", ,\"ContractData\", C411, \"T_CVol\",, \"T\")","v":1007},411,{"$f":"IFERROR(RANK($J411,$J$1:J$503)+COUNTIF($J$1:J411,J411)-1,\"\")","v":""},"S.US.SNPS",{"$error":"#N/A"}]
["S.US.SO",1,"S.US.SO",{"$f":"RTD(\"cqg.rtd\", ,\"ContractData\",C412, \"LongDescription\",, \"T\")","v":"Southern Company"},null,null,null,{"$f":"RTD(\"cqg.rtd\", ,\"ContractData\",C412, \"LastTradeToday\",, \"T\")","v":""},{"$f":"RTD(\"cqg.rtd\", ,\"ContractData\",C412, \"NetLastTradeToday\",, \"T\")","v":""},{"$f":"IFERROR(RTD(\"cqg.rtd\", ,\"ContractData\",C412, \"PerCentNetLastTrade\",, \"T\")/100,\"\")","v":""},{"$f":"RTD(\"cqg.rtd\", ,\"ContractData\", C412, \"T_CVol\",, \"T\")","v":1469},412,{"$f":"IFERROR(RANK($J412,$J$1:J$503)+COUNTIF($J$1:J412,J412)-1,\"\")","v":""},"S.US.SO",{"$error":"#N/A"}]
["S.US.SOLV",1,"S.US.SOLV",{"$f":"RTD(\"cqg.rtd\", ,\"ContractData\",C413, \"LongDescription\",, \"T\")","v":"Solventum Corporation"},null,null,null,{"$f":"RTD(\"cqg.rtd\", ,\"ContractData\",C413, \"LastTradeToday\",, \"T\")","v":""},{"$f":"RTD(\"cqg.rtd\", ,\"ContractData\",C413, \"NetLastTradeToday\",, \"T\")","v":""},{"$f":"IFERROR(RTD(\"cqg.rtd\", ,\"ContractData\",C413, \"PerCentNetLastTrade\",, \"T\")/100,\"\")","v":""},{"$f":"RTD(\"cqg.rtd\", ,\"ContractData\", C413, \"T_CVol\",, \"T\")","v":7},413,{"$f":"IFERROR(RANK($J413,$J$1:J$503)+COUNTIF($J$1:J413,J413)-1,\"\")","v":""},"S.US.SOLV",{"$error":"#N/A"}]
["S.US.SPG",1,"S.US.SPG",{"$f":"RTD(\"cqg.rtd\", ,\"ContractData\",C414, \"LongDescription\",, \"T\")","v":"Simon Property Grp"},null,null,null,{"$f":"RTD(\"cqg.rtd\", ,\"ContractData\",C414, \"LastTradeToday\",, \"T\")","v":""},{"$f":"RTD(\"cqg.rtd\", ,\"ContractData\",C414, \"NetLastTradeToday\",, \"T\")","v":""},{"$f":"IFERROR(RTD(\"cqg.rtd\", ,\"ContractData\",C414, \"PerCentNetLastTrade\",, \"T\")/100,\"\")","v":""},{"$f":"RTD(\"cqg.rtd\", ,\"ContractData\", C414, \"T_CVol\",, \"T\")","v":316},414,{"$f":"IFERROR(RANK($J414,$J$1:J$503)+COUNTIF($J$1:J414,J414)-1,\"\")","v":""},"S.US.SPG",{"$error":"#N/A"}]
["S.US.SPGI",1,"S.US.SPGI",{"$f":"RTD(\"cqg.rtd\", ,\"ContractData\",C415, \"LongDescription\",, \"T\")","v":"S&P Global Inc."},null,null,null,{"$f":"RTD(\"cqg.rtd\", ,\"ContractData\",C415, \"LastTradeToday\",, \"T\")","v":""},{"$f":"RTD(\"cqg.rtd\", ,\"ContractData\",C415, \"NetLastTradeToday\",, \"T\")","v":""},{"$f":"IFERROR(RTD(\"cqg.rtd\", ,\"ContractData\",C415, \"PerCentNetLastTrade\",, \"T\")/100,\"\")","v":""},{"$f":"RTD(\"cqg.rtd\", ,\"ContractData\", C415, \"T_CVol\",, \"T\")","v":343},415,{"$f":"IFERROR(RANK($J415,$J$1:J$503)+COUNTIF($J$1:J415,J415)-1,\"\")","v":""},"S.US.SPGI",{"$error":"#N/A"}]
["S.US.SRE",1,"S.US.SRE",{"$f":"RTD(\"cqg.rtd\", ,\"ContractData\",C416, \"LongDescription\",, \"T\")","v":"Sempra"},null,null,null,{"$f":"RTD(\"cqg.rtd\", ,\"ContractData\",C416, \"LastTradeToday\",, \"T\")","v":""},{"$f":"RTD(\"cqg.rtd\", ,\"ContractData\",C416, \"NetLastTradeToday\",, \"T\")","v":""},{"$f":"IFERROR(RTD(\"cqg.rtd\", ,\"ContractData\",C416, \"PerCentNetLastTrade\",, \"T\")/100,\"\")","v":""},{"$f":"RTD(\"cqg.rtd\", ,\"ContractData\", C416, \"T_CVol\",, \"T\")","v":196},416,{"$f":"IFERROR(RANK($J416,$J$1:J$503)+COUNTIF($J$1:J416,J416)-1,\"\")","v":""},"S.US.SRE",{"$error":"#N/A"}]
["S.US.STE",1,"S.US.STE",{"$f":"RTD(\"cqg.rtd\", ,\"ContractData\",C417, \"LongDescription\",, \"T\")","v":"STERIS plc"},null,null,null,{"$f":"RTD(\"cqg.rtd\", ,\"ContractData\",C417, \"LastTradeToday\",, \"T\")","v":""},{"$f":"RTD(\"cqg.rtd\", ,\"ContractData\",C417, \"NetLastTradeToday\",, \"T\")","v":""},{"$f":"IFERROR(RTD(\"cqg.rtd\", ,\"ContractData\",C417, \"PerCentNetLastTrade\",, \"T\")/100,\"\")","v":""},{"$f":"RTD(\"cqg.rtd\", ,\"ContractData\", C417, \"T_CVol\",, \"T\")","v":1},417,{"$f":"IFERROR(RANK($J417,$J$1:J$503)+COUNTIF($J$1:J417,J417)-1,\"\")","v":""},"S.US.STE",{"$error":"#N/A"}]
["S.US.STLD",1,"S.US.STLD",{"$f":"RTD(\"cqg.rtd\", ,\"ContractData\",C418, \"LongDescription\",, \"T\")","v":"Steel Dynamics Inc"},null,null,null,{"$f":"RTD(\"cqg.rtd\", ,\"ContractData\",C418, \"LastTradeToday\",, \"T\")","v":""},{"$f":"RTD(\"cqg.rtd\", ,\"ContractData\",C418, \"NetLastTradeToday\",, \"T\")","v":""},{"$f":"IFERROR(RTD(\"cqg.rtd\", ,\"ContractData\",C418, \"PerCentNetLastTrade\",, \"T\")/100,\"\")","v":""},{"$f":"RTD(\"cqg.rtd\", ,\"ContractData\", C418, \"T_CVol\",, \"T\")","v":100},418,{"$f":"IFERROR(RANK($J418,$J$1:J$503)+COUNTIF($J$1:J418,J418)-1,\"\")","v":""},"S.US.STLD",{"$error":"#N/A"}]
["S.US.STT",1,"S.US.STT",{"$f":"RTD(\"cqg.rtd\", ,\"ContractData\",C419, \"LongDescription\",, \"T\")","v":"State Street Corp"},null,null,null,{"$f":"RTD(\"cqg.rtd\", ,\"ContractData\",C419, \"LastTradeToday\",, \"T\")","v":""},{"$f":"RTD(\"cqg.rtd\", ,\"ContractData\",C419, \"NetLastTradeToday\",, \"T\")","v":""},{"$f":"IFERROR(RTD(\"cqg.rtd\", ,\"ContractData\",C419, \"PerCentNetLastTrade\",, \"T\")/100,\"\")","v":""},{"$f":"RTD(\"cqg.rtd\", ,\"ContractData\", C419, \"T_CVol\",, \"T\")","v":2},419,{"$f":"IFERROR(RANK($J419,$J$1:J$503)+COUNTIF($J$1:J419,J419)-1,\"\")","v":""},"S.US.STT",{"$error":"#N/A"}]
["S.US.STX",1,"S.US.STX",{"$f":"RTD(\"cqg.rtd\", ,\"ContractData\",C420, \"LongDescription\",, \"T\")","v":"Seagate Technology Holdings PLC"},null,null,null,{"$f":"RTD(\"cqg.rtd\", ,\"ContractData\",C420, \"LastTradeToday\",, \"T\")","v":""},{"$f":"RTD(\"cqg.rtd\", ,\"ContractData\",C420, \"NetLastTradeToday\",, \"T\")","v":""},{"$f":"IFERROR(RTD(\"cqg.rtd\", ,\"ContractData\",C420, \"PerCentNetLastTrade\",, \"T\")/100,\"\")","v":""},{"$f":"RTD(\"cqg.rtd\", ,\"ContractData\", C420, \"T_CVol\",, \"T\")","v":4665},420,{"$f":"IFERROR(RANK($J420,$J$1:J$503)+COUNTIF($J$1:J420,J420)-1,\"\")","v":""},"S.US.STX",{"$error":"#N/A"}]
["S.US.STZ",1,"S.US.STZ",{"$f":"RTD(\"cqg.rtd\", ,\"ContractData\",C421, \"LongDescription\",, \"T\")","v":"Constellation Brands Inc"},null,null,null,{"$f":"RTD(\"cqg.rtd\", ,\"ContractData\",C421, \"LastTradeToday\",, \"T\")","v":""},{"$f":"RTD(\"cqg.rtd\", ,\"ContractData\",C421, \"NetLastTradeToday\",, \"T\")","v":""},{"$f":"IFERROR(RTD(\"cqg.rtd\", ,\"ContractData\",C421, \"PerCentNetLastTrade\",, \"T\")/100,\"\")","v":""},{"$f":"RTD(\"cqg.rtd\", ,\"ContractData\", C421, \"T_CVol\",, \"T\")","v":4012},421,{"$f":"IFERROR(RANK($J421,$J$1:J$503)+COUNTIF($J$1:J421,J421)-1,\"\")","v":""},"S.US.STZ",{"$error":"#N/A"}]
["S.US.SW",1,"S.US.SW",{"$f":"RTD(\"cqg.rtd\", ,\"ContractData\",C422, \"LongDescription\",, \"T\")","v":"Smurfit Westrock Plc"},null,null,null,{"$f":"RTD(\"cqg.rtd\", ,\"ContractData\",C422, \"LastTradeToday\",, \"T\")","v":""},{"$f":"RTD(\"cqg.rtd\", ,\"ContractData\",C422, \"NetLastTradeToday\",, \"T\")","v":""},{"$f":"IFERROR(RTD(\"cqg.rtd\", ,\"ContractData\",C422, \"PerCentNetLastTrade\",, \"T\")/100,\"\")","v":""},{"$f":"RTD(\"cqg.rtd\", ,\"ContractData\", C422, \"T_CVol\",, \"T\")","v":2781},422,{"$f":"IFERROR(RANK($J422,$J$1:J$503)+COUNTIF($J$1:J422,J422)-1,\"\")","v":""},"S.US.SW",{"$error":"#N/A"}]
["S.US.SWK",1,"S.US.SWK",{"$f":"RTD(\"cqg.rtd\", ,\"ContractData\",C423, \"LongDescription\",, \"T\")","v":"Stanley Black and Decker Inc"},null,null,null,{"$f":"RTD(\"cqg.rtd\", ,\"ContractData\",C423, \"LastTradeToday\",, \"T\")","v":""},{"$f":"RTD(\"cqg.rtd\", ,\"ContractData\",C423, \"NetLastTradeToday\",, \"T\")","v":""},{"$f":"IFERROR(RTD(\"cqg.rtd\", ,\"ContractData\",C423, \"PerCentNetLastTrade\",, \"T\")/100,\"\")","v":""},{"$f":"RTD(\"cqg.rtd\", ,\"ContractData\", C423, \"T_CVol\",, \"T\")","v":453},423,{"$f":"IFERROR(RANK($J423,$J$1:J$503)+COUNTIF($J$1:J423,J423)-1,\"\")","v":""},"S.US.SWK",{"$error":"#N/A"}]
["S.US.SWKS",1,"S.US.SWKS",{"$f":"RTD(\"cqg.rtd\", ,\"ContractData\",C424, \"LongDescription\",, \"T\")","v":"Skyworks Solutions Inc"},null,null,null,{"$f":"RTD(\"cqg.rtd\", ,\"ContractData\",C424, \"LastTradeToday\",, \"T\")","v":""},{"$f":"RTD(\"cqg.rtd\", ,\"ContractData\",C424, \"NetLastTradeToday\",, \"T\")","v":""},{"$f":"IFERROR(RTD(\"cqg.rtd\", ,\"ContractData\",C424, \"PerCentNetLastTrade\",, \"T\")/100,\"\")","v":""},{"$f":"RTD(\"cqg.rtd\", ,\"ContractData\", C424, \"T_CVol\",, \"T\")","v":895},424,{"$f":"IFERROR(RANK($J424,$J$1:J$503)+COUNTIF($J$1:J424,J424)-1,\"\")","v":""},"S.US.SWKS",{"$error":"#N/A"}]
["S.US.SYF",1,"S.US.SYF",{"$f":"RTD(\"cqg.rtd\", ,\"ContractData\",C425, \"LongDescription\",, \"T\")","v":"Synchrony Financial"},null,null,null,{"$f":"RTD(\"cqg.rtd\", ,\"ContractData\",C425, \"LastTradeToday\",, \"T\")","v":""},{"$f":"RTD(\"cqg.rtd\", ,\"ContractData\",C425, \"NetLastTradeToday\",, \"T\")","v":""},{"$f":"IFERROR(RTD(\"cqg.rtd\", ,\"ContractData\",C425, \"PerCentNetLastTrade\",, \"T\")/100,\"\")","v":""},{"$f":"RTD(\"cqg.rtd\", ,\"ContractData\", C425, \"T_CVol\",, \"T\")","v":496},425,{"$f":"IFERROR(RANK($J425,$J$1:J$503)+COUNTIF($J$1:J425,J425)-1,\"\")","v":""},"S.US.SYF",{"$error":"#N/A"}]
["S.US.SYK",1,"S.US.SYK",{"$f":"RTD(\"cqg.rtd\", ,\"ContractData\",C426, \"LongDescription\",, \"T\")","v":"Stryker Corp"},null,null,null,{"$f":"RTD(\"cqg.rtd\", ,\"ContractData\",C426, \"LastTradeToday\",, \"T\")","v":""},{"$f":"RTD(\"cqg.rtd\", ,\"ContractData\",C426, \"NetLastTradeToday\",, \"T\")","v":""},{"$f":"IFERROR(RTD(\"cqg.rtd\", ,\"ContractData\",C426, \"PerCentNetLastTrade\",, \"T\")/100,\"\")","v":""},{"$f":"RTD(\"cqg.rtd\", ,\"ContractData\", C426, \"T_CVol\",, \"T\")","v":208},426,{"$f":"IFERROR(RANK($J426,$J$1:J$503)+COUNTIF($J$1:J426,J426)-1,\"\")","v":""},"S.US.SYK",{"$error":"#N/A"}]
["S.US.SYY",1,"S.US.SYY",{"$f":"RTD(\"cqg.rtd\", ,\"ContractData\",C427, \"LongDescription\",, \"T\")","v":"Sysco Corp"},null,null,null,{"$f":"RTD(\"cqg.rtd\", ,\"ContractData\",C427, \"LastTradeToday\",, \"T\")","v":""},{"$f":"RTD(\"cqg.rtd\", ,\"ContractData\",C427, \"NetLastTradeToday\",, \"T\")","v":""},{"$f":"IFERROR(RTD(\"cqg.rtd\", ,\"ContractData\",C427, \"PerCentNetLastTrade\",, \"T\")/100,\"\")","v":""},{"$f":"RTD(\"cqg.rtd\", ,\"ContractData\", C427, \"T_CVol\",, \"T\")","v":333},427,{"$f":"IFERROR(RANK($J427,$J$1:J$503)+COUNTIF($J$1:J427,J427)-1,\"\")","v":""},"S.US.SYY",{"$error":"#N/A"}]
["S.US.T",1,"S.US.T",{"$f":"RTD(\"cqg.rtd\", ,\"ContractData\",C428, \"LongDescription\",, \"T\")","v":"AT&T Inc"},null,null,null,{"$f":"RTD(\"cqg.rtd\", ,\"ContractData\",C428, \"LastTradeToday\",, \"T\")","v":""},{"$f":"RTD(\"cqg.rtd\", ,\"ContractData\",C428, \"NetLastTradeToday\",, \"T\")","v":""},{"$f":"IFERROR(RTD(\"cqg.rtd\", ,\"ContractData\",C428, \"PerCentNetLastTrade\",, \"T\")/100,\"\")","v":""},{"$f":"RTD(\"cqg.rtd\", ,\"ContractData\", C428, \"T_CVol\",, \"T\")","v":33227},428,{"$f":"IFERROR(RANK($J428,$J$1:J$503)+COUNTIF($J$1:J428,J428)-1,\"\")","v":""},"S.US.T",{"$error":"#N/A"}]
["S.US.TAP",1,"S.US.TAP",{"$f":"RTD(\"cqg.rtd\", ,\"ContractData\",C429, \"LongDescription\",, \"T\")","v":"Molson Coors Beverage Company"},null,null,null,{"$f":"RTD(\"cqg.rtd\", ,\"ContractData\",C429, \"LastTradeToday\",, \"T\")","v":""},{"$f":"RTD(\"cqg.rtd\", ,\"ContractData\",C429, \"NetLastTradeToday\",, \"T\")","v":""},{"$f":"IFERROR(RTD(\"cqg.rtd\", ,\"ContractData\",C429, \"PerCentNetLastTrade\",, \"T\")/100,\"\")","v":""},{"$f":"RTD(\"cqg.rtd\", ,\"ContractData\", C429, \"T_CVol\",, \"T\")","v":1656},429,{"$f":"IFERROR(RANK($J429,$J$1:J$503)+COUNTIF($J$1:J429,J429)-1,\"\")","v":""},"S.US.TAP",{"$error":"#N/A"}]
["S.US.TDG",1,"S.US.TDG",{"$f":"RTD(\"cqg.rtd\", ,\"ContractData\",C430, \"LongDescription\",, \"T\")","v":"TransDigm Group"},null,null,null,{"$f":"RTD(\"cqg.rtd\", ,\"ContractData\",C430, \"LastTradeToday\",, \"T\")","v":""},{"$f":"RTD(\"cqg.rtd\", ,\"ContractData\",C430, \"NetLastTradeToday\",, \"T\")","v":""},{"$f":"IFERROR(RTD(\"cqg.rtd\", ,\"ContractData\",C430, \"PerCentNetLastTrade\",, \"T\")/100,\"\")","v":""},{"$f":"RTD(\"cqg.rtd\", ,\"ContractData\", C430, \"T_CVol\",, \"T\")","v":41},430,{"$f":"IFERROR(RANK($J430,$J$1:J$503)+COUNTIF($J$1:J430,J430)-1,\"\")","v":""},"S.US.TDG",{"$error":"#N/A"}]
["S.US.TDY",1,"S.US.TDY",{"$f":"RTD(\"cqg.rtd\", ,\"ContractData\",C431, \"LongDescription\",, \"T\")","v":"Teledyne Technologies Inc"},null,null,null,{"$f":"RTD(\"cqg.rtd\", ,\"ContractData\",C431, \"LastTradeToday\",, \"T\")","v":""},{"$f":"RTD(\"cqg.rtd\", ,\"ContractData\",C431, \"NetLastTradeToday\",, \"T\")","v":""},{"$f":"IFERROR(RTD(\"cqg.rtd\", ,\"ContractData\",C431, \"PerCentNetLastTrade\",, \"T\")/100,\"\")","v":""},{"$f":"RTD(\"cqg.rtd\", ,\"ContractData\", C431, \"T_CVol\",, \"T\")","v":7},431,{"$f":"IFERROR(RANK($J431,$J$1:J$503)+COUNTIF($J$1:J431,J431)-1,\"\")","v":""},"S.US.TDY",{"$error":"#N/A"}]
["S.US.TECH",1,"S.US.TECH",{"$f":"RTD(\"cqg.rtd\", ,\"ContractData\",C432, \"LongDescription\",, \"T\")","v":"Bio-Techne Corp"},null,null,null,{"$f":"RTD(\"cqg.rtd\", ,\"ContractData\",C432, \"LastTradeToday\",, \"T\")","v":""},{"$f":"RTD(\"cqg.rtd\", ,\"ContractData\",C432, \"NetLastTradeToday\",, \"T\")","v":""},{"$f":"IFERROR(RTD(\"cqg.rtd\", ,\"ContractData\",C432, \"PerCentNetLastTrade\",, \"T\")/100,\"\")","v":""},{"$f":"RTD(\"cqg.rtd\", ,\"ContractData\", C432, \"T_CVol\",, \"T\")","v":1015},432,{"$f":"IFERROR(RANK($J432,$J$1:J$503)+COUNTIF($J$1:J432,J432)-1,\"\")","v":""},"S.US.TECH",{"$error":"#N/A"}]
["S.US.TEL",1,"S.US.TEL",{"$f":"RTD(\"cqg.rtd\", ,\"ContractData\",C433, \"LongDescription\",, \"T\")","v":"TE Connectivity Ltd."},null,null,null,{"$f":"RTD(\"cqg.rtd\", ,\"ContractData\",C433, \"LastTradeToday\",, \"T\")","v":""},{"$f":"RTD(\"cqg.rtd\", ,\"ContractData\",C433, \"NetLastTradeToday\",, \"T\")","v":""},{"$f":"IFERROR(RTD(\"cqg.rtd\", ,\"ContractData\",C433, \"PerCentNetLastTrade\",, \"T\")/100,\"\")","v":""},{"$f":"RTD(\"cqg.rtd\", ,\"ContractData\", C433, \"T_CVol\",, \"T\")","v":113},433,{"$f":"IFERROR(RANK($J433,$J$1:J$503)+COUNTIF($J$1:J433,J433)-1,\"\")","v":""},"S.US.TEL",{"$error":"#N/A"}]
["S.US.TER",1,"S.US.TER",{"$f":"RTD(\"cqg.rtd\", ,\"ContractData\",C434, \"LongDescription\",, \"T\")","v":"Teradyne Inc"},null,null,null,{"$f":"RTD(\"cqg.rtd\", ,\"ContractData\",C434, \"LastTradeToday\",, \"T\")","v":""},{"$f":"RTD(\"cqg.rtd\", ,\"ContractData\",C434, \"NetLastTradeToday\",, \"T\")","v":""},{"$f":"IFERROR(RTD(\"cqg.rtd\", ,\"ContractData\",C434, \"PerCentNetLastTrade\",, \"T\")/100,\"\")","v":""},{"$f":"RTD(\"cqg.rtd\", ,\"ContractData\", C434, \"T_CVol\",, \"T\")","v":3513},434,{"$f":"IFERROR(RANK($J434,$J$1:J$503)+COUNTIF($J$1:J434,J434)-1,\"\")","v":""},"S.US.TER",{"$error":"#N/A"}]
["S.US.TFC",1,"S.US.TFC",{"$f":"RTD(\"cqg.rtd\", ,\"ContractData\",C435, \"LongDescription\",, \"T\")","v":"Truist Financial Corporation"},null,null,null,{"$f":"RTD(\"cqg.rtd\", ,\"ContractData\",C435, \"LastTradeToday\",, \"T\")","v":""},{"$f":"RTD(\"cqg.rtd\", ,\"ContractData\",C435, \"NetLastTradeToday\",, \"T\")","v":""},{"$f":"IFERROR(RTD(\"cqg.rtd\", ,\"ContractData\",C435, \"PerCentNetLastTrade\",, \"T\")/100,\"\")","v":""},{"$f":"RTD(\"cqg.rtd\", ,\"ContractData\", C435, \"T_CVol\",, \"T\")","v":3496},435,{"$f":"IFERROR(RANK($J435,$J$1:J$503)+COUNTIF($J$1:J435,J435)-1,\"\")","v":""},"S.US.TFC",{"$error":"#N/A"}]
["S.US.TGT",1,"S.US.TGT",{"$f":"RTD(\"cqg.rtd\", ,\"ContractData\",C436, \"LongDescription\",, \"T\")","v":"Target Corp"},null,null,null,{"$f":"RTD(\"cqg.rtd\", ,\"ContractData\",C436, \"LastTradeToday\",, \"T\")","v":""},{"$f":"RTD(\"cqg.rtd\", ,\"ContractData\",C436, \"NetLastTradeToday\",, \"T\")","v":""},{"$f":"IFERROR(RTD(\"cqg.rtd\", ,\"ContractData\",C436, \"PerCentNetLastTrade\",, \"T\")/100,\"\")","v":""},{"$f":"RTD(\"cqg.rtd\", ,\"ContractData\", C436, \"T_CVol\",, \"T\")","v":7369},436,{"$f":"IFERROR(RANK($J436,$J$1:J$503)+COUNTIF($J$1:J436,J436)-1,\"\")","v":""},"S.US.TGT",{"$error":"#N/A"}]
["S.US.TJX",1,"S.US.TJX",{"$f":"RTD(\"cqg.rtd\", ,\"ContractData\",C437, \"LongDescription\",, \"T\")","v":"TJX Companies Inc"},null,null,null,{"$f":"RTD(\"cqg.rtd\", ,\"ContractData\",C437, \"LastTradeToday\",, \"T\")","v":""},{"$f":"RTD(\"cqg.rtd\", ,\"ContractData\",C437, \"NetLastTradeToday\",, \"T\")","v":""},{"$f":"IFERROR(RTD(\"cqg.rtd\", ,\"ContractData\",C437, \"PerCentNetLastTrade\",, \"T\")/100,\"\")","v":""},{"$f":"RTD(\"cqg.rtd\", ,\"ContractData\", C437, \"T_CVol\",, \"T\")","v":658},437,{"$f":"IFERROR(RANK($J437,$J$1:J$503)+COUNTIF($J$1:J437,J437)-1,\"\")","v":""},"S.US.TJX",{"$error":"#N/A"}]
["S.US.TKO",1,"S.US.TKO",{"$f":"RTD(\"cqg.rtd\", ,\"ContractData\",C438, \"LongDescription\",, \"T\")","v":"TKO Group Holdings, Inc."},null,null,null,{"$f":"RTD(\"cqg.rtd\", ,\"ContractData\",C438, \"LastTradeToday\",, \"T\")","v":""},{"$f":"RTD(\"cqg.rtd\", ,\"ContractData\",C438, \"NetLastTradeToday\",, \"T\")","v":""},{"$f":"IFERROR(RTD(\"cqg.rtd\", ,\"ContractData\",C438, \"PerCentNetLastTrade\",, \"T\")/100,\"\")","v":""},{"$f":"RTD(\"cqg.rtd\", ,\"ContractData\", C438, \"T_CVol\",, \"T\")","v":302},438,{"$f":"IFERROR(RANK($J438,$J$1:J$503)+COUNTIF($J$1:J438,J438)-1,\"\")","v":""},"S.US.TKO",{"$error":"#N/A"}]
["S.US.TMO",1,"S.US.TMO",{"$f":"RTD(\"cqg.rtd\", ,\"ContractData\",C439, \"LongDescription\",, \"T\")","v":"Thermo Electron Corp"},null,null,null,{"$f":"RTD(\"cqg.rtd\", ,\"ContractData\",C439, \"LastTradeToday\",, \"T\")","v":""},{"$f":"RTD(\"cqg.rtd\", ,\"ContractData\",C439, \"NetLastTradeToday\",, \"T\")","v":""},{"$f":"IFERROR(RTD(\"cqg.rtd\", ,\"ContractData\",C439, \"PerCentNetLastTrade\",, \"T\")/100,\"\")","v":""},{"$f":"RTD(\"cqg.rtd\", ,\"ContractData\", C439, \"T_CVol\",, \"T\")","v":317},439,{"$f":"IFERROR(RANK($J439,$J$1:J$503)+COUNTIF($J$1:J439,J439)-1,\"\")","v":""},"S.US.TMO",{"$error":"#N/A"}]
["S.US.TMUS",1,"S.US.TMUS",{"$f":"RTD(\"cqg.rtd\", ,\"ContractData\",C440, \"LongDescription\",, \"T\")","v":"T-Mobile US, Inc."},null,null,null,{"$f":"RTD(\"cqg.rtd\", ,\"ContractData\",C440, \"LastTradeToday\",, \"T\")","v":""},{"$f":"RTD(\"cqg.rtd\", ,\"ContractData\",C440, \"NetLastTradeToday\",, \"T\")","v":""},{"$f":"IFERROR(RTD(\"cqg.rtd\", ,\"ContractData\",C440, \"PerCentNetLastTrade\",, \"T\")/100,\"\")","v":""},{"$f":"RTD(\"cqg.rtd\", ,\"ContractData\", C440, \"T_CVol\",, \"T\")","v":2243},440,{"$f":"IFERROR(RANK($J440,$J$1:J$503)+COUNTIF($J$1:J440,J440)-1,\"\")","v":""},"S.US.TMUS",{"$error":"#N/A"}]
["S.US.TPL",1,"S.US.TPL",{"$f":"RTD(\"cqg.rtd\", ,\"ContractData\",C441, \"LongDescription\",, \"T\")","v":"TEXAS PACIFIC LAND TR"},null,null,null,{"$f":"RTD(\"cqg.rtd\", ,\"ContractData\",C441, \"LastTradeToday\",, \"T\")","v":""},{"$f":"RTD(\"cqg.rtd\", ,\"ContractData\",C441, \"NetLastTradeToday\",, \"T\")","v":""},{"$f":"IFERROR(RTD(\"cqg.rtd\", ,\"ContractData\",C441, \"PerCentNetLastTrade\",, \"T\")/100,\"\")","v":""},{"$f":"RTD(\"cqg.rtd\", ,\"ContractData\", C441, \"T_CVol\",, \"T\")","v":55},441,{"$f":"IFERROR(RANK($J441,$J$1:J$503)+COUNTIF($J$1:J441,J441)-1,\"\")","v":""},"S.US.TPL",{"$error":"#N/A"}]
["S.US.TPR",1,"S.US.TPR",{"$f":"RTD(\"cqg.rtd\", ,\"ContractData\",C442, \"LongDescription\",, \"T\")","v":"Tapestry, Inc."},null,null,null,{"$f":"RTD(\"cqg.rtd\", ,\"ContractData\",C442, \"LastTradeToday\",, \"T\")","v":""},{"$f":"RTD(\"cqg.rtd\", ,\"ContractData\",C442, \"NetLastTradeToday\",, \"T\")","v":""},{"$f":"IFERROR(RTD(\"cqg.rtd\", ,\"ContractData\",C442, \"PerCentNetLastTrade\",, \"T\")/100,\"\")","v":""},{"$f":"RTD(\"cqg.rtd\", ,\"ContractData\", C442, \"T_CVol\",, \"T\")","v":543},442,{"$f":"IFERROR(RANK($J442,$J$1:J$503)+COUNTIF($J$1:J442,J442)-1,\"\")","v":""},"S.US.TPR",{"$error":"#N/A"}]
["S.US.TRGP",1,"S.US.TRGP",{"$f":"RTD(\"cqg.rtd\", ,\"ContractData\",C443, \"LongDescription\",, \"T\")","v":"Targa Resources Corp"},null,null,null,{"$f":"RTD(\"cqg.rtd\", ,\"ContractData\",C443, \"LastTradeToday\",, \"T\")","v":""},{"$f":"RTD(\"cqg.rtd\", ,\"ContractData\",C443, \"NetLastTradeToday\",, \"T\")","v":""},{"$f":"IFERROR(RTD(\"cqg.rtd\", ,\"ContractData\",C443, \"PerCentNetLastTrade\",, \"T\")/100,\"\")","v":""},{"$f":"RTD(\"cqg.rtd\", ,\"ContractData\", C443, \"T_CVol\",, \"T\")","v":27},443,{"$f":"IFERROR(RANK($J443,$J$1:J$503)+COUNTIF($J$1:J443,J443)-1,\"\")","v":""},"S.US.TRGP",{"$error":"#N/A"}]
["S.US.TRMB",1,"S.US.TRMB",{"$f":"RTD(\"cqg.rtd\", ,\"ContractData\",C444, \"LongDescription\",, \"T\")","v":"Trimble Inc."},null,null,null,{"$f":"RTD(\"cqg.rtd\", ,\"ContractData\",C444, \"LastTradeToday\",, \"T\")","v":""},{"$f":"RTD(\"cqg.rtd\", ,\"ContractData\",C444, \"NetLastTradeToday\",, \"T\")","v":""},{"$f":"IFERROR(RTD(\"cqg.rtd\", ,\"ContractData\",C444, \"PerCentNetLastTrade\",, \"T\")/100,\"\")","v":""},{"$f":"RTD(\"cqg.rtd\", ,\"ContractData\", C444, \"T_CVol\",, \"T\")","v":41},444,{"$f":"IFERROR(RANK($J444,$J$1:J$503)+COUNTIF($J$1:J444,J444)-1,\"\")","v":""},"S.US.TRMB",{"$error":"#N/A"}]
["S.US.TROW",1,"S.US.TROW",{"$f":"RTD(\"cqg.rtd\", ,\"ContractData\",C445, \"LongDescription\",, \"T\")","v":"T Rowe Price Group Inc"},null,null,null,{"$f":"RTD(\"cqg.rtd\", ,\"ContractData\",C445, \"LastTradeToday\",, \"T\")","v":""},{"$f":"RTD(\"cqg.rtd\", ,\"ContractData\",C445, \"NetLastTradeToday\",, \"T\")","v":""},{"$f":"IFERROR(RTD(\"cqg.rtd\", ,\"ContractData\",C445, \"PerCentNetLastTrade\",, \"T\")/100,\"\")","v":""},{"$f":"RTD(\"cqg.rtd\", ,\"ContractData\", C445, \"T_CVol\",, \"T\")","v":245},445,{"$f":"IFERROR(RANK($J445,$J$1:J$503)+COUNTIF($J$1:J445,J445)-1,\"\")","v":""},"S.US.TROW",{"$error":"#N/A"}]
["S.US.TRV",1,"S.US.TRV",{"$f":"RTD(\"cqg.rtd\", ,\"ContractData\",C446, \"LongDescription\",, \"T\")","v":"Travelers Companies, Inc"},null,null,null,{"$f":"RTD(\"cqg.rtd\", ,\"ContractData\",C446, \"LastTradeToday\",, \"T\")","v":""},{"$f":"RTD(\"cqg.rtd\", ,\"ContractData\",C446, \"NetLastTradeToday\",, \"T\")","v":""},{"$f":"IFERROR(RTD(\"cqg.rtd\", ,\"ContractData\",C446, \"PerCentNetLastTrade\",, \"T\")/100,\"\")","v":""},{"$f":"RTD(\"cqg.rtd\", ,\"ContractData\", C446, \"T_CVol\",, \"T\")","v":42},446,{"$f":"IFERROR(RANK($J446,$J$1:J$503)+COUNTIF($J$1:J446,J446)-1,\"\")","v":""},"S.US.TRV",{"$error":"#N/A"}]
["S.US.TSCO",1,"S.US.TSCO",{"$f":"RTD(\"cqg.rtd\", ,\"ContractData\",C447, \"LongDescription\",, \"T\")","v":"Tractor Supply Co"},null,null,null,{"$f":"RTD(\"cqg.rtd\", ,\"ContractData\",C447, \"LastTradeToday\",, \"T\")","v":""},{"$f":"RTD(\"cqg.rtd\", ,\"ContractData\",C447, \"NetLastTradeToday\",, \"T\")","v":""},{"$f":"IFERROR(RTD(\"cqg.rtd\", ,\"ContractData\",C447, \"PerCentNetLastTrade\",, \"T\")/100,\"\")","v":""},{"$f":"RTD(\"cqg.rtd\", ,\"ContractData\", C447, \"T_CVol\",, \"T\")","v":183},447,{"$f":"IFERROR(RANK($J447,$J$1:J$503)+COUNTIF($J$1:J447,J447)-1,\"\")","v":""},"S.US.TSCO",{"$error":"#N/A"}]
["S.US.TSLA",1,"S.US.TSLA",{"$f":"RTD(\"cqg.rtd\", ,\"ContractData\",C448, \"LongDescription\",, \"T\")","v":"Tesla Inc."},null,null,null,{"$f":"RTD(\"cqg.rtd\", ,\"ContractData\",C448, \"LastTradeToday\",, \"T\")","v":""},{"$f":"RTD(\"cqg.rtd\", ,\"ContractData\",C448, \"NetLastTradeToday\",, \"T\")","v":""},{"$f":"IFERROR(RTD(\"cqg.rtd\", ,\"ContractData\",C448, \"PerCentNetLastTrade\",, \"T\")/100,\"\")","v":""},{"$f":"RTD(\"cqg.rtd\", ,\"ContractData\", C448, \"T_CVol\",, \"T\")","v":2028081},448,{"$f":"IFERROR(RANK($J448,$J$1:J$503)+COUNTIF($J$1:J448,J448)-1,\"\")","v":""},"S.US.TSLA",{"$error":"#N/A"}]
["S.US.TSN",1,"S.US.TSN",{"$f":"RTD(\"cqg.rtd\", ,\"ContractData\",C449, \"LongDescription\",, \"T\")","v":"Tyson Foods Inc ClsA"},null,null,null,{"$f":"RTD(\"cqg.rtd\", ,\"ContractData\",C449, \"LastTradeToday\",, \"T\")","v":""},{"$f":"RTD(\"cqg.rtd\", ,\"ContractData\",C449, \"NetLastTradeToday\",, \"T\")","v":""},{"$f":"IFERROR(RTD(\"cqg.rtd\", ,\"ContractData\",C449, \"PerCentNetLastTrade\",, \"T\")/100,\"\")","v":""},{"$f":"RTD(\"cqg.rtd\", ,\"ContractData\", C449, \"T_CVol\",, \"T\")","v":75714},449,{"$f":"IFERROR(RANK($J449,$J$1:J$503)+COUNTIF($J$1:J449,J449)-1,\"\")","v":""},"S.US.TSN",{"$error":"#N/A"}]
["S.US.TT",{"$f":"IF(J450>0,1,0)","v":1},"S.US.TT",{"$f":"RTD(\"cqg.rtd\", ,\"ContractData\",C450, \"LongDescription\",, \"T\")","v":"Trane Technologies plc"},null,null,null,{"$f":"RTD(\"cqg.rtd\", ,\"ContractData\",C450, \"LastTradeToday\",, \"T\")","v":""},{"$f":"RTD(\"cqg.rtd\", ,\"ContractData\",C450, \"NetLastTradeToday\",, \"T\")","v":""},{"$f":"IFERROR(RTD(\"cqg.rtd\", ,\"ContractData\",C450, \"PerCentNetLastTrade\",, \"T\")/100,\"\")","v":""},{"$f":"RTD(\"cqg.rtd\", ,\"ContractData\", C450, \"T_CVol\",, \"T\")","v":26},450,{"$f":"IFERROR(RANK($J450,$J$1:J$503)+COUNTIF($J$1:J450,J450)-1,\"\")","v":""},{"$f":"C450","v":"S.US.TT"},{"$f":"TRIM(VLOOKUP($L450,$M$1:$N$503,2,FALSE))","v":{"$error":"#N/A"}}]
["S.US.TTD",1,"S.US.TTD",{"$f":"RTD(\"cqg.rtd\", ,\"ContractData\",C451, \"LongDescription\",, \"T\")","v":"The Trade Desk, Inc. Class A"},null,null,null,{"$f":"RTD(\"cqg.rtd\", ,\"ContractData\",C451, \"LastTradeToday\",, \"T\")","v":""},{"$f":"RTD(\"cqg.rtd\", ,\"ContractData\",C451, \"NetLastTradeToday\",, \"T\")","v":""},{"$f":"IFERROR(RTD(\"cqg.rtd\", ,\"ContractData\",C451, \"PerCentNetLastTrade\",, \"T\")/100,\"\")","v":""},{"$f":"RTD(\"cqg.rtd\", ,\"ContractData\", C451, \"T_CVol\",, \"T\")","v":25116},{"$f":"L450+1","v":451},{"$f":"IFERROR(RANK($J451,$J$1:J$503)+COUNTIF($J$1:J451,J451)-1,\"\")","v":""},"S.US.TTD",{"$error":"#N/A"}]
["S.US.TTWO",1,"S.US.TTWO",{"$f":"RTD(\"cqg.rtd\", ,\"ContractData\",C452, \"LongDescription\",, \"T\")","v":"Take-Two Interactive Software"},null,null,null,{"$f":"RTD(\"cqg.rtd\", ,\"ContractData\",C452, \"LastTradeToday\",, \"T\")","v":""},{"$f":"RTD(\"cqg.rtd\", ,\"ContractData\",C452, \"NetLastTradeToday\",, \"T\")","v":""},{"$f":"IFERROR(RTD(\"cqg.rtd\", ,\"ContractData\",C452, \"PerCentNetLastTrade\",, \"T\")/100,\"\")","v":""},{"$f":"RTD(\"cqg.rtd\", ,\"ContractData\", C452, \"T_CVol\",, \"T\")","v":1113},452,{"$f":"IFERROR(RANK($J452,$J$1:J$503)+COUNTIF($J$1:J452,J452)-1,\"\")","v":""},"S.US.TTWO",{"$error":"#N/A"}]
["S.US.TXN",1,"S.US.TXN",{"$f":"RTD(\"cqg.rtd\", ,\"ContractData\",C453, \"LongDescription\",, \"T\")","v":"Texas Instruments Inc"},null,null,null,{"$f":"RTD(\"cqg.rtd\", ,\"ContractData\",C453, \"LastTradeToday\",, \"T\")","v":""},{"$f":"RTD(\"cqg.rtd\", ,\"ContractData\",C453, \"NetLastTradeToday\",, \"T\")","v":""},{"$f":"IFERROR(RTD(\"cqg.rtd\", ,\"ContractData\",C453, \"PerCentNetLastTrade\",, \"T\")/100,\"\")","v":""},{"$f":"RTD(\"cqg.rtd\", ,\"ContractData\", C453, \"T_CVol\",, \"T\")","v":3662},453,{"$f":"IFERROR(RANK($J453,$J$1:J$503)+COUNTIF($J$1:J453,J453)-1,\"\")","v":""},"S.US.TXN",{"$error":"#N/A"}]
["S.US.TXT",1,"S.US.TXT",{"$f":"RTD(\"cqg.rtd\", ,\"ContractData\",C454, \"LongDescription\",, \"T\")","v":"Textron Inc"},null,null,null,{"$f":"RTD(\"cqg.rtd\", ,\"ContractData\",C454, \"LastTradeToday\",, \"T\")","v":""},{"$f":"RTD(\"cqg.rtd\", ,\"ContractData\",C454, \"NetLastTradeToday\",, \"T\")","v":""},{"$f":"IFERROR(RTD(\"cqg.rtd\", ,\"ContractData\",C454, \"PerCentNetLastTrade\",, \"T\")/100,\"\")","v":""},{"$f":"RTD(\"cqg.rtd\", ,\"ContractData\", C454, \"T_CVol\",, \"T\")","v":61},454,{"$f":"IFERROR(RANK($J454,$J$1:J$503)+COUNTIF($J$1:J454,J454)-1,\"\")","v":""},"S.US.TXT",{"$error":"#N/A"}]
["S.US.TYL",1,"S.US.TYL",{"$f":"RTD(\"cqg.rtd\", ,\"ContractData\",C455, \"LongDescription\",, \"T\")","v":"TYLER TECHNOLOGIES INC"},null,null,null,{"$f":"RTD(\"cqg.rtd\", ,\"ContractData\",C455, \"LastTradeToday\",, \"T\")","v":""},{"$f":"RTD(\"cqg.rtd\", ,\"ContractData\",C455, \"NetLastTradeToday\",, \"T\")","v":""},{"$f":"IFERROR(RTD(\"cqg.rtd\", ,\"ContractData\",C455, \"PerCentNetLastTrade\",, \"T\")/100,\"\")","v":""},{"$f":"RTD(\"cqg.rtd\", ,\"ContractData\", C455, \"T_CVol\",, \"T\")","v":8},455,{"$f":"IFERROR(RANK($J455,$J$1:J$503)+COUNTIF($J$1:J455,J455)-1,\"\")","v":""},"S.US.TYL",{"$error":"#N/A"}]
["S.US.UAL",1,"S.US.UAL",{"$f":"RTD(\"cqg.rtd\", ,\"ContractData\",C456, \"LongDescription\",, \"T\")","v":"United Airlines Holdings, Inc."},null,null,null,{"$f":"RTD(\"cqg.rtd\", ,\"ContractData\",C456, \"LastTradeToday\",, \"T\")","v":""},{"$f":"RTD(\"cqg.rtd\", ,\"ContractData\",C456, \"NetLastTradeToday\",, \"T\")","v":""},{"$f":"IFERROR(RTD(\"cqg.rtd\", ,\"ContractData\",C456, \"PerCentNetLastTrade\",, \"T\")/100,\"\")","v":""},{"$f":"RTD(\"cqg.rtd\", ,\"ContractData\", C456, \"T_CVol\",, \"T\")","v":4457},456,{"$f":"IFERROR(RANK($J456,$J$1:J$503)+COUNTIF($J$1:J456,J456)-1,\"\")","v":""},"S.US.UAL",{"$error":"#N/A"}]
["S.US.UBER",1,"S.US.UBER",{"$f":"RTD(\"cqg.rtd\", ,\"ContractData\",C457, \"LongDescription\",, \"T\")","v":"Uber Technologies, Inc."},null,null,null,{"$f":"RTD(\"cqg.rtd\", ,\"ContractData\",C457, \"LastTradeToday\",, \"T\")","v":""},{"$f":"RTD(\"cqg.rtd\", ,\"ContractData\",C457, \"NetLastTradeToday\",, \"T\")","v":""},{"$f":"IFERROR(RTD(\"cqg.rtd\", ,\"ContractData\",C457, \"PerCentNetLastTrade\",, \"T\")/100,\"\")","v":""},{"$f":"RTD(\"cqg.rtd\", ,\"ContractData\", C457, \"T_CVol\",, \"T\")","v":89732},457,{"$f":"IFERROR(RANK($J457,$J$1:J$503)+COUNTIF($J$1:J457,J457)-1,\"\")","v":""},"S.US.UBER",{"$error":"#N/A"}]
["S.US.UDR",1,"S.US.UDR",{"$f":"RTD(\"cqg.rtd\", ,\"ContractData\",C458, \"LongDescription\",, \"T\")","v":"United Dominion Realty Trust"},null,null,null,{"$f":"RTD(\"cqg.rtd\", ,\"ContractData\",C458, \"LastTradeToday\",, \"T\")","v":""},{"$f":"RTD(\"cqg.rtd\", ,\"ContractData\",C458, \"NetLastTradeToday\",, \"T\")","v":""},{"$f":"IFERROR(RTD(\"cqg.rtd\", ,\"ContractData\",C458, \"PerCentNetLastTrade\",, \"T\")/100,\"\")","v":""},{"$f":"RTD(\"cqg.rtd\", ,\"ContractData\", C458, \"T_CVol\",, \"T\")","v":2},458,{"$f":"IFERROR(RANK($J458,$J$1:J$503)+COUNTIF($J$1:J458,J458)-1,\"\")","v":""},"S.US.UDR",{"$error":"#N/A"}]
["S.US.UHS",1,"S.US.UHS",{"$f":"RTD(\"cqg.rtd\", ,\"ContractData\",C459, \"LongDescription\",, \"T\")","v":"Universal Health Svcs ClsB"},null,null,null,{"$f":"RTD(\"cqg.rtd\", ,\"ContractData\",C459, \"LastTradeToday\",, \"T\")","v":""},{"$f":"RTD(\"cqg.rtd\", ,\"ContractData\",C459, \"NetLastTradeToday\",, \"T\")","v":""},{"$f":"IFERROR(RTD(\"cqg.rtd\", ,\"ContractData\",C459, \"PerCentNetLastTrade\",, \"T\")/100,\"\")","v":""},{"$f":"RTD(\"cqg.rtd\", ,\"ContractData\", C459, \"T_CVol\",, \"T\")","v":7},459,{"$f":"IFERROR(RANK($J459,$J$1:J$503)+COUNTIF($J$1:J459,J459)-1,\"\")","v":""},"S.US.UHS",{"$error":"#N/A"}]
["S.US.ULTA",1,"S.US.ULTA",{"$f":"RTD(\"cqg.rtd\", ,\"ContractData\",C460, \"LongDescription\",, \"T\")","v":"Ulta Salon Cosmetics & Fragrance Inc"},null,null,null,{"$f":"RTD(\"cqg.rtd\", ,\"ContractData\",C460, \"LastTradeToday\",, \"T\")","v":""},{"$f":"RTD(\"cqg.rtd\", ,\"ContractData\",C460, \"NetLastTradeToday\",, \"T\")","v":""},{"$f":"IFERROR(RTD(\"cqg.rtd\", ,\"ContractData\",C460, \"PerCentNetLastTrade\",, \"T\")/100,\"\")","v":""},{"$f":"RTD(\"cqg.rtd\", ,\"ContractData\", C460, \"T_CVol\",, \"T\")","v":46},460,{"$f":"IFERROR(RANK($J460,$J$1:J$503)+COUNTIF($J$1:J460,J460)-1,\"\")","v":""},"S.US.ULTA",{"$error":"#N/A"}]
["S.US.UNH",1,"S.US.UNH",{"$f":"RTD(\"cqg.rtd\", ,\"ContractData\",C461, \"LongDescription\",, \"T\")","v":"United Health Group Inc"},null,null,null,{"$f":"RTD(\"cqg.rtd\", ,\"ContractData\",C461, \"LastTradeToday\",, \"T\")","v":""},{"$f":"RTD(\"cqg.rtd\", ,\"ContractData\",C461, \"NetLastTradeToday\",, \"T\")","v":""},{"$f":"IFERROR(RTD(\"cqg.rtd\", ,\"ContractData\",C461, \"PerCentNetLastTrade\",, \"T\")/100,\"\")","v":""},{"$f":"RTD(\"cqg.rtd\", ,\"ContractData\", C461, \"T_CVol\",, \"T\")","v":453195},461,{"$f":"IFERROR(RANK($J461,$J$1:J$503)+COUNTIF($J$1:J461,J461)-1,\"\")","v":""},"S.US.UNH",{"$error":"#N/A"}]
["S.US.UNP",1,"S.US.UNP",{"$f":"RTD(\"cqg.rtd\", ,\"ContractData\",C462, \"LongDescription\",, \"T\")","v":"Union Pacific Corp"},null,null,null,{"$f":"RTD(\"cqg.rtd\", ,\"ContractData\",C462, \"LastTradeToday\",, \"T\")","v":""},{"$f":"RTD(\"cqg.rtd\", ,\"ContractData\",C462, \"NetLastTradeToday\",, \"T\")","v":""},{"$f":"IFERROR(RTD(\"cqg.rtd\", ,\"ContractData\",C462, \"PerCentNetLastTrade\",, \"T\")/100,\"\")","v":""},{"$f":"RTD(\"cqg.rtd\", ,\"ContractData\", C462, \"T_CVol\",, \"T\")","v":540},462,{"$f":"IFERROR(RANK($J462,$J$1:J$503)+COUNTIF($J$1:J462,J462)-1,\"\")","v":""},"S.US.UNP",{"$error":"#N/A"}]
["S.US.UPS",1,"S.US.UPS",{"$f":"RTD(\"cqg.rtd\", ,\"ContractData\",C463, \"LongDescription\",, \"T\")","v":"United Parcel Svc"},null,null,null,{"$f":"RTD(\"cqg.rtd\", ,\"ContractData\",C463, \"LastTradeToday\",, \"T\")","v":""},{"$f":"RTD(\"cqg.rtd\", ,\"ContractData\",C463, \"NetLastTradeToday\",, \"T\")","v":""},{"$f":"IFERROR(RTD(\"cqg.rtd\", ,\"ContractData\",C463, \"PerCentNetLastTrade\",, \"T\")/100,\"\")","v":""},{"$f":"RTD(\"cqg.rtd\", ,\"ContractData\", C463, \"T_CVol\",, \"T\")","v":45939},463,{"$f":"IFERROR(RANK($J463,$J$1:J$503)+COUNTIF($J$1:J463,J463)-1,\"\")","v":""},"S.US.UPS",{"$error":"#N/A"}]
["S.US.URI",1,"S.US.URI",{"$f":"RTD(\"cqg.rtd\", ,\"ContractData\",C464, \"LongDescription\",, \"T\")","v":"United Rentals Inc"},null,null,null,{"$f":"RTD(\"cqg.rtd\", ,\"ContractData\",C464, \"LastTradeToday\",, \"T\")","v":""},{"$f":"RTD(\"cqg.rtd\", ,\"ContractData\",C464, \"NetLastTradeToday\",, \"T\")","v":""},{"$f":"IFERROR(RTD(\"cqg.rtd\", ,\"ContractData\",C464, \"PerCentNetLastTrade\",, \"T\")/100,\"\")","v":""},{"$f":"RTD(\"cqg.rtd\", ,\"ContractData\", C464, \"T_CVol\",, \"T\")","v":199},464,{"$f":"IFERROR(RANK($J464,$J$1:J$503)+COUNTIF($J$1:J464,J464)-1,\"\")","v":""},"S.US.URI",{"$error":"#N/A"}]
["S.US.USB",1,"S.US.USB",{"$f":"RTD(\"cqg.rtd\", ,\"ContractData\",C465, \"LongDescription\",, \"T\")","v":"U S Bancorp"},null,null,null,{"$f":"RTD(\"cqg.rtd\", ,\"ContractData\",C465, \"LastTradeToday\",, \"T\")","v":""},{"$f":"RTD(\"cqg.rtd\", ,\"ContractData\",C465, \"NetLastTradeToday\",, \"T\")","v":""},{"$f":"IFERROR(RTD(\"cqg.rtd\", ,\"ContractData\",C465, \"PerCentNetLastTrade\",, \"T\")/100,\"\")","v":""},{"$f":"RTD(\"cqg.rtd\", ,\"ContractData\", C465, \"T_CVol\",, \"T\")","v":1213},465,{"$f":"IFERROR(RANK($J465,$J$1:J$503)+COUNTIF($J$1:J465,J465)-1,\"\")","v":""},"S.US.USB",{"$error":"#N/A"}]
["S.US.V",1,"S.US.V",{"$f":"RTD(\"cqg.rtd\", ,\"ContractData\",C466, \"LongDescription\",, \"T\")","v":"Visa Inc."},null,null,null,{"$f":"RTD(\"cqg.rtd\", ,\"ContractData\",C466, \"LastTradeToday\",, \"T\")","v":""},{"$f":"RTD(\"cqg.rtd\", ,\"ContractData\",C466, \"NetLastTradeToday\",, \"T\")","v":""},{"$f":"IFERROR(RTD(\"cqg.rtd\", ,\"ContractData\",C466, \"PerCentNetLastTrade\",, \"T\")/100,\"\")","v":""},{"$f":"RTD(\"cqg.rtd\", ,\"ContractData\", C466, \"T_CVol\",, \"T\")","v":14656},466,{"$f":"IFERROR(RANK($J466,$J$1:J$503)+COUNTIF($J$1:J466,J466)-1,\"\")","v":""},"S.US.V",{"$error":"#N/A"}]
["S.US.VICI",1,"S.US.VICI",{"$f":"RTD(\"cqg.rtd\", ,\"ContractData\",C467, \"LongDescription\",, \"T\")","v":"VICI Properties Inc."},null,null,null,{"$f":"RTD(\"cqg.rtd\", ,\"ContractData\",C467, \"LastTradeToday\",, \"T\")","v":""},{"$f":"RTD(\"cqg.rtd\", ,\"ContractData\",C467, \"NetLastTradeToday\",, \"T\")","v":""},{"$f":"IFERROR(RTD(\"cqg.rtd\", ,\"ContractData\",C467, \"PerCentNetLastTrade\",, \"T\")/100,\"\")","v":""},{"$f":"RTD(\"cqg.rtd\", ,\"ContractData\", C467, \"T_CVol\",, \"T\")","v":3765},467,{"$f":"IFERROR(RANK($J467,$J$1:J$503)+COUNTIF($J$1:J467,J467)-1,\"\")","v":""},"S.US.VICI",{"$error":"#N/A"}]
["S.US.VLO",1,"S.US.VLO",{"$f":"RTD(\"cqg.rtd\", ,\"ContractData\",C468, \"LongDescription\",, \"T\")","v":"Valero Energy Corp New"},null,null,null,{"$f":"RTD(\"cqg.rtd\", ,\"ContractData\",C468, \"LastTradeToday\",, \"T\")","v":""},{"$f":"RTD(\"cqg.rtd\", ,\"ContractData\",C468, \"NetLastTradeToday\",, \"T\")","v":""},{"$f":"IFERROR(RTD(\"cqg.rtd\", ,\"ContractData\",C468, \"PerCentNetLastTrade\",, \"T\")/100,\"\")","v":""},{"$f":"RTD(\"cqg.rtd\", ,\"ContractData\", C468, \"T_CVol\",, \"T\")","v":220},468,{"$f":"IFERROR(RANK($J468,$J$1:J$503)+COUNTIF($J$1:J468,J468)-1,\"\")","v":""},"S.US.VLO",{"$error":"#N/A"}]
["S.US.VLTO",1,"S.US.VLTO",{"$f":"RTD(\"cqg.rtd\", ,\"ContractData\",C469, \"LongDescription\",, \"T\")","v":"Veralto Corporation"},null,null,null,{"$f":"RTD(\"cqg.rtd\", ,\"ContractData\",C469, \"LastTradeToday\",, \"T\")","v":""},{"$f":"RTD(\"cqg.rtd\", ,\"ContractData\",C469, \"NetLastTradeToday\",, \"T\")","v":""},{"$f":"IFERROR(RTD(\"cqg.rtd\", ,\"ContractData\",C469, \"PerCentNetLastTrade\",, \"T\")/100,\"\")","v":""},{"$f":"RTD(\"cqg.rtd\", ,\"ContractData\", C469, \"T_CVol\",, \"T\")","v":43},469,{"$f":"IFERROR(RANK($J469,$J$1:J$503)+COUNTIF($J$1:J469,J469)-1,\"\")","v":""},"S.US.VLTO",{"$error":"#N/A"}]
["S.US.VMC",1,"S.US.VMC",{"$f":"RTD(\"cqg.rtd\", ,\"ContractData\",C470, \"LongDescription\",, \"T\")","v":"Vulcan Material Co"},null,null,null,{"$f":"RTD(\"cqg.rtd\", ,\"ContractData\",C470, \"LastTradeToday\",, \"T\")","v":""},{"$f":"RTD(\"cqg.rtd\", ,\"ContractData\",C470, \"NetLastTradeToday\",, \"T\")","v":""},{"$f":"IFERROR(RTD(\"cqg.rtd\", ,\"ContractData\",C470, \"PerCentNetLastTrade\",, \"T\")/100,\"\")","v":""},{"$f":"RTD(\"cqg.rtd\", ,\"ContractData\", C470, \"T_CVol\",, \"T\")","v":75},470,{"$f":"IFERROR(RANK($J470,$J$1:J$503)+COUNTIF($J$1:J470,J470)-1,\"\")","v":""},"S.US.VMC",{"$error":"#N/A"}]
["S.US.VRSK",1,"S.US.VRSK",{"$f":"RTD(\"cqg.rtd\", ,\"ContractData\",C471, \"LongDescription\",, \"T\")","v":"Verisk Analytics, Inc."},null,null,null,{"$f":"RTD(\"cqg.rtd\", ,\"ContractData\",C471, \"LastTradeToday\",, \"T\")","v":""},{"$f":"RTD(\"cqg.rtd\", ,\"ContractData\",C471, \"NetLastTradeToday\",, \"T\")","v":""},{"$f":"IFERROR(RTD(\"cqg.rtd\", ,\"ContractData\",C471, \"PerCentNetLastTrade\",, \"T\")/100,\"\")","v":""},{"$f":"RTD(\"cqg.rtd\", ,\"ContractData\", C471, \"T_CVol\",, \"T\")","v":80},471,{"$f":"IFERROR(RANK($J471,$J$1:J$503)+COUNTIF($J$1:J471,J471)-1,\"\")","v":""},"S.US.VRSK",{"$error":"#N/A"}]
["S.US.VRSN",1,"S.US.VRSN",{"$f":"RTD(\"cqg.rtd\", ,\"ContractData\",C472, \"LongDescription\",, \"T\")","v":"Verisign Inc"},null,null,null,{"$f":"RTD(\"cqg.rtd\", ,\"ContractData\",C472, \"LastTradeToday\",, \"T\")","v":""},{"$f":"RTD(\"cqg.rtd\", ,\"ContractData\",C472, \"NetLastTradeToday\",, \"T\")","v":""},{"$f":"IFERROR(RTD(\"cqg.rtd\", ,\"ContractData\",C472, \"PerCentNetLastTrade\",, \"T\")/100,\"\")","v":""},{"$f":"RTD(\"cqg.rtd\", ,\"ContractData\", C472, \"T_CVol\",, \"T\")","v":983},472,{"$f":"IFERROR(RANK($J472,$J$1:J$503)+COUNTIF($J$1:J472,J472)-1,\"\")","v":""},"S.US.VRSN",{"$error":"#N/A"}]
["S.US.VRTX",1,"S.US.VRTX",{"$f":"RTD(\"cqg.rtd\", ,\"ContractData\",C473, \"LongDescription\",, \"T\")","v":"Vertex Pharmaceuticals Incorporated"},null,null,null,{"$f":"RTD(\"cqg.rtd\", ,\"ContractData\",C473, \"LastTradeToday\",, \"T\")","v":""},{"$f":"RTD(\"cqg.rtd\", ,\"ContractData\",C473, \"NetLastTradeToday\",, \"T\")","v":""},{"$f":"IFERROR(RTD(\"cqg.rtd\", ,\"ContractData\",C473, \"PerCentNetLastTrade\",, \"T\")/100,\"\")","v":""},{"$f":"RTD(\"cqg.rtd\", ,\"ContractData\", C473, \"T_CVol\",, \"T\")","v":562},473,{"$f":"IFERROR(RANK($J473,$J$1:J$503)+COUNTIF($J$1:J473,J473)-1,\"\")","v":""},"S.US.VRTX",{"$error":"#N/A"}]
["S.US.VST",1,"S.US.VST",{"$f":"RTD(\"cqg.rtd\", ,\"ContractData\",C474, \"LongDescription\",, \"T\")","v":"Vistra Corp."},null,null,null,{"$f":"RTD(\"cqg.rtd\", ,\"ContractData\",C474, \"LastTradeToday\",, \"T\")","v":""},{"$f":"RTD(\"cqg.rtd\", ,\"ContractData\",C474, \"NetLastTradeToday\",, \"T\")","v":""},{"$f":"IFERROR(RTD(\"cqg.rtd\", ,\"ContractData\",C474, \"PerCentNetLastTrade\",, \"T\")/100,\"\")","v":""},{"$f":"RTD(\"cqg.rtd\", ,\"ContractData\", C474, \"T_CVol\",, \"T\")","v":18588},474,{"$f":"IFERROR(RANK($J474,$J$1:J$503)+COUNTIF($J$1:J474,J474)-1,\"\")","v":""},"S.US.VST",{"$error":"#N/A"}]
["S.US.VTR",1,"S.US.VTR",{"$f":"RTD(\"cqg.rtd\", ,\"ContractData\",C475, \"LongDescription\",, \"T\")","v":"Ventas Inc"},null,null,null,{"$f":"RTD(\"cqg.rtd\", ,\"ContractData\",C475, \"LastTradeToday\",, \"T\")","v":""},{"$f":"RTD(\"cqg.rtd\", ,\"ContractData\",C475, \"NetLastTradeToday\",, \"T\")","v":""},{"$f":"IFERROR(RTD(\"cqg.rtd\", ,\"ContractData\",C475, \"PerCentNetLastTrade\",, \"T\")/100,\"\")","v":""},{"$f":"RTD(\"cqg.rtd\", ,\"ContractData\", C475, \"T_CVol\",, \"T\")","v":2432},475,{"$f":"IFERROR(RANK($J475,$J$1:J$503)+COUNTIF($J$1:J475,J475)-1,\"\")","v":""},"S.US.VTR",{"$error":"#N/A"}]
["S.US.VTRS",1,"S.US.VTRS",{"$f":"RTD(\"cqg.rtd\", ,\"ContractData\",C476, \"LongDescription\",, \"T\")","v":"Viatris Inc."},null,null,null,{"$f":"RTD(\"cqg.rtd\", ,\"ContractData\",C476, \"LastTradeToday\",, \"T\")","v":""},{"$f":"RTD(\"cqg.rtd\", ,\"ContractData\",C476, \"NetLastTradeToday\",, \"T\")","v":""},{"$f":"IFERROR(RTD(\"cqg.rtd\", ,\"ContractData\",C476, \"PerCentNetLastTrade\",, \"T\")/100,\"\")","v":""},{"$f":"RTD(\"cqg.rtd\", ,\"ContractData\", C476, \"T_CVol\",, \"T\")","v":122},476,{"$f":"IFERROR(RANK($J476,$J$1:J$503)+COUNTIF($J$1:J476,J476)-1,\"\")","v":""},"S.US.VTRS",{"$error":"#N/A"}]
["S.US.VZ",1,"S.US.VZ",{"$f":"RTD(\"cqg.rtd\", ,\"ContractData\",C477, \"LongDescription\",, \"T\")","v":"Verizon Communications"},null,null,null,{"$f":"RTD(\"cqg.rtd\", ,\"ContractData\",C477, \"LastTradeToday\",, \"T\")","v":""},{"$f":"RTD(\"cqg.rtd\", ,\"ContractData\",C477, \"NetLastTradeToday\",, \"T\")","v":""},{"$f":"IFERROR(RTD(\"cqg.rtd\", ,\"ContractData\",C477, \"PerCentNetLastTrade\",, \"T\")/100,\"\")","v":""},{"$f":"RTD(\"cqg.rtd\", ,\"ContractData\", C477, \"T_CVol\",, \"T\")","v":30187},477,{"$f":"IFERROR(RANK($J477,$J$1:J$503)+COUNTIF($J$1:J477,J477)-1,\"\")","v":""},"S.US.VZ",{"$error":"#N/A"}]
["S.US.WAB",1,"S.US.WAB",{"$f":"RTD(\"cqg.rtd\", ,\"ContractData\",C478, \"LongDescription\",, \"T\")","v":"Westinghouse Air Brake Co"},null,null,null,{"$f":"RTD(\"cqg.rtd\", ,\"ContractData\",C478, \"LastTradeToday\",, \"T\")","v":""},{"$f":"RTD(\"cqg.rtd\", ,\"ContractData\",C478, \"NetLastTradeToday\",, \"T\")","v":""},{"$f":"IFERROR(RTD(\"cqg.rtd\", ,\"ContractData\",C478, \"PerCentNetLastTrade\",, \"T\")/100,\"\")","v":""},{"$f":"RTD(\"cqg.rtd\", ,\"ContractData\", C478, \"T_CVol\",, \"T\")","v":69},478,{"$f":"IFERROR(RANK($J478,$J$1:J$503)+COUNTIF($J$1:J478,J478)-1,\"\")","v":""},"S.US.WAB",{"$error":"#N/A"}]
["S.US.WAT",1,"S.US.WAT",{"$f":"RTD(\"cqg.rtd\", ,\"ContractData\",C479, \"LongDescription\",, \"T\")","v":"Waters Corporation"},null,null,null,{"$f":"RTD(\"cqg.rtd\", ,\"ContractData\",C479, \"LastTradeToday\",, \"T\")","v":""},{"$f":"RTD(\"cqg.rtd\", ,\"ContractData\",C479, \"NetLastTradeToday\",, \"T\")","v":""},{"$f":"IFERROR(RTD(\"cqg.rtd\", ,\"ContractData\",C479, \"PerCentNetLastTrade\",, \"T\")/100,\"\")","v":""},{"$f":"RTD(\"cqg.rtd\", ,\"ContractData\", C479, \"T_CVol\",, \"T\")","v":659},479,{"$f":"IFERROR(RANK($J479,$J$1:J$503)+COUNTIF($J$1:J479,J479)-1,\"\")","v":""},"S.US.WAT",{"$error":"#N/A"}]
["S.US.WBA",1,"S.US.WBA",{"$f":"RTD(\"cqg.rtd\", ,\"ContractData\",C480, \"LongDescription\",, \"T\")","v":"Walgreens Boots Alliance, Inc."},null,null,null,{"$f":"RTD(\"cqg.rtd\", ,\"ContractData\",C480, \"LastTradeToday\",, \"T\")","v":""},{"$f":"RTD(\"cqg.rtd\", ,\"ContractData\",C480, \"NetLastTradeToday\",, \"T\")","v":""},{"$f":"IFERROR(RTD(\"cqg.rtd\", ,\"ContractData\",C480, \"PerCentNetLastTrade\",, \"T\")/100,\"\")","v":""},{"$f":"RTD(\"cqg.rtd\", ,\"ContractData\", C480, \"T_CVol\",, \"T\")","v":2801},480,{"$f":"IFERROR(RANK($J480,$J$1:J$503)+COUNTIF($J$1:J480,J480)-1,\"\")","v":""},"S.US.WBA",{"$error":"#N/A"}]
["S.US.WBD",1,"S.US.WBD",{"$f":"RTD(\"cqg.rtd\", ,\"ContractData\",C481, \"LongDescription\",, \"T\")","v":"Warner Bros. Discovery, Inc. Series A"},null,null,null,{"$f":"RTD(\"cqg.rtd\", ,\"ContractData\",C481, \"LastTradeToday\",, \"T\")","v":""},{"$f":"RTD(\"cqg.rtd\", ,\"ContractData\",C481, \"NetLastTradeToday\",, \"T\")","v":""},{"$f":"IFERROR(RTD(\"cqg.rtd\", ,\"ContractData\",C481, \"PerCentNetLastTrade\",, \"T\")/100,\"\")","v":""},{"$f":"RTD(\"cqg.rtd\", ,\"ContractData\", C481, \"T_CVol\",, \"T\")","v":19006},481,{"$f":"IFERROR(RANK($J481,$J$1:J$503)+COUNTIF($J$1:J481,J481)-1,\"\")","v":""},"S.US.WBD",{"$error":"#N/A"}]
["S.US.WDAY",1,"S.US.WDAY",{"$f":"RTD(\"cqg.rtd\", ,\"ContractData\",C482, \"LongDescription\",, \"T\")","v":"Workday, Inc."},null,null,null,{"$f":"RTD(\"cqg.rtd\", ,\"ContractData\",C482, \"LastTradeToday\",, \"T\")","v":""},{"$f":"RTD(\"cqg.rtd\", ,\"ContractData\",C482, \"NetLastTradeToday\",, \"T\")","v":""},{"$f":"IFERROR(RTD(\"cqg.rtd\", ,\"ContractData\",C482, \"PerCentNetLastTrade\",, \"T\")/100,\"\")","v":""},{"$f":"RTD(\"cqg.rtd\", ,\"ContractData\", C482, \"T_CVol\",, \"T\")","v":248},482,{"$f":"IFERROR(RANK($J482,$J$1:J$503)+COUNTIF($J$1:J482,J482)-1,\"\")","v":""},"S.US.WDAY",{"$error":"#N/A"}]
["S.US.WDC",1,"S.US.WDC",{"$f":"RTD(\"cqg.rtd\", ,\"ContractData\",C483, \"LongDescription\",, \"T\")","v":"Western Digital Corporation"},null,null,null,{"$f":"RTD(\"cqg.rtd\", ,\"ContractData\",C483, \"LastTradeToday\",, \"T\")","v":""},{"$f":"RTD(\"cqg.rtd\", ,\"ContractData\",C483, \"NetLastTradeToday\",, \"T\")","v":""},{"$f":"IFERROR(RTD(\"cqg.rtd\", ,\"ContractData\",C483, \"PerCentNetLastTrade\",, \"T\")/100,\"\")","v":""},{"$f":"RTD(\"cqg.rtd\", ,\"ContractData\", C483, \"T_CVol\",, \"T\")","v":3137},483,{"$f":"IFERROR(RANK($J483,$J$1:J$503)+COUNTIF($J$1:J483,J483)-1,\"\")","v":""},"S.US.WDC",{"$error":"#N/A"}]
["S.US.WEC",1,"S.US.WEC",{"$f":"RTD(\"cqg.rtd\", ,\"ContractData\",C484, \"LongDescription\",, \"T\")","v":"Wisconsin Energy Corp"},null,null,null,{"$f":"RTD(\"cqg.rtd\", ,\"ContractData\",C484, \"LastTradeToday\",, \"T\")","v":""},{"$f":"RTD(\"cqg.rtd\", ,\"ContractData\",C484, \"NetLastTradeToday\",, \"T\")","v":""},{"$f":"IFERROR(RTD(\"cqg.rtd\", ,\"ContractData\",C484, \"PerCentNetLastTrade\",, \"T\")/100,\"\")","v":""},{"$f":"RTD(\"cqg.rtd\", ,\"ContractData\", C484, \"T_CVol\",, \"T\")","v":3504},484,{"$f":"IFERROR(RANK($J484,$J$1:J$503)+COUNTIF($J$1:J484,J484)-1,\"\")","v":""},"S.US.WEC",{"$error":"#N/A"}]
["S.US.WELL",1,"S.US.WELL",{"$f":"RTD(\"cqg.rtd\", ,\"ContractData\",C485, \"LongDescription\",, \"T\")","v":"Welltower Inc."},null,null,null,{"$f":"RTD(\"cqg.rtd\", ,\"ContractData\",C485, \"LastTradeToday\",, \"T\")","v":""},{"$f":"RTD(\"cqg.rtd\", ,\"ContractData\",C485, \"NetLastTradeToday\",, \"T\")","v":""},{"$f":"IFERROR(RTD(\"cqg.rtd\", ,\"ContractData\",C485, \"PerCentNetLastTrade\",, \"T\")/100,\"\")","v":""},{"$f":"RTD(\"cqg.rtd\", ,\"ContractData\", C485, \"T_CVol\",, \"T\")","v":11112},485,{"$f":"IFERROR(RANK($J485,$J$1:J$503)+COUNTIF($J$1:J485,J485)-1,\"\")","v":""},"S.US.WELL",{"$error":"#N/A"}]
["S.US.WFC",1,"S.US.WFC",{"$f":"RTD(\"cqg.rtd\", ,\"ContractData\",C486, \"LongDescription\",, \"T\")","v":"Wells Fargo & Co New"},null,null,null,{"$f":"RTD(\"cqg.rtd\", ,\"ContractData\",C486, \"LastTradeToday\",, \"T\")","v":""},{"$f":"RTD(\"cqg.rtd\", ,\"ContractData\",C486, \"NetLastTradeToday\",, \"T\")","v":""},{"$f":"IFERROR(RTD(\"cqg.rtd\", ,\"ContractData\",C486, \"PerCentNetLastTrade\",, \"T\")/100,\"\")","v":""},{"$f":"RTD(\"cqg.rtd\", ,\"ContractData\", C486, \"T_CVol\",, \"T\")","v":5586},486,{"$f":"IFERROR(RANK($J486,$J$1:J$503)+COUNTIF($J$1:J486,J486)-1,\"\")","v":""},"S.US.WFC",{"$error":"#N/A"}]
["S.US.WM",1,"S.US.WM",{"$f":"RTD(\"cqg.rtd\", ,\"ContractData\",C487, \"LongDescription\",, \"T\")","v":"Waste Mgmt Inc New"},null,null,null,{"$f":"RTD(\"cqg.rtd\", ,\"ContractData\",C487, \"LastTradeToday\",, \"T\")","v":""},{"$f":"RTD(\"cqg.rtd\", ,\"ContractData\",C487, \"NetLastTradeToday\",, \"T\")","v":""},{"$f":"IFERROR(RTD(\"cqg.rtd\", ,\"ContractData\",C487, \"PerCentNetLastTrade\",, \"T\")/100,\"\")","v":""},{"$f":"RTD(\"cqg.rtd\", ,\"ContractData\", C487, \"T_CVol\",, \"T\")","v":789},487,{"$f":"IFERROR(RANK($J487,$J$1:J$503)+COUNTIF($J$1:J487,J487)-1,\"\")","v":""},"S.US.WM",{"$error":"#N/A"}]
["S.US.WMB",1,"S.US.WMB",{"$f":"RTD(\"cqg.rtd\", ,\"ContractData\",C488, \"LongDescription\",, \"T\")","v":"Williams Companies Inc"},null,null,null,{"$f":"RTD(\"cqg.rtd\", ,\"ContractData\",C488, \"LastTradeToday\",, \"T\")","v":""},{"$f":"RTD(\"cqg.rtd\", ,\"ContractData\",C488, \"NetLastTradeToday\",, \"T\")","v":""},{"$f":"IFERROR(RTD(\"cqg.rtd\", ,\"ContractData\",C488, \"PerCentNetLastTrade\",, \"T\")/100,\"\")","v":""},{"$f":"RTD(\"cqg.rtd\", ,\"ContractData\", C488, \"T_CVol\",, \"T\")","v":597},488,{"$f":"IFERROR(RANK($J488,$J$1:J$503)+COUNTIF($J$1:J488,J488)-1,\"\")","v":""},"S.US.WMB",{"$error":"#N/A"}]
["S.US.WMT",1,"S.US.WMT",{"$f":"RTD(\"cqg.rtd\", ,\"ContractData\",C489, \"LongDescription\",, \"T\")","v":"Walmart Inc."},null,null,null,{"$f":"RTD(\"cqg.rtd\", ,\"ContractData\",C489, \"LastTradeToday\",, \"T\")","v":""},{"$f":"RTD(\"cqg.rtd\", ,\"ContractData\",C489, \"NetLastTradeToday\",, \"T\")","v":""},{"$f":"IFERROR(RTD(\"cqg.rtd\", ,\"ContractData\",C489, \"PerCentNetLastTrade\",, \"T\")/100,\"\")","v":""},{"$f":"RTD(\"cqg.rtd\", ,\"ContractData\", C489, \"T_CVol\",, \"T\")","v":23275},489,{"$f":"IFERROR(RANK($J489,$J$1:J$503)+COUNTIF($J$1:J489,J489)-1,\"\")","v":""},"S.US.WMT",{"$error":"#N/A"}]
["S.US.WRB",1,"S.US.WRB",{"$f":"RTD(\"cqg.rtd\", ,\"ContractData\",C490, \"LongDescription\",, \"T\")","v":"WR Berkley Corp"},null,null,null,{"$f":"RTD(\"cqg.rtd\", ,\"ContractData\",C490, \"LastTradeToday\",, \"T\")","v":""},{"$f":"RTD(\"cqg.rtd\", ,\"ContractData\",C490, \"NetLastTradeToday\",, \"T\")","v":""},{"$f":"IFERROR(RTD(\"cqg.rtd\", ,\"ContractData\",C490, \"PerCentNetLastTrade\",, \"T\")/100,\"\")","v":""},{"$f":"RTD(\"cqg.rtd\", ,\"ContractData\", C490, \"T_CVol\",, \"T\")","v":23},490,{"$f":"IFERROR(RANK($J490,$J$1:J$503)+COUNTIF($J$1:J490,J490)-1,\"\")","v":""},"S.US.WRB",{"$error":"#N/A"}]
["S.US.WSM",1,"S.US.WSM",{"$f":"RTD(\"cqg.rtd\", ,\"ContractData\",C491, \"LongDescription\",, \"T\")","v":"Williams-Sonoma Inc"},null,null,null,{"$f":"RTD(\"cqg.rtd\", ,\"ContractData\",C491, \"LastTradeToday\",, \"T\")","v":""},{"$f":"RTD(\"cqg.rtd\", ,\"ContractData\",C491, \"NetLastTradeToday\",, \"T\")","v":""},{"$f":"IFERROR(RTD(\"cqg.rtd\", ,\"ContractData\",C491, \"PerCentNetLastTrade\",, \"T\")/100,\"\")","v":""},{"$f":"RTD(\"cqg.rtd\", ,\"ContractData\", C491, \"T_CVol\",, \"T\")","v":1582},491,{"$f":"IFERROR(RANK($J491,$J$1:J$503)+COUNTIF($J$1:J491,J491)-1,\"\")","v":""},"S.US.WSM",{"$error":"#N/A"}]
["S.US.WST",1,"S.US.WST",{"$f":"RTD(\"cqg.rtd\", ,\"ContractData\",C492, \"LongDescription\",, \"T\")","v":"West Pharmaceuticals Svcs Inc"},null,null,null,{"$f":"RTD(\"cqg.rtd\", ,\"ContractData\",C492, \"LastTradeToday\",, \"T\")","v":""},{"$f":"RTD(\"cqg.rtd\", ,\"ContractData\",C492, \"NetLastTradeToday\",, \"T\")","v":""},{"$f":"IFERROR(RTD(\"cqg.rtd\", ,\"ContractData\",C492, \"PerCentNetLastTrade\",, \"T\")/100,\"\")","v":""},{"$f":"RTD(\"cqg.rtd\", ,\"ContractData\", C492, \"T_CVol\",, \"T\")","v":36},492,{"$f":"IFERROR(RANK($J492,$J$1:J$503)+COUNTIF($J$1:J492,J492)-1,\"\")","v":""},"S.US.WST",{"$error":"#N/A"}]
["S.US.WTW",1,"S.US.WTW",{"$f":"RTD(\"cqg.rtd\", ,\"ContractData\",C493, \"LongDescription\",, \"T\")","v":"Willis Towers Watson"},null,null,null,{"$f":"RTD(\"cqg.rtd\", ,\"ContractData\",C493, \"LastTradeToday\",, \"T\")","v":""},{"$f":"RTD(\"cqg.rtd\", ,\"ContractData\",C493, \"NetLastTradeToday\",, \"T\")","v":""},{"$f":"IFERROR(RTD(\"cqg.rtd\", ,\"ContractData\",C493, \"PerCentNetLastTrade\",, \"T\")/100,\"\")","v":""},{"$f":"RTD(\"cqg.rtd\", ,\"ContractData\", C493, \"T_CVol\",, \"T\")","v":2},493,{"$f":"IFERROR(RANK($J493,$J$1:J$503)+COUNTIF($J$1:J493,J493)-1,\"\")","v":""},"S.US.WTW",{"$error":"#N/A"}]
["S.US.WY",1,"S.US.WY",{"$f":"RTD(\"cqg.rtd\", ,\"ContractData\",C494, \"LongDescription\",, \"T\")","v":"Weyerhaeuser Company"},null,null,null,{"$f":"RTD(\"cqg.rtd\", ,\"ContractData\",C494, \"LastTradeToday\",, \"T\")","v":""},{"$f":"RTD(\"cqg.rtd\", ,\"ContractData\",C494, \"NetLastTradeToday\",, \"T\")","v":""},{"$f":"IFERROR(RTD(\"cqg.rtd\", ,\"ContractData\",C494, \"PerCentNetLastTrade\",, \"T\")/100,\"\")","v":""},{"$f":"RTD(\"cqg.rtd\", ,\"ContractData\", C494, \"T_CVol\",, \"T\")","v":3728},494,{"$f":"IFERROR(RANK($J494,$J$1:J$503)+COUNTIF($J$1:J494,J494)-1,\"\")","v":""},"S.US.WY",{"$error":"#N/A"}]
["S.US.WYNN",1,"S.US.WYNN",{"$f":"RTD(\"cqg.rtd\", ,\"ContractData\",C495, \"LongDescription\",, \"T\")","v":"Wynn Resorts Ltd"},null,null,null,{"$f":"RTD(\"cqg.rtd\", ,\"ContractData\",C495, \"LastTradeToday\",, \"T\")","v":""},{"$f":"RTD(\"cqg.rtd\", ,\"ContractData\",C495, \"NetLastTradeToday\",, \"T\")","v":""},{"$f":"IFERROR(RTD(\"cqg.rtd\", ,\"ContractData\",C495, \"PerCentNetLastTrade\",, \"T\")/100,\"\")","v":""},{"$f":"RTD(\"cqg.rtd\", ,\"ContractData\", C495, \"T_CVol\",, \"T\")","v":6372},495,{"$f":"IFERROR(RANK($J495,$J$1:J$503)+COUNTIF($J$1:J495,J495)-1,\"\")","v":""},"S.US.WYNN",{"$error":"#N/A"}]
["S.US.XEL",1,"S.US.XEL",{"$f":"RTD(\"cqg.rtd\", ,\"ContractData\",C496, \"LongDescription\",, \"T\")","v":"Xcel Energy Inc"},null,null,null,{"$f":"RTD(\"cqg.rtd\", ,\"ContractData\",C496, \"LastTradeToday\",, \"T\")","v":""},{"$f":"RTD(\"cqg.rtd\", ,\"ContractData\",C496, \"NetLastTradeToday\",, \"T\")","v":""},{"$f":"IFERROR(RTD(\"cqg.rtd\", ,\"ContractData\",C496, \"PerCentNetLastTrade\",, \"T\")/100,\"\")","v":""},{"$f":"RTD(\"cqg.rtd\", ,\"ContractData\", C496, \"T_CVol\",, \"T\")","v":365},496,{"$f":"IFERROR(RANK($J496,$J$1:J$503)+COUNTIF($J$1:J496,J496)-1,\"\")","v":""},"S.US.XEL",{"$error":"#N/A"}]
["S.US.XOM",1,"S.US.XOM",{"$f":"RTD(\"cqg.rtd\", ,\"ContractData\",C497, \"LongDescription\",, \"T\")","v":"Exxon Mobil Corp"},null,null,null,{"$f":"RTD(\"cqg.rtd\", ,\"ContractData\",C497, \"LastTradeToday\",, \"T\")","v":""},{"$f":"RTD(\"cqg.rtd\", ,\"ContractData\",C497, \"NetLastTradeToday\",, \"T\")","v":""},{"$f":"IFERROR(RTD(\"cqg.rtd\", ,\"ContractData\",C497, \"PerCentNetLastTrade\",, \"T\")/100,\"\")","v":""},{"$f":"RTD(\"cqg.rtd\", ,\"ContractData\", C497, \"T_CVol\",, \"T\")","v":14360},497,{"$f":"IFERROR(RANK($J497,$J$1:J$503)+COUNTIF($J$1:J497,J497)-1,\"\")","v":""},"S.US.XOM",{"$error":"#N/A"}]
["S.US.XYL",1,"S.US.XYL",{"$f":"RTD(\"cqg.rtd\", ,\"ContractData\",C498, \"LongDescription\",, \"T\")","v":"Xylem, Inc."},null,null,null,{"$f":"RTD(\"cqg.rtd\", ,\"ContractData\",C498, \"LastTradeToday\",, \"T\")","v":""},{"$f":"RTD(\"cqg.rtd\", ,\"ContractData\",C498, \"NetLastTradeToday\",, \"T\")","v":""},{"$f":"IFERROR(RTD(\"cqg.rtd\", ,\"ContractData\",C498, \"PerCentNetLastTrade\",, \"T\")/100,\"\")","v":""},{"$f":"RTD(\"cqg.rtd\", ,\"ContractData\", C498, \"T_CVol\",, \"T\")","v":418},498,{"$f":"IFERROR(RANK($J498,$J$1:J$503)+COUNTIF($J$1:J498,J498)-1,\"\")","v":""},"S.US.XYL",{"$error":"#N/A"}]
["S.US.XYZ",1,"S.US.XYZ",{"$f":"RTD(\"cqg.rtd\", ,\"ContractData\",C499, \"LongDescription\",, \"T\")","v":"Square, Inc"},null,null,null,{"$f":"RTD(\"cqg.rtd\", ,\"ContractData\",C499, \"LastTradeToday\",, \"T\")","v":""},{"$f":"RTD(\"cqg.rtd\", ,\"ContractData\",C499, \"NetLastTradeToday\",, \"T\")","v":""},{"$f":"IFERROR(RTD(\"cqg.rtd\", ,\"ContractData\",C499, \"PerCentNetLastTrade\",, \"T\")/100,\"\")","v":""},{"$f":"RTD(\"cqg.rtd\", ,\"ContractData\", C499, \"T_CVol\",, \"T\")","v":30168},499,{"$f":"IFERROR(RANK($J499,$J$1:J$503)+COUNTIF($J$1:J499,J499)-1,\"\")","v":""},"S.US.XYZ",{"$error":"#N/A"}]
["S.US.YUM",1,"S.US.YUM",{"$f":"RTD(\"cqg.rtd\", ,\"ContractData\",C500, \"LongDescription\",, \"T\")","v":"Yum Brands Inc"},null,null,null,{"$f":"RTD(\"cqg.rtd\", ,\"ContractData\",C500, \"LastTradeToday\",, \"T\")","v":""},{"$f":"RTD(\"cqg.rtd\", ,\"ContractData\",C500, \"NetLastTradeToday\",, \"T\")","v":""},{"$f":"IFERROR(RTD(\"cqg.rtd\", ,\"ContractData\",C500, \"PerCentNetLastTrade\",, \"T\")/100,\"\")","v":""},{"$f":"RTD(\"cqg.rtd\", ,\"ContractData\", C500, \"T_CVol\",, \"T\")","v":246},500,{"$f":"IFERROR(RANK($J500,$J$1:J$503)+COUNTIF($J$1:J500,J500)-1,\"\")","v":""},"S.US.YUM",{"$error":"#N/A"}]
["S.US.ZBH",1,"S.US.ZBH",{"$f":"RTD(\"cqg.rtd\", ,\"ContractData\",C501, \"LongDescription\",, \"T\")","v":"Zimmer Biomet Holdings, Inc"},null,null,null,{"$f":"RTD(\"cqg.rtd\", ,\"ContractData\",C501, \"LastTradeToday\",, \"T\")","v":""},{"$f":"RTD(\"cqg.rtd\", ,\"ContractData\",C501, \"NetLastTradeToday\",, \"T\")","v":""},{"$f":"IFERROR(RTD(\"cqg.rtd\", ,\"ContractData\",C501, \"PerCentNetLastTrade\",, \"T\")/100,\"\")","v":""},{"$f":"RTD(\"cqg.rtd\", ,\"ContractData\", C501, \"T_CVol\",, \"T\")","v":86},501,{"$f":"IFERROR(RANK($J501,$J$1:J$503)+COUNTIF($J$1:J501,J501)-1,\"\")","v":""},"S.US.ZBH",{"$error":"#N/A"}]
["S.US.ZBRA",1,"S.US.ZBRA",{"$f":"RTD(\"cqg.rtd\", ,\"ContractData\",C502, \"LongDescription\",, \"T\")","v":"Zebra Technologies Corp"},null,null,null,{"$f":"RTD(\"cqg.rtd\", ,\"ContractData\",C502, \"LastTradeToday\",, \"T\")","v":""},{"$f":"RTD(\"cqg.rtd\", ,\"ContractData\",C502, \"NetLastTradeToday\",, \"T\")","v":""},{"$f":"IFERROR(RTD(\"cqg.rtd\", ,\"ContractData\",C502, \"PerCentNetLastTrade\",, \"T\")/100,\"\")","v":""},{"$f":"RTD(\"cqg.rtd\", ,\"ContractData\", C502, \"T_CVol\",, \"T\")","v":10},502,{"$f":"IFERROR(RANK($J502,$J$1:J$503)+COUNTIF($J$1:J502,J502)-1,\"\")","v":""},"S.US.ZBRA",{"$error":"#N/A"}]
["S.US.ZTS",1,"S.US.ZTS",{"$f":"RTD(\"cqg.rtd\", ,\"ContractData\",C503, \"LongDescription\",, \"T\")","v":"Zoetis Inc"},null,null,null,{"$f":"RTD(\"cqg.rtd\", ,\"ContractData\",C503, \"LastTradeToday\",, \"T\")","v":""},{"$f":"RTD(\"cqg.rtd\", ,\"ContractData\",C503, \"NetLastTradeToday\",, \"T\")","v":""},{"$f":"IFERROR(RTD(\"cqg.rtd\", ,\"ContractData\",C503, \"PerCentNetLastTrade\",, \"T\")/100,\"\")","v":""},{"$f":"RTD(\"cqg.rtd\", ,\"ContractData\", C503, \"T_CVol\",, \"T\")","v":161},503,{"$f":"IFERROR(RANK($J503,$J$1:J$503)+COUNTIF($J$1:J503,J503)-1,\"\")","v":""},"S.US.ZTS",{"$error":"#N/A"}]
[]
[null,{"$f":"SUM(B1:B503)/503","v":1}]