{"text_format":"1","workbook":"xlsx","n_sheets":2,"sheets":["Display","QQQ"],"not_rendered":{"charts":2,"images":3,"macros":1,"external_links":0,"defined_names":0,"comments":0,"pivot_tables":0},"unopened":[],"bounds":{"document_bytes":16777216,"sheet_cells":100000,"rows_first":2000,"rows_last":500,"rows_between":2000,"halvings":0,"cell_chars":16384,"cell_head_chars":4096},"cells_cut":0,"cells_raw":0,"read":"whole","date_system":"1900"}

{"sheet":"Display","index":0,"n_rows":52,"n_cols":28,"rows_kept":52,"cut":false,"hidden":false,"merged":[[26,18,26,30],[6,2,6,6],[7,2,7,6],[8,2,8,6],[14,2,14,6],[10,2,10,6],[11,2,11,6],[12,2,12,6],[13,2,13,6],[8,14,8,15],[7,14,7,15],[6,14,6,15],[20,2,20,6],[20,14,20,15],[21,2,21,6],[21,14,21,15],[1,1,2,4],[1,27,2,30],[1,5,2,26],[4,18,4,30],[17,2,17,6],[17,14,17,15],[15,2,15,6],[5,2,5,6],[15,14,15,15],[14,14,14,15],[13,14,13,15],[12,14,12,15],[11,14,11,15],[10,14,10,15],[9,14,9,15],[9,2,9,6],[5,14,5,15],[4,1,4,16],[18,2,18,6],[18,14,18,15],[19,2,19,6],[19,14,19,15],[16,2,16,6],[16,14,16,15],[22,2,22,6],[22,14,22,15],[23,2,23,6],[23,14,23,15],[24,2,24,6],[24,14,24,15],[25,2,25,6],[25,14,25,15],[26,2,26,6],[26,14,26,15],[27,2,27,6],[27,14,27,15],[28,2,28,6],[28,14,28,15],[29,2,29,6],[29,14,29,15],[30,2,30,6],[30,14,30,15],[31,2,31,6],[31,14,31,15],[33,2,33,6],[33,14,33,15],[34,2,34,6],[34,14,34,15],[32,2,32,6],[32,14,32,15],[44,2,44,6],[44,14,44,15],[45,2,45,6],[45,14,45,15],[40,2,40,6],[40,14,40,15],[42,2,42,6],[42,14,42,15],[41,2,41,6],[41,14,41,15],[43,2,43,6],[43,14,43,15],[48,25,48,30],[35,2,35,6],[35,14,35,15],[36,2,36,6],[36,14,36,15],[48,9,48,24],[46,2,46,6],[46,14,46,15],[47,2,47,6],[47,14,47,15],[37,2,37,6],[37,14,37,15],[38,2,38,6],[38,14,38,15],[39,2,39,6],[39,14,39,15]]}
[]
[null,null,null,null,null,"CQG Invesco QQQ ETF",null,null,null,null,null,null,null,null,null,null,null,null,null,null,null,null,null,null,null,null,null,{"$f":"RTD(\"cqg.rtd\", ,\"SystemInfo\", \"Linetime\")","v":45894.310868055552}]
[]
[]
[null,"Exchange Traded Funds Performance",null,null,null,null,null,null,null,null,null,null,null,null,null,null,null,null,"Top 15 Performing Companies "]
[null,"Symbol","Description",null,null,null,null,"Last","NC","%NC","NC/ATR","Open","High","Low","Volume",null,"Ratio"]
[null,"QQQ",{"$f":"RTD(\"cqg.rtd\", ,\"ContractData\",B7, \"LongDescription\",, \"T\")","v":"Invesco QQQ Trust Series 1"},null,null,null,null,{"$f":"RTD(\"cqg.rtd\", ,\"ContractData\",B7, \"LastTradeToday\",, \"T\")","v":""},{"$f":"RTD(\"cqg.rtd\", ,\"ContractData\",B7, \"NetLastTradeToday\",, \"T\")","v":""},{"$f":"IFERROR(RTD(\"cqg.rtd\", ,\"ContractData\",B7, \"PerCentNetLastTrade\",, \"T\")/100,\"\")","v":""},{"$f":"IFERROR(I7/RTD(\"cqg.rtd\",,\"StudyData\",B7, \"ATR\", \"MaType=Sim,Period=10\", \"ATR\",\"D\",\"-1\",\"ALL\",,,\"FALSE\",\"T\")/100,\"\")","v":""},{"$f":"RTD(\"cqg.rtd\", ,\"ContractData\",B7, \"OPen\",, \"T\")","v":""},{"$f":"RTD(\"cqg.rtd\", ,\"ContractData\", B7, \"HIgh\",, \"T\")","v":""},{"$f":"RTD(\"cqg.rtd\", ,\"ContractData\",B7, \"LOw\",, \"T\")","v":""},{"$f":"RTD(\"cqg.rtd\", ,\"ContractData\",B7, \"T_CVol\",, \"T\")","v":697004},null,{"$f":" IFERROR(O7/RTD(\"cqg.rtd\",,\"StudyData\",B7, \"MA\", \"InputChoice=Vol,MAType=Sim,Period=21\", \"MA\",\"D\",\"-1\",\"all\",,,,\"T\"),\"\")","v":1.5066295441947443E-2}]
[null,"SPY",{"$f":"RTD(\"cqg.rtd\", ,\"ContractData\",B8, \"LongDescription\",, \"T\")","v":"SPDR S&P 500"},null,null,null,null,{"$f":"RTD(\"cqg.rtd\", ,\"ContractData\",B8, \"LastTradeToday\",, \"T\")","v":""},{"$f":"RTD(\"cqg.rtd\", ,\"ContractData\",B8, \"NetLastTradeToday\",, \"T\")","v":""},{"$f":"IFERROR(RTD(\"cqg.rtd\", ,\"ContractData\",B8, \"PerCentNetLastTrade\",, \"T\")/100,\"\")","v":""},{"$f":"IFERROR(I8/RTD(\"cqg.rtd\",,\"StudyData\",B8, \"ATR\", \"MaType=Sim,Period=10\", \"ATR\",\"D\",\"-1\",\"ALL\",,,\"FALSE\",\"T\")/100,\"\")","v":""},{"$f":"RTD(\"cqg.rtd\", ,\"ContractData\",B8, \"OPen\",, \"T\")","v":""},{"$f":"RTD(\"cqg.rtd\", ,\"ContractData\", B8, \"HIgh\",, \"T\")","v":""},{"$f":"RTD(\"cqg.rtd\", ,\"ContractData\",B8, \"LOw\",, \"T\")","v":""},{"$f":"RTD(\"cqg.rtd\", ,\"ContractData\",B8, \"T_CVol\",, \"T\")","v":470961},null,{"$f":" IFERROR(O8/RTD(\"cqg.rtd\",,\"StudyData\",B8, \"MA\", \"InputChoice=Vol,MAType=Sim,Period=21\", \"MA\",\"D\",\"-1\",\"all\",,,,\"T\"),\"\")","v":6.6243345721505335E-3}]
[null,"XLF",{"$f":"RTD(\"cqg.rtd\", ,\"ContractData\",B9, \"LongDescription\",, \"T\")","v":"Financial Select Sector SPDR"},null,null,null,null,{"$f":"RTD(\"cqg.rtd\", ,\"ContractData\",B9, \"LastTradeToday\",, \"T\")","v":""},{"$f":"RTD(\"cqg.rtd\", ,\"ContractData\",B9, \"NetLastTradeToday\",, \"T\")","v":""},{"$f":"IFERROR(RTD(\"cqg.rtd\", ,\"ContractData\",B9, \"PerCentNetLastTrade\",, \"T\")/100,\"\")","v":""},{"$f":"IFERROR(I9/RTD(\"cqg.rtd\",,\"StudyData\",B9, \"ATR\", \"MaType=Sim,Period=10\", \"ATR\",\"D\",\"-1\",\"ALL\",,,\"FALSE\",\"T\")/100,\"\")","v":""},{"$f":"RTD(\"cqg.rtd\", ,\"ContractData\",B9, \"OPen\",, \"T\")","v":""},{"$f":"RTD(\"cqg.rtd\", ,\"ContractData\", B9, \"HIgh\",, \"T\")","v":""},{"$f":"RTD(\"cqg.rtd\", ,\"ContractData\",B9, \"LOw\",, \"T\")","v":""},{"$f":"RTD(\"cqg.rtd\", ,\"ContractData\",B9, \"T_CVol\",, \"T\")","v":32698},null,{"$f":" IFERROR(O9/RTD(\"cqg.rtd\",,\"StudyData\",B9, \"MA\", \"InputChoice=Vol,MAType=Sim,Period=21\", \"MA\",\"D\",\"-1\",\"all\",,,,\"T\"),\"\")","v":8.7078664726696845E-4}]
[null,"S.XLY",{"$f":"RTD(\"cqg.rtd\", ,\"ContractData\",B10, \"LongDescription\",, \"T\")","v":"Consumer Discretionary Select SectorSPDR"},null,null,null,null,{"$f":"RTD(\"cqg.rtd\", ,\"ContractData\",B10, \"LastTradeToday\",, \"T\")","v":""},{"$f":"RTD(\"cqg.rtd\", ,\"ContractData\",B10, \"NetLastTradeToday\",, \"T\")","v":""},{"$f":"IFERROR(RTD(\"cqg.rtd\", ,\"ContractData\",B10, \"PerCentNetLastTrade\",, \"T\")/100,\"\")","v":""},{"$f":"IFERROR(I10/RTD(\"cqg.rtd\",,\"StudyData\",B10, \"ATR\", \"MaType=Sim,Period=10\", \"ATR\",\"D\",\"-1\",\"ALL\",,,\"FALSE\",\"T\")/100,\"\")","v":""},{"$f":"RTD(\"cqg.rtd\", ,\"ContractData\",B10, \"OPen\",, \"T\")","v":""},{"$f":"RTD(\"cqg.rtd\", ,\"ContractData\", B10, \"HIgh\",, \"T\")","v":""},{"$f":"RTD(\"cqg.rtd\", ,\"ContractData\",B10, \"LOw\",, \"T\")","v":""},{"$f":"RTD(\"cqg.rtd\", ,\"ContractData\",B10, \"T_CVol\",, \"T\")","v":754},null,{"$f":" IFERROR(O10/RTD(\"cqg.rtd\",,\"StudyData\",B10, \"MA\", \"InputChoice=Vol,MAType=Sim,Period=21\", \"MA\",\"D\",\"-1\",\"all\",,,,\"T\"),\"\")","v":1.2346552331697169E-4}]
[null,"S.FXI",{"$f":"RTD(\"cqg.rtd\", ,\"ContractData\",B11, \"LongDescription\",, \"T\")","v":"iShares China Large-Cap ETF"},null,null,null,null,{"$f":"RTD(\"cqg.rtd\", ,\"ContractData\",B11, \"LastTradeToday\",, \"T\")","v":""},{"$f":"RTD(\"cqg.rtd\", ,\"ContractData\",B11, \"NetLastTradeToday\",, \"T\")","v":""},{"$f":"IFERROR(RTD(\"cqg.rtd\", ,\"ContractData\",B11, \"PerCentNetLastTrade\",, \"T\")/100,\"\")","v":""},{"$f":"IFERROR(I11/RTD(\"cqg.rtd\",,\"StudyData\",B11, \"ATR\", \"MaType=Sim,Period=10\", \"ATR\",\"D\",\"-1\",\"ALL\",,,\"FALSE\",\"T\")/100,\"\")","v":""},{"$f":"RTD(\"cqg.rtd\", ,\"ContractData\",B11, \"OPen\",, \"T\")","v":""},{"$f":"RTD(\"cqg.rtd\", ,\"ContractData\", B11, \"HIgh\",, \"T\")","v":""},{"$f":"RTD(\"cqg.rtd\", ,\"ContractData\",B11, \"LOw\",, \"T\")","v":""},{"$f":"RTD(\"cqg.rtd\", ,\"ContractData\",B11, \"T_CVol\",, \"T\")","v":906563},null,{"$f":" IFERROR(O11/RTD(\"cqg.rtd\",,\"StudyData\",B11, \"MA\", \"InputChoice=Vol,MAType=Sim,Period=21\", \"MA\",\"D\",\"-1\",\"all\",,,,\"T\"),\"\")","v":3.2088062935945641E-2}]
[null,"IWF",{"$f":"RTD(\"cqg.rtd\", ,\"ContractData\",B12, \"LongDescription\",, \"T\")","v":"iShares Russell 1000 Growth ETF"},null,null,null,null,{"$f":"RTD(\"cqg.rtd\", ,\"ContractData\",B12, \"LastTradeToday\",, \"T\")","v":""},{"$f":"RTD(\"cqg.rtd\", ,\"ContractData\",B12, \"NetLastTradeToday\",, \"T\")","v":""},{"$f":"IFERROR(RTD(\"cqg.rtd\", ,\"ContractData\",B12, \"PerCentNetLastTrade\",, \"T\")/100,\"\")","v":""},{"$f":"IFERROR(I12/RTD(\"cqg.rtd\",,\"StudyData\",B12, \"ATR\", \"MaType=Sim,Period=10\", \"ATR\",\"D\",\"-1\",\"ALL\",,,\"FALSE\",\"T\")/100,\"\")","v":""},{"$f":"RTD(\"cqg.rtd\", ,\"ContractData\",B12, \"OPen\",, \"T\")","v":""},{"$f":"RTD(\"cqg.rtd\", ,\"ContractData\", B12, \"HIgh\",, \"T\")","v":""},{"$f":"RTD(\"cqg.rtd\", ,\"ContractData\",B12, \"LOw\",, \"T\")","v":""},{"$f":"RTD(\"cqg.rtd\", ,\"ContractData\",B12, \"T_CVol\",, \"T\")","v":58},null,{"$f":" IFERROR(O12/RTD(\"cqg.rtd\",,\"StudyData\",B12, \"MA\", \"InputChoice=Vol,MAType=Sim,Period=21\", \"MA\",\"D\",\"-1\",\"all\",,,,\"T\"),\"\")","v":6.3438180638813096E-5}]
[null,"IWO",{"$f":"RTD(\"cqg.rtd\", ,\"ContractData\",B13, \"LongDescription\",, \"T\")","v":"iShares Russell 2000 Growth ETF"},null,null,null,null,{"$f":"RTD(\"cqg.rtd\", ,\"ContractData\",B13, \"LastTradeToday\",, \"T\")","v":""},{"$f":"RTD(\"cqg.rtd\", ,\"ContractData\",B13, \"NetLastTradeToday\",, \"T\")","v":""},{"$f":"IFERROR(RTD(\"cqg.rtd\", ,\"ContractData\",B13, \"PerCentNetLastTrade\",, \"T\")/100,\"\")","v":""},{"$f":"IFERROR(I13/RTD(\"cqg.rtd\",,\"StudyData\",B13, \"ATR\", \"MaType=Sim,Period=10\", \"ATR\",\"D\",\"-1\",\"ALL\",,,\"FALSE\",\"T\")/100,\"\")","v":""},{"$f":"RTD(\"cqg.rtd\", ,\"ContractData\",B13, \"OPen\",, \"T\")","v":""},{"$f":"RTD(\"cqg.rtd\", ,\"ContractData\", B13, \"HIgh\",, \"T\")","v":""},{"$f":"RTD(\"cqg.rtd\", ,\"ContractData\",B13, \"LOw\",, \"T\")","v":""},{"$f":"RTD(\"cqg.rtd\", ,\"ContractData\",B13, \"T_CVol\",, \"T\")","v":7035},null,{"$f":" IFERROR(O13/RTD(\"cqg.rtd\",,\"StudyData\",B13, \"MA\", \"InputChoice=Vol,MAType=Sim,Period=21\", \"MA\",\"D\",\"-1\",\"all\",,,,\"T\"),\"\")","v":2.228561886319582E-2}]
[null,"EP",{"$f":"RTD(\"cqg.rtd\", ,\"ContractData\",B14, \"LongDescription\",, \"T\")","v":"E-Mini S&P 500, Sep 25"},null,null,null,null,{"$f":"RTD(\"cqg.rtd\", ,\"ContractData\",B14, \"LastTradeToday\",, \"T\")","v":6463.25},{"$f":"RTD(\"cqg.rtd\", ,\"ContractData\",B14, \"NetLastTradeToday\",, \"T\")","v":-20},{"$f":"IFERROR(RTD(\"cqg.rtd\", ,\"ContractData\",B14, \"PerCentNetLastTrade\",, \"T\")/100,\"\")","v":-3.0848725562025222E-3},{"$f":"IFERROR(I14/RTD(\"cqg.rtd\",,\"StudyData\",B14, \"ATR\", \"MaType=Sim,Period=10\", \"ATR\",\"D\",\"-1\",\"ALL\",,,\"FALSE\",\"T\")/100,\"\")","v":-3.350083752093802E-3},{"$f":"RTD(\"cqg.rtd\", ,\"ContractData\",B14, \"OPen\",, \"T\")","v":6493},{"$f":"RTD(\"cqg.rtd\", ,\"ContractData\", B14, \"HIgh\",, \"T\")","v":6494},{"$f":"RTD(\"cqg.rtd\", ,\"ContractData\",B14, \"LOw\",, \"T\")","v":6462},{"$f":"RTD(\"cqg.rtd\", ,\"ContractData\",B14, \"T_CVol\",, \"T\")","v":101641},null,{"$f":" IFERROR(O14/RTD(\"cqg.rtd\",,\"StudyData\",B14, \"MA\", \"InputChoice=Vol,MAType=Sim,Period=21\", \"MA\",\"D\",\"-1\",\"all\",,,,\"T\"),\"\")","v":7.8706119292263968E-2}]
[null,"XLE",{"$f":"RTD(\"cqg.rtd\", ,\"ContractData\",B15, \"LongDescription\",, \"T\")","v":"Energy Select Sector SPDR"},null,null,null,null,{"$f":"RTD(\"cqg.rtd\", ,\"ContractData\",B15, \"LastTradeToday\",, \"T\")","v":""},{"$f":"RTD(\"cqg.rtd\", ,\"ContractData\",B15, \"NetLastTradeToday\",, \"T\")","v":""},{"$f":"IFERROR(RTD(\"cqg.rtd\", ,\"ContractData\",B15, \"PerCentNetLastTrade\",, \"T\")/100,\"\")","v":""},{"$f":"IFERROR(I15/RTD(\"cqg.rtd\",,\"StudyData\",B15, \"ATR\", \"MaType=Sim,Period=10\", \"ATR\",\"D\",\"-1\",\"ALL\",,,\"FALSE\",\"T\")/100,\"\")","v":""},{"$f":"RTD(\"cqg.rtd\", ,\"ContractData\",B15, \"OPen\",, \"T\")","v":""},{"$f":"RTD(\"cqg.rtd\", ,\"ContractData\", B15, \"HIgh\",, \"T\")","v":""},{"$f":"RTD(\"cqg.rtd\", ,\"ContractData\",B15, \"LOw\",, \"T\")","v":""},{"$f":"RTD(\"cqg.rtd\", ,\"ContractData\",B15, \"T_CVol\",, \"T\")","v":8409},null,{"$f":" IFERROR(O15/RTD(\"cqg.rtd\",,\"StudyData\",B15, \"MA\", \"InputChoice=Vol,MAType=Sim,Period=21\", \"MA\",\"D\",\"-1\",\"all\",,,,\"T\"),\"\")","v":5.8040087137073123E-4}]
[null,"USO",{"$f":"RTD(\"cqg.rtd\", ,\"ContractData\",B16, \"LongDescription\",, \"T\")","v":"United States Oil Fund"},null,null,null,null,{"$f":"RTD(\"cqg.rtd\", ,\"ContractData\",B16, \"LastTradeToday\",, \"T\")","v":""},{"$f":"RTD(\"cqg.rtd\", ,\"ContractData\",B16, \"NetLastTradeToday\",, \"T\")","v":""},{"$f":"IFERROR(RTD(\"cqg.rtd\", ,\"ContractData\",B16, \"PerCentNetLastTrade\",, \"T\")/100,\"\")","v":""},{"$f":"IFERROR(I16/RTD(\"cqg.rtd\",,\"StudyData\",B16, \"ATR\", \"MaType=Sim,Period=10\", \"ATR\",\"D\",\"-1\",\"ALL\",,,\"FALSE\",\"T\")/100,\"\")","v":""},{"$f":"RTD(\"cqg.rtd\", ,\"ContractData\",B16, \"OPen\",, \"T\")","v":""},{"$f":"RTD(\"cqg.rtd\", ,\"ContractData\", B16, \"HIgh\",, \"T\")","v":""},{"$f":"RTD(\"cqg.rtd\", ,\"ContractData\",B16, \"LOw\",, \"T\")","v":""},{"$f":"RTD(\"cqg.rtd\", ,\"ContractData\",B16, \"T_CVol\",, \"T\")","v":36445},null,{"$f":" IFERROR(O16/RTD(\"cqg.rtd\",,\"StudyData\",B16, \"MA\", \"InputChoice=Vol,MAType=Sim,Period=21\", \"MA\",\"D\",\"-1\",\"all\",,,,\"T\"),\"\")","v":7.2570307063013952E-3}]
[null,null,"Top 15 Description",null,null,null,null,"Last","NC","%NC","NC/ATR","Open","High","Low","Volume",null,"Ratio"]
[{"$f":"TRIM(QQQ!O1)","v":{"$error":"#N/A"}},"News",{"$f":"IFERROR(RTD(\"cqg.rtd\", ,\"ContractData\",A18, \"LongDescription\",, \"T\")&\" (\"&RIGHT(A18,LEN(A18)-5)&\")\",\"\")","v":""},null,null,null,null,{"$f":"IFERROR(RTD(\"cqg.rtd\", ,\"ContractData\",A18, \"LastTradeToday\",, \"T\"),\"\")","v":""},{"$f":"IFERROR(RTD(\"cqg.rtd\", ,\"ContractData\",A18, \"NetLastTradeToday\",, \"T\"),\"\")","v":""},{"$f":"IFERROR(RTD(\"cqg.rtd\", ,\"ContractData\",A18, \"PerCentNetLastTrade\",, \"T\")/100,\"\")","v":""},{"$f":"IFERROR(I18/RTD(\"cqg.rtd\",,\"StudyData\",A18, \"ATR\", \"MaType=Sim,Period=10\", \"ATR\",\"D\",\"-1\",\"ALL\",,,\"FALSE\",\"T\")/100,\"\")","v":""},{"$f":"IFERROR(RTD(\"cqg.rtd\", ,\"ContractData\",A18, \"OPen\",, \"T\"),\"\")","v":""},{"$f":"IFERROR(RTD(\"cqg.rtd\", ,\"ContractData\", A18, \"HIgh\",, \"T\"),\"\")","v":""},{"$f":"IFERROR(RTD(\"cqg.rtd\", ,\"ContractData\",A18, \"LOw\",, \"T\"),\"\")","v":""},{"$f":"IFERROR(RTD(\"cqg.rtd\", ,\"ContractData\",A18, \"T_CVol\",, \"T\"),\"\")","v":""},null,{"$f":" IFERROR(O18/RTD(\"cqg.rtd\",,\"StudyData\",A18, \"MA\", \"InputChoice=Vol,MAType=Sim,Period=21\", \"MA\",\"D\",\"-1\",\"all\",,,,\"T\"),\"\")","v":""},{"$f":"QQQ!R1","v":{"$error":"#N/A"}}]
[{"$f":"TRIM(QQQ!O2)","v":{"$error":"#N/A"}},"News",{"$f":"IFERROR(RTD(\"cqg.rtd\", ,\"ContractData\",A19, \"LongDescription\",, \"T\")&\" (\"&RIGHT(A19,LEN(A19)-5)&\")\",\"\")","v":""},null,null,null,null,{"$f":"IFERROR(RTD(\"cqg.rtd\", ,\"ContractData\",A19, \"LastTradeToday\",, \"T\"),\"\")","v":""},{"$f":"IFERROR(RTD(\"cqg.rtd\", ,\"ContractData\",A19, \"NetLastTradeToday\",, \"T\"),\"\")","v":""},{"$f":"IFERROR(RTD(\"cqg.rtd\", ,\"ContractData\",A19, \"PerCentNetLastTrade\",, \"T\")/100,\"\")","v":""},{"$f":"IFERROR(I19/RTD(\"cqg.rtd\",,\"StudyData\",A19, \"ATR\", \"MaType=Sim,Period=10\", \"ATR\",\"D\",\"-1\",\"ALL\",,,\"FALSE\",\"T\")/100,\"\")","v":""},{"$f":"IFERROR(RTD(\"cqg.rtd\", ,\"ContractData\",A19, \"OPen\",, \"T\"),\"\")","v":""},{"$f":"IFERROR(RTD(\"cqg.rtd\", ,\"ContractData\", A19, \"HIgh\",, \"T\"),\"\")","v":""},{"$f":"IFERROR(RTD(\"cqg.rtd\", ,\"ContractData\",A19, \"LOw\",, \"T\"),\"\")","v":""},{"$f":"IFERROR(RTD(\"cqg.rtd\", ,\"ContractData\",A19, \"T_CVol\",, \"T\"),\"\")","v":""},null,{"$f":" IFERROR(O19/RTD(\"cqg.rtd\",,\"StudyData\",A19, \"MA\", \"InputChoice=Vol,MAType=Sim,Period=21\", \"MA\",\"D\",\"-1\",\"all\",,,,\"T\"),\"\")","v":""},{"$f":"QQQ!R2","v":{"$error":"#N/A"}}]
[{"$f":"TRIM(QQQ!O3)","v":{"$error":"#N/A"}},"News",{"$f":"IFERROR(RTD(\"cqg.rtd\", ,\"ContractData\",A20, \"LongDescription\",, \"T\")&\" (\"&RIGHT(A20,LEN(A20)-5)&\")\",\"\")","v":""},null,null,null,null,{"$f":"IFERROR(RTD(\"cqg.rtd\", ,\"ContractData\",A20, \"LastTradeToday\",, \"T\"),\"\")","v":""},{"$f":"IFERROR(RTD(\"cqg.rtd\", ,\"ContractData\",A20, \"NetLastTradeToday\",, \"T\"),\"\")","v":""},{"$f":"IFERROR(RTD(\"cqg.rtd\", ,\"ContractData\",A20, \"PerCentNetLastTrade\",, \"T\")/100,\"\")","v":""},{"$f":"IFERROR(I20/RTD(\"cqg.rtd\",,\"StudyData\",A20, \"ATR\", \"MaType=Sim,Period=10\", \"ATR\",\"D\",\"-1\",\"ALL\",,,\"FALSE\",\"T\")/100,\"\")","v":""},{"$f":"IFERROR(RTD(\"cqg.rtd\", ,\"ContractData\",A20, \"OPen\",, \"T\"),\"\")","v":""},{"$f":"IFERROR(RTD(\"cqg.rtd\", ,\"ContractData\", A20, \"HIgh\",, \"T\"),\"\")","v":""},{"$f":"IFERROR(RTD(\"cqg.rtd\", ,\"ContractData\",A20, \"LOw\",, \"T\"),\"\")","v":""},{"$f":"IFERROR(RTD(\"cqg.rtd\", ,\"ContractData\",A20, \"T_CVol\",, \"T\"),\"\")","v":""},null,{"$f":" IFERROR(O20/RTD(\"cqg.rtd\",,\"StudyData\",A20, \"MA\", \"InputChoice=Vol,MAType=Sim,Period=21\", \"MA\",\"D\",\"-1\",\"all\",,,,\"T\"),\"\")","v":""},{"$f":"QQQ!R3","v":{"$error":"#N/A"}}]
[{"$f":"TRIM(QQQ!O4)","v":{"$error":"#N/A"}},"News",{"$f":"IFERROR(RTD(\"cqg.rtd\", ,\"ContractData\",A21, \"LongDescription\",, \"T\")&\" (\"&RIGHT(A21,LEN(A21)-5)&\")\",\"\")","v":""},null,null,null,null,{"$f":"IFERROR(RTD(\"cqg.rtd\", ,\"ContractData\",A21, \"LastTradeToday\",, \"T\"),\"\")","v":""},{"$f":"IFERROR(RTD(\"cqg.rtd\", ,\"ContractData\",A21, \"NetLastTradeToday\",, \"T\"),\"\")","v":""},{"$f":"IFERROR(RTD(\"cqg.rtd\", ,\"ContractData\",A21, \"PerCentNetLastTrade\",, \"T\")/100,\"\")","v":""},{"$f":"IFERROR(I21/RTD(\"cqg.rtd\",,\"StudyData\",A21, \"ATR\", \"MaType=Sim,Period=10\", \"ATR\",\"D\",\"-1\",\"ALL\",,,\"FALSE\",\"T\")/100,\"\")","v":""},{"$f":"IFERROR(RTD(\"cqg.rtd\", ,\"ContractData\",A21, \"OPen\",, \"T\"),\"\")","v":""},{"$f":"IFERROR(RTD(\"cqg.rtd\", ,\"ContractData\", A21, \"HIgh\",, \"T\"),\"\")","v":""},{"$f":"IFERROR(RTD(\"cqg.rtd\", ,\"ContractData\",A21, \"LOw\",, \"T\"),\"\")","v":""},{"$f":"IFERROR(RTD(\"cqg.rtd\", ,\"ContractData\",A21, \"T_CVol\",, \"T\"),\"\")","v":""},null,{"$f":" IFERROR(O21/RTD(\"cqg.rtd\",,\"StudyData\",A21, \"MA\", \"InputChoice=Vol,MAType=Sim,Period=21\", \"MA\",\"D\",\"-1\",\"all\",,,,\"T\"),\"\")","v":""},{"$f":"QQQ!R4","v":{"$error":"#N/A"}}]
[{"$f":"TRIM(QQQ!O5)","v":{"$error":"#N/A"}},"News",{"$f":"IFERROR(RTD(\"cqg.rtd\", ,\"ContractData\",A22, \"LongDescription\",, \"T\")&\" (\"&RIGHT(A22,LEN(A22)-5)&\")\",\"\")","v":""},null,null,null,null,{"$f":"IFERROR(RTD(\"cqg.rtd\", ,\"ContractData\",A22, \"LastTradeToday\",, \"T\"),\"\")","v":""},{"$f":"IFERROR(RTD(\"cqg.rtd\", ,\"ContractData\",A22, \"NetLastTradeToday\",, \"T\"),\"\")","v":""},{"$f":"IFERROR(RTD(\"cqg.rtd\", ,\"ContractData\",A22, \"PerCentNetLastTrade\",, \"T\")/100,\"\")","v":""},{"$f":"IFERROR(I22/RTD(\"cqg.rtd\",,\"StudyData\",A22, \"ATR\", \"MaType=Sim,Period=10\", \"ATR\",\"D\",\"-1\",\"ALL\",,,\"FALSE\",\"T\")/100,\"\")","v":""},{"$f":"IFERROR(RTD(\"cqg.rtd\", ,\"ContractData\",A22, \"OPen\",, \"T\"),\"\")","v":""},{"$f":"IFERROR(RTD(\"cqg.rtd\", ,\"ContractData\", A22, \"HIgh\",, \"T\"),\"\")","v":""},{"$f":"IFERROR(RTD(\"cqg.rtd\", ,\"ContractData\",A22, \"LOw\",, \"T\"),\"\")","v":""},{"$f":"IFERROR(RTD(\"cqg.rtd\", ,\"ContractData\",A22, \"T_CVol\",, \"T\"),\"\")","v":""},null,{"$f":" IFERROR(O22/RTD(\"cqg.rtd\",,\"StudyData\",A22, \"MA\", \"InputChoice=Vol,MAType=Sim,Period=21\", \"MA\",\"D\",\"-1\",\"all\",,,,\"T\"),\"\")","v":""},{"$f":"QQQ!R5","v":{"$error":"#N/A"}}]
[{"$f":"TRIM(QQQ!O6)","v":{"$error":"#N/A"}},"News",{"$f":"IFERROR(RTD(\"cqg.rtd\", ,\"ContractData\",A23, \"LongDescription\",, \"T\")&\" (\"&RIGHT(A23,LEN(A23)-5)&\")\",\"\")","v":""},null,null,null,null,{"$f":"IFERROR(RTD(\"cqg.rtd\", ,\"ContractData\",A23, \"LastTradeToday\",, \"T\"),\"\")","v":""},{"$f":"IFERROR(RTD(\"cqg.rtd\", ,\"ContractData\",A23, \"NetLastTradeToday\",, \"T\"),\"\")","v":""},{"$f":"IFERROR(RTD(\"cqg.rtd\", ,\"ContractData\",A23, \"PerCentNetLastTrade\",, \"T\")/100,\"\")","v":""},{"$f":"IFERROR(I23/RTD(\"cqg.rtd\",,\"StudyData\",A23, \"ATR\", \"MaType=Sim,Period=10\", \"ATR\",\"D\",\"-1\",\"ALL\",,,\"FALSE\",\"T\")/100,\"\")","v":""},{"$f":"IFERROR(RTD(\"cqg.rtd\", ,\"ContractData\",A23, \"OPen\",, \"T\"),\"\")","v":""},{"$f":"IFERROR(RTD(\"cqg.rtd\", ,\"ContractData\", A23, \"HIgh\",, \"T\"),\"\")","v":""},{"$f":"IFERROR(RTD(\"cqg.rtd\", ,\"ContractData\",A23, \"LOw\",, \"T\"),\"\")","v":""},{"$f":"IFERROR(RTD(\"cqg.rtd\", ,\"ContractData\",A23, \"T_CVol\",, \"T\"),\"\")","v":""},null,{"$f":" IFERROR(O23/RTD(\"cqg.rtd\",,\"StudyData\",A23, \"MA\", \"InputChoice=Vol,MAType=Sim,Period=21\", \"MA\",\"D\",\"-1\",\"all\",,,,\"T\"),\"\")","v":""},{"$f":"QQQ!R6","v":{"$error":"#N/A"}}]
[{"$f":"TRIM(QQQ!O7)","v":{"$error":"#N/A"}},"News",{"$f":"IFERROR(RTD(\"cqg.rtd\", ,\"ContractData\",A24, \"LongDescription\",, \"T\")&\" (\"&RIGHT(A24,LEN(A24)-5)&\")\",\"\")","v":""},null,null,null,null,{"$f":"IFERROR(RTD(\"cqg.rtd\", ,\"ContractData\",A24, \"LastTradeToday\",, \"T\"),\"\")","v":""},{"$f":"IFERROR(RTD(\"cqg.rtd\", ,\"ContractData\",A24, \"NetLastTradeToday\",, \"T\"),\"\")","v":""},{"$f":"IFERROR(RTD(\"cqg.rtd\", ,\"ContractData\",A24, \"PerCentNetLastTrade\",, \"T\")/100,\"\")","v":""},{"$f":"IFERROR(I24/RTD(\"cqg.rtd\",,\"StudyData\",A24, \"ATR\", \"MaType=Sim,Period=10\", \"ATR\",\"D\",\"-1\",\"ALL\",,,\"FALSE\",\"T\")/100,\"\")","v":""},{"$f":"IFERROR(RTD(\"cqg.rtd\", ,\"ContractData\",A24, \"OPen\",, \"T\"),\"\")","v":""},{"$f":"IFERROR(RTD(\"cqg.rtd\", ,\"ContractData\", A24, \"HIgh\",, \"T\"),\"\")","v":""},{"$f":"IFERROR(RTD(\"cqg.rtd\", ,\"ContractData\",A24, \"LOw\",, \"T\"),\"\")","v":""},{"$f":"IFERROR(RTD(\"cqg.rtd\", ,\"ContractData\",A24, \"T_CVol\",, \"T\"),\"\")","v":""},null,{"$f":" IFERROR(O24/RTD(\"cqg.rtd\",,\"StudyData\",A24, \"MA\", \"InputChoice=Vol,MAType=Sim,Period=21\", \"MA\",\"D\",\"-1\",\"all\",,,,\"T\"),\"\")","v":""},{"$f":"QQQ!R7","v":{"$error":"#N/A"}}]
[{"$f":"TRIM(QQQ!O8)","v":{"$error":"#N/A"}},"News",{"$f":"IFERROR(RTD(\"cqg.rtd\", ,\"ContractData\",A25, \"LongDescription\",, \"T\")&\" (\"&RIGHT(A25,LEN(A25)-5)&\")\",\"\")","v":""},null,null,null,null,{"$f":"IFERROR(RTD(\"cqg.rtd\", ,\"ContractData\",A25, \"LastTradeToday\",, \"T\"),\"\")","v":""},{"$f":"IFERROR(RTD(\"cqg.rtd\", ,\"ContractData\",A25, \"NetLastTradeToday\",, \"T\"),\"\")","v":""},{"$f":"IFERROR(RTD(\"cqg.rtd\", ,\"ContractData\",A25, \"PerCentNetLastTrade\",, \"T\")/100,\"\")","v":""},{"$f":"IFERROR(I25/RTD(\"cqg.rtd\",,\"StudyData\",A25, \"ATR\", \"MaType=Sim,Period=10\", \"ATR\",\"D\",\"-1\",\"ALL\",,,\"FALSE\",\"T\")/100,\"\")","v":""},{"$f":"IFERROR(RTD(\"cqg.rtd\", ,\"ContractData\",A25, \"OPen\",, \"T\"),\"\")","v":""},{"$f":"IFERROR(RTD(\"cqg.rtd\", ,\"ContractData\", A25, \"HIgh\",, \"T\"),\"\")","v":""},{"$f":"IFERROR(RTD(\"cqg.rtd\", ,\"ContractData\",A25, \"LOw\",, \"T\"),\"\")","v":""},{"$f":"IFERROR(RTD(\"cqg.rtd\", ,\"ContractData\",A25, \"T_CVol\",, \"T\"),\"\")","v":""},null,{"$f":" IFERROR(O25/RTD(\"cqg.rtd\",,\"StudyData\",A25, \"MA\", \"InputChoice=Vol,MAType=Sim,Period=21\", \"MA\",\"D\",\"-1\",\"all\",,,,\"T\"),\"\")","v":""},{"$f":"QQQ!R8","v":{"$error":"#N/A"}}]
[{"$f":"TRIM(QQQ!O9)","v":{"$error":"#N/A"}},"News",{"$f":"IFERROR(RTD(\"cqg.rtd\", ,\"ContractData\",A26, \"LongDescription\",, \"T\")&\" (\"&RIGHT(A26,LEN(A26)-5)&\")\",\"\")","v":""},null,null,null,null,{"$f":"IFERROR(RTD(\"cqg.rtd\", ,\"ContractData\",A26, \"LastTradeToday\",, \"T\"),\"\")","v":""},{"$f":"IFERROR(RTD(\"cqg.rtd\", ,\"ContractData\",A26, \"NetLastTradeToday\",, \"T\"),\"\")","v":""},{"$f":"IFERROR(RTD(\"cqg.rtd\", ,\"ContractData\",A26, \"PerCentNetLastTrade\",, \"T\")/100,\"\")","v":""},{"$f":"IFERROR(I26/RTD(\"cqg.rtd\",,\"StudyData\",A26, \"ATR\", \"MaType=Sim,Period=10\", \"ATR\",\"D\",\"-1\",\"ALL\",,,\"FALSE\",\"T\")/100,\"\")","v":""},{"$f":"IFERROR(RTD(\"cqg.rtd\", ,\"ContractData\",A26, \"OPen\",, \"T\"),\"\")","v":""},{"$f":"IFERROR(RTD(\"cqg.rtd\", ,\"ContractData\", A26, \"HIgh\",, \"T\"),\"\")","v":""},{"$f":"IFERROR(RTD(\"cqg.rtd\", ,\"ContractData\",A26, \"LOw\",, \"T\"),\"\")","v":""},{"$f":"IFERROR(RTD(\"cqg.rtd\", ,\"ContractData\",A26, \"T_CVol\",, \"T\"),\"\")","v":""},null,{"$f":" IFERROR(O26/RTD(\"cqg.rtd\",,\"StudyData\",A26, \"MA\", \"InputChoice=Vol,MAType=Sim,Period=21\", \"MA\",\"D\",\"-1\",\"all\",,,,\"T\"),\"\")","v":""},{"$f":"QQQ!R9","v":{"$error":"#N/A"}}]
[{"$f":"TRIM(QQQ!O10)","v":{"$error":"#N/A"}},"News",{"$f":"IFERROR(RTD(\"cqg.rtd\", ,\"ContractData\",A27, \"LongDescription\",, \"T\")&\" (\"&RIGHT(A27,LEN(A27)-5)&\")\",\"\")","v":""},null,null,null,null,{"$f":"IFERROR(RTD(\"cqg.rtd\", ,\"ContractData\",A27, \"LastTradeToday\",, \"T\"),\"\")","v":""},{"$f":"IFERROR(RTD(\"cqg.rtd\", ,\"ContractData\",A27, \"NetLastTradeToday\",, \"T\"),\"\")","v":""},{"$f":"IFERROR(RTD(\"cqg.rtd\", ,\"ContractData\",A27, \"PerCentNetLastTrade\",, \"T\")/100,\"\")","v":""},{"$f":"IFERROR(I27/RTD(\"cqg.rtd\",,\"StudyData\",A27, \"ATR\", \"MaType=Sim,Period=10\", \"ATR\",\"D\",\"-1\",\"ALL\",,,\"FALSE\",\"T\")/100,\"\")","v":""},{"$f":"IFERROR(RTD(\"cqg.rtd\", ,\"ContractData\",A27, \"OPen\",, \"T\"),\"\")","v":""},{"$f":"IFERROR(RTD(\"cqg.rtd\", ,\"ContractData\", A27, \"HIgh\",, \"T\"),\"\")","v":""},{"$f":"IFERROR(RTD(\"cqg.rtd\", ,\"ContractData\",A27, \"LOw\",, \"T\"),\"\")","v":""},{"$f":"IFERROR(RTD(\"cqg.rtd\", ,\"ContractData\",A27, \"T_CVol\",, \"T\"),\"\")","v":""},null,{"$f":" IFERROR(O27/RTD(\"cqg.rtd\",,\"StudyData\",A27, \"MA\", \"InputChoice=Vol,MAType=Sim,Period=21\", \"MA\",\"D\",\"-1\",\"all\",,,,\"T\"),\"\")","v":""},{"$f":"QQQ!R10","v":{"$error":"#N/A"}},"Bottom 15 Performing Companies "]
[{"$f":"TRIM(QQQ!O11)","v":{"$error":"#N/A"}},"News",{"$f":"IFERROR(RTD(\"cqg.rtd\", ,\"ContractData\",A28, \"LongDescription\",, \"T\")&\" (\"&RIGHT(A28,LEN(A28)-5)&\")\",\"\")","v":""},null,null,null,null,{"$f":"IFERROR(RTD(\"cqg.rtd\", ,\"ContractData\",A28, \"LastTradeToday\",, \"T\"),\"\")","v":""},{"$f":"IFERROR(RTD(\"cqg.rtd\", ,\"ContractData\",A28, \"NetLastTradeToday\",, \"T\"),\"\")","v":""},{"$f":"IFERROR(RTD(\"cqg.rtd\", ,\"ContractData\",A28, \"PerCentNetLastTrade\",, \"T\")/100,\"\")","v":""},{"$f":"IFERROR(I28/RTD(\"cqg.rtd\",,\"StudyData\",A28, \"ATR\", \"MaType=Sim,Period=10\", \"ATR\",\"D\",\"-1\",\"ALL\",,,\"FALSE\",\"T\")/100,\"\")","v":""},{"$f":"IFERROR(RTD(\"cqg.rtd\", ,\"ContractData\",A28, \"OPen\",, \"T\"),\"\")","v":""},{"$f":"IFERROR(RTD(\"cqg.rtd\", ,\"ContractData\", A28, \"HIgh\",, \"T\"),\"\")","v":""},{"$f":"IFERROR(RTD(\"cqg.rtd\", ,\"ContractData\",A28, \"LOw\",, \"T\"),\"\")","v":""},{"$f":"IFERROR(RTD(\"cqg.rtd\", ,\"ContractData\",A28, \"T_CVol\",, \"T\"),\"\")","v":""},null,{"$f":" IFERROR(O28/RTD(\"cqg.rtd\",,\"StudyData\",A28, \"MA\", \"InputChoice=Vol,MAType=Sim,Period=21\", \"MA\",\"D\",\"-1\",\"all\",,,,\"T\"),\"\")","v":""},{"$f":"QQQ!R11","v":{"$error":"#N/A"}}]
[{"$f":"TRIM(QQQ!O12)","v":{"$error":"#N/A"}},"News",{"$f":"IFERROR(RTD(\"cqg.rtd\", ,\"ContractData\",A29, \"LongDescription\",, \"T\")&\" (\"&RIGHT(A29,LEN(A29)-5)&\")\",\"\")","v":""},null,null,null,null,{"$f":"IFERROR(RTD(\"cqg.rtd\", ,\"ContractData\",A29, \"LastTradeToday\",, \"T\"),\"\")","v":""},{"$f":"IFERROR(RTD(\"cqg.rtd\", ,\"ContractData\",A29, \"NetLastTradeToday\",, \"T\"),\"\")","v":""},{"$f":"IFERROR(RTD(\"cqg.rtd\", ,\"ContractData\",A29, \"PerCentNetLastTrade\",, \"T\")/100,\"\")","v":""},{"$f":"IFERROR(I29/RTD(\"cqg.rtd\",,\"StudyData\",A29, \"ATR\", \"MaType=Sim,Period=10\", \"ATR\",\"D\",\"-1\",\"ALL\",,,\"FALSE\",\"T\")/100,\"\")","v":""},{"$f":"IFERROR(RTD(\"cqg.rtd\", ,\"ContractData\",A29, \"OPen\",, \"T\"),\"\")","v":""},{"$f":"IFERROR(RTD(\"cqg.rtd\", ,\"ContractData\", A29, \"HIgh\",, \"T\"),\"\")","v":""},{"$f":"IFERROR(RTD(\"cqg.rtd\", ,\"ContractData\",A29, \"LOw\",, \"T\"),\"\")","v":""},{"$f":"IFERROR(RTD(\"cqg.rtd\", ,\"ContractData\",A29, \"T_CVol\",, \"T\"),\"\")","v":""},null,{"$f":" IFERROR(O29/RTD(\"cqg.rtd\",,\"StudyData\",A29, \"MA\", \"InputChoice=Vol,MAType=Sim,Period=21\", \"MA\",\"D\",\"-1\",\"all\",,,,\"T\"),\"\")","v":""},{"$f":"QQQ!R12","v":{"$error":"#N/A"}}]
[{"$f":"TRIM(QQQ!O13)","v":{"$error":"#N/A"}},"News",{"$f":"IFERROR(RTD(\"cqg.rtd\", ,\"ContractData\",A30, \"LongDescription\",, \"T\")&\" (\"&RIGHT(A30,LEN(A30)-5)&\")\",\"\")","v":""},null,null,null,null,{"$f":"IFERROR(RTD(\"cqg.rtd\", ,\"ContractData\",A30, \"LastTradeToday\",, \"T\"),\"\")","v":""},{"$f":"IFERROR(RTD(\"cqg.rtd\", ,\"ContractData\",A30, \"NetLastTradeToday\",, \"T\"),\"\")","v":""},{"$f":"IFERROR(RTD(\"cqg.rtd\", ,\"ContractData\",A30, \"PerCentNetLastTrade\",, \"T\")/100,\"\")","v":""},{"$f":"IFERROR(I30/RTD(\"cqg.rtd\",,\"StudyData\",A30, \"ATR\", \"MaType=Sim,Period=10\", \"ATR\",\"D\",\"-1\",\"ALL\",,,\"FALSE\",\"T\")/100,\"\")","v":""},{"$f":"IFERROR(RTD(\"cqg.rtd\", ,\"ContractData\",A30, \"OPen\",, \"T\"),\"\")","v":""},{"$f":"IFERROR(RTD(\"cqg.rtd\", ,\"ContractData\", A30, \"HIgh\",, \"T\"),\"\")","v":""},{"$f":"IFERROR(RTD(\"cqg.rtd\", ,\"ContractData\",A30, \"LOw\",, \"T\"),\"\")","v":""},{"$f":"IFERROR(RTD(\"cqg.rtd\", ,\"ContractData\",A30, \"T_CVol\",, \"T\"),\"\")","v":""},null,{"$f":" IFERROR(O30/RTD(\"cqg.rtd\",,\"StudyData\",A30, \"MA\", \"InputChoice=Vol,MAType=Sim,Period=21\", \"MA\",\"D\",\"-1\",\"all\",,,,\"T\"),\"\")","v":""},{"$f":"QQQ!R13","v":{"$error":"#N/A"}}]
[{"$f":"TRIM(QQQ!O14)","v":{"$error":"#N/A"}},"News",{"$f":"IFERROR(RTD(\"cqg.rtd\", ,\"ContractData\",A31, \"LongDescription\",, \"T\")&\" (\"&RIGHT(A31,LEN(A31)-5)&\")\",\"\")","v":""},null,null,null,null,{"$f":"IFERROR(RTD(\"cqg.rtd\", ,\"ContractData\",A31, \"LastTradeToday\",, \"T\"),\"\")","v":""},{"$f":"IFERROR(RTD(\"cqg.rtd\", ,\"ContractData\",A31, \"NetLastTradeToday\",, \"T\"),\"\")","v":""},{"$f":"IFERROR(RTD(\"cqg.rtd\", ,\"ContractData\",A31, \"PerCentNetLastTrade\",, \"T\")/100,\"\")","v":""},{"$f":"IFERROR(I31/RTD(\"cqg.rtd\",,\"StudyData\",A31, \"ATR\", \"MaType=Sim,Period=10\", \"ATR\",\"D\",\"-1\",\"ALL\",,,\"FALSE\",\"T\")/100,\"\")","v":""},{"$f":"IFERROR(RTD(\"cqg.rtd\", ,\"ContractData\",A31, \"OPen\",, \"T\"),\"\")","v":""},{"$f":"IFERROR(RTD(\"cqg.rtd\", ,\"ContractData\", A31, \"HIgh\",, \"T\"),\"\")","v":""},{"$f":"IFERROR(RTD(\"cqg.rtd\", ,\"ContractData\",A31, \"LOw\",, \"T\"),\"\")","v":""},{"$f":"IFERROR(RTD(\"cqg.rtd\", ,\"ContractData\",A31, \"T_CVol\",, \"T\"),\"\")","v":""},null,{"$f":" IFERROR(O31/RTD(\"cqg.rtd\",,\"StudyData\",A31, \"MA\", \"InputChoice=Vol,MAType=Sim,Period=21\", \"MA\",\"D\",\"-1\",\"all\",,,,\"T\"),\"\")","v":""},{"$f":"QQQ!R14","v":{"$error":"#N/A"}}]
[{"$f":"TRIM(QQQ!O15)","v":{"$error":"#N/A"}},"News",{"$f":"IFERROR(RTD(\"cqg.rtd\", ,\"ContractData\",A32, \"LongDescription\",, \"T\")&\" (\"&RIGHT(A32,LEN(A32)-5)&\")\",\"\")","v":""},null,null,null,null,{"$f":"IFERROR(RTD(\"cqg.rtd\", ,\"ContractData\",A32, \"LastTradeToday\",, \"T\"),\"\")","v":""},{"$f":"IFERROR(RTD(\"cqg.rtd\", ,\"ContractData\",A32, \"NetLastTradeToday\",, \"T\"),\"\")","v":""},{"$f":"IFERROR(RTD(\"cqg.rtd\", ,\"ContractData\",A32, \"PerCentNetLastTrade\",, \"T\")/100,\"\")","v":""},{"$f":"IFERROR(I32/RTD(\"cqg.rtd\",,\"StudyData\",A32, \"ATR\", \"MaType=Sim,Period=10\", \"ATR\",\"D\",\"-1\",\"ALL\",,,\"FALSE\",\"T\")/100,\"\")","v":""},{"$f":"IFERROR(RTD(\"cqg.rtd\", ,\"ContractData\",A32, \"OPen\",, \"T\"),\"\")","v":""},{"$f":"IFERROR(RTD(\"cqg.rtd\", ,\"ContractData\", A32, \"HIgh\",, \"T\"),\"\")","v":""},{"$f":"IFERROR(RTD(\"cqg.rtd\", ,\"ContractData\",A32, \"LOw\",, \"T\"),\"\")","v":""},{"$f":"IFERROR(RTD(\"cqg.rtd\", ,\"ContractData\",A32, \"T_CVol\",, \"T\"),\"\")","v":""},null,{"$f":" IFERROR(O32/RTD(\"cqg.rtd\",,\"StudyData\",A32, \"MA\", \"InputChoice=Vol,MAType=Sim,Period=21\", \"MA\",\"D\",\"-1\",\"all\",,,,\"T\"),\"\")","v":""},{"$f":"QQQ!R15","v":{"$error":"#N/A"}}]
[null,null,"Bottom 15 Description",null,null,null,null,"Last","NC","%NC","NC/ATR","Open","High","Low","Volume",null,"Ratio"]
[{"$f":"TRIM(QQQ!AC1)","v":{"$error":"#N/A"}},"News",{"$f":"IFERROR(RTD(\"cqg.rtd\", ,\"ContractData\",A34, \"LongDescription\",, \"T\")&\" (\"&RIGHT(A34,LEN(A34)-5)&\")\",\"\")","v":""},null,null,null,null,{"$f":"IFERROR(RTD(\"cqg.rtd\", ,\"ContractData\",A34, \"LastTradeToday\",, \"T\"),\"\")","v":""},{"$f":"IFERROR(RTD(\"cqg.rtd\", ,\"ContractData\",A34, \"NetLastTradeToday\",, \"T\"),\"\")","v":""},{"$f":"IFERROR(RTD(\"cqg.rtd\", ,\"ContractData\",A34, \"PerCentNetLastTrade\",, \"T\")/100,\"\")","v":""},{"$f":"IFERROR(I34/RTD(\"cqg.rtd\",,\"StudyData\",A34, \"ATR\", \"MaType=Sim,Period=10\", \"ATR\",\"D\",\"-1\",\"ALL\",,,\"FALSE\",\"T\")/100,\"\")","v":""},{"$f":"IFERROR(RTD(\"cqg.rtd\", ,\"ContractData\",A34, \"OPen\",, \"T\"),\"\")","v":""},{"$f":"IFERROR(RTD(\"cqg.rtd\", ,\"ContractData\", A34, \"HIgh\",, \"T\"),\"\")","v":""},{"$f":"IFERROR(RTD(\"cqg.rtd\", ,\"ContractData\",A34, \"LOw\",, \"T\"),\"\")","v":""},{"$f":"IFERROR(RTD(\"cqg.rtd\", ,\"ContractData\",A34, \"T_CVol\",, \"T\"),\"\")","v":""},null,{"$f":" IFERROR(O34/RTD(\"cqg.rtd\",,\"StudyData\",A34, \"MA\", \"InputChoice=Vol,MAType=Sim,Period=21\", \"MA\",\"D\",\"-1\",\"all\",,,,\"T\"),\"\")","v":""},{"$f":"QQQ!AH1","v":{"$error":"#N/A"}}]
[{"$f":"TRIM(QQQ!AC2)","v":{"$error":"#N/A"}},"News",{"$f":"IFERROR(RTD(\"cqg.rtd\", ,\"ContractData\",A35, \"LongDescription\",, \"T\")&\" (\"&RIGHT(A35,LEN(A35)-5)&\")\",\"\")","v":""},null,null,null,null,{"$f":"IFERROR(RTD(\"cqg.rtd\", ,\"ContractData\",A35, \"LastTradeToday\",, \"T\"),\"\")","v":""},{"$f":"IFERROR(RTD(\"cqg.rtd\", ,\"ContractData\",A35, \"NetLastTradeToday\",, \"T\"),\"\")","v":""},{"$f":"IFERROR(RTD(\"cqg.rtd\", ,\"ContractData\",A35, \"PerCentNetLastTrade\",, \"T\")/100,\"\")","v":""},{"$f":"IFERROR(I35/RTD(\"cqg.rtd\",,\"StudyData\",A35, \"ATR\", \"MaType=Sim,Period=10\", \"ATR\",\"D\",\"-1\",\"ALL\",,,\"FALSE\",\"T\")/100,\"\")","v":""},{"$f":"IFERROR(RTD(\"cqg.rtd\", ,\"ContractData\",A35, \"OPen\",, \"T\"),\"\")","v":""},{"$f":"IFERROR(RTD(\"cqg.rtd\", ,\"ContractData\", A35, \"HIgh\",, \"T\"),\"\")","v":""},{"$f":"IFERROR(RTD(\"cqg.rtd\", ,\"ContractData\",A35, \"LOw\",, \"T\"),\"\")","v":""},{"$f":"IFERROR(RTD(\"cqg.rtd\", ,\"ContractData\",A35, \"T_CVol\",, \"T\"),\"\")","v":""},null,{"$f":" IFERROR(O35/RTD(\"cqg.rtd\",,\"StudyData\",A35, \"MA\", \"InputChoice=Vol,MAType=Sim,Period=21\", \"MA\",\"D\",\"-1\",\"all\",,,,\"T\"),\"\")","v":""},{"$f":"QQQ!AH2","v":{"$error":"#N/A"}}]
[{"$f":"TRIM(QQQ!AC3)","v":{"$error":"#N/A"}},"News",{"$f":"IFERROR(RTD(\"cqg.rtd\", ,\"ContractData\",A36, \"LongDescription\",, \"T\")&\" (\"&RIGHT(A36,LEN(A36)-5)&\")\",\"\")","v":""},null,null,null,null,{"$f":"IFERROR(RTD(\"cqg.rtd\", ,\"ContractData\",A36, \"LastTradeToday\",, \"T\"),\"\")","v":""},{"$f":"IFERROR(RTD(\"cqg.rtd\", ,\"ContractData\",A36, \"NetLastTradeToday\",, \"T\"),\"\")","v":""},{"$f":"IFERROR(RTD(\"cqg.rtd\", ,\"ContractData\",A36, \"PerCentNetLastTrade\",, \"T\")/100,\"\")","v":""},{"$f":"IFERROR(I36/RTD(\"cqg.rtd\",,\"StudyData\",A36, \"ATR\", \"MaType=Sim,Period=10\", \"ATR\",\"D\",\"-1\",\"ALL\",,,\"FALSE\",\"T\")/100,\"\")","v":""},{"$f":"IFERROR(RTD(\"cqg.rtd\", ,\"ContractData\",A36, \"OPen\",, \"T\"),\"\")","v":""},{"$f":"IFERROR(RTD(\"cqg.rtd\", ,\"ContractData\", A36, \"HIgh\",, \"T\"),\"\")","v":""},{"$f":"IFERROR(RTD(\"cqg.rtd\", ,\"ContractData\",A36, \"LOw\",, \"T\"),\"\")","v":""},{"$f":"IFERROR(RTD(\"cqg.rtd\", ,\"ContractData\",A36, \"T_CVol\",, \"T\"),\"\")","v":""},null,{"$f":" IFERROR(O36/RTD(\"cqg.rtd\",,\"StudyData\",A36, \"MA\", \"InputChoice=Vol,MAType=Sim,Period=21\", \"MA\",\"D\",\"-1\",\"all\",,,,\"T\"),\"\")","v":""},{"$f":"QQQ!AH3","v":{"$error":"#N/A"}}]
[{"$f":"TRIM(QQQ!AC4)","v":{"$error":"#N/A"}},"News",{"$f":"IFERROR(RTD(\"cqg.rtd\", ,\"ContractData\",A37, \"LongDescription\",, \"T\")&\" (\"&RIGHT(A37,LEN(A37)-5)&\")\",\"\")","v":""},null,null,null,null,{"$f":"IFERROR(RTD(\"cqg.rtd\", ,\"ContractData\",A37, \"LastTradeToday\",, \"T\"),\"\")","v":""},{"$f":"IFERROR(RTD(\"cqg.rtd\", ,\"ContractData\",A37, \"NetLastTradeToday\",, \"T\"),\"\")","v":""},{"$f":"IFERROR(RTD(\"cqg.rtd\", ,\"ContractData\",A37, \"PerCentNetLastTrade\",, \"T\")/100,\"\")","v":""},{"$f":"IFERROR(I37/RTD(\"cqg.rtd\",,\"StudyData\",A37, \"ATR\", \"MaType=Sim,Period=10\", \"ATR\",\"D\",\"-1\",\"ALL\",,,\"FALSE\",\"T\")/100,\"\")","v":""},{"$f":"IFERROR(RTD(\"cqg.rtd\", ,\"ContractData\",A37, \"OPen\",, \"T\"),\"\")","v":""},{"$f":"IFERROR(RTD(\"cqg.rtd\", ,\"ContractData\", A37, \"HIgh\",, \"T\"),\"\")","v":""},{"$f":"IFERROR(RTD(\"cqg.rtd\", ,\"ContractData\",A37, \"LOw\",, \"T\"),\"\")","v":""},{"$f":"IFERROR(RTD(\"cqg.rtd\", ,\"ContractData\",A37, \"T_CVol\",, \"T\"),\"\")","v":""},null,{"$f":" IFERROR(O37/RTD(\"cqg.rtd\",,\"StudyData\",A37, \"MA\", \"InputChoice=Vol,MAType=Sim,Period=21\", \"MA\",\"D\",\"-1\",\"all\",,,,\"T\"),\"\")","v":""},{"$f":"QQQ!AH4","v":{"$error":"#N/A"}}]
[{"$f":"TRIM(QQQ!AC5)","v":{"$error":"#N/A"}},"News",{"$f":"IFERROR(RTD(\"cqg.rtd\", ,\"ContractData\",A38, \"LongDescription\",, \"T\")&\" (\"&RIGHT(A38,LEN(A38)-5)&\")\",\"\")","v":""},null,null,null,null,{"$f":"IFERROR(RTD(\"cqg.rtd\", ,\"ContractData\",A38, \"LastTradeToday\",, \"T\"),\"\")","v":""},{"$f":"IFERROR(RTD(\"cqg.rtd\", ,\"ContractData\",A38, \"NetLastTradeToday\",, \"T\"),\"\")","v":""},{"$f":"IFERROR(RTD(\"cqg.rtd\", ,\"ContractData\",A38, \"PerCentNetLastTrade\",, \"T\")/100,\"\")","v":""},{"$f":"IFERROR(I38/RTD(\"cqg.rtd\",,\"StudyData\",A38, \"ATR\", \"MaType=Sim,Period=10\", \"ATR\",\"D\",\"-1\",\"ALL\",,,\"FALSE\",\"T\")/100,\"\")","v":""},{"$f":"IFERROR(RTD(\"cqg.rtd\", ,\"ContractData\",A38, \"OPen\",, \"T\"),\"\")","v":""},{"$f":"IFERROR(RTD(\"cqg.rtd\", ,\"ContractData\", A38, \"HIgh\",, \"T\"),\"\")","v":""},{"$f":"IFERROR(RTD(\"cqg.rtd\", ,\"ContractData\",A38, \"LOw\",, \"T\"),\"\")","v":""},{"$f":"IFERROR(RTD(\"cqg.rtd\", ,\"ContractData\",A38, \"T_CVol\",, \"T\"),\"\")","v":""},null,{"$f":" IFERROR(O38/RTD(\"cqg.rtd\",,\"StudyData\",A38, \"MA\", \"InputChoice=Vol,MAType=Sim,Period=21\", \"MA\",\"D\",\"-1\",\"all\",,,,\"T\"),\"\")","v":""},{"$f":"QQQ!AH5","v":{"$error":"#N/A"}}]
[{"$f":"TRIM(QQQ!AC6)","v":{"$error":"#N/A"}},"News",{"$f":"IFERROR(RTD(\"cqg.rtd\", ,\"ContractData\",A39, \"LongDescription\",, \"T\")&\" (\"&RIGHT(A39,LEN(A39)-5)&\")\",\"\")","v":""},null,null,null,null,{"$f":"IFERROR(RTD(\"cqg.rtd\", ,\"ContractData\",A39, \"LastTradeToday\",, \"T\"),\"\")","v":""},{"$f":"IFERROR(RTD(\"cqg.rtd\", ,\"ContractData\",A39, \"NetLastTradeToday\",, \"T\"),\"\")","v":""},{"$f":"IFERROR(RTD(\"cqg.rtd\", ,\"ContractData\",A39, \"PerCentNetLastTrade\",, \"T\")/100,\"\")","v":""},{"$f":"IFERROR(I39/RTD(\"cqg.rtd\",,\"StudyData\",A39, \"ATR\", \"MaType=Sim,Period=10\", \"ATR\",\"D\",\"-1\",\"ALL\",,,\"FALSE\",\"T\")/100,\"\")","v":""},{"$f":"IFERROR(RTD(\"cqg.rtd\", ,\"ContractData\",A39, \"OPen\",, \"T\"),\"\")","v":""},{"$f":"IFERROR(RTD(\"cqg.rtd\", ,\"ContractData\", A39, \"HIgh\",, \"T\"),\"\")","v":""},{"$f":"IFERROR(RTD(\"cqg.rtd\", ,\"ContractData\",A39, \"LOw\",, \"T\"),\"\")","v":""},{"$f":"IFERROR(RTD(\"cqg.rtd\", ,\"ContractData\",A39, \"T_CVol\",, \"T\"),\"\")","v":""},null,{"$f":" IFERROR(O39/RTD(\"cqg.rtd\",,\"StudyData\",A39, \"MA\", \"InputChoice=Vol,MAType=Sim,Period=21\", \"MA\",\"D\",\"-1\",\"all\",,,,\"T\"),\"\")","v":""},{"$f":"QQQ!AH6","v":{"$error":"#N/A"}}]
[{"$f":"TRIM(QQQ!AC7)","v":{"$error":"#N/A"}},"News",{"$f":"IFERROR(RTD(\"cqg.rtd\", ,\"ContractData\",A40, \"LongDescription\",, \"T\")&\" (\"&RIGHT(A40,LEN(A40)-5)&\")\",\"\")","v":""},null,null,null,null,{"$f":"IFERROR(RTD(\"cqg.rtd\", ,\"ContractData\",A40, \"LastTradeToday\",, \"T\"),\"\")","v":""},{"$f":"IFERROR(RTD(\"cqg.rtd\", ,\"ContractData\",A40, \"NetLastTradeToday\",, \"T\"),\"\")","v":""},{"$f":"IFERROR(RTD(\"cqg.rtd\", ,\"ContractData\",A40, \"PerCentNetLastTrade\",, \"T\")/100,\"\")","v":""},{"$f":"IFERROR(I40/RTD(\"cqg.rtd\",,\"StudyData\",A40, \"ATR\", \"MaType=Sim,Period=10\", \"ATR\",\"D\",\"-1\",\"ALL\",,,\"FALSE\",\"T\")/100,\"\")","v":""},{"$f":"IFERROR(RTD(\"cqg.rtd\", ,\"ContractData\",A40, \"OPen\",, \"T\"),\"\")","v":""},{"$f":"IFERROR(RTD(\"cqg.rtd\", ,\"ContractData\", A40, \"HIgh\",, \"T\"),\"\")","v":""},{"$f":"IFERROR(RTD(\"cqg.rtd\", ,\"ContractData\",A40, \"LOw\",, \"T\"),\"\")","v":""},{"$f":"IFERROR(RTD(\"cqg.rtd\", ,\"ContractData\",A40, \"T_CVol\",, \"T\"),\"\")","v":""},null,{"$f":" IFERROR(O40/RTD(\"cqg.rtd\",,\"StudyData\",A40, \"MA\", \"InputChoice=Vol,MAType=Sim,Period=21\", \"MA\",\"D\",\"-1\",\"all\",,,,\"T\"),\"\")","v":""},{"$f":"QQQ!AH7","v":{"$error":"#N/A"}}]
[{"$f":"TRIM(QQQ!AC8)","v":{"$error":"#N/A"}},"News",{"$f":"IFERROR(RTD(\"cqg.rtd\", ,\"ContractData\",A41, \"LongDescription\",, \"T\")&\" (\"&RIGHT(A41,LEN(A41)-5)&\")\",\"\")","v":""},null,null,null,null,{"$f":"IFERROR(RTD(\"cqg.rtd\", ,\"ContractData\",A41, \"LastTradeToday\",, \"T\"),\"\")","v":""},{"$f":"IFERROR(RTD(\"cqg.rtd\", ,\"ContractData\",A41, \"NetLastTradeToday\",, \"T\"),\"\")","v":""},{"$f":"IFERROR(RTD(\"cqg.rtd\", ,\"ContractData\",A41, \"PerCentNetLastTrade\",, \"T\")/100,\"\")","v":""},{"$f":"IFERROR(I41/RTD(\"cqg.rtd\",,\"StudyData\",A41, \"ATR\", \"MaType=Sim,Period=10\", \"ATR\",\"D\",\"-1\",\"ALL\",,,\"FALSE\",\"T\")/100,\"\")","v":""},{"$f":"IFERROR(RTD(\"cqg.rtd\", ,\"ContractData\",A41, \"OPen\",, \"T\"),\"\")","v":""},{"$f":"IFERROR(RTD(\"cqg.rtd\", ,\"ContractData\", A41, \"HIgh\",, \"T\"),\"\")","v":""},{"$f":"IFERROR(RTD(\"cqg.rtd\", ,\"ContractData\",A41, \"LOw\",, \"T\"),\"\")","v":""},{"$f":"IFERROR(RTD(\"cqg.rtd\", ,\"ContractData\",A41, \"T_CVol\",, \"T\"),\"\")","v":""},null,{"$f":" IFERROR(O41/RTD(\"cqg.rtd\",,\"StudyData\",A41, \"MA\", \"InputChoice=Vol,MAType=Sim,Period=21\", \"MA\",\"D\",\"-1\",\"all\",,,,\"T\"),\"\")","v":""},{"$f":"QQQ!AH8","v":{"$error":"#N/A"}}]
[{"$f":"TRIM(QQQ!AC9)","v":{"$error":"#N/A"}},"News",{"$f":"IFERROR(RTD(\"cqg.rtd\", ,\"ContractData\",A42, \"LongDescription\",, \"T\")&\" (\"&RIGHT(A42,LEN(A42)-5)&\")\",\"\")","v":""},null,null,null,null,{"$f":"IFERROR(RTD(\"cqg.rtd\", ,\"ContractData\",A42, \"LastTradeToday\",, \"T\"),\"\")","v":""},{"$f":"IFERROR(RTD(\"cqg.rtd\", ,\"ContractData\",A42, \"NetLastTradeToday\",, \"T\"),\"\")","v":""},{"$f":"IFERROR(RTD(\"cqg.rtd\", ,\"ContractData\",A42, \"PerCentNetLastTrade\",, \"T\")/100,\"\")","v":""},{"$f":"IFERROR(I42/RTD(\"cqg.rtd\",,\"StudyData\",A42, \"ATR\", \"MaType=Sim,Period=10\", \"ATR\",\"D\",\"-1\",\"ALL\",,,\"FALSE\",\"T\")/100,\"\")","v":""},{"$f":"IFERROR(RTD(\"cqg.rtd\", ,\"ContractData\",A42, \"OPen\",, \"T\"),\"\")","v":""},{"$f":"IFERROR(RTD(\"cqg.rtd\", ,\"ContractData\", A42, \"HIgh\",, \"T\"),\"\")","v":""},{"$f":"IFERROR(RTD(\"cqg.rtd\", ,\"ContractData\",A42, \"LOw\",, \"T\"),\"\")","v":""},{"$f":"IFERROR(RTD(\"cqg.rtd\", ,\"ContractData\",A42, \"T_CVol\",, \"T\"),\"\")","v":""},null,{"$f":" IFERROR(O42/RTD(\"cqg.rtd\",,\"StudyData\",A42, \"MA\", \"InputChoice=Vol,MAType=Sim,Period=21\", \"MA\",\"D\",\"-1\",\"all\",,,,\"T\"),\"\")","v":""},{"$f":"QQQ!AH9","v":{"$error":"#N/A"}}]
[{"$f":"TRIM(QQQ!AC10)","v":{"$error":"#N/A"}},"News",{"$f":"IFERROR(RTD(\"cqg.rtd\", ,\"ContractData\",A43, \"LongDescription\",, \"T\")&\" (\"&RIGHT(A43,LEN(A43)-5)&\")\",\"\")","v":""},null,null,null,null,{"$f":"IFERROR(RTD(\"cqg.rtd\", ,\"ContractData\",A43, \"LastTradeToday\",, \"T\"),\"\")","v":""},{"$f":"IFERROR(RTD(\"cqg.rtd\", ,\"ContractData\",A43, \"NetLastTradeToday\",, \"T\"),\"\")","v":""},{"$f":"IFERROR(RTD(\"cqg.rtd\", ,\"ContractData\",A43, \"PerCentNetLastTrade\",, \"T\")/100,\"\")","v":""},{"$f":"IFERROR(I43/RTD(\"cqg.rtd\",,\"StudyData\",A43, \"ATR\", \"MaType=Sim,Period=10\", \"ATR\",\"D\",\"-1\",\"ALL\",,,\"FALSE\",\"T\")/100,\"\")","v":""},{"$f":"IFERROR(RTD(\"cqg.rtd\", ,\"ContractData\",A43, \"OPen\",, \"T\"),\"\")","v":""},{"$f":"IFERROR(RTD(\"cqg.rtd\", ,\"ContractData\", A43, \"HIgh\",, \"T\"),\"\")","v":""},{"$f":"IFERROR(RTD(\"cqg.rtd\", ,\"ContractData\",A43, \"LOw\",, \"T\"),\"\")","v":""},{"$f":"IFERROR(RTD(\"cqg.rtd\", ,\"ContractData\",A43, \"T_CVol\",, \"T\"),\"\")","v":""},null,{"$f":" IFERROR(O43/RTD(\"cqg.rtd\",,\"StudyData\",A43, \"MA\", \"InputChoice=Vol,MAType=Sim,Period=21\", \"MA\",\"D\",\"-1\",\"all\",,,,\"T\"),\"\")","v":""},{"$f":"QQQ!AH10","v":{"$error":"#N/A"}}]
[{"$f":"TRIM(QQQ!AC11)","v":{"$error":"#N/A"}},"News",{"$f":"IFERROR(RTD(\"cqg.rtd\", ,\"ContractData\",A44, \"LongDescription\",, \"T\")&\" (\"&RIGHT(A44,LEN(A44)-5)&\")\",\"\")","v":""},null,null,null,null,{"$f":"IFERROR(RTD(\"cqg.rtd\", ,\"ContractData\",A44, \"LastTradeToday\",, \"T\"),\"\")","v":""},{"$f":"IFERROR(RTD(\"cqg.rtd\", ,\"ContractData\",A44, \"NetLastTradeToday\",, \"T\"),\"\")","v":""},{"$f":"IFERROR(RTD(\"cqg.rtd\", ,\"ContractData\",A44, \"PerCentNetLastTrade\",, \"T\")/100,\"\")","v":""},{"$f":"IFERROR(I44/RTD(\"cqg.rtd\",,\"StudyData\",A44, \"ATR\", \"MaType=Sim,Period=10\", \"ATR\",\"D\",\"-1\",\"ALL\",,,\"FALSE\",\"T\")/100,\"\")","v":""},{"$f":"IFERROR(RTD(\"cqg.rtd\", ,\"ContractData\",A44, \"OPen\",, \"T\"),\"\")","v":""},{"$f":"IFERROR(RTD(\"cqg.rtd\", ,\"ContractData\", A44, \"HIgh\",, \"T\"),\"\")","v":""},{"$f":"IFERROR(RTD(\"cqg.rtd\", ,\"ContractData\",A44, \"LOw\",, \"T\"),\"\")","v":""},{"$f":"IFERROR(RTD(\"cqg.rtd\", ,\"ContractData\",A44, \"T_CVol\",, \"T\"),\"\")","v":""},null,{"$f":" IFERROR(O44/RTD(\"cqg.rtd\",,\"StudyData\",A44, \"MA\", \"InputChoice=Vol,MAType=Sim,Period=21\", \"MA\",\"D\",\"-1\",\"all\",,,,\"T\"),\"\")","v":""},{"$f":"QQQ!AH11","v":{"$error":"#N/A"}}]
[{"$f":"TRIM(QQQ!AC12)","v":{"$error":"#N/A"}},"News",{"$f":"IFERROR(RTD(\"cqg.rtd\", ,\"ContractData\",A45, \"LongDescription\",, \"T\")&\" (\"&RIGHT(A45,LEN(A45)-5)&\")\",\"\")","v":""},null,null,null,null,{"$f":"IFERROR(RTD(\"cqg.rtd\", ,\"ContractData\",A45, \"LastTradeToday\",, \"T\"),\"\")","v":""},{"$f":"IFERROR(RTD(\"cqg.rtd\", ,\"ContractData\",A45, \"NetLastTradeToday\",, \"T\"),\"\")","v":""},{"$f":"IFERROR(RTD(\"cqg.rtd\", ,\"ContractData\",A45, \"PerCentNetLastTrade\",, \"T\")/100,\"\")","v":""},{"$f":"IFERROR(I45/RTD(\"cqg.rtd\",,\"StudyData\",A45, \"ATR\", \"MaType=Sim,Period=10\", \"ATR\",\"D\",\"-1\",\"ALL\",,,\"FALSE\",\"T\")/100,\"\")","v":""},{"$f":"IFERROR(RTD(\"cqg.rtd\", ,\"ContractData\",A45, \"OPen\",, \"T\"),\"\")","v":""},{"$f":"IFERROR(RTD(\"cqg.rtd\", ,\"ContractData\", A45, \"HIgh\",, \"T\"),\"\")","v":""},{"$f":"IFERROR(RTD(\"cqg.rtd\", ,\"ContractData\",A45, \"LOw\",, \"T\"),\"\")","v":""},{"$f":"IFERROR(RTD(\"cqg.rtd\", ,\"ContractData\",A45, \"T_CVol\",, \"T\"),\"\")","v":""},null,{"$f":" IFERROR(O45/RTD(\"cqg.rtd\",,\"StudyData\",A45, \"MA\", \"InputChoice=Vol,MAType=Sim,Period=21\", \"MA\",\"D\",\"-1\",\"all\",,,,\"T\"),\"\")","v":""},{"$f":"QQQ!AH12","v":{"$error":"#N/A"}}]
[{"$f":"TRIM(QQQ!AC13)","v":{"$error":"#N/A"}},"News",{"$f":"IFERROR(RTD(\"cqg.rtd\", ,\"ContractData\",A46, \"LongDescription\",, \"T\")&\" (\"&RIGHT(A46,LEN(A46)-5)&\")\",\"\")","v":""},null,null,null,null,{"$f":"IFERROR(RTD(\"cqg.rtd\", ,\"ContractData\",A46, \"LastTradeToday\",, \"T\"),\"\")","v":""},{"$f":"IFERROR(RTD(\"cqg.rtd\", ,\"ContractData\",A46, \"NetLastTradeToday\",, \"T\"),\"\")","v":""},{"$f":"IFERROR(RTD(\"cqg.rtd\", ,\"ContractData\",A46, \"PerCentNetLastTrade\",, \"T\")/100,\"\")","v":""},{"$f":"IFERROR(I46/RTD(\"cqg.rtd\",,\"StudyData\",A46, \"ATR\", \"MaType=Sim,Period=10\", \"ATR\",\"D\",\"-1\",\"ALL\",,,\"FALSE\",\"T\")/100,\"\")","v":""},{"$f":"IFERROR(RTD(\"cqg.rtd\", ,\"ContractData\",A46, \"OPen\",, \"T\"),\"\")","v":""},{"$f":"IFERROR(RTD(\"cqg.rtd\", ,\"ContractData\", A46, \"HIgh\",, \"T\"),\"\")","v":""},{"$f":"IFERROR(RTD(\"cqg.rtd\", ,\"ContractData\",A46, \"LOw\",, \"T\"),\"\")","v":""},{"$f":"IFERROR(RTD(\"cqg.rtd\", ,\"ContractData\",A46, \"T_CVol\",, \"T\"),\"\")","v":""},null,{"$f":" IFERROR(O46/RTD(\"cqg.rtd\",,\"StudyData\",A46, \"MA\", \"InputChoice=Vol,MAType=Sim,Period=21\", \"MA\",\"D\",\"-1\",\"all\",,,,\"T\"),\"\")","v":""},{"$f":"QQQ!AH13","v":{"$error":"#N/A"}}]
[{"$f":"TRIM(QQQ!AC14)","v":{"$error":"#N/A"}},"News",{"$f":"IFERROR(RTD(\"cqg.rtd\", ,\"ContractData\",A47, \"LongDescription\",, \"T\")&\" (\"&RIGHT(A47,LEN(A47)-5)&\")\",\"\")","v":""},null,null,null,null,{"$f":"IFERROR(RTD(\"cqg.rtd\", ,\"ContractData\",A47, \"LastTradeToday\",, \"T\"),\"\")","v":""},{"$f":"IFERROR(RTD(\"cqg.rtd\", ,\"ContractData\",A47, \"NetLastTradeToday\",, \"T\"),\"\")","v":""},{"$f":"IFERROR(RTD(\"cqg.rtd\", ,\"ContractData\",A47, \"PerCentNetLastTrade\",, \"T\")/100,\"\")","v":""},{"$f":"IFERROR(I47/RTD(\"cqg.rtd\",,\"StudyData\",A47, \"ATR\", \"MaType=Sim,Period=10\", \"ATR\",\"D\",\"-1\",\"ALL\",,,\"FALSE\",\"T\")/100,\"\")","v":""},{"$f":"IFERROR(RTD(\"cqg.rtd\", ,\"ContractData\",A47, \"OPen\",, \"T\"),\"\")","v":""},{"$f":"IFERROR(RTD(\"cqg.rtd\", ,\"ContractData\", A47, \"HIgh\",, \"T\"),\"\")","v":""},{"$f":"IFERROR(RTD(\"cqg.rtd\", ,\"ContractData\",A47, \"LOw\",, \"T\"),\"\")","v":""},{"$f":"IFERROR(RTD(\"cqg.rtd\", ,\"ContractData\",A47, \"T_CVol\",, \"T\"),\"\")","v":""},null,{"$f":" IFERROR(O47/RTD(\"cqg.rtd\",,\"StudyData\",A47, \"MA\", \"InputChoice=Vol,MAType=Sim,Period=21\", \"MA\",\"D\",\"-1\",\"all\",,,,\"T\"),\"\")","v":""},{"$f":"QQQ!AH14","v":{"$error":"#N/A"}}]
[{"$f":"TRIM(QQQ!AC15)","v":{"$error":"#N/A"}},"News",{"$f":"IFERROR(RTD(\"cqg.rtd\", ,\"ContractData\",A48, \"LongDescription\",, \"T\")&\" (\"&RIGHT(A48,LEN(A48)-5)&\")\",\"\")","v":""},null,null,null,null,{"$f":"IFERROR(RTD(\"cqg.rtd\", ,\"ContractData\",A48, \"LastTradeToday\",, \"T\"),\"\")","v":""},{"$f":"IFERROR(RTD(\"cqg.rtd\", ,\"ContractData\",A48, \"NetLastTradeToday\",, \"T\"),\"\")","v":""},{"$f":"IFERROR(RTD(\"cqg.rtd\", ,\"ContractData\",A48, \"PerCentNetLastTrade\",, \"T\")/100,\"\")","v":""},{"$f":"IFERROR(I48/RTD(\"cqg.rtd\",,\"StudyData\",A48, \"ATR\", \"MaType=Sim,Period=10\", \"ATR\",\"D\",\"-1\",\"ALL\",,,\"FALSE\",\"T\")/100,\"\")","v":""},{"$f":"IFERROR(RTD(\"cqg.rtd\", ,\"ContractData\",A48, \"OPen\",, \"T\"),\"\")","v":""},{"$f":"IFERROR(RTD(\"cqg.rtd\", ,\"ContractData\", A48, \"HIgh\",, \"T\"),\"\")","v":""},{"$f":"IFERROR(RTD(\"cqg.rtd\", ,\"ContractData\",A48, \"LOw\",, \"T\"),\"\")","v":""},{"$f":"IFERROR(RTD(\"cqg.rtd\", ,\"ContractData\",A48, \"T_CVol\",, \"T\"),\"\")","v":""},null,{"$f":" IFERROR(O48/RTD(\"cqg.rtd\",,\"StudyData\",A48, \"MA\", \"InputChoice=Vol,MAType=Sim,Period=21\", \"MA\",\"D\",\"-1\",\"all\",,,,\"T\"),\"\")","v":""},{"$f":"QQQ!AH15","v":{"$error":"#N/A"}}]
[null,null,"CQG Inc.,   Copyright © 2025",null,null,null,"Designed by Thom Hartle",null,null,"Invesco QQQ ETF tracks the Nasdaq-100 Index.",null,null,null,null,null,null,null,null,null,null,null,null,null,null,null,{"$f":"Z52","v":"100% of the stocks in the ETF are higher today"}]
[]
[null,null,null,null,null,null,null,null,null,null,null,null,null,null,null,null,null,null,null,null,null,null,null,null,null,{"$f":"QQQ!B103","v":1},"of the stocks in the ETF are higher today"]
[null,null,null,null,null,null,null,null,null,null,null,null,null,null,null,null,null,null,null,null,null,null,null,null,null,{"$f":"TEXT(Display!Z51,\"0%\")&\" \"&Display!AA51","v":"100% of the stocks in the ETF are higher today"}]

{"sheet":"QQQ","index":1,"n_rows":103,"n_cols":34,"rows_kept":103,"cut":false,"hidden":true,"merged":[]}
["S.US.AAPL ",{"$f":"IF(J1>0,1,0)","v":1},"S.US.AAPL ",{"$f":"RTD(\"cqg.rtd\", ,\"ContractData\",C1, \"LongDescription\",, \"T\")","v":"Apple Inc"},null,null,null,{"$f":"RTD(\"cqg.rtd\", ,\"ContractData\",C1, \"LastTradeToday\",, \"T\")","v":""},{"$f":"RTD(\"cqg.rtd\", ,\"ContractData\",C1, \"NetLastTradeToday\",, \"T\")","v":""},{"$f":"IFERROR(RTD(\"cqg.rtd\", ,\"ContractData\",C1, \"PerCentNetLastTrade\",, \"T\")/100,\"\")","v":""},{"$f":"RTD(\"cqg.rtd\", ,\"ContractData\", C1, \"T_CVol\",, \"T\")","v":275084},1,{"$f":"IFERROR(RANK($J1,$J$1:J$101)+COUNTIF($J$1:J1,J1)-1,\"\")","v":""},{"$f":"C1","v":"S.US.AAPL "},{"$f":"VLOOKUP($L1,$M$1:$N$101,2,FALSE)","v":{"$error":"#N/A"}},{"$f":"RTD(\"cqg.rtd\", ,\"ContractData\",O1, \"LongDescription\",, \"T\")","v":{"$error":"#N/A"}},{"$f":"IFERROR(RTD(\"cqg.rtd\", ,\"ContractData\",O1, \"PerCentNetLastTrade\",, \"T\")/100,\"\")","v":""},{"$f":"\"https://finance.yahoo.com/quote/\"&RIGHT(O1,(LEN(O1)-5))","v":{"$error":"#N/A"}},null,{"$f":"IF(Q1>=0,Q1,NA())","v":""},{"$f":"IF(Q1>=0,NA(),-1*Q1)","v":{"$error":"#N/A"}},null,{"$f":"IFERROR(RTD(\"cqg.rtd\", ,\"ContractData\",O1, \"LongDescription\",, \"T\"),\"\")","v":""},null,null,{"$f":"IFERROR(T1,Q1)","v":""},{"$f":"MIN(J1:J101)","v":0},{"$f":"VLOOKUP(AA1,J1:O98,4,FALSE)","v":{"$error":"#N/A"}},{"$f":"VLOOKUP($AB1,$M$1:$N$101,2,FALSE)","v":{"$error":"#N/A"}},{"$f":"IFERROR(RTD(\"cqg.rtd\", ,\"ContractData\",AC1, \"PerCentNetLastTrade\",, \"T\")/100,\"\")","v":""},{"$f":"IFERROR(RTD(\"cqg.rtd\", ,\"ContractData\",AC1, \"LongDescription\",, \"T\"),\"\")","v":""},{"$f":"IFERROR(U1,\"\")","v":""},{"$f":"IFERROR(AD1*-1,\"\")","v":""},{"$f":"\"https://finance.yahoo.com/quote/\"&RIGHT(AC1,(LEN(AC1)-5))","v":{"$error":"#N/A"}}]
["S.US.ABNB ",{"$f":"IF(J2>0,1,0)","v":1},"S.US.ABNB ",{"$f":"RTD(\"cqg.rtd\", ,\"ContractData\",C2, \"LongDescription\",, \"T\")","v":"Airbnb, Inc. Class A"},null,null,null,{"$f":"RTD(\"cqg.rtd\", ,\"ContractData\",C2, \"LastTradeToday\",, \"T\")","v":""},{"$f":"RTD(\"cqg.rtd\", ,\"ContractData\",C2, \"NetLastTradeToday\",, \"T\")","v":""},{"$f":"IFERROR(RTD(\"cqg.rtd\", ,\"ContractData\",C2, \"PerCentNetLastTrade\",, \"T\")/100,\"\")","v":""},{"$f":"RTD(\"cqg.rtd\", ,\"ContractData\", C2, \"T_CVol\",, \"T\")","v":4927},{"$f":"L1+1","v":2},{"$f":"IFERROR(RANK($J2,$J$1:J$101)+COUNTIF($J$1:J2,J2)-1,\"\")","v":""},{"$f":"C2","v":"S.US.ABNB "},{"$f":"VLOOKUP($L2,$M$1:$N$101,2,FALSE)","v":{"$error":"#N/A"}},{"$f":"RTD(\"cqg.rtd\", ,\"ContractData\",O2, \"LongDescription\",, \"T\")","v":{"$error":"#N/A"}},{"$f":"IFERROR(RTD(\"cqg.rtd\", ,\"ContractData\",O2, \"PerCentNetLastTrade\",, \"T\")/100,\"\")","v":""},{"$f":"\"https://finance.yahoo.com/quote/\"&RIGHT(O2,(LEN(O2)-5))","v":{"$error":"#N/A"}},null,{"$f":"IF(Q2>=0,Q2,NA())","v":""},{"$f":"IF(Q2>=0,NA(),-1*Q2)","v":{"$error":"#N/A"}},null,{"$f":"IFERROR(RTD(\"cqg.rtd\", ,\"ContractData\",O2, \"LongDescription\",, \"T\"),\"\")","v":""},null,null,{"$f":"IFERROR(T2,Q2)","v":""},null,{"$f":"AB1-1","v":{"$error":"#N/A"}},{"$f":"VLOOKUP($AB2,$M$1:$N$101,2,FALSE)","v":{"$error":"#N/A"}},{"$f":"IFERROR(RTD(\"cqg.rtd\", ,\"ContractData\",AC2, \"PerCentNetLastTrade\",, \"T\")/100,\"\")","v":""},{"$f":"IFERROR(RTD(\"cqg.rtd\", ,\"ContractData\",AC2, \"LongDescription\",, \"T\"),\"\")","v":""},{"$f":"IFERROR(U2,\"\")","v":""},{"$f":"IFERROR(AD2*-1,\"\")","v":""},{"$f":"\"https://finance.yahoo.com/quote/\"&RIGHT(AC2,(LEN(AC2)-5))","v":{"$error":"#N/A"}}]
["S.US.ADBE ",1,"S.US.ADBE ",{"$f":"RTD(\"cqg.rtd\", ,\"ContractData\",C3, \"LongDescription\",, \"T\")","v":"Adobe Inc."},null,null,null,{"$f":"RTD(\"cqg.rtd\", ,\"ContractData\",C3, \"LastTradeToday\",, \"T\")","v":""},{"$f":"RTD(\"cqg.rtd\", ,\"ContractData\",C3, \"NetLastTradeToday\",, \"T\")","v":""},{"$f":"IFERROR(RTD(\"cqg.rtd\", ,\"ContractData\",C3, \"PerCentNetLastTrade\",, \"T\")/100,\"\")","v":""},{"$f":"RTD(\"cqg.rtd\", ,\"ContractData\", C3, \"T_CVol\",, \"T\")","v":6185},{"$f":"L2+1","v":3},{"$f":"IFERROR(RANK($J3,$J$1:J$101)+COUNTIF($J$1:J3,J3)-1,\"\")","v":""},"S.US.ADBE ",{"$error":"#N/A"},{"$f":"RTD(\"cqg.rtd\", ,\"ContractData\",O3, \"LongDescription\",, \"T\")","v":{"$error":"#N/A"}},{"$f":"IFERROR(RTD(\"cqg.rtd\", ,\"ContractData\",O3, \"PerCentNetLastTrade\",, \"T\")/100,\"\")","v":""},{"$error":"#N/A"},null,"",{"$error":"#N/A"},null,{"$f":"IFERROR(RTD(\"cqg.rtd\", ,\"ContractData\",O3, \"LongDescription\",, \"T\"),\"\")","v":""},null,null,"",null,{"$f":"AB2-1","v":{"$error":"#N/A"}},{"$error":"#N/A"},{"$f":"IFERROR(RTD(\"cqg.rtd\", ,\"ContractData\",AC3, \"PerCentNetLastTrade\",, \"T\")/100,\"\")","v":""},{"$f":"IFERROR(RTD(\"cqg.rtd\", ,\"ContractData\",AC3, \"LongDescription\",, \"T\"),\"\")","v":""},"","",{"$error":"#N/A"}]
["S.US.ADI ",1,"S.US.ADI ",{"$f":"RTD(\"cqg.rtd\", ,\"ContractData\",C4, \"LongDescription\",, \"T\")","v":"Analog Devices Inc"},null,null,null,{"$f":"RTD(\"cqg.rtd\", ,\"ContractData\",C4, \"LastTradeToday\",, \"T\")","v":""},{"$f":"RTD(\"cqg.rtd\", ,\"ContractData\",C4, \"NetLastTradeToday\",, \"T\")","v":""},{"$f":"IFERROR(RTD(\"cqg.rtd\", ,\"ContractData\",C4, \"PerCentNetLastTrade\",, \"T\")/100,\"\")","v":""},{"$f":"RTD(\"cqg.rtd\", ,\"ContractData\", C4, \"T_CVol\",, \"T\")","v":1530},4,{"$f":"IFERROR(RANK($J4,$J$1:J$101)+COUNTIF($J$1:J4,J4)-1,\"\")","v":""},"S.US.ADI ",{"$error":"#N/A"},{"$f":"RTD(\"cqg.rtd\", ,\"ContractData\",O4, \"LongDescription\",, \"T\")","v":{"$error":"#N/A"}},{"$f":"IFERROR(RTD(\"cqg.rtd\", ,\"ContractData\",O4, \"PerCentNetLastTrade\",, \"T\")/100,\"\")","v":""},{"$error":"#N/A"},null,"",{"$error":"#N/A"},null,{"$f":"IFERROR(RTD(\"cqg.rtd\", ,\"ContractData\",O4, \"LongDescription\",, \"T\"),\"\")","v":""},null,null,"",null,{"$error":"#N/A"},{"$error":"#N/A"},{"$f":"IFERROR(RTD(\"cqg.rtd\", ,\"ContractData\",AC4, \"PerCentNetLastTrade\",, \"T\")/100,\"\")","v":""},{"$f":"IFERROR(RTD(\"cqg.rtd\", ,\"ContractData\",AC4, \"LongDescription\",, \"T\"),\"\")","v":""},"","",{"$error":"#N/A"}]
["S.US.ADP ",1,"S.US.ADP ",{"$f":"RTD(\"cqg.rtd\", ,\"ContractData\",C5, \"LongDescription\",, \"T\")","v":"Auto Data Processing Inc"},null,null,null,{"$f":"RTD(\"cqg.rtd\", ,\"ContractData\",C5, \"LastTradeToday\",, \"T\")","v":""},{"$f":"RTD(\"cqg.rtd\", ,\"ContractData\",C5, \"NetLastTradeToday\",, \"T\")","v":""},{"$f":"IFERROR(RTD(\"cqg.rtd\", ,\"ContractData\",C5, \"PerCentNetLastTrade\",, \"T\")/100,\"\")","v":""},{"$f":"RTD(\"cqg.rtd\", ,\"ContractData\", C5, \"T_CVol\",, \"T\")","v":192},5,{"$f":"IFERROR(RANK($J5,$J$1:J$101)+COUNTIF($J$1:J5,J5)-1,\"\")","v":""},"S.US.ADP ",{"$error":"#N/A"},{"$f":"RTD(\"cqg.rtd\", ,\"ContractData\",O5, \"LongDescription\",, \"T\")","v":{"$error":"#N/A"}},{"$f":"IFERROR(RTD(\"cqg.rtd\", ,\"ContractData\",O5, \"PerCentNetLastTrade\",, \"T\")/100,\"\")","v":""},{"$error":"#N/A"},null,"",{"$error":"#N/A"},null,{"$f":"IFERROR(RTD(\"cqg.rtd\", ,\"ContractData\",O5, \"LongDescription\",, \"T\"),\"\")","v":""},null,null,"",null,{"$error":"#N/A"},{"$error":"#N/A"},{"$f":"IFERROR(RTD(\"cqg.rtd\", ,\"ContractData\",AC5, \"PerCentNetLastTrade\",, \"T\")/100,\"\")","v":""},{"$f":"IFERROR(RTD(\"cqg.rtd\", ,\"ContractData\",AC5, \"LongDescription\",, \"T\"),\"\")","v":""},"","",{"$error":"#N/A"}]
["S.US.ADSK ",1,"S.US.ADSK ",{"$f":"RTD(\"cqg.rtd\", ,\"ContractData\",C6, \"LongDescription\",, \"T\")","v":"Autodesk Inc"},null,null,null,{"$f":"RTD(\"cqg.rtd\", ,\"ContractData\",C6, \"LastTradeToday\",, \"T\")","v":""},{"$f":"RTD(\"cqg.rtd\", ,\"ContractData\",C6, \"NetLastTradeToday\",, \"T\")","v":""},{"$f":"IFERROR(RTD(\"cqg.rtd\", ,\"ContractData\",C6, \"PerCentNetLastTrade\",, \"T\")/100,\"\")","v":""},{"$f":"RTD(\"cqg.rtd\", ,\"ContractData\", C6, \"T_CVol\",, \"T\")","v":550},6,{"$f":"IFERROR(RANK($J6,$J$1:J$101)+COUNTIF($J$1:J6,J6)-1,\"\")","v":""},"S.US.ADSK ",{"$error":"#N/A"},{"$f":"RTD(\"cqg.rtd\", ,\"ContractData\",O6, \"LongDescription\",, \"T\")","v":{"$error":"#N/A"}},{"$f":"IFERROR(RTD(\"cqg.rtd\", ,\"ContractData\",O6, \"PerCentNetLastTrade\",, \"T\")/100,\"\")","v":""},{"$error":"#N/A"},null,"",{"$error":"#N/A"},null,{"$f":"IFERROR(RTD(\"cqg.rtd\", ,\"ContractData\",O6, \"LongDescription\",, \"T\"),\"\")","v":""},null,null,"",null,{"$error":"#N/A"},{"$error":"#N/A"},{"$f":"IFERROR(RTD(\"cqg.rtd\", ,\"ContractData\",AC6, \"PerCentNetLastTrade\",, \"T\")/100,\"\")","v":""},{"$f":"IFERROR(RTD(\"cqg.rtd\", ,\"ContractData\",AC6, \"LongDescription\",, \"T\"),\"\")","v":""},"","",{"$error":"#N/A"}]
["S.US.AEP ",1,"S.US.AEP ",{"$f":"RTD(\"cqg.rtd\", ,\"ContractData\",C7, \"LongDescription\",, \"T\")","v":"American Electric Power Company, Inc."},null,null,null,{"$f":"RTD(\"cqg.rtd\", ,\"ContractData\",C7, \"LastTradeToday\",, \"T\")","v":""},{"$f":"RTD(\"cqg.rtd\", ,\"ContractData\",C7, \"NetLastTradeToday\",, \"T\")","v":""},{"$f":"IFERROR(RTD(\"cqg.rtd\", ,\"ContractData\",C7, \"PerCentNetLastTrade\",, \"T\")/100,\"\")","v":""},{"$f":"RTD(\"cqg.rtd\", ,\"ContractData\", C7, \"T_CVol\",, \"T\")","v":225},7,{"$f":"IFERROR(RANK($J7,$J$1:J$101)+COUNTIF($J$1:J7,J7)-1,\"\")","v":""},"S.US.AEP ",{"$error":"#N/A"},{"$f":"RTD(\"cqg.rtd\", ,\"ContractData\",O7, \"LongDescription\",, \"T\")","v":{"$error":"#N/A"}},{"$f":"IFERROR(RTD(\"cqg.rtd\", ,\"ContractData\",O7, \"PerCentNetLastTrade\",, \"T\")/100,\"\")","v":""},{"$error":"#N/A"},null,"",{"$error":"#N/A"},null,{"$f":"IFERROR(RTD(\"cqg.rtd\", ,\"ContractData\",O7, \"LongDescription\",, \"T\"),\"\")","v":""},null,null,"",null,{"$error":"#N/A"},{"$error":"#N/A"},{"$f":"IFERROR(RTD(\"cqg.rtd\", ,\"ContractData\",AC7, \"PerCentNetLastTrade\",, \"T\")/100,\"\")","v":""},{"$f":"IFERROR(RTD(\"cqg.rtd\", ,\"ContractData\",AC7, \"LongDescription\",, \"T\"),\"\")","v":""},"","",{"$error":"#N/A"}]
["S.US.AMAT ",1,"S.US.AMAT ",{"$f":"RTD(\"cqg.rtd\", ,\"ContractData\",C8, \"LongDescription\",, \"T\")","v":"Applied Materials Inc"},null,null,null,{"$f":"RTD(\"cqg.rtd\", ,\"ContractData\",C8, \"LastTradeToday\",, \"T\")","v":""},{"$f":"RTD(\"cqg.rtd\", ,\"ContractData\",C8, \"NetLastTradeToday\",, \"T\")","v":""},{"$f":"IFERROR(RTD(\"cqg.rtd\", ,\"ContractData\",C8, \"PerCentNetLastTrade\",, \"T\")/100,\"\")","v":""},{"$f":"RTD(\"cqg.rtd\", ,\"ContractData\", C8, \"T_CVol\",, \"T\")","v":20298},8,{"$f":"IFERROR(RANK($J8,$J$1:J$101)+COUNTIF($J$1:J8,J8)-1,\"\")","v":""},"S.US.AMAT ",{"$error":"#N/A"},{"$f":"RTD(\"cqg.rtd\", ,\"ContractData\",O8, \"LongDescription\",, \"T\")","v":{"$error":"#N/A"}},{"$f":"IFERROR(RTD(\"cqg.rtd\", ,\"ContractData\",O8, \"PerCentNetLastTrade\",, \"T\")/100,\"\")","v":""},{"$error":"#N/A"},null,"",{"$error":"#N/A"},null,{"$f":"IFERROR(RTD(\"cqg.rtd\", ,\"ContractData\",O8, \"LongDescription\",, \"T\"),\"\")","v":""},null,null,"",null,{"$error":"#N/A"},{"$error":"#N/A"},{"$f":"IFERROR(RTD(\"cqg.rtd\", ,\"ContractData\",AC8, \"PerCentNetLastTrade\",, \"T\")/100,\"\")","v":""},{"$f":"IFERROR(RTD(\"cqg.rtd\", ,\"ContractData\",AC8, \"LongDescription\",, \"T\"),\"\")","v":""},"","",{"$error":"#N/A"}]
["S.US.AMD ",1,"S.US.AMD ",{"$f":"RTD(\"cqg.rtd\", ,\"ContractData\",C9, \"LongDescription\",, \"T\")","v":"Advanced Micro Devices"},null,null,null,{"$f":"RTD(\"cqg.rtd\", ,\"ContractData\",C9, \"LastTradeToday\",, \"T\")","v":""},{"$f":"RTD(\"cqg.rtd\", ,\"ContractData\",C9, \"NetLastTradeToday\",, \"T\")","v":""},{"$f":"IFERROR(RTD(\"cqg.rtd\", ,\"ContractData\",C9, \"PerCentNetLastTrade\",, \"T\")/100,\"\")","v":""},{"$f":"RTD(\"cqg.rtd\", ,\"ContractData\", C9, \"T_CVol\",, \"T\")","v":469342},9,{"$f":"IFERROR(RANK($J9,$J$1:J$101)+COUNTIF($J$1:J9,J9)-1,\"\")","v":""},"S.US.AMD ",{"$error":"#N/A"},{"$f":"RTD(\"cqg.rtd\", ,\"ContractData\",O9, \"LongDescription\",, \"T\")","v":{"$error":"#N/A"}},{"$f":"IFERROR(RTD(\"cqg.rtd\", ,\"ContractData\",O9, \"PerCentNetLastTrade\",, \"T\")/100,\"\")","v":""},{"$error":"#N/A"},null,"",{"$error":"#N/A"},null,{"$f":"IFERROR(RTD(\"cqg.rtd\", ,\"ContractData\",O9, \"LongDescription\",, \"T\"),\"\")","v":""},null,null,"",null,{"$error":"#N/A"},{"$error":"#N/A"},{"$f":"IFERROR(RTD(\"cqg.rtd\", ,\"ContractData\",AC9, \"PerCentNetLastTrade\",, \"T\")/100,\"\")","v":""},{"$f":"IFERROR(RTD(\"cqg.rtd\", ,\"ContractData\",AC9, \"LongDescription\",, \"T\"),\"\")","v":""},"","",{"$error":"#N/A"}]
["S.US.AMGN ",1,"S.US.AMGN ",{"$f":"RTD(\"cqg.rtd\", ,\"ContractData\",C10, \"LongDescription\",, \"T\")","v":"Amgen Inc"},null,null,null,{"$f":"RTD(\"cqg.rtd\", ,\"ContractData\",C10, \"LastTradeToday\",, \"T\")","v":""},{"$f":"RTD(\"cqg.rtd\", ,\"ContractData\",C10, \"NetLastTradeToday\",, \"T\")","v":""},{"$f":"IFERROR(RTD(\"cqg.rtd\", ,\"ContractData\",C10, \"PerCentNetLastTrade\",, \"T\")/100,\"\")","v":""},{"$f":"RTD(\"cqg.rtd\", ,\"ContractData\", C10, \"T_CVol\",, \"T\")","v":1564},10,{"$f":"IFERROR(RANK($J10,$J$1:J$101)+COUNTIF($J$1:J10,J10)-1,\"\")","v":""},"S.US.AMGN ",{"$error":"#N/A"},{"$f":"RTD(\"cqg.rtd\", ,\"ContractData\",O10, \"LongDescription\",, \"T\")","v":{"$error":"#N/A"}},{"$f":"IFERROR(RTD(\"cqg.rtd\", ,\"ContractData\",O10, \"PerCentNetLastTrade\",, \"T\")/100,\"\")","v":""},{"$error":"#N/A"},null,"",{"$error":"#N/A"},null,{"$f":"IFERROR(RTD(\"cqg.rtd\", ,\"ContractData\",O10, \"LongDescription\",, \"T\"),\"\")","v":""},null,null,"",null,{"$error":"#N/A"},{"$error":"#N/A"},{"$f":"IFERROR(RTD(\"cqg.rtd\", ,\"ContractData\",AC10, \"PerCentNetLastTrade\",, \"T\")/100,\"\")","v":""},{"$f":"IFERROR(RTD(\"cqg.rtd\", ,\"ContractData\",AC10, \"LongDescription\",, \"T\"),\"\")","v":""},"","",{"$error":"#N/A"}]
["S.US.AMZN ",1,"S.US.AMZN ",{"$f":"RTD(\"cqg.rtd\", ,\"ContractData\",C11, \"LongDescription\",, \"T\")","v":"Amazon.com Inc"},null,null,null,{"$f":"RTD(\"cqg.rtd\", ,\"ContractData\",C11, \"LastTradeToday\",, \"T\")","v":""},{"$f":"RTD(\"cqg.rtd\", ,\"ContractData\",C11, \"NetLastTradeToday\",, \"T\")","v":""},{"$f":"IFERROR(RTD(\"cqg.rtd\", ,\"ContractData\",C11, \"PerCentNetLastTrade\",, \"T\")/100,\"\")","v":""},{"$f":"RTD(\"cqg.rtd\", ,\"ContractData\", C11, \"T_CVol\",, \"T\")","v":295543},11,{"$f":"IFERROR(RANK($J11,$J$1:J$101)+COUNTIF($J$1:J11,J11)-1,\"\")","v":""},"S.US.AMZN ",{"$error":"#N/A"},{"$f":"RTD(\"cqg.rtd\", ,\"ContractData\",O11, \"LongDescription\",, \"T\")","v":{"$error":"#N/A"}},{"$f":"IFERROR(RTD(\"cqg.rtd\", ,\"ContractData\",O11, \"PerCentNetLastTrade\",, \"T\")/100,\"\")","v":""},{"$error":"#N/A"},null,"",{"$error":"#N/A"},null,{"$f":"IFERROR(RTD(\"cqg.rtd\", ,\"ContractData\",O11, \"LongDescription\",, \"T\"),\"\")","v":""},null,null,"",null,{"$error":"#N/A"},{"$error":"#N/A"},{"$f":"IFERROR(RTD(\"cqg.rtd\", ,\"ContractData\",AC11, \"PerCentNetLastTrade\",, \"T\")/100,\"\")","v":""},{"$f":"IFERROR(RTD(\"cqg.rtd\", ,\"ContractData\",AC11, \"LongDescription\",, \"T\"),\"\")","v":""},"","",{"$error":"#N/A"}]
["S.US.APP ",1,"S.US.APP ",{"$f":"RTD(\"cqg.rtd\", ,\"ContractData\",C12, \"LongDescription\",, \"T\")","v":"Applovin Corporation Class A"},null,null,null,{"$f":"RTD(\"cqg.rtd\", ,\"ContractData\",C12, \"LastTradeToday\",, \"T\")","v":""},{"$f":"RTD(\"cqg.rtd\", ,\"ContractData\",C12, \"NetLastTradeToday\",, \"T\")","v":""},{"$f":"IFERROR(RTD(\"cqg.rtd\", ,\"ContractData\",C12, \"PerCentNetLastTrade\",, \"T\")/100,\"\")","v":""},{"$f":"RTD(\"cqg.rtd\", ,\"ContractData\", C12, \"T_CVol\",, \"T\")","v":45665},12,{"$f":"IFERROR(RANK($J12,$J$1:J$101)+COUNTIF($J$1:J12,J12)-1,\"\")","v":""},"S.US.APP ",{"$error":"#N/A"},{"$f":"RTD(\"cqg.rtd\", ,\"ContractData\",O12, \"LongDescription\",, \"T\")","v":{"$error":"#N/A"}},{"$f":"IFERROR(RTD(\"cqg.rtd\", ,\"ContractData\",O12, \"PerCentNetLastTrade\",, \"T\")/100,\"\")","v":""},{"$error":"#N/A"},null,"",{"$error":"#N/A"},null,{"$f":"IFERROR(RTD(\"cqg.rtd\", ,\"ContractData\",O12, \"LongDescription\",, \"T\"),\"\")","v":""},null,null,"",null,{"$error":"#N/A"},{"$error":"#N/A"},{"$f":"IFERROR(RTD(\"cqg.rtd\", ,\"ContractData\",AC12, \"PerCentNetLastTrade\",, \"T\")/100,\"\")","v":""},{"$f":"IFERROR(RTD(\"cqg.rtd\", ,\"ContractData\",AC12, \"LongDescription\",, \"T\"),\"\")","v":""},"","",{"$error":"#N/A"}]
["S.US.ARM ",1,"S.US.ARM ",{"$f":"RTD(\"cqg.rtd\", ,\"ContractData\",C13, \"LongDescription\",, \"T\")","v":"Arm Holdings plc"},null,null,null,{"$f":"RTD(\"cqg.rtd\", ,\"ContractData\",C13, \"LastTradeToday\",, \"T\")","v":""},{"$f":"RTD(\"cqg.rtd\", ,\"ContractData\",C13, \"NetLastTradeToday\",, \"T\")","v":""},{"$f":"IFERROR(RTD(\"cqg.rtd\", ,\"ContractData\",C13, \"PerCentNetLastTrade\",, \"T\")/100,\"\")","v":""},{"$f":"RTD(\"cqg.rtd\", ,\"ContractData\", C13, \"T_CVol\",, \"T\")","v":22687},13,{"$f":"IFERROR(RANK($J13,$J$1:J$101)+COUNTIF($J$1:J13,J13)-1,\"\")","v":""},"S.US.ARM ",{"$error":"#N/A"},{"$f":"RTD(\"cqg.rtd\", ,\"ContractData\",O13, \"LongDescription\",, \"T\")","v":{"$error":"#N/A"}},{"$f":"IFERROR(RTD(\"cqg.rtd\", ,\"ContractData\",O13, \"PerCentNetLastTrade\",, \"T\")/100,\"\")","v":""},{"$error":"#N/A"},null,"",{"$error":"#N/A"},null,{"$f":"IFERROR(RTD(\"cqg.rtd\", ,\"ContractData\",O13, \"LongDescription\",, \"T\"),\"\")","v":""},null,null,"",null,{"$error":"#N/A"},{"$error":"#N/A"},{"$f":"IFERROR(RTD(\"cqg.rtd\", ,\"ContractData\",AC13, \"PerCentNetLastTrade\",, \"T\")/100,\"\")","v":""},{"$f":"IFERROR(RTD(\"cqg.rtd\", ,\"ContractData\",AC13, \"LongDescription\",, \"T\"),\"\")","v":""},"","",{"$error":"#N/A"}]
["S.US.ASML ",1,"S.US.ASML ",{"$f":"RTD(\"cqg.rtd\", ,\"ContractData\",C14, \"LongDescription\",, \"T\")","v":"ASML Holding NV NY Reg Shs"},null,null,null,{"$f":"RTD(\"cqg.rtd\", ,\"ContractData\",C14, \"LastTradeToday\",, \"T\")","v":""},{"$f":"RTD(\"cqg.rtd\", ,\"ContractData\",C14, \"NetLastTradeToday\",, \"T\")","v":""},{"$f":"IFERROR(RTD(\"cqg.rtd\", ,\"ContractData\",C14, \"PerCentNetLastTrade\",, \"T\")/100,\"\")","v":""},{"$f":"RTD(\"cqg.rtd\", ,\"ContractData\", C14, \"T_CVol\",, \"T\")","v":6998},14,{"$f":"IFERROR(RANK($J14,$J$1:J$101)+COUNTIF($J$1:J14,J14)-1,\"\")","v":""},"S.US.ASML ",{"$error":"#N/A"},{"$f":"RTD(\"cqg.rtd\", ,\"ContractData\",O14, \"LongDescription\",, \"T\")","v":{"$error":"#N/A"}},{"$f":"IFERROR(RTD(\"cqg.rtd\", ,\"ContractData\",O14, \"PerCentNetLastTrade\",, \"T\")/100,\"\")","v":""},{"$error":"#N/A"},null,"",{"$error":"#N/A"},null,{"$f":"IFERROR(RTD(\"cqg.rtd\", ,\"ContractData\",O14, \"LongDescription\",, \"T\"),\"\")","v":""},null,null,"",null,{"$error":"#N/A"},{"$error":"#N/A"},{"$f":"IFERROR(RTD(\"cqg.rtd\", ,\"ContractData\",AC14, \"PerCentNetLastTrade\",, \"T\")/100,\"\")","v":""},{"$f":"IFERROR(RTD(\"cqg.rtd\", ,\"ContractData\",AC14, \"LongDescription\",, \"T\"),\"\")","v":""},"","",{"$error":"#N/A"}]
["S.US.AVGO ",1,"S.US.AVGO ",{"$f":"RTD(\"cqg.rtd\", ,\"ContractData\",C15, \"LongDescription\",, \"T\")","v":"Broadcom Inc."},null,null,null,{"$f":"RTD(\"cqg.rtd\", ,\"ContractData\",C15, \"LastTradeToday\",, \"T\")","v":""},{"$f":"RTD(\"cqg.rtd\", ,\"ContractData\",C15, \"NetLastTradeToday\",, \"T\")","v":""},{"$f":"IFERROR(RTD(\"cqg.rtd\", ,\"ContractData\",C15, \"PerCentNetLastTrade\",, \"T\")/100,\"\")","v":""},{"$f":"RTD(\"cqg.rtd\", ,\"ContractData\", C15, \"T_CVol\",, \"T\")","v":71814},15,{"$f":"IFERROR(RANK($J15,$J$1:J$101)+COUNTIF($J$1:J15,J15)-1,\"\")","v":""},"S.US.AVGO ",{"$error":"#N/A"},{"$f":"RTD(\"cqg.rtd\", ,\"ContractData\",O15, \"LongDescription\",, \"T\")","v":{"$error":"#N/A"}},{"$f":"IFERROR(RTD(\"cqg.rtd\", ,\"ContractData\",O15, \"PerCentNetLastTrade\",, \"T\")/100,\"\")","v":""},{"$error":"#N/A"},null,"",{"$error":"#N/A"},null,{"$f":"IFERROR(RTD(\"cqg.rtd\", ,\"ContractData\",O15, \"LongDescription\",, \"T\"),\"\")","v":""},null,null,"",null,{"$error":"#N/A"},{"$error":"#N/A"},{"$f":"IFERROR(RTD(\"cqg.rtd\", ,\"ContractData\",AC15, \"PerCentNetLastTrade\",, \"T\")/100,\"\")","v":""},{"$f":"IFERROR(RTD(\"cqg.rtd\", ,\"ContractData\",AC15, \"LongDescription\",, \"T\"),\"\")","v":""},"","",{"$error":"#N/A"}]
["S.US.AXON ",1,"S.US.AXON ",{"$f":"RTD(\"cqg.rtd\", ,\"ContractData\",C16, \"LongDescription\",, \"T\")","v":"Axon Enterprise, Inc."},null,null,null,{"$f":"RTD(\"cqg.rtd\", ,\"ContractData\",C16, \"LastTradeToday\",, \"T\")","v":""},{"$f":"RTD(\"cqg.rtd\", ,\"ContractData\",C16, \"NetLastTradeToday\",, \"T\")","v":""},{"$f":"IFERROR(RTD(\"cqg.rtd\", ,\"ContractData\",C16, \"PerCentNetLastTrade\",, \"T\")/100,\"\")","v":""},{"$f":"RTD(\"cqg.rtd\", ,\"ContractData\", C16, \"T_CVol\",, \"T\")","v":581},16,{"$f":"IFERROR(RANK($J16,$J$1:J$101)+COUNTIF($J$1:J16,J16)-1,\"\")","v":""},"S.US.AXON ",{"$error":"#N/A"}]
["S.US.AZN ",1,"S.US.AZN ",{"$f":"RTD(\"cqg.rtd\", ,\"ContractData\",C17, \"LongDescription\",, \"T\")","v":"AstraZeneca plc ADS"},null,null,null,{"$f":"RTD(\"cqg.rtd\", ,\"ContractData\",C17, \"LastTradeToday\",, \"T\")","v":""},{"$f":"RTD(\"cqg.rtd\", ,\"ContractData\",C17, \"NetLastTradeToday\",, \"T\")","v":""},{"$f":"IFERROR(RTD(\"cqg.rtd\", ,\"ContractData\",C17, \"PerCentNetLastTrade\",, \"T\")/100,\"\")","v":""},{"$f":"RTD(\"cqg.rtd\", ,\"ContractData\", C17, \"T_CVol\",, \"T\")","v":19875},17,{"$f":"IFERROR(RANK($J17,$J$1:J$101)+COUNTIF($J$1:J17,J17)-1,\"\")","v":""},"S.US.AZN ",{"$error":"#N/A"}]
["S.US.BIIB ",1,"S.US.BIIB ",{"$f":"RTD(\"cqg.rtd\", ,\"ContractData\",C18, \"LongDescription\",, \"T\")","v":"Biogen Inc."},null,null,null,{"$f":"RTD(\"cqg.rtd\", ,\"ContractData\",C18, \"LastTradeToday\",, \"T\")","v":""},{"$f":"RTD(\"cqg.rtd\", ,\"ContractData\",C18, \"NetLastTradeToday\",, \"T\")","v":""},{"$f":"IFERROR(RTD(\"cqg.rtd\", ,\"ContractData\",C18, \"PerCentNetLastTrade\",, \"T\")/100,\"\")","v":""},{"$f":"RTD(\"cqg.rtd\", ,\"ContractData\", C18, \"T_CVol\",, \"T\")","v":1227},18,{"$f":"IFERROR(RANK($J18,$J$1:J$101)+COUNTIF($J$1:J18,J18)-1,\"\")","v":""},"S.US.BIIB ",{"$error":"#N/A"}]
["S.US.BKNG ",1,"S.US.BKNG ",{"$f":"RTD(\"cqg.rtd\", ,\"ContractData\",C19, \"LongDescription\",, \"T\")","v":"Booking Holdings Inc."},null,null,null,{"$f":"RTD(\"cqg.rtd\", ,\"ContractData\",C19, \"LastTradeToday\",, \"T\")","v":""},{"$f":"RTD(\"cqg.rtd\", ,\"ContractData\",C19, \"NetLastTradeToday\",, \"T\")","v":""},{"$f":"IFERROR(RTD(\"cqg.rtd\", ,\"ContractData\",C19, \"PerCentNetLastTrade\",, \"T\")/100,\"\")","v":""},{"$f":"RTD(\"cqg.rtd\", ,\"ContractData\", C19, \"T_CVol\",, \"T\")","v":26},19,{"$f":"IFERROR(RANK($J19,$J$1:J$101)+COUNTIF($J$1:J19,J19)-1,\"\")","v":""},"S.US.BKNG ",{"$error":"#N/A"}]
["S.US.BKR ",1,"S.US.BKR ",{"$f":"RTD(\"cqg.rtd\", ,\"ContractData\",C20, \"LongDescription\",, \"T\")","v":"Baker Hughes Company"},null,null,null,{"$f":"RTD(\"cqg.rtd\", ,\"ContractData\",C20, \"LastTradeToday\",, \"T\")","v":""},{"$f":"RTD(\"cqg.rtd\", ,\"ContractData\",C20, \"NetLastTradeToday\",, \"T\")","v":""},{"$f":"IFERROR(RTD(\"cqg.rtd\", ,\"ContractData\",C20, \"PerCentNetLastTrade\",, \"T\")/100,\"\")","v":""},{"$f":"RTD(\"cqg.rtd\", ,\"ContractData\", C20, \"T_CVol\",, \"T\")","v":3393},20,{"$f":"IFERROR(RANK($J20,$J$1:J$101)+COUNTIF($J$1:J20,J20)-1,\"\")","v":""},"S.US.BKR ",{"$error":"#N/A"}]
["S.US.CCEP ",1,"S.US.CCEP ",{"$f":"RTD(\"cqg.rtd\", ,\"ContractData\",C21, \"LongDescription\",, \"T\")","v":"Coca-Cola Europacific Partners plc"},null,null,null,{"$f":"RTD(\"cqg.rtd\", ,\"ContractData\",C21, \"LastTradeToday\",, \"T\")","v":""},{"$f":"RTD(\"cqg.rtd\", ,\"ContractData\",C21, \"NetLastTradeToday\",, \"T\")","v":""},{"$f":"IFERROR(RTD(\"cqg.rtd\", ,\"ContractData\",C21, \"PerCentNetLastTrade\",, \"T\")/100,\"\")","v":""},{"$f":"RTD(\"cqg.rtd\", ,\"ContractData\", C21, \"T_CVol\",, \"T\")","v":321},21,{"$f":"IFERROR(RANK($J21,$J$1:J$101)+COUNTIF($J$1:J21,J21)-1,\"\")","v":""},"S.US.CCEP ",{"$error":"#N/A"}]
["S.US.CDNS ",1,"S.US.CDNS ",{"$f":"RTD(\"cqg.rtd\", ,\"ContractData\",C22, \"LongDescription\",, \"T\")","v":"Cadence Design Systems, Inc"},null,null,null,{"$f":"RTD(\"cqg.rtd\", ,\"ContractData\",C22, \"LastTradeToday\",, \"T\")","v":""},{"$f":"RTD(\"cqg.rtd\", ,\"ContractData\",C22, \"NetLastTradeToday\",, \"T\")","v":""},{"$f":"IFERROR(RTD(\"cqg.rtd\", ,\"ContractData\",C22, \"PerCentNetLastTrade\",, \"T\")/100,\"\")","v":""},{"$f":"RTD(\"cqg.rtd\", ,\"ContractData\", C22, \"T_CVol\",, \"T\")","v":555},22,{"$f":"IFERROR(RANK($J22,$J$1:J$101)+COUNTIF($J$1:J22,J22)-1,\"\")","v":""},"S.US.CDNS ",{"$error":"#N/A"}]
["S.US.CDW ",1,"S.US.CDW ",{"$f":"RTD(\"cqg.rtd\", ,\"ContractData\",C23, \"LongDescription\",, \"T\")","v":"CDW Corporation"},null,null,null,{"$f":"RTD(\"cqg.rtd\", ,\"ContractData\",C23, \"LastTradeToday\",, \"T\")","v":""},{"$f":"RTD(\"cqg.rtd\", ,\"ContractData\",C23, \"NetLastTradeToday\",, \"T\")","v":""},{"$f":"IFERROR(RTD(\"cqg.rtd\", ,\"ContractData\",C23, \"PerCentNetLastTrade\",, \"T\")/100,\"\")","v":""},{"$f":"RTD(\"cqg.rtd\", ,\"ContractData\", C23, \"T_CVol\",, \"T\")","v":75},23,{"$f":"IFERROR(RANK($J23,$J$1:J$101)+COUNTIF($J$1:J23,J23)-1,\"\")","v":""},"S.US.CDW ",{"$error":"#N/A"}]
["S.US.CEG ",1,"S.US.CEG ",{"$f":"RTD(\"cqg.rtd\", ,\"ContractData\",C24, \"LongDescription\",, \"T\")","v":"Constellation Energy Corporation"},null,null,null,{"$f":"RTD(\"cqg.rtd\", ,\"ContractData\",C24, \"LastTradeToday\",, \"T\")","v":""},{"$f":"RTD(\"cqg.rtd\", ,\"ContractData\",C24, \"NetLastTradeToday\",, \"T\")","v":""},{"$f":"IFERROR(RTD(\"cqg.rtd\", ,\"ContractData\",C24, \"PerCentNetLastTrade\",, \"T\")/100,\"\")","v":""},{"$f":"RTD(\"cqg.rtd\", ,\"ContractData\", C24, \"T_CVol\",, \"T\")","v":7172},24,{"$f":"IFERROR(RANK($J24,$J$1:J$101)+COUNTIF($J$1:J24,J24)-1,\"\")","v":""},"S.US.CEG ",{"$error":"#N/A"}]
["S.US.CHTR ",1,"S.US.CHTR ",{"$f":"RTD(\"cqg.rtd\", ,\"ContractData\",C25, \"LongDescription\",, \"T\")","v":"Charter Communications, Inc. Class A"},null,null,null,{"$f":"RTD(\"cqg.rtd\", ,\"ContractData\",C25, \"LastTradeToday\",, \"T\")","v":""},{"$f":"RTD(\"cqg.rtd\", ,\"ContractData\",C25, \"NetLastTradeToday\",, \"T\")","v":""},{"$f":"IFERROR(RTD(\"cqg.rtd\", ,\"ContractData\",C25, \"PerCentNetLastTrade\",, \"T\")/100,\"\")","v":""},{"$f":"RTD(\"cqg.rtd\", ,\"ContractData\", C25, \"T_CVol\",, \"T\")","v":1490},25,{"$f":"IFERROR(RANK($J25,$J$1:J$101)+COUNTIF($J$1:J25,J25)-1,\"\")","v":""},"S.US.CHTR ",{"$error":"#N/A"}]
["S.US.CMCSA ",1,"S.US.CMCSA ",{"$f":"RTD(\"cqg.rtd\", ,\"ContractData\",C26, \"LongDescription\",, \"T\")","v":"Comcast Corp ClsA"},null,null,null,{"$f":"RTD(\"cqg.rtd\", ,\"ContractData\",C26, \"LastTradeToday\",, \"T\")","v":""},{"$f":"RTD(\"cqg.rtd\", ,\"ContractData\",C26, \"NetLastTradeToday\",, \"T\")","v":""},{"$f":"IFERROR(RTD(\"cqg.rtd\", ,\"ContractData\",C26, \"PerCentNetLastTrade\",, \"T\")/100,\"\")","v":""},{"$f":"RTD(\"cqg.rtd\", ,\"ContractData\", C26, \"T_CVol\",, \"T\")","v":10529},26,{"$f":"IFERROR(RANK($J26,$J$1:J$101)+COUNTIF($J$1:J26,J26)-1,\"\")","v":""},"S.US.CMCSA ",{"$error":"#N/A"}]
["S.US.COST ",1,"S.US.COST ",{"$f":"RTD(\"cqg.rtd\", ,\"ContractData\",C27, \"LongDescription\",, \"T\")","v":"Costco Wholesale Corp"},null,null,null,{"$f":"RTD(\"cqg.rtd\", ,\"ContractData\",C27, \"LastTradeToday\",, \"T\")","v":""},{"$f":"RTD(\"cqg.rtd\", ,\"ContractData\",C27, \"NetLastTradeToday\",, \"T\")","v":""},{"$f":"IFERROR(RTD(\"cqg.rtd\", ,\"ContractData\",C27, \"PerCentNetLastTrade\",, \"T\")/100,\"\")","v":""},{"$f":"RTD(\"cqg.rtd\", ,\"ContractData\", C27, \"T_CVol\",, \"T\")","v":4858},27,{"$f":"IFERROR(RANK($J27,$J$1:J$101)+COUNTIF($J$1:J27,J27)-1,\"\")","v":""},"S.US.COST ",{"$error":"#N/A"}]
["S.US.CPRT ",1,"S.US.CPRT ",{"$f":"RTD(\"cqg.rtd\", ,\"ContractData\",C28, \"LongDescription\",, \"T\")","v":"Copart Inc"},null,null,null,{"$f":"RTD(\"cqg.rtd\", ,\"ContractData\",C28, \"LastTradeToday\",, \"T\")","v":""},{"$f":"RTD(\"cqg.rtd\", ,\"ContractData\",C28, \"NetLastTradeToday\",, \"T\")","v":""},{"$f":"IFERROR(RTD(\"cqg.rtd\", ,\"ContractData\",C28, \"PerCentNetLastTrade\",, \"T\")/100,\"\")","v":""},{"$f":"RTD(\"cqg.rtd\", ,\"ContractData\", C28, \"T_CVol\",, \"T\")","v":658},28,{"$f":"IFERROR(RANK($J28,$J$1:J$101)+COUNTIF($J$1:J28,J28)-1,\"\")","v":""},"S.US.CPRT ",{"$error":"#N/A"}]
["S.US.CRWD ",1,"S.US.CRWD ",{"$f":"RTD(\"cqg.rtd\", ,\"ContractData\",C29, \"LongDescription\",, \"T\")","v":"CrowdStrike Holdings, Inc. Class A"},null,null,null,{"$f":"RTD(\"cqg.rtd\", ,\"ContractData\",C29, \"LastTradeToday\",, \"T\")","v":""},{"$f":"RTD(\"cqg.rtd\", ,\"ContractData\",C29, \"NetLastTradeToday\",, \"T\")","v":""},{"$f":"IFERROR(RTD(\"cqg.rtd\", ,\"ContractData\",C29, \"PerCentNetLastTrade\",, \"T\")/100,\"\")","v":""},{"$f":"RTD(\"cqg.rtd\", ,\"ContractData\", C29, \"T_CVol\",, \"T\")","v":18341},29,{"$f":"IFERROR(RANK($J29,$J$1:J$101)+COUNTIF($J$1:J29,J29)-1,\"\")","v":""},"S.US.CRWD ",{"$error":"#N/A"}]
["S.US.CSCO ",1,"S.US.CSCO ",{"$f":"RTD(\"cqg.rtd\", ,\"ContractData\",C30, \"LongDescription\",, \"T\")","v":"Cisco Systems Inc"},null,null,null,{"$f":"RTD(\"cqg.rtd\", ,\"ContractData\",C30, \"LastTradeToday\",, \"T\")","v":""},{"$f":"RTD(\"cqg.rtd\", ,\"ContractData\",C30, \"NetLastTradeToday\",, \"T\")","v":""},{"$f":"IFERROR(RTD(\"cqg.rtd\", ,\"ContractData\",C30, \"PerCentNetLastTrade\",, \"T\")/100,\"\")","v":""},{"$f":"RTD(\"cqg.rtd\", ,\"ContractData\", C30, \"T_CVol\",, \"T\")","v":13346},30,{"$f":"IFERROR(RANK($J30,$J$1:J$101)+COUNTIF($J$1:J30,J30)-1,\"\")","v":""},"S.US.CSCO ",{"$error":"#N/A"}]
["S.US.CSGP ",1,"S.US.CSGP ",{"$f":"RTD(\"cqg.rtd\", ,\"ContractData\",C31, \"LongDescription\",, \"T\")","v":"CoStar Group"},null,null,null,{"$f":"RTD(\"cqg.rtd\", ,\"ContractData\",C31, \"LastTradeToday\",, \"T\")","v":""},{"$f":"RTD(\"cqg.rtd\", ,\"ContractData\",C31, \"NetLastTradeToday\",, \"T\")","v":""},{"$f":"IFERROR(RTD(\"cqg.rtd\", ,\"ContractData\",C31, \"PerCentNetLastTrade\",, \"T\")/100,\"\")","v":""},{"$f":"RTD(\"cqg.rtd\", ,\"ContractData\", C31, \"T_CVol\",, \"T\")","v":79},31,{"$f":"IFERROR(RANK($J31,$J$1:J$101)+COUNTIF($J$1:J31,J31)-1,\"\")","v":""},"S.US.CSGP ",{"$error":"#N/A"}]
["S.US.CSX ",1,"S.US.CSX ",{"$f":"RTD(\"cqg.rtd\", ,\"ContractData\",C32, \"LongDescription\",, \"T\")","v":"CSX Corporation"},null,null,null,{"$f":"RTD(\"cqg.rtd\", ,\"ContractData\",C32, \"LastTradeToday\",, \"T\")","v":""},{"$f":"RTD(\"cqg.rtd\", ,\"ContractData\",C32, \"NetLastTradeToday\",, \"T\")","v":""},{"$f":"IFERROR(RTD(\"cqg.rtd\", ,\"ContractData\",C32, \"PerCentNetLastTrade\",, \"T\")/100,\"\")","v":""},{"$f":"RTD(\"cqg.rtd\", ,\"ContractData\", C32, \"T_CVol\",, \"T\")","v":2012887},32,{"$f":"IFERROR(RANK($J32,$J$1:J$101)+COUNTIF($J$1:J32,J32)-1,\"\")","v":""},"S.US.CSX ",{"$error":"#N/A"}]
["S.US.CTAS ",1,"S.US.CTAS ",{"$f":"RTD(\"cqg.rtd\", ,\"ContractData\",C33, \"LongDescription\",, \"T\")","v":"Cintas Corp"},null,null,null,{"$f":"RTD(\"cqg.rtd\", ,\"ContractData\",C33, \"LastTradeToday\",, \"T\")","v":""},{"$f":"RTD(\"cqg.rtd\", ,\"ContractData\",C33, \"NetLastTradeToday\",, \"T\")","v":""},{"$f":"IFERROR(RTD(\"cqg.rtd\", ,\"ContractData\",C33, \"PerCentNetLastTrade\",, \"T\")/100,\"\")","v":""},{"$f":"RTD(\"cqg.rtd\", ,\"ContractData\", C33, \"T_CVol\",, \"T\")","v":252},33,{"$f":"IFERROR(RANK($J33,$J$1:J$101)+COUNTIF($J$1:J33,J33)-1,\"\")","v":""},"S.US.CTAS ",{"$error":"#N/A"}]
["S.US.CTSH ",1,"S.US.CTSH ",{"$f":"RTD(\"cqg.rtd\", ,\"ContractData\",C34, \"LongDescription\",, \"T\")","v":"Cognizant Tech Solutions Corp"},null,null,null,{"$f":"RTD(\"cqg.rtd\", ,\"ContractData\",C34, \"LastTradeToday\",, \"T\")","v":""},{"$f":"RTD(\"cqg.rtd\", ,\"ContractData\",C34, \"NetLastTradeToday\",, \"T\")","v":""},{"$f":"IFERROR(RTD(\"cqg.rtd\", ,\"ContractData\",C34, \"PerCentNetLastTrade\",, \"T\")/100,\"\")","v":""},{"$f":"RTD(\"cqg.rtd\", ,\"ContractData\", C34, \"T_CVol\",, \"T\")","v":2335},34,{"$f":"IFERROR(RANK($J34,$J$1:J$101)+COUNTIF($J$1:J34,J34)-1,\"\")","v":""},"S.US.CTSH ",{"$error":"#N/A"}]
["S.US.DASH ",1,"S.US.DASH ",{"$f":"RTD(\"cqg.rtd\", ,\"ContractData\",C35, \"LongDescription\",, \"T\")","v":"DoorDash, Inc"},null,null,null,{"$f":"RTD(\"cqg.rtd\", ,\"ContractData\",C35, \"LastTradeToday\",, \"T\")","v":""},{"$f":"RTD(\"cqg.rtd\", ,\"ContractData\",C35, \"NetLastTradeToday\",, \"T\")","v":""},{"$f":"IFERROR(RTD(\"cqg.rtd\", ,\"ContractData\",C35, \"PerCentNetLastTrade\",, \"T\")/100,\"\")","v":""},{"$f":"RTD(\"cqg.rtd\", ,\"ContractData\", C35, \"T_CVol\",, \"T\")","v":1057},35,{"$f":"IFERROR(RANK($J35,$J$1:J$101)+COUNTIF($J$1:J35,J35)-1,\"\")","v":""},"S.US.DASH ",{"$error":"#N/A"}]
["S.US.DDOG ",1,"S.US.DDOG ",{"$f":"RTD(\"cqg.rtd\", ,\"ContractData\",C36, \"LongDescription\",, \"T\")","v":"Datadog, Inc. Class A"},null,null,null,{"$f":"RTD(\"cqg.rtd\", ,\"ContractData\",C36, \"LastTradeToday\",, \"T\")","v":""},{"$f":"RTD(\"cqg.rtd\", ,\"ContractData\",C36, \"NetLastTradeToday\",, \"T\")","v":""},{"$f":"IFERROR(RTD(\"cqg.rtd\", ,\"ContractData\",C36, \"PerCentNetLastTrade\",, \"T\")/100,\"\")","v":""},{"$f":"RTD(\"cqg.rtd\", ,\"ContractData\", C36, \"T_CVol\",, \"T\")","v":4023},36,{"$f":"IFERROR(RANK($J36,$J$1:J$101)+COUNTIF($J$1:J36,J36)-1,\"\")","v":""},"S.US.DDOG ",{"$error":"#N/A"}]
["S.US.DXCM ",1,"S.US.DXCM ",{"$f":"RTD(\"cqg.rtd\", ,\"ContractData\",C37, \"LongDescription\",, \"T\")","v":"DexCom Inc"},null,null,null,{"$f":"RTD(\"cqg.rtd\", ,\"ContractData\",C37, \"LastTradeToday\",, \"T\")","v":""},{"$f":"RTD(\"cqg.rtd\", ,\"ContractData\",C37, \"NetLastTradeToday\",, \"T\")","v":""},{"$f":"IFERROR(RTD(\"cqg.rtd\", ,\"ContractData\",C37, \"PerCentNetLastTrade\",, \"T\")/100,\"\")","v":""},{"$f":"RTD(\"cqg.rtd\", ,\"ContractData\", C37, \"T_CVol\",, \"T\")","v":699},37,{"$f":"IFERROR(RANK($J37,$J$1:J$101)+COUNTIF($J$1:J37,J37)-1,\"\")","v":""},"S.US.DXCM ",{"$error":"#N/A"}]
["S.US.EA ",1,"S.US.EA ",{"$f":"RTD(\"cqg.rtd\", ,\"ContractData\",C38, \"LongDescription\",, \"T\")","v":"Electronic Arts"},null,null,null,{"$f":"RTD(\"cqg.rtd\", ,\"ContractData\",C38, \"LastTradeToday\",, \"T\")","v":""},{"$f":"RTD(\"cqg.rtd\", ,\"ContractData\",C38, \"NetLastTradeToday\",, \"T\")","v":""},{"$f":"IFERROR(RTD(\"cqg.rtd\", ,\"ContractData\",C38, \"PerCentNetLastTrade\",, \"T\")/100,\"\")","v":""},{"$f":"RTD(\"cqg.rtd\", ,\"ContractData\", C38, \"T_CVol\",, \"T\")","v":161},38,{"$f":"IFERROR(RANK($J38,$J$1:J$101)+COUNTIF($J$1:J38,J38)-1,\"\")","v":""},"S.US.EA ",{"$error":"#N/A"}]
["S.US.EXC ",1,"S.US.EXC ",{"$f":"RTD(\"cqg.rtd\", ,\"ContractData\",C39, \"LongDescription\",, \"T\")","v":"Exelon Corporation"},null,null,null,{"$f":"RTD(\"cqg.rtd\", ,\"ContractData\",C39, \"LastTradeToday\",, \"T\")","v":""},{"$f":"RTD(\"cqg.rtd\", ,\"ContractData\",C39, \"NetLastTradeToday\",, \"T\")","v":""},{"$f":"IFERROR(RTD(\"cqg.rtd\", ,\"ContractData\",C39, \"PerCentNetLastTrade\",, \"T\")/100,\"\")","v":""},{"$f":"RTD(\"cqg.rtd\", ,\"ContractData\", C39, \"T_CVol\",, \"T\")","v":778},39,{"$f":"IFERROR(RANK($J39,$J$1:J$101)+COUNTIF($J$1:J39,J39)-1,\"\")","v":""},"S.US.EXC ",{"$error":"#N/A"}]
["S.US.FANG ",1,"S.US.FANG ",{"$f":"RTD(\"cqg.rtd\", ,\"ContractData\",C40, \"LongDescription\",, \"T\")","v":"Diamondback Energy, Inc."},null,null,null,{"$f":"RTD(\"cqg.rtd\", ,\"ContractData\",C40, \"LastTradeToday\",, \"T\")","v":""},{"$f":"RTD(\"cqg.rtd\", ,\"ContractData\",C40, \"NetLastTradeToday\",, \"T\")","v":""},{"$f":"IFERROR(RTD(\"cqg.rtd\", ,\"ContractData\",C40, \"PerCentNetLastTrade\",, \"T\")/100,\"\")","v":""},{"$f":"RTD(\"cqg.rtd\", ,\"ContractData\", C40, \"T_CVol\",, \"T\")","v":1909},40,{"$f":"IFERROR(RANK($J40,$J$1:J$101)+COUNTIF($J$1:J40,J40)-1,\"\")","v":""},"S.US.FANG ",{"$error":"#N/A"}]
["S.US.FAST ",1,"S.US.FAST ",{"$f":"RTD(\"cqg.rtd\", ,\"ContractData\",C41, \"LongDescription\",, \"T\")","v":"Fastenal Co"},null,null,null,{"$f":"RTD(\"cqg.rtd\", ,\"ContractData\",C41, \"LastTradeToday\",, \"T\")","v":""},{"$f":"RTD(\"cqg.rtd\", ,\"ContractData\",C41, \"NetLastTradeToday\",, \"T\")","v":""},{"$f":"IFERROR(RTD(\"cqg.rtd\", ,\"ContractData\",C41, \"PerCentNetLastTrade\",, \"T\")/100,\"\")","v":""},{"$f":"RTD(\"cqg.rtd\", ,\"ContractData\", C41, \"T_CVol\",, \"T\")","v":525},41,{"$f":"IFERROR(RANK($J41,$J$1:J$101)+COUNTIF($J$1:J41,J41)-1,\"\")","v":""},"S.US.FAST ",{"$error":"#N/A"}]
["S.US.FTNT ",1,"S.US.FTNT ",{"$f":"RTD(\"cqg.rtd\", ,\"ContractData\",C42, \"LongDescription\",, \"T\")","v":"Fortinet, Inc."},null,null,null,{"$f":"RTD(\"cqg.rtd\", ,\"ContractData\",C42, \"LastTradeToday\",, \"T\")","v":""},{"$f":"RTD(\"cqg.rtd\", ,\"ContractData\",C42, \"NetLastTradeToday\",, \"T\")","v":""},{"$f":"IFERROR(RTD(\"cqg.rtd\", ,\"ContractData\",C42, \"PerCentNetLastTrade\",, \"T\")/100,\"\")","v":""},{"$f":"RTD(\"cqg.rtd\", ,\"ContractData\", C42, \"T_CVol\",, \"T\")","v":11346},42,{"$f":"IFERROR(RANK($J42,$J$1:J$101)+COUNTIF($J$1:J42,J42)-1,\"\")","v":""},"S.US.FTNT ",{"$error":"#N/A"}]
["S.US.GEHC ",1,"S.US.GEHC ",{"$f":"RTD(\"cqg.rtd\", ,\"ContractData\",C43, \"LongDescription\",, \"T\")","v":"GE HealthCare Technologies Inc."},null,null,null,{"$f":"RTD(\"cqg.rtd\", ,\"ContractData\",C43, \"LastTradeToday\",, \"T\")","v":""},{"$f":"RTD(\"cqg.rtd\", ,\"ContractData\",C43, \"NetLastTradeToday\",, \"T\")","v":""},{"$f":"IFERROR(RTD(\"cqg.rtd\", ,\"ContractData\",C43, \"PerCentNetLastTrade\",, \"T\")/100,\"\")","v":""},{"$f":"RTD(\"cqg.rtd\", ,\"ContractData\", C43, \"T_CVol\",, \"T\")","v":269},43,{"$f":"IFERROR(RANK($J43,$J$1:J$101)+COUNTIF($J$1:J43,J43)-1,\"\")","v":""},"S.US.GEHC ",{"$error":"#N/A"}]
["S.US.GFS ",1,"S.US.GFS ",{"$f":"RTD(\"cqg.rtd\", ,\"ContractData\",C44, \"LongDescription\",, \"T\")","v":"GLOBALFOUNDRIES Inc."},null,null,null,{"$f":"RTD(\"cqg.rtd\", ,\"ContractData\",C44, \"LastTradeToday\",, \"T\")","v":""},{"$f":"RTD(\"cqg.rtd\", ,\"ContractData\",C44, \"NetLastTradeToday\",, \"T\")","v":""},{"$f":"IFERROR(RTD(\"cqg.rtd\", ,\"ContractData\",C44, \"PerCentNetLastTrade\",, \"T\")/100,\"\")","v":""},{"$f":"RTD(\"cqg.rtd\", ,\"ContractData\", C44, \"T_CVol\",, \"T\")","v":694},44,{"$f":"IFERROR(RANK($J44,$J$1:J$101)+COUNTIF($J$1:J44,J44)-1,\"\")","v":""},"S.US.GFS ",{"$error":"#N/A"}]
["S.US.GILD ",1,"S.US.GILD ",{"$f":"RTD(\"cqg.rtd\", ,\"ContractData\",C45, \"LongDescription\",, \"T\")","v":"Gilead Sciences Inc"},null,null,null,{"$f":"RTD(\"cqg.rtd\", ,\"ContractData\",C45, \"LastTradeToday\",, \"T\")","v":""},{"$f":"RTD(\"cqg.rtd\", ,\"ContractData\",C45, \"NetLastTradeToday\",, \"T\")","v":""},{"$f":"IFERROR(RTD(\"cqg.rtd\", ,\"ContractData\",C45, \"PerCentNetLastTrade\",, \"T\")/100,\"\")","v":""},{"$f":"RTD(\"cqg.rtd\", ,\"ContractData\", C45, \"T_CVol\",, \"T\")","v":2786},45,{"$f":"IFERROR(RANK($J45,$J$1:J$101)+COUNTIF($J$1:J45,J45)-1,\"\")","v":""},"S.US.GILD ",{"$error":"#N/A"}]
["S.US.GOOG ",1,"S.US.GOOG ",{"$f":"RTD(\"cqg.rtd\", ,\"ContractData\",C46, \"LongDescription\",, \"T\")","v":"Alphabet, Inc. Class C"},null,null,null,{"$f":"RTD(\"cqg.rtd\", ,\"ContractData\",C46, \"LastTradeToday\",, \"T\")","v":""},{"$f":"RTD(\"cqg.rtd\", ,\"ContractData\",C46, \"NetLastTradeToday\",, \"T\")","v":""},{"$f":"IFERROR(RTD(\"cqg.rtd\", ,\"ContractData\",C46, \"PerCentNetLastTrade\",, \"T\")/100,\"\")","v":""},{"$f":"RTD(\"cqg.rtd\", ,\"ContractData\", C46, \"T_CVol\",, \"T\")","v":141438},46,{"$f":"IFERROR(RANK($J46,$J$1:J$101)+COUNTIF($J$1:J46,J46)-1,\"\")","v":""},"S.US.GOOG ",{"$error":"#N/A"}]
["S.US.GOOGL ",1,"S.US.GOOGL ",{"$f":"RTD(\"cqg.rtd\", ,\"ContractData\",C47, \"LongDescription\",, \"T\")","v":"Alphabet, Inc. Class A"},null,null,null,{"$f":"RTD(\"cqg.rtd\", ,\"ContractData\",C47, \"LastTradeToday\",, \"T\")","v":""},{"$f":"RTD(\"cqg.rtd\", ,\"ContractData\",C47, \"NetLastTradeToday\",, \"T\")","v":""},{"$f":"IFERROR(RTD(\"cqg.rtd\", ,\"ContractData\",C47, \"PerCentNetLastTrade\",, \"T\")/100,\"\")","v":""},{"$f":"RTD(\"cqg.rtd\", ,\"ContractData\", C47, \"T_CVol\",, \"T\")","v":277416},47,{"$f":"IFERROR(RANK($J47,$J$1:J$101)+COUNTIF($J$1:J47,J47)-1,\"\")","v":""},"S.US.GOOGL ",{"$error":"#N/A"}]
["S.US.HON ",1,"S.US.HON ",{"$f":"RTD(\"cqg.rtd\", ,\"ContractData\",C48, \"LongDescription\",, \"T\")","v":"Honeywell Intl"},null,null,null,{"$f":"RTD(\"cqg.rtd\", ,\"ContractData\",C48, \"LastTradeToday\",, \"T\")","v":""},{"$f":"RTD(\"cqg.rtd\", ,\"ContractData\",C48, \"NetLastTradeToday\",, \"T\")","v":""},{"$f":"IFERROR(RTD(\"cqg.rtd\", ,\"ContractData\",C48, \"PerCentNetLastTrade\",, \"T\")/100,\"\")","v":""},{"$f":"RTD(\"cqg.rtd\", ,\"ContractData\", C48, \"T_CVol\",, \"T\")","v":1060},48,{"$f":"IFERROR(RANK($J48,$J$1:J$101)+COUNTIF($J$1:J48,J48)-1,\"\")","v":""},"S.US.HON ",{"$error":"#N/A"}]
["S.US.IDXX ",1,"S.US.IDXX ",{"$f":"RTD(\"cqg.rtd\", ,\"ContractData\",C49, \"LongDescription\",, \"T\")","v":"IDEXX Laboratories Inc"},null,null,null,{"$f":"RTD(\"cqg.rtd\", ,\"ContractData\",C49, \"LastTradeToday\",, \"T\")","v":""},{"$f":"RTD(\"cqg.rtd\", ,\"ContractData\",C49, \"NetLastTradeToday\",, \"T\")","v":""},{"$f":"IFERROR(RTD(\"cqg.rtd\", ,\"ContractData\",C49, \"PerCentNetLastTrade\",, \"T\")/100,\"\")","v":""},{"$f":"RTD(\"cqg.rtd\", ,\"ContractData\", C49, \"T_CVol\",, \"T\")","v":210},49,{"$f":"IFERROR(RANK($J49,$J$1:J$101)+COUNTIF($J$1:J49,J49)-1,\"\")","v":""},"S.US.IDXX ",{"$error":"#N/A"}]
["S.US.INTC ",1,"S.US.INTC ",{"$f":"RTD(\"cqg.rtd\", ,\"ContractData\",C50, \"LongDescription\",, \"T\")","v":"Intel Corporation"},null,null,null,{"$f":"RTD(\"cqg.rtd\", ,\"ContractData\",C50, \"LastTradeToday\",, \"T\")","v":""},{"$f":"RTD(\"cqg.rtd\", ,\"ContractData\",C50, \"NetLastTradeToday\",, \"T\")","v":""},{"$f":"IFERROR(RTD(\"cqg.rtd\", ,\"ContractData\",C50, \"PerCentNetLastTrade\",, \"T\")/100,\"\")","v":""},{"$f":"RTD(\"cqg.rtd\", ,\"ContractData\", C50, \"T_CVol\",, \"T\")","v":5968609},50,{"$f":"IFERROR(RANK($J50,$J$1:J$101)+COUNTIF($J$1:J50,J50)-1,\"\")","v":""},"S.US.INTC ",{"$error":"#N/A"}]
["S.US.INTU ",1,"S.US.INTU ",{"$f":"RTD(\"cqg.rtd\", ,\"ContractData\",C51, \"LongDescription\",, \"T\")","v":"Intuit Corp"},null,null,null,{"$f":"RTD(\"cqg.rtd\", ,\"ContractData\",C51, \"LastTradeToday\",, \"T\")","v":""},{"$f":"RTD(\"cqg.rtd\", ,\"ContractData\",C51, \"NetLastTradeToday\",, \"T\")","v":""},{"$f":"IFERROR(RTD(\"cqg.rtd\", ,\"ContractData\",C51, \"PerCentNetLastTrade\",, \"T\")/100,\"\")","v":""},{"$f":"RTD(\"cqg.rtd\", ,\"ContractData\", C51, \"T_CVol\",, \"T\")","v":2379},51,{"$f":"IFERROR(RANK($J51,$J$1:J$101)+COUNTIF($J$1:J51,J51)-1,\"\")","v":""},"S.US.INTU ",{"$error":"#N/A"}]
["S.US.ISRG ",1,"S.US.ISRG ",{"$f":"RTD(\"cqg.rtd\", ,\"ContractData\",C52, \"LongDescription\",, \"T\")","v":"Intuitive Surgical Inc"},null,null,null,{"$f":"RTD(\"cqg.rtd\", ,\"ContractData\",C52, \"LastTradeToday\",, \"T\")","v":""},{"$f":"RTD(\"cqg.rtd\", ,\"ContractData\",C52, \"NetLastTradeToday\",, \"T\")","v":""},{"$f":"IFERROR(RTD(\"cqg.rtd\", ,\"ContractData\",C52, \"PerCentNetLastTrade\",, \"T\")/100,\"\")","v":""},{"$f":"RTD(\"cqg.rtd\", ,\"ContractData\", C52, \"T_CVol\",, \"T\")","v":2096},52,{"$f":"IFERROR(RANK($J52,$J$1:J$101)+COUNTIF($J$1:J52,J52)-1,\"\")","v":""},"S.US.ISRG ",{"$error":"#N/A"}]
["S.US.KDP ",1,"S.US.KDP ",{"$f":"RTD(\"cqg.rtd\", ,\"ContractData\",C53, \"LongDescription\",, \"T\")","v":"Keurig Dr Pepper Inc."},null,null,null,{"$f":"RTD(\"cqg.rtd\", ,\"ContractData\",C53, \"LastTradeToday\",, \"T\")","v":""},{"$f":"RTD(\"cqg.rtd\", ,\"ContractData\",C53, \"NetLastTradeToday\",, \"T\")","v":""},{"$f":"IFERROR(RTD(\"cqg.rtd\", ,\"ContractData\",C53, \"PerCentNetLastTrade\",, \"T\")/100,\"\")","v":""},{"$f":"RTD(\"cqg.rtd\", ,\"ContractData\", C53, \"T_CVol\",, \"T\")","v":542655},53,{"$f":"IFERROR(RANK($J53,$J$1:J$101)+COUNTIF($J$1:J53,J53)-1,\"\")","v":""},"S.US.KDP ",{"$error":"#N/A"}]
["S.US.KHC ",1,"S.US.KHC ",{"$f":"RTD(\"cqg.rtd\", ,\"ContractData\",C54, \"LongDescription\",, \"T\")","v":"The Kraft Heinz Company"},null,null,null,{"$f":"RTD(\"cqg.rtd\", ,\"ContractData\",C54, \"LastTradeToday\",, \"T\")","v":""},{"$f":"RTD(\"cqg.rtd\", ,\"ContractData\",C54, \"NetLastTradeToday\",, \"T\")","v":""},{"$f":"IFERROR(RTD(\"cqg.rtd\", ,\"ContractData\",C54, \"PerCentNetLastTrade\",, \"T\")/100,\"\")","v":""},{"$f":"RTD(\"cqg.rtd\", ,\"ContractData\", C54, \"T_CVol\",, \"T\")","v":8395},54,{"$f":"IFERROR(RANK($J54,$J$1:J$101)+COUNTIF($J$1:J54,J54)-1,\"\")","v":""},"S.US.KHC ",{"$error":"#N/A"}]
["S.US.KLAC ",1,"S.US.KLAC ",{"$f":"RTD(\"cqg.rtd\", ,\"ContractData\",C55, \"LongDescription\",, \"T\")","v":"KLA Corporation"},null,null,null,{"$f":"RTD(\"cqg.rtd\", ,\"ContractData\",C55, \"LastTradeToday\",, \"T\")","v":""},{"$f":"RTD(\"cqg.rtd\", ,\"ContractData\",C55, \"NetLastTradeToday\",, \"T\")","v":""},{"$f":"IFERROR(RTD(\"cqg.rtd\", ,\"ContractData\",C55, \"PerCentNetLastTrade\",, \"T\")/100,\"\")","v":""},{"$f":"RTD(\"cqg.rtd\", ,\"ContractData\", C55, \"T_CVol\",, \"T\")","v":844},55,{"$f":"IFERROR(RANK($J55,$J$1:J$101)+COUNTIF($J$1:J55,J55)-1,\"\")","v":""},"S.US.KLAC ",{"$error":"#N/A"}]
["S.US.LIN ",1,"S.US.LIN ",{"$f":"RTD(\"cqg.rtd\", ,\"ContractData\",C56, \"LongDescription\",, \"T\")","v":"Linde PLC"},null,null,null,{"$f":"RTD(\"cqg.rtd\", ,\"ContractData\",C56, \"LastTradeToday\",, \"T\")","v":""},{"$f":"RTD(\"cqg.rtd\", ,\"ContractData\",C56, \"NetLastTradeToday\",, \"T\")","v":""},{"$f":"IFERROR(RTD(\"cqg.rtd\", ,\"ContractData\",C56, \"PerCentNetLastTrade\",, \"T\")/100,\"\")","v":""},{"$f":"RTD(\"cqg.rtd\", ,\"ContractData\", C56, \"T_CVol\",, \"T\")","v":664},56,{"$f":"IFERROR(RANK($J56,$J$1:J$101)+COUNTIF($J$1:J56,J56)-1,\"\")","v":""},"S.US.LIN ",{"$error":"#N/A"}]
["S.US.LRCX ",1,"S.US.LRCX ",{"$f":"RTD(\"cqg.rtd\", ,\"ContractData\",C57, \"LongDescription\",, \"T\")","v":"LAM Research Corporation"},null,null,null,{"$f":"RTD(\"cqg.rtd\", ,\"ContractData\",C57, \"LastTradeToday\",, \"T\")","v":""},{"$f":"RTD(\"cqg.rtd\", ,\"ContractData\",C57, \"NetLastTradeToday\",, \"T\")","v":""},{"$f":"IFERROR(RTD(\"cqg.rtd\", ,\"ContractData\",C57, \"PerCentNetLastTrade\",, \"T\")/100,\"\")","v":""},{"$f":"RTD(\"cqg.rtd\", ,\"ContractData\", C57, \"T_CVol\",, \"T\")","v":7548},57,{"$f":"IFERROR(RANK($J57,$J$1:J$101)+COUNTIF($J$1:J57,J57)-1,\"\")","v":""},"S.US.LRCX ",{"$error":"#N/A"}]
["S.US.LULU ",1,"S.US.LULU ",{"$f":"RTD(\"cqg.rtd\", ,\"ContractData\",C58, \"LongDescription\",, \"T\")","v":"Lululemon Athletica Inc"},null,null,null,{"$f":"RTD(\"cqg.rtd\", ,\"ContractData\",C58, \"LastTradeToday\",, \"T\")","v":""},{"$f":"RTD(\"cqg.rtd\", ,\"ContractData\",C58, \"NetLastTradeToday\",, \"T\")","v":""},{"$f":"IFERROR(RTD(\"cqg.rtd\", ,\"ContractData\",C58, \"PerCentNetLastTrade\",, \"T\")/100,\"\")","v":""},{"$f":"RTD(\"cqg.rtd\", ,\"ContractData\", C58, \"T_CVol\",, \"T\")","v":33562},58,{"$f":"IFERROR(RANK($J58,$J$1:J$101)+COUNTIF($J$1:J58,J58)-1,\"\")","v":""},"S.US.LULU ",{"$error":"#N/A"}]
["S.US.MAR ",1,"S.US.MAR ",{"$f":"RTD(\"cqg.rtd\", ,\"ContractData\",C59, \"LongDescription\",, \"T\")","v":"Marriot International, Inc."},null,null,null,{"$f":"RTD(\"cqg.rtd\", ,\"ContractData\",C59, \"LastTradeToday\",, \"T\")","v":""},{"$f":"RTD(\"cqg.rtd\", ,\"ContractData\",C59, \"NetLastTradeToday\",, \"T\")","v":""},{"$f":"IFERROR(RTD(\"cqg.rtd\", ,\"ContractData\",C59, \"PerCentNetLastTrade\",, \"T\")/100,\"\")","v":""},{"$f":"RTD(\"cqg.rtd\", ,\"ContractData\", C59, \"T_CVol\",, \"T\")","v":152},59,{"$f":"IFERROR(RANK($J59,$J$1:J$101)+COUNTIF($J$1:J59,J59)-1,\"\")","v":""},"S.US.MAR ",{"$error":"#N/A"}]
["S.US.MCHP ",1,"S.US.MCHP ",{"$f":"RTD(\"cqg.rtd\", ,\"ContractData\",C60, \"LongDescription\",, \"T\")","v":"Microchip Technology Inc"},null,null,null,{"$f":"RTD(\"cqg.rtd\", ,\"ContractData\",C60, \"LastTradeToday\",, \"T\")","v":""},{"$f":"RTD(\"cqg.rtd\", ,\"ContractData\",C60, \"NetLastTradeToday\",, \"T\")","v":""},{"$f":"IFERROR(RTD(\"cqg.rtd\", ,\"ContractData\",C60, \"PerCentNetLastTrade\",, \"T\")/100,\"\")","v":""},{"$f":"RTD(\"cqg.rtd\", ,\"ContractData\", C60, \"T_CVol\",, \"T\")","v":1431},60,{"$f":"IFERROR(RANK($J60,$J$1:J$101)+COUNTIF($J$1:J60,J60)-1,\"\")","v":""},"S.US.MCHP ",{"$error":"#N/A"}]
["S.US.MDLZ ",1,"S.US.MDLZ ",{"$f":"RTD(\"cqg.rtd\", ,\"ContractData\",C61, \"LongDescription\",, \"T\")","v":"Mondelez International, Inc."},null,null,null,{"$f":"RTD(\"cqg.rtd\", ,\"ContractData\",C61, \"LastTradeToday\",, \"T\")","v":""},{"$f":"RTD(\"cqg.rtd\", ,\"ContractData\",C61, \"NetLastTradeToday\",, \"T\")","v":""},{"$f":"IFERROR(RTD(\"cqg.rtd\", ,\"ContractData\",C61, \"PerCentNetLastTrade\",, \"T\")/100,\"\")","v":""},{"$f":"RTD(\"cqg.rtd\", ,\"ContractData\", C61, \"T_CVol\",, \"T\")","v":1457},61,{"$f":"IFERROR(RANK($J61,$J$1:J$101)+COUNTIF($J$1:J61,J61)-1,\"\")","v":""},"S.US.MDLZ ",{"$error":"#N/A"}]
["S.US.MELI ",1,"S.US.MELI ",{"$f":"RTD(\"cqg.rtd\", ,\"ContractData\",C62, \"LongDescription\",, \"T\")","v":"MercadoLibre Inc"},null,null,null,{"$f":"RTD(\"cqg.rtd\", ,\"ContractData\",C62, \"LastTradeToday\",, \"T\")","v":""},{"$f":"RTD(\"cqg.rtd\", ,\"ContractData\",C62, \"NetLastTradeToday\",, \"T\")","v":""},{"$f":"IFERROR(RTD(\"cqg.rtd\", ,\"ContractData\",C62, \"PerCentNetLastTrade\",, \"T\")/100,\"\")","v":""},{"$f":"RTD(\"cqg.rtd\", ,\"ContractData\", C62, \"T_CVol\",, \"T\")","v":458},62,{"$f":"IFERROR(RANK($J62,$J$1:J$101)+COUNTIF($J$1:J62,J62)-1,\"\")","v":""},"S.US.MELI ",{"$error":"#N/A"}]
["S.US.META ",1,"S.US.META ",{"$f":"RTD(\"cqg.rtd\", ,\"ContractData\",C63, \"LongDescription\",, \"T\")","v":"Meta Platforms, Inc."},null,null,null,{"$f":"RTD(\"cqg.rtd\", ,\"ContractData\",C63, \"LastTradeToday\",, \"T\")","v":""},{"$f":"RTD(\"cqg.rtd\", ,\"ContractData\",C63, \"NetLastTradeToday\",, \"T\")","v":""},{"$f":"IFERROR(RTD(\"cqg.rtd\", ,\"ContractData\",C63, \"PerCentNetLastTrade\",, \"T\")/100,\"\")","v":""},{"$f":"RTD(\"cqg.rtd\", ,\"ContractData\", C63, \"T_CVol\",, \"T\")","v":77467},63,{"$f":"IFERROR(RANK($J63,$J$1:J$101)+COUNTIF($J$1:J63,J63)-1,\"\")","v":""},"S.US.META ",{"$error":"#N/A"}]
["S.US.MNST ",1,"S.US.MNST ",{"$f":"RTD(\"cqg.rtd\", ,\"ContractData\",C64, \"LongDescription\",, \"T\")","v":"Monster Beverage Corporation"},null,null,null,{"$f":"RTD(\"cqg.rtd\", ,\"ContractData\",C64, \"LastTradeToday\",, \"T\")","v":""},{"$f":"RTD(\"cqg.rtd\", ,\"ContractData\",C64, \"NetLastTradeToday\",, \"T\")","v":""},{"$f":"IFERROR(RTD(\"cqg.rtd\", ,\"ContractData\",C64, \"PerCentNetLastTrade\",, \"T\")/100,\"\")","v":""},{"$f":"RTD(\"cqg.rtd\", ,\"ContractData\", C64, \"T_CVol\",, \"T\")","v":1497},64,{"$f":"IFERROR(RANK($J64,$J$1:J$101)+COUNTIF($J$1:J64,J64)-1,\"\")","v":""},"S.US.MNST ",{"$error":"#N/A"}]
["S.US.MRVL ",1,"S.US.MRVL ",{"$f":"RTD(\"cqg.rtd\", ,\"ContractData\",C65, \"LongDescription\",, \"T\")","v":"Marvell Technology, Inc."},null,null,null,{"$f":"RTD(\"cqg.rtd\", ,\"ContractData\",C65, \"LastTradeToday\",, \"T\")","v":""},{"$f":"RTD(\"cqg.rtd\", ,\"ContractData\",C65, \"NetLastTradeToday\",, \"T\")","v":""},{"$f":"IFERROR(RTD(\"cqg.rtd\", ,\"ContractData\",C65, \"PerCentNetLastTrade\",, \"T\")/100,\"\")","v":""},{"$f":"RTD(\"cqg.rtd\", ,\"ContractData\", C65, \"T_CVol\",, \"T\")","v":100238},65,{"$f":"IFERROR(RANK($J65,$J$1:J$101)+COUNTIF($J$1:J65,J65)-1,\"\")","v":""},"S.US.MRVL ",{"$error":"#N/A"}]
["S.US.MSFT ",{"$f":"IF(J66>0,1,0)","v":1},"S.US.MSFT ",{"$f":"RTD(\"cqg.rtd\", ,\"ContractData\",C66, \"LongDescription\",, \"T\")","v":"Microsoft Corporation"},null,null,null,{"$f":"RTD(\"cqg.rtd\", ,\"ContractData\",C66, \"LastTradeToday\",, \"T\")","v":""},{"$f":"RTD(\"cqg.rtd\", ,\"ContractData\",C66, \"NetLastTradeToday\",, \"T\")","v":""},{"$f":"IFERROR(RTD(\"cqg.rtd\", ,\"ContractData\",C66, \"PerCentNetLastTrade\",, \"T\")/100,\"\")","v":""},{"$f":"RTD(\"cqg.rtd\", ,\"ContractData\", C66, \"T_CVol\",, \"T\")","v":1589867},66,{"$f":"IFERROR(RANK($J66,$J$1:J$101)+COUNTIF($J$1:J66,J66)-1,\"\")","v":""},{"$f":"C66","v":"S.US.MSFT "},{"$f":"VLOOKUP($L66,$M$1:$N$101,2,FALSE)","v":{"$error":"#N/A"}}]
["S.US.MSTR ",1,"S.US.MSTR ",{"$f":"RTD(\"cqg.rtd\", ,\"ContractData\",C67, \"LongDescription\",, \"T\")","v":"Strategy Inc"},null,null,null,{"$f":"RTD(\"cqg.rtd\", ,\"ContractData\",C67, \"LastTradeToday\",, \"T\")","v":""},{"$f":"RTD(\"cqg.rtd\", ,\"ContractData\",C67, \"NetLastTradeToday\",, \"T\")","v":""},{"$f":"IFERROR(RTD(\"cqg.rtd\", ,\"ContractData\",C67, \"PerCentNetLastTrade\",, \"T\")/100,\"\")","v":""},{"$f":"RTD(\"cqg.rtd\", ,\"ContractData\", C67, \"T_CVol\",, \"T\")","v":404109},{"$f":"L66+1","v":67},{"$f":"IFERROR(RANK($J67,$J$1:J$101)+COUNTIF($J$1:J67,J67)-1,\"\")","v":""},"S.US.MSTR ",{"$error":"#N/A"}]
["S.US.MU ",1,"S.US.MU ",{"$f":"RTD(\"cqg.rtd\", ,\"ContractData\",C68, \"LongDescription\",, \"T\")","v":"Micron Technology Inc"},null,null,null,{"$f":"RTD(\"cqg.rtd\", ,\"ContractData\",C68, \"LastTradeToday\",, \"T\")","v":""},{"$f":"RTD(\"cqg.rtd\", ,\"ContractData\",C68, \"NetLastTradeToday\",, \"T\")","v":""},{"$f":"IFERROR(RTD(\"cqg.rtd\", ,\"ContractData\",C68, \"PerCentNetLastTrade\",, \"T\")/100,\"\")","v":""},{"$f":"RTD(\"cqg.rtd\", ,\"ContractData\", C68, \"T_CVol\",, \"T\")","v":139239},68,{"$f":"IFERROR(RANK($J68,$J$1:J$101)+COUNTIF($J$1:J68,J68)-1,\"\")","v":""},"S.US.MU ",{"$error":"#N/A"}]
["S.US.NFLX ",1,"S.US.NFLX ",{"$f":"RTD(\"cqg.rtd\", ,\"ContractData\",C69, \"LongDescription\",, \"T\")","v":"Netflix Inc"},null,null,null,{"$f":"RTD(\"cqg.rtd\", ,\"ContractData\",C69, \"LastTradeToday\",, \"T\")","v":""},{"$f":"RTD(\"cqg.rtd\", ,\"ContractData\",C69, \"NetLastTradeToday\",, \"T\")","v":""},{"$f":"IFERROR(RTD(\"cqg.rtd\", ,\"ContractData\",C69, \"PerCentNetLastTrade\",, \"T\")/100,\"\")","v":""},{"$f":"RTD(\"cqg.rtd\", ,\"ContractData\", C69, \"T_CVol\",, \"T\")","v":11393},69,{"$f":"IFERROR(RANK($J69,$J$1:J$101)+COUNTIF($J$1:J69,J69)-1,\"\")","v":""},"S.US.NFLX ",{"$error":"#N/A"}]
["S.US.NVDA ",1,"S.US.NVDA ",{"$f":"RTD(\"cqg.rtd\", ,\"ContractData\",C70, \"LongDescription\",, \"T\")","v":"NVIDIA Corp"},null,null,null,{"$f":"RTD(\"cqg.rtd\", ,\"ContractData\",C70, \"LastTradeToday\",, \"T\")","v":""},{"$f":"RTD(\"cqg.rtd\", ,\"ContractData\",C70, \"NetLastTradeToday\",, \"T\")","v":""},{"$f":"IFERROR(RTD(\"cqg.rtd\", ,\"ContractData\",C70, \"PerCentNetLastTrade\",, \"T\")/100,\"\")","v":""},{"$f":"RTD(\"cqg.rtd\", ,\"ContractData\", C70, \"T_CVol\",, \"T\")","v":3113897},70,{"$f":"IFERROR(RANK($J70,$J$1:J$101)+COUNTIF($J$1:J70,J70)-1,\"\")","v":""},"S.US.NVDA ",{"$error":"#N/A"}]
["S.US.NXPI ",1,"S.US.NXPI ",{"$f":"RTD(\"cqg.rtd\", ,\"ContractData\",C71, \"LongDescription\",, \"T\")","v":"NXP Semiconductors N.V."},null,null,null,{"$f":"RTD(\"cqg.rtd\", ,\"ContractData\",C71, \"LastTradeToday\",, \"T\")","v":""},{"$f":"RTD(\"cqg.rtd\", ,\"ContractData\",C71, \"NetLastTradeToday\",, \"T\")","v":""},{"$f":"IFERROR(RTD(\"cqg.rtd\", ,\"ContractData\",C71, \"PerCentNetLastTrade\",, \"T\")/100,\"\")","v":""},{"$f":"RTD(\"cqg.rtd\", ,\"ContractData\", C71, \"T_CVol\",, \"T\")","v":1187},71,{"$f":"IFERROR(RANK($J71,$J$1:J$101)+COUNTIF($J$1:J71,J71)-1,\"\")","v":""},"S.US.NXPI ",{"$error":"#N/A"}]
["S.US.ODFL ",1,"S.US.ODFL ",{"$f":"RTD(\"cqg.rtd\", ,\"ContractData\",C72, \"LongDescription\",, \"T\")","v":"Old Dominion Freight Line Inc"},null,null,null,{"$f":"RTD(\"cqg.rtd\", ,\"ContractData\",C72, \"LastTradeToday\",, \"T\")","v":""},{"$f":"RTD(\"cqg.rtd\", ,\"ContractData\",C72, \"NetLastTradeToday\",, \"T\")","v":""},{"$f":"IFERROR(RTD(\"cqg.rtd\", ,\"ContractData\",C72, \"PerCentNetLastTrade\",, \"T\")/100,\"\")","v":""},{"$f":"RTD(\"cqg.rtd\", ,\"ContractData\", C72, \"T_CVol\",, \"T\")","v":86},72,{"$f":"IFERROR(RANK($J72,$J$1:J$101)+COUNTIF($J$1:J72,J72)-1,\"\")","v":""},"S.US.ODFL ",{"$error":"#N/A"}]
["S.US.ON ",1,"S.US.ON ",{"$f":"RTD(\"cqg.rtd\", ,\"ContractData\",C73, \"LongDescription\",, \"T\")","v":"ON Semiconductor Corp"},null,null,null,{"$f":"RTD(\"cqg.rtd\", ,\"ContractData\",C73, \"LastTradeToday\",, \"T\")","v":""},{"$f":"RTD(\"cqg.rtd\", ,\"ContractData\",C73, \"NetLastTradeToday\",, \"T\")","v":""},{"$f":"IFERROR(RTD(\"cqg.rtd\", ,\"ContractData\",C73, \"PerCentNetLastTrade\",, \"T\")/100,\"\")","v":""},{"$f":"RTD(\"cqg.rtd\", ,\"ContractData\", C73, \"T_CVol\",, \"T\")","v":7762},73,{"$f":"IFERROR(RANK($J73,$J$1:J$101)+COUNTIF($J$1:J73,J73)-1,\"\")","v":""},"S.US.ON ",{"$error":"#N/A"}]
["S.US.ORLY ",1,"S.US.ORLY ",{"$f":"RTD(\"cqg.rtd\", ,\"ContractData\",C74, \"LongDescription\",, \"T\")","v":"OReilly Automotive Inc"},null,null,null,{"$f":"RTD(\"cqg.rtd\", ,\"ContractData\",C74, \"LastTradeToday\",, \"T\")","v":""},{"$f":"RTD(\"cqg.rtd\", ,\"ContractData\",C74, \"NetLastTradeToday\",, \"T\")","v":""},{"$f":"IFERROR(RTD(\"cqg.rtd\", ,\"ContractData\",C74, \"PerCentNetLastTrade\",, \"T\")/100,\"\")","v":""},{"$f":"RTD(\"cqg.rtd\", ,\"ContractData\", C74, \"T_CVol\",, \"T\")","v":1064},74,{"$f":"IFERROR(RANK($J74,$J$1:J$101)+COUNTIF($J$1:J74,J74)-1,\"\")","v":""},"S.US.ORLY ",{"$error":"#N/A"}]
["S.US.PANW ",1,"S.US.PANW ",{"$f":"RTD(\"cqg.rtd\", ,\"ContractData\",C75, \"LongDescription\",, \"T\")","v":"Palo Alto Networks, Inc."},null,null,null,{"$f":"RTD(\"cqg.rtd\", ,\"ContractData\",C75, \"LastTradeToday\",, \"T\")","v":""},{"$f":"RTD(\"cqg.rtd\", ,\"ContractData\",C75, \"NetLastTradeToday\",, \"T\")","v":""},{"$f":"IFERROR(RTD(\"cqg.rtd\", ,\"ContractData\",C75, \"PerCentNetLastTrade\",, \"T\")/100,\"\")","v":""},{"$f":"RTD(\"cqg.rtd\", ,\"ContractData\", C75, \"T_CVol\",, \"T\")","v":37796},75,{"$f":"IFERROR(RANK($J75,$J$1:J$101)+COUNTIF($J$1:J75,J75)-1,\"\")","v":""},"S.US.PANW ",{"$error":"#N/A"}]
["S.US.PAYX ",1,"S.US.PAYX ",{"$f":"RTD(\"cqg.rtd\", ,\"ContractData\",C76, \"LongDescription\",, \"T\")","v":"Paychex Inc"},null,null,null,{"$f":"RTD(\"cqg.rtd\", ,\"ContractData\",C76, \"LastTradeToday\",, \"T\")","v":""},{"$f":"RTD(\"cqg.rtd\", ,\"ContractData\",C76, \"NetLastTradeToday\",, \"T\")","v":""},{"$f":"IFERROR(RTD(\"cqg.rtd\", ,\"ContractData\",C76, \"PerCentNetLastTrade\",, \"T\")/100,\"\")","v":""},{"$f":"RTD(\"cqg.rtd\", ,\"ContractData\", C76, \"T_CVol\",, \"T\")","v":42},76,{"$f":"IFERROR(RANK($J76,$J$1:J$101)+COUNTIF($J$1:J76,J76)-1,\"\")","v":""},"S.US.PAYX ",{"$error":"#N/A"}]
["S.US.PCAR ",1,"S.US.PCAR ",{"$f":"RTD(\"cqg.rtd\", ,\"ContractData\",C77, \"LongDescription\",, \"T\")","v":"PACCAR Inc"},null,null,null,{"$f":"RTD(\"cqg.rtd\", ,\"ContractData\",C77, \"LastTradeToday\",, \"T\")","v":""},{"$f":"RTD(\"cqg.rtd\", ,\"ContractData\",C77, \"NetLastTradeToday\",, \"T\")","v":""},{"$f":"IFERROR(RTD(\"cqg.rtd\", ,\"ContractData\",C77, \"PerCentNetLastTrade\",, \"T\")/100,\"\")","v":""},{"$f":"RTD(\"cqg.rtd\", ,\"ContractData\", C77, \"T_CVol\",, \"T\")","v":1200},77,{"$f":"IFERROR(RANK($J77,$J$1:J$101)+COUNTIF($J$1:J77,J77)-1,\"\")","v":""},"S.US.PCAR ",{"$error":"#N/A"}]
["S.US.PDD ",1,"S.US.PDD ",{"$f":"RTD(\"cqg.rtd\", ,\"ContractData\",C78, \"LongDescription\",, \"T\")","v":"PDD Holdings Inc."},null,null,null,{"$f":"RTD(\"cqg.rtd\", ,\"ContractData\",C78, \"LastTradeToday\",, \"T\")","v":""},{"$f":"RTD(\"cqg.rtd\", ,\"ContractData\",C78, \"NetLastTradeToday\",, \"T\")","v":""},{"$f":"IFERROR(RTD(\"cqg.rtd\", ,\"ContractData\",C78, \"PerCentNetLastTrade\",, \"T\")/100,\"\")","v":""},{"$f":"RTD(\"cqg.rtd\", ,\"ContractData\", C78, \"T_CVol\",, \"T\")","v":4631929},78,{"$f":"IFERROR(RANK($J78,$J$1:J$101)+COUNTIF($J$1:J78,J78)-1,\"\")","v":""},"S.US.PDD ",{"$error":"#N/A"}]
["S.US.PEP ",1,"S.US.PEP ",{"$f":"RTD(\"cqg.rtd\", ,\"ContractData\",C79, \"LongDescription\",, \"T\")","v":"PepsiCo Inc"},null,null,null,{"$f":"RTD(\"cqg.rtd\", ,\"ContractData\",C79, \"LastTradeToday\",, \"T\")","v":""},{"$f":"RTD(\"cqg.rtd\", ,\"ContractData\",C79, \"NetLastTradeToday\",, \"T\")","v":""},{"$f":"IFERROR(RTD(\"cqg.rtd\", ,\"ContractData\",C79, \"PerCentNetLastTrade\",, \"T\")/100,\"\")","v":""},{"$f":"RTD(\"cqg.rtd\", ,\"ContractData\", C79, \"T_CVol\",, \"T\")","v":10608},79,{"$f":"IFERROR(RANK($J79,$J$1:J$101)+COUNTIF($J$1:J79,J79)-1,\"\")","v":""},"S.US.PEP ",{"$error":"#N/A"}]
["S.US.PLTR ",1,"S.US.PLTR ",{"$f":"RTD(\"cqg.rtd\", ,\"ContractData\",C80, \"LongDescription\",, \"T\")","v":"Palantir Technologies Inc."},null,null,null,{"$f":"RTD(\"cqg.rtd\", ,\"ContractData\",C80, \"LastTradeToday\",, \"T\")","v":""},{"$f":"RTD(\"cqg.rtd\", ,\"ContractData\",C80, \"NetLastTradeToday\",, \"T\")","v":""},{"$f":"IFERROR(RTD(\"cqg.rtd\", ,\"ContractData\",C80, \"PerCentNetLastTrade\",, \"T\")/100,\"\")","v":""},{"$f":"RTD(\"cqg.rtd\", ,\"ContractData\", C80, \"T_CVol\",, \"T\")","v":1271099},80,{"$f":"IFERROR(RANK($J80,$J$1:J$101)+COUNTIF($J$1:J80,J80)-1,\"\")","v":""},"S.US.PLTR ",{"$error":"#N/A"}]
["S.US.PYPL ",1,"S.US.PYPL ",{"$f":"RTD(\"cqg.rtd\", ,\"ContractData\",C81, \"LongDescription\",, \"T\")","v":"PayPal Holdings, Inc."},null,null,null,{"$f":"RTD(\"cqg.rtd\", ,\"ContractData\",C81, \"LastTradeToday\",, \"T\")","v":""},{"$f":"RTD(\"cqg.rtd\", ,\"ContractData\",C81, \"NetLastTradeToday\",, \"T\")","v":""},{"$f":"IFERROR(RTD(\"cqg.rtd\", ,\"ContractData\",C81, \"PerCentNetLastTrade\",, \"T\")/100,\"\")","v":""},{"$f":"RTD(\"cqg.rtd\", ,\"ContractData\", C81, \"T_CVol\",, \"T\")","v":36735},81,{"$f":"IFERROR(RANK($J81,$J$1:J$101)+COUNTIF($J$1:J81,J81)-1,\"\")","v":""},"S.US.PYPL ",{"$error":"#N/A"}]
["S.US.QCOM ",1,"S.US.QCOM ",{"$f":"RTD(\"cqg.rtd\", ,\"ContractData\",C82, \"LongDescription\",, \"T\")","v":"QUALCOMM Inc"},null,null,null,{"$f":"RTD(\"cqg.rtd\", ,\"ContractData\",C82, \"LastTradeToday\",, \"T\")","v":""},{"$f":"RTD(\"cqg.rtd\", ,\"ContractData\",C82, \"NetLastTradeToday\",, \"T\")","v":""},{"$f":"IFERROR(RTD(\"cqg.rtd\", ,\"ContractData\",C82, \"PerCentNetLastTrade\",, \"T\")/100,\"\")","v":""},{"$f":"RTD(\"cqg.rtd\", ,\"ContractData\", C82, \"T_CVol\",, \"T\")","v":9587},82,{"$f":"IFERROR(RANK($J82,$J$1:J$101)+COUNTIF($J$1:J82,J82)-1,\"\")","v":""},"S.US.QCOM ",{"$error":"#N/A"}]
["S.US.REGN ",1,"S.US.REGN ",{"$f":"RTD(\"cqg.rtd\", ,\"ContractData\",C83, \"LongDescription\",, \"T\")","v":"Regeneron Pharm Inc"},null,null,null,{"$f":"RTD(\"cqg.rtd\", ,\"ContractData\",C83, \"LastTradeToday\",, \"T\")","v":""},{"$f":"RTD(\"cqg.rtd\", ,\"ContractData\",C83, \"NetLastTradeToday\",, \"T\")","v":""},{"$f":"IFERROR(RTD(\"cqg.rtd\", ,\"ContractData\",C83, \"PerCentNetLastTrade\",, \"T\")/100,\"\")","v":""},{"$f":"RTD(\"cqg.rtd\", ,\"ContractData\", C83, \"T_CVol\",, \"T\")","v":1265},83,{"$f":"IFERROR(RANK($J83,$J$1:J$101)+COUNTIF($J$1:J83,J83)-1,\"\")","v":""},"S.US.REGN ",{"$error":"#N/A"}]
["S.US.ROP ",1,"S.US.ROP ",{"$f":"RTD(\"cqg.rtd\", ,\"ContractData\",C84, \"LongDescription\",, \"T\")","v":"Roper Technologies, Inc."},null,null,null,{"$f":"RTD(\"cqg.rtd\", ,\"ContractData\",C84, \"LastTradeToday\",, \"T\")","v":""},{"$f":"RTD(\"cqg.rtd\", ,\"ContractData\",C84, \"NetLastTradeToday\",, \"T\")","v":""},{"$f":"IFERROR(RTD(\"cqg.rtd\", ,\"ContractData\",C84, \"PerCentNetLastTrade\",, \"T\")/100,\"\")","v":""},{"$f":"RTD(\"cqg.rtd\", ,\"ContractData\", C84, \"T_CVol\",, \"T\")","v":381},84,{"$f":"IFERROR(RANK($J84,$J$1:J$101)+COUNTIF($J$1:J84,J84)-1,\"\")","v":""},"S.US.ROP ",{"$error":"#N/A"}]
["S.US.ROST ",1,"S.US.ROST ",{"$f":"RTD(\"cqg.rtd\", ,\"ContractData\",C85, \"LongDescription\",, \"T\")","v":"Ross Stores Inc"},null,null,null,{"$f":"RTD(\"cqg.rtd\", ,\"ContractData\",C85, \"LastTradeToday\",, \"T\")","v":""},{"$f":"RTD(\"cqg.rtd\", ,\"ContractData\",C85, \"NetLastTradeToday\",, \"T\")","v":""},{"$f":"IFERROR(RTD(\"cqg.rtd\", ,\"ContractData\",C85, \"PerCentNetLastTrade\",, \"T\")/100,\"\")","v":""},{"$f":"RTD(\"cqg.rtd\", ,\"ContractData\", C85, \"T_CVol\",, \"T\")","v":414},85,{"$f":"IFERROR(RANK($J85,$J$1:J$101)+COUNTIF($J$1:J85,J85)-1,\"\")","v":""},"S.US.ROST ",{"$error":"#N/A"}]
["S.US.SBUX ",1,"S.US.SBUX ",{"$f":"RTD(\"cqg.rtd\", ,\"ContractData\",C86, \"LongDescription\",, \"T\")","v":"Starbucks Corp"},null,null,null,{"$f":"RTD(\"cqg.rtd\", ,\"ContractData\",C86, \"LastTradeToday\",, \"T\")","v":""},{"$f":"RTD(\"cqg.rtd\", ,\"ContractData\",C86, \"NetLastTradeToday\",, \"T\")","v":""},{"$f":"IFERROR(RTD(\"cqg.rtd\", ,\"ContractData\",C86, \"PerCentNetLastTrade\",, \"T\")/100,\"\")","v":""},{"$f":"RTD(\"cqg.rtd\", ,\"ContractData\", C86, \"T_CVol\",, \"T\")","v":30211},86,{"$f":"IFERROR(RANK($J86,$J$1:J$101)+COUNTIF($J$1:J86,J86)-1,\"\")","v":""},"S.US.SBUX ",{"$error":"#N/A"}]
["S.US.SHOP ",1,"S.US.SHOP ",{"$f":"RTD(\"cqg.rtd\", ,\"ContractData\",C87, \"LongDescription\",, \"T\")","v":"Shopify Inc."},null,null,null,{"$f":"RTD(\"cqg.rtd\", ,\"ContractData\",C87, \"LastTradeToday\",, \"T\")","v":""},{"$f":"RTD(\"cqg.rtd\", ,\"ContractData\",C87, \"NetLastTradeToday\",, \"T\")","v":""},{"$f":"IFERROR(RTD(\"cqg.rtd\", ,\"ContractData\",C87, \"PerCentNetLastTrade\",, \"T\")/100,\"\")","v":""},{"$f":"RTD(\"cqg.rtd\", ,\"ContractData\", C87, \"T_CVol\",, \"T\")","v":17225},87,{"$f":"IFERROR(RANK($J87,$J$1:J$101)+COUNTIF($J$1:J87,J87)-1,\"\")","v":""},"S.US.SHOP ",{"$error":"#N/A"}]
["S.US.SNPS ",1,"S.US.SNPS ",{"$f":"RTD(\"cqg.rtd\", ,\"ContractData\",C88, \"LongDescription\",, \"T\")","v":"Synopsis"},null,null,null,{"$f":"RTD(\"cqg.rtd\", ,\"ContractData\",C88, \"LastTradeToday\",, \"T\")","v":""},{"$f":"RTD(\"cqg.rtd\", ,\"ContractData\",C88, \"NetLastTradeToday\",, \"T\")","v":""},{"$f":"IFERROR(RTD(\"cqg.rtd\", ,\"ContractData\",C88, \"PerCentNetLastTrade\",, \"T\")/100,\"\")","v":""},{"$f":"RTD(\"cqg.rtd\", ,\"ContractData\", C88, \"T_CVol\",, \"T\")","v":461},88,{"$f":"IFERROR(RANK($J88,$J$1:J$101)+COUNTIF($J$1:J88,J88)-1,\"\")","v":""},"S.US.SNPS ",{"$error":"#N/A"}]
["S.US.TEAM ",1,"S.US.TEAM ",{"$f":"RTD(\"cqg.rtd\", ,\"ContractData\",C89, \"LongDescription\",, \"T\")","v":"Atlassian Corporation Plc"},null,null,null,{"$f":"RTD(\"cqg.rtd\", ,\"ContractData\",C89, \"LastTradeToday\",, \"T\")","v":""},{"$f":"RTD(\"cqg.rtd\", ,\"ContractData\",C89, \"NetLastTradeToday\",, \"T\")","v":""},{"$f":"IFERROR(RTD(\"cqg.rtd\", ,\"ContractData\",C89, \"PerCentNetLastTrade\",, \"T\")/100,\"\")","v":""},{"$f":"RTD(\"cqg.rtd\", ,\"ContractData\", C89, \"T_CVol\",, \"T\")","v":1794},89,{"$f":"IFERROR(RANK($J89,$J$1:J$101)+COUNTIF($J$1:J89,J89)-1,\"\")","v":""},"S.US.TEAM ",{"$error":"#N/A"}]
["S.US.TMUS ",1,"S.US.TMUS ",{"$f":"RTD(\"cqg.rtd\", ,\"ContractData\",C90, \"LongDescription\",, \"T\")","v":"T-Mobile US, Inc."},null,null,null,{"$f":"RTD(\"cqg.rtd\", ,\"ContractData\",C90, \"LastTradeToday\",, \"T\")","v":""},{"$f":"RTD(\"cqg.rtd\", ,\"ContractData\",C90, \"NetLastTradeToday\",, \"T\")","v":""},{"$f":"IFERROR(RTD(\"cqg.rtd\", ,\"ContractData\",C90, \"PerCentNetLastTrade\",, \"T\")/100,\"\")","v":""},{"$f":"RTD(\"cqg.rtd\", ,\"ContractData\", C90, \"T_CVol\",, \"T\")","v":562124},90,{"$f":"IFERROR(RANK($J90,$J$1:J$101)+COUNTIF($J$1:J90,J90)-1,\"\")","v":""},"S.US.TMUS ",{"$error":"#N/A"}]
["S.US.TRI ",1,"S.US.TRI ",{"$f":"RTD(\"cqg.rtd\", ,\"ContractData\",C91, \"LongDescription\",, \"T\")","v":"Thomson Reuters Corp"},null,null,null,{"$f":"RTD(\"cqg.rtd\", ,\"ContractData\",C91, \"LastTradeToday\",, \"T\")","v":""},{"$f":"RTD(\"cqg.rtd\", ,\"ContractData\",C91, \"NetLastTradeToday\",, \"T\")","v":""},{"$f":"IFERROR(RTD(\"cqg.rtd\", ,\"ContractData\",C91, \"PerCentNetLastTrade\",, \"T\")/100,\"\")","v":""},{"$f":"RTD(\"cqg.rtd\", ,\"ContractData\", C91, \"T_CVol\",, \"T\")","v":139},91,{"$f":"IFERROR(RANK($J91,$J$1:J$101)+COUNTIF($J$1:J91,J91)-1,\"\")","v":""},"S.US.TRI ",{"$error":"#N/A"}]
["S.US.TSLA ",1,"S.US.TSLA ",{"$f":"RTD(\"cqg.rtd\", ,\"ContractData\",C92, \"LongDescription\",, \"T\")","v":"Tesla Inc."},null,null,null,{"$f":"RTD(\"cqg.rtd\", ,\"ContractData\",C92, \"LastTradeToday\",, \"T\")","v":""},{"$f":"RTD(\"cqg.rtd\", ,\"ContractData\",C92, \"NetLastTradeToday\",, \"T\")","v":""},{"$f":"IFERROR(RTD(\"cqg.rtd\", ,\"ContractData\",C92, \"PerCentNetLastTrade\",, \"T\")/100,\"\")","v":""},{"$f":"RTD(\"cqg.rtd\", ,\"ContractData\", C92, \"T_CVol\",, \"T\")","v":1487050},92,{"$f":"IFERROR(RANK($J92,$J$1:J$101)+COUNTIF($J$1:J92,J92)-1,\"\")","v":""},"S.US.TSLA ",{"$error":"#N/A"}]
["S.US.TTD ",1,"S.US.TTD ",{"$f":"RTD(\"cqg.rtd\", ,\"ContractData\",C93, \"LongDescription\",, \"T\")","v":"The Trade Desk, Inc. Class A"},null,null,null,{"$f":"RTD(\"cqg.rtd\", ,\"ContractData\",C93, \"LastTradeToday\",, \"T\")","v":""},{"$f":"RTD(\"cqg.rtd\", ,\"ContractData\",C93, \"NetLastTradeToday\",, \"T\")","v":""},{"$f":"IFERROR(RTD(\"cqg.rtd\", ,\"ContractData\",C93, \"PerCentNetLastTrade\",, \"T\")/100,\"\")","v":""},{"$f":"RTD(\"cqg.rtd\", ,\"ContractData\", C93, \"T_CVol\",, \"T\")","v":74299},93,{"$f":"IFERROR(RANK($J93,$J$1:J$101)+COUNTIF($J$1:J93,J93)-1,\"\")","v":""},"S.US.TTD ",{"$error":"#N/A"}]
["S.US.TTWO ",1,"S.US.TTWO ",{"$f":"RTD(\"cqg.rtd\", ,\"ContractData\",C94, \"LongDescription\",, \"T\")","v":"Take-Two Interactive Software"},null,null,null,{"$f":"RTD(\"cqg.rtd\", ,\"ContractData\",C94, \"LastTradeToday\",, \"T\")","v":""},{"$f":"RTD(\"cqg.rtd\", ,\"ContractData\",C94, \"NetLastTradeToday\",, \"T\")","v":""},{"$f":"IFERROR(RTD(\"cqg.rtd\", ,\"ContractData\",C94, \"PerCentNetLastTrade\",, \"T\")/100,\"\")","v":""},{"$f":"RTD(\"cqg.rtd\", ,\"ContractData\", C94, \"T_CVol\",, \"T\")","v":993},94,{"$f":"IFERROR(RANK($J94,$J$1:J$101)+COUNTIF($J$1:J94,J94)-1,\"\")","v":""},"S.US.TTWO ",{"$error":"#N/A"}]
["S.US.TXN ",1,"S.US.TXN ",{"$f":"RTD(\"cqg.rtd\", ,\"ContractData\",C95, \"LongDescription\",, \"T\")","v":"Texas Instruments Inc"},null,null,null,{"$f":"RTD(\"cqg.rtd\", ,\"ContractData\",C95, \"LastTradeToday\",, \"T\")","v":""},{"$f":"RTD(\"cqg.rtd\", ,\"ContractData\",C95, \"NetLastTradeToday\",, \"T\")","v":""},{"$f":"IFERROR(RTD(\"cqg.rtd\", ,\"ContractData\",C95, \"PerCentNetLastTrade\",, \"T\")/100,\"\")","v":""},{"$f":"RTD(\"cqg.rtd\", ,\"ContractData\", C95, \"T_CVol\",, \"T\")","v":3370},95,{"$f":"IFERROR(RANK($J95,$J$1:J$101)+COUNTIF($J$1:J95,J95)-1,\"\")","v":""},"S.US.TXN ",{"$error":"#N/A"}]
["S.US.VRSK ",1,"S.US.VRSK ",{"$f":"RTD(\"cqg.rtd\", ,\"ContractData\",C96, \"LongDescription\",, \"T\")","v":"Verisk Analytics, Inc."},null,null,null,{"$f":"RTD(\"cqg.rtd\", ,\"ContractData\",C96, \"LastTradeToday\",, \"T\")","v":""},{"$f":"RTD(\"cqg.rtd\", ,\"ContractData\",C96, \"NetLastTradeToday\",, \"T\")","v":""},{"$f":"IFERROR(RTD(\"cqg.rtd\", ,\"ContractData\",C96, \"PerCentNetLastTrade\",, \"T\")/100,\"\")","v":""},{"$f":"RTD(\"cqg.rtd\", ,\"ContractData\", C96, \"T_CVol\",, \"T\")","v":37},96,{"$f":"IFERROR(RANK($J96,$J$1:J$101)+COUNTIF($J$1:J96,J96)-1,\"\")","v":""},"S.US.VRSK ",{"$error":"#N/A"}]
["S.US.VRTX ",1,"S.US.VRTX ",{"$f":"RTD(\"cqg.rtd\", ,\"ContractData\",C97, \"LongDescription\",, \"T\")","v":"Vertex Pharmaceuticals Incorporated"},null,null,null,{"$f":"RTD(\"cqg.rtd\", ,\"ContractData\",C97, \"LastTradeToday\",, \"T\")","v":""},{"$f":"RTD(\"cqg.rtd\", ,\"ContractData\",C97, \"NetLastTradeToday\",, \"T\")","v":""},{"$f":"IFERROR(RTD(\"cqg.rtd\", ,\"ContractData\",C97, \"PerCentNetLastTrade\",, \"T\")/100,\"\")","v":""},{"$f":"RTD(\"cqg.rtd\", ,\"ContractData\", C97, \"T_CVol\",, \"T\")","v":702},97,{"$f":"IFERROR(RANK($J97,$J$1:J$101)+COUNTIF($J$1:J97,J97)-1,\"\")","v":""},"S.US.VRTX ",{"$error":"#N/A"}]
["S.US.WBD ",1,"S.US.WBD ",{"$f":"RTD(\"cqg.rtd\", ,\"ContractData\",C98, \"LongDescription\",, \"T\")","v":"Warner Bros. Discovery, Inc. Series A"},null,null,null,{"$f":"RTD(\"cqg.rtd\", ,\"ContractData\",C98, \"LastTradeToday\",, \"T\")","v":""},{"$f":"RTD(\"cqg.rtd\", ,\"ContractData\",C98, \"NetLastTradeToday\",, \"T\")","v":""},{"$f":"IFERROR(RTD(\"cqg.rtd\", ,\"ContractData\",C98, \"PerCentNetLastTrade\",, \"T\")/100,\"\")","v":""},{"$f":"RTD(\"cqg.rtd\", ,\"ContractData\", C98, \"T_CVol\",, \"T\")","v":25130},98,{"$f":"IFERROR(RANK($J98,$J$1:J$101)+COUNTIF($J$1:J98,J98)-1,\"\")","v":""},"S.US.WBD ",{"$error":"#N/A"}]
["S.US.WDAY ",1,"S.US.WDAY ",{"$f":"RTD(\"cqg.rtd\", ,\"ContractData\",C99, \"LongDescription\",, \"T\")","v":"Workday, Inc."},null,null,null,{"$f":"RTD(\"cqg.rtd\", ,\"ContractData\",C99, \"LastTradeToday\",, \"T\")","v":""},{"$f":"RTD(\"cqg.rtd\", ,\"ContractData\",C99, \"NetLastTradeToday\",, \"T\")","v":""},{"$f":"IFERROR(RTD(\"cqg.rtd\", ,\"ContractData\",C99, \"PerCentNetLastTrade\",, \"T\")/100,\"\")","v":""},{"$f":"RTD(\"cqg.rtd\", ,\"ContractData\", C99, \"T_CVol\",, \"T\")","v":2530},99,{"$f":"IFERROR(RANK($J99,$J$1:J$101)+COUNTIF($J$1:J99,J99)-1,\"\")","v":""},"S.US.WDAY ",{"$error":"#N/A"}]
["S.US.XEL ",1,"S.US.XEL ",{"$f":"RTD(\"cqg.rtd\", ,\"ContractData\",C100, \"LongDescription\",, \"T\")","v":"Xcel Energy Inc"},null,null,null,{"$f":"RTD(\"cqg.rtd\", ,\"ContractData\",C100, \"LastTradeToday\",, \"T\")","v":""},{"$f":"RTD(\"cqg.rtd\", ,\"ContractData\",C100, \"NetLastTradeToday\",, \"T\")","v":""},{"$f":"IFERROR(RTD(\"cqg.rtd\", ,\"ContractData\",C100, \"PerCentNetLastTrade\",, \"T\")/100,\"\")","v":""},{"$f":"RTD(\"cqg.rtd\", ,\"ContractData\", C100, \"T_CVol\",, \"T\")","v":185},100,{"$f":"IFERROR(RANK($J100,$J$1:J$101)+COUNTIF($J$1:J100,J100)-1,\"\")","v":""},"S.US.XEL ",{"$error":"#N/A"}]
["S.US.ZS ",1,"S.US.ZS ",{"$f":"RTD(\"cqg.rtd\", ,\"ContractData\",C101, \"LongDescription\",, \"T\")","v":"Zscaler, Inc."},null,null,null,{"$f":"RTD(\"cqg.rtd\", ,\"ContractData\",C101, \"LastTradeToday\",, \"T\")","v":""},{"$f":"RTD(\"cqg.rtd\", ,\"ContractData\",C101, \"NetLastTradeToday\",, \"T\")","v":""},{"$f":"IFERROR(RTD(\"cqg.rtd\", ,\"ContractData\",C101, \"PerCentNetLastTrade\",, \"T\")/100,\"\")","v":""},{"$f":"RTD(\"cqg.rtd\", ,\"ContractData\", C101, \"T_CVol\",, \"T\")","v":1016},101,{"$f":"IFERROR(RANK($J101,$J$1:J$101)+COUNTIF($J$1:J101,J101)-1,\"\")","v":""},"S.US.ZS ",{"$error":"#N/A"}]
[]
[null,{"$f":"SUM(B1:B101)/101","v":1}]