{"text_format":"1","workbook":"xlsx","n_sheets":2,"sheets":["Call Data","Put Data"],"not_rendered":{"charts":0,"images":1,"macros":1,"external_links":0,"defined_names":1,"comments":0,"pivot_tables":0},"unopened":[],"bounds":{"document_bytes":16777216,"sheet_cells":100000,"rows_first":2000,"rows_last":500,"rows_between":2000,"halvings":0,"cell_chars":16384,"cell_head_chars":4096},"cells_cut":0,"cells_raw":0,"read":"whole","date_system":"1900"}

{"sheet":"Call Data","index":0,"n_rows":175,"n_cols":17,"rows_kept":175,"cut":false,"hidden":false,"merged":[[4,9,4,11],[5,9,5,11],[1,10,2,12],[4,3,4,6],[5,3,5,6],[3,12,3,13]]}
[{"$f":"RTD(\"cqg.rtd\", ,\"ContractData\",\"C.\"&B6, \"Symbol\",, \"T\")","v":"C.US.CLEJ269150"}]
[{"$f":"_xll.CQGOptions(B6, \"1\", \"-1,0\", \"Call\")","v":"C.US.CLEJ269100"},null,null,null,null,null,null,null,null,null,{"$f":"MOD(RTD(\"cqg.rtd\", ,\"SystemInfo\", \"Linetime\"),1)","v":"06:43:34"}]
["C.US.CLEJ269150"]
[{"$f":"RTD(\"cqg.rtd\", ,\"ContractData\",A2, \"Strike\",, \"T\")","v":9100},"Underlying ",null,null,null,null,null,null,null,null,null,null,{"$f":"RTD(\"cqg.rtd\", ,\"ContractData\",B6, \"LongDescription\",, \"T\")","v":"Crude Light (Globex), Apr 26"}]
[{"$f":"RTD(\"cqg.rtd\", ,\"ContractData\",A3, \"Strike\",, \"T\")","v":9150},"Symbol","Live ATM",{"$f":"RTD(\"cqg.rtd\", ,\"ContractData\",A1, \"LongDescription\",, \"T\")","v":"Crude Light (Globex), Apr 26 9150 Call"},null,null,null,null,null,null,null,null,"Last","NC"]
[{"$f":"A5-A4","v":50},"CLE","Set ATM","Crude Light (Globex), Apr 26 9150 Call",null,null,null,null,null,null,null,null,{"$f":"RTD(\"cqg.rtd\", ,\"ContractData\",B6, \"LastTrade\",, \"T\")","v":91.710000000000008},{"$f":"RTD(\"cqg.rtd\", ,\"ContractData\",B6, \"NetLastTrade\",, \"T\")","v":4.460000000000008}]
[50]
["Strike","Symbol","Last","NC","Bid Vol","Bid","Ask","Ask Vol","Volume","Yesterday Vol","Volume Change","Open Int","Prev OI","OI Change"]
[{"$f":"A10-$A$7","v":5000},{"$f":"LEFT(B10,FIND(A10,B10)-1)&A9","v":"C.US.CLEJ265000"},{"$f":"IF(LEFT(RTD(\"cqg.rtd\", ,\"ContractData\",B9, \"LastTrade\",, \"T\"),3)=\"768\",\"\",RTD(\"cqg.rtd\", ,\"ContractData\",B9, \"LastTrade\",, \"T\"))","v":""},{"$f":"IF(C9=\"\",\"\",RTD(\"cqg.rtd\", ,\"ContractData\",B9, \"NetLastTrade\",, \"T\"))","v":""},{"$f":"IF(LEFT(RTD(\"cqg.rtd\", ,\"ContractData\",B9, \"LastTrade\",, \"T\"),3)=\"768\",\"\",RTD(\"cqg.rtd\", ,\"ContractData\",B9, \"MT_LastBidVolume\",, \"T\"))","v":0},{"$f":"IF(LEFT(RTD(\"cqg.rtd\", ,\"ContractData\",B9, \"LastTrade\",, \"T\"),3)=\"768\",\"\",RTD(\"cqg.rtd\", ,\"ContractData\",B9, \"Bid\",, \"T\"))","v":""},{"$f":"IF(LEFT(RTD(\"cqg.rtd\", ,\"ContractData\",B9, \"LastTrade\",, \"T\"),3)=\"768\",\"\",RTD(\"cqg.rtd\", ,\"ContractData\",B9, \"Ask\",, \"T\"))","v":""},{"$f":"IF(LEFT(RTD(\"cqg.rtd\", ,\"ContractData\",B9, \"LastTrade\",, \"T\"),3)=\"768\",\"\",RTD(\"cqg.rtd\", ,\"ContractData\",B9, \"MT_LastAskVolume\",, \"T\"))","v":0},{"$f":"IF(LEFT(RTD(\"cqg.rtd\", ,\"ContractData\",B9, \"LastTrade\",, \"T\"),3)=\"768\",\"\",RTD(\"cqg.rtd\", ,\"ContractData\",B9, \"T_CVol\",, \"T\"))","v":0},{"$f":"IF(LEFT(RTD(\"cqg.rtd\", ,\"ContractData\",B9, \"LastTrade\",, \"T\"),3)=\"768\",\"\",RTD(\"cqg.rtd\", ,\"ContractData\",B9, \"Y_CVol\",, \"T\"))","v":0},{"$f":"IF(LEFT(RTD(\"cqg.rtd\", ,\"ContractData\",B9, \"LastTrade\",, \"T\"),3)=\"768\",\"\",IFERROR(IF(I9>J9,\"+\"&I9-J9,I9-J9)*1,\"\"))","v":0},{"$f":"IF(LEFT(RTD(\"cqg.rtd\", ,\"ContractData\",B9, \"LastTrade\",, \"T\"),3)=\"768\",\"\",RTD(\"cqg.rtd\",,\"StudyData\",B9,  \"Bar\",,  \"ContractOI\", \"D\", \"-1\",,,,,\"T\"))","v":9},{"$f":"IF(LEFT(RTD(\"cqg.rtd\", ,\"ContractData\",B9, \"LastTrade\",, \"T\"),3)=\"768\",\"\",RTD(\"cqg.rtd\",,\"StudyData\",B9,  \"Bar\",,  \"ContractOI\", \"D\", \"-2\",,,,,\"T\"))","v":17},{"$f":"IF(LEFT(RTD(\"cqg.rtd\", ,\"ContractData\",B9, \"LastTrade\",, \"T\"),3)=\"768\",\"\",IFERROR(IF(L9>M9,\"+\"&L9-M9,L9-M9)*1,\"\"))","v":-8}]
[5050,"C.US.CLEJ265050",{"$f":"IF(LEFT(RTD(\"cqg.rtd\", ,\"ContractData\",B10, \"LastTrade\",, \"T\"),3)=\"768\",\"\",RTD(\"cqg.rtd\", ,\"ContractData\",B10, \"LastTrade\",, \"T\"))","v":""},{"$f":"IF(C10=\"\",\"\",RTD(\"cqg.rtd\", ,\"ContractData\",B10, \"NetLastTrade\",, \"T\"))","v":""},{"$f":"IF(LEFT(RTD(\"cqg.rtd\", ,\"ContractData\",B10, \"LastTrade\",, \"T\"),3)=\"768\",\"\",RTD(\"cqg.rtd\", ,\"ContractData\",B10, \"MT_LastBidVolume\",, \"T\"))","v":0},{"$f":"IF(LEFT(RTD(\"cqg.rtd\", ,\"ContractData\",B10, \"LastTrade\",, \"T\"),3)=\"768\",\"\",RTD(\"cqg.rtd\", ,\"ContractData\",B10, \"Bid\",, \"T\"))","v":""},{"$f":"IF(LEFT(RTD(\"cqg.rtd\", ,\"ContractData\",B10, \"LastTrade\",, \"T\"),3)=\"768\",\"\",RTD(\"cqg.rtd\", ,\"ContractData\",B10, \"Ask\",, \"T\"))","v":""},{"$f":"IF(LEFT(RTD(\"cqg.rtd\", ,\"ContractData\",B10, \"LastTrade\",, \"T\"),3)=\"768\",\"\",RTD(\"cqg.rtd\", ,\"ContractData\",B10, \"MT_LastAskVolume\",, \"T\"))","v":0},{"$f":"IF(LEFT(RTD(\"cqg.rtd\", ,\"ContractData\",B10, \"LastTrade\",, \"T\"),3)=\"768\",\"\",RTD(\"cqg.rtd\", ,\"ContractData\",B10, \"T_CVol\",, \"T\"))","v":0},{"$f":"IF(LEFT(RTD(\"cqg.rtd\", ,\"ContractData\",B10, \"LastTrade\",, \"T\"),3)=\"768\",\"\",RTD(\"cqg.rtd\", ,\"ContractData\",B10, \"Y_CVol\",, \"T\"))","v":0},{"$f":"IF(LEFT(RTD(\"cqg.rtd\", ,\"ContractData\",B10, \"LastTrade\",, \"T\"),3)=\"768\",\"\",IFERROR(IF(I10>J10,\"+\"&I10-J10,I10-J10)*1,\"\"))","v":0},{"$f":"IF(LEFT(RTD(\"cqg.rtd\", ,\"ContractData\",B10, \"LastTrade\",, \"T\"),3)=\"768\",\"\",RTD(\"cqg.rtd\",,\"StudyData\",B10,  \"Bar\",,  \"ContractOI\", \"D\", \"-1\",,,,,\"T\"))","v":14},{"$f":"IF(LEFT(RTD(\"cqg.rtd\", ,\"ContractData\",B10, \"LastTrade\",, \"T\"),3)=\"768\",\"\",RTD(\"cqg.rtd\",,\"StudyData\",B10,  \"Bar\",,  \"ContractOI\", \"D\", \"-2\",,,,,\"T\"))","v":14},{"$f":"IF(LEFT(RTD(\"cqg.rtd\", ,\"ContractData\",B10, \"LastTrade\",, \"T\"),3)=\"768\",\"\",IFERROR(IF(L10>M10,\"+\"&L10-M10,L10-M10)*1,\"\"))","v":0}]
[5100,"C.US.CLEJ265100",{"$f":"IF(LEFT(RTD(\"cqg.rtd\", ,\"ContractData\",B11, \"LastTrade\",, \"T\"),3)=\"768\",\"\",RTD(\"cqg.rtd\", ,\"ContractData\",B11, \"LastTrade\",, \"T\"))","v":""},{"$f":"IF(C11=\"\",\"\",RTD(\"cqg.rtd\", ,\"ContractData\",B11, \"NetLastTrade\",, \"T\"))","v":""},{"$f":"IF(LEFT(RTD(\"cqg.rtd\", ,\"ContractData\",B11, \"LastTrade\",, \"T\"),3)=\"768\",\"\",RTD(\"cqg.rtd\", ,\"ContractData\",B11, \"MT_LastBidVolume\",, \"T\"))","v":0},{"$f":"IF(LEFT(RTD(\"cqg.rtd\", ,\"ContractData\",B11, \"LastTrade\",, \"T\"),3)=\"768\",\"\",RTD(\"cqg.rtd\", ,\"ContractData\",B11, \"Bid\",, \"T\"))","v":""},{"$f":"IF(LEFT(RTD(\"cqg.rtd\", ,\"ContractData\",B11, \"LastTrade\",, \"T\"),3)=\"768\",\"\",RTD(\"cqg.rtd\", ,\"ContractData\",B11, \"Ask\",, \"T\"))","v":""},{"$f":"IF(LEFT(RTD(\"cqg.rtd\", ,\"ContractData\",B11, \"LastTrade\",, \"T\"),3)=\"768\",\"\",RTD(\"cqg.rtd\", ,\"ContractData\",B11, \"MT_LastAskVolume\",, \"T\"))","v":0},{"$f":"IF(LEFT(RTD(\"cqg.rtd\", ,\"ContractData\",B11, \"LastTrade\",, \"T\"),3)=\"768\",\"\",RTD(\"cqg.rtd\", ,\"ContractData\",B11, \"T_CVol\",, \"T\"))","v":0},{"$f":"IF(LEFT(RTD(\"cqg.rtd\", ,\"ContractData\",B11, \"LastTrade\",, \"T\"),3)=\"768\",\"\",RTD(\"cqg.rtd\", ,\"ContractData\",B11, \"Y_CVol\",, \"T\"))","v":0},{"$f":"IF(LEFT(RTD(\"cqg.rtd\", ,\"ContractData\",B11, \"LastTrade\",, \"T\"),3)=\"768\",\"\",IFERROR(IF(I11>J11,\"+\"&I11-J11,I11-J11)*1,\"\"))","v":0},{"$f":"IF(LEFT(RTD(\"cqg.rtd\", ,\"ContractData\",B11, \"LastTrade\",, \"T\"),3)=\"768\",\"\",RTD(\"cqg.rtd\",,\"StudyData\",B11,  \"Bar\",,  \"ContractOI\", \"D\", \"-1\",,,,,\"T\"))","v":69},{"$f":"IF(LEFT(RTD(\"cqg.rtd\", ,\"ContractData\",B11, \"LastTrade\",, \"T\"),3)=\"768\",\"\",RTD(\"cqg.rtd\",,\"StudyData\",B11,  \"Bar\",,  \"ContractOI\", \"D\", \"-2\",,,,,\"T\"))","v":71},{"$f":"IF(LEFT(RTD(\"cqg.rtd\", ,\"ContractData\",B11, \"LastTrade\",, \"T\"),3)=\"768\",\"\",IFERROR(IF(L11>M11,\"+\"&L11-M11,L11-M11)*1,\"\"))","v":-2}]
[5150,"C.US.CLEJ265150",{"$f":"IF(LEFT(RTD(\"cqg.rtd\", ,\"ContractData\",B12, \"LastTrade\",, \"T\"),3)=\"768\",\"\",RTD(\"cqg.rtd\", ,\"ContractData\",B12, \"LastTrade\",, \"T\"))","v":""},{"$f":"IF(C12=\"\",\"\",RTD(\"cqg.rtd\", ,\"ContractData\",B12, \"NetLastTrade\",, \"T\"))","v":""},{"$f":"IF(LEFT(RTD(\"cqg.rtd\", ,\"ContractData\",B12, \"LastTrade\",, \"T\"),3)=\"768\",\"\",RTD(\"cqg.rtd\", ,\"ContractData\",B12, \"MT_LastBidVolume\",, \"T\"))","v":0},{"$f":"IF(LEFT(RTD(\"cqg.rtd\", ,\"ContractData\",B12, \"LastTrade\",, \"T\"),3)=\"768\",\"\",RTD(\"cqg.rtd\", ,\"ContractData\",B12, \"Bid\",, \"T\"))","v":""},{"$f":"IF(LEFT(RTD(\"cqg.rtd\", ,\"ContractData\",B12, \"LastTrade\",, \"T\"),3)=\"768\",\"\",RTD(\"cqg.rtd\", ,\"ContractData\",B12, \"Ask\",, \"T\"))","v":""},{"$f":"IF(LEFT(RTD(\"cqg.rtd\", ,\"ContractData\",B12, \"LastTrade\",, \"T\"),3)=\"768\",\"\",RTD(\"cqg.rtd\", ,\"ContractData\",B12, \"MT_LastAskVolume\",, \"T\"))","v":0},{"$f":"IF(LEFT(RTD(\"cqg.rtd\", ,\"ContractData\",B12, \"LastTrade\",, \"T\"),3)=\"768\",\"\",RTD(\"cqg.rtd\", ,\"ContractData\",B12, \"T_CVol\",, \"T\"))","v":0},{"$f":"IF(LEFT(RTD(\"cqg.rtd\", ,\"ContractData\",B12, \"LastTrade\",, \"T\"),3)=\"768\",\"\",RTD(\"cqg.rtd\", ,\"ContractData\",B12, \"Y_CVol\",, \"T\"))","v":0},{"$f":"IF(LEFT(RTD(\"cqg.rtd\", ,\"ContractData\",B12, \"LastTrade\",, \"T\"),3)=\"768\",\"\",IFERROR(IF(I12>J12,\"+\"&I12-J12,I12-J12)*1,\"\"))","v":0},{"$f":"IF(LEFT(RTD(\"cqg.rtd\", ,\"ContractData\",B12, \"LastTrade\",, \"T\"),3)=\"768\",\"\",RTD(\"cqg.rtd\",,\"StudyData\",B12,  \"Bar\",,  \"ContractOI\", \"D\", \"-1\",,,,,\"T\"))","v":""},{"$f":"IF(LEFT(RTD(\"cqg.rtd\", ,\"ContractData\",B12, \"LastTrade\",, \"T\"),3)=\"768\",\"\",RTD(\"cqg.rtd\",,\"StudyData\",B12,  \"Bar\",,  \"ContractOI\", \"D\", \"-2\",,,,,\"T\"))","v":""},{"$f":"IF(LEFT(RTD(\"cqg.rtd\", ,\"ContractData\",B12, \"LastTrade\",, \"T\"),3)=\"768\",\"\",IFERROR(IF(L12>M12,\"+\"&L12-M12,L12-M12)*1,\"\"))","v":""}]
[5200,"C.US.CLEJ265200",{"$f":"IF(LEFT(RTD(\"cqg.rtd\", ,\"ContractData\",B13, \"LastTrade\",, \"T\"),3)=\"768\",\"\",RTD(\"cqg.rtd\", ,\"ContractData\",B13, \"LastTrade\",, \"T\"))","v":""},{"$f":"IF(C13=\"\",\"\",RTD(\"cqg.rtd\", ,\"ContractData\",B13, \"NetLastTrade\",, \"T\"))","v":""},{"$f":"IF(LEFT(RTD(\"cqg.rtd\", ,\"ContractData\",B13, \"LastTrade\",, \"T\"),3)=\"768\",\"\",RTD(\"cqg.rtd\", ,\"ContractData\",B13, \"MT_LastBidVolume\",, \"T\"))","v":0},{"$f":"IF(LEFT(RTD(\"cqg.rtd\", ,\"ContractData\",B13, \"LastTrade\",, \"T\"),3)=\"768\",\"\",RTD(\"cqg.rtd\", ,\"ContractData\",B13, \"Bid\",, \"T\"))","v":""},{"$f":"IF(LEFT(RTD(\"cqg.rtd\", ,\"ContractData\",B13, \"LastTrade\",, \"T\"),3)=\"768\",\"\",RTD(\"cqg.rtd\", ,\"ContractData\",B13, \"Ask\",, \"T\"))","v":""},{"$f":"IF(LEFT(RTD(\"cqg.rtd\", ,\"ContractData\",B13, \"LastTrade\",, \"T\"),3)=\"768\",\"\",RTD(\"cqg.rtd\", ,\"ContractData\",B13, \"MT_LastAskVolume\",, \"T\"))","v":0},{"$f":"IF(LEFT(RTD(\"cqg.rtd\", ,\"ContractData\",B13, \"LastTrade\",, \"T\"),3)=\"768\",\"\",RTD(\"cqg.rtd\", ,\"ContractData\",B13, \"T_CVol\",, \"T\"))","v":0},{"$f":"IF(LEFT(RTD(\"cqg.rtd\", ,\"ContractData\",B13, \"LastTrade\",, \"T\"),3)=\"768\",\"\",RTD(\"cqg.rtd\", ,\"ContractData\",B13, \"Y_CVol\",, \"T\"))","v":0},{"$f":"IF(LEFT(RTD(\"cqg.rtd\", ,\"ContractData\",B13, \"LastTrade\",, \"T\"),3)=\"768\",\"\",IFERROR(IF(I13>J13,\"+\"&I13-J13,I13-J13)*1,\"\"))","v":0},{"$f":"IF(LEFT(RTD(\"cqg.rtd\", ,\"ContractData\",B13, \"LastTrade\",, \"T\"),3)=\"768\",\"\",RTD(\"cqg.rtd\",,\"StudyData\",B13,  \"Bar\",,  \"ContractOI\", \"D\", \"-1\",,,,,\"T\"))","v":2},{"$f":"IF(LEFT(RTD(\"cqg.rtd\", ,\"ContractData\",B13, \"LastTrade\",, \"T\"),3)=\"768\",\"\",RTD(\"cqg.rtd\",,\"StudyData\",B13,  \"Bar\",,  \"ContractOI\", \"D\", \"-2\",,,,,\"T\"))","v":2},{"$f":"IF(LEFT(RTD(\"cqg.rtd\", ,\"ContractData\",B13, \"LastTrade\",, \"T\"),3)=\"768\",\"\",IFERROR(IF(L13>M13,\"+\"&L13-M13,L13-M13)*1,\"\"))","v":0}]
[5250,"C.US.CLEJ265250",{"$f":"IF(LEFT(RTD(\"cqg.rtd\", ,\"ContractData\",B14, \"LastTrade\",, \"T\"),3)=\"768\",\"\",RTD(\"cqg.rtd\", ,\"ContractData\",B14, \"LastTrade\",, \"T\"))","v":""},{"$f":"IF(C14=\"\",\"\",RTD(\"cqg.rtd\", ,\"ContractData\",B14, \"NetLastTrade\",, \"T\"))","v":""},{"$f":"IF(LEFT(RTD(\"cqg.rtd\", ,\"ContractData\",B14, \"LastTrade\",, \"T\"),3)=\"768\",\"\",RTD(\"cqg.rtd\", ,\"ContractData\",B14, \"MT_LastBidVolume\",, \"T\"))","v":0},{"$f":"IF(LEFT(RTD(\"cqg.rtd\", ,\"ContractData\",B14, \"LastTrade\",, \"T\"),3)=\"768\",\"\",RTD(\"cqg.rtd\", ,\"ContractData\",B14, \"Bid\",, \"T\"))","v":""},{"$f":"IF(LEFT(RTD(\"cqg.rtd\", ,\"ContractData\",B14, \"LastTrade\",, \"T\"),3)=\"768\",\"\",RTD(\"cqg.rtd\", ,\"ContractData\",B14, \"Ask\",, \"T\"))","v":""},{"$f":"IF(LEFT(RTD(\"cqg.rtd\", ,\"ContractData\",B14, \"LastTrade\",, \"T\"),3)=\"768\",\"\",RTD(\"cqg.rtd\", ,\"ContractData\",B14, \"MT_LastAskVolume\",, \"T\"))","v":0},{"$f":"IF(LEFT(RTD(\"cqg.rtd\", ,\"ContractData\",B14, \"LastTrade\",, \"T\"),3)=\"768\",\"\",RTD(\"cqg.rtd\", ,\"ContractData\",B14, \"T_CVol\",, \"T\"))","v":0},{"$f":"IF(LEFT(RTD(\"cqg.rtd\", ,\"ContractData\",B14, \"LastTrade\",, \"T\"),3)=\"768\",\"\",RTD(\"cqg.rtd\", ,\"ContractData\",B14, \"Y_CVol\",, \"T\"))","v":0},{"$f":"IF(LEFT(RTD(\"cqg.rtd\", ,\"ContractData\",B14, \"LastTrade\",, \"T\"),3)=\"768\",\"\",IFERROR(IF(I14>J14,\"+\"&I14-J14,I14-J14)*1,\"\"))","v":0},{"$f":"IF(LEFT(RTD(\"cqg.rtd\", ,\"ContractData\",B14, \"LastTrade\",, \"T\"),3)=\"768\",\"\",RTD(\"cqg.rtd\",,\"StudyData\",B14,  \"Bar\",,  \"ContractOI\", \"D\", \"-1\",,,,,\"T\"))","v":1},{"$f":"IF(LEFT(RTD(\"cqg.rtd\", ,\"ContractData\",B14, \"LastTrade\",, \"T\"),3)=\"768\",\"\",RTD(\"cqg.rtd\",,\"StudyData\",B14,  \"Bar\",,  \"ContractOI\", \"D\", \"-2\",,,,,\"T\"))","v":1},{"$f":"IF(LEFT(RTD(\"cqg.rtd\", ,\"ContractData\",B14, \"LastTrade\",, \"T\"),3)=\"768\",\"\",IFERROR(IF(L14>M14,\"+\"&L14-M14,L14-M14)*1,\"\"))","v":0}]
[5300,"C.US.CLEJ265300",{"$f":"IF(LEFT(RTD(\"cqg.rtd\", ,\"ContractData\",B15, \"LastTrade\",, \"T\"),3)=\"768\",\"\",RTD(\"cqg.rtd\", ,\"ContractData\",B15, \"LastTrade\",, \"T\"))","v":25.75},{"$f":"IF(C15=\"\",\"\",RTD(\"cqg.rtd\", ,\"ContractData\",B15, \"NetLastTrade\",, \"T\"))","v":""},{"$f":"IF(LEFT(RTD(\"cqg.rtd\", ,\"ContractData\",B15, \"LastTrade\",, \"T\"),3)=\"768\",\"\",RTD(\"cqg.rtd\", ,\"ContractData\",B15, \"MT_LastBidVolume\",, \"T\"))","v":0},{"$f":"IF(LEFT(RTD(\"cqg.rtd\", ,\"ContractData\",B15, \"LastTrade\",, \"T\"),3)=\"768\",\"\",RTD(\"cqg.rtd\", ,\"ContractData\",B15, \"Bid\",, \"T\"))","v":""},{"$f":"IF(LEFT(RTD(\"cqg.rtd\", ,\"ContractData\",B15, \"LastTrade\",, \"T\"),3)=\"768\",\"\",RTD(\"cqg.rtd\", ,\"ContractData\",B15, \"Ask\",, \"T\"))","v":""},{"$f":"IF(LEFT(RTD(\"cqg.rtd\", ,\"ContractData\",B15, \"LastTrade\",, \"T\"),3)=\"768\",\"\",RTD(\"cqg.rtd\", ,\"ContractData\",B15, \"MT_LastAskVolume\",, \"T\"))","v":0},{"$f":"IF(LEFT(RTD(\"cqg.rtd\", ,\"ContractData\",B15, \"LastTrade\",, \"T\"),3)=\"768\",\"\",RTD(\"cqg.rtd\", ,\"ContractData\",B15, \"T_CVol\",, \"T\"))","v":0},{"$f":"IF(LEFT(RTD(\"cqg.rtd\", ,\"ContractData\",B15, \"LastTrade\",, \"T\"),3)=\"768\",\"\",RTD(\"cqg.rtd\", ,\"ContractData\",B15, \"Y_CVol\",, \"T\"))","v":0},{"$f":"IF(LEFT(RTD(\"cqg.rtd\", ,\"ContractData\",B15, \"LastTrade\",, \"T\"),3)=\"768\",\"\",IFERROR(IF(I15>J15,\"+\"&I15-J15,I15-J15)*1,\"\"))","v":0},{"$f":"IF(LEFT(RTD(\"cqg.rtd\", ,\"ContractData\",B15, \"LastTrade\",, \"T\"),3)=\"768\",\"\",RTD(\"cqg.rtd\",,\"StudyData\",B15,  \"Bar\",,  \"ContractOI\", \"D\", \"-1\",,,,,\"T\"))","v":174},{"$f":"IF(LEFT(RTD(\"cqg.rtd\", ,\"ContractData\",B15, \"LastTrade\",, \"T\"),3)=\"768\",\"\",RTD(\"cqg.rtd\",,\"StudyData\",B15,  \"Bar\",,  \"ContractOI\", \"D\", \"-2\",,,,,\"T\"))","v":174},{"$f":"IF(LEFT(RTD(\"cqg.rtd\", ,\"ContractData\",B15, \"LastTrade\",, \"T\"),3)=\"768\",\"\",IFERROR(IF(L15>M15,\"+\"&L15-M15,L15-M15)*1,\"\"))","v":0}]
[5350,"C.US.CLEJ265350",{"$f":"IF(LEFT(RTD(\"cqg.rtd\", ,\"ContractData\",B16, \"LastTrade\",, \"T\"),3)=\"768\",\"\",RTD(\"cqg.rtd\", ,\"ContractData\",B16, \"LastTrade\",, \"T\"))","v":""},{"$f":"IF(C16=\"\",\"\",RTD(\"cqg.rtd\", ,\"ContractData\",B16, \"NetLastTrade\",, \"T\"))","v":""},{"$f":"IF(LEFT(RTD(\"cqg.rtd\", ,\"ContractData\",B16, \"LastTrade\",, \"T\"),3)=\"768\",\"\",RTD(\"cqg.rtd\", ,\"ContractData\",B16, \"MT_LastBidVolume\",, \"T\"))","v":0},{"$f":"IF(LEFT(RTD(\"cqg.rtd\", ,\"ContractData\",B16, \"LastTrade\",, \"T\"),3)=\"768\",\"\",RTD(\"cqg.rtd\", ,\"ContractData\",B16, \"Bid\",, \"T\"))","v":""},{"$f":"IF(LEFT(RTD(\"cqg.rtd\", ,\"ContractData\",B16, \"LastTrade\",, \"T\"),3)=\"768\",\"\",RTD(\"cqg.rtd\", ,\"ContractData\",B16, \"Ask\",, \"T\"))","v":""},{"$f":"IF(LEFT(RTD(\"cqg.rtd\", ,\"ContractData\",B16, \"LastTrade\",, \"T\"),3)=\"768\",\"\",RTD(\"cqg.rtd\", ,\"ContractData\",B16, \"MT_LastAskVolume\",, \"T\"))","v":0},{"$f":"IF(LEFT(RTD(\"cqg.rtd\", ,\"ContractData\",B16, \"LastTrade\",, \"T\"),3)=\"768\",\"\",RTD(\"cqg.rtd\", ,\"ContractData\",B16, \"T_CVol\",, \"T\"))","v":0},{"$f":"IF(LEFT(RTD(\"cqg.rtd\", ,\"ContractData\",B16, \"LastTrade\",, \"T\"),3)=\"768\",\"\",RTD(\"cqg.rtd\", ,\"ContractData\",B16, \"Y_CVol\",, \"T\"))","v":0},{"$f":"IF(LEFT(RTD(\"cqg.rtd\", ,\"ContractData\",B16, \"LastTrade\",, \"T\"),3)=\"768\",\"\",IFERROR(IF(I16>J16,\"+\"&I16-J16,I16-J16)*1,\"\"))","v":0},{"$f":"IF(LEFT(RTD(\"cqg.rtd\", ,\"ContractData\",B16, \"LastTrade\",, \"T\"),3)=\"768\",\"\",RTD(\"cqg.rtd\",,\"StudyData\",B16,  \"Bar\",,  \"ContractOI\", \"D\", \"-1\",,,,,\"T\"))","v":27},{"$f":"IF(LEFT(RTD(\"cqg.rtd\", ,\"ContractData\",B16, \"LastTrade\",, \"T\"),3)=\"768\",\"\",RTD(\"cqg.rtd\",,\"StudyData\",B16,  \"Bar\",,  \"ContractOI\", \"D\", \"-2\",,,,,\"T\"))","v":27},{"$f":"IF(LEFT(RTD(\"cqg.rtd\", ,\"ContractData\",B16, \"LastTrade\",, \"T\"),3)=\"768\",\"\",IFERROR(IF(L16>M16,\"+\"&L16-M16,L16-M16)*1,\"\"))","v":0}]
[5400,"C.US.CLEJ265400",{"$f":"IF(LEFT(RTD(\"cqg.rtd\", ,\"ContractData\",B17, \"LastTrade\",, \"T\"),3)=\"768\",\"\",RTD(\"cqg.rtd\", ,\"ContractData\",B17, \"LastTrade\",, \"T\"))","v":""},{"$f":"IF(C17=\"\",\"\",RTD(\"cqg.rtd\", ,\"ContractData\",B17, \"NetLastTrade\",, \"T\"))","v":""},{"$f":"IF(LEFT(RTD(\"cqg.rtd\", ,\"ContractData\",B17, \"LastTrade\",, \"T\"),3)=\"768\",\"\",RTD(\"cqg.rtd\", ,\"ContractData\",B17, \"MT_LastBidVolume\",, \"T\"))","v":0},{"$f":"IF(LEFT(RTD(\"cqg.rtd\", ,\"ContractData\",B17, \"LastTrade\",, \"T\"),3)=\"768\",\"\",RTD(\"cqg.rtd\", ,\"ContractData\",B17, \"Bid\",, \"T\"))","v":""},{"$f":"IF(LEFT(RTD(\"cqg.rtd\", ,\"ContractData\",B17, \"LastTrade\",, \"T\"),3)=\"768\",\"\",RTD(\"cqg.rtd\", ,\"ContractData\",B17, \"Ask\",, \"T\"))","v":""},{"$f":"IF(LEFT(RTD(\"cqg.rtd\", ,\"ContractData\",B17, \"LastTrade\",, \"T\"),3)=\"768\",\"\",RTD(\"cqg.rtd\", ,\"ContractData\",B17, \"MT_LastAskVolume\",, \"T\"))","v":0},{"$f":"IF(LEFT(RTD(\"cqg.rtd\", ,\"ContractData\",B17, \"LastTrade\",, \"T\"),3)=\"768\",\"\",RTD(\"cqg.rtd\", ,\"ContractData\",B17, \"T_CVol\",, \"T\"))","v":0},{"$f":"IF(LEFT(RTD(\"cqg.rtd\", ,\"ContractData\",B17, \"LastTrade\",, \"T\"),3)=\"768\",\"\",RTD(\"cqg.rtd\", ,\"ContractData\",B17, \"Y_CVol\",, \"T\"))","v":0},{"$f":"IF(LEFT(RTD(\"cqg.rtd\", ,\"ContractData\",B17, \"LastTrade\",, \"T\"),3)=\"768\",\"\",IFERROR(IF(I17>J17,\"+\"&I17-J17,I17-J17)*1,\"\"))","v":0},{"$f":"IF(LEFT(RTD(\"cqg.rtd\", ,\"ContractData\",B17, \"LastTrade\",, \"T\"),3)=\"768\",\"\",RTD(\"cqg.rtd\",,\"StudyData\",B17,  \"Bar\",,  \"ContractOI\", \"D\", \"-1\",,,,,\"T\"))","v":90},{"$f":"IF(LEFT(RTD(\"cqg.rtd\", ,\"ContractData\",B17, \"LastTrade\",, \"T\"),3)=\"768\",\"\",RTD(\"cqg.rtd\",,\"StudyData\",B17,  \"Bar\",,  \"ContractOI\", \"D\", \"-2\",,,,,\"T\"))","v":90},{"$f":"IF(LEFT(RTD(\"cqg.rtd\", ,\"ContractData\",B17, \"LastTrade\",, \"T\"),3)=\"768\",\"\",IFERROR(IF(L17>M17,\"+\"&L17-M17,L17-M17)*1,\"\"))","v":0}]
[5450,"C.US.CLEJ265450",{"$f":"IF(LEFT(RTD(\"cqg.rtd\", ,\"ContractData\",B18, \"LastTrade\",, \"T\"),3)=\"768\",\"\",RTD(\"cqg.rtd\", ,\"ContractData\",B18, \"LastTrade\",, \"T\"))","v":""},{"$f":"IF(C18=\"\",\"\",RTD(\"cqg.rtd\", ,\"ContractData\",B18, \"NetLastTrade\",, \"T\"))","v":""},{"$f":"IF(LEFT(RTD(\"cqg.rtd\", ,\"ContractData\",B18, \"LastTrade\",, \"T\"),3)=\"768\",\"\",RTD(\"cqg.rtd\", ,\"ContractData\",B18, \"MT_LastBidVolume\",, \"T\"))","v":0},{"$f":"IF(LEFT(RTD(\"cqg.rtd\", ,\"ContractData\",B18, \"LastTrade\",, \"T\"),3)=\"768\",\"\",RTD(\"cqg.rtd\", ,\"ContractData\",B18, \"Bid\",, \"T\"))","v":""},{"$f":"IF(LEFT(RTD(\"cqg.rtd\", ,\"ContractData\",B18, \"LastTrade\",, \"T\"),3)=\"768\",\"\",RTD(\"cqg.rtd\", ,\"ContractData\",B18, \"Ask\",, \"T\"))","v":""},{"$f":"IF(LEFT(RTD(\"cqg.rtd\", ,\"ContractData\",B18, \"LastTrade\",, \"T\"),3)=\"768\",\"\",RTD(\"cqg.rtd\", ,\"ContractData\",B18, \"MT_LastAskVolume\",, \"T\"))","v":0},{"$f":"IF(LEFT(RTD(\"cqg.rtd\", ,\"ContractData\",B18, \"LastTrade\",, \"T\"),3)=\"768\",\"\",RTD(\"cqg.rtd\", ,\"ContractData\",B18, \"T_CVol\",, \"T\"))","v":0},{"$f":"IF(LEFT(RTD(\"cqg.rtd\", ,\"ContractData\",B18, \"LastTrade\",, \"T\"),3)=\"768\",\"\",RTD(\"cqg.rtd\", ,\"ContractData\",B18, \"Y_CVol\",, \"T\"))","v":0},{"$f":"IF(LEFT(RTD(\"cqg.rtd\", ,\"ContractData\",B18, \"LastTrade\",, \"T\"),3)=\"768\",\"\",IFERROR(IF(I18>J18,\"+\"&I18-J18,I18-J18)*1,\"\"))","v":0},{"$f":"IF(LEFT(RTD(\"cqg.rtd\", ,\"ContractData\",B18, \"LastTrade\",, \"T\"),3)=\"768\",\"\",RTD(\"cqg.rtd\",,\"StudyData\",B18,  \"Bar\",,  \"ContractOI\", \"D\", \"-1\",,,,,\"T\"))","v":19},{"$f":"IF(LEFT(RTD(\"cqg.rtd\", ,\"ContractData\",B18, \"LastTrade\",, \"T\"),3)=\"768\",\"\",RTD(\"cqg.rtd\",,\"StudyData\",B18,  \"Bar\",,  \"ContractOI\", \"D\", \"-2\",,,,,\"T\"))","v":19},{"$f":"IF(LEFT(RTD(\"cqg.rtd\", ,\"ContractData\",B18, \"LastTrade\",, \"T\"),3)=\"768\",\"\",IFERROR(IF(L18>M18,\"+\"&L18-M18,L18-M18)*1,\"\"))","v":0}]
[5500,"C.US.CLEJ265500",{"$f":"IF(LEFT(RTD(\"cqg.rtd\", ,\"ContractData\",B19, \"LastTrade\",, \"T\"),3)=\"768\",\"\",RTD(\"cqg.rtd\", ,\"ContractData\",B19, \"LastTrade\",, \"T\"))","v":""},{"$f":"IF(C19=\"\",\"\",RTD(\"cqg.rtd\", ,\"ContractData\",B19, \"NetLastTrade\",, \"T\"))","v":""},{"$f":"IF(LEFT(RTD(\"cqg.rtd\", ,\"ContractData\",B19, \"LastTrade\",, \"T\"),3)=\"768\",\"\",RTD(\"cqg.rtd\", ,\"ContractData\",B19, \"MT_LastBidVolume\",, \"T\"))","v":0},{"$f":"IF(LEFT(RTD(\"cqg.rtd\", ,\"ContractData\",B19, \"LastTrade\",, \"T\"),3)=\"768\",\"\",RTD(\"cqg.rtd\", ,\"ContractData\",B19, \"Bid\",, \"T\"))","v":""},{"$f":"IF(LEFT(RTD(\"cqg.rtd\", ,\"ContractData\",B19, \"LastTrade\",, \"T\"),3)=\"768\",\"\",RTD(\"cqg.rtd\", ,\"ContractData\",B19, \"Ask\",, \"T\"))","v":""},{"$f":"IF(LEFT(RTD(\"cqg.rtd\", ,\"ContractData\",B19, \"LastTrade\",, \"T\"),3)=\"768\",\"\",RTD(\"cqg.rtd\", ,\"ContractData\",B19, \"MT_LastAskVolume\",, \"T\"))","v":0},{"$f":"IF(LEFT(RTD(\"cqg.rtd\", ,\"ContractData\",B19, \"LastTrade\",, \"T\"),3)=\"768\",\"\",RTD(\"cqg.rtd\", ,\"ContractData\",B19, \"T_CVol\",, \"T\"))","v":0},{"$f":"IF(LEFT(RTD(\"cqg.rtd\", ,\"ContractData\",B19, \"LastTrade\",, \"T\"),3)=\"768\",\"\",RTD(\"cqg.rtd\", ,\"ContractData\",B19, \"Y_CVol\",, \"T\"))","v":0},{"$f":"IF(LEFT(RTD(\"cqg.rtd\", ,\"ContractData\",B19, \"LastTrade\",, \"T\"),3)=\"768\",\"\",IFERROR(IF(I19>J19,\"+\"&I19-J19,I19-J19)*1,\"\"))","v":0},{"$f":"IF(LEFT(RTD(\"cqg.rtd\", ,\"ContractData\",B19, \"LastTrade\",, \"T\"),3)=\"768\",\"\",RTD(\"cqg.rtd\",,\"StudyData\",B19,  \"Bar\",,  \"ContractOI\", \"D\", \"-1\",,,,,\"T\"))","v":837},{"$f":"IF(LEFT(RTD(\"cqg.rtd\", ,\"ContractData\",B19, \"LastTrade\",, \"T\"),3)=\"768\",\"\",RTD(\"cqg.rtd\",,\"StudyData\",B19,  \"Bar\",,  \"ContractOI\", \"D\", \"-2\",,,,,\"T\"))","v":837},{"$f":"IF(LEFT(RTD(\"cqg.rtd\", ,\"ContractData\",B19, \"LastTrade\",, \"T\"),3)=\"768\",\"\",IFERROR(IF(L19>M19,\"+\"&L19-M19,L19-M19)*1,\"\"))","v":0}]
[5550,"C.US.CLEJ265550",{"$f":"IF(LEFT(RTD(\"cqg.rtd\", ,\"ContractData\",B20, \"LastTrade\",, \"T\"),3)=\"768\",\"\",RTD(\"cqg.rtd\", ,\"ContractData\",B20, \"LastTrade\",, \"T\"))","v":""},{"$f":"IF(C20=\"\",\"\",RTD(\"cqg.rtd\", ,\"ContractData\",B20, \"NetLastTrade\",, \"T\"))","v":""},{"$f":"IF(LEFT(RTD(\"cqg.rtd\", ,\"ContractData\",B20, \"LastTrade\",, \"T\"),3)=\"768\",\"\",RTD(\"cqg.rtd\", ,\"ContractData\",B20, \"MT_LastBidVolume\",, \"T\"))","v":0},{"$f":"IF(LEFT(RTD(\"cqg.rtd\", ,\"ContractData\",B20, \"LastTrade\",, \"T\"),3)=\"768\",\"\",RTD(\"cqg.rtd\", ,\"ContractData\",B20, \"Bid\",, \"T\"))","v":""},{"$f":"IF(LEFT(RTD(\"cqg.rtd\", ,\"ContractData\",B20, \"LastTrade\",, \"T\"),3)=\"768\",\"\",RTD(\"cqg.rtd\", ,\"ContractData\",B20, \"Ask\",, \"T\"))","v":""},{"$f":"IF(LEFT(RTD(\"cqg.rtd\", ,\"ContractData\",B20, \"LastTrade\",, \"T\"),3)=\"768\",\"\",RTD(\"cqg.rtd\", ,\"ContractData\",B20, \"MT_LastAskVolume\",, \"T\"))","v":0},{"$f":"IF(LEFT(RTD(\"cqg.rtd\", ,\"ContractData\",B20, \"LastTrade\",, \"T\"),3)=\"768\",\"\",RTD(\"cqg.rtd\", ,\"ContractData\",B20, \"T_CVol\",, \"T\"))","v":0},{"$f":"IF(LEFT(RTD(\"cqg.rtd\", ,\"ContractData\",B20, \"LastTrade\",, \"T\"),3)=\"768\",\"\",RTD(\"cqg.rtd\", ,\"ContractData\",B20, \"Y_CVol\",, \"T\"))","v":0},{"$f":"IF(LEFT(RTD(\"cqg.rtd\", ,\"ContractData\",B20, \"LastTrade\",, \"T\"),3)=\"768\",\"\",IFERROR(IF(I20>J20,\"+\"&I20-J20,I20-J20)*1,\"\"))","v":0},{"$f":"IF(LEFT(RTD(\"cqg.rtd\", ,\"ContractData\",B20, \"LastTrade\",, \"T\"),3)=\"768\",\"\",RTD(\"cqg.rtd\",,\"StudyData\",B20,  \"Bar\",,  \"ContractOI\", \"D\", \"-1\",,,,,\"T\"))","v":55},{"$f":"IF(LEFT(RTD(\"cqg.rtd\", ,\"ContractData\",B20, \"LastTrade\",, \"T\"),3)=\"768\",\"\",RTD(\"cqg.rtd\",,\"StudyData\",B20,  \"Bar\",,  \"ContractOI\", \"D\", \"-2\",,,,,\"T\"))","v":55},{"$f":"IF(LEFT(RTD(\"cqg.rtd\", ,\"ContractData\",B20, \"LastTrade\",, \"T\"),3)=\"768\",\"\",IFERROR(IF(L20>M20,\"+\"&L20-M20,L20-M20)*1,\"\"))","v":0}]
[5600,"C.US.CLEJ265600",{"$f":"IF(LEFT(RTD(\"cqg.rtd\", ,\"ContractData\",B21, \"LastTrade\",, \"T\"),3)=\"768\",\"\",RTD(\"cqg.rtd\", ,\"ContractData\",B21, \"LastTrade\",, \"T\"))","v":""},{"$f":"IF(C21=\"\",\"\",RTD(\"cqg.rtd\", ,\"ContractData\",B21, \"NetLastTrade\",, \"T\"))","v":""},{"$f":"IF(LEFT(RTD(\"cqg.rtd\", ,\"ContractData\",B21, \"LastTrade\",, \"T\"),3)=\"768\",\"\",RTD(\"cqg.rtd\", ,\"ContractData\",B21, \"MT_LastBidVolume\",, \"T\"))","v":0},{"$f":"IF(LEFT(RTD(\"cqg.rtd\", ,\"ContractData\",B21, \"LastTrade\",, \"T\"),3)=\"768\",\"\",RTD(\"cqg.rtd\", ,\"ContractData\",B21, \"Bid\",, \"T\"))","v":""},{"$f":"IF(LEFT(RTD(\"cqg.rtd\", ,\"ContractData\",B21, \"LastTrade\",, \"T\"),3)=\"768\",\"\",RTD(\"cqg.rtd\", ,\"ContractData\",B21, \"Ask\",, \"T\"))","v":""},{"$f":"IF(LEFT(RTD(\"cqg.rtd\", ,\"ContractData\",B21, \"LastTrade\",, \"T\"),3)=\"768\",\"\",RTD(\"cqg.rtd\", ,\"ContractData\",B21, \"MT_LastAskVolume\",, \"T\"))","v":0},{"$f":"IF(LEFT(RTD(\"cqg.rtd\", ,\"ContractData\",B21, \"LastTrade\",, \"T\"),3)=\"768\",\"\",RTD(\"cqg.rtd\", ,\"ContractData\",B21, \"T_CVol\",, \"T\"))","v":0},{"$f":"IF(LEFT(RTD(\"cqg.rtd\", ,\"ContractData\",B21, \"LastTrade\",, \"T\"),3)=\"768\",\"\",RTD(\"cqg.rtd\", ,\"ContractData\",B21, \"Y_CVol\",, \"T\"))","v":0},{"$f":"IF(LEFT(RTD(\"cqg.rtd\", ,\"ContractData\",B21, \"LastTrade\",, \"T\"),3)=\"768\",\"\",IFERROR(IF(I21>J21,\"+\"&I21-J21,I21-J21)*1,\"\"))","v":0},{"$f":"IF(LEFT(RTD(\"cqg.rtd\", ,\"ContractData\",B21, \"LastTrade\",, \"T\"),3)=\"768\",\"\",RTD(\"cqg.rtd\",,\"StudyData\",B21,  \"Bar\",,  \"ContractOI\", \"D\", \"-1\",,,,,\"T\"))","v":2835},{"$f":"IF(LEFT(RTD(\"cqg.rtd\", ,\"ContractData\",B21, \"LastTrade\",, \"T\"),3)=\"768\",\"\",RTD(\"cqg.rtd\",,\"StudyData\",B21,  \"Bar\",,  \"ContractOI\", \"D\", \"-2\",,,,,\"T\"))","v":2835},{"$f":"IF(LEFT(RTD(\"cqg.rtd\", ,\"ContractData\",B21, \"LastTrade\",, \"T\"),3)=\"768\",\"\",IFERROR(IF(L21>M21,\"+\"&L21-M21,L21-M21)*1,\"\"))","v":0}]
[5650,"C.US.CLEJ265650",{"$f":"IF(LEFT(RTD(\"cqg.rtd\", ,\"ContractData\",B22, \"LastTrade\",, \"T\"),3)=\"768\",\"\",RTD(\"cqg.rtd\", ,\"ContractData\",B22, \"LastTrade\",, \"T\"))","v":""},{"$f":"IF(C22=\"\",\"\",RTD(\"cqg.rtd\", ,\"ContractData\",B22, \"NetLastTrade\",, \"T\"))","v":""},{"$f":"IF(LEFT(RTD(\"cqg.rtd\", ,\"ContractData\",B22, \"LastTrade\",, \"T\"),3)=\"768\",\"\",RTD(\"cqg.rtd\", ,\"ContractData\",B22, \"MT_LastBidVolume\",, \"T\"))","v":5},{"$f":"IF(LEFT(RTD(\"cqg.rtd\", ,\"ContractData\",B22, \"LastTrade\",, \"T\"),3)=\"768\",\"\",RTD(\"cqg.rtd\", ,\"ContractData\",B22, \"Bid\",, \"T\"))","v":34.32},{"$f":"IF(LEFT(RTD(\"cqg.rtd\", ,\"ContractData\",B22, \"LastTrade\",, \"T\"),3)=\"768\",\"\",RTD(\"cqg.rtd\", ,\"ContractData\",B22, \"Ask\",, \"T\"))","v":36.03},{"$f":"IF(LEFT(RTD(\"cqg.rtd\", ,\"ContractData\",B22, \"LastTrade\",, \"T\"),3)=\"768\",\"\",RTD(\"cqg.rtd\", ,\"ContractData\",B22, \"MT_LastAskVolume\",, \"T\"))","v":5},{"$f":"IF(LEFT(RTD(\"cqg.rtd\", ,\"ContractData\",B22, \"LastTrade\",, \"T\"),3)=\"768\",\"\",RTD(\"cqg.rtd\", ,\"ContractData\",B22, \"T_CVol\",, \"T\"))","v":0},{"$f":"IF(LEFT(RTD(\"cqg.rtd\", ,\"ContractData\",B22, \"LastTrade\",, \"T\"),3)=\"768\",\"\",RTD(\"cqg.rtd\", ,\"ContractData\",B22, \"Y_CVol\",, \"T\"))","v":0},{"$f":"IF(LEFT(RTD(\"cqg.rtd\", ,\"ContractData\",B22, \"LastTrade\",, \"T\"),3)=\"768\",\"\",IFERROR(IF(I22>J22,\"+\"&I22-J22,I22-J22)*1,\"\"))","v":0},{"$f":"IF(LEFT(RTD(\"cqg.rtd\", ,\"ContractData\",B22, \"LastTrade\",, \"T\"),3)=\"768\",\"\",RTD(\"cqg.rtd\",,\"StudyData\",B22,  \"Bar\",,  \"ContractOI\", \"D\", \"-1\",,,,,\"T\"))","v":554},{"$f":"IF(LEFT(RTD(\"cqg.rtd\", ,\"ContractData\",B22, \"LastTrade\",, \"T\"),3)=\"768\",\"\",RTD(\"cqg.rtd\",,\"StudyData\",B22,  \"Bar\",,  \"ContractOI\", \"D\", \"-2\",,,,,\"T\"))","v":554},{"$f":"IF(LEFT(RTD(\"cqg.rtd\", ,\"ContractData\",B22, \"LastTrade\",, \"T\"),3)=\"768\",\"\",IFERROR(IF(L22>M22,\"+\"&L22-M22,L22-M22)*1,\"\"))","v":0}]
[5700,"C.US.CLEJ265700",{"$f":"IF(LEFT(RTD(\"cqg.rtd\", ,\"ContractData\",B23, \"LastTrade\",, \"T\"),3)=\"768\",\"\",RTD(\"cqg.rtd\", ,\"ContractData\",B23, \"LastTrade\",, \"T\"))","v":34.020000000000003},{"$f":"IF(C23=\"\",\"\",RTD(\"cqg.rtd\", ,\"ContractData\",B23, \"NetLastTrade\",, \"T\"))","v":""},{"$f":"IF(LEFT(RTD(\"cqg.rtd\", ,\"ContractData\",B23, \"LastTrade\",, \"T\"),3)=\"768\",\"\",RTD(\"cqg.rtd\", ,\"ContractData\",B23, \"MT_LastBidVolume\",, \"T\"))","v":5},{"$f":"IF(LEFT(RTD(\"cqg.rtd\", ,\"ContractData\",B23, \"LastTrade\",, \"T\"),3)=\"768\",\"\",RTD(\"cqg.rtd\", ,\"ContractData\",B23, \"Bid\",, \"T\"))","v":33.82},{"$f":"IF(LEFT(RTD(\"cqg.rtd\", ,\"ContractData\",B23, \"LastTrade\",, \"T\"),3)=\"768\",\"\",RTD(\"cqg.rtd\", ,\"ContractData\",B23, \"Ask\",, \"T\"))","v":35.53},{"$f":"IF(LEFT(RTD(\"cqg.rtd\", ,\"ContractData\",B23, \"LastTrade\",, \"T\"),3)=\"768\",\"\",RTD(\"cqg.rtd\", ,\"ContractData\",B23, \"MT_LastAskVolume\",, \"T\"))","v":5},{"$f":"IF(LEFT(RTD(\"cqg.rtd\", ,\"ContractData\",B23, \"LastTrade\",, \"T\"),3)=\"768\",\"\",RTD(\"cqg.rtd\", ,\"ContractData\",B23, \"T_CVol\",, \"T\"))","v":0},{"$f":"IF(LEFT(RTD(\"cqg.rtd\", ,\"ContractData\",B23, \"LastTrade\",, \"T\"),3)=\"768\",\"\",RTD(\"cqg.rtd\", ,\"ContractData\",B23, \"Y_CVol\",, \"T\"))","v":0},{"$f":"IF(LEFT(RTD(\"cqg.rtd\", ,\"ContractData\",B23, \"LastTrade\",, \"T\"),3)=\"768\",\"\",IFERROR(IF(I23>J23,\"+\"&I23-J23,I23-J23)*1,\"\"))","v":0},{"$f":"IF(LEFT(RTD(\"cqg.rtd\", ,\"ContractData\",B23, \"LastTrade\",, \"T\"),3)=\"768\",\"\",RTD(\"cqg.rtd\",,\"StudyData\",B23,  \"Bar\",,  \"ContractOI\", \"D\", \"-1\",,,,,\"T\"))","v":975},{"$f":"IF(LEFT(RTD(\"cqg.rtd\", ,\"ContractData\",B23, \"LastTrade\",, \"T\"),3)=\"768\",\"\",RTD(\"cqg.rtd\",,\"StudyData\",B23,  \"Bar\",,  \"ContractOI\", \"D\", \"-2\",,,,,\"T\"))","v":975},{"$f":"IF(LEFT(RTD(\"cqg.rtd\", ,\"ContractData\",B23, \"LastTrade\",, \"T\"),3)=\"768\",\"\",IFERROR(IF(L23>M23,\"+\"&L23-M23,L23-M23)*1,\"\"))","v":0}]
[5750,"C.US.CLEJ265750",{"$f":"IF(LEFT(RTD(\"cqg.rtd\", ,\"ContractData\",B24, \"LastTrade\",, \"T\"),3)=\"768\",\"\",RTD(\"cqg.rtd\", ,\"ContractData\",B24, \"LastTrade\",, \"T\"))","v":""},{"$f":"IF(C24=\"\",\"\",RTD(\"cqg.rtd\", ,\"ContractData\",B24, \"NetLastTrade\",, \"T\"))","v":""},{"$f":"IF(LEFT(RTD(\"cqg.rtd\", ,\"ContractData\",B24, \"LastTrade\",, \"T\"),3)=\"768\",\"\",RTD(\"cqg.rtd\", ,\"ContractData\",B24, \"MT_LastBidVolume\",, \"T\"))","v":30},{"$f":"IF(LEFT(RTD(\"cqg.rtd\", ,\"ContractData\",B24, \"LastTrade\",, \"T\"),3)=\"768\",\"\",RTD(\"cqg.rtd\", ,\"ContractData\",B24, \"Bid\",, \"T\"))","v":33.32},{"$f":"IF(LEFT(RTD(\"cqg.rtd\", ,\"ContractData\",B24, \"LastTrade\",, \"T\"),3)=\"768\",\"\",RTD(\"cqg.rtd\", ,\"ContractData\",B24, \"Ask\",, \"T\"))","v":35.03},{"$f":"IF(LEFT(RTD(\"cqg.rtd\", ,\"ContractData\",B24, \"LastTrade\",, \"T\"),3)=\"768\",\"\",RTD(\"cqg.rtd\", ,\"ContractData\",B24, \"MT_LastAskVolume\",, \"T\"))","v":30},{"$f":"IF(LEFT(RTD(\"cqg.rtd\", ,\"ContractData\",B24, \"LastTrade\",, \"T\"),3)=\"768\",\"\",RTD(\"cqg.rtd\", ,\"ContractData\",B24, \"T_CVol\",, \"T\"))","v":0},{"$f":"IF(LEFT(RTD(\"cqg.rtd\", ,\"ContractData\",B24, \"LastTrade\",, \"T\"),3)=\"768\",\"\",RTD(\"cqg.rtd\", ,\"ContractData\",B24, \"Y_CVol\",, \"T\"))","v":1200},{"$f":"IF(LEFT(RTD(\"cqg.rtd\", ,\"ContractData\",B24, \"LastTrade\",, \"T\"),3)=\"768\",\"\",IFERROR(IF(I24>J24,\"+\"&I24-J24,I24-J24)*1,\"\"))","v":-1200},{"$f":"IF(LEFT(RTD(\"cqg.rtd\", ,\"ContractData\",B24, \"LastTrade\",, \"T\"),3)=\"768\",\"\",RTD(\"cqg.rtd\",,\"StudyData\",B24,  \"Bar\",,  \"ContractOI\", \"D\", \"-1\",,,,,\"T\"))","v":1171},{"$f":"IF(LEFT(RTD(\"cqg.rtd\", ,\"ContractData\",B24, \"LastTrade\",, \"T\"),3)=\"768\",\"\",RTD(\"cqg.rtd\",,\"StudyData\",B24,  \"Bar\",,  \"ContractOI\", \"D\", \"-2\",,,,,\"T\"))","v":1971},{"$f":"IF(LEFT(RTD(\"cqg.rtd\", ,\"ContractData\",B24, \"LastTrade\",, \"T\"),3)=\"768\",\"\",IFERROR(IF(L24>M24,\"+\"&L24-M24,L24-M24)*1,\"\"))","v":-800}]
[5800,"C.US.CLEJ265800",{"$f":"IF(LEFT(RTD(\"cqg.rtd\", ,\"ContractData\",B25, \"LastTrade\",, \"T\"),3)=\"768\",\"\",RTD(\"cqg.rtd\", ,\"ContractData\",B25, \"LastTrade\",, \"T\"))","v":""},{"$f":"IF(C25=\"\",\"\",RTD(\"cqg.rtd\", ,\"ContractData\",B25, \"NetLastTrade\",, \"T\"))","v":""},{"$f":"IF(LEFT(RTD(\"cqg.rtd\", ,\"ContractData\",B25, \"LastTrade\",, \"T\"),3)=\"768\",\"\",RTD(\"cqg.rtd\", ,\"ContractData\",B25, \"MT_LastBidVolume\",, \"T\"))","v":30},{"$f":"IF(LEFT(RTD(\"cqg.rtd\", ,\"ContractData\",B25, \"LastTrade\",, \"T\"),3)=\"768\",\"\",RTD(\"cqg.rtd\", ,\"ContractData\",B25, \"Bid\",, \"T\"))","v":32.82},{"$f":"IF(LEFT(RTD(\"cqg.rtd\", ,\"ContractData\",B25, \"LastTrade\",, \"T\"),3)=\"768\",\"\",RTD(\"cqg.rtd\", ,\"ContractData\",B25, \"Ask\",, \"T\"))","v":34.54},{"$f":"IF(LEFT(RTD(\"cqg.rtd\", ,\"ContractData\",B25, \"LastTrade\",, \"T\"),3)=\"768\",\"\",RTD(\"cqg.rtd\", ,\"ContractData\",B25, \"MT_LastAskVolume\",, \"T\"))","v":30},{"$f":"IF(LEFT(RTD(\"cqg.rtd\", ,\"ContractData\",B25, \"LastTrade\",, \"T\"),3)=\"768\",\"\",RTD(\"cqg.rtd\", ,\"ContractData\",B25, \"T_CVol\",, \"T\"))","v":0},{"$f":"IF(LEFT(RTD(\"cqg.rtd\", ,\"ContractData\",B25, \"LastTrade\",, \"T\"),3)=\"768\",\"\",RTD(\"cqg.rtd\", ,\"ContractData\",B25, \"Y_CVol\",, \"T\"))","v":600},{"$f":"IF(LEFT(RTD(\"cqg.rtd\", ,\"ContractData\",B25, \"LastTrade\",, \"T\"),3)=\"768\",\"\",IFERROR(IF(I25>J25,\"+\"&I25-J25,I25-J25)*1,\"\"))","v":-600},{"$f":"IF(LEFT(RTD(\"cqg.rtd\", ,\"ContractData\",B25, \"LastTrade\",, \"T\"),3)=\"768\",\"\",RTD(\"cqg.rtd\",,\"StudyData\",B25,  \"Bar\",,  \"ContractOI\", \"D\", \"-1\",,,,,\"T\"))","v":1347},{"$f":"IF(LEFT(RTD(\"cqg.rtd\", ,\"ContractData\",B25, \"LastTrade\",, \"T\"),3)=\"768\",\"\",RTD(\"cqg.rtd\",,\"StudyData\",B25,  \"Bar\",,  \"ContractOI\", \"D\", \"-2\",,,,,\"T\"))","v":1699},{"$f":"IF(LEFT(RTD(\"cqg.rtd\", ,\"ContractData\",B25, \"LastTrade\",, \"T\"),3)=\"768\",\"\",IFERROR(IF(L25>M25,\"+\"&L25-M25,L25-M25)*1,\"\"))","v":-352}]
[5850,"C.US.CLEJ265850",{"$f":"IF(LEFT(RTD(\"cqg.rtd\", ,\"ContractData\",B26, \"LastTrade\",, \"T\"),3)=\"768\",\"\",RTD(\"cqg.rtd\", ,\"ContractData\",B26, \"LastTrade\",, \"T\"))","v":""},{"$f":"IF(C26=\"\",\"\",RTD(\"cqg.rtd\", ,\"ContractData\",B26, \"NetLastTrade\",, \"T\"))","v":""},{"$f":"IF(LEFT(RTD(\"cqg.rtd\", ,\"ContractData\",B26, \"LastTrade\",, \"T\"),3)=\"768\",\"\",RTD(\"cqg.rtd\", ,\"ContractData\",B26, \"MT_LastBidVolume\",, \"T\"))","v":5},{"$f":"IF(LEFT(RTD(\"cqg.rtd\", ,\"ContractData\",B26, \"LastTrade\",, \"T\"),3)=\"768\",\"\",RTD(\"cqg.rtd\", ,\"ContractData\",B26, \"Bid\",, \"T\"))","v":32.33},{"$f":"IF(LEFT(RTD(\"cqg.rtd\", ,\"ContractData\",B26, \"LastTrade\",, \"T\"),3)=\"768\",\"\",RTD(\"cqg.rtd\", ,\"ContractData\",B26, \"Ask\",, \"T\"))","v":34.04},{"$f":"IF(LEFT(RTD(\"cqg.rtd\", ,\"ContractData\",B26, \"LastTrade\",, \"T\"),3)=\"768\",\"\",RTD(\"cqg.rtd\", ,\"ContractData\",B26, \"MT_LastAskVolume\",, \"T\"))","v":5},{"$f":"IF(LEFT(RTD(\"cqg.rtd\", ,\"ContractData\",B26, \"LastTrade\",, \"T\"),3)=\"768\",\"\",RTD(\"cqg.rtd\", ,\"ContractData\",B26, \"T_CVol\",, \"T\"))","v":0},{"$f":"IF(LEFT(RTD(\"cqg.rtd\", ,\"ContractData\",B26, \"LastTrade\",, \"T\"),3)=\"768\",\"\",RTD(\"cqg.rtd\", ,\"ContractData\",B26, \"Y_CVol\",, \"T\"))","v":0},{"$f":"IF(LEFT(RTD(\"cqg.rtd\", ,\"ContractData\",B26, \"LastTrade\",, \"T\"),3)=\"768\",\"\",IFERROR(IF(I26>J26,\"+\"&I26-J26,I26-J26)*1,\"\"))","v":0},{"$f":"IF(LEFT(RTD(\"cqg.rtd\", ,\"ContractData\",B26, \"LastTrade\",, \"T\"),3)=\"768\",\"\",RTD(\"cqg.rtd\",,\"StudyData\",B26,  \"Bar\",,  \"ContractOI\", \"D\", \"-1\",,,,,\"T\"))","v":585},{"$f":"IF(LEFT(RTD(\"cqg.rtd\", ,\"ContractData\",B26, \"LastTrade\",, \"T\"),3)=\"768\",\"\",RTD(\"cqg.rtd\",,\"StudyData\",B26,  \"Bar\",,  \"ContractOI\", \"D\", \"-2\",,,,,\"T\"))","v":585},{"$f":"IF(LEFT(RTD(\"cqg.rtd\", ,\"ContractData\",B26, \"LastTrade\",, \"T\"),3)=\"768\",\"\",IFERROR(IF(L26>M26,\"+\"&L26-M26,L26-M26)*1,\"\"))","v":0}]
[5900,"C.US.CLEJ265900",{"$f":"IF(LEFT(RTD(\"cqg.rtd\", ,\"ContractData\",B27, \"LastTrade\",, \"T\"),3)=\"768\",\"\",RTD(\"cqg.rtd\", ,\"ContractData\",B27, \"LastTrade\",, \"T\"))","v":30.080000000000002},{"$f":"IF(C27=\"\",\"\",RTD(\"cqg.rtd\", ,\"ContractData\",B27, \"NetLastTrade\",, \"T\"))","v":1.7699999999999996},{"$f":"IF(LEFT(RTD(\"cqg.rtd\", ,\"ContractData\",B27, \"LastTrade\",, \"T\"),3)=\"768\",\"\",RTD(\"cqg.rtd\", ,\"ContractData\",B27, \"MT_LastBidVolume\",, \"T\"))","v":30},{"$f":"IF(LEFT(RTD(\"cqg.rtd\", ,\"ContractData\",B27, \"LastTrade\",, \"T\"),3)=\"768\",\"\",RTD(\"cqg.rtd\", ,\"ContractData\",B27, \"Bid\",, \"T\"))","v":31.830000000000002},{"$f":"IF(LEFT(RTD(\"cqg.rtd\", ,\"ContractData\",B27, \"LastTrade\",, \"T\"),3)=\"768\",\"\",RTD(\"cqg.rtd\", ,\"ContractData\",B27, \"Ask\",, \"T\"))","v":33.5},{"$f":"IF(LEFT(RTD(\"cqg.rtd\", ,\"ContractData\",B27, \"LastTrade\",, \"T\"),3)=\"768\",\"\",RTD(\"cqg.rtd\", ,\"ContractData\",B27, \"MT_LastAskVolume\",, \"T\"))","v":29},{"$f":"IF(LEFT(RTD(\"cqg.rtd\", ,\"ContractData\",B27, \"LastTrade\",, \"T\"),3)=\"768\",\"\",RTD(\"cqg.rtd\", ,\"ContractData\",B27, \"T_CVol\",, \"T\"))","v":0},{"$f":"IF(LEFT(RTD(\"cqg.rtd\", ,\"ContractData\",B27, \"LastTrade\",, \"T\"),3)=\"768\",\"\",RTD(\"cqg.rtd\", ,\"ContractData\",B27, \"Y_CVol\",, \"T\"))","v":0},{"$f":"IF(LEFT(RTD(\"cqg.rtd\", ,\"ContractData\",B27, \"LastTrade\",, \"T\"),3)=\"768\",\"\",IFERROR(IF(I27>J27,\"+\"&I27-J27,I27-J27)*1,\"\"))","v":0},{"$f":"IF(LEFT(RTD(\"cqg.rtd\", ,\"ContractData\",B27, \"LastTrade\",, \"T\"),3)=\"768\",\"\",RTD(\"cqg.rtd\",,\"StudyData\",B27,  \"Bar\",,  \"ContractOI\", \"D\", \"-1\",,,,,\"T\"))","v":1317},{"$f":"IF(LEFT(RTD(\"cqg.rtd\", ,\"ContractData\",B27, \"LastTrade\",, \"T\"),3)=\"768\",\"\",RTD(\"cqg.rtd\",,\"StudyData\",B27,  \"Bar\",,  \"ContractOI\", \"D\", \"-2\",,,,,\"T\"))","v":1317},{"$f":"IF(LEFT(RTD(\"cqg.rtd\", ,\"ContractData\",B27, \"LastTrade\",, \"T\"),3)=\"768\",\"\",IFERROR(IF(L27>M27,\"+\"&L27-M27,L27-M27)*1,\"\"))","v":0}]
[5950,"C.US.CLEJ265950",{"$f":"IF(LEFT(RTD(\"cqg.rtd\", ,\"ContractData\",B28, \"LastTrade\",, \"T\"),3)=\"768\",\"\",RTD(\"cqg.rtd\", ,\"ContractData\",B28, \"LastTrade\",, \"T\"))","v":""},{"$f":"IF(C28=\"\",\"\",RTD(\"cqg.rtd\", ,\"ContractData\",B28, \"NetLastTrade\",, \"T\"))","v":""},{"$f":"IF(LEFT(RTD(\"cqg.rtd\", ,\"ContractData\",B28, \"LastTrade\",, \"T\"),3)=\"768\",\"\",RTD(\"cqg.rtd\", ,\"ContractData\",B28, \"MT_LastBidVolume\",, \"T\"))","v":30},{"$f":"IF(LEFT(RTD(\"cqg.rtd\", ,\"ContractData\",B28, \"LastTrade\",, \"T\"),3)=\"768\",\"\",RTD(\"cqg.rtd\", ,\"ContractData\",B28, \"Bid\",, \"T\"))","v":31.330000000000002},{"$f":"IF(LEFT(RTD(\"cqg.rtd\", ,\"ContractData\",B28, \"LastTrade\",, \"T\"),3)=\"768\",\"\",RTD(\"cqg.rtd\", ,\"ContractData\",B28, \"Ask\",, \"T\"))","v":33.04},{"$f":"IF(LEFT(RTD(\"cqg.rtd\", ,\"ContractData\",B28, \"LastTrade\",, \"T\"),3)=\"768\",\"\",RTD(\"cqg.rtd\", ,\"ContractData\",B28, \"MT_LastAskVolume\",, \"T\"))","v":30},{"$f":"IF(LEFT(RTD(\"cqg.rtd\", ,\"ContractData\",B28, \"LastTrade\",, \"T\"),3)=\"768\",\"\",RTD(\"cqg.rtd\", ,\"ContractData\",B28, \"T_CVol\",, \"T\"))","v":0},{"$f":"IF(LEFT(RTD(\"cqg.rtd\", ,\"ContractData\",B28, \"LastTrade\",, \"T\"),3)=\"768\",\"\",RTD(\"cqg.rtd\", ,\"ContractData\",B28, \"Y_CVol\",, \"T\"))","v":0},{"$f":"IF(LEFT(RTD(\"cqg.rtd\", ,\"ContractData\",B28, \"LastTrade\",, \"T\"),3)=\"768\",\"\",IFERROR(IF(I28>J28,\"+\"&I28-J28,I28-J28)*1,\"\"))","v":0},{"$f":"IF(LEFT(RTD(\"cqg.rtd\", ,\"ContractData\",B28, \"LastTrade\",, \"T\"),3)=\"768\",\"\",RTD(\"cqg.rtd\",,\"StudyData\",B28,  \"Bar\",,  \"ContractOI\", \"D\", \"-1\",,,,,\"T\"))","v":1293},{"$f":"IF(LEFT(RTD(\"cqg.rtd\", ,\"ContractData\",B28, \"LastTrade\",, \"T\"),3)=\"768\",\"\",RTD(\"cqg.rtd\",,\"StudyData\",B28,  \"Bar\",,  \"ContractOI\", \"D\", \"-2\",,,,,\"T\"))","v":1293},{"$f":"IF(LEFT(RTD(\"cqg.rtd\", ,\"ContractData\",B28, \"LastTrade\",, \"T\"),3)=\"768\",\"\",IFERROR(IF(L28>M28,\"+\"&L28-M28,L28-M28)*1,\"\"))","v":0}]
[6000,"C.US.CLEJ266000",{"$f":"IF(LEFT(RTD(\"cqg.rtd\", ,\"ContractData\",B29, \"LastTrade\",, \"T\"),3)=\"768\",\"\",RTD(\"cqg.rtd\", ,\"ContractData\",B29, \"LastTrade\",, \"T\"))","v":25.13},{"$f":"IF(C29=\"\",\"\",RTD(\"cqg.rtd\", ,\"ContractData\",B29, \"NetLastTrade\",, \"T\"))","v":""},{"$f":"IF(LEFT(RTD(\"cqg.rtd\", ,\"ContractData\",B29, \"LastTrade\",, \"T\"),3)=\"768\",\"\",RTD(\"cqg.rtd\", ,\"ContractData\",B29, \"MT_LastBidVolume\",, \"T\"))","v":30},{"$f":"IF(LEFT(RTD(\"cqg.rtd\", ,\"ContractData\",B29, \"LastTrade\",, \"T\"),3)=\"768\",\"\",RTD(\"cqg.rtd\", ,\"ContractData\",B29, \"Bid\",, \"T\"))","v":31.14},{"$f":"IF(LEFT(RTD(\"cqg.rtd\", ,\"ContractData\",B29, \"LastTrade\",, \"T\"),3)=\"768\",\"\",RTD(\"cqg.rtd\", ,\"ContractData\",B29, \"Ask\",, \"T\"))","v":32.24},{"$f":"IF(LEFT(RTD(\"cqg.rtd\", ,\"ContractData\",B29, \"LastTrade\",, \"T\"),3)=\"768\",\"\",RTD(\"cqg.rtd\", ,\"ContractData\",B29, \"MT_LastAskVolume\",, \"T\"))","v":29},{"$f":"IF(LEFT(RTD(\"cqg.rtd\", ,\"ContractData\",B29, \"LastTrade\",, \"T\"),3)=\"768\",\"\",RTD(\"cqg.rtd\", ,\"ContractData\",B29, \"T_CVol\",, \"T\"))","v":0},{"$f":"IF(LEFT(RTD(\"cqg.rtd\", ,\"ContractData\",B29, \"LastTrade\",, \"T\"),3)=\"768\",\"\",RTD(\"cqg.rtd\", ,\"ContractData\",B29, \"Y_CVol\",, \"T\"))","v":0},{"$f":"IF(LEFT(RTD(\"cqg.rtd\", ,\"ContractData\",B29, \"LastTrade\",, \"T\"),3)=\"768\",\"\",IFERROR(IF(I29>J29,\"+\"&I29-J29,I29-J29)*1,\"\"))","v":0},{"$f":"IF(LEFT(RTD(\"cqg.rtd\", ,\"ContractData\",B29, \"LastTrade\",, \"T\"),3)=\"768\",\"\",RTD(\"cqg.rtd\",,\"StudyData\",B29,  \"Bar\",,  \"ContractOI\", \"D\", \"-1\",,,,,\"T\"))","v":5845},{"$f":"IF(LEFT(RTD(\"cqg.rtd\", ,\"ContractData\",B29, \"LastTrade\",, \"T\"),3)=\"768\",\"\",RTD(\"cqg.rtd\",,\"StudyData\",B29,  \"Bar\",,  \"ContractOI\", \"D\", \"-2\",,,,,\"T\"))","v":5845},{"$f":"IF(LEFT(RTD(\"cqg.rtd\", ,\"ContractData\",B29, \"LastTrade\",, \"T\"),3)=\"768\",\"\",IFERROR(IF(L29>M29,\"+\"&L29-M29,L29-M29)*1,\"\"))","v":0}]
[6050,"C.US.CLEJ266050",{"$f":"IF(LEFT(RTD(\"cqg.rtd\", ,\"ContractData\",B30, \"LastTrade\",, \"T\"),3)=\"768\",\"\",RTD(\"cqg.rtd\", ,\"ContractData\",B30, \"LastTrade\",, \"T\"))","v":""},{"$f":"IF(C30=\"\",\"\",RTD(\"cqg.rtd\", ,\"ContractData\",B30, \"NetLastTrade\",, \"T\"))","v":""},{"$f":"IF(LEFT(RTD(\"cqg.rtd\", ,\"ContractData\",B30, \"LastTrade\",, \"T\"),3)=\"768\",\"\",RTD(\"cqg.rtd\", ,\"ContractData\",B30, \"MT_LastBidVolume\",, \"T\"))","v":30},{"$f":"IF(LEFT(RTD(\"cqg.rtd\", ,\"ContractData\",B30, \"LastTrade\",, \"T\"),3)=\"768\",\"\",RTD(\"cqg.rtd\", ,\"ContractData\",B30, \"Bid\",, \"T\"))","v":30.51},{"$f":"IF(LEFT(RTD(\"cqg.rtd\", ,\"ContractData\",B30, \"LastTrade\",, \"T\"),3)=\"768\",\"\",RTD(\"cqg.rtd\", ,\"ContractData\",B30, \"Ask\",, \"T\"))","v":31.88},{"$f":"IF(LEFT(RTD(\"cqg.rtd\", ,\"ContractData\",B30, \"LastTrade\",, \"T\"),3)=\"768\",\"\",RTD(\"cqg.rtd\", ,\"ContractData\",B30, \"MT_LastAskVolume\",, \"T\"))","v":30},{"$f":"IF(LEFT(RTD(\"cqg.rtd\", ,\"ContractData\",B30, \"LastTrade\",, \"T\"),3)=\"768\",\"\",RTD(\"cqg.rtd\", ,\"ContractData\",B30, \"T_CVol\",, \"T\"))","v":0},{"$f":"IF(LEFT(RTD(\"cqg.rtd\", ,\"ContractData\",B30, \"LastTrade\",, \"T\"),3)=\"768\",\"\",RTD(\"cqg.rtd\", ,\"ContractData\",B30, \"Y_CVol\",, \"T\"))","v":0},{"$f":"IF(LEFT(RTD(\"cqg.rtd\", ,\"ContractData\",B30, \"LastTrade\",, \"T\"),3)=\"768\",\"\",IFERROR(IF(I30>J30,\"+\"&I30-J30,I30-J30)*1,\"\"))","v":0},{"$f":"IF(LEFT(RTD(\"cqg.rtd\", ,\"ContractData\",B30, \"LastTrade\",, \"T\"),3)=\"768\",\"\",RTD(\"cqg.rtd\",,\"StudyData\",B30,  \"Bar\",,  \"ContractOI\", \"D\", \"-1\",,,,,\"T\"))","v":1872},{"$f":"IF(LEFT(RTD(\"cqg.rtd\", ,\"ContractData\",B30, \"LastTrade\",, \"T\"),3)=\"768\",\"\",RTD(\"cqg.rtd\",,\"StudyData\",B30,  \"Bar\",,  \"ContractOI\", \"D\", \"-2\",,,,,\"T\"))","v":1872},{"$f":"IF(LEFT(RTD(\"cqg.rtd\", ,\"ContractData\",B30, \"LastTrade\",, \"T\"),3)=\"768\",\"\",IFERROR(IF(L30>M30,\"+\"&L30-M30,L30-M30)*1,\"\"))","v":0}]
[6100,"C.US.CLEJ266100",{"$f":"IF(LEFT(RTD(\"cqg.rtd\", ,\"ContractData\",B31, \"LastTrade\",, \"T\"),3)=\"768\",\"\",RTD(\"cqg.rtd\", ,\"ContractData\",B31, \"LastTrade\",, \"T\"))","v":24.93},{"$f":"IF(C31=\"\",\"\",RTD(\"cqg.rtd\", ,\"ContractData\",B31, \"NetLastTrade\",, \"T\"))","v":""},{"$f":"IF(LEFT(RTD(\"cqg.rtd\", ,\"ContractData\",B31, \"LastTrade\",, \"T\"),3)=\"768\",\"\",RTD(\"cqg.rtd\", ,\"ContractData\",B31, \"MT_LastBidVolume\",, \"T\"))","v":30},{"$f":"IF(LEFT(RTD(\"cqg.rtd\", ,\"ContractData\",B31, \"LastTrade\",, \"T\"),3)=\"768\",\"\",RTD(\"cqg.rtd\", ,\"ContractData\",B31, \"Bid\",, \"T\"))","v":30.01},{"$f":"IF(LEFT(RTD(\"cqg.rtd\", ,\"ContractData\",B31, \"LastTrade\",, \"T\"),3)=\"768\",\"\",RTD(\"cqg.rtd\", ,\"ContractData\",B31, \"Ask\",, \"T\"))","v":31.38},{"$f":"IF(LEFT(RTD(\"cqg.rtd\", ,\"ContractData\",B31, \"LastTrade\",, \"T\"),3)=\"768\",\"\",RTD(\"cqg.rtd\", ,\"ContractData\",B31, \"MT_LastAskVolume\",, \"T\"))","v":30},{"$f":"IF(LEFT(RTD(\"cqg.rtd\", ,\"ContractData\",B31, \"LastTrade\",, \"T\"),3)=\"768\",\"\",RTD(\"cqg.rtd\", ,\"ContractData\",B31, \"T_CVol\",, \"T\"))","v":0},{"$f":"IF(LEFT(RTD(\"cqg.rtd\", ,\"ContractData\",B31, \"LastTrade\",, \"T\"),3)=\"768\",\"\",RTD(\"cqg.rtd\", ,\"ContractData\",B31, \"Y_CVol\",, \"T\"))","v":1},{"$f":"IF(LEFT(RTD(\"cqg.rtd\", ,\"ContractData\",B31, \"LastTrade\",, \"T\"),3)=\"768\",\"\",IFERROR(IF(I31>J31,\"+\"&I31-J31,I31-J31)*1,\"\"))","v":-1},{"$f":"IF(LEFT(RTD(\"cqg.rtd\", ,\"ContractData\",B31, \"LastTrade\",, \"T\"),3)=\"768\",\"\",RTD(\"cqg.rtd\",,\"StudyData\",B31,  \"Bar\",,  \"ContractOI\", \"D\", \"-1\",,,,,\"T\"))","v":3720},{"$f":"IF(LEFT(RTD(\"cqg.rtd\", ,\"ContractData\",B31, \"LastTrade\",, \"T\"),3)=\"768\",\"\",RTD(\"cqg.rtd\",,\"StudyData\",B31,  \"Bar\",,  \"ContractOI\", \"D\", \"-2\",,,,,\"T\"))","v":3720},{"$f":"IF(LEFT(RTD(\"cqg.rtd\", ,\"ContractData\",B31, \"LastTrade\",, \"T\"),3)=\"768\",\"\",IFERROR(IF(L31>M31,\"+\"&L31-M31,L31-M31)*1,\"\"))","v":0}]
[6150,"C.US.CLEJ266150",{"$f":"IF(LEFT(RTD(\"cqg.rtd\", ,\"ContractData\",B32, \"LastTrade\",, \"T\"),3)=\"768\",\"\",RTD(\"cqg.rtd\", ,\"ContractData\",B32, \"LastTrade\",, \"T\"))","v":18},{"$f":"IF(C32=\"\",\"\",RTD(\"cqg.rtd\", ,\"ContractData\",B32, \"NetLastTrade\",, \"T\"))","v":""},{"$f":"IF(LEFT(RTD(\"cqg.rtd\", ,\"ContractData\",B32, \"LastTrade\",, \"T\"),3)=\"768\",\"\",RTD(\"cqg.rtd\", ,\"ContractData\",B32, \"MT_LastBidVolume\",, \"T\"))","v":30},{"$f":"IF(LEFT(RTD(\"cqg.rtd\", ,\"ContractData\",B32, \"LastTrade\",, \"T\"),3)=\"768\",\"\",RTD(\"cqg.rtd\", ,\"ContractData\",B32, \"Bid\",, \"T\"))","v":29.52},{"$f":"IF(LEFT(RTD(\"cqg.rtd\", ,\"ContractData\",B32, \"LastTrade\",, \"T\"),3)=\"768\",\"\",RTD(\"cqg.rtd\", ,\"ContractData\",B32, \"Ask\",, \"T\"))","v":30.89},{"$f":"IF(LEFT(RTD(\"cqg.rtd\", ,\"ContractData\",B32, \"LastTrade\",, \"T\"),3)=\"768\",\"\",RTD(\"cqg.rtd\", ,\"ContractData\",B32, \"MT_LastAskVolume\",, \"T\"))","v":30},{"$f":"IF(LEFT(RTD(\"cqg.rtd\", ,\"ContractData\",B32, \"LastTrade\",, \"T\"),3)=\"768\",\"\",RTD(\"cqg.rtd\", ,\"ContractData\",B32, \"T_CVol\",, \"T\"))","v":0},{"$f":"IF(LEFT(RTD(\"cqg.rtd\", ,\"ContractData\",B32, \"LastTrade\",, \"T\"),3)=\"768\",\"\",RTD(\"cqg.rtd\", ,\"ContractData\",B32, \"Y_CVol\",, \"T\"))","v":300},{"$f":"IF(LEFT(RTD(\"cqg.rtd\", ,\"ContractData\",B32, \"LastTrade\",, \"T\"),3)=\"768\",\"\",IFERROR(IF(I32>J32,\"+\"&I32-J32,I32-J32)*1,\"\"))","v":-300},{"$f":"IF(LEFT(RTD(\"cqg.rtd\", ,\"ContractData\",B32, \"LastTrade\",, \"T\"),3)=\"768\",\"\",RTD(\"cqg.rtd\",,\"StudyData\",B32,  \"Bar\",,  \"ContractOI\", \"D\", \"-1\",,,,,\"T\"))","v":1771},{"$f":"IF(LEFT(RTD(\"cqg.rtd\", ,\"ContractData\",B32, \"LastTrade\",, \"T\"),3)=\"768\",\"\",RTD(\"cqg.rtd\",,\"StudyData\",B32,  \"Bar\",,  \"ContractOI\", \"D\", \"-2\",,,,,\"T\"))","v":1771},{"$f":"IF(LEFT(RTD(\"cqg.rtd\", ,\"ContractData\",B32, \"LastTrade\",, \"T\"),3)=\"768\",\"\",IFERROR(IF(L32>M32,\"+\"&L32-M32,L32-M32)*1,\"\"))","v":0}]
[{"$f":"A34-$A$7","v":6200},{"$f":"LEFT(B34,FIND(A34,B34)-1)&A33","v":"C.US.CLEJ266200"},{"$f":"IF(LEFT(RTD(\"cqg.rtd\", ,\"ContractData\",B33, \"LastTrade\",, \"T\"),3)=\"768\",\"\",RTD(\"cqg.rtd\", ,\"ContractData\",B33, \"LastTrade\",, \"T\"))","v":50.7},{"$f":"IF(C33=\"\",\"\",RTD(\"cqg.rtd\", ,\"ContractData\",B33, \"NetLastTrade\",, \"T\"))","v":25.330000000000002},{"$f":"IF(LEFT(RTD(\"cqg.rtd\", ,\"ContractData\",B33, \"LastTrade\",, \"T\"),3)=\"768\",\"\",RTD(\"cqg.rtd\", ,\"ContractData\",B33, \"MT_LastBidVolume\",, \"T\"))","v":30},{"$f":"IF(LEFT(RTD(\"cqg.rtd\", ,\"ContractData\",B33, \"LastTrade\",, \"T\"),3)=\"768\",\"\",RTD(\"cqg.rtd\", ,\"ContractData\",B33, \"Bid\",, \"T\"))","v":29.03},{"$f":"IF(LEFT(RTD(\"cqg.rtd\", ,\"ContractData\",B33, \"LastTrade\",, \"T\"),3)=\"768\",\"\",RTD(\"cqg.rtd\", ,\"ContractData\",B33, \"Ask\",, \"T\"))","v":30.39},{"$f":"IF(LEFT(RTD(\"cqg.rtd\", ,\"ContractData\",B33, \"LastTrade\",, \"T\"),3)=\"768\",\"\",RTD(\"cqg.rtd\", ,\"ContractData\",B33, \"MT_LastAskVolume\",, \"T\"))","v":30},{"$f":"IF(LEFT(RTD(\"cqg.rtd\", ,\"ContractData\",B33, \"LastTrade\",, \"T\"),3)=\"768\",\"\",RTD(\"cqg.rtd\", ,\"ContractData\",B33, \"T_CVol\",, \"T\"))","v":0},{"$f":"IF(LEFT(RTD(\"cqg.rtd\", ,\"ContractData\",B33, \"LastTrade\",, \"T\"),3)=\"768\",\"\",RTD(\"cqg.rtd\", ,\"ContractData\",B33, \"Y_CVol\",, \"T\"))","v":400},{"$f":"IF(LEFT(RTD(\"cqg.rtd\", ,\"ContractData\",B33, \"LastTrade\",, \"T\"),3)=\"768\",\"\",IFERROR(IF(I33>J33,\"+\"&I33-J33,I33-J33)*1,\"\"))","v":-400},{"$f":"IF(LEFT(RTD(\"cqg.rtd\", ,\"ContractData\",B33, \"LastTrade\",, \"T\"),3)=\"768\",\"\",RTD(\"cqg.rtd\",,\"StudyData\",B33,  \"Bar\",,  \"ContractOI\", \"D\", \"-1\",,,,,\"T\"))","v":8235},{"$f":"IF(LEFT(RTD(\"cqg.rtd\", ,\"ContractData\",B33, \"LastTrade\",, \"T\"),3)=\"768\",\"\",RTD(\"cqg.rtd\",,\"StudyData\",B33,  \"Bar\",,  \"ContractOI\", \"D\", \"-2\",,,,,\"T\"))","v":8235},{"$f":"IF(LEFT(RTD(\"cqg.rtd\", ,\"ContractData\",B33, \"LastTrade\",, \"T\"),3)=\"768\",\"\",IFERROR(IF(L33>M33,\"+\"&L33-M33,L33-M33)*1,\"\"))","v":0}]
[6250,"C.US.CLEJ266250",{"$f":"IF(LEFT(RTD(\"cqg.rtd\", ,\"ContractData\",B34, \"LastTrade\",, \"T\"),3)=\"768\",\"\",RTD(\"cqg.rtd\", ,\"ContractData\",B34, \"LastTrade\",, \"T\"))","v":17.18},{"$f":"IF(C34=\"\",\"\",RTD(\"cqg.rtd\", ,\"ContractData\",B34, \"NetLastTrade\",, \"T\"))","v":""},{"$f":"IF(LEFT(RTD(\"cqg.rtd\", ,\"ContractData\",B34, \"LastTrade\",, \"T\"),3)=\"768\",\"\",RTD(\"cqg.rtd\", ,\"ContractData\",B34, \"MT_LastBidVolume\",, \"T\"))","v":30},{"$f":"IF(LEFT(RTD(\"cqg.rtd\", ,\"ContractData\",B34, \"LastTrade\",, \"T\"),3)=\"768\",\"\",RTD(\"cqg.rtd\", ,\"ContractData\",B34, \"Bid\",, \"T\"))","v":28.53},{"$f":"IF(LEFT(RTD(\"cqg.rtd\", ,\"ContractData\",B34, \"LastTrade\",, \"T\"),3)=\"768\",\"\",RTD(\"cqg.rtd\", ,\"ContractData\",B34, \"Ask\",, \"T\"))","v":29.900000000000002},{"$f":"IF(LEFT(RTD(\"cqg.rtd\", ,\"ContractData\",B34, \"LastTrade\",, \"T\"),3)=\"768\",\"\",RTD(\"cqg.rtd\", ,\"ContractData\",B34, \"MT_LastAskVolume\",, \"T\"))","v":30},{"$f":"IF(LEFT(RTD(\"cqg.rtd\", ,\"ContractData\",B34, \"LastTrade\",, \"T\"),3)=\"768\",\"\",RTD(\"cqg.rtd\", ,\"ContractData\",B34, \"T_CVol\",, \"T\"))","v":0},{"$f":"IF(LEFT(RTD(\"cqg.rtd\", ,\"ContractData\",B34, \"LastTrade\",, \"T\"),3)=\"768\",\"\",RTD(\"cqg.rtd\", ,\"ContractData\",B34, \"Y_CVol\",, \"T\"))","v":100},{"$f":"IF(LEFT(RTD(\"cqg.rtd\", ,\"ContractData\",B34, \"LastTrade\",, \"T\"),3)=\"768\",\"\",IFERROR(IF(I34>J34,\"+\"&I34-J34,I34-J34)*1,\"\"))","v":-100},{"$f":"IF(LEFT(RTD(\"cqg.rtd\", ,\"ContractData\",B34, \"LastTrade\",, \"T\"),3)=\"768\",\"\",RTD(\"cqg.rtd\",,\"StudyData\",B34,  \"Bar\",,  \"ContractOI\", \"D\", \"-1\",,,,,\"T\"))","v":3269},{"$f":"IF(LEFT(RTD(\"cqg.rtd\", ,\"ContractData\",B34, \"LastTrade\",, \"T\"),3)=\"768\",\"\",RTD(\"cqg.rtd\",,\"StudyData\",B34,  \"Bar\",,  \"ContractOI\", \"D\", \"-2\",,,,,\"T\"))","v":3269},{"$f":"IF(LEFT(RTD(\"cqg.rtd\", ,\"ContractData\",B34, \"LastTrade\",, \"T\"),3)=\"768\",\"\",IFERROR(IF(L34>M34,\"+\"&L34-M34,L34-M34)*1,\"\"))","v":0}]
[6300,"C.US.CLEJ266300",{"$f":"IF(LEFT(RTD(\"cqg.rtd\", ,\"ContractData\",B35, \"LastTrade\",, \"T\"),3)=\"768\",\"\",RTD(\"cqg.rtd\", ,\"ContractData\",B35, \"LastTrade\",, \"T\"))","v":23.830000000000002},{"$f":"IF(C35=\"\",\"\",RTD(\"cqg.rtd\", ,\"ContractData\",B35, \"NetLastTrade\",, \"T\"))","v":-0.55999999999999872},{"$f":"IF(LEFT(RTD(\"cqg.rtd\", ,\"ContractData\",B35, \"LastTrade\",, \"T\"),3)=\"768\",\"\",RTD(\"cqg.rtd\", ,\"ContractData\",B35, \"MT_LastBidVolume\",, \"T\"))","v":30},{"$f":"IF(LEFT(RTD(\"cqg.rtd\", ,\"ContractData\",B35, \"LastTrade\",, \"T\"),3)=\"768\",\"\",RTD(\"cqg.rtd\", ,\"ContractData\",B35, \"Bid\",, \"T\"))","v":28.04},{"$f":"IF(LEFT(RTD(\"cqg.rtd\", ,\"ContractData\",B35, \"LastTrade\",, \"T\"),3)=\"768\",\"\",RTD(\"cqg.rtd\", ,\"ContractData\",B35, \"Ask\",, \"T\"))","v":29.37},{"$f":"IF(LEFT(RTD(\"cqg.rtd\", ,\"ContractData\",B35, \"LastTrade\",, \"T\"),3)=\"768\",\"\",RTD(\"cqg.rtd\", ,\"ContractData\",B35, \"MT_LastAskVolume\",, \"T\"))","v":29},{"$f":"IF(LEFT(RTD(\"cqg.rtd\", ,\"ContractData\",B35, \"LastTrade\",, \"T\"),3)=\"768\",\"\",RTD(\"cqg.rtd\", ,\"ContractData\",B35, \"T_CVol\",, \"T\"))","v":0},{"$f":"IF(LEFT(RTD(\"cqg.rtd\", ,\"ContractData\",B35, \"LastTrade\",, \"T\"),3)=\"768\",\"\",RTD(\"cqg.rtd\", ,\"ContractData\",B35, \"Y_CVol\",, \"T\"))","v":16},{"$f":"IF(LEFT(RTD(\"cqg.rtd\", ,\"ContractData\",B35, \"LastTrade\",, \"T\"),3)=\"768\",\"\",IFERROR(IF(I35>J35,\"+\"&I35-J35,I35-J35)*1,\"\"))","v":-16},{"$f":"IF(LEFT(RTD(\"cqg.rtd\", ,\"ContractData\",B35, \"LastTrade\",, \"T\"),3)=\"768\",\"\",RTD(\"cqg.rtd\",,\"StudyData\",B35,  \"Bar\",,  \"ContractOI\", \"D\", \"-1\",,,,,\"T\"))","v":6691},{"$f":"IF(LEFT(RTD(\"cqg.rtd\", ,\"ContractData\",B35, \"LastTrade\",, \"T\"),3)=\"768\",\"\",RTD(\"cqg.rtd\",,\"StudyData\",B35,  \"Bar\",,  \"ContractOI\", \"D\", \"-2\",,,,,\"T\"))","v":6707},{"$f":"IF(LEFT(RTD(\"cqg.rtd\", ,\"ContractData\",B35, \"LastTrade\",, \"T\"),3)=\"768\",\"\",IFERROR(IF(L35>M35,\"+\"&L35-M35,L35-M35)*1,\"\"))","v":-16}]
[6350,"C.US.CLEJ266350",{"$f":"IF(LEFT(RTD(\"cqg.rtd\", ,\"ContractData\",B36, \"LastTrade\",, \"T\"),3)=\"768\",\"\",RTD(\"cqg.rtd\", ,\"ContractData\",B36, \"LastTrade\",, \"T\"))","v":23.6},{"$f":"IF(C36=\"\",\"\",RTD(\"cqg.rtd\", ,\"ContractData\",B36, \"NetLastTrade\",, \"T\"))","v":""},{"$f":"IF(LEFT(RTD(\"cqg.rtd\", ,\"ContractData\",B36, \"LastTrade\",, \"T\"),3)=\"768\",\"\",RTD(\"cqg.rtd\", ,\"ContractData\",B36, \"MT_LastBidVolume\",, \"T\"))","v":30},{"$f":"IF(LEFT(RTD(\"cqg.rtd\", ,\"ContractData\",B36, \"LastTrade\",, \"T\"),3)=\"768\",\"\",RTD(\"cqg.rtd\", ,\"ContractData\",B36, \"Bid\",, \"T\"))","v":27.55},{"$f":"IF(LEFT(RTD(\"cqg.rtd\", ,\"ContractData\",B36, \"LastTrade\",, \"T\"),3)=\"768\",\"\",RTD(\"cqg.rtd\", ,\"ContractData\",B36, \"Ask\",, \"T\"))","v":28.91},{"$f":"IF(LEFT(RTD(\"cqg.rtd\", ,\"ContractData\",B36, \"LastTrade\",, \"T\"),3)=\"768\",\"\",RTD(\"cqg.rtd\", ,\"ContractData\",B36, \"MT_LastAskVolume\",, \"T\"))","v":30},{"$f":"IF(LEFT(RTD(\"cqg.rtd\", ,\"ContractData\",B36, \"LastTrade\",, \"T\"),3)=\"768\",\"\",RTD(\"cqg.rtd\", ,\"ContractData\",B36, \"T_CVol\",, \"T\"))","v":0},{"$f":"IF(LEFT(RTD(\"cqg.rtd\", ,\"ContractData\",B36, \"LastTrade\",, \"T\"),3)=\"768\",\"\",RTD(\"cqg.rtd\", ,\"ContractData\",B36, \"Y_CVol\",, \"T\"))","v":0},{"$f":"IF(LEFT(RTD(\"cqg.rtd\", ,\"ContractData\",B36, \"LastTrade\",, \"T\"),3)=\"768\",\"\",IFERROR(IF(I36>J36,\"+\"&I36-J36,I36-J36)*1,\"\"))","v":0},{"$f":"IF(LEFT(RTD(\"cqg.rtd\", ,\"ContractData\",B36, \"LastTrade\",, \"T\"),3)=\"768\",\"\",RTD(\"cqg.rtd\",,\"StudyData\",B36,  \"Bar\",,  \"ContractOI\", \"D\", \"-1\",,,,,\"T\"))","v":5200},{"$f":"IF(LEFT(RTD(\"cqg.rtd\", ,\"ContractData\",B36, \"LastTrade\",, \"T\"),3)=\"768\",\"\",RTD(\"cqg.rtd\",,\"StudyData\",B36,  \"Bar\",,  \"ContractOI\", \"D\", \"-2\",,,,,\"T\"))","v":5200},{"$f":"IF(LEFT(RTD(\"cqg.rtd\", ,\"ContractData\",B36, \"LastTrade\",, \"T\"),3)=\"768\",\"\",IFERROR(IF(L36>M36,\"+\"&L36-M36,L36-M36)*1,\"\"))","v":0}]
[6400,"C.US.CLEJ266400",{"$f":"IF(LEFT(RTD(\"cqg.rtd\", ,\"ContractData\",B37, \"LastTrade\",, \"T\"),3)=\"768\",\"\",RTD(\"cqg.rtd\", ,\"ContractData\",B37, \"LastTrade\",, \"T\"))","v":19.309999999999999},{"$f":"IF(C37=\"\",\"\",RTD(\"cqg.rtd\", ,\"ContractData\",B37, \"NetLastTrade\",, \"T\"))","v":""},{"$f":"IF(LEFT(RTD(\"cqg.rtd\", ,\"ContractData\",B37, \"LastTrade\",, \"T\"),3)=\"768\",\"\",RTD(\"cqg.rtd\", ,\"ContractData\",B37, \"MT_LastBidVolume\",, \"T\"))","v":30},{"$f":"IF(LEFT(RTD(\"cqg.rtd\", ,\"ContractData\",B37, \"LastTrade\",, \"T\"),3)=\"768\",\"\",RTD(\"cqg.rtd\", ,\"ContractData\",B37, \"Bid\",, \"T\"))","v":27.060000000000002},{"$f":"IF(LEFT(RTD(\"cqg.rtd\", ,\"ContractData\",B37, \"LastTrade\",, \"T\"),3)=\"768\",\"\",RTD(\"cqg.rtd\", ,\"ContractData\",B37, \"Ask\",, \"T\"))","v":28.42},{"$f":"IF(LEFT(RTD(\"cqg.rtd\", ,\"ContractData\",B37, \"LastTrade\",, \"T\"),3)=\"768\",\"\",RTD(\"cqg.rtd\", ,\"ContractData\",B37, \"MT_LastAskVolume\",, \"T\"))","v":30},{"$f":"IF(LEFT(RTD(\"cqg.rtd\", ,\"ContractData\",B37, \"LastTrade\",, \"T\"),3)=\"768\",\"\",RTD(\"cqg.rtd\", ,\"ContractData\",B37, \"T_CVol\",, \"T\"))","v":5},{"$f":"IF(LEFT(RTD(\"cqg.rtd\", ,\"ContractData\",B37, \"LastTrade\",, \"T\"),3)=\"768\",\"\",RTD(\"cqg.rtd\", ,\"ContractData\",B37, \"Y_CVol\",, \"T\"))","v":3},{"$f":"IF(LEFT(RTD(\"cqg.rtd\", ,\"ContractData\",B37, \"LastTrade\",, \"T\"),3)=\"768\",\"\",IFERROR(IF(I37>J37,\"+\"&I37-J37,I37-J37)*1,\"\"))","v":2},{"$f":"IF(LEFT(RTD(\"cqg.rtd\", ,\"ContractData\",B37, \"LastTrade\",, \"T\"),3)=\"768\",\"\",RTD(\"cqg.rtd\",,\"StudyData\",B37,  \"Bar\",,  \"ContractOI\", \"D\", \"-1\",,,,,\"T\"))","v":2578},{"$f":"IF(LEFT(RTD(\"cqg.rtd\", ,\"ContractData\",B37, \"LastTrade\",, \"T\"),3)=\"768\",\"\",RTD(\"cqg.rtd\",,\"StudyData\",B37,  \"Bar\",,  \"ContractOI\", \"D\", \"-2\",,,,,\"T\"))","v":2581},{"$f":"IF(LEFT(RTD(\"cqg.rtd\", ,\"ContractData\",B37, \"LastTrade\",, \"T\"),3)=\"768\",\"\",IFERROR(IF(L37>M37,\"+\"&L37-M37,L37-M37)*1,\"\"))","v":-3}]
[6450,"C.US.CLEJ266450",{"$f":"IF(LEFT(RTD(\"cqg.rtd\", ,\"ContractData\",B38, \"LastTrade\",, \"T\"),3)=\"768\",\"\",RTD(\"cqg.rtd\", ,\"ContractData\",B38, \"LastTrade\",, \"T\"))","v":23},{"$f":"IF(C38=\"\",\"\",RTD(\"cqg.rtd\", ,\"ContractData\",B38, \"NetLastTrade\",, \"T\"))","v":""},{"$f":"IF(LEFT(RTD(\"cqg.rtd\", ,\"ContractData\",B38, \"LastTrade\",, \"T\"),3)=\"768\",\"\",RTD(\"cqg.rtd\", ,\"ContractData\",B38, \"MT_LastBidVolume\",, \"T\"))","v":5},{"$f":"IF(LEFT(RTD(\"cqg.rtd\", ,\"ContractData\",B38, \"LastTrade\",, \"T\"),3)=\"768\",\"\",RTD(\"cqg.rtd\", ,\"ContractData\",B38, \"Bid\",, \"T\"))","v":26.400000000000002},{"$f":"IF(LEFT(RTD(\"cqg.rtd\", ,\"ContractData\",B38, \"LastTrade\",, \"T\"),3)=\"768\",\"\",RTD(\"cqg.rtd\", ,\"ContractData\",B38, \"Ask\",, \"T\"))","v":28.1},{"$f":"IF(LEFT(RTD(\"cqg.rtd\", ,\"ContractData\",B38, \"LastTrade\",, \"T\"),3)=\"768\",\"\",RTD(\"cqg.rtd\", ,\"ContractData\",B38, \"MT_LastAskVolume\",, \"T\"))","v":5},{"$f":"IF(LEFT(RTD(\"cqg.rtd\", ,\"ContractData\",B38, \"LastTrade\",, \"T\"),3)=\"768\",\"\",RTD(\"cqg.rtd\", ,\"ContractData\",B38, \"T_CVol\",, \"T\"))","v":0},{"$f":"IF(LEFT(RTD(\"cqg.rtd\", ,\"ContractData\",B38, \"LastTrade\",, \"T\"),3)=\"768\",\"\",RTD(\"cqg.rtd\", ,\"ContractData\",B38, \"Y_CVol\",, \"T\"))","v":0},{"$f":"IF(LEFT(RTD(\"cqg.rtd\", ,\"ContractData\",B38, \"LastTrade\",, \"T\"),3)=\"768\",\"\",IFERROR(IF(I38>J38,\"+\"&I38-J38,I38-J38)*1,\"\"))","v":0},{"$f":"IF(LEFT(RTD(\"cqg.rtd\", ,\"ContractData\",B38, \"LastTrade\",, \"T\"),3)=\"768\",\"\",RTD(\"cqg.rtd\",,\"StudyData\",B38,  \"Bar\",,  \"ContractOI\", \"D\", \"-1\",,,,,\"T\"))","v":845},{"$f":"IF(LEFT(RTD(\"cqg.rtd\", ,\"ContractData\",B38, \"LastTrade\",, \"T\"),3)=\"768\",\"\",RTD(\"cqg.rtd\",,\"StudyData\",B38,  \"Bar\",,  \"ContractOI\", \"D\", \"-2\",,,,,\"T\"))","v":845},{"$f":"IF(LEFT(RTD(\"cqg.rtd\", ,\"ContractData\",B38, \"LastTrade\",, \"T\"),3)=\"768\",\"\",IFERROR(IF(L38>M38,\"+\"&L38-M38,L38-M38)*1,\"\"))","v":0}]
[6500,"C.US.CLEJ266500",{"$f":"IF(LEFT(RTD(\"cqg.rtd\", ,\"ContractData\",B39, \"LastTrade\",, \"T\"),3)=\"768\",\"\",RTD(\"cqg.rtd\", ,\"ContractData\",B39, \"LastTrade\",, \"T\"))","v":27.310000000000002},{"$f":"IF(C39=\"\",\"\",RTD(\"cqg.rtd\", ,\"ContractData\",B39, \"NetLastTrade\",, \"T\"))","v":4.8400000000000034},{"$f":"IF(LEFT(RTD(\"cqg.rtd\", ,\"ContractData\",B39, \"LastTrade\",, \"T\"),3)=\"768\",\"\",RTD(\"cqg.rtd\", ,\"ContractData\",B39, \"MT_LastBidVolume\",, \"T\"))","v":1},{"$f":"IF(LEFT(RTD(\"cqg.rtd\", ,\"ContractData\",B39, \"LastTrade\",, \"T\"),3)=\"768\",\"\",RTD(\"cqg.rtd\", ,\"ContractData\",B39, \"Bid\",, \"T\"))","v":26.580000000000002},{"$f":"IF(LEFT(RTD(\"cqg.rtd\", ,\"ContractData\",B39, \"LastTrade\",, \"T\"),3)=\"768\",\"\",RTD(\"cqg.rtd\", ,\"ContractData\",B39, \"Ask\",, \"T\"))","v":27.1},{"$f":"IF(LEFT(RTD(\"cqg.rtd\", ,\"ContractData\",B39, \"LastTrade\",, \"T\"),3)=\"768\",\"\",RTD(\"cqg.rtd\", ,\"ContractData\",B39, \"MT_LastAskVolume\",, \"T\"))","v":1},{"$f":"IF(LEFT(RTD(\"cqg.rtd\", ,\"ContractData\",B39, \"LastTrade\",, \"T\"),3)=\"768\",\"\",RTD(\"cqg.rtd\", ,\"ContractData\",B39, \"T_CVol\",, \"T\"))","v":4},{"$f":"IF(LEFT(RTD(\"cqg.rtd\", ,\"ContractData\",B39, \"LastTrade\",, \"T\"),3)=\"768\",\"\",RTD(\"cqg.rtd\", ,\"ContractData\",B39, \"Y_CVol\",, \"T\"))","v":25},{"$f":"IF(LEFT(RTD(\"cqg.rtd\", ,\"ContractData\",B39, \"LastTrade\",, \"T\"),3)=\"768\",\"\",IFERROR(IF(I39>J39,\"+\"&I39-J39,I39-J39)*1,\"\"))","v":-21},{"$f":"IF(LEFT(RTD(\"cqg.rtd\", ,\"ContractData\",B39, \"LastTrade\",, \"T\"),3)=\"768\",\"\",RTD(\"cqg.rtd\",,\"StudyData\",B39,  \"Bar\",,  \"ContractOI\", \"D\", \"-1\",,,,,\"T\"))","v":15094},{"$f":"IF(LEFT(RTD(\"cqg.rtd\", ,\"ContractData\",B39, \"LastTrade\",, \"T\"),3)=\"768\",\"\",RTD(\"cqg.rtd\",,\"StudyData\",B39,  \"Bar\",,  \"ContractOI\", \"D\", \"-2\",,,,,\"T\"))","v":15104},{"$f":"IF(LEFT(RTD(\"cqg.rtd\", ,\"ContractData\",B39, \"LastTrade\",, \"T\"),3)=\"768\",\"\",IFERROR(IF(L39>M39,\"+\"&L39-M39,L39-M39)*1,\"\"))","v":-10}]
[6550,"C.US.CLEJ266550",{"$f":"IF(LEFT(RTD(\"cqg.rtd\", ,\"ContractData\",B40, \"LastTrade\",, \"T\"),3)=\"768\",\"\",RTD(\"cqg.rtd\", ,\"ContractData\",B40, \"LastTrade\",, \"T\"))","v":15.950000000000001},{"$f":"IF(C40=\"\",\"\",RTD(\"cqg.rtd\", ,\"ContractData\",B40, \"NetLastTrade\",, \"T\"))","v":-6.0499999999999989},{"$f":"IF(LEFT(RTD(\"cqg.rtd\", ,\"ContractData\",B40, \"LastTrade\",, \"T\"),3)=\"768\",\"\",RTD(\"cqg.rtd\", ,\"ContractData\",B40, \"MT_LastBidVolume\",, \"T\"))","v":1},{"$f":"IF(LEFT(RTD(\"cqg.rtd\", ,\"ContractData\",B40, \"LastTrade\",, \"T\"),3)=\"768\",\"\",RTD(\"cqg.rtd\", ,\"ContractData\",B40, \"Bid\",, \"T\"))","v":26.09},{"$f":"IF(LEFT(RTD(\"cqg.rtd\", ,\"ContractData\",B40, \"LastTrade\",, \"T\"),3)=\"768\",\"\",RTD(\"cqg.rtd\", ,\"ContractData\",B40, \"Ask\",, \"T\"))","v":26.61},{"$f":"IF(LEFT(RTD(\"cqg.rtd\", ,\"ContractData\",B40, \"LastTrade\",, \"T\"),3)=\"768\",\"\",RTD(\"cqg.rtd\", ,\"ContractData\",B40, \"MT_LastAskVolume\",, \"T\"))","v":1},{"$f":"IF(LEFT(RTD(\"cqg.rtd\", ,\"ContractData\",B40, \"LastTrade\",, \"T\"),3)=\"768\",\"\",RTD(\"cqg.rtd\", ,\"ContractData\",B40, \"T_CVol\",, \"T\"))","v":0},{"$f":"IF(LEFT(RTD(\"cqg.rtd\", ,\"ContractData\",B40, \"LastTrade\",, \"T\"),3)=\"768\",\"\",RTD(\"cqg.rtd\", ,\"ContractData\",B40, \"Y_CVol\",, \"T\"))","v":0},{"$f":"IF(LEFT(RTD(\"cqg.rtd\", ,\"ContractData\",B40, \"LastTrade\",, \"T\"),3)=\"768\",\"\",IFERROR(IF(I40>J40,\"+\"&I40-J40,I40-J40)*1,\"\"))","v":0},{"$f":"IF(LEFT(RTD(\"cqg.rtd\", ,\"ContractData\",B40, \"LastTrade\",, \"T\"),3)=\"768\",\"\",RTD(\"cqg.rtd\",,\"StudyData\",B40,  \"Bar\",,  \"ContractOI\", \"D\", \"-1\",,,,,\"T\"))","v":1154},{"$f":"IF(LEFT(RTD(\"cqg.rtd\", ,\"ContractData\",B40, \"LastTrade\",, \"T\"),3)=\"768\",\"\",RTD(\"cqg.rtd\",,\"StudyData\",B40,  \"Bar\",,  \"ContractOI\", \"D\", \"-2\",,,,,\"T\"))","v":1154},{"$f":"IF(LEFT(RTD(\"cqg.rtd\", ,\"ContractData\",B40, \"LastTrade\",, \"T\"),3)=\"768\",\"\",IFERROR(IF(L40>M40,\"+\"&L40-M40,L40-M40)*1,\"\"))","v":0}]
[6600,"C.US.CLEJ266600",{"$f":"IF(LEFT(RTD(\"cqg.rtd\", ,\"ContractData\",B41, \"LastTrade\",, \"T\"),3)=\"768\",\"\",RTD(\"cqg.rtd\", ,\"ContractData\",B41, \"LastTrade\",, \"T\"))","v":20.22},{"$f":"IF(C41=\"\",\"\",RTD(\"cqg.rtd\", ,\"ContractData\",B41, \"NetLastTrade\",, \"T\"))","v":-1.3000000000000007},{"$f":"IF(LEFT(RTD(\"cqg.rtd\", ,\"ContractData\",B41, \"LastTrade\",, \"T\"),3)=\"768\",\"\",RTD(\"cqg.rtd\", ,\"ContractData\",B41, \"MT_LastBidVolume\",, \"T\"))","v":1},{"$f":"IF(LEFT(RTD(\"cqg.rtd\", ,\"ContractData\",B41, \"LastTrade\",, \"T\"),3)=\"768\",\"\",RTD(\"cqg.rtd\", ,\"ContractData\",B41, \"Bid\",, \"T\"))","v":25.6},{"$f":"IF(LEFT(RTD(\"cqg.rtd\", ,\"ContractData\",B41, \"LastTrade\",, \"T\"),3)=\"768\",\"\",RTD(\"cqg.rtd\", ,\"ContractData\",B41, \"Ask\",, \"T\"))","v":26.12},{"$f":"IF(LEFT(RTD(\"cqg.rtd\", ,\"ContractData\",B41, \"LastTrade\",, \"T\"),3)=\"768\",\"\",RTD(\"cqg.rtd\", ,\"ContractData\",B41, \"MT_LastAskVolume\",, \"T\"))","v":1},{"$f":"IF(LEFT(RTD(\"cqg.rtd\", ,\"ContractData\",B41, \"LastTrade\",, \"T\"),3)=\"768\",\"\",RTD(\"cqg.rtd\", ,\"ContractData\",B41, \"T_CVol\",, \"T\"))","v":5},{"$f":"IF(LEFT(RTD(\"cqg.rtd\", ,\"ContractData\",B41, \"LastTrade\",, \"T\"),3)=\"768\",\"\",RTD(\"cqg.rtd\", ,\"ContractData\",B41, \"Y_CVol\",, \"T\"))","v":26},{"$f":"IF(LEFT(RTD(\"cqg.rtd\", ,\"ContractData\",B41, \"LastTrade\",, \"T\"),3)=\"768\",\"\",IFERROR(IF(I41>J41,\"+\"&I41-J41,I41-J41)*1,\"\"))","v":-21},{"$f":"IF(LEFT(RTD(\"cqg.rtd\", ,\"ContractData\",B41, \"LastTrade\",, \"T\"),3)=\"768\",\"\",RTD(\"cqg.rtd\",,\"StudyData\",B41,  \"Bar\",,  \"ContractOI\", \"D\", \"-1\",,,,,\"T\"))","v":4122},{"$f":"IF(LEFT(RTD(\"cqg.rtd\", ,\"ContractData\",B41, \"LastTrade\",, \"T\"),3)=\"768\",\"\",RTD(\"cqg.rtd\",,\"StudyData\",B41,  \"Bar\",,  \"ContractOI\", \"D\", \"-2\",,,,,\"T\"))","v":4123},{"$f":"IF(LEFT(RTD(\"cqg.rtd\", ,\"ContractData\",B41, \"LastTrade\",, \"T\"),3)=\"768\",\"\",IFERROR(IF(L41>M41,\"+\"&L41-M41,L41-M41)*1,\"\"))","v":-1}]
[6650,"C.US.CLEJ266650",{"$f":"IF(LEFT(RTD(\"cqg.rtd\", ,\"ContractData\",B42, \"LastTrade\",, \"T\"),3)=\"768\",\"\",RTD(\"cqg.rtd\", ,\"ContractData\",B42, \"LastTrade\",, \"T\"))","v":21.64},{"$f":"IF(C42=\"\",\"\",RTD(\"cqg.rtd\", ,\"ContractData\",B42, \"NetLastTrade\",, \"T\"))","v":0.58000000000000185},{"$f":"IF(LEFT(RTD(\"cqg.rtd\", ,\"ContractData\",B42, \"LastTrade\",, \"T\"),3)=\"768\",\"\",RTD(\"cqg.rtd\", ,\"ContractData\",B42, \"MT_LastBidVolume\",, \"T\"))","v":1},{"$f":"IF(LEFT(RTD(\"cqg.rtd\", ,\"ContractData\",B42, \"LastTrade\",, \"T\"),3)=\"768\",\"\",RTD(\"cqg.rtd\", ,\"ContractData\",B42, \"Bid\",, \"T\"))","v":25.12},{"$f":"IF(LEFT(RTD(\"cqg.rtd\", ,\"ContractData\",B42, \"LastTrade\",, \"T\"),3)=\"768\",\"\",RTD(\"cqg.rtd\", ,\"ContractData\",B42, \"Ask\",, \"T\"))","v":25.62},{"$f":"IF(LEFT(RTD(\"cqg.rtd\", ,\"ContractData\",B42, \"LastTrade\",, \"T\"),3)=\"768\",\"\",RTD(\"cqg.rtd\", ,\"ContractData\",B42, \"MT_LastAskVolume\",, \"T\"))","v":1},{"$f":"IF(LEFT(RTD(\"cqg.rtd\", ,\"ContractData\",B42, \"LastTrade\",, \"T\"),3)=\"768\",\"\",RTD(\"cqg.rtd\", ,\"ContractData\",B42, \"T_CVol\",, \"T\"))","v":0},{"$f":"IF(LEFT(RTD(\"cqg.rtd\", ,\"ContractData\",B42, \"LastTrade\",, \"T\"),3)=\"768\",\"\",RTD(\"cqg.rtd\", ,\"ContractData\",B42, \"Y_CVol\",, \"T\"))","v":1},{"$f":"IF(LEFT(RTD(\"cqg.rtd\", ,\"ContractData\",B42, \"LastTrade\",, \"T\"),3)=\"768\",\"\",IFERROR(IF(I42>J42,\"+\"&I42-J42,I42-J42)*1,\"\"))","v":-1},{"$f":"IF(LEFT(RTD(\"cqg.rtd\", ,\"ContractData\",B42, \"LastTrade\",, \"T\"),3)=\"768\",\"\",RTD(\"cqg.rtd\",,\"StudyData\",B42,  \"Bar\",,  \"ContractOI\", \"D\", \"-1\",,,,,\"T\"))","v":2205},{"$f":"IF(LEFT(RTD(\"cqg.rtd\", ,\"ContractData\",B42, \"LastTrade\",, \"T\"),3)=\"768\",\"\",RTD(\"cqg.rtd\",,\"StudyData\",B42,  \"Bar\",,  \"ContractOI\", \"D\", \"-2\",,,,,\"T\"))","v":2204},{"$f":"IF(LEFT(RTD(\"cqg.rtd\", ,\"ContractData\",B42, \"LastTrade\",, \"T\"),3)=\"768\",\"\",IFERROR(IF(L42>M42,\"+\"&L42-M42,L42-M42)*1,\"\"))","v":1}]
[6700,"C.US.CLEJ266700",{"$f":"IF(LEFT(RTD(\"cqg.rtd\", ,\"ContractData\",B43, \"LastTrade\",, \"T\"),3)=\"768\",\"\",RTD(\"cqg.rtd\", ,\"ContractData\",B43, \"LastTrade\",, \"T\"))","v":17.78},{"$f":"IF(C43=\"\",\"\",RTD(\"cqg.rtd\", ,\"ContractData\",B43, \"NetLastTrade\",, \"T\"))","v":-2.8099999999999987},{"$f":"IF(LEFT(RTD(\"cqg.rtd\", ,\"ContractData\",B43, \"LastTrade\",, \"T\"),3)=\"768\",\"\",RTD(\"cqg.rtd\", ,\"ContractData\",B43, \"MT_LastBidVolume\",, \"T\"))","v":1},{"$f":"IF(LEFT(RTD(\"cqg.rtd\", ,\"ContractData\",B43, \"LastTrade\",, \"T\"),3)=\"768\",\"\",RTD(\"cqg.rtd\", ,\"ContractData\",B43, \"Bid\",, \"T\"))","v":24.63},{"$f":"IF(LEFT(RTD(\"cqg.rtd\", ,\"ContractData\",B43, \"LastTrade\",, \"T\"),3)=\"768\",\"\",RTD(\"cqg.rtd\", ,\"ContractData\",B43, \"Ask\",, \"T\"))","v":25.150000000000002},{"$f":"IF(LEFT(RTD(\"cqg.rtd\", ,\"ContractData\",B43, \"LastTrade\",, \"T\"),3)=\"768\",\"\",RTD(\"cqg.rtd\", ,\"ContractData\",B43, \"MT_LastAskVolume\",, \"T\"))","v":1},{"$f":"IF(LEFT(RTD(\"cqg.rtd\", ,\"ContractData\",B43, \"LastTrade\",, \"T\"),3)=\"768\",\"\",RTD(\"cqg.rtd\", ,\"ContractData\",B43, \"T_CVol\",, \"T\"))","v":2},{"$f":"IF(LEFT(RTD(\"cqg.rtd\", ,\"ContractData\",B43, \"LastTrade\",, \"T\"),3)=\"768\",\"\",RTD(\"cqg.rtd\", ,\"ContractData\",B43, \"Y_CVol\",, \"T\"))","v":2},{"$f":"IF(LEFT(RTD(\"cqg.rtd\", ,\"ContractData\",B43, \"LastTrade\",, \"T\"),3)=\"768\",\"\",IFERROR(IF(I43>J43,\"+\"&I43-J43,I43-J43)*1,\"\"))","v":0},{"$f":"IF(LEFT(RTD(\"cqg.rtd\", ,\"ContractData\",B43, \"LastTrade\",, \"T\"),3)=\"768\",\"\",RTD(\"cqg.rtd\",,\"StudyData\",B43,  \"Bar\",,  \"ContractOI\", \"D\", \"-1\",,,,,\"T\"))","v":4236},{"$f":"IF(LEFT(RTD(\"cqg.rtd\", ,\"ContractData\",B43, \"LastTrade\",, \"T\"),3)=\"768\",\"\",RTD(\"cqg.rtd\",,\"StudyData\",B43,  \"Bar\",,  \"ContractOI\", \"D\", \"-2\",,,,,\"T\"))","v":4236},{"$f":"IF(LEFT(RTD(\"cqg.rtd\", ,\"ContractData\",B43, \"LastTrade\",, \"T\"),3)=\"768\",\"\",IFERROR(IF(L43>M43,\"+\"&L43-M43,L43-M43)*1,\"\"))","v":0}]
[6750,"C.US.CLEJ266750",{"$f":"IF(LEFT(RTD(\"cqg.rtd\", ,\"ContractData\",B44, \"LastTrade\",, \"T\"),3)=\"768\",\"\",RTD(\"cqg.rtd\", ,\"ContractData\",B44, \"LastTrade\",, \"T\"))","v":20.240000000000002},{"$f":"IF(C44=\"\",\"\",RTD(\"cqg.rtd\", ,\"ContractData\",B44, \"NetLastTrade\",, \"T\"))","v":0.11000000000000298},{"$f":"IF(LEFT(RTD(\"cqg.rtd\", ,\"ContractData\",B44, \"LastTrade\",, \"T\"),3)=\"768\",\"\",RTD(\"cqg.rtd\", ,\"ContractData\",B44, \"MT_LastBidVolume\",, \"T\"))","v":1},{"$f":"IF(LEFT(RTD(\"cqg.rtd\", ,\"ContractData\",B44, \"LastTrade\",, \"T\"),3)=\"768\",\"\",RTD(\"cqg.rtd\", ,\"ContractData\",B44, \"Bid\",, \"T\"))","v":24.150000000000002},{"$f":"IF(LEFT(RTD(\"cqg.rtd\", ,\"ContractData\",B44, \"LastTrade\",, \"T\"),3)=\"768\",\"\",RTD(\"cqg.rtd\", ,\"ContractData\",B44, \"Ask\",, \"T\"))","v":24.650000000000002},{"$f":"IF(LEFT(RTD(\"cqg.rtd\", ,\"ContractData\",B44, \"LastTrade\",, \"T\"),3)=\"768\",\"\",RTD(\"cqg.rtd\", ,\"ContractData\",B44, \"MT_LastAskVolume\",, \"T\"))","v":1},{"$f":"IF(LEFT(RTD(\"cqg.rtd\", ,\"ContractData\",B44, \"LastTrade\",, \"T\"),3)=\"768\",\"\",RTD(\"cqg.rtd\", ,\"ContractData\",B44, \"T_CVol\",, \"T\"))","v":0},{"$f":"IF(LEFT(RTD(\"cqg.rtd\", ,\"ContractData\",B44, \"LastTrade\",, \"T\"),3)=\"768\",\"\",RTD(\"cqg.rtd\", ,\"ContractData\",B44, \"Y_CVol\",, \"T\"))","v":3},{"$f":"IF(LEFT(RTD(\"cqg.rtd\", ,\"ContractData\",B44, \"LastTrade\",, \"T\"),3)=\"768\",\"\",IFERROR(IF(I44>J44,\"+\"&I44-J44,I44-J44)*1,\"\"))","v":-3},{"$f":"IF(LEFT(RTD(\"cqg.rtd\", ,\"ContractData\",B44, \"LastTrade\",, \"T\"),3)=\"768\",\"\",RTD(\"cqg.rtd\",,\"StudyData\",B44,  \"Bar\",,  \"ContractOI\", \"D\", \"-1\",,,,,\"T\"))","v":1382},{"$f":"IF(LEFT(RTD(\"cqg.rtd\", ,\"ContractData\",B44, \"LastTrade\",, \"T\"),3)=\"768\",\"\",RTD(\"cqg.rtd\",,\"StudyData\",B44,  \"Bar\",,  \"ContractOI\", \"D\", \"-2\",,,,,\"T\"))","v":1383},{"$f":"IF(LEFT(RTD(\"cqg.rtd\", ,\"ContractData\",B44, \"LastTrade\",, \"T\"),3)=\"768\",\"\",IFERROR(IF(L44>M44,\"+\"&L44-M44,L44-M44)*1,\"\"))","v":-1}]
[6800,"C.US.CLEJ266800",{"$f":"IF(LEFT(RTD(\"cqg.rtd\", ,\"ContractData\",B45, \"LastTrade\",, \"T\"),3)=\"768\",\"\",RTD(\"cqg.rtd\", ,\"ContractData\",B45, \"LastTrade\",, \"T\"))","v":19.8},{"$f":"IF(C45=\"\",\"\",RTD(\"cqg.rtd\", ,\"ContractData\",B45, \"NetLastTrade\",, \"T\"))","v":0.12000000000000099},{"$f":"IF(LEFT(RTD(\"cqg.rtd\", ,\"ContractData\",B45, \"LastTrade\",, \"T\"),3)=\"768\",\"\",RTD(\"cqg.rtd\", ,\"ContractData\",B45, \"MT_LastBidVolume\",, \"T\"))","v":1},{"$f":"IF(LEFT(RTD(\"cqg.rtd\", ,\"ContractData\",B45, \"LastTrade\",, \"T\"),3)=\"768\",\"\",RTD(\"cqg.rtd\", ,\"ContractData\",B45, \"Bid\",, \"T\"))","v":23.66},{"$f":"IF(LEFT(RTD(\"cqg.rtd\", ,\"ContractData\",B45, \"LastTrade\",, \"T\"),3)=\"768\",\"\",RTD(\"cqg.rtd\", ,\"ContractData\",B45, \"Ask\",, \"T\"))","v":24.18},{"$f":"IF(LEFT(RTD(\"cqg.rtd\", ,\"ContractData\",B45, \"LastTrade\",, \"T\"),3)=\"768\",\"\",RTD(\"cqg.rtd\", ,\"ContractData\",B45, \"MT_LastAskVolume\",, \"T\"))","v":1},{"$f":"IF(LEFT(RTD(\"cqg.rtd\", ,\"ContractData\",B45, \"LastTrade\",, \"T\"),3)=\"768\",\"\",RTD(\"cqg.rtd\", ,\"ContractData\",B45, \"T_CVol\",, \"T\"))","v":0},{"$f":"IF(LEFT(RTD(\"cqg.rtd\", ,\"ContractData\",B45, \"LastTrade\",, \"T\"),3)=\"768\",\"\",RTD(\"cqg.rtd\", ,\"ContractData\",B45, \"Y_CVol\",, \"T\"))","v":5},{"$f":"IF(LEFT(RTD(\"cqg.rtd\", ,\"ContractData\",B45, \"LastTrade\",, \"T\"),3)=\"768\",\"\",IFERROR(IF(I45>J45,\"+\"&I45-J45,I45-J45)*1,\"\"))","v":-5},{"$f":"IF(LEFT(RTD(\"cqg.rtd\", ,\"ContractData\",B45, \"LastTrade\",, \"T\"),3)=\"768\",\"\",RTD(\"cqg.rtd\",,\"StudyData\",B45,  \"Bar\",,  \"ContractOI\", \"D\", \"-1\",,,,,\"T\"))","v":7600},{"$f":"IF(LEFT(RTD(\"cqg.rtd\", ,\"ContractData\",B45, \"LastTrade\",, \"T\"),3)=\"768\",\"\",RTD(\"cqg.rtd\",,\"StudyData\",B45,  \"Bar\",,  \"ContractOI\", \"D\", \"-2\",,,,,\"T\"))","v":7603},{"$f":"IF(LEFT(RTD(\"cqg.rtd\", ,\"ContractData\",B45, \"LastTrade\",, \"T\"),3)=\"768\",\"\",IFERROR(IF(L45>M45,\"+\"&L45-M45,L45-M45)*1,\"\"))","v":-3}]
[6850,"C.US.CLEJ266850",{"$f":"IF(LEFT(RTD(\"cqg.rtd\", ,\"ContractData\",B46, \"LastTrade\",, \"T\"),3)=\"768\",\"\",RTD(\"cqg.rtd\", ,\"ContractData\",B46, \"LastTrade\",, \"T\"))","v":19.48},{"$f":"IF(C46=\"\",\"\",RTD(\"cqg.rtd\", ,\"ContractData\",B46, \"NetLastTrade\",, \"T\"))","v":0.25},{"$f":"IF(LEFT(RTD(\"cqg.rtd\", ,\"ContractData\",B46, \"LastTrade\",, \"T\"),3)=\"768\",\"\",RTD(\"cqg.rtd\", ,\"ContractData\",B46, \"MT_LastBidVolume\",, \"T\"))","v":1},{"$f":"IF(LEFT(RTD(\"cqg.rtd\", ,\"ContractData\",B46, \"LastTrade\",, \"T\"),3)=\"768\",\"\",RTD(\"cqg.rtd\", ,\"ContractData\",B46, \"Bid\",, \"T\"))","v":23.18},{"$f":"IF(LEFT(RTD(\"cqg.rtd\", ,\"ContractData\",B46, \"LastTrade\",, \"T\"),3)=\"768\",\"\",RTD(\"cqg.rtd\", ,\"ContractData\",B46, \"Ask\",, \"T\"))","v":23.7},{"$f":"IF(LEFT(RTD(\"cqg.rtd\", ,\"ContractData\",B46, \"LastTrade\",, \"T\"),3)=\"768\",\"\",RTD(\"cqg.rtd\", ,\"ContractData\",B46, \"MT_LastAskVolume\",, \"T\"))","v":1},{"$f":"IF(LEFT(RTD(\"cqg.rtd\", ,\"ContractData\",B46, \"LastTrade\",, \"T\"),3)=\"768\",\"\",RTD(\"cqg.rtd\", ,\"ContractData\",B46, \"T_CVol\",, \"T\"))","v":0},{"$f":"IF(LEFT(RTD(\"cqg.rtd\", ,\"ContractData\",B46, \"LastTrade\",, \"T\"),3)=\"768\",\"\",RTD(\"cqg.rtd\", ,\"ContractData\",B46, \"Y_CVol\",, \"T\"))","v":2},{"$f":"IF(LEFT(RTD(\"cqg.rtd\", ,\"ContractData\",B46, \"LastTrade\",, \"T\"),3)=\"768\",\"\",IFERROR(IF(I46>J46,\"+\"&I46-J46,I46-J46)*1,\"\"))","v":-2},{"$f":"IF(LEFT(RTD(\"cqg.rtd\", ,\"ContractData\",B46, \"LastTrade\",, \"T\"),3)=\"768\",\"\",RTD(\"cqg.rtd\",,\"StudyData\",B46,  \"Bar\",,  \"ContractOI\", \"D\", \"-1\",,,,,\"T\"))","v":1702},{"$f":"IF(LEFT(RTD(\"cqg.rtd\", ,\"ContractData\",B46, \"LastTrade\",, \"T\"),3)=\"768\",\"\",RTD(\"cqg.rtd\",,\"StudyData\",B46,  \"Bar\",,  \"ContractOI\", \"D\", \"-2\",,,,,\"T\"))","v":1702},{"$f":"IF(LEFT(RTD(\"cqg.rtd\", ,\"ContractData\",B46, \"LastTrade\",, \"T\"),3)=\"768\",\"\",IFERROR(IF(L46>M46,\"+\"&L46-M46,L46-M46)*1,\"\"))","v":0}]
[6900,"C.US.CLEJ266900",{"$f":"IF(LEFT(RTD(\"cqg.rtd\", ,\"ContractData\",B47, \"LastTrade\",, \"T\"),3)=\"768\",\"\",RTD(\"cqg.rtd\", ,\"ContractData\",B47, \"LastTrade\",, \"T\"))","v":26.98},{"$f":"IF(C47=\"\",\"\",RTD(\"cqg.rtd\", ,\"ContractData\",B47, \"NetLastTrade\",, \"T\"))","v":8.1900000000000013},{"$f":"IF(LEFT(RTD(\"cqg.rtd\", ,\"ContractData\",B47, \"LastTrade\",, \"T\"),3)=\"768\",\"\",RTD(\"cqg.rtd\", ,\"ContractData\",B47, \"MT_LastBidVolume\",, \"T\"))","v":1},{"$f":"IF(LEFT(RTD(\"cqg.rtd\", ,\"ContractData\",B47, \"LastTrade\",, \"T\"),3)=\"768\",\"\",RTD(\"cqg.rtd\", ,\"ContractData\",B47, \"Bid\",, \"T\"))","v":22.71},{"$f":"IF(LEFT(RTD(\"cqg.rtd\", ,\"ContractData\",B47, \"LastTrade\",, \"T\"),3)=\"768\",\"\",RTD(\"cqg.rtd\", ,\"ContractData\",B47, \"Ask\",, \"T\"))","v":23.21},{"$f":"IF(LEFT(RTD(\"cqg.rtd\", ,\"ContractData\",B47, \"LastTrade\",, \"T\"),3)=\"768\",\"\",RTD(\"cqg.rtd\", ,\"ContractData\",B47, \"MT_LastAskVolume\",, \"T\"))","v":1},{"$f":"IF(LEFT(RTD(\"cqg.rtd\", ,\"ContractData\",B47, \"LastTrade\",, \"T\"),3)=\"768\",\"\",RTD(\"cqg.rtd\", ,\"ContractData\",B47, \"T_CVol\",, \"T\"))","v":5},{"$f":"IF(LEFT(RTD(\"cqg.rtd\", ,\"ContractData\",B47, \"LastTrade\",, \"T\"),3)=\"768\",\"\",RTD(\"cqg.rtd\", ,\"ContractData\",B47, \"Y_CVol\",, \"T\"))","v":10},{"$f":"IF(LEFT(RTD(\"cqg.rtd\", ,\"ContractData\",B47, \"LastTrade\",, \"T\"),3)=\"768\",\"\",IFERROR(IF(I47>J47,\"+\"&I47-J47,I47-J47)*1,\"\"))","v":-5},{"$f":"IF(LEFT(RTD(\"cqg.rtd\", ,\"ContractData\",B47, \"LastTrade\",, \"T\"),3)=\"768\",\"\",RTD(\"cqg.rtd\",,\"StudyData\",B47,  \"Bar\",,  \"ContractOI\", \"D\", \"-1\",,,,,\"T\"))","v":1795},{"$f":"IF(LEFT(RTD(\"cqg.rtd\", ,\"ContractData\",B47, \"LastTrade\",, \"T\"),3)=\"768\",\"\",RTD(\"cqg.rtd\",,\"StudyData\",B47,  \"Bar\",,  \"ContractOI\", \"D\", \"-2\",,,,,\"T\"))","v":1795},{"$f":"IF(LEFT(RTD(\"cqg.rtd\", ,\"ContractData\",B47, \"LastTrade\",, \"T\"),3)=\"768\",\"\",IFERROR(IF(L47>M47,\"+\"&L47-M47,L47-M47)*1,\"\"))","v":0}]
[6950,"C.US.CLEJ266950",{"$f":"IF(LEFT(RTD(\"cqg.rtd\", ,\"ContractData\",B48, \"LastTrade\",, \"T\"),3)=\"768\",\"\",RTD(\"cqg.rtd\", ,\"ContractData\",B48, \"LastTrade\",, \"T\"))","v":15.41},{"$f":"IF(C48=\"\",\"\",RTD(\"cqg.rtd\", ,\"ContractData\",B48, \"NetLastTrade\",, \"T\"))","v":-2.9400000000000013},{"$f":"IF(LEFT(RTD(\"cqg.rtd\", ,\"ContractData\",B48, \"LastTrade\",, \"T\"),3)=\"768\",\"\",RTD(\"cqg.rtd\", ,\"ContractData\",B48, \"MT_LastBidVolume\",, \"T\"))","v":1},{"$f":"IF(LEFT(RTD(\"cqg.rtd\", ,\"ContractData\",B48, \"LastTrade\",, \"T\"),3)=\"768\",\"\",RTD(\"cqg.rtd\", ,\"ContractData\",B48, \"Bid\",, \"T\"))","v":22.37},{"$f":"IF(LEFT(RTD(\"cqg.rtd\", ,\"ContractData\",B48, \"LastTrade\",, \"T\"),3)=\"768\",\"\",RTD(\"cqg.rtd\", ,\"ContractData\",B48, \"Ask\",, \"T\"))","v":22.580000000000002},{"$f":"IF(LEFT(RTD(\"cqg.rtd\", ,\"ContractData\",B48, \"LastTrade\",, \"T\"),3)=\"768\",\"\",RTD(\"cqg.rtd\", ,\"ContractData\",B48, \"MT_LastAskVolume\",, \"T\"))","v":1},{"$f":"IF(LEFT(RTD(\"cqg.rtd\", ,\"ContractData\",B48, \"LastTrade\",, \"T\"),3)=\"768\",\"\",RTD(\"cqg.rtd\", ,\"ContractData\",B48, \"T_CVol\",, \"T\"))","v":0},{"$f":"IF(LEFT(RTD(\"cqg.rtd\", ,\"ContractData\",B48, \"LastTrade\",, \"T\"),3)=\"768\",\"\",RTD(\"cqg.rtd\", ,\"ContractData\",B48, \"Y_CVol\",, \"T\"))","v":10},{"$f":"IF(LEFT(RTD(\"cqg.rtd\", ,\"ContractData\",B48, \"LastTrade\",, \"T\"),3)=\"768\",\"\",IFERROR(IF(I48>J48,\"+\"&I48-J48,I48-J48)*1,\"\"))","v":-10},{"$f":"IF(LEFT(RTD(\"cqg.rtd\", ,\"ContractData\",B48, \"LastTrade\",, \"T\"),3)=\"768\",\"\",RTD(\"cqg.rtd\",,\"StudyData\",B48,  \"Bar\",,  \"ContractOI\", \"D\", \"-1\",,,,,\"T\"))","v":1573},{"$f":"IF(LEFT(RTD(\"cqg.rtd\", ,\"ContractData\",B48, \"LastTrade\",, \"T\"),3)=\"768\",\"\",RTD(\"cqg.rtd\",,\"StudyData\",B48,  \"Bar\",,  \"ContractOI\", \"D\", \"-2\",,,,,\"T\"))","v":1573},{"$f":"IF(LEFT(RTD(\"cqg.rtd\", ,\"ContractData\",B48, \"LastTrade\",, \"T\"),3)=\"768\",\"\",IFERROR(IF(L48>M48,\"+\"&L48-M48,L48-M48)*1,\"\"))","v":0}]
[7000,"C.US.CLEJ267000",{"$f":"IF(LEFT(RTD(\"cqg.rtd\", ,\"ContractData\",B49, \"LastTrade\",, \"T\"),3)=\"768\",\"\",RTD(\"cqg.rtd\", ,\"ContractData\",B49, \"LastTrade\",, \"T\"))","v":21.45},{"$f":"IF(C49=\"\",\"\",RTD(\"cqg.rtd\", ,\"ContractData\",B49, \"NetLastTrade\",, \"T\"))","v":3.5299999999999976},{"$f":"IF(LEFT(RTD(\"cqg.rtd\", ,\"ContractData\",B49, \"LastTrade\",, \"T\"),3)=\"768\",\"\",RTD(\"cqg.rtd\", ,\"ContractData\",B49, \"MT_LastBidVolume\",, \"T\"))","v":1},{"$f":"IF(LEFT(RTD(\"cqg.rtd\", ,\"ContractData\",B49, \"LastTrade\",, \"T\"),3)=\"768\",\"\",RTD(\"cqg.rtd\", ,\"ContractData\",B49, \"Bid\",, \"T\"))","v":21.900000000000002},{"$f":"IF(LEFT(RTD(\"cqg.rtd\", ,\"ContractData\",B49, \"LastTrade\",, \"T\"),3)=\"768\",\"\",RTD(\"cqg.rtd\", ,\"ContractData\",B49, \"Ask\",, \"T\"))","v":22.1},{"$f":"IF(LEFT(RTD(\"cqg.rtd\", ,\"ContractData\",B49, \"LastTrade\",, \"T\"),3)=\"768\",\"\",RTD(\"cqg.rtd\", ,\"ContractData\",B49, \"MT_LastAskVolume\",, \"T\"))","v":1},{"$f":"IF(LEFT(RTD(\"cqg.rtd\", ,\"ContractData\",B49, \"LastTrade\",, \"T\"),3)=\"768\",\"\",RTD(\"cqg.rtd\", ,\"ContractData\",B49, \"T_CVol\",, \"T\"))","v":27},{"$f":"IF(LEFT(RTD(\"cqg.rtd\", ,\"ContractData\",B49, \"LastTrade\",, \"T\"),3)=\"768\",\"\",RTD(\"cqg.rtd\", ,\"ContractData\",B49, \"Y_CVol\",, \"T\"))","v":323},{"$f":"IF(LEFT(RTD(\"cqg.rtd\", ,\"ContractData\",B49, \"LastTrade\",, \"T\"),3)=\"768\",\"\",IFERROR(IF(I49>J49,\"+\"&I49-J49,I49-J49)*1,\"\"))","v":-296},{"$f":"IF(LEFT(RTD(\"cqg.rtd\", ,\"ContractData\",B49, \"LastTrade\",, \"T\"),3)=\"768\",\"\",RTD(\"cqg.rtd\",,\"StudyData\",B49,  \"Bar\",,  \"ContractOI\", \"D\", \"-1\",,,,,\"T\"))","v":19115},{"$f":"IF(LEFT(RTD(\"cqg.rtd\", ,\"ContractData\",B49, \"LastTrade\",, \"T\"),3)=\"768\",\"\",RTD(\"cqg.rtd\",,\"StudyData\",B49,  \"Bar\",,  \"ContractOI\", \"D\", \"-2\",,,,,\"T\"))","v":19206},{"$f":"IF(LEFT(RTD(\"cqg.rtd\", ,\"ContractData\",B49, \"LastTrade\",, \"T\"),3)=\"768\",\"\",IFERROR(IF(L49>M49,\"+\"&L49-M49,L49-M49)*1,\"\"))","v":-91}]
[7050,"C.US.CLEJ267050",{"$f":"IF(LEFT(RTD(\"cqg.rtd\", ,\"ContractData\",B50, \"LastTrade\",, \"T\"),3)=\"768\",\"\",RTD(\"cqg.rtd\", ,\"ContractData\",B50, \"LastTrade\",, \"T\"))","v":17.34},{"$f":"IF(C50=\"\",\"\",RTD(\"cqg.rtd\", ,\"ContractData\",B50, \"NetLastTrade\",, \"T\"))","v":-0.15000000000000213},{"$f":"IF(LEFT(RTD(\"cqg.rtd\", ,\"ContractData\",B50, \"LastTrade\",, \"T\"),3)=\"768\",\"\",RTD(\"cqg.rtd\", ,\"ContractData\",B50, \"MT_LastBidVolume\",, \"T\"))","v":2},{"$f":"IF(LEFT(RTD(\"cqg.rtd\", ,\"ContractData\",B50, \"LastTrade\",, \"T\"),3)=\"768\",\"\",RTD(\"cqg.rtd\", ,\"ContractData\",B50, \"Bid\",, \"T\"))","v":21.43},{"$f":"IF(LEFT(RTD(\"cqg.rtd\", ,\"ContractData\",B50, \"LastTrade\",, \"T\"),3)=\"768\",\"\",RTD(\"cqg.rtd\", ,\"ContractData\",B50, \"Ask\",, \"T\"))","v":21.64},{"$f":"IF(LEFT(RTD(\"cqg.rtd\", ,\"ContractData\",B50, \"LastTrade\",, \"T\"),3)=\"768\",\"\",RTD(\"cqg.rtd\", ,\"ContractData\",B50, \"MT_LastAskVolume\",, \"T\"))","v":1},{"$f":"IF(LEFT(RTD(\"cqg.rtd\", ,\"ContractData\",B50, \"LastTrade\",, \"T\"),3)=\"768\",\"\",RTD(\"cqg.rtd\", ,\"ContractData\",B50, \"T_CVol\",, \"T\"))","v":0},{"$f":"IF(LEFT(RTD(\"cqg.rtd\", ,\"ContractData\",B50, \"LastTrade\",, \"T\"),3)=\"768\",\"\",RTD(\"cqg.rtd\", ,\"ContractData\",B50, \"Y_CVol\",, \"T\"))","v":1},{"$f":"IF(LEFT(RTD(\"cqg.rtd\", ,\"ContractData\",B50, \"LastTrade\",, \"T\"),3)=\"768\",\"\",IFERROR(IF(I50>J50,\"+\"&I50-J50,I50-J50)*1,\"\"))","v":-1},{"$f":"IF(LEFT(RTD(\"cqg.rtd\", ,\"ContractData\",B50, \"LastTrade\",, \"T\"),3)=\"768\",\"\",RTD(\"cqg.rtd\",,\"StudyData\",B50,  \"Bar\",,  \"ContractOI\", \"D\", \"-1\",,,,,\"T\"))","v":1909},{"$f":"IF(LEFT(RTD(\"cqg.rtd\", ,\"ContractData\",B50, \"LastTrade\",, \"T\"),3)=\"768\",\"\",RTD(\"cqg.rtd\",,\"StudyData\",B50,  \"Bar\",,  \"ContractOI\", \"D\", \"-2\",,,,,\"T\"))","v":1909},{"$f":"IF(LEFT(RTD(\"cqg.rtd\", ,\"ContractData\",B50, \"LastTrade\",, \"T\"),3)=\"768\",\"\",IFERROR(IF(L50>M50,\"+\"&L50-M50,L50-M50)*1,\"\"))","v":0}]
[{"$f":"A52-$A$7","v":7100},{"$f":"LEFT(B52,FIND(A52,B52)-1)&A51","v":"C.US.CLEJ267100"},{"$f":"IF(LEFT(RTD(\"cqg.rtd\", ,\"ContractData\",B51, \"LastTrade\",, \"T\"),3)=\"768\",\"\",RTD(\"cqg.rtd\", ,\"ContractData\",B51, \"LastTrade\",, \"T\"))","v":21.41},{"$f":"IF(C51=\"\",\"\",RTD(\"cqg.rtd\", ,\"ContractData\",B51, \"NetLastTrade\",, \"T\"))","v":4.3500000000000014},{"$f":"IF(LEFT(RTD(\"cqg.rtd\", ,\"ContractData\",B51, \"LastTrade\",, \"T\"),3)=\"768\",\"\",RTD(\"cqg.rtd\", ,\"ContractData\",B51, \"MT_LastBidVolume\",, \"T\"))","v":1},{"$f":"IF(LEFT(RTD(\"cqg.rtd\", ,\"ContractData\",B51, \"LastTrade\",, \"T\"),3)=\"768\",\"\",RTD(\"cqg.rtd\", ,\"ContractData\",B51, \"Bid\",, \"T\"))","v":20.98},{"$f":"IF(LEFT(RTD(\"cqg.rtd\", ,\"ContractData\",B51, \"LastTrade\",, \"T\"),3)=\"768\",\"\",RTD(\"cqg.rtd\", ,\"ContractData\",B51, \"Ask\",, \"T\"))","v":21.17},{"$f":"IF(LEFT(RTD(\"cqg.rtd\", ,\"ContractData\",B51, \"LastTrade\",, \"T\"),3)=\"768\",\"\",RTD(\"cqg.rtd\", ,\"ContractData\",B51, \"MT_LastAskVolume\",, \"T\"))","v":1},{"$f":"IF(LEFT(RTD(\"cqg.rtd\", ,\"ContractData\",B51, \"LastTrade\",, \"T\"),3)=\"768\",\"\",RTD(\"cqg.rtd\", ,\"ContractData\",B51, \"T_CVol\",, \"T\"))","v":1},{"$f":"IF(LEFT(RTD(\"cqg.rtd\", ,\"ContractData\",B51, \"LastTrade\",, \"T\"),3)=\"768\",\"\",RTD(\"cqg.rtd\", ,\"ContractData\",B51, \"Y_CVol\",, \"T\"))","v":3},{"$f":"IF(LEFT(RTD(\"cqg.rtd\", ,\"ContractData\",B51, \"LastTrade\",, \"T\"),3)=\"768\",\"\",IFERROR(IF(I51>J51,\"+\"&I51-J51,I51-J51)*1,\"\"))","v":-2},{"$f":"IF(LEFT(RTD(\"cqg.rtd\", ,\"ContractData\",B51, \"LastTrade\",, \"T\"),3)=\"768\",\"\",RTD(\"cqg.rtd\",,\"StudyData\",B51,  \"Bar\",,  \"ContractOI\", \"D\", \"-1\",,,,,\"T\"))","v":2395},{"$f":"IF(LEFT(RTD(\"cqg.rtd\", ,\"ContractData\",B51, \"LastTrade\",, \"T\"),3)=\"768\",\"\",RTD(\"cqg.rtd\",,\"StudyData\",B51,  \"Bar\",,  \"ContractOI\", \"D\", \"-2\",,,,,\"T\"))","v":2397},{"$f":"IF(LEFT(RTD(\"cqg.rtd\", ,\"ContractData\",B51, \"LastTrade\",, \"T\"),3)=\"768\",\"\",IFERROR(IF(L51>M51,\"+\"&L51-M51,L51-M51)*1,\"\"))","v":-2}]
[7150,"C.US.CLEJ267150",{"$f":"IF(LEFT(RTD(\"cqg.rtd\", ,\"ContractData\",B52, \"LastTrade\",, \"T\"),3)=\"768\",\"\",RTD(\"cqg.rtd\", ,\"ContractData\",B52, \"LastTrade\",, \"T\"))","v":16.850000000000001},{"$f":"IF(C52=\"\",\"\",RTD(\"cqg.rtd\", ,\"ContractData\",B52, \"NetLastTrade\",, \"T\"))","v":0.21000000000000085},{"$f":"IF(LEFT(RTD(\"cqg.rtd\", ,\"ContractData\",B52, \"LastTrade\",, \"T\"),3)=\"768\",\"\",RTD(\"cqg.rtd\", ,\"ContractData\",B52, \"MT_LastBidVolume\",, \"T\"))","v":1},{"$f":"IF(LEFT(RTD(\"cqg.rtd\", ,\"ContractData\",B52, \"LastTrade\",, \"T\"),3)=\"768\",\"\",RTD(\"cqg.rtd\", ,\"ContractData\",B52, \"Bid\",, \"T\"))","v":20.5},{"$f":"IF(LEFT(RTD(\"cqg.rtd\", ,\"ContractData\",B52, \"LastTrade\",, \"T\"),3)=\"768\",\"\",RTD(\"cqg.rtd\", ,\"ContractData\",B52, \"Ask\",, \"T\"))","v":20.7},{"$f":"IF(LEFT(RTD(\"cqg.rtd\", ,\"ContractData\",B52, \"LastTrade\",, \"T\"),3)=\"768\",\"\",RTD(\"cqg.rtd\", ,\"ContractData\",B52, \"MT_LastAskVolume\",, \"T\"))","v":1},{"$f":"IF(LEFT(RTD(\"cqg.rtd\", ,\"ContractData\",B52, \"LastTrade\",, \"T\"),3)=\"768\",\"\",RTD(\"cqg.rtd\", ,\"ContractData\",B52, \"T_CVol\",, \"T\"))","v":0},{"$f":"IF(LEFT(RTD(\"cqg.rtd\", ,\"ContractData\",B52, \"LastTrade\",, \"T\"),3)=\"768\",\"\",RTD(\"cqg.rtd\", ,\"ContractData\",B52, \"Y_CVol\",, \"T\"))","v":1},{"$f":"IF(LEFT(RTD(\"cqg.rtd\", ,\"ContractData\",B52, \"LastTrade\",, \"T\"),3)=\"768\",\"\",IFERROR(IF(I52>J52,\"+\"&I52-J52,I52-J52)*1,\"\"))","v":-1},{"$f":"IF(LEFT(RTD(\"cqg.rtd\", ,\"ContractData\",B52, \"LastTrade\",, \"T\"),3)=\"768\",\"\",RTD(\"cqg.rtd\",,\"StudyData\",B52,  \"Bar\",,  \"ContractOI\", \"D\", \"-1\",,,,,\"T\"))","v":973},{"$f":"IF(LEFT(RTD(\"cqg.rtd\", ,\"ContractData\",B52, \"LastTrade\",, \"T\"),3)=\"768\",\"\",RTD(\"cqg.rtd\",,\"StudyData\",B52,  \"Bar\",,  \"ContractOI\", \"D\", \"-2\",,,,,\"T\"))","v":973},{"$f":"IF(LEFT(RTD(\"cqg.rtd\", ,\"ContractData\",B52, \"LastTrade\",, \"T\"),3)=\"768\",\"\",IFERROR(IF(L52>M52,\"+\"&L52-M52,L52-M52)*1,\"\"))","v":0}]
[7200,"C.US.CLEJ267200",{"$f":"IF(LEFT(RTD(\"cqg.rtd\", ,\"ContractData\",B53, \"LastTrade\",, \"T\"),3)=\"768\",\"\",RTD(\"cqg.rtd\", ,\"ContractData\",B53, \"LastTrade\",, \"T\"))","v":21.44},{"$f":"IF(C53=\"\",\"\",RTD(\"cqg.rtd\", ,\"ContractData\",B53, \"NetLastTrade\",, \"T\"))","v":5.2200000000000024},{"$f":"IF(LEFT(RTD(\"cqg.rtd\", ,\"ContractData\",B53, \"LastTrade\",, \"T\"),3)=\"768\",\"\",RTD(\"cqg.rtd\", ,\"ContractData\",B53, \"MT_LastBidVolume\",, \"T\"))","v":1},{"$f":"IF(LEFT(RTD(\"cqg.rtd\", ,\"ContractData\",B53, \"LastTrade\",, \"T\"),3)=\"768\",\"\",RTD(\"cqg.rtd\", ,\"ContractData\",B53, \"Bid\",, \"T\"))","v":20.04},{"$f":"IF(LEFT(RTD(\"cqg.rtd\", ,\"ContractData\",B53, \"LastTrade\",, \"T\"),3)=\"768\",\"\",RTD(\"cqg.rtd\", ,\"ContractData\",B53, \"Ask\",, \"T\"))","v":20.240000000000002},{"$f":"IF(LEFT(RTD(\"cqg.rtd\", ,\"ContractData\",B53, \"LastTrade\",, \"T\"),3)=\"768\",\"\",RTD(\"cqg.rtd\", ,\"ContractData\",B53, \"MT_LastAskVolume\",, \"T\"))","v":1},{"$f":"IF(LEFT(RTD(\"cqg.rtd\", ,\"ContractData\",B53, \"LastTrade\",, \"T\"),3)=\"768\",\"\",RTD(\"cqg.rtd\", ,\"ContractData\",B53, \"T_CVol\",, \"T\"))","v":3},{"$f":"IF(LEFT(RTD(\"cqg.rtd\", ,\"ContractData\",B53, \"LastTrade\",, \"T\"),3)=\"768\",\"\",RTD(\"cqg.rtd\", ,\"ContractData\",B53, \"Y_CVol\",, \"T\"))","v":183},{"$f":"IF(LEFT(RTD(\"cqg.rtd\", ,\"ContractData\",B53, \"LastTrade\",, \"T\"),3)=\"768\",\"\",IFERROR(IF(I53>J53,\"+\"&I53-J53,I53-J53)*1,\"\"))","v":-180},{"$f":"IF(LEFT(RTD(\"cqg.rtd\", ,\"ContractData\",B53, \"LastTrade\",, \"T\"),3)=\"768\",\"\",RTD(\"cqg.rtd\",,\"StudyData\",B53,  \"Bar\",,  \"ContractOI\", \"D\", \"-1\",,,,,\"T\"))","v":7193},{"$f":"IF(LEFT(RTD(\"cqg.rtd\", ,\"ContractData\",B53, \"LastTrade\",, \"T\"),3)=\"768\",\"\",RTD(\"cqg.rtd\",,\"StudyData\",B53,  \"Bar\",,  \"ContractOI\", \"D\", \"-2\",,,,,\"T\"))","v":7204},{"$f":"IF(LEFT(RTD(\"cqg.rtd\", ,\"ContractData\",B53, \"LastTrade\",, \"T\"),3)=\"768\",\"\",IFERROR(IF(L53>M53,\"+\"&L53-M53,L53-M53)*1,\"\"))","v":-11}]
[7250,"C.US.CLEJ267250",{"$f":"IF(LEFT(RTD(\"cqg.rtd\", ,\"ContractData\",B54, \"LastTrade\",, \"T\"),3)=\"768\",\"\",RTD(\"cqg.rtd\", ,\"ContractData\",B54, \"LastTrade\",, \"T\"))","v":19.559999999999999},{"$f":"IF(C54=\"\",\"\",RTD(\"cqg.rtd\", ,\"ContractData\",B54, \"NetLastTrade\",, \"T\"))","v":3.7499999999999982},{"$f":"IF(LEFT(RTD(\"cqg.rtd\", ,\"ContractData\",B54, \"LastTrade\",, \"T\"),3)=\"768\",\"\",RTD(\"cqg.rtd\", ,\"ContractData\",B54, \"MT_LastBidVolume\",, \"T\"))","v":1},{"$f":"IF(LEFT(RTD(\"cqg.rtd\", ,\"ContractData\",B54, \"LastTrade\",, \"T\"),3)=\"768\",\"\",RTD(\"cqg.rtd\", ,\"ContractData\",B54, \"Bid\",, \"T\"))","v":19.600000000000001},{"$f":"IF(LEFT(RTD(\"cqg.rtd\", ,\"ContractData\",B54, \"LastTrade\",, \"T\"),3)=\"768\",\"\",RTD(\"cqg.rtd\", ,\"ContractData\",B54, \"Ask\",, \"T\"))","v":19.79},{"$f":"IF(LEFT(RTD(\"cqg.rtd\", ,\"ContractData\",B54, \"LastTrade\",, \"T\"),3)=\"768\",\"\",RTD(\"cqg.rtd\", ,\"ContractData\",B54, \"MT_LastAskVolume\",, \"T\"))","v":1},{"$f":"IF(LEFT(RTD(\"cqg.rtd\", ,\"ContractData\",B54, \"LastTrade\",, \"T\"),3)=\"768\",\"\",RTD(\"cqg.rtd\", ,\"ContractData\",B54, \"T_CVol\",, \"T\"))","v":15},{"$f":"IF(LEFT(RTD(\"cqg.rtd\", ,\"ContractData\",B54, \"LastTrade\",, \"T\"),3)=\"768\",\"\",RTD(\"cqg.rtd\", ,\"ContractData\",B54, \"Y_CVol\",, \"T\"))","v":1},{"$f":"IF(LEFT(RTD(\"cqg.rtd\", ,\"ContractData\",B54, \"LastTrade\",, \"T\"),3)=\"768\",\"\",IFERROR(IF(I54>J54,\"+\"&I54-J54,I54-J54)*1,\"\"))","v":14},{"$f":"IF(LEFT(RTD(\"cqg.rtd\", ,\"ContractData\",B54, \"LastTrade\",, \"T\"),3)=\"768\",\"\",RTD(\"cqg.rtd\",,\"StudyData\",B54,  \"Bar\",,  \"ContractOI\", \"D\", \"-1\",,,,,\"T\"))","v":1776},{"$f":"IF(LEFT(RTD(\"cqg.rtd\", ,\"ContractData\",B54, \"LastTrade\",, \"T\"),3)=\"768\",\"\",RTD(\"cqg.rtd\",,\"StudyData\",B54,  \"Bar\",,  \"ContractOI\", \"D\", \"-2\",,,,,\"T\"))","v":1777},{"$f":"IF(LEFT(RTD(\"cqg.rtd\", ,\"ContractData\",B54, \"LastTrade\",, \"T\"),3)=\"768\",\"\",IFERROR(IF(L54>M54,\"+\"&L54-M54,L54-M54)*1,\"\"))","v":-1}]
[7300,"C.US.CLEJ267300",{"$f":"IF(LEFT(RTD(\"cqg.rtd\", ,\"ContractData\",B55, \"LastTrade\",, \"T\"),3)=\"768\",\"\",RTD(\"cqg.rtd\", ,\"ContractData\",B55, \"LastTrade\",, \"T\"))","v":21.57},{"$f":"IF(C55=\"\",\"\",RTD(\"cqg.rtd\", ,\"ContractData\",B55, \"NetLastTrade\",, \"T\"))","v":6.16},{"$f":"IF(LEFT(RTD(\"cqg.rtd\", ,\"ContractData\",B55, \"LastTrade\",, \"T\"),3)=\"768\",\"\",RTD(\"cqg.rtd\", ,\"ContractData\",B55, \"MT_LastBidVolume\",, \"T\"))","v":1},{"$f":"IF(LEFT(RTD(\"cqg.rtd\", ,\"ContractData\",B55, \"LastTrade\",, \"T\"),3)=\"768\",\"\",RTD(\"cqg.rtd\", ,\"ContractData\",B55, \"Bid\",, \"T\"))","v":19.14},{"$f":"IF(LEFT(RTD(\"cqg.rtd\", ,\"ContractData\",B55, \"LastTrade\",, \"T\"),3)=\"768\",\"\",RTD(\"cqg.rtd\", ,\"ContractData\",B55, \"Ask\",, \"T\"))","v":19.34},{"$f":"IF(LEFT(RTD(\"cqg.rtd\", ,\"ContractData\",B55, \"LastTrade\",, \"T\"),3)=\"768\",\"\",RTD(\"cqg.rtd\", ,\"ContractData\",B55, \"MT_LastAskVolume\",, \"T\"))","v":1},{"$f":"IF(LEFT(RTD(\"cqg.rtd\", ,\"ContractData\",B55, \"LastTrade\",, \"T\"),3)=\"768\",\"\",RTD(\"cqg.rtd\", ,\"ContractData\",B55, \"T_CVol\",, \"T\"))","v":9},{"$f":"IF(LEFT(RTD(\"cqg.rtd\", ,\"ContractData\",B55, \"LastTrade\",, \"T\"),3)=\"768\",\"\",RTD(\"cqg.rtd\", ,\"ContractData\",B55, \"Y_CVol\",, \"T\"))","v":4},{"$f":"IF(LEFT(RTD(\"cqg.rtd\", ,\"ContractData\",B55, \"LastTrade\",, \"T\"),3)=\"768\",\"\",IFERROR(IF(I55>J55,\"+\"&I55-J55,I55-J55)*1,\"\"))","v":5},{"$f":"IF(LEFT(RTD(\"cqg.rtd\", ,\"ContractData\",B55, \"LastTrade\",, \"T\"),3)=\"768\",\"\",RTD(\"cqg.rtd\",,\"StudyData\",B55,  \"Bar\",,  \"ContractOI\", \"D\", \"-1\",,,,,\"T\"))","v":3215},{"$f":"IF(LEFT(RTD(\"cqg.rtd\", ,\"ContractData\",B55, \"LastTrade\",, \"T\"),3)=\"768\",\"\",RTD(\"cqg.rtd\",,\"StudyData\",B55,  \"Bar\",,  \"ContractOI\", \"D\", \"-2\",,,,,\"T\"))","v":3217},{"$f":"IF(LEFT(RTD(\"cqg.rtd\", ,\"ContractData\",B55, \"LastTrade\",, \"T\"),3)=\"768\",\"\",IFERROR(IF(L55>M55,\"+\"&L55-M55,L55-M55)*1,\"\"))","v":-2}]
[7350,"C.US.CLEJ267350",{"$f":"IF(LEFT(RTD(\"cqg.rtd\", ,\"ContractData\",B56, \"LastTrade\",, \"T\"),3)=\"768\",\"\",RTD(\"cqg.rtd\", ,\"ContractData\",B56, \"LastTrade\",, \"T\"))","v":21.16},{"$f":"IF(C56=\"\",\"\",RTD(\"cqg.rtd\", ,\"ContractData\",B56, \"NetLastTrade\",, \"T\"))","v":6.1400000000000006},{"$f":"IF(LEFT(RTD(\"cqg.rtd\", ,\"ContractData\",B56, \"LastTrade\",, \"T\"),3)=\"768\",\"\",RTD(\"cqg.rtd\", ,\"ContractData\",B56, \"MT_LastBidVolume\",, \"T\"))","v":2},{"$f":"IF(LEFT(RTD(\"cqg.rtd\", ,\"ContractData\",B56, \"LastTrade\",, \"T\"),3)=\"768\",\"\",RTD(\"cqg.rtd\", ,\"ContractData\",B56, \"Bid\",, \"T\"))","v":18.690000000000001},{"$f":"IF(LEFT(RTD(\"cqg.rtd\", ,\"ContractData\",B56, \"LastTrade\",, \"T\"),3)=\"768\",\"\",RTD(\"cqg.rtd\", ,\"ContractData\",B56, \"Ask\",, \"T\"))","v":18.89},{"$f":"IF(LEFT(RTD(\"cqg.rtd\", ,\"ContractData\",B56, \"LastTrade\",, \"T\"),3)=\"768\",\"\",RTD(\"cqg.rtd\", ,\"ContractData\",B56, \"MT_LastAskVolume\",, \"T\"))","v":1},{"$f":"IF(LEFT(RTD(\"cqg.rtd\", ,\"ContractData\",B56, \"LastTrade\",, \"T\"),3)=\"768\",\"\",RTD(\"cqg.rtd\", ,\"ContractData\",B56, \"T_CVol\",, \"T\"))","v":1},{"$f":"IF(LEFT(RTD(\"cqg.rtd\", ,\"ContractData\",B56, \"LastTrade\",, \"T\"),3)=\"768\",\"\",RTD(\"cqg.rtd\", ,\"ContractData\",B56, \"Y_CVol\",, \"T\"))","v":0},{"$f":"IF(LEFT(RTD(\"cqg.rtd\", ,\"ContractData\",B56, \"LastTrade\",, \"T\"),3)=\"768\",\"\",IFERROR(IF(I56>J56,\"+\"&I56-J56,I56-J56)*1,\"\"))","v":1},{"$f":"IF(LEFT(RTD(\"cqg.rtd\", ,\"ContractData\",B56, \"LastTrade\",, \"T\"),3)=\"768\",\"\",RTD(\"cqg.rtd\",,\"StudyData\",B56,  \"Bar\",,  \"ContractOI\", \"D\", \"-1\",,,,,\"T\"))","v":966},{"$f":"IF(LEFT(RTD(\"cqg.rtd\", ,\"ContractData\",B56, \"LastTrade\",, \"T\"),3)=\"768\",\"\",RTD(\"cqg.rtd\",,\"StudyData\",B56,  \"Bar\",,  \"ContractOI\", \"D\", \"-2\",,,,,\"T\"))","v":966},{"$f":"IF(LEFT(RTD(\"cqg.rtd\", ,\"ContractData\",B56, \"LastTrade\",, \"T\"),3)=\"768\",\"\",IFERROR(IF(L56>M56,\"+\"&L56-M56,L56-M56)*1,\"\"))","v":0}]
[7400,"C.US.CLEJ267400",{"$f":"IF(LEFT(RTD(\"cqg.rtd\", ,\"ContractData\",B57, \"LastTrade\",, \"T\"),3)=\"768\",\"\",RTD(\"cqg.rtd\", ,\"ContractData\",B57, \"LastTrade\",, \"T\"))","v":14.99},{"$f":"IF(C57=\"\",\"\",RTD(\"cqg.rtd\", ,\"ContractData\",B57, \"NetLastTrade\",, \"T\"))","v":0.34999999999999964},{"$f":"IF(LEFT(RTD(\"cqg.rtd\", ,\"ContractData\",B57, \"LastTrade\",, \"T\"),3)=\"768\",\"\",RTD(\"cqg.rtd\", ,\"ContractData\",B57, \"MT_LastBidVolume\",, \"T\"))","v":1},{"$f":"IF(LEFT(RTD(\"cqg.rtd\", ,\"ContractData\",B57, \"LastTrade\",, \"T\"),3)=\"768\",\"\",RTD(\"cqg.rtd\", ,\"ContractData\",B57, \"Bid\",, \"T\"))","v":18.260000000000002},{"$f":"IF(LEFT(RTD(\"cqg.rtd\", ,\"ContractData\",B57, \"LastTrade\",, \"T\"),3)=\"768\",\"\",RTD(\"cqg.rtd\", ,\"ContractData\",B57, \"Ask\",, \"T\"))","v":18.45},{"$f":"IF(LEFT(RTD(\"cqg.rtd\", ,\"ContractData\",B57, \"LastTrade\",, \"T\"),3)=\"768\",\"\",RTD(\"cqg.rtd\", ,\"ContractData\",B57, \"MT_LastAskVolume\",, \"T\"))","v":1},{"$f":"IF(LEFT(RTD(\"cqg.rtd\", ,\"ContractData\",B57, \"LastTrade\",, \"T\"),3)=\"768\",\"\",RTD(\"cqg.rtd\", ,\"ContractData\",B57, \"T_CVol\",, \"T\"))","v":16},{"$f":"IF(LEFT(RTD(\"cqg.rtd\", ,\"ContractData\",B57, \"LastTrade\",, \"T\"),3)=\"768\",\"\",RTD(\"cqg.rtd\", ,\"ContractData\",B57, \"Y_CVol\",, \"T\"))","v":31},{"$f":"IF(LEFT(RTD(\"cqg.rtd\", ,\"ContractData\",B57, \"LastTrade\",, \"T\"),3)=\"768\",\"\",IFERROR(IF(I57>J57,\"+\"&I57-J57,I57-J57)*1,\"\"))","v":-15},{"$f":"IF(LEFT(RTD(\"cqg.rtd\", ,\"ContractData\",B57, \"LastTrade\",, \"T\"),3)=\"768\",\"\",RTD(\"cqg.rtd\",,\"StudyData\",B57,  \"Bar\",,  \"ContractOI\", \"D\", \"-1\",,,,,\"T\"))","v":2343},{"$f":"IF(LEFT(RTD(\"cqg.rtd\", ,\"ContractData\",B57, \"LastTrade\",, \"T\"),3)=\"768\",\"\",RTD(\"cqg.rtd\",,\"StudyData\",B57,  \"Bar\",,  \"ContractOI\", \"D\", \"-2\",,,,,\"T\"))","v":2374},{"$f":"IF(LEFT(RTD(\"cqg.rtd\", ,\"ContractData\",B57, \"LastTrade\",, \"T\"),3)=\"768\",\"\",IFERROR(IF(L57>M57,\"+\"&L57-M57,L57-M57)*1,\"\"))","v":-31}]
[7450,"C.US.CLEJ267450",{"$f":"IF(LEFT(RTD(\"cqg.rtd\", ,\"ContractData\",B58, \"LastTrade\",, \"T\"),3)=\"768\",\"\",RTD(\"cqg.rtd\", ,\"ContractData\",B58, \"LastTrade\",, \"T\"))","v":14.700000000000001},{"$f":"IF(C58=\"\",\"\",RTD(\"cqg.rtd\", ,\"ContractData\",B58, \"NetLastTrade\",, \"T\"))","v":0.43000000000000149},{"$f":"IF(LEFT(RTD(\"cqg.rtd\", ,\"ContractData\",B58, \"LastTrade\",, \"T\"),3)=\"768\",\"\",RTD(\"cqg.rtd\", ,\"ContractData\",B58, \"MT_LastBidVolume\",, \"T\"))","v":1},{"$f":"IF(LEFT(RTD(\"cqg.rtd\", ,\"ContractData\",B58, \"LastTrade\",, \"T\"),3)=\"768\",\"\",RTD(\"cqg.rtd\", ,\"ContractData\",B58, \"Bid\",, \"T\"))","v":17.82},{"$f":"IF(LEFT(RTD(\"cqg.rtd\", ,\"ContractData\",B58, \"LastTrade\",, \"T\"),3)=\"768\",\"\",RTD(\"cqg.rtd\", ,\"ContractData\",B58, \"Ask\",, \"T\"))","v":18.010000000000002},{"$f":"IF(LEFT(RTD(\"cqg.rtd\", ,\"ContractData\",B58, \"LastTrade\",, \"T\"),3)=\"768\",\"\",RTD(\"cqg.rtd\", ,\"ContractData\",B58, \"MT_LastAskVolume\",, \"T\"))","v":1},{"$f":"IF(LEFT(RTD(\"cqg.rtd\", ,\"ContractData\",B58, \"LastTrade\",, \"T\"),3)=\"768\",\"\",RTD(\"cqg.rtd\", ,\"ContractData\",B58, \"T_CVol\",, \"T\"))","v":2},{"$f":"IF(LEFT(RTD(\"cqg.rtd\", ,\"ContractData\",B58, \"LastTrade\",, \"T\"),3)=\"768\",\"\",RTD(\"cqg.rtd\", ,\"ContractData\",B58, \"Y_CVol\",, \"T\"))","v":5},{"$f":"IF(LEFT(RTD(\"cqg.rtd\", ,\"ContractData\",B58, \"LastTrade\",, \"T\"),3)=\"768\",\"\",IFERROR(IF(I58>J58,\"+\"&I58-J58,I58-J58)*1,\"\"))","v":-3},{"$f":"IF(LEFT(RTD(\"cqg.rtd\", ,\"ContractData\",B58, \"LastTrade\",, \"T\"),3)=\"768\",\"\",RTD(\"cqg.rtd\",,\"StudyData\",B58,  \"Bar\",,  \"ContractOI\", \"D\", \"-1\",,,,,\"T\"))","v":3713},{"$f":"IF(LEFT(RTD(\"cqg.rtd\", ,\"ContractData\",B58, \"LastTrade\",, \"T\"),3)=\"768\",\"\",RTD(\"cqg.rtd\",,\"StudyData\",B58,  \"Bar\",,  \"ContractOI\", \"D\", \"-2\",,,,,\"T\"))","v":3716},{"$f":"IF(LEFT(RTD(\"cqg.rtd\", ,\"ContractData\",B58, \"LastTrade\",, \"T\"),3)=\"768\",\"\",IFERROR(IF(L58>M58,\"+\"&L58-M58,L58-M58)*1,\"\"))","v":-3}]
[7500,"C.US.CLEJ267500",{"$f":"IF(LEFT(RTD(\"cqg.rtd\", ,\"ContractData\",B59, \"LastTrade\",, \"T\"),3)=\"768\",\"\",RTD(\"cqg.rtd\", ,\"ContractData\",B59, \"LastTrade\",, \"T\"))","v":13.94},{"$f":"IF(C59=\"\",\"\",RTD(\"cqg.rtd\", ,\"ContractData\",B59, \"NetLastTrade\",, \"T\"))","v":3.9999999999999147E-2},{"$f":"IF(LEFT(RTD(\"cqg.rtd\", ,\"ContractData\",B59, \"LastTrade\",, \"T\"),3)=\"768\",\"\",RTD(\"cqg.rtd\", ,\"ContractData\",B59, \"MT_LastBidVolume\",, \"T\"))","v":1},{"$f":"IF(LEFT(RTD(\"cqg.rtd\", ,\"ContractData\",B59, \"LastTrade\",, \"T\"),3)=\"768\",\"\",RTD(\"cqg.rtd\", ,\"ContractData\",B59, \"Bid\",, \"T\"))","v":17.38},{"$f":"IF(LEFT(RTD(\"cqg.rtd\", ,\"ContractData\",B59, \"LastTrade\",, \"T\"),3)=\"768\",\"\",RTD(\"cqg.rtd\", ,\"ContractData\",B59, \"Ask\",, \"T\"))","v":17.580000000000002},{"$f":"IF(LEFT(RTD(\"cqg.rtd\", ,\"ContractData\",B59, \"LastTrade\",, \"T\"),3)=\"768\",\"\",RTD(\"cqg.rtd\", ,\"ContractData\",B59, \"MT_LastAskVolume\",, \"T\"))","v":1},{"$f":"IF(LEFT(RTD(\"cqg.rtd\", ,\"ContractData\",B59, \"LastTrade\",, \"T\"),3)=\"768\",\"\",RTD(\"cqg.rtd\", ,\"ContractData\",B59, \"T_CVol\",, \"T\"))","v":103},{"$f":"IF(LEFT(RTD(\"cqg.rtd\", ,\"ContractData\",B59, \"LastTrade\",, \"T\"),3)=\"768\",\"\",RTD(\"cqg.rtd\", ,\"ContractData\",B59, \"Y_CVol\",, \"T\"))","v":145},{"$f":"IF(LEFT(RTD(\"cqg.rtd\", ,\"ContractData\",B59, \"LastTrade\",, \"T\"),3)=\"768\",\"\",IFERROR(IF(I59>J59,\"+\"&I59-J59,I59-J59)*1,\"\"))","v":-42},{"$f":"IF(LEFT(RTD(\"cqg.rtd\", ,\"ContractData\",B59, \"LastTrade\",, \"T\"),3)=\"768\",\"\",RTD(\"cqg.rtd\",,\"StudyData\",B59,  \"Bar\",,  \"ContractOI\", \"D\", \"-1\",,,,,\"T\"))","v":24343},{"$f":"IF(LEFT(RTD(\"cqg.rtd\", ,\"ContractData\",B59, \"LastTrade\",, \"T\"),3)=\"768\",\"\",RTD(\"cqg.rtd\",,\"StudyData\",B59,  \"Bar\",,  \"ContractOI\", \"D\", \"-2\",,,,,\"T\"))","v":24246},{"$f":"IF(LEFT(RTD(\"cqg.rtd\", ,\"ContractData\",B59, \"LastTrade\",, \"T\"),3)=\"768\",\"\",IFERROR(IF(L59>M59,\"+\"&L59-M59,L59-M59)*1,\"\"))","v":97}]
[7550,"C.US.CLEJ267550",{"$f":"IF(LEFT(RTD(\"cqg.rtd\", ,\"ContractData\",B60, \"LastTrade\",, \"T\"),3)=\"768\",\"\",RTD(\"cqg.rtd\", ,\"ContractData\",B60, \"LastTrade\",, \"T\"))","v":13.94},{"$f":"IF(C60=\"\",\"\",RTD(\"cqg.rtd\", ,\"ContractData\",B60, \"NetLastTrade\",, \"T\"))","v":0.40999999999999837},{"$f":"IF(LEFT(RTD(\"cqg.rtd\", ,\"ContractData\",B60, \"LastTrade\",, \"T\"),3)=\"768\",\"\",RTD(\"cqg.rtd\", ,\"ContractData\",B60, \"MT_LastBidVolume\",, \"T\"))","v":1},{"$f":"IF(LEFT(RTD(\"cqg.rtd\", ,\"ContractData\",B60, \"LastTrade\",, \"T\"),3)=\"768\",\"\",RTD(\"cqg.rtd\", ,\"ContractData\",B60, \"Bid\",, \"T\"))","v":16.95},{"$f":"IF(LEFT(RTD(\"cqg.rtd\", ,\"ContractData\",B60, \"LastTrade\",, \"T\"),3)=\"768\",\"\",RTD(\"cqg.rtd\", ,\"ContractData\",B60, \"Ask\",, \"T\"))","v":17.16},{"$f":"IF(LEFT(RTD(\"cqg.rtd\", ,\"ContractData\",B60, \"LastTrade\",, \"T\"),3)=\"768\",\"\",RTD(\"cqg.rtd\", ,\"ContractData\",B60, \"MT_LastAskVolume\",, \"T\"))","v":2},{"$f":"IF(LEFT(RTD(\"cqg.rtd\", ,\"ContractData\",B60, \"LastTrade\",, \"T\"),3)=\"768\",\"\",RTD(\"cqg.rtd\", ,\"ContractData\",B60, \"T_CVol\",, \"T\"))","v":0},{"$f":"IF(LEFT(RTD(\"cqg.rtd\", ,\"ContractData\",B60, \"LastTrade\",, \"T\"),3)=\"768\",\"\",RTD(\"cqg.rtd\", ,\"ContractData\",B60, \"Y_CVol\",, \"T\"))","v":4},{"$f":"IF(LEFT(RTD(\"cqg.rtd\", ,\"ContractData\",B60, \"LastTrade\",, \"T\"),3)=\"768\",\"\",IFERROR(IF(I60>J60,\"+\"&I60-J60,I60-J60)*1,\"\"))","v":-4},{"$f":"IF(LEFT(RTD(\"cqg.rtd\", ,\"ContractData\",B60, \"LastTrade\",, \"T\"),3)=\"768\",\"\",RTD(\"cqg.rtd\",,\"StudyData\",B60,  \"Bar\",,  \"ContractOI\", \"D\", \"-1\",,,,,\"T\"))","v":2974},{"$f":"IF(LEFT(RTD(\"cqg.rtd\", ,\"ContractData\",B60, \"LastTrade\",, \"T\"),3)=\"768\",\"\",RTD(\"cqg.rtd\",,\"StudyData\",B60,  \"Bar\",,  \"ContractOI\", \"D\", \"-2\",,,,,\"T\"))","v":2973},{"$f":"IF(LEFT(RTD(\"cqg.rtd\", ,\"ContractData\",B60, \"LastTrade\",, \"T\"),3)=\"768\",\"\",IFERROR(IF(L60>M60,\"+\"&L60-M60,L60-M60)*1,\"\"))","v":1}]
[7600,"C.US.CLEJ267600",{"$f":"IF(LEFT(RTD(\"cqg.rtd\", ,\"ContractData\",B61, \"LastTrade\",, \"T\"),3)=\"768\",\"\",RTD(\"cqg.rtd\", ,\"ContractData\",B61, \"LastTrade\",, \"T\"))","v":16.66},{"$f":"IF(C61=\"\",\"\",RTD(\"cqg.rtd\", ,\"ContractData\",B61, \"NetLastTrade\",, \"T\"))","v":3.4800000000000004},{"$f":"IF(LEFT(RTD(\"cqg.rtd\", ,\"ContractData\",B61, \"LastTrade\",, \"T\"),3)=\"768\",\"\",RTD(\"cqg.rtd\", ,\"ContractData\",B61, \"MT_LastBidVolume\",, \"T\"))","v":1},{"$f":"IF(LEFT(RTD(\"cqg.rtd\", ,\"ContractData\",B61, \"LastTrade\",, \"T\"),3)=\"768\",\"\",RTD(\"cqg.rtd\", ,\"ContractData\",B61, \"Bid\",, \"T\"))","v":16.54},{"$f":"IF(LEFT(RTD(\"cqg.rtd\", ,\"ContractData\",B61, \"LastTrade\",, \"T\"),3)=\"768\",\"\",RTD(\"cqg.rtd\", ,\"ContractData\",B61, \"Ask\",, \"T\"))","v":16.73},{"$f":"IF(LEFT(RTD(\"cqg.rtd\", ,\"ContractData\",B61, \"LastTrade\",, \"T\"),3)=\"768\",\"\",RTD(\"cqg.rtd\", ,\"ContractData\",B61, \"MT_LastAskVolume\",, \"T\"))","v":1},{"$f":"IF(LEFT(RTD(\"cqg.rtd\", ,\"ContractData\",B61, \"LastTrade\",, \"T\"),3)=\"768\",\"\",RTD(\"cqg.rtd\", ,\"ContractData\",B61, \"T_CVol\",, \"T\"))","v":111},{"$f":"IF(LEFT(RTD(\"cqg.rtd\", ,\"ContractData\",B61, \"LastTrade\",, \"T\"),3)=\"768\",\"\",RTD(\"cqg.rtd\", ,\"ContractData\",B61, \"Y_CVol\",, \"T\"))","v":49},{"$f":"IF(LEFT(RTD(\"cqg.rtd\", ,\"ContractData\",B61, \"LastTrade\",, \"T\"),3)=\"768\",\"\",IFERROR(IF(I61>J61,\"+\"&I61-J61,I61-J61)*1,\"\"))","v":62},{"$f":"IF(LEFT(RTD(\"cqg.rtd\", ,\"ContractData\",B61, \"LastTrade\",, \"T\"),3)=\"768\",\"\",RTD(\"cqg.rtd\",,\"StudyData\",B61,  \"Bar\",,  \"ContractOI\", \"D\", \"-1\",,,,,\"T\"))","v":3951},{"$f":"IF(LEFT(RTD(\"cqg.rtd\", ,\"ContractData\",B61, \"LastTrade\",, \"T\"),3)=\"768\",\"\",RTD(\"cqg.rtd\",,\"StudyData\",B61,  \"Bar\",,  \"ContractOI\", \"D\", \"-2\",,,,,\"T\"))","v":3952},{"$f":"IF(LEFT(RTD(\"cqg.rtd\", ,\"ContractData\",B61, \"LastTrade\",, \"T\"),3)=\"768\",\"\",IFERROR(IF(L61>M61,\"+\"&L61-M61,L61-M61)*1,\"\"))","v":-1}]
[7650,"C.US.CLEJ267650",{"$f":"IF(LEFT(RTD(\"cqg.rtd\", ,\"ContractData\",B62, \"LastTrade\",, \"T\"),3)=\"768\",\"\",RTD(\"cqg.rtd\", ,\"ContractData\",B62, \"LastTrade\",, \"T\"))","v":12.86},{"$f":"IF(C62=\"\",\"\",RTD(\"cqg.rtd\", ,\"ContractData\",B62, \"NetLastTrade\",, \"T\"))","v":2.9999999999999361E-2},{"$f":"IF(LEFT(RTD(\"cqg.rtd\", ,\"ContractData\",B62, \"LastTrade\",, \"T\"),3)=\"768\",\"\",RTD(\"cqg.rtd\", ,\"ContractData\",B62, \"MT_LastBidVolume\",, \"T\"))","v":1},{"$f":"IF(LEFT(RTD(\"cqg.rtd\", ,\"ContractData\",B62, \"LastTrade\",, \"T\"),3)=\"768\",\"\",RTD(\"cqg.rtd\", ,\"ContractData\",B62, \"Bid\",, \"T\"))","v":16.12},{"$f":"IF(LEFT(RTD(\"cqg.rtd\", ,\"ContractData\",B62, \"LastTrade\",, \"T\"),3)=\"768\",\"\",RTD(\"cqg.rtd\", ,\"ContractData\",B62, \"Ask\",, \"T\"))","v":16.32},{"$f":"IF(LEFT(RTD(\"cqg.rtd\", ,\"ContractData\",B62, \"LastTrade\",, \"T\"),3)=\"768\",\"\",RTD(\"cqg.rtd\", ,\"ContractData\",B62, \"MT_LastAskVolume\",, \"T\"))","v":1},{"$f":"IF(LEFT(RTD(\"cqg.rtd\", ,\"ContractData\",B62, \"LastTrade\",, \"T\"),3)=\"768\",\"\",RTD(\"cqg.rtd\", ,\"ContractData\",B62, \"T_CVol\",, \"T\"))","v":0},{"$f":"IF(LEFT(RTD(\"cqg.rtd\", ,\"ContractData\",B62, \"LastTrade\",, \"T\"),3)=\"768\",\"\",RTD(\"cqg.rtd\", ,\"ContractData\",B62, \"Y_CVol\",, \"T\"))","v":2},{"$f":"IF(LEFT(RTD(\"cqg.rtd\", ,\"ContractData\",B62, \"LastTrade\",, \"T\"),3)=\"768\",\"\",IFERROR(IF(I62>J62,\"+\"&I62-J62,I62-J62)*1,\"\"))","v":-2},{"$f":"IF(LEFT(RTD(\"cqg.rtd\", ,\"ContractData\",B62, \"LastTrade\",, \"T\"),3)=\"768\",\"\",RTD(\"cqg.rtd\",,\"StudyData\",B62,  \"Bar\",,  \"ContractOI\", \"D\", \"-1\",,,,,\"T\"))","v":876},{"$f":"IF(LEFT(RTD(\"cqg.rtd\", ,\"ContractData\",B62, \"LastTrade\",, \"T\"),3)=\"768\",\"\",RTD(\"cqg.rtd\",,\"StudyData\",B62,  \"Bar\",,  \"ContractOI\", \"D\", \"-2\",,,,,\"T\"))","v":875},{"$f":"IF(LEFT(RTD(\"cqg.rtd\", ,\"ContractData\",B62, \"LastTrade\",, \"T\"),3)=\"768\",\"\",IFERROR(IF(L62>M62,\"+\"&L62-M62,L62-M62)*1,\"\"))","v":1}]
[7700,"C.US.CLEJ267700",{"$f":"IF(LEFT(RTD(\"cqg.rtd\", ,\"ContractData\",B63, \"LastTrade\",, \"T\"),3)=\"768\",\"\",RTD(\"cqg.rtd\", ,\"ContractData\",B63, \"LastTrade\",, \"T\"))","v":12.24},{"$f":"IF(C63=\"\",\"\",RTD(\"cqg.rtd\", ,\"ContractData\",B63, \"NetLastTrade\",, \"T\"))","v":-0.25},{"$f":"IF(LEFT(RTD(\"cqg.rtd\", ,\"ContractData\",B63, \"LastTrade\",, \"T\"),3)=\"768\",\"\",RTD(\"cqg.rtd\", ,\"ContractData\",B63, \"MT_LastBidVolume\",, \"T\"))","v":1},{"$f":"IF(LEFT(RTD(\"cqg.rtd\", ,\"ContractData\",B63, \"LastTrade\",, \"T\"),3)=\"768\",\"\",RTD(\"cqg.rtd\", ,\"ContractData\",B63, \"Bid\",, \"T\"))","v":15.72},{"$f":"IF(LEFT(RTD(\"cqg.rtd\", ,\"ContractData\",B63, \"LastTrade\",, \"T\"),3)=\"768\",\"\",RTD(\"cqg.rtd\", ,\"ContractData\",B63, \"Ask\",, \"T\"))","v":15.91},{"$f":"IF(LEFT(RTD(\"cqg.rtd\", ,\"ContractData\",B63, \"LastTrade\",, \"T\"),3)=\"768\",\"\",RTD(\"cqg.rtd\", ,\"ContractData\",B63, \"MT_LastAskVolume\",, \"T\"))","v":1},{"$f":"IF(LEFT(RTD(\"cqg.rtd\", ,\"ContractData\",B63, \"LastTrade\",, \"T\"),3)=\"768\",\"\",RTD(\"cqg.rtd\", ,\"ContractData\",B63, \"T_CVol\",, \"T\"))","v":0},{"$f":"IF(LEFT(RTD(\"cqg.rtd\", ,\"ContractData\",B63, \"LastTrade\",, \"T\"),3)=\"768\",\"\",RTD(\"cqg.rtd\", ,\"ContractData\",B63, \"Y_CVol\",, \"T\"))","v":125},{"$f":"IF(LEFT(RTD(\"cqg.rtd\", ,\"ContractData\",B63, \"LastTrade\",, \"T\"),3)=\"768\",\"\",IFERROR(IF(I63>J63,\"+\"&I63-J63,I63-J63)*1,\"\"))","v":-125},{"$f":"IF(LEFT(RTD(\"cqg.rtd\", ,\"ContractData\",B63, \"LastTrade\",, \"T\"),3)=\"768\",\"\",RTD(\"cqg.rtd\",,\"StudyData\",B63,  \"Bar\",,  \"ContractOI\", \"D\", \"-1\",,,,,\"T\"))","v":2799},{"$f":"IF(LEFT(RTD(\"cqg.rtd\", ,\"ContractData\",B63, \"LastTrade\",, \"T\"),3)=\"768\",\"\",RTD(\"cqg.rtd\",,\"StudyData\",B63,  \"Bar\",,  \"ContractOI\", \"D\", \"-2\",,,,,\"T\"))","v":2900},{"$f":"IF(LEFT(RTD(\"cqg.rtd\", ,\"ContractData\",B63, \"LastTrade\",, \"T\"),3)=\"768\",\"\",IFERROR(IF(L63>M63,\"+\"&L63-M63,L63-M63)*1,\"\"))","v":-101}]
[7750,"C.US.CLEJ267750",{"$f":"IF(LEFT(RTD(\"cqg.rtd\", ,\"ContractData\",B64, \"LastTrade\",, \"T\"),3)=\"768\",\"\",RTD(\"cqg.rtd\", ,\"ContractData\",B64, \"LastTrade\",, \"T\"))","v":12.370000000000001},{"$f":"IF(C64=\"\",\"\",RTD(\"cqg.rtd\", ,\"ContractData\",B64, \"NetLastTrade\",, \"T\"))","v":0.21000000000000085},{"$f":"IF(LEFT(RTD(\"cqg.rtd\", ,\"ContractData\",B64, \"LastTrade\",, \"T\"),3)=\"768\",\"\",RTD(\"cqg.rtd\", ,\"ContractData\",B64, \"MT_LastBidVolume\",, \"T\"))","v":1},{"$f":"IF(LEFT(RTD(\"cqg.rtd\", ,\"ContractData\",B64, \"LastTrade\",, \"T\"),3)=\"768\",\"\",RTD(\"cqg.rtd\", ,\"ContractData\",B64, \"Bid\",, \"T\"))","v":15.32},{"$f":"IF(LEFT(RTD(\"cqg.rtd\", ,\"ContractData\",B64, \"LastTrade\",, \"T\"),3)=\"768\",\"\",RTD(\"cqg.rtd\", ,\"ContractData\",B64, \"Ask\",, \"T\"))","v":15.51},{"$f":"IF(LEFT(RTD(\"cqg.rtd\", ,\"ContractData\",B64, \"LastTrade\",, \"T\"),3)=\"768\",\"\",RTD(\"cqg.rtd\", ,\"ContractData\",B64, \"MT_LastAskVolume\",, \"T\"))","v":1},{"$f":"IF(LEFT(RTD(\"cqg.rtd\", ,\"ContractData\",B64, \"LastTrade\",, \"T\"),3)=\"768\",\"\",RTD(\"cqg.rtd\", ,\"ContractData\",B64, \"T_CVol\",, \"T\"))","v":0},{"$f":"IF(LEFT(RTD(\"cqg.rtd\", ,\"ContractData\",B64, \"LastTrade\",, \"T\"),3)=\"768\",\"\",RTD(\"cqg.rtd\", ,\"ContractData\",B64, \"Y_CVol\",, \"T\"))","v":97},{"$f":"IF(LEFT(RTD(\"cqg.rtd\", ,\"ContractData\",B64, \"LastTrade\",, \"T\"),3)=\"768\",\"\",IFERROR(IF(I64>J64,\"+\"&I64-J64,I64-J64)*1,\"\"))","v":-97},{"$f":"IF(LEFT(RTD(\"cqg.rtd\", ,\"ContractData\",B64, \"LastTrade\",, \"T\"),3)=\"768\",\"\",RTD(\"cqg.rtd\",,\"StudyData\",B64,  \"Bar\",,  \"ContractOI\", \"D\", \"-1\",,,,,\"T\"))","v":922},{"$f":"IF(LEFT(RTD(\"cqg.rtd\", ,\"ContractData\",B64, \"LastTrade\",, \"T\"),3)=\"768\",\"\",RTD(\"cqg.rtd\",,\"StudyData\",B64,  \"Bar\",,  \"ContractOI\", \"D\", \"-2\",,,,,\"T\"))","v":938},{"$f":"IF(LEFT(RTD(\"cqg.rtd\", ,\"ContractData\",B64, \"LastTrade\",, \"T\"),3)=\"768\",\"\",IFERROR(IF(L64>M64,\"+\"&L64-M64,L64-M64)*1,\"\"))","v":-16}]
[7800,"C.US.CLEJ267800",{"$f":"IF(LEFT(RTD(\"cqg.rtd\", ,\"ContractData\",B65, \"LastTrade\",, \"T\"),3)=\"768\",\"\",RTD(\"cqg.rtd\", ,\"ContractData\",B65, \"LastTrade\",, \"T\"))","v":11.98},{"$f":"IF(C65=\"\",\"\",RTD(\"cqg.rtd\", ,\"ContractData\",B65, \"NetLastTrade\",, \"T\"))","v":0.14000000000000057},{"$f":"IF(LEFT(RTD(\"cqg.rtd\", ,\"ContractData\",B65, \"LastTrade\",, \"T\"),3)=\"768\",\"\",RTD(\"cqg.rtd\", ,\"ContractData\",B65, \"MT_LastBidVolume\",, \"T\"))","v":1},{"$f":"IF(LEFT(RTD(\"cqg.rtd\", ,\"ContractData\",B65, \"LastTrade\",, \"T\"),3)=\"768\",\"\",RTD(\"cqg.rtd\", ,\"ContractData\",B65, \"Bid\",, \"T\"))","v":14.92},{"$f":"IF(LEFT(RTD(\"cqg.rtd\", ,\"ContractData\",B65, \"LastTrade\",, \"T\"),3)=\"768\",\"\",RTD(\"cqg.rtd\", ,\"ContractData\",B65, \"Ask\",, \"T\"))","v":15.120000000000001},{"$f":"IF(LEFT(RTD(\"cqg.rtd\", ,\"ContractData\",B65, \"LastTrade\",, \"T\"),3)=\"768\",\"\",RTD(\"cqg.rtd\", ,\"ContractData\",B65, \"MT_LastAskVolume\",, \"T\"))","v":1},{"$f":"IF(LEFT(RTD(\"cqg.rtd\", ,\"ContractData\",B65, \"LastTrade\",, \"T\"),3)=\"768\",\"\",RTD(\"cqg.rtd\", ,\"ContractData\",B65, \"T_CVol\",, \"T\"))","v":0},{"$f":"IF(LEFT(RTD(\"cqg.rtd\", ,\"ContractData\",B65, \"LastTrade\",, \"T\"),3)=\"768\",\"\",RTD(\"cqg.rtd\", ,\"ContractData\",B65, \"Y_CVol\",, \"T\"))","v":13},{"$f":"IF(LEFT(RTD(\"cqg.rtd\", ,\"ContractData\",B65, \"LastTrade\",, \"T\"),3)=\"768\",\"\",IFERROR(IF(I65>J65,\"+\"&I65-J65,I65-J65)*1,\"\"))","v":-13},{"$f":"IF(LEFT(RTD(\"cqg.rtd\", ,\"ContractData\",B65, \"LastTrade\",, \"T\"),3)=\"768\",\"\",RTD(\"cqg.rtd\",,\"StudyData\",B65,  \"Bar\",,  \"ContractOI\", \"D\", \"-1\",,,,,\"T\"))","v":4008},{"$f":"IF(LEFT(RTD(\"cqg.rtd\", ,\"ContractData\",B65, \"LastTrade\",, \"T\"),3)=\"768\",\"\",RTD(\"cqg.rtd\",,\"StudyData\",B65,  \"Bar\",,  \"ContractOI\", \"D\", \"-2\",,,,,\"T\"))","v":4016},{"$f":"IF(LEFT(RTD(\"cqg.rtd\", ,\"ContractData\",B65, \"LastTrade\",, \"T\"),3)=\"768\",\"\",IFERROR(IF(L65>M65,\"+\"&L65-M65,L65-M65)*1,\"\"))","v":-8}]
[7850,"C.US.CLEJ267850",{"$f":"IF(LEFT(RTD(\"cqg.rtd\", ,\"ContractData\",B66, \"LastTrade\",, \"T\"),3)=\"768\",\"\",RTD(\"cqg.rtd\", ,\"ContractData\",B66, \"LastTrade\",, \"T\"))","v":6.16},{"$f":"IF(C66=\"\",\"\",RTD(\"cqg.rtd\", ,\"ContractData\",B66, \"NetLastTrade\",, \"T\"))","v":-5.3599999999999994},{"$f":"IF(LEFT(RTD(\"cqg.rtd\", ,\"ContractData\",B66, \"LastTrade\",, \"T\"),3)=\"768\",\"\",RTD(\"cqg.rtd\", ,\"ContractData\",B66, \"MT_LastBidVolume\",, \"T\"))","v":1},{"$f":"IF(LEFT(RTD(\"cqg.rtd\", ,\"ContractData\",B66, \"LastTrade\",, \"T\"),3)=\"768\",\"\",RTD(\"cqg.rtd\", ,\"ContractData\",B66, \"Bid\",, \"T\"))","v":14.540000000000001},{"$f":"IF(LEFT(RTD(\"cqg.rtd\", ,\"ContractData\",B66, \"LastTrade\",, \"T\"),3)=\"768\",\"\",RTD(\"cqg.rtd\", ,\"ContractData\",B66, \"Ask\",, \"T\"))","v":14.73},{"$f":"IF(LEFT(RTD(\"cqg.rtd\", ,\"ContractData\",B66, \"LastTrade\",, \"T\"),3)=\"768\",\"\",RTD(\"cqg.rtd\", ,\"ContractData\",B66, \"MT_LastAskVolume\",, \"T\"))","v":1},{"$f":"IF(LEFT(RTD(\"cqg.rtd\", ,\"ContractData\",B66, \"LastTrade\",, \"T\"),3)=\"768\",\"\",RTD(\"cqg.rtd\", ,\"ContractData\",B66, \"T_CVol\",, \"T\"))","v":0},{"$f":"IF(LEFT(RTD(\"cqg.rtd\", ,\"ContractData\",B66, \"LastTrade\",, \"T\"),3)=\"768\",\"\",RTD(\"cqg.rtd\", ,\"ContractData\",B66, \"Y_CVol\",, \"T\"))","v":0},{"$f":"IF(LEFT(RTD(\"cqg.rtd\", ,\"ContractData\",B66, \"LastTrade\",, \"T\"),3)=\"768\",\"\",IFERROR(IF(I66>J66,\"+\"&I66-J66,I66-J66)*1,\"\"))","v":0},{"$f":"IF(LEFT(RTD(\"cqg.rtd\", ,\"ContractData\",B66, \"LastTrade\",, \"T\"),3)=\"768\",\"\",RTD(\"cqg.rtd\",,\"StudyData\",B66,  \"Bar\",,  \"ContractOI\", \"D\", \"-1\",,,,,\"T\"))","v":604},{"$f":"IF(LEFT(RTD(\"cqg.rtd\", ,\"ContractData\",B66, \"LastTrade\",, \"T\"),3)=\"768\",\"\",RTD(\"cqg.rtd\",,\"StudyData\",B66,  \"Bar\",,  \"ContractOI\", \"D\", \"-2\",,,,,\"T\"))","v":604},{"$f":"IF(LEFT(RTD(\"cqg.rtd\", ,\"ContractData\",B66, \"LastTrade\",, \"T\"),3)=\"768\",\"\",IFERROR(IF(L66>M66,\"+\"&L66-M66,L66-M66)*1,\"\"))","v":0}]
[7900,"C.US.CLEJ267900",{"$f":"IF(LEFT(RTD(\"cqg.rtd\", ,\"ContractData\",B67, \"LastTrade\",, \"T\"),3)=\"768\",\"\",RTD(\"cqg.rtd\", ,\"ContractData\",B67, \"LastTrade\",, \"T\"))","v":11.73},{"$f":"IF(C67=\"\",\"\",RTD(\"cqg.rtd\", ,\"ContractData\",B67, \"NetLastTrade\",, \"T\"))","v":0.51999999999999957},{"$f":"IF(LEFT(RTD(\"cqg.rtd\", ,\"ContractData\",B67, \"LastTrade\",, \"T\"),3)=\"768\",\"\",RTD(\"cqg.rtd\", ,\"ContractData\",B67, \"MT_LastBidVolume\",, \"T\"))","v":2},{"$f":"IF(LEFT(RTD(\"cqg.rtd\", ,\"ContractData\",B67, \"LastTrade\",, \"T\"),3)=\"768\",\"\",RTD(\"cqg.rtd\", ,\"ContractData\",B67, \"Bid\",, \"T\"))","v":14.16},{"$f":"IF(LEFT(RTD(\"cqg.rtd\", ,\"ContractData\",B67, \"LastTrade\",, \"T\"),3)=\"768\",\"\",RTD(\"cqg.rtd\", ,\"ContractData\",B67, \"Ask\",, \"T\"))","v":14.35},{"$f":"IF(LEFT(RTD(\"cqg.rtd\", ,\"ContractData\",B67, \"LastTrade\",, \"T\"),3)=\"768\",\"\",RTD(\"cqg.rtd\", ,\"ContractData\",B67, \"MT_LastAskVolume\",, \"T\"))","v":1},{"$f":"IF(LEFT(RTD(\"cqg.rtd\", ,\"ContractData\",B67, \"LastTrade\",, \"T\"),3)=\"768\",\"\",RTD(\"cqg.rtd\", ,\"ContractData\",B67, \"T_CVol\",, \"T\"))","v":0},{"$f":"IF(LEFT(RTD(\"cqg.rtd\", ,\"ContractData\",B67, \"LastTrade\",, \"T\"),3)=\"768\",\"\",RTD(\"cqg.rtd\", ,\"ContractData\",B67, \"Y_CVol\",, \"T\"))","v":8},{"$f":"IF(LEFT(RTD(\"cqg.rtd\", ,\"ContractData\",B67, \"LastTrade\",, \"T\"),3)=\"768\",\"\",IFERROR(IF(I67>J67,\"+\"&I67-J67,I67-J67)*1,\"\"))","v":-8},{"$f":"IF(LEFT(RTD(\"cqg.rtd\", ,\"ContractData\",B67, \"LastTrade\",, \"T\"),3)=\"768\",\"\",RTD(\"cqg.rtd\",,\"StudyData\",B67,  \"Bar\",,  \"ContractOI\", \"D\", \"-1\",,,,,\"T\"))","v":1382},{"$f":"IF(LEFT(RTD(\"cqg.rtd\", ,\"ContractData\",B67, \"LastTrade\",, \"T\"),3)=\"768\",\"\",RTD(\"cqg.rtd\",,\"StudyData\",B67,  \"Bar\",,  \"ContractOI\", \"D\", \"-2\",,,,,\"T\"))","v":1380},{"$f":"IF(LEFT(RTD(\"cqg.rtd\", ,\"ContractData\",B67, \"LastTrade\",, \"T\"),3)=\"768\",\"\",IFERROR(IF(L67>M67,\"+\"&L67-M67,L67-M67)*1,\"\"))","v":2}]
[7950,"C.US.CLEJ267950",{"$f":"IF(LEFT(RTD(\"cqg.rtd\", ,\"ContractData\",B68, \"LastTrade\",, \"T\"),3)=\"768\",\"\",RTD(\"cqg.rtd\", ,\"ContractData\",B68, \"LastTrade\",, \"T\"))","v":10.78},{"$f":"IF(C68=\"\",\"\",RTD(\"cqg.rtd\", ,\"ContractData\",B68, \"NetLastTrade\",, \"T\"))","v":-0.13000000000000078},{"$f":"IF(LEFT(RTD(\"cqg.rtd\", ,\"ContractData\",B68, \"LastTrade\",, \"T\"),3)=\"768\",\"\",RTD(\"cqg.rtd\", ,\"ContractData\",B68, \"MT_LastBidVolume\",, \"T\"))","v":1},{"$f":"IF(LEFT(RTD(\"cqg.rtd\", ,\"ContractData\",B68, \"LastTrade\",, \"T\"),3)=\"768\",\"\",RTD(\"cqg.rtd\", ,\"ContractData\",B68, \"Bid\",, \"T\"))","v":13.82},{"$f":"IF(LEFT(RTD(\"cqg.rtd\", ,\"ContractData\",B68, \"LastTrade\",, \"T\"),3)=\"768\",\"\",RTD(\"cqg.rtd\", ,\"ContractData\",B68, \"Ask\",, \"T\"))","v":13.98},{"$f":"IF(LEFT(RTD(\"cqg.rtd\", ,\"ContractData\",B68, \"LastTrade\",, \"T\"),3)=\"768\",\"\",RTD(\"cqg.rtd\", ,\"ContractData\",B68, \"MT_LastAskVolume\",, \"T\"))","v":1},{"$f":"IF(LEFT(RTD(\"cqg.rtd\", ,\"ContractData\",B68, \"LastTrade\",, \"T\"),3)=\"768\",\"\",RTD(\"cqg.rtd\", ,\"ContractData\",B68, \"T_CVol\",, \"T\"))","v":0},{"$f":"IF(LEFT(RTD(\"cqg.rtd\", ,\"ContractData\",B68, \"LastTrade\",, \"T\"),3)=\"768\",\"\",RTD(\"cqg.rtd\", ,\"ContractData\",B68, \"Y_CVol\",, \"T\"))","v":4},{"$f":"IF(LEFT(RTD(\"cqg.rtd\", ,\"ContractData\",B68, \"LastTrade\",, \"T\"),3)=\"768\",\"\",IFERROR(IF(I68>J68,\"+\"&I68-J68,I68-J68)*1,\"\"))","v":-4},{"$f":"IF(LEFT(RTD(\"cqg.rtd\", ,\"ContractData\",B68, \"LastTrade\",, \"T\"),3)=\"768\",\"\",RTD(\"cqg.rtd\",,\"StudyData\",B68,  \"Bar\",,  \"ContractOI\", \"D\", \"-1\",,,,,\"T\"))","v":654},{"$f":"IF(LEFT(RTD(\"cqg.rtd\", ,\"ContractData\",B68, \"LastTrade\",, \"T\"),3)=\"768\",\"\",RTD(\"cqg.rtd\",,\"StudyData\",B68,  \"Bar\",,  \"ContractOI\", \"D\", \"-2\",,,,,\"T\"))","v":652},{"$f":"IF(LEFT(RTD(\"cqg.rtd\", ,\"ContractData\",B68, \"LastTrade\",, \"T\"),3)=\"768\",\"\",IFERROR(IF(L68>M68,\"+\"&L68-M68,L68-M68)*1,\"\"))","v":2}]
[8000,"C.US.CLEJ268000",{"$f":"IF(LEFT(RTD(\"cqg.rtd\", ,\"ContractData\",B69, \"LastTrade\",, \"T\"),3)=\"768\",\"\",RTD(\"cqg.rtd\", ,\"ContractData\",B69, \"LastTrade\",, \"T\"))","v":13.96},{"$f":"IF(C69=\"\",\"\",RTD(\"cqg.rtd\", ,\"ContractData\",B69, \"NetLastTrade\",, \"T\"))","v":3.34},{"$f":"IF(LEFT(RTD(\"cqg.rtd\", ,\"ContractData\",B69, \"LastTrade\",, \"T\"),3)=\"768\",\"\",RTD(\"cqg.rtd\", ,\"ContractData\",B69, \"MT_LastBidVolume\",, \"T\"))","v":1},{"$f":"IF(LEFT(RTD(\"cqg.rtd\", ,\"ContractData\",B69, \"LastTrade\",, \"T\"),3)=\"768\",\"\",RTD(\"cqg.rtd\", ,\"ContractData\",B69, \"Bid\",, \"T\"))","v":13.46},{"$f":"IF(LEFT(RTD(\"cqg.rtd\", ,\"ContractData\",B69, \"LastTrade\",, \"T\"),3)=\"768\",\"\",RTD(\"cqg.rtd\", ,\"ContractData\",B69, \"Ask\",, \"T\"))","v":13.620000000000001},{"$f":"IF(LEFT(RTD(\"cqg.rtd\", ,\"ContractData\",B69, \"LastTrade\",, \"T\"),3)=\"768\",\"\",RTD(\"cqg.rtd\", ,\"ContractData\",B69, \"MT_LastAskVolume\",, \"T\"))","v":1},{"$f":"IF(LEFT(RTD(\"cqg.rtd\", ,\"ContractData\",B69, \"LastTrade\",, \"T\"),3)=\"768\",\"\",RTD(\"cqg.rtd\", ,\"ContractData\",B69, \"T_CVol\",, \"T\"))","v":311},{"$f":"IF(LEFT(RTD(\"cqg.rtd\", ,\"ContractData\",B69, \"LastTrade\",, \"T\"),3)=\"768\",\"\",RTD(\"cqg.rtd\", ,\"ContractData\",B69, \"Y_CVol\",, \"T\"))","v":1372},{"$f":"IF(LEFT(RTD(\"cqg.rtd\", ,\"ContractData\",B69, \"LastTrade\",, \"T\"),3)=\"768\",\"\",IFERROR(IF(I69>J69,\"+\"&I69-J69,I69-J69)*1,\"\"))","v":-1061},{"$f":"IF(LEFT(RTD(\"cqg.rtd\", ,\"ContractData\",B69, \"LastTrade\",, \"T\"),3)=\"768\",\"\",RTD(\"cqg.rtd\",,\"StudyData\",B69,  \"Bar\",,  \"ContractOI\", \"D\", \"-1\",,,,,\"T\"))","v":35441},{"$f":"IF(LEFT(RTD(\"cqg.rtd\", ,\"ContractData\",B69, \"LastTrade\",, \"T\"),3)=\"768\",\"\",RTD(\"cqg.rtd\",,\"StudyData\",B69,  \"Bar\",,  \"ContractOI\", \"D\", \"-2\",,,,,\"T\"))","v":35635},{"$f":"IF(LEFT(RTD(\"cqg.rtd\", ,\"ContractData\",B69, \"LastTrade\",, \"T\"),3)=\"768\",\"\",IFERROR(IF(L69>M69,\"+\"&L69-M69,L69-M69)*1,\"\"))","v":-194}]
[8050,"C.US.CLEJ268050",{"$f":"IF(LEFT(RTD(\"cqg.rtd\", ,\"ContractData\",B70, \"LastTrade\",, \"T\"),3)=\"768\",\"\",RTD(\"cqg.rtd\", ,\"ContractData\",B70, \"LastTrade\",, \"T\"))","v":11.4},{"$f":"IF(C70=\"\",\"\",RTD(\"cqg.rtd\", ,\"ContractData\",B70, \"NetLastTrade\",, \"T\"))","v":1.0700000000000003},{"$f":"IF(LEFT(RTD(\"cqg.rtd\", ,\"ContractData\",B70, \"LastTrade\",, \"T\"),3)=\"768\",\"\",RTD(\"cqg.rtd\", ,\"ContractData\",B70, \"MT_LastBidVolume\",, \"T\"))","v":1},{"$f":"IF(LEFT(RTD(\"cqg.rtd\", ,\"ContractData\",B70, \"LastTrade\",, \"T\"),3)=\"768\",\"\",RTD(\"cqg.rtd\", ,\"ContractData\",B70, \"Bid\",, \"T\"))","v":13.08},{"$f":"IF(LEFT(RTD(\"cqg.rtd\", ,\"ContractData\",B70, \"LastTrade\",, \"T\"),3)=\"768\",\"\",RTD(\"cqg.rtd\", ,\"ContractData\",B70, \"Ask\",, \"T\"))","v":13.26},{"$f":"IF(LEFT(RTD(\"cqg.rtd\", ,\"ContractData\",B70, \"LastTrade\",, \"T\"),3)=\"768\",\"\",RTD(\"cqg.rtd\", ,\"ContractData\",B70, \"MT_LastAskVolume\",, \"T\"))","v":1},{"$f":"IF(LEFT(RTD(\"cqg.rtd\", ,\"ContractData\",B70, \"LastTrade\",, \"T\"),3)=\"768\",\"\",RTD(\"cqg.rtd\", ,\"ContractData\",B70, \"T_CVol\",, \"T\"))","v":0},{"$f":"IF(LEFT(RTD(\"cqg.rtd\", ,\"ContractData\",B70, \"LastTrade\",, \"T\"),3)=\"768\",\"\",RTD(\"cqg.rtd\", ,\"ContractData\",B70, \"Y_CVol\",, \"T\"))","v":2},{"$f":"IF(LEFT(RTD(\"cqg.rtd\", ,\"ContractData\",B70, \"LastTrade\",, \"T\"),3)=\"768\",\"\",IFERROR(IF(I70>J70,\"+\"&I70-J70,I70-J70)*1,\"\"))","v":-2},{"$f":"IF(LEFT(RTD(\"cqg.rtd\", ,\"ContractData\",B70, \"LastTrade\",, \"T\"),3)=\"768\",\"\",RTD(\"cqg.rtd\",,\"StudyData\",B70,  \"Bar\",,  \"ContractOI\", \"D\", \"-1\",,,,,\"T\"))","v":706},{"$f":"IF(LEFT(RTD(\"cqg.rtd\", ,\"ContractData\",B70, \"LastTrade\",, \"T\"),3)=\"768\",\"\",RTD(\"cqg.rtd\",,\"StudyData\",B70,  \"Bar\",,  \"ContractOI\", \"D\", \"-2\",,,,,\"T\"))","v":706},{"$f":"IF(LEFT(RTD(\"cqg.rtd\", ,\"ContractData\",B70, \"LastTrade\",, \"T\"),3)=\"768\",\"\",IFERROR(IF(L70>M70,\"+\"&L70-M70,L70-M70)*1,\"\"))","v":0}]
[8100,"C.US.CLEJ268100",{"$f":"IF(LEFT(RTD(\"cqg.rtd\", ,\"ContractData\",B71, \"LastTrade\",, \"T\"),3)=\"768\",\"\",RTD(\"cqg.rtd\", ,\"ContractData\",B71, \"LastTrade\",, \"T\"))","v":11.02},{"$f":"IF(C71=\"\",\"\",RTD(\"cqg.rtd\", ,\"ContractData\",B71, \"NetLastTrade\",, \"T\"))","v":0.96999999999999886},{"$f":"IF(LEFT(RTD(\"cqg.rtd\", ,\"ContractData\",B71, \"LastTrade\",, \"T\"),3)=\"768\",\"\",RTD(\"cqg.rtd\", ,\"ContractData\",B71, \"MT_LastBidVolume\",, \"T\"))","v":1},{"$f":"IF(LEFT(RTD(\"cqg.rtd\", ,\"ContractData\",B71, \"LastTrade\",, \"T\"),3)=\"768\",\"\",RTD(\"cqg.rtd\", ,\"ContractData\",B71, \"Bid\",, \"T\"))","v":12.77},{"$f":"IF(LEFT(RTD(\"cqg.rtd\", ,\"ContractData\",B71, \"LastTrade\",, \"T\"),3)=\"768\",\"\",RTD(\"cqg.rtd\", ,\"ContractData\",B71, \"Ask\",, \"T\"))","v":12.92},{"$f":"IF(LEFT(RTD(\"cqg.rtd\", ,\"ContractData\",B71, \"LastTrade\",, \"T\"),3)=\"768\",\"\",RTD(\"cqg.rtd\", ,\"ContractData\",B71, \"MT_LastAskVolume\",, \"T\"))","v":1},{"$f":"IF(LEFT(RTD(\"cqg.rtd\", ,\"ContractData\",B71, \"LastTrade\",, \"T\"),3)=\"768\",\"\",RTD(\"cqg.rtd\", ,\"ContractData\",B71, \"T_CVol\",, \"T\"))","v":0},{"$f":"IF(LEFT(RTD(\"cqg.rtd\", ,\"ContractData\",B71, \"LastTrade\",, \"T\"),3)=\"768\",\"\",RTD(\"cqg.rtd\", ,\"ContractData\",B71, \"Y_CVol\",, \"T\"))","v":83},{"$f":"IF(LEFT(RTD(\"cqg.rtd\", ,\"ContractData\",B71, \"LastTrade\",, \"T\"),3)=\"768\",\"\",IFERROR(IF(I71>J71,\"+\"&I71-J71,I71-J71)*1,\"\"))","v":-83},{"$f":"IF(LEFT(RTD(\"cqg.rtd\", ,\"ContractData\",B71, \"LastTrade\",, \"T\"),3)=\"768\",\"\",RTD(\"cqg.rtd\",,\"StudyData\",B71,  \"Bar\",,  \"ContractOI\", \"D\", \"-1\",,,,,\"T\"))","v":1937},{"$f":"IF(LEFT(RTD(\"cqg.rtd\", ,\"ContractData\",B71, \"LastTrade\",, \"T\"),3)=\"768\",\"\",RTD(\"cqg.rtd\",,\"StudyData\",B71,  \"Bar\",,  \"ContractOI\", \"D\", \"-2\",,,,,\"T\"))","v":1938},{"$f":"IF(LEFT(RTD(\"cqg.rtd\", ,\"ContractData\",B71, \"LastTrade\",, \"T\"),3)=\"768\",\"\",IFERROR(IF(L71>M71,\"+\"&L71-M71,L71-M71)*1,\"\"))","v":-1}]
[8150,"C.US.CLEJ268150",{"$f":"IF(LEFT(RTD(\"cqg.rtd\", ,\"ContractData\",B72, \"LastTrade\",, \"T\"),3)=\"768\",\"\",RTD(\"cqg.rtd\", ,\"ContractData\",B72, \"LastTrade\",, \"T\"))","v":14.15},{"$f":"IF(C72=\"\",\"\",RTD(\"cqg.rtd\", ,\"ContractData\",B72, \"NetLastTrade\",, \"T\"))","v":4.370000000000001},{"$f":"IF(LEFT(RTD(\"cqg.rtd\", ,\"ContractData\",B72, \"LastTrade\",, \"T\"),3)=\"768\",\"\",RTD(\"cqg.rtd\", ,\"ContractData\",B72, \"MT_LastBidVolume\",, \"T\"))","v":1},{"$f":"IF(LEFT(RTD(\"cqg.rtd\", ,\"ContractData\",B72, \"LastTrade\",, \"T\"),3)=\"768\",\"\",RTD(\"cqg.rtd\", ,\"ContractData\",B72, \"Bid\",, \"T\"))","v":12.43},{"$f":"IF(LEFT(RTD(\"cqg.rtd\", ,\"ContractData\",B72, \"LastTrade\",, \"T\"),3)=\"768\",\"\",RTD(\"cqg.rtd\", ,\"ContractData\",B72, \"Ask\",, \"T\"))","v":12.58},{"$f":"IF(LEFT(RTD(\"cqg.rtd\", ,\"ContractData\",B72, \"LastTrade\",, \"T\"),3)=\"768\",\"\",RTD(\"cqg.rtd\", ,\"ContractData\",B72, \"MT_LastAskVolume\",, \"T\"))","v":1},{"$f":"IF(LEFT(RTD(\"cqg.rtd\", ,\"ContractData\",B72, \"LastTrade\",, \"T\"),3)=\"768\",\"\",RTD(\"cqg.rtd\", ,\"ContractData\",B72, \"T_CVol\",, \"T\"))","v":1},{"$f":"IF(LEFT(RTD(\"cqg.rtd\", ,\"ContractData\",B72, \"LastTrade\",, \"T\"),3)=\"768\",\"\",RTD(\"cqg.rtd\", ,\"ContractData\",B72, \"Y_CVol\",, \"T\"))","v":74},{"$f":"IF(LEFT(RTD(\"cqg.rtd\", ,\"ContractData\",B72, \"LastTrade\",, \"T\"),3)=\"768\",\"\",IFERROR(IF(I72>J72,\"+\"&I72-J72,I72-J72)*1,\"\"))","v":-73},{"$f":"IF(LEFT(RTD(\"cqg.rtd\", ,\"ContractData\",B72, \"LastTrade\",, \"T\"),3)=\"768\",\"\",RTD(\"cqg.rtd\",,\"StudyData\",B72,  \"Bar\",,  \"ContractOI\", \"D\", \"-1\",,,,,\"T\"))","v":631},{"$f":"IF(LEFT(RTD(\"cqg.rtd\", ,\"ContractData\",B72, \"LastTrade\",, \"T\"),3)=\"768\",\"\",RTD(\"cqg.rtd\",,\"StudyData\",B72,  \"Bar\",,  \"ContractOI\", \"D\", \"-2\",,,,,\"T\"))","v":703},{"$f":"IF(LEFT(RTD(\"cqg.rtd\", ,\"ContractData\",B72, \"LastTrade\",, \"T\"),3)=\"768\",\"\",IFERROR(IF(L72>M72,\"+\"&L72-M72,L72-M72)*1,\"\"))","v":-72}]
[8200,"C.US.CLEJ268200",{"$f":"IF(LEFT(RTD(\"cqg.rtd\", ,\"ContractData\",B73, \"LastTrade\",, \"T\"),3)=\"768\",\"\",RTD(\"cqg.rtd\", ,\"ContractData\",B73, \"LastTrade\",, \"T\"))","v":14.450000000000001},{"$f":"IF(C73=\"\",\"\",RTD(\"cqg.rtd\", ,\"ContractData\",B73, \"NetLastTrade\",, \"T\"))","v":4.9400000000000013},{"$f":"IF(LEFT(RTD(\"cqg.rtd\", ,\"ContractData\",B73, \"LastTrade\",, \"T\"),3)=\"768\",\"\",RTD(\"cqg.rtd\", ,\"ContractData\",B73, \"MT_LastBidVolume\",, \"T\"))","v":1},{"$f":"IF(LEFT(RTD(\"cqg.rtd\", ,\"ContractData\",B73, \"LastTrade\",, \"T\"),3)=\"768\",\"\",RTD(\"cqg.rtd\", ,\"ContractData\",B73, \"Bid\",, \"T\"))","v":12.1},{"$f":"IF(LEFT(RTD(\"cqg.rtd\", ,\"ContractData\",B73, \"LastTrade\",, \"T\"),3)=\"768\",\"\",RTD(\"cqg.rtd\", ,\"ContractData\",B73, \"Ask\",, \"T\"))","v":12.24},{"$f":"IF(LEFT(RTD(\"cqg.rtd\", ,\"ContractData\",B73, \"LastTrade\",, \"T\"),3)=\"768\",\"\",RTD(\"cqg.rtd\", ,\"ContractData\",B73, \"MT_LastAskVolume\",, \"T\"))","v":1},{"$f":"IF(LEFT(RTD(\"cqg.rtd\", ,\"ContractData\",B73, \"LastTrade\",, \"T\"),3)=\"768\",\"\",RTD(\"cqg.rtd\", ,\"ContractData\",B73, \"T_CVol\",, \"T\"))","v":9},{"$f":"IF(LEFT(RTD(\"cqg.rtd\", ,\"ContractData\",B73, \"LastTrade\",, \"T\"),3)=\"768\",\"\",RTD(\"cqg.rtd\", ,\"ContractData\",B73, \"Y_CVol\",, \"T\"))","v":51},{"$f":"IF(LEFT(RTD(\"cqg.rtd\", ,\"ContractData\",B73, \"LastTrade\",, \"T\"),3)=\"768\",\"\",IFERROR(IF(I73>J73,\"+\"&I73-J73,I73-J73)*1,\"\"))","v":-42},{"$f":"IF(LEFT(RTD(\"cqg.rtd\", ,\"ContractData\",B73, \"LastTrade\",, \"T\"),3)=\"768\",\"\",RTD(\"cqg.rtd\",,\"StudyData\",B73,  \"Bar\",,  \"ContractOI\", \"D\", \"-1\",,,,,\"T\"))","v":4731},{"$f":"IF(LEFT(RTD(\"cqg.rtd\", ,\"ContractData\",B73, \"LastTrade\",, \"T\"),3)=\"768\",\"\",RTD(\"cqg.rtd\",,\"StudyData\",B73,  \"Bar\",,  \"ContractOI\", \"D\", \"-2\",,,,,\"T\"))","v":4746},{"$f":"IF(LEFT(RTD(\"cqg.rtd\", ,\"ContractData\",B73, \"LastTrade\",, \"T\"),3)=\"768\",\"\",IFERROR(IF(L73>M73,\"+\"&L73-M73,L73-M73)*1,\"\"))","v":-15}]
[8250,"C.US.CLEJ268250",{"$f":"IF(LEFT(RTD(\"cqg.rtd\", ,\"ContractData\",B74, \"LastTrade\",, \"T\"),3)=\"768\",\"\",RTD(\"cqg.rtd\", ,\"ContractData\",B74, \"LastTrade\",, \"T\"))","v":11.32},{"$f":"IF(C74=\"\",\"\",RTD(\"cqg.rtd\", ,\"ContractData\",B74, \"NetLastTrade\",, \"T\"))","v":2.0700000000000003},{"$f":"IF(LEFT(RTD(\"cqg.rtd\", ,\"ContractData\",B74, \"LastTrade\",, \"T\"),3)=\"768\",\"\",RTD(\"cqg.rtd\", ,\"ContractData\",B74, \"MT_LastBidVolume\",, \"T\"))","v":3},{"$f":"IF(LEFT(RTD(\"cqg.rtd\", ,\"ContractData\",B74, \"LastTrade\",, \"T\"),3)=\"768\",\"\",RTD(\"cqg.rtd\", ,\"ContractData\",B74, \"Bid\",, \"T\"))","v":11.77},{"$f":"IF(LEFT(RTD(\"cqg.rtd\", ,\"ContractData\",B74, \"LastTrade\",, \"T\"),3)=\"768\",\"\",RTD(\"cqg.rtd\", ,\"ContractData\",B74, \"Ask\",, \"T\"))","v":11.92},{"$f":"IF(LEFT(RTD(\"cqg.rtd\", ,\"ContractData\",B74, \"LastTrade\",, \"T\"),3)=\"768\",\"\",RTD(\"cqg.rtd\", ,\"ContractData\",B74, \"MT_LastAskVolume\",, \"T\"))","v":2},{"$f":"IF(LEFT(RTD(\"cqg.rtd\", ,\"ContractData\",B74, \"LastTrade\",, \"T\"),3)=\"768\",\"\",RTD(\"cqg.rtd\", ,\"ContractData\",B74, \"T_CVol\",, \"T\"))","v":1},{"$f":"IF(LEFT(RTD(\"cqg.rtd\", ,\"ContractData\",B74, \"LastTrade\",, \"T\"),3)=\"768\",\"\",RTD(\"cqg.rtd\", ,\"ContractData\",B74, \"Y_CVol\",, \"T\"))","v":59},{"$f":"IF(LEFT(RTD(\"cqg.rtd\", ,\"ContractData\",B74, \"LastTrade\",, \"T\"),3)=\"768\",\"\",IFERROR(IF(I74>J74,\"+\"&I74-J74,I74-J74)*1,\"\"))","v":-58},{"$f":"IF(LEFT(RTD(\"cqg.rtd\", ,\"ContractData\",B74, \"LastTrade\",, \"T\"),3)=\"768\",\"\",RTD(\"cqg.rtd\",,\"StudyData\",B74,  \"Bar\",,  \"ContractOI\", \"D\", \"-1\",,,,,\"T\"))","v":547},{"$f":"IF(LEFT(RTD(\"cqg.rtd\", ,\"ContractData\",B74, \"LastTrade\",, \"T\"),3)=\"768\",\"\",RTD(\"cqg.rtd\",,\"StudyData\",B74,  \"Bar\",,  \"ContractOI\", \"D\", \"-2\",,,,,\"T\"))","v":547},{"$f":"IF(LEFT(RTD(\"cqg.rtd\", ,\"ContractData\",B74, \"LastTrade\",, \"T\"),3)=\"768\",\"\",IFERROR(IF(L74>M74,\"+\"&L74-M74,L74-M74)*1,\"\"))","v":0}]
[8300,"C.US.CLEJ268300",{"$f":"IF(LEFT(RTD(\"cqg.rtd\", ,\"ContractData\",B75, \"LastTrade\",, \"T\"),3)=\"768\",\"\",RTD(\"cqg.rtd\", ,\"ContractData\",B75, \"LastTrade\",, \"T\"))","v":8.9500000000000011},{"$f":"IF(C75=\"\",\"\",RTD(\"cqg.rtd\", ,\"ContractData\",B75, \"NetLastTrade\",, \"T\"))","v":-4.9999999999998934E-2},{"$f":"IF(LEFT(RTD(\"cqg.rtd\", ,\"ContractData\",B75, \"LastTrade\",, \"T\"),3)=\"768\",\"\",RTD(\"cqg.rtd\", ,\"ContractData\",B75, \"MT_LastBidVolume\",, \"T\"))","v":1},{"$f":"IF(LEFT(RTD(\"cqg.rtd\", ,\"ContractData\",B75, \"LastTrade\",, \"T\"),3)=\"768\",\"\",RTD(\"cqg.rtd\", ,\"ContractData\",B75, \"Bid\",, \"T\"))","v":11.47},{"$f":"IF(LEFT(RTD(\"cqg.rtd\", ,\"ContractData\",B75, \"LastTrade\",, \"T\"),3)=\"768\",\"\",RTD(\"cqg.rtd\", ,\"ContractData\",B75, \"Ask\",, \"T\"))","v":11.6},{"$f":"IF(LEFT(RTD(\"cqg.rtd\", ,\"ContractData\",B75, \"LastTrade\",, \"T\"),3)=\"768\",\"\",RTD(\"cqg.rtd\", ,\"ContractData\",B75, \"MT_LastAskVolume\",, \"T\"))","v":1},{"$f":"IF(LEFT(RTD(\"cqg.rtd\", ,\"ContractData\",B75, \"LastTrade\",, \"T\"),3)=\"768\",\"\",RTD(\"cqg.rtd\", ,\"ContractData\",B75, \"T_CVol\",, \"T\"))","v":1},{"$f":"IF(LEFT(RTD(\"cqg.rtd\", ,\"ContractData\",B75, \"LastTrade\",, \"T\"),3)=\"768\",\"\",RTD(\"cqg.rtd\", ,\"ContractData\",B75, \"Y_CVol\",, \"T\"))","v":224},{"$f":"IF(LEFT(RTD(\"cqg.rtd\", ,\"ContractData\",B75, \"LastTrade\",, \"T\"),3)=\"768\",\"\",IFERROR(IF(I75>J75,\"+\"&I75-J75,I75-J75)*1,\"\"))","v":-223},{"$f":"IF(LEFT(RTD(\"cqg.rtd\", ,\"ContractData\",B75, \"LastTrade\",, \"T\"),3)=\"768\",\"\",RTD(\"cqg.rtd\",,\"StudyData\",B75,  \"Bar\",,  \"ContractOI\", \"D\", \"-1\",,,,,\"T\"))","v":1390},{"$f":"IF(LEFT(RTD(\"cqg.rtd\", ,\"ContractData\",B75, \"LastTrade\",, \"T\"),3)=\"768\",\"\",RTD(\"cqg.rtd\",,\"StudyData\",B75,  \"Bar\",,  \"ContractOI\", \"D\", \"-2\",,,,,\"T\"))","v":1387},{"$f":"IF(LEFT(RTD(\"cqg.rtd\", ,\"ContractData\",B75, \"LastTrade\",, \"T\"),3)=\"768\",\"\",IFERROR(IF(L75>M75,\"+\"&L75-M75,L75-M75)*1,\"\"))","v":3}]
[8350,"C.US.CLEJ268350",{"$f":"IF(LEFT(RTD(\"cqg.rtd\", ,\"ContractData\",B76, \"LastTrade\",, \"T\"),3)=\"768\",\"\",RTD(\"cqg.rtd\", ,\"ContractData\",B76, \"LastTrade\",, \"T\"))","v":8.07},{"$f":"IF(C76=\"\",\"\",RTD(\"cqg.rtd\", ,\"ContractData\",B76, \"NetLastTrade\",, \"T\"))","v":-0.67999999999999972},{"$f":"IF(LEFT(RTD(\"cqg.rtd\", ,\"ContractData\",B76, \"LastTrade\",, \"T\"),3)=\"768\",\"\",RTD(\"cqg.rtd\", ,\"ContractData\",B76, \"MT_LastBidVolume\",, \"T\"))","v":1},{"$f":"IF(LEFT(RTD(\"cqg.rtd\", ,\"ContractData\",B76, \"LastTrade\",, \"T\"),3)=\"768\",\"\",RTD(\"cqg.rtd\", ,\"ContractData\",B76, \"Bid\",, \"T\"))","v":11.16},{"$f":"IF(LEFT(RTD(\"cqg.rtd\", ,\"ContractData\",B76, \"LastTrade\",, \"T\"),3)=\"768\",\"\",RTD(\"cqg.rtd\", ,\"ContractData\",B76, \"Ask\",, \"T\"))","v":11.3},{"$f":"IF(LEFT(RTD(\"cqg.rtd\", ,\"ContractData\",B76, \"LastTrade\",, \"T\"),3)=\"768\",\"\",RTD(\"cqg.rtd\", ,\"ContractData\",B76, \"MT_LastAskVolume\",, \"T\"))","v":2},{"$f":"IF(LEFT(RTD(\"cqg.rtd\", ,\"ContractData\",B76, \"LastTrade\",, \"T\"),3)=\"768\",\"\",RTD(\"cqg.rtd\", ,\"ContractData\",B76, \"T_CVol\",, \"T\"))","v":1},{"$f":"IF(LEFT(RTD(\"cqg.rtd\", ,\"ContractData\",B76, \"LastTrade\",, \"T\"),3)=\"768\",\"\",RTD(\"cqg.rtd\", ,\"ContractData\",B76, \"Y_CVol\",, \"T\"))","v":9},{"$f":"IF(LEFT(RTD(\"cqg.rtd\", ,\"ContractData\",B76, \"LastTrade\",, \"T\"),3)=\"768\",\"\",IFERROR(IF(I76>J76,\"+\"&I76-J76,I76-J76)*1,\"\"))","v":-8},{"$f":"IF(LEFT(RTD(\"cqg.rtd\", ,\"ContractData\",B76, \"LastTrade\",, \"T\"),3)=\"768\",\"\",RTD(\"cqg.rtd\",,\"StudyData\",B76,  \"Bar\",,  \"ContractOI\", \"D\", \"-1\",,,,,\"T\"))","v":710},{"$f":"IF(LEFT(RTD(\"cqg.rtd\", ,\"ContractData\",B76, \"LastTrade\",, \"T\"),3)=\"768\",\"\",RTD(\"cqg.rtd\",,\"StudyData\",B76,  \"Bar\",,  \"ContractOI\", \"D\", \"-2\",,,,,\"T\"))","v":708},{"$f":"IF(LEFT(RTD(\"cqg.rtd\", ,\"ContractData\",B76, \"LastTrade\",, \"T\"),3)=\"768\",\"\",IFERROR(IF(L76>M76,\"+\"&L76-M76,L76-M76)*1,\"\"))","v":2}]
[8400,"C.US.CLEJ268400",{"$f":"IF(LEFT(RTD(\"cqg.rtd\", ,\"ContractData\",B77, \"LastTrade\",, \"T\"),3)=\"768\",\"\",RTD(\"cqg.rtd\", ,\"ContractData\",B77, \"LastTrade\",, \"T\"))","v":13.39},{"$f":"IF(C77=\"\",\"\",RTD(\"cqg.rtd\", ,\"ContractData\",B77, \"NetLastTrade\",, \"T\"))","v":4.8800000000000008},{"$f":"IF(LEFT(RTD(\"cqg.rtd\", ,\"ContractData\",B77, \"LastTrade\",, \"T\"),3)=\"768\",\"\",RTD(\"cqg.rtd\", ,\"ContractData\",B77, \"MT_LastBidVolume\",, \"T\"))","v":2},{"$f":"IF(LEFT(RTD(\"cqg.rtd\", ,\"ContractData\",B77, \"LastTrade\",, \"T\"),3)=\"768\",\"\",RTD(\"cqg.rtd\", ,\"ContractData\",B77, \"Bid\",, \"T\"))","v":10.86},{"$f":"IF(LEFT(RTD(\"cqg.rtd\", ,\"ContractData\",B77, \"LastTrade\",, \"T\"),3)=\"768\",\"\",RTD(\"cqg.rtd\", ,\"ContractData\",B77, \"Ask\",, \"T\"))","v":11},{"$f":"IF(LEFT(RTD(\"cqg.rtd\", ,\"ContractData\",B77, \"LastTrade\",, \"T\"),3)=\"768\",\"\",RTD(\"cqg.rtd\", ,\"ContractData\",B77, \"MT_LastAskVolume\",, \"T\"))","v":2},{"$f":"IF(LEFT(RTD(\"cqg.rtd\", ,\"ContractData\",B77, \"LastTrade\",, \"T\"),3)=\"768\",\"\",RTD(\"cqg.rtd\", ,\"ContractData\",B77, \"T_CVol\",, \"T\"))","v":2},{"$f":"IF(LEFT(RTD(\"cqg.rtd\", ,\"ContractData\",B77, \"LastTrade\",, \"T\"),3)=\"768\",\"\",RTD(\"cqg.rtd\", ,\"ContractData\",B77, \"Y_CVol\",, \"T\"))","v":214},{"$f":"IF(LEFT(RTD(\"cqg.rtd\", ,\"ContractData\",B77, \"LastTrade\",, \"T\"),3)=\"768\",\"\",IFERROR(IF(I77>J77,\"+\"&I77-J77,I77-J77)*1,\"\"))","v":-212},{"$f":"IF(LEFT(RTD(\"cqg.rtd\", ,\"ContractData\",B77, \"LastTrade\",, \"T\"),3)=\"768\",\"\",RTD(\"cqg.rtd\",,\"StudyData\",B77,  \"Bar\",,  \"ContractOI\", \"D\", \"-1\",,,,,\"T\"))","v":1641},{"$f":"IF(LEFT(RTD(\"cqg.rtd\", ,\"ContractData\",B77, \"LastTrade\",, \"T\"),3)=\"768\",\"\",RTD(\"cqg.rtd\",,\"StudyData\",B77,  \"Bar\",,  \"ContractOI\", \"D\", \"-2\",,,,,\"T\"))","v":1649},{"$f":"IF(LEFT(RTD(\"cqg.rtd\", ,\"ContractData\",B77, \"LastTrade\",, \"T\"),3)=\"768\",\"\",IFERROR(IF(L77>M77,\"+\"&L77-M77,L77-M77)*1,\"\"))","v":-8}]
[{"$f":"A79-$A$7","v":8450},{"$f":"LEFT(B79,FIND(A79,B79)-1)&A78","v":"C.US.CLEJ268450"},{"$f":"IF(LEFT(RTD(\"cqg.rtd\", ,\"ContractData\",B78, \"LastTrade\",, \"T\"),3)=\"768\",\"\",RTD(\"cqg.rtd\", ,\"ContractData\",B78, \"LastTrade\",, \"T\"))","v":8.73},{"$f":"IF(C78=\"\",\"\",RTD(\"cqg.rtd\", ,\"ContractData\",B78, \"NetLastTrade\",, \"T\"))","v":0.46000000000000085},{"$f":"IF(LEFT(RTD(\"cqg.rtd\", ,\"ContractData\",B78, \"LastTrade\",, \"T\"),3)=\"768\",\"\",RTD(\"cqg.rtd\", ,\"ContractData\",B78, \"MT_LastBidVolume\",, \"T\"))","v":1},{"$f":"IF(LEFT(RTD(\"cqg.rtd\", ,\"ContractData\",B78, \"LastTrade\",, \"T\"),3)=\"768\",\"\",RTD(\"cqg.rtd\", ,\"ContractData\",B78, \"Bid\",, \"T\"))","v":10.57},{"$f":"IF(LEFT(RTD(\"cqg.rtd\", ,\"ContractData\",B78, \"LastTrade\",, \"T\"),3)=\"768\",\"\",RTD(\"cqg.rtd\", ,\"ContractData\",B78, \"Ask\",, \"T\"))","v":10.700000000000001},{"$f":"IF(LEFT(RTD(\"cqg.rtd\", ,\"ContractData\",B78, \"LastTrade\",, \"T\"),3)=\"768\",\"\",RTD(\"cqg.rtd\", ,\"ContractData\",B78, \"MT_LastAskVolume\",, \"T\"))","v":1},{"$f":"IF(LEFT(RTD(\"cqg.rtd\", ,\"ContractData\",B78, \"LastTrade\",, \"T\"),3)=\"768\",\"\",RTD(\"cqg.rtd\", ,\"ContractData\",B78, \"T_CVol\",, \"T\"))","v":0},{"$f":"IF(LEFT(RTD(\"cqg.rtd\", ,\"ContractData\",B78, \"LastTrade\",, \"T\"),3)=\"768\",\"\",RTD(\"cqg.rtd\", ,\"ContractData\",B78, \"Y_CVol\",, \"T\"))","v":22},{"$f":"IF(LEFT(RTD(\"cqg.rtd\", ,\"ContractData\",B78, \"LastTrade\",, \"T\"),3)=\"768\",\"\",IFERROR(IF(I78>J78,\"+\"&I78-J78,I78-J78)*1,\"\"))","v":-22},{"$f":"IF(LEFT(RTD(\"cqg.rtd\", ,\"ContractData\",B78, \"LastTrade\",, \"T\"),3)=\"768\",\"\",RTD(\"cqg.rtd\",,\"StudyData\",B78,  \"Bar\",,  \"ContractOI\", \"D\", \"-1\",,,,,\"T\"))","v":267},{"$f":"IF(LEFT(RTD(\"cqg.rtd\", ,\"ContractData\",B78, \"LastTrade\",, \"T\"),3)=\"768\",\"\",RTD(\"cqg.rtd\",,\"StudyData\",B78,  \"Bar\",,  \"ContractOI\", \"D\", \"-2\",,,,,\"T\"))","v":266},{"$f":"IF(LEFT(RTD(\"cqg.rtd\", ,\"ContractData\",B78, \"LastTrade\",, \"T\"),3)=\"768\",\"\",IFERROR(IF(L78>M78,\"+\"&L78-M78,L78-M78)*1,\"\"))","v":1}]
[{"$f":"A80-$A$7","v":8500},"C.US.CLEJ268500",{"$f":"IF(LEFT(RTD(\"cqg.rtd\", ,\"ContractData\",B79, \"LastTrade\",, \"T\"),3)=\"768\",\"\",RTD(\"cqg.rtd\", ,\"ContractData\",B79, \"LastTrade\",, \"T\"))","v":10.35},{"$f":"IF(C79=\"\",\"\",RTD(\"cqg.rtd\", ,\"ContractData\",B79, \"NetLastTrade\",, \"T\"))","v":2.2999999999999989},{"$f":"IF(LEFT(RTD(\"cqg.rtd\", ,\"ContractData\",B79, \"LastTrade\",, \"T\"),3)=\"768\",\"\",RTD(\"cqg.rtd\", ,\"ContractData\",B79, \"MT_LastBidVolume\",, \"T\"))","v":2},{"$f":"IF(LEFT(RTD(\"cqg.rtd\", ,\"ContractData\",B79, \"LastTrade\",, \"T\"),3)=\"768\",\"\",RTD(\"cqg.rtd\", ,\"ContractData\",B79, \"Bid\",, \"T\"))","v":10.27},{"$f":"IF(LEFT(RTD(\"cqg.rtd\", ,\"ContractData\",B79, \"LastTrade\",, \"T\"),3)=\"768\",\"\",RTD(\"cqg.rtd\", ,\"ContractData\",B79, \"Ask\",, \"T\"))","v":10.42},{"$f":"IF(LEFT(RTD(\"cqg.rtd\", ,\"ContractData\",B79, \"LastTrade\",, \"T\"),3)=\"768\",\"\",RTD(\"cqg.rtd\", ,\"ContractData\",B79, \"MT_LastAskVolume\",, \"T\"))","v":2},{"$f":"IF(LEFT(RTD(\"cqg.rtd\", ,\"ContractData\",B79, \"LastTrade\",, \"T\"),3)=\"768\",\"\",RTD(\"cqg.rtd\", ,\"ContractData\",B79, \"T_CVol\",, \"T\"))","v":205},{"$f":"IF(LEFT(RTD(\"cqg.rtd\", ,\"ContractData\",B79, \"LastTrade\",, \"T\"),3)=\"768\",\"\",RTD(\"cqg.rtd\", ,\"ContractData\",B79, \"Y_CVol\",, \"T\"))","v":1238},{"$f":"IF(LEFT(RTD(\"cqg.rtd\", ,\"ContractData\",B79, \"LastTrade\",, \"T\"),3)=\"768\",\"\",IFERROR(IF(I79>J79,\"+\"&I79-J79,I79-J79)*1,\"\"))","v":-1033},{"$f":"IF(LEFT(RTD(\"cqg.rtd\", ,\"ContractData\",B79, \"LastTrade\",, \"T\"),3)=\"768\",\"\",RTD(\"cqg.rtd\",,\"StudyData\",B79,  \"Bar\",,  \"ContractOI\", \"D\", \"-1\",,,,,\"T\"))","v":36667},{"$f":"IF(LEFT(RTD(\"cqg.rtd\", ,\"ContractData\",B79, \"LastTrade\",, \"T\"),3)=\"768\",\"\",RTD(\"cqg.rtd\",,\"StudyData\",B79,  \"Bar\",,  \"ContractOI\", \"D\", \"-2\",,,,,\"T\"))","v":36716},{"$f":"IF(LEFT(RTD(\"cqg.rtd\", ,\"ContractData\",B79, \"LastTrade\",, \"T\"),3)=\"768\",\"\",IFERROR(IF(L79>M79,\"+\"&L79-M79,L79-M79)*1,\"\"))","v":-49}]
[8550,"C.US.CLEJ268550",{"$f":"IF(LEFT(RTD(\"cqg.rtd\", ,\"ContractData\",B80, \"LastTrade\",, \"T\"),3)=\"768\",\"\",RTD(\"cqg.rtd\", ,\"ContractData\",B80, \"LastTrade\",, \"T\"))","v":7.97},{"$f":"IF(C80=\"\",\"\",RTD(\"cqg.rtd\", ,\"ContractData\",B80, \"NetLastTrade\",, \"T\"))","v":0.12999999999999989},{"$f":"IF(LEFT(RTD(\"cqg.rtd\", ,\"ContractData\",B80, \"LastTrade\",, \"T\"),3)=\"768\",\"\",RTD(\"cqg.rtd\", ,\"ContractData\",B80, \"MT_LastBidVolume\",, \"T\"))","v":3},{"$f":"IF(LEFT(RTD(\"cqg.rtd\", ,\"ContractData\",B80, \"LastTrade\",, \"T\"),3)=\"768\",\"\",RTD(\"cqg.rtd\", ,\"ContractData\",B80, \"Bid\",, \"T\"))","v":10.01},{"$f":"IF(LEFT(RTD(\"cqg.rtd\", ,\"ContractData\",B80, \"LastTrade\",, \"T\"),3)=\"768\",\"\",RTD(\"cqg.rtd\", ,\"ContractData\",B80, \"Ask\",, \"T\"))","v":10.14},{"$f":"IF(LEFT(RTD(\"cqg.rtd\", ,\"ContractData\",B80, \"LastTrade\",, \"T\"),3)=\"768\",\"\",RTD(\"cqg.rtd\", ,\"ContractData\",B80, \"MT_LastAskVolume\",, \"T\"))","v":2},{"$f":"IF(LEFT(RTD(\"cqg.rtd\", ,\"ContractData\",B80, \"LastTrade\",, \"T\"),3)=\"768\",\"\",RTD(\"cqg.rtd\", ,\"ContractData\",B80, \"T_CVol\",, \"T\"))","v":1},{"$f":"IF(LEFT(RTD(\"cqg.rtd\", ,\"ContractData\",B80, \"LastTrade\",, \"T\"),3)=\"768\",\"\",RTD(\"cqg.rtd\", ,\"ContractData\",B80, \"Y_CVol\",, \"T\"))","v":17},{"$f":"IF(LEFT(RTD(\"cqg.rtd\", ,\"ContractData\",B80, \"LastTrade\",, \"T\"),3)=\"768\",\"\",IFERROR(IF(I80>J80,\"+\"&I80-J80,I80-J80)*1,\"\"))","v":-16},{"$f":"IF(LEFT(RTD(\"cqg.rtd\", ,\"ContractData\",B80, \"LastTrade\",, \"T\"),3)=\"768\",\"\",RTD(\"cqg.rtd\",,\"StudyData\",B80,  \"Bar\",,  \"ContractOI\", \"D\", \"-1\",,,,,\"T\"))","v":709},{"$f":"IF(LEFT(RTD(\"cqg.rtd\", ,\"ContractData\",B80, \"LastTrade\",, \"T\"),3)=\"768\",\"\",RTD(\"cqg.rtd\",,\"StudyData\",B80,  \"Bar\",,  \"ContractOI\", \"D\", \"-2\",,,,,\"T\"))","v":712},{"$f":"IF(LEFT(RTD(\"cqg.rtd\", ,\"ContractData\",B80, \"LastTrade\",, \"T\"),3)=\"768\",\"\",IFERROR(IF(L80>M80,\"+\"&L80-M80,L80-M80)*1,\"\"))","v":-3}]
[8600,"C.US.CLEJ268600",{"$f":"IF(LEFT(RTD(\"cqg.rtd\", ,\"ContractData\",B81, \"LastTrade\",, \"T\"),3)=\"768\",\"\",RTD(\"cqg.rtd\", ,\"ContractData\",B81, \"LastTrade\",, \"T\"))","v":9.11},{"$f":"IF(C81=\"\",\"\",RTD(\"cqg.rtd\", ,\"ContractData\",B81, \"NetLastTrade\",, \"T\"))","v":1.4799999999999995},{"$f":"IF(LEFT(RTD(\"cqg.rtd\", ,\"ContractData\",B81, \"LastTrade\",, \"T\"),3)=\"768\",\"\",RTD(\"cqg.rtd\", ,\"ContractData\",B81, \"MT_LastBidVolume\",, \"T\"))","v":1},{"$f":"IF(LEFT(RTD(\"cqg.rtd\", ,\"ContractData\",B81, \"LastTrade\",, \"T\"),3)=\"768\",\"\",RTD(\"cqg.rtd\", ,\"ContractData\",B81, \"Bid\",, \"T\"))","v":9.75},{"$f":"IF(LEFT(RTD(\"cqg.rtd\", ,\"ContractData\",B81, \"LastTrade\",, \"T\"),3)=\"768\",\"\",RTD(\"cqg.rtd\", ,\"ContractData\",B81, \"Ask\",, \"T\"))","v":9.870000000000001},{"$f":"IF(LEFT(RTD(\"cqg.rtd\", ,\"ContractData\",B81, \"LastTrade\",, \"T\"),3)=\"768\",\"\",RTD(\"cqg.rtd\", ,\"ContractData\",B81, \"MT_LastAskVolume\",, \"T\"))","v":1},{"$f":"IF(LEFT(RTD(\"cqg.rtd\", ,\"ContractData\",B81, \"LastTrade\",, \"T\"),3)=\"768\",\"\",RTD(\"cqg.rtd\", ,\"ContractData\",B81, \"T_CVol\",, \"T\"))","v":39},{"$f":"IF(LEFT(RTD(\"cqg.rtd\", ,\"ContractData\",B81, \"LastTrade\",, \"T\"),3)=\"768\",\"\",RTD(\"cqg.rtd\", ,\"ContractData\",B81, \"Y_CVol\",, \"T\"))","v":132},{"$f":"IF(LEFT(RTD(\"cqg.rtd\", ,\"ContractData\",B81, \"LastTrade\",, \"T\"),3)=\"768\",\"\",IFERROR(IF(I81>J81,\"+\"&I81-J81,I81-J81)*1,\"\"))","v":-93},{"$f":"IF(LEFT(RTD(\"cqg.rtd\", ,\"ContractData\",B81, \"LastTrade\",, \"T\"),3)=\"768\",\"\",RTD(\"cqg.rtd\",,\"StudyData\",B81,  \"Bar\",,  \"ContractOI\", \"D\", \"-1\",,,,,\"T\"))","v":697},{"$f":"IF(LEFT(RTD(\"cqg.rtd\", ,\"ContractData\",B81, \"LastTrade\",, \"T\"),3)=\"768\",\"\",RTD(\"cqg.rtd\",,\"StudyData\",B81,  \"Bar\",,  \"ContractOI\", \"D\", \"-2\",,,,,\"T\"))","v":711},{"$f":"IF(LEFT(RTD(\"cqg.rtd\", ,\"ContractData\",B81, \"LastTrade\",, \"T\"),3)=\"768\",\"\",IFERROR(IF(L81>M81,\"+\"&L81-M81,L81-M81)*1,\"\"))","v":-14}]
[8650,"C.US.CLEJ268650",{"$f":"IF(LEFT(RTD(\"cqg.rtd\", ,\"ContractData\",B82, \"LastTrade\",, \"T\"),3)=\"768\",\"\",RTD(\"cqg.rtd\", ,\"ContractData\",B82, \"LastTrade\",, \"T\"))","v":7.97},{"$f":"IF(C82=\"\",\"\",RTD(\"cqg.rtd\", ,\"ContractData\",B82, \"NetLastTrade\",, \"T\"))","v":0.54},{"$f":"IF(LEFT(RTD(\"cqg.rtd\", ,\"ContractData\",B82, \"LastTrade\",, \"T\"),3)=\"768\",\"\",RTD(\"cqg.rtd\", ,\"ContractData\",B82, \"MT_LastBidVolume\",, \"T\"))","v":1},{"$f":"IF(LEFT(RTD(\"cqg.rtd\", ,\"ContractData\",B82, \"LastTrade\",, \"T\"),3)=\"768\",\"\",RTD(\"cqg.rtd\", ,\"ContractData\",B82, \"Bid\",, \"T\"))","v":9.48},{"$f":"IF(LEFT(RTD(\"cqg.rtd\", ,\"ContractData\",B82, \"LastTrade\",, \"T\"),3)=\"768\",\"\",RTD(\"cqg.rtd\", ,\"ContractData\",B82, \"Ask\",, \"T\"))","v":9.61},{"$f":"IF(LEFT(RTD(\"cqg.rtd\", ,\"ContractData\",B82, \"LastTrade\",, \"T\"),3)=\"768\",\"\",RTD(\"cqg.rtd\", ,\"ContractData\",B82, \"MT_LastAskVolume\",, \"T\"))","v":2},{"$f":"IF(LEFT(RTD(\"cqg.rtd\", ,\"ContractData\",B82, \"LastTrade\",, \"T\"),3)=\"768\",\"\",RTD(\"cqg.rtd\", ,\"ContractData\",B82, \"T_CVol\",, \"T\"))","v":0},{"$f":"IF(LEFT(RTD(\"cqg.rtd\", ,\"ContractData\",B82, \"LastTrade\",, \"T\"),3)=\"768\",\"\",RTD(\"cqg.rtd\", ,\"ContractData\",B82, \"Y_CVol\",, \"T\"))","v":104},{"$f":"IF(LEFT(RTD(\"cqg.rtd\", ,\"ContractData\",B82, \"LastTrade\",, \"T\"),3)=\"768\",\"\",IFERROR(IF(I82>J82,\"+\"&I82-J82,I82-J82)*1,\"\"))","v":-104},{"$f":"IF(LEFT(RTD(\"cqg.rtd\", ,\"ContractData\",B82, \"LastTrade\",, \"T\"),3)=\"768\",\"\",RTD(\"cqg.rtd\",,\"StudyData\",B82,  \"Bar\",,  \"ContractOI\", \"D\", \"-1\",,,,,\"T\"))","v":1565},{"$f":"IF(LEFT(RTD(\"cqg.rtd\", ,\"ContractData\",B82, \"LastTrade\",, \"T\"),3)=\"768\",\"\",RTD(\"cqg.rtd\",,\"StudyData\",B82,  \"Bar\",,  \"ContractOI\", \"D\", \"-2\",,,,,\"T\"))","v":1566},{"$f":"IF(LEFT(RTD(\"cqg.rtd\", ,\"ContractData\",B82, \"LastTrade\",, \"T\"),3)=\"768\",\"\",IFERROR(IF(L82>M82,\"+\"&L82-M82,L82-M82)*1,\"\"))","v":-1}]
[8700,"C.US.CLEJ268700",{"$f":"IF(LEFT(RTD(\"cqg.rtd\", ,\"ContractData\",B83, \"LastTrade\",, \"T\"),3)=\"768\",\"\",RTD(\"cqg.rtd\", ,\"ContractData\",B83, \"LastTrade\",, \"T\"))","v":9.1},{"$f":"IF(C83=\"\",\"\",RTD(\"cqg.rtd\", ,\"ContractData\",B83, \"NetLastTrade\",, \"T\"))","v":1.8599999999999994},{"$f":"IF(LEFT(RTD(\"cqg.rtd\", ,\"ContractData\",B83, \"LastTrade\",, \"T\"),3)=\"768\",\"\",RTD(\"cqg.rtd\", ,\"ContractData\",B83, \"MT_LastBidVolume\",, \"T\"))","v":2},{"$f":"IF(LEFT(RTD(\"cqg.rtd\", ,\"ContractData\",B83, \"LastTrade\",, \"T\"),3)=\"768\",\"\",RTD(\"cqg.rtd\", ,\"ContractData\",B83, \"Bid\",, \"T\"))","v":9.23},{"$f":"IF(LEFT(RTD(\"cqg.rtd\", ,\"ContractData\",B83, \"LastTrade\",, \"T\"),3)=\"768\",\"\",RTD(\"cqg.rtd\", ,\"ContractData\",B83, \"Ask\",, \"T\"))","v":9.35},{"$f":"IF(LEFT(RTD(\"cqg.rtd\", ,\"ContractData\",B83, \"LastTrade\",, \"T\"),3)=\"768\",\"\",RTD(\"cqg.rtd\", ,\"ContractData\",B83, \"MT_LastAskVolume\",, \"T\"))","v":1},{"$f":"IF(LEFT(RTD(\"cqg.rtd\", ,\"ContractData\",B83, \"LastTrade\",, \"T\"),3)=\"768\",\"\",RTD(\"cqg.rtd\", ,\"ContractData\",B83, \"T_CVol\",, \"T\"))","v":50},{"$f":"IF(LEFT(RTD(\"cqg.rtd\", ,\"ContractData\",B83, \"LastTrade\",, \"T\"),3)=\"768\",\"\",RTD(\"cqg.rtd\", ,\"ContractData\",B83, \"Y_CVol\",, \"T\"))","v":268},{"$f":"IF(LEFT(RTD(\"cqg.rtd\", ,\"ContractData\",B83, \"LastTrade\",, \"T\"),3)=\"768\",\"\",IFERROR(IF(I83>J83,\"+\"&I83-J83,I83-J83)*1,\"\"))","v":-218},{"$f":"IF(LEFT(RTD(\"cqg.rtd\", ,\"ContractData\",B83, \"LastTrade\",, \"T\"),3)=\"768\",\"\",RTD(\"cqg.rtd\",,\"StudyData\",B83,  \"Bar\",,  \"ContractOI\", \"D\", \"-1\",,,,,\"T\"))","v":1618},{"$f":"IF(LEFT(RTD(\"cqg.rtd\", ,\"ContractData\",B83, \"LastTrade\",, \"T\"),3)=\"768\",\"\",RTD(\"cqg.rtd\",,\"StudyData\",B83,  \"Bar\",,  \"ContractOI\", \"D\", \"-2\",,,,,\"T\"))","v":1674},{"$f":"IF(LEFT(RTD(\"cqg.rtd\", ,\"ContractData\",B83, \"LastTrade\",, \"T\"),3)=\"768\",\"\",IFERROR(IF(L83>M83,\"+\"&L83-M83,L83-M83)*1,\"\"))","v":-56}]
[8750,"C.US.CLEJ268750",{"$f":"IF(LEFT(RTD(\"cqg.rtd\", ,\"ContractData\",B84, \"LastTrade\",, \"T\"),3)=\"768\",\"\",RTD(\"cqg.rtd\", ,\"ContractData\",B84, \"LastTrade\",, \"T\"))","v":11.26},{"$f":"IF(C84=\"\",\"\",RTD(\"cqg.rtd\", ,\"ContractData\",B84, \"NetLastTrade\",, \"T\"))","v":4.1899999999999995},{"$f":"IF(LEFT(RTD(\"cqg.rtd\", ,\"ContractData\",B84, \"LastTrade\",, \"T\"),3)=\"768\",\"\",RTD(\"cqg.rtd\", ,\"ContractData\",B84, \"MT_LastBidVolume\",, \"T\"))","v":2},{"$f":"IF(LEFT(RTD(\"cqg.rtd\", ,\"ContractData\",B84, \"LastTrade\",, \"T\"),3)=\"768\",\"\",RTD(\"cqg.rtd\", ,\"ContractData\",B84, \"Bid\",, \"T\"))","v":8.9700000000000006},{"$f":"IF(LEFT(RTD(\"cqg.rtd\", ,\"ContractData\",B84, \"LastTrade\",, \"T\"),3)=\"768\",\"\",RTD(\"cqg.rtd\", ,\"ContractData\",B84, \"Ask\",, \"T\"))","v":9.1},{"$f":"IF(LEFT(RTD(\"cqg.rtd\", ,\"ContractData\",B84, \"LastTrade\",, \"T\"),3)=\"768\",\"\",RTD(\"cqg.rtd\", ,\"ContractData\",B84, \"MT_LastAskVolume\",, \"T\"))","v":4},{"$f":"IF(LEFT(RTD(\"cqg.rtd\", ,\"ContractData\",B84, \"LastTrade\",, \"T\"),3)=\"768\",\"\",RTD(\"cqg.rtd\", ,\"ContractData\",B84, \"T_CVol\",, \"T\"))","v":17},{"$f":"IF(LEFT(RTD(\"cqg.rtd\", ,\"ContractData\",B84, \"LastTrade\",, \"T\"),3)=\"768\",\"\",RTD(\"cqg.rtd\", ,\"ContractData\",B84, \"Y_CVol\",, \"T\"))","v":64},{"$f":"IF(LEFT(RTD(\"cqg.rtd\", ,\"ContractData\",B84, \"LastTrade\",, \"T\"),3)=\"768\",\"\",IFERROR(IF(I84>J84,\"+\"&I84-J84,I84-J84)*1,\"\"))","v":-47},{"$f":"IF(LEFT(RTD(\"cqg.rtd\", ,\"ContractData\",B84, \"LastTrade\",, \"T\"),3)=\"768\",\"\",RTD(\"cqg.rtd\",,\"StudyData\",B84,  \"Bar\",,  \"ContractOI\", \"D\", \"-1\",,,,,\"T\"))","v":552},{"$f":"IF(LEFT(RTD(\"cqg.rtd\", ,\"ContractData\",B84, \"LastTrade\",, \"T\"),3)=\"768\",\"\",RTD(\"cqg.rtd\",,\"StudyData\",B84,  \"Bar\",,  \"ContractOI\", \"D\", \"-2\",,,,,\"T\"))","v":549},{"$f":"IF(LEFT(RTD(\"cqg.rtd\", ,\"ContractData\",B84, \"LastTrade\",, \"T\"),3)=\"768\",\"\",IFERROR(IF(L84>M84,\"+\"&L84-M84,L84-M84)*1,\"\"))","v":3}]
[8800,"C.US.CLEJ268800",{"$f":"IF(LEFT(RTD(\"cqg.rtd\", ,\"ContractData\",B85, \"LastTrade\",, \"T\"),3)=\"768\",\"\",RTD(\"cqg.rtd\", ,\"ContractData\",B85, \"LastTrade\",, \"T\"))","v":8.41},{"$f":"IF(C85=\"\",\"\",RTD(\"cqg.rtd\", ,\"ContractData\",B85, \"NetLastTrade\",, \"T\"))","v":1.5199999999999996},{"$f":"IF(LEFT(RTD(\"cqg.rtd\", ,\"ContractData\",B85, \"LastTrade\",, \"T\"),3)=\"768\",\"\",RTD(\"cqg.rtd\", ,\"ContractData\",B85, \"MT_LastBidVolume\",, \"T\"))","v":2},{"$f":"IF(LEFT(RTD(\"cqg.rtd\", ,\"ContractData\",B85, \"LastTrade\",, \"T\"),3)=\"768\",\"\",RTD(\"cqg.rtd\", ,\"ContractData\",B85, \"Bid\",, \"T\"))","v":8.73},{"$f":"IF(LEFT(RTD(\"cqg.rtd\", ,\"ContractData\",B85, \"LastTrade\",, \"T\"),3)=\"768\",\"\",RTD(\"cqg.rtd\", ,\"ContractData\",B85, \"Ask\",, \"T\"))","v":8.86},{"$f":"IF(LEFT(RTD(\"cqg.rtd\", ,\"ContractData\",B85, \"LastTrade\",, \"T\"),3)=\"768\",\"\",RTD(\"cqg.rtd\", ,\"ContractData\",B85, \"MT_LastAskVolume\",, \"T\"))","v":7},{"$f":"IF(LEFT(RTD(\"cqg.rtd\", ,\"ContractData\",B85, \"LastTrade\",, \"T\"),3)=\"768\",\"\",RTD(\"cqg.rtd\", ,\"ContractData\",B85, \"T_CVol\",, \"T\"))","v":27},{"$f":"IF(LEFT(RTD(\"cqg.rtd\", ,\"ContractData\",B85, \"LastTrade\",, \"T\"),3)=\"768\",\"\",RTD(\"cqg.rtd\", ,\"ContractData\",B85, \"Y_CVol\",, \"T\"))","v":2086},{"$f":"IF(LEFT(RTD(\"cqg.rtd\", ,\"ContractData\",B85, \"LastTrade\",, \"T\"),3)=\"768\",\"\",IFERROR(IF(I85>J85,\"+\"&I85-J85,I85-J85)*1,\"\"))","v":-2059},{"$f":"IF(LEFT(RTD(\"cqg.rtd\", ,\"ContractData\",B85, \"LastTrade\",, \"T\"),3)=\"768\",\"\",RTD(\"cqg.rtd\",,\"StudyData\",B85,  \"Bar\",,  \"ContractOI\", \"D\", \"-1\",,,,,\"T\"))","v":2788},{"$f":"IF(LEFT(RTD(\"cqg.rtd\", ,\"ContractData\",B85, \"LastTrade\",, \"T\"),3)=\"768\",\"\",RTD(\"cqg.rtd\",,\"StudyData\",B85,  \"Bar\",,  \"ContractOI\", \"D\", \"-2\",,,,,\"T\"))","v":1639},{"$f":"IF(LEFT(RTD(\"cqg.rtd\", ,\"ContractData\",B85, \"LastTrade\",, \"T\"),3)=\"768\",\"\",IFERROR(IF(L85>M85,\"+\"&L85-M85,L85-M85)*1,\"\"))","v":1149}]
[8850,"C.US.CLEJ268850",{"$f":"IF(LEFT(RTD(\"cqg.rtd\", ,\"ContractData\",B86, \"LastTrade\",, \"T\"),3)=\"768\",\"\",RTD(\"cqg.rtd\", ,\"ContractData\",B86, \"LastTrade\",, \"T\"))","v":11.02},{"$f":"IF(C86=\"\",\"\",RTD(\"cqg.rtd\", ,\"ContractData\",B86, \"NetLastTrade\",, \"T\"))","v":4.3099999999999996},{"$f":"IF(LEFT(RTD(\"cqg.rtd\", ,\"ContractData\",B86, \"LastTrade\",, \"T\"),3)=\"768\",\"\",RTD(\"cqg.rtd\", ,\"ContractData\",B86, \"MT_LastBidVolume\",, \"T\"))","v":4},{"$f":"IF(LEFT(RTD(\"cqg.rtd\", ,\"ContractData\",B86, \"LastTrade\",, \"T\"),3)=\"768\",\"\",RTD(\"cqg.rtd\", ,\"ContractData\",B86, \"Bid\",, \"T\"))","v":8.5},{"$f":"IF(LEFT(RTD(\"cqg.rtd\", ,\"ContractData\",B86, \"LastTrade\",, \"T\"),3)=\"768\",\"\",RTD(\"cqg.rtd\", ,\"ContractData\",B86, \"Ask\",, \"T\"))","v":8.620000000000001},{"$f":"IF(LEFT(RTD(\"cqg.rtd\", ,\"ContractData\",B86, \"LastTrade\",, \"T\"),3)=\"768\",\"\",RTD(\"cqg.rtd\", ,\"ContractData\",B86, \"MT_LastAskVolume\",, \"T\"))","v":9},{"$f":"IF(LEFT(RTD(\"cqg.rtd\", ,\"ContractData\",B86, \"LastTrade\",, \"T\"),3)=\"768\",\"\",RTD(\"cqg.rtd\", ,\"ContractData\",B86, \"T_CVol\",, \"T\"))","v":5},{"$f":"IF(LEFT(RTD(\"cqg.rtd\", ,\"ContractData\",B86, \"LastTrade\",, \"T\"),3)=\"768\",\"\",RTD(\"cqg.rtd\", ,\"ContractData\",B86, \"Y_CVol\",, \"T\"))","v":264},{"$f":"IF(LEFT(RTD(\"cqg.rtd\", ,\"ContractData\",B86, \"LastTrade\",, \"T\"),3)=\"768\",\"\",IFERROR(IF(I86>J86,\"+\"&I86-J86,I86-J86)*1,\"\"))","v":-259},{"$f":"IF(LEFT(RTD(\"cqg.rtd\", ,\"ContractData\",B86, \"LastTrade\",, \"T\"),3)=\"768\",\"\",RTD(\"cqg.rtd\",,\"StudyData\",B86,  \"Bar\",,  \"ContractOI\", \"D\", \"-1\",,,,,\"T\"))","v":1422},{"$f":"IF(LEFT(RTD(\"cqg.rtd\", ,\"ContractData\",B86, \"LastTrade\",, \"T\"),3)=\"768\",\"\",RTD(\"cqg.rtd\",,\"StudyData\",B86,  \"Bar\",,  \"ContractOI\", \"D\", \"-2\",,,,,\"T\"))","v":1247},{"$f":"IF(LEFT(RTD(\"cqg.rtd\", ,\"ContractData\",B86, \"LastTrade\",, \"T\"),3)=\"768\",\"\",IFERROR(IF(L86>M86,\"+\"&L86-M86,L86-M86)*1,\"\"))","v":175}]
[8900,"C.US.CLEJ268900",{"$f":"IF(LEFT(RTD(\"cqg.rtd\", ,\"ContractData\",B87, \"LastTrade\",, \"T\"),3)=\"768\",\"\",RTD(\"cqg.rtd\", ,\"ContractData\",B87, \"LastTrade\",, \"T\"))","v":8.2200000000000006},{"$f":"IF(C87=\"\",\"\",RTD(\"cqg.rtd\", ,\"ContractData\",B87, \"NetLastTrade\",, \"T\"))","v":1.7000000000000002},{"$f":"IF(LEFT(RTD(\"cqg.rtd\", ,\"ContractData\",B87, \"LastTrade\",, \"T\"),3)=\"768\",\"\",RTD(\"cqg.rtd\", ,\"ContractData\",B87, \"MT_LastBidVolume\",, \"T\"))","v":4},{"$f":"IF(LEFT(RTD(\"cqg.rtd\", ,\"ContractData\",B87, \"LastTrade\",, \"T\"),3)=\"768\",\"\",RTD(\"cqg.rtd\", ,\"ContractData\",B87, \"Bid\",, \"T\"))","v":8.27},{"$f":"IF(LEFT(RTD(\"cqg.rtd\", ,\"ContractData\",B87, \"LastTrade\",, \"T\"),3)=\"768\",\"\",RTD(\"cqg.rtd\", ,\"ContractData\",B87, \"Ask\",, \"T\"))","v":8.39},{"$f":"IF(LEFT(RTD(\"cqg.rtd\", ,\"ContractData\",B87, \"LastTrade\",, \"T\"),3)=\"768\",\"\",RTD(\"cqg.rtd\", ,\"ContractData\",B87, \"MT_LastAskVolume\",, \"T\"))","v":13},{"$f":"IF(LEFT(RTD(\"cqg.rtd\", ,\"ContractData\",B87, \"LastTrade\",, \"T\"),3)=\"768\",\"\",RTD(\"cqg.rtd\", ,\"ContractData\",B87, \"T_CVol\",, \"T\"))","v":33},{"$f":"IF(LEFT(RTD(\"cqg.rtd\", ,\"ContractData\",B87, \"LastTrade\",, \"T\"),3)=\"768\",\"\",RTD(\"cqg.rtd\", ,\"ContractData\",B87, \"Y_CVol\",, \"T\"))","v":279},{"$f":"IF(LEFT(RTD(\"cqg.rtd\", ,\"ContractData\",B87, \"LastTrade\",, \"T\"),3)=\"768\",\"\",IFERROR(IF(I87>J87,\"+\"&I87-J87,I87-J87)*1,\"\"))","v":-246},{"$f":"IF(LEFT(RTD(\"cqg.rtd\", ,\"ContractData\",B87, \"LastTrade\",, \"T\"),3)=\"768\",\"\",RTD(\"cqg.rtd\",,\"StudyData\",B87,  \"Bar\",,  \"ContractOI\", \"D\", \"-1\",,,,,\"T\"))","v":3187},{"$f":"IF(LEFT(RTD(\"cqg.rtd\", ,\"ContractData\",B87, \"LastTrade\",, \"T\"),3)=\"768\",\"\",RTD(\"cqg.rtd\",,\"StudyData\",B87,  \"Bar\",,  \"ContractOI\", \"D\", \"-2\",,,,,\"T\"))","v":3080},{"$f":"IF(LEFT(RTD(\"cqg.rtd\", ,\"ContractData\",B87, \"LastTrade\",, \"T\"),3)=\"768\",\"\",IFERROR(IF(L87>M87,\"+\"&L87-M87,L87-M87)*1,\"\"))","v":107}]
[8950,"C.US.CLEJ268950",{"$f":"IF(LEFT(RTD(\"cqg.rtd\", ,\"ContractData\",B88, \"LastTrade\",, \"T\"),3)=\"768\",\"\",RTD(\"cqg.rtd\", ,\"ContractData\",B88, \"LastTrade\",, \"T\"))","v":7.95},{"$f":"IF(C88=\"\",\"\",RTD(\"cqg.rtd\", ,\"ContractData\",B88, \"NetLastTrade\",, \"T\"))","v":1.6100000000000003},{"$f":"IF(LEFT(RTD(\"cqg.rtd\", ,\"ContractData\",B88, \"LastTrade\",, \"T\"),3)=\"768\",\"\",RTD(\"cqg.rtd\", ,\"ContractData\",B88, \"MT_LastBidVolume\",, \"T\"))","v":7},{"$f":"IF(LEFT(RTD(\"cqg.rtd\", ,\"ContractData\",B88, \"LastTrade\",, \"T\"),3)=\"768\",\"\",RTD(\"cqg.rtd\", ,\"ContractData\",B88, \"Bid\",, \"T\"))","v":8.0400000000000009},{"$f":"IF(LEFT(RTD(\"cqg.rtd\", ,\"ContractData\",B88, \"LastTrade\",, \"T\"),3)=\"768\",\"\",RTD(\"cqg.rtd\", ,\"ContractData\",B88, \"Ask\",, \"T\"))","v":8.17},{"$f":"IF(LEFT(RTD(\"cqg.rtd\", ,\"ContractData\",B88, \"LastTrade\",, \"T\"),3)=\"768\",\"\",RTD(\"cqg.rtd\", ,\"ContractData\",B88, \"MT_LastAskVolume\",, \"T\"))","v":28},{"$f":"IF(LEFT(RTD(\"cqg.rtd\", ,\"ContractData\",B88, \"LastTrade\",, \"T\"),3)=\"768\",\"\",RTD(\"cqg.rtd\", ,\"ContractData\",B88, \"T_CVol\",, \"T\"))","v":5},{"$f":"IF(LEFT(RTD(\"cqg.rtd\", ,\"ContractData\",B88, \"LastTrade\",, \"T\"),3)=\"768\",\"\",RTD(\"cqg.rtd\", ,\"ContractData\",B88, \"Y_CVol\",, \"T\"))","v":37},{"$f":"IF(LEFT(RTD(\"cqg.rtd\", ,\"ContractData\",B88, \"LastTrade\",, \"T\"),3)=\"768\",\"\",IFERROR(IF(I88>J88,\"+\"&I88-J88,I88-J88)*1,\"\"))","v":-32},{"$f":"IF(LEFT(RTD(\"cqg.rtd\", ,\"ContractData\",B88, \"LastTrade\",, \"T\"),3)=\"768\",\"\",RTD(\"cqg.rtd\",,\"StudyData\",B88,  \"Bar\",,  \"ContractOI\", \"D\", \"-1\",,,,,\"T\"))","v":257},{"$f":"IF(LEFT(RTD(\"cqg.rtd\", ,\"ContractData\",B88, \"LastTrade\",, \"T\"),3)=\"768\",\"\",RTD(\"cqg.rtd\",,\"StudyData\",B88,  \"Bar\",,  \"ContractOI\", \"D\", \"-2\",,,,,\"T\"))","v":243},{"$f":"IF(LEFT(RTD(\"cqg.rtd\", ,\"ContractData\",B88, \"LastTrade\",, \"T\"),3)=\"768\",\"\",IFERROR(IF(L88>M88,\"+\"&L88-M88,L88-M88)*1,\"\"))","v":14}]
[9000,"C.US.CLEJ269000",{"$f":"IF(LEFT(RTD(\"cqg.rtd\", ,\"ContractData\",B89, \"LastTrade\",, \"T\"),3)=\"768\",\"\",RTD(\"cqg.rtd\", ,\"ContractData\",B89, \"LastTrade\",, \"T\"))","v":8},{"$f":"IF(C89=\"\",\"\",RTD(\"cqg.rtd\", ,\"ContractData\",B89, \"NetLastTrade\",, \"T\"))","v":1.8399999999999999},{"$f":"IF(LEFT(RTD(\"cqg.rtd\", ,\"ContractData\",B89, \"LastTrade\",, \"T\"),3)=\"768\",\"\",RTD(\"cqg.rtd\", ,\"ContractData\",B89, \"MT_LastBidVolume\",, \"T\"))","v":6},{"$f":"IF(LEFT(RTD(\"cqg.rtd\", ,\"ContractData\",B89, \"LastTrade\",, \"T\"),3)=\"768\",\"\",RTD(\"cqg.rtd\", ,\"ContractData\",B89, \"Bid\",, \"T\"))","v":7.82},{"$f":"IF(LEFT(RTD(\"cqg.rtd\", ,\"ContractData\",B89, \"LastTrade\",, \"T\"),3)=\"768\",\"\",RTD(\"cqg.rtd\", ,\"ContractData\",B89, \"Ask\",, \"T\"))","v":7.95},{"$f":"IF(LEFT(RTD(\"cqg.rtd\", ,\"ContractData\",B89, \"LastTrade\",, \"T\"),3)=\"768\",\"\",RTD(\"cqg.rtd\", ,\"ContractData\",B89, \"MT_LastAskVolume\",, \"T\"))","v":30},{"$f":"IF(LEFT(RTD(\"cqg.rtd\", ,\"ContractData\",B89, \"LastTrade\",, \"T\"),3)=\"768\",\"\",RTD(\"cqg.rtd\", ,\"ContractData\",B89, \"T_CVol\",, \"T\"))","v":737},{"$f":"IF(LEFT(RTD(\"cqg.rtd\", ,\"ContractData\",B89, \"LastTrade\",, \"T\"),3)=\"768\",\"\",RTD(\"cqg.rtd\", ,\"ContractData\",B89, \"Y_CVol\",, \"T\"))","v":4784},{"$f":"IF(LEFT(RTD(\"cqg.rtd\", ,\"ContractData\",B89, \"LastTrade\",, \"T\"),3)=\"768\",\"\",IFERROR(IF(I89>J89,\"+\"&I89-J89,I89-J89)*1,\"\"))","v":-4047},{"$f":"IF(LEFT(RTD(\"cqg.rtd\", ,\"ContractData\",B89, \"LastTrade\",, \"T\"),3)=\"768\",\"\",RTD(\"cqg.rtd\",,\"StudyData\",B89,  \"Bar\",,  \"ContractOI\", \"D\", \"-1\",,,,,\"T\"))","v":15969},{"$f":"IF(LEFT(RTD(\"cqg.rtd\", ,\"ContractData\",B89, \"LastTrade\",, \"T\"),3)=\"768\",\"\",RTD(\"cqg.rtd\",,\"StudyData\",B89,  \"Bar\",,  \"ContractOI\", \"D\", \"-2\",,,,,\"T\"))","v":15562},{"$f":"IF(LEFT(RTD(\"cqg.rtd\", ,\"ContractData\",B89, \"LastTrade\",, \"T\"),3)=\"768\",\"\",IFERROR(IF(L89>M89,\"+\"&L89-M89,L89-M89)*1,\"\"))","v":407}]
[9050,"C.US.CLEJ269050",{"$f":"IF(LEFT(RTD(\"cqg.rtd\", ,\"ContractData\",B90, \"LastTrade\",, \"T\"),3)=\"768\",\"\",RTD(\"cqg.rtd\", ,\"ContractData\",B90, \"LastTrade\",, \"T\"))","v":7.8},{"$f":"IF(C90=\"\",\"\",RTD(\"cqg.rtd\", ,\"ContractData\",B90, \"NetLastTrade\",, \"T\"))","v":1.8199999999999994},{"$f":"IF(LEFT(RTD(\"cqg.rtd\", ,\"ContractData\",B90, \"LastTrade\",, \"T\"),3)=\"768\",\"\",RTD(\"cqg.rtd\", ,\"ContractData\",B90, \"MT_LastBidVolume\",, \"T\"))","v":22},{"$f":"IF(LEFT(RTD(\"cqg.rtd\", ,\"ContractData\",B90, \"LastTrade\",, \"T\"),3)=\"768\",\"\",RTD(\"cqg.rtd\", ,\"ContractData\",B90, \"Bid\",, \"T\"))","v":7.6000000000000005},{"$f":"IF(LEFT(RTD(\"cqg.rtd\", ,\"ContractData\",B90, \"LastTrade\",, \"T\"),3)=\"768\",\"\",RTD(\"cqg.rtd\", ,\"ContractData\",B90, \"Ask\",, \"T\"))","v":7.73},{"$f":"IF(LEFT(RTD(\"cqg.rtd\", ,\"ContractData\",B90, \"LastTrade\",, \"T\"),3)=\"768\",\"\",RTD(\"cqg.rtd\", ,\"ContractData\",B90, \"MT_LastAskVolume\",, \"T\"))","v":23},{"$f":"IF(LEFT(RTD(\"cqg.rtd\", ,\"ContractData\",B90, \"LastTrade\",, \"T\"),3)=\"768\",\"\",RTD(\"cqg.rtd\", ,\"ContractData\",B90, \"T_CVol\",, \"T\"))","v":10},{"$f":"IF(LEFT(RTD(\"cqg.rtd\", ,\"ContractData\",B90, \"LastTrade\",, \"T\"),3)=\"768\",\"\",RTD(\"cqg.rtd\", ,\"ContractData\",B90, \"Y_CVol\",, \"T\"))","v":76},{"$f":"IF(LEFT(RTD(\"cqg.rtd\", ,\"ContractData\",B90, \"LastTrade\",, \"T\"),3)=\"768\",\"\",IFERROR(IF(I90>J90,\"+\"&I90-J90,I90-J90)*1,\"\"))","v":-66},{"$f":"IF(LEFT(RTD(\"cqg.rtd\", ,\"ContractData\",B90, \"LastTrade\",, \"T\"),3)=\"768\",\"\",RTD(\"cqg.rtd\",,\"StudyData\",B90,  \"Bar\",,  \"ContractOI\", \"D\", \"-1\",,,,,\"T\"))","v":458},{"$f":"IF(LEFT(RTD(\"cqg.rtd\", ,\"ContractData\",B90, \"LastTrade\",, \"T\"),3)=\"768\",\"\",RTD(\"cqg.rtd\",,\"StudyData\",B90,  \"Bar\",,  \"ContractOI\", \"D\", \"-2\",,,,,\"T\"))","v":439},{"$f":"IF(LEFT(RTD(\"cqg.rtd\", ,\"ContractData\",B90, \"LastTrade\",, \"T\"),3)=\"768\",\"\",IFERROR(IF(L90>M90,\"+\"&L90-M90,L90-M90)*1,\"\"))","v":19}]
[9100,{"$f":"LEFT(B92,FIND(A92,B92)-1)&A91","v":"C.US.CLEJ269100"},{"$f":"IF(LEFT(RTD(\"cqg.rtd\", ,\"ContractData\",B91, \"LastTrade\",, \"T\"),3)=\"768\",\"\",RTD(\"cqg.rtd\", ,\"ContractData\",B91, \"LastTrade\",, \"T\"))","v":7.11},{"$f":"IF(C91=\"\",\"\",RTD(\"cqg.rtd\", ,\"ContractData\",B91, \"NetLastTrade\",, \"T\"))","v":1.29},{"$f":"IF(LEFT(RTD(\"cqg.rtd\", ,\"ContractData\",B91, \"LastTrade\",, \"T\"),3)=\"768\",\"\",RTD(\"cqg.rtd\", ,\"ContractData\",B91, \"MT_LastBidVolume\",, \"T\"))","v":6},{"$f":"IF(LEFT(RTD(\"cqg.rtd\", ,\"ContractData\",B91, \"LastTrade\",, \"T\"),3)=\"768\",\"\",RTD(\"cqg.rtd\", ,\"ContractData\",B91, \"Bid\",, \"T\"))","v":7.4},{"$f":"IF(LEFT(RTD(\"cqg.rtd\", ,\"ContractData\",B91, \"LastTrade\",, \"T\"),3)=\"768\",\"\",RTD(\"cqg.rtd\", ,\"ContractData\",B91, \"Ask\",, \"T\"))","v":7.5200000000000005},{"$f":"IF(LEFT(RTD(\"cqg.rtd\", ,\"ContractData\",B91, \"LastTrade\",, \"T\"),3)=\"768\",\"\",RTD(\"cqg.rtd\", ,\"ContractData\",B91, \"MT_LastAskVolume\",, \"T\"))","v":21},{"$f":"IF(LEFT(RTD(\"cqg.rtd\", ,\"ContractData\",B91, \"LastTrade\",, \"T\"),3)=\"768\",\"\",RTD(\"cqg.rtd\", ,\"ContractData\",B91, \"T_CVol\",, \"T\"))","v":98},{"$f":"IF(LEFT(RTD(\"cqg.rtd\", ,\"ContractData\",B91, \"LastTrade\",, \"T\"),3)=\"768\",\"\",RTD(\"cqg.rtd\", ,\"ContractData\",B91, \"Y_CVol\",, \"T\"))","v":340},{"$f":"IF(LEFT(RTD(\"cqg.rtd\", ,\"ContractData\",B91, \"LastTrade\",, \"T\"),3)=\"768\",\"\",IFERROR(IF(I91>J91,\"+\"&I91-J91,I91-J91)*1,\"\"))","v":-242},{"$f":"IF(LEFT(RTD(\"cqg.rtd\", ,\"ContractData\",B91, \"LastTrade\",, \"T\"),3)=\"768\",\"\",RTD(\"cqg.rtd\",,\"StudyData\",B91,  \"Bar\",,  \"ContractOI\", \"D\", \"-1\",,,,,\"T\"))","v":1008},{"$f":"IF(LEFT(RTD(\"cqg.rtd\", ,\"ContractData\",B91, \"LastTrade\",, \"T\"),3)=\"768\",\"\",RTD(\"cqg.rtd\",,\"StudyData\",B91,  \"Bar\",,  \"ContractOI\", \"D\", \"-2\",,,,,\"T\"))","v":1008},{"$f":"IF(LEFT(RTD(\"cqg.rtd\", ,\"ContractData\",B91, \"LastTrade\",, \"T\"),3)=\"768\",\"\",IFERROR(IF(L91>M91,\"+\"&L91-M91,L91-M91)*1,\"\"))","v":0}]
[{"$f":"RTD(\"cqg.rtd\", ,\"ContractData\",B92, \"Strike\",, \"T\")","v":9150},{"$f":"A1","v":"C.US.CLEJ269150"},{"$f":"IF(LEFT(RTD(\"cqg.rtd\", ,\"ContractData\",B92, \"LastTrade\",, \"T\"),3)=\"768\",\"\",RTD(\"cqg.rtd\", ,\"ContractData\",B92, \"LastTrade\",, \"T\"))","v":7.12},{"$f":"IF(C92=\"\",\"\",RTD(\"cqg.rtd\", ,\"ContractData\",B92, \"NetLastTrade\",, \"T\"))","v":1.46},{"$f":"IF(LEFT(RTD(\"cqg.rtd\", ,\"ContractData\",B92, \"LastTrade\",, \"T\"),3)=\"768\",\"\",RTD(\"cqg.rtd\", ,\"ContractData\",B92, \"MT_LastBidVolume\",, \"T\"))","v":6},{"$f":"IF(LEFT(RTD(\"cqg.rtd\", ,\"ContractData\",B92, \"LastTrade\",, \"T\"),3)=\"768\",\"\",RTD(\"cqg.rtd\", ,\"ContractData\",B92, \"Bid\",, \"T\"))","v":7.2},{"$f":"IF(LEFT(RTD(\"cqg.rtd\", ,\"ContractData\",B92, \"LastTrade\",, \"T\"),3)=\"768\",\"\",RTD(\"cqg.rtd\", ,\"ContractData\",B92, \"Ask\",, \"T\"))","v":7.32},{"$f":"IF(LEFT(RTD(\"cqg.rtd\", ,\"ContractData\",B92, \"LastTrade\",, \"T\"),3)=\"768\",\"\",RTD(\"cqg.rtd\", ,\"ContractData\",B92, \"MT_LastAskVolume\",, \"T\"))","v":4},{"$f":"IF(LEFT(RTD(\"cqg.rtd\", ,\"ContractData\",B92, \"LastTrade\",, \"T\"),3)=\"768\",\"\",RTD(\"cqg.rtd\", ,\"ContractData\",B92, \"T_CVol\",, \"T\"))","v":36},{"$f":"IF(LEFT(RTD(\"cqg.rtd\", ,\"ContractData\",B92, \"LastTrade\",, \"T\"),3)=\"768\",\"\",RTD(\"cqg.rtd\", ,\"ContractData\",B92, \"Y_CVol\",, \"T\"))","v":76},{"$f":"IF(LEFT(RTD(\"cqg.rtd\", ,\"ContractData\",B92, \"LastTrade\",, \"T\"),3)=\"768\",\"\",IFERROR(IF(I92>J92,\"+\"&I92-J92,I92-J92)*1,\"\"))","v":-40},{"$f":"IF(LEFT(RTD(\"cqg.rtd\", ,\"ContractData\",B92, \"LastTrade\",, \"T\"),3)=\"768\",\"\",RTD(\"cqg.rtd\",,\"StudyData\",B92,  \"Bar\",,  \"ContractOI\", \"D\", \"-1\",,,,,\"T\"))","v":289},{"$f":"IF(LEFT(RTD(\"cqg.rtd\", ,\"ContractData\",B92, \"LastTrade\",, \"T\"),3)=\"768\",\"\",RTD(\"cqg.rtd\",,\"StudyData\",B92,  \"Bar\",,  \"ContractOI\", \"D\", \"-2\",,,,,\"T\"))","v":281},{"$f":"IF(LEFT(RTD(\"cqg.rtd\", ,\"ContractData\",B92, \"LastTrade\",, \"T\"),3)=\"768\",\"\",IFERROR(IF(L92>M92,\"+\"&L92-M92,L92-M92)*1,\"\"))","v":8}]
[{"$f":"A92+$A$7","v":9200},{"$f":"LEFT(B92,FIND(A92,B92)-1)&A93","v":"C.US.CLEJ269200"},{"$f":"IF(LEFT(RTD(\"cqg.rtd\", ,\"ContractData\",B93, \"LastTrade\",, \"T\"),3)=\"768\",\"\",RTD(\"cqg.rtd\", ,\"ContractData\",B93, \"LastTrade\",, \"T\"))","v":6.94},{"$f":"IF(C93=\"\",\"\",RTD(\"cqg.rtd\", ,\"ContractData\",B93, \"NetLastTrade\",, \"T\"))","v":1.4300000000000006},{"$f":"IF(LEFT(RTD(\"cqg.rtd\", ,\"ContractData\",B93, \"LastTrade\",, \"T\"),3)=\"768\",\"\",RTD(\"cqg.rtd\", ,\"ContractData\",B93, \"MT_LastBidVolume\",, \"T\"))","v":6},{"$f":"IF(LEFT(RTD(\"cqg.rtd\", ,\"ContractData\",B93, \"LastTrade\",, \"T\"),3)=\"768\",\"\",RTD(\"cqg.rtd\", ,\"ContractData\",B93, \"Bid\",, \"T\"))","v":7},{"$f":"IF(LEFT(RTD(\"cqg.rtd\", ,\"ContractData\",B93, \"LastTrade\",, \"T\"),3)=\"768\",\"\",RTD(\"cqg.rtd\", ,\"ContractData\",B93, \"Ask\",, \"T\"))","v":7.12},{"$f":"IF(LEFT(RTD(\"cqg.rtd\", ,\"ContractData\",B93, \"LastTrade\",, \"T\"),3)=\"768\",\"\",RTD(\"cqg.rtd\", ,\"ContractData\",B93, \"MT_LastAskVolume\",, \"T\"))","v":21},{"$f":"IF(LEFT(RTD(\"cqg.rtd\", ,\"ContractData\",B93, \"LastTrade\",, \"T\"),3)=\"768\",\"\",RTD(\"cqg.rtd\", ,\"ContractData\",B93, \"T_CVol\",, \"T\"))","v":68},{"$f":"IF(LEFT(RTD(\"cqg.rtd\", ,\"ContractData\",B93, \"LastTrade\",, \"T\"),3)=\"768\",\"\",RTD(\"cqg.rtd\", ,\"ContractData\",B93, \"Y_CVol\",, \"T\"))","v":1500},{"$f":"IF(LEFT(RTD(\"cqg.rtd\", ,\"ContractData\",B93, \"LastTrade\",, \"T\"),3)=\"768\",\"\",IFERROR(IF(I93>J93,\"+\"&I93-J93,I93-J93)*1,\"\"))","v":-1432},{"$f":"IF(LEFT(RTD(\"cqg.rtd\", ,\"ContractData\",B93, \"LastTrade\",, \"T\"),3)=\"768\",\"\",RTD(\"cqg.rtd\",,\"StudyData\",B93,  \"Bar\",,  \"ContractOI\", \"D\", \"-1\",,,,,\"T\"))","v":4213},{"$f":"IF(LEFT(RTD(\"cqg.rtd\", ,\"ContractData\",B93, \"LastTrade\",, \"T\"),3)=\"768\",\"\",RTD(\"cqg.rtd\",,\"StudyData\",B93,  \"Bar\",,  \"ContractOI\", \"D\", \"-2\",,,,,\"T\"))","v":5057},{"$f":"IF(LEFT(RTD(\"cqg.rtd\", ,\"ContractData\",B93, \"LastTrade\",, \"T\"),3)=\"768\",\"\",IFERROR(IF(L93>M93,\"+\"&L93-M93,L93-M93)*1,\"\"))","v":-844}]
[{"$f":"A93+$A$7","v":9250},{"$f":"LEFT(B93,FIND(A93,B93)-1)&A94","v":"C.US.CLEJ269250"},{"$f":"IF(LEFT(RTD(\"cqg.rtd\", ,\"ContractData\",B94, \"LastTrade\",, \"T\"),3)=\"768\",\"\",RTD(\"cqg.rtd\", ,\"ContractData\",B94, \"LastTrade\",, \"T\"))","v":6.83},{"$f":"IF(C94=\"\",\"\",RTD(\"cqg.rtd\", ,\"ContractData\",B94, \"NetLastTrade\",, \"T\"))","v":1.46},{"$f":"IF(LEFT(RTD(\"cqg.rtd\", ,\"ContractData\",B94, \"LastTrade\",, \"T\"),3)=\"768\",\"\",RTD(\"cqg.rtd\", ,\"ContractData\",B94, \"MT_LastBidVolume\",, \"T\"))","v":7},{"$f":"IF(LEFT(RTD(\"cqg.rtd\", ,\"ContractData\",B94, \"LastTrade\",, \"T\"),3)=\"768\",\"\",RTD(\"cqg.rtd\", ,\"ContractData\",B94, \"Bid\",, \"T\"))","v":6.8},{"$f":"IF(LEFT(RTD(\"cqg.rtd\", ,\"ContractData\",B94, \"LastTrade\",, \"T\"),3)=\"768\",\"\",RTD(\"cqg.rtd\", ,\"ContractData\",B94, \"Ask\",, \"T\"))","v":6.93},{"$f":"IF(LEFT(RTD(\"cqg.rtd\", ,\"ContractData\",B94, \"LastTrade\",, \"T\"),3)=\"768\",\"\",RTD(\"cqg.rtd\", ,\"ContractData\",B94, \"MT_LastAskVolume\",, \"T\"))","v":42},{"$f":"IF(LEFT(RTD(\"cqg.rtd\", ,\"ContractData\",B94, \"LastTrade\",, \"T\"),3)=\"768\",\"\",RTD(\"cqg.rtd\", ,\"ContractData\",B94, \"T_CVol\",, \"T\"))","v":473},{"$f":"IF(LEFT(RTD(\"cqg.rtd\", ,\"ContractData\",B94, \"LastTrade\",, \"T\"),3)=\"768\",\"\",RTD(\"cqg.rtd\", ,\"ContractData\",B94, \"Y_CVol\",, \"T\"))","v":320},{"$f":"IF(LEFT(RTD(\"cqg.rtd\", ,\"ContractData\",B94, \"LastTrade\",, \"T\"),3)=\"768\",\"\",IFERROR(IF(I94>J94,\"+\"&I94-J94,I94-J94)*1,\"\"))","v":153},{"$f":"IF(LEFT(RTD(\"cqg.rtd\", ,\"ContractData\",B94, \"LastTrade\",, \"T\"),3)=\"768\",\"\",RTD(\"cqg.rtd\",,\"StudyData\",B94,  \"Bar\",,  \"ContractOI\", \"D\", \"-1\",,,,,\"T\"))","v":1642},{"$f":"IF(LEFT(RTD(\"cqg.rtd\", ,\"ContractData\",B94, \"LastTrade\",, \"T\"),3)=\"768\",\"\",RTD(\"cqg.rtd\",,\"StudyData\",B94,  \"Bar\",,  \"ContractOI\", \"D\", \"-2\",,,,,\"T\"))","v":1539},{"$f":"IF(LEFT(RTD(\"cqg.rtd\", ,\"ContractData\",B94, \"LastTrade\",, \"T\"),3)=\"768\",\"\",IFERROR(IF(L94>M94,\"+\"&L94-M94,L94-M94)*1,\"\"))","v":103}]
[9300,"C.US.CLEJ269300",{"$f":"IF(LEFT(RTD(\"cqg.rtd\", ,\"ContractData\",B95, \"LastTrade\",, \"T\"),3)=\"768\",\"\",RTD(\"cqg.rtd\", ,\"ContractData\",B95, \"LastTrade\",, \"T\"))","v":6.57},{"$f":"IF(C95=\"\",\"\",RTD(\"cqg.rtd\", ,\"ContractData\",B95, \"NetLastTrade\",, \"T\"))","v":1.3500000000000005},{"$f":"IF(LEFT(RTD(\"cqg.rtd\", ,\"ContractData\",B95, \"LastTrade\",, \"T\"),3)=\"768\",\"\",RTD(\"cqg.rtd\", ,\"ContractData\",B95, \"MT_LastBidVolume\",, \"T\"))","v":20},{"$f":"IF(LEFT(RTD(\"cqg.rtd\", ,\"ContractData\",B95, \"LastTrade\",, \"T\"),3)=\"768\",\"\",RTD(\"cqg.rtd\", ,\"ContractData\",B95, \"Bid\",, \"T\"))","v":6.62},{"$f":"IF(LEFT(RTD(\"cqg.rtd\", ,\"ContractData\",B95, \"LastTrade\",, \"T\"),3)=\"768\",\"\",RTD(\"cqg.rtd\", ,\"ContractData\",B95, \"Ask\",, \"T\"))","v":6.74},{"$f":"IF(LEFT(RTD(\"cqg.rtd\", ,\"ContractData\",B95, \"LastTrade\",, \"T\"),3)=\"768\",\"\",RTD(\"cqg.rtd\", ,\"ContractData\",B95, \"MT_LastAskVolume\",, \"T\"))","v":37},{"$f":"IF(LEFT(RTD(\"cqg.rtd\", ,\"ContractData\",B95, \"LastTrade\",, \"T\"),3)=\"768\",\"\",RTD(\"cqg.rtd\", ,\"ContractData\",B95, \"T_CVol\",, \"T\"))","v":22},{"$f":"IF(LEFT(RTD(\"cqg.rtd\", ,\"ContractData\",B95, \"LastTrade\",, \"T\"),3)=\"768\",\"\",RTD(\"cqg.rtd\", ,\"ContractData\",B95, \"Y_CVol\",, \"T\"))","v":357},{"$f":"IF(LEFT(RTD(\"cqg.rtd\", ,\"ContractData\",B95, \"LastTrade\",, \"T\"),3)=\"768\",\"\",IFERROR(IF(I95>J95,\"+\"&I95-J95,I95-J95)*1,\"\"))","v":-335},{"$f":"IF(LEFT(RTD(\"cqg.rtd\", ,\"ContractData\",B95, \"LastTrade\",, \"T\"),3)=\"768\",\"\",RTD(\"cqg.rtd\",,\"StudyData\",B95,  \"Bar\",,  \"ContractOI\", \"D\", \"-1\",,,,,\"T\"))","v":1334},{"$f":"IF(LEFT(RTD(\"cqg.rtd\", ,\"ContractData\",B95, \"LastTrade\",, \"T\"),3)=\"768\",\"\",RTD(\"cqg.rtd\",,\"StudyData\",B95,  \"Bar\",,  \"ContractOI\", \"D\", \"-2\",,,,,\"T\"))","v":1310},{"$f":"IF(LEFT(RTD(\"cqg.rtd\", ,\"ContractData\",B95, \"LastTrade\",, \"T\"),3)=\"768\",\"\",IFERROR(IF(L95>M95,\"+\"&L95-M95,L95-M95)*1,\"\"))","v":24}]
[9350,"C.US.CLEJ269350",{"$f":"IF(LEFT(RTD(\"cqg.rtd\", ,\"ContractData\",B96, \"LastTrade\",, \"T\"),3)=\"768\",\"\",RTD(\"cqg.rtd\", ,\"ContractData\",B96, \"LastTrade\",, \"T\"))","v":6.99},{"$f":"IF(C96=\"\",\"\",RTD(\"cqg.rtd\", ,\"ContractData\",B96, \"NetLastTrade\",, \"T\"))","v":1.9100000000000001},{"$f":"IF(LEFT(RTD(\"cqg.rtd\", ,\"ContractData\",B96, \"LastTrade\",, \"T\"),3)=\"768\",\"\",RTD(\"cqg.rtd\", ,\"ContractData\",B96, \"MT_LastBidVolume\",, \"T\"))","v":23},{"$f":"IF(LEFT(RTD(\"cqg.rtd\", ,\"ContractData\",B96, \"LastTrade\",, \"T\"),3)=\"768\",\"\",RTD(\"cqg.rtd\", ,\"ContractData\",B96, \"Bid\",, \"T\"))","v":6.43},{"$f":"IF(LEFT(RTD(\"cqg.rtd\", ,\"ContractData\",B96, \"LastTrade\",, \"T\"),3)=\"768\",\"\",RTD(\"cqg.rtd\", ,\"ContractData\",B96, \"Ask\",, \"T\"))","v":6.55},{"$f":"IF(LEFT(RTD(\"cqg.rtd\", ,\"ContractData\",B96, \"LastTrade\",, \"T\"),3)=\"768\",\"\",RTD(\"cqg.rtd\", ,\"ContractData\",B96, \"MT_LastAskVolume\",, \"T\"))","v":1},{"$f":"IF(LEFT(RTD(\"cqg.rtd\", ,\"ContractData\",B96, \"LastTrade\",, \"T\"),3)=\"768\",\"\",RTD(\"cqg.rtd\", ,\"ContractData\",B96, \"T_CVol\",, \"T\"))","v":69},{"$f":"IF(LEFT(RTD(\"cqg.rtd\", ,\"ContractData\",B96, \"LastTrade\",, \"T\"),3)=\"768\",\"\",RTD(\"cqg.rtd\", ,\"ContractData\",B96, \"Y_CVol\",, \"T\"))","v":4},{"$f":"IF(LEFT(RTD(\"cqg.rtd\", ,\"ContractData\",B96, \"LastTrade\",, \"T\"),3)=\"768\",\"\",IFERROR(IF(I96>J96,\"+\"&I96-J96,I96-J96)*1,\"\"))","v":65},{"$f":"IF(LEFT(RTD(\"cqg.rtd\", ,\"ContractData\",B96, \"LastTrade\",, \"T\"),3)=\"768\",\"\",RTD(\"cqg.rtd\",,\"StudyData\",B96,  \"Bar\",,  \"ContractOI\", \"D\", \"-1\",,,,,\"T\"))","v":209},{"$f":"IF(LEFT(RTD(\"cqg.rtd\", ,\"ContractData\",B96, \"LastTrade\",, \"T\"),3)=\"768\",\"\",RTD(\"cqg.rtd\",,\"StudyData\",B96,  \"Bar\",,  \"ContractOI\", \"D\", \"-2\",,,,,\"T\"))","v":209},{"$f":"IF(LEFT(RTD(\"cqg.rtd\", ,\"ContractData\",B96, \"LastTrade\",, \"T\"),3)=\"768\",\"\",IFERROR(IF(L96>M96,\"+\"&L96-M96,L96-M96)*1,\"\"))","v":0}]
[9400,"C.US.CLEJ269400",{"$f":"IF(LEFT(RTD(\"cqg.rtd\", ,\"ContractData\",B97, \"LastTrade\",, \"T\"),3)=\"768\",\"\",RTD(\"cqg.rtd\", ,\"ContractData\",B97, \"LastTrade\",, \"T\"))","v":6.2700000000000005},{"$f":"IF(C97=\"\",\"\",RTD(\"cqg.rtd\", ,\"ContractData\",B97, \"NetLastTrade\",, \"T\"))","v":1.33},{"$f":"IF(LEFT(RTD(\"cqg.rtd\", ,\"ContractData\",B97, \"LastTrade\",, \"T\"),3)=\"768\",\"\",RTD(\"cqg.rtd\", ,\"ContractData\",B97, \"MT_LastBidVolume\",, \"T\"))","v":23},{"$f":"IF(LEFT(RTD(\"cqg.rtd\", ,\"ContractData\",B97, \"LastTrade\",, \"T\"),3)=\"768\",\"\",RTD(\"cqg.rtd\", ,\"ContractData\",B97, \"Bid\",, \"T\"))","v":6.26},{"$f":"IF(LEFT(RTD(\"cqg.rtd\", ,\"ContractData\",B97, \"LastTrade\",, \"T\"),3)=\"768\",\"\",RTD(\"cqg.rtd\", ,\"ContractData\",B97, \"Ask\",, \"T\"))","v":6.37},{"$f":"IF(LEFT(RTD(\"cqg.rtd\", ,\"ContractData\",B97, \"LastTrade\",, \"T\"),3)=\"768\",\"\",RTD(\"cqg.rtd\", ,\"ContractData\",B97, \"MT_LastAskVolume\",, \"T\"))","v":1},{"$f":"IF(LEFT(RTD(\"cqg.rtd\", ,\"ContractData\",B97, \"LastTrade\",, \"T\"),3)=\"768\",\"\",RTD(\"cqg.rtd\", ,\"ContractData\",B97, \"T_CVol\",, \"T\"))","v":109},{"$f":"IF(LEFT(RTD(\"cqg.rtd\", ,\"ContractData\",B97, \"LastTrade\",, \"T\"),3)=\"768\",\"\",RTD(\"cqg.rtd\", ,\"ContractData\",B97, \"Y_CVol\",, \"T\"))","v":603},{"$f":"IF(LEFT(RTD(\"cqg.rtd\", ,\"ContractData\",B97, \"LastTrade\",, \"T\"),3)=\"768\",\"\",IFERROR(IF(I97>J97,\"+\"&I97-J97,I97-J97)*1,\"\"))","v":-494},{"$f":"IF(LEFT(RTD(\"cqg.rtd\", ,\"ContractData\",B97, \"LastTrade\",, \"T\"),3)=\"768\",\"\",RTD(\"cqg.rtd\",,\"StudyData\",B97,  \"Bar\",,  \"ContractOI\", \"D\", \"-1\",,,,,\"T\"))","v":10143},{"$f":"IF(LEFT(RTD(\"cqg.rtd\", ,\"ContractData\",B97, \"LastTrade\",, \"T\"),3)=\"768\",\"\",RTD(\"cqg.rtd\",,\"StudyData\",B97,  \"Bar\",,  \"ContractOI\", \"D\", \"-2\",,,,,\"T\"))","v":9739},{"$f":"IF(LEFT(RTD(\"cqg.rtd\", ,\"ContractData\",B97, \"LastTrade\",, \"T\"),3)=\"768\",\"\",IFERROR(IF(L97>M97,\"+\"&L97-M97,L97-M97)*1,\"\"))","v":404}]
[9450,"C.US.CLEJ269450",{"$f":"IF(LEFT(RTD(\"cqg.rtd\", ,\"ContractData\",B98, \"LastTrade\",, \"T\"),3)=\"768\",\"\",RTD(\"cqg.rtd\", ,\"ContractData\",B98, \"LastTrade\",, \"T\"))","v":7.65},{"$f":"IF(C98=\"\",\"\",RTD(\"cqg.rtd\", ,\"ContractData\",B98, \"NetLastTrade\",, \"T\"))","v":2.84},{"$f":"IF(LEFT(RTD(\"cqg.rtd\", ,\"ContractData\",B98, \"LastTrade\",, \"T\"),3)=\"768\",\"\",RTD(\"cqg.rtd\", ,\"ContractData\",B98, \"MT_LastBidVolume\",, \"T\"))","v":23},{"$f":"IF(LEFT(RTD(\"cqg.rtd\", ,\"ContractData\",B98, \"LastTrade\",, \"T\"),3)=\"768\",\"\",RTD(\"cqg.rtd\", ,\"ContractData\",B98, \"Bid\",, \"T\"))","v":6.09},{"$f":"IF(LEFT(RTD(\"cqg.rtd\", ,\"ContractData\",B98, \"LastTrade\",, \"T\"),3)=\"768\",\"\",RTD(\"cqg.rtd\", ,\"ContractData\",B98, \"Ask\",, \"T\"))","v":6.2},{"$f":"IF(LEFT(RTD(\"cqg.rtd\", ,\"ContractData\",B98, \"LastTrade\",, \"T\"),3)=\"768\",\"\",RTD(\"cqg.rtd\", ,\"ContractData\",B98, \"MT_LastAskVolume\",, \"T\"))","v":1},{"$f":"IF(LEFT(RTD(\"cqg.rtd\", ,\"ContractData\",B98, \"LastTrade\",, \"T\"),3)=\"768\",\"\",RTD(\"cqg.rtd\", ,\"ContractData\",B98, \"T_CVol\",, \"T\"))","v":8},{"$f":"IF(LEFT(RTD(\"cqg.rtd\", ,\"ContractData\",B98, \"LastTrade\",, \"T\"),3)=\"768\",\"\",RTD(\"cqg.rtd\", ,\"ContractData\",B98, \"Y_CVol\",, \"T\"))","v":47},{"$f":"IF(LEFT(RTD(\"cqg.rtd\", ,\"ContractData\",B98, \"LastTrade\",, \"T\"),3)=\"768\",\"\",IFERROR(IF(I98>J98,\"+\"&I98-J98,I98-J98)*1,\"\"))","v":-39},{"$f":"IF(LEFT(RTD(\"cqg.rtd\", ,\"ContractData\",B98, \"LastTrade\",, \"T\"),3)=\"768\",\"\",RTD(\"cqg.rtd\",,\"StudyData\",B98,  \"Bar\",,  \"ContractOI\", \"D\", \"-1\",,,,,\"T\"))","v":986},{"$f":"IF(LEFT(RTD(\"cqg.rtd\", ,\"ContractData\",B98, \"LastTrade\",, \"T\"),3)=\"768\",\"\",RTD(\"cqg.rtd\",,\"StudyData\",B98,  \"Bar\",,  \"ContractOI\", \"D\", \"-2\",,,,,\"T\"))","v":1001},{"$f":"IF(LEFT(RTD(\"cqg.rtd\", ,\"ContractData\",B98, \"LastTrade\",, \"T\"),3)=\"768\",\"\",IFERROR(IF(L98>M98,\"+\"&L98-M98,L98-M98)*1,\"\"))","v":-15}]
[9500,"C.US.CLEJ269500",{"$f":"IF(LEFT(RTD(\"cqg.rtd\", ,\"ContractData\",B99, \"LastTrade\",, \"T\"),3)=\"768\",\"\",RTD(\"cqg.rtd\", ,\"ContractData\",B99, \"LastTrade\",, \"T\"))","v":5.97},{"$f":"IF(C99=\"\",\"\",RTD(\"cqg.rtd\", ,\"ContractData\",B99, \"NetLastTrade\",, \"T\"))","v":1.29},{"$f":"IF(LEFT(RTD(\"cqg.rtd\", ,\"ContractData\",B99, \"LastTrade\",, \"T\"),3)=\"768\",\"\",RTD(\"cqg.rtd\", ,\"ContractData\",B99, \"MT_LastBidVolume\",, \"T\"))","v":24},{"$f":"IF(LEFT(RTD(\"cqg.rtd\", ,\"ContractData\",B99, \"LastTrade\",, \"T\"),3)=\"768\",\"\",RTD(\"cqg.rtd\", ,\"ContractData\",B99, \"Bid\",, \"T\"))","v":5.92},{"$f":"IF(LEFT(RTD(\"cqg.rtd\", ,\"ContractData\",B99, \"LastTrade\",, \"T\"),3)=\"768\",\"\",RTD(\"cqg.rtd\", ,\"ContractData\",B99, \"Ask\",, \"T\"))","v":6.03},{"$f":"IF(LEFT(RTD(\"cqg.rtd\", ,\"ContractData\",B99, \"LastTrade\",, \"T\"),3)=\"768\",\"\",RTD(\"cqg.rtd\", ,\"ContractData\",B99, \"MT_LastAskVolume\",, \"T\"))","v":1},{"$f":"IF(LEFT(RTD(\"cqg.rtd\", ,\"ContractData\",B99, \"LastTrade\",, \"T\"),3)=\"768\",\"\",RTD(\"cqg.rtd\", ,\"ContractData\",B99, \"T_CVol\",, \"T\"))","v":665},{"$f":"IF(LEFT(RTD(\"cqg.rtd\", ,\"ContractData\",B99, \"LastTrade\",, \"T\"),3)=\"768\",\"\",RTD(\"cqg.rtd\", ,\"ContractData\",B99, \"Y_CVol\",, \"T\"))","v":4674},{"$f":"IF(LEFT(RTD(\"cqg.rtd\", ,\"ContractData\",B99, \"LastTrade\",, \"T\"),3)=\"768\",\"\",IFERROR(IF(I99>J99,\"+\"&I99-J99,I99-J99)*1,\"\"))","v":-4009},{"$f":"IF(LEFT(RTD(\"cqg.rtd\", ,\"ContractData\",B99, \"LastTrade\",, \"T\"),3)=\"768\",\"\",RTD(\"cqg.rtd\",,\"StudyData\",B99,  \"Bar\",,  \"ContractOI\", \"D\", \"-1\",,,,,\"T\"))","v":9464},{"$f":"IF(LEFT(RTD(\"cqg.rtd\", ,\"ContractData\",B99, \"LastTrade\",, \"T\"),3)=\"768\",\"\",RTD(\"cqg.rtd\",,\"StudyData\",B99,  \"Bar\",,  \"ContractOI\", \"D\", \"-2\",,,,,\"T\"))","v":9259},{"$f":"IF(LEFT(RTD(\"cqg.rtd\", ,\"ContractData\",B99, \"LastTrade\",, \"T\"),3)=\"768\",\"\",IFERROR(IF(L99>M99,\"+\"&L99-M99,L99-M99)*1,\"\"))","v":205}]
[9550,"C.US.CLEJ269550",{"$f":"IF(LEFT(RTD(\"cqg.rtd\", ,\"ContractData\",B100, \"LastTrade\",, \"T\"),3)=\"768\",\"\",RTD(\"cqg.rtd\", ,\"ContractData\",B100, \"LastTrade\",, \"T\"))","v":5.74},{"$f":"IF(C100=\"\",\"\",RTD(\"cqg.rtd\", ,\"ContractData\",B100, \"NetLastTrade\",, \"T\"))","v":1.1900000000000004},{"$f":"IF(LEFT(RTD(\"cqg.rtd\", ,\"ContractData\",B100, \"LastTrade\",, \"T\"),3)=\"768\",\"\",RTD(\"cqg.rtd\", ,\"ContractData\",B100, \"MT_LastBidVolume\",, \"T\"))","v":2},{"$f":"IF(LEFT(RTD(\"cqg.rtd\", ,\"ContractData\",B100, \"LastTrade\",, \"T\"),3)=\"768\",\"\",RTD(\"cqg.rtd\", ,\"ContractData\",B100, \"Bid\",, \"T\"))","v":5.75},{"$f":"IF(LEFT(RTD(\"cqg.rtd\", ,\"ContractData\",B100, \"LastTrade\",, \"T\"),3)=\"768\",\"\",RTD(\"cqg.rtd\", ,\"ContractData\",B100, \"Ask\",, \"T\"))","v":5.87},{"$f":"IF(LEFT(RTD(\"cqg.rtd\", ,\"ContractData\",B100, \"LastTrade\",, \"T\"),3)=\"768\",\"\",RTD(\"cqg.rtd\", ,\"ContractData\",B100, \"MT_LastAskVolume\",, \"T\"))","v":36},{"$f":"IF(LEFT(RTD(\"cqg.rtd\", ,\"ContractData\",B100, \"LastTrade\",, \"T\"),3)=\"768\",\"\",RTD(\"cqg.rtd\", ,\"ContractData\",B100, \"T_CVol\",, \"T\"))","v":8},{"$f":"IF(LEFT(RTD(\"cqg.rtd\", ,\"ContractData\",B100, \"LastTrade\",, \"T\"),3)=\"768\",\"\",RTD(\"cqg.rtd\", ,\"ContractData\",B100, \"Y_CVol\",, \"T\"))","v":127},{"$f":"IF(LEFT(RTD(\"cqg.rtd\", ,\"ContractData\",B100, \"LastTrade\",, \"T\"),3)=\"768\",\"\",IFERROR(IF(I100>J100,\"+\"&I100-J100,I100-J100)*1,\"\"))","v":-119},{"$f":"IF(LEFT(RTD(\"cqg.rtd\", ,\"ContractData\",B100, \"LastTrade\",, \"T\"),3)=\"768\",\"\",RTD(\"cqg.rtd\",,\"StudyData\",B100,  \"Bar\",,  \"ContractOI\", \"D\", \"-1\",,,,,\"T\"))","v":233},{"$f":"IF(LEFT(RTD(\"cqg.rtd\", ,\"ContractData\",B100, \"LastTrade\",, \"T\"),3)=\"768\",\"\",RTD(\"cqg.rtd\",,\"StudyData\",B100,  \"Bar\",,  \"ContractOI\", \"D\", \"-2\",,,,,\"T\"))","v":205},{"$f":"IF(LEFT(RTD(\"cqg.rtd\", ,\"ContractData\",B100, \"LastTrade\",, \"T\"),3)=\"768\",\"\",IFERROR(IF(L100>M100,\"+\"&L100-M100,L100-M100)*1,\"\"))","v":28}]
[9600,"C.US.CLEJ269600",{"$f":"IF(LEFT(RTD(\"cqg.rtd\", ,\"ContractData\",B101, \"LastTrade\",, \"T\"),3)=\"768\",\"\",RTD(\"cqg.rtd\", ,\"ContractData\",B101, \"LastTrade\",, \"T\"))","v":5.62},{"$f":"IF(C101=\"\",\"\",RTD(\"cqg.rtd\", ,\"ContractData\",B101, \"NetLastTrade\",, \"T\"))","v":1.1900000000000004},{"$f":"IF(LEFT(RTD(\"cqg.rtd\", ,\"ContractData\",B101, \"LastTrade\",, \"T\"),3)=\"768\",\"\",RTD(\"cqg.rtd\", ,\"ContractData\",B101, \"MT_LastBidVolume\",, \"T\"))","v":21},{"$f":"IF(LEFT(RTD(\"cqg.rtd\", ,\"ContractData\",B101, \"LastTrade\",, \"T\"),3)=\"768\",\"\",RTD(\"cqg.rtd\", ,\"ContractData\",B101, \"Bid\",, \"T\"))","v":5.6000000000000005},{"$f":"IF(LEFT(RTD(\"cqg.rtd\", ,\"ContractData\",B101, \"LastTrade\",, \"T\"),3)=\"768\",\"\",RTD(\"cqg.rtd\", ,\"ContractData\",B101, \"Ask\",, \"T\"))","v":5.71},{"$f":"IF(LEFT(RTD(\"cqg.rtd\", ,\"ContractData\",B101, \"LastTrade\",, \"T\"),3)=\"768\",\"\",RTD(\"cqg.rtd\", ,\"ContractData\",B101, \"MT_LastAskVolume\",, \"T\"))","v":14},{"$f":"IF(LEFT(RTD(\"cqg.rtd\", ,\"ContractData\",B101, \"LastTrade\",, \"T\"),3)=\"768\",\"\",RTD(\"cqg.rtd\", ,\"ContractData\",B101, \"T_CVol\",, \"T\"))","v":44},{"$f":"IF(LEFT(RTD(\"cqg.rtd\", ,\"ContractData\",B101, \"LastTrade\",, \"T\"),3)=\"768\",\"\",RTD(\"cqg.rtd\", ,\"ContractData\",B101, \"Y_CVol\",, \"T\"))","v":3352},{"$f":"IF(LEFT(RTD(\"cqg.rtd\", ,\"ContractData\",B101, \"LastTrade\",, \"T\"),3)=\"768\",\"\",IFERROR(IF(I101>J101,\"+\"&I101-J101,I101-J101)*1,\"\"))","v":-3308},{"$f":"IF(LEFT(RTD(\"cqg.rtd\", ,\"ContractData\",B101, \"LastTrade\",, \"T\"),3)=\"768\",\"\",RTD(\"cqg.rtd\",,\"StudyData\",B101,  \"Bar\",,  \"ContractOI\", \"D\", \"-1\",,,,,\"T\"))","v":2592},{"$f":"IF(LEFT(RTD(\"cqg.rtd\", ,\"ContractData\",B101, \"LastTrade\",, \"T\"),3)=\"768\",\"\",RTD(\"cqg.rtd\",,\"StudyData\",B101,  \"Bar\",,  \"ContractOI\", \"D\", \"-2\",,,,,\"T\"))","v":1623},{"$f":"IF(LEFT(RTD(\"cqg.rtd\", ,\"ContractData\",B101, \"LastTrade\",, \"T\"),3)=\"768\",\"\",IFERROR(IF(L101>M101,\"+\"&L101-M101,L101-M101)*1,\"\"))","v":969}]
[9650,"C.US.CLEJ269650",{"$f":"IF(LEFT(RTD(\"cqg.rtd\", ,\"ContractData\",B102, \"LastTrade\",, \"T\"),3)=\"768\",\"\",RTD(\"cqg.rtd\", ,\"ContractData\",B102, \"LastTrade\",, \"T\"))","v":5.55},{"$f":"IF(C102=\"\",\"\",RTD(\"cqg.rtd\", ,\"ContractData\",B102, \"NetLastTrade\",, \"T\"))","v":1.2399999999999993},{"$f":"IF(LEFT(RTD(\"cqg.rtd\", ,\"ContractData\",B102, \"LastTrade\",, \"T\"),3)=\"768\",\"\",RTD(\"cqg.rtd\", ,\"ContractData\",B102, \"MT_LastBidVolume\",, \"T\"))","v":23},{"$f":"IF(LEFT(RTD(\"cqg.rtd\", ,\"ContractData\",B102, \"LastTrade\",, \"T\"),3)=\"768\",\"\",RTD(\"cqg.rtd\", ,\"ContractData\",B102, \"Bid\",, \"T\"))","v":5.44},{"$f":"IF(LEFT(RTD(\"cqg.rtd\", ,\"ContractData\",B102, \"LastTrade\",, \"T\"),3)=\"768\",\"\",RTD(\"cqg.rtd\", ,\"ContractData\",B102, \"Ask\",, \"T\"))","v":5.55},{"$f":"IF(LEFT(RTD(\"cqg.rtd\", ,\"ContractData\",B102, \"LastTrade\",, \"T\"),3)=\"768\",\"\",RTD(\"cqg.rtd\", ,\"ContractData\",B102, \"MT_LastAskVolume\",, \"T\"))","v":1},{"$f":"IF(LEFT(RTD(\"cqg.rtd\", ,\"ContractData\",B102, \"LastTrade\",, \"T\"),3)=\"768\",\"\",RTD(\"cqg.rtd\", ,\"ContractData\",B102, \"T_CVol\",, \"T\"))","v":76},{"$f":"IF(LEFT(RTD(\"cqg.rtd\", ,\"ContractData\",B102, \"LastTrade\",, \"T\"),3)=\"768\",\"\",RTD(\"cqg.rtd\", ,\"ContractData\",B102, \"Y_CVol\",, \"T\"))","v":91},{"$f":"IF(LEFT(RTD(\"cqg.rtd\", ,\"ContractData\",B102, \"LastTrade\",, \"T\"),3)=\"768\",\"\",IFERROR(IF(I102>J102,\"+\"&I102-J102,I102-J102)*1,\"\"))","v":-15},{"$f":"IF(LEFT(RTD(\"cqg.rtd\", ,\"ContractData\",B102, \"LastTrade\",, \"T\"),3)=\"768\",\"\",RTD(\"cqg.rtd\",,\"StudyData\",B102,  \"Bar\",,  \"ContractOI\", \"D\", \"-1\",,,,,\"T\"))","v":443},{"$f":"IF(LEFT(RTD(\"cqg.rtd\", ,\"ContractData\",B102, \"LastTrade\",, \"T\"),3)=\"768\",\"\",RTD(\"cqg.rtd\",,\"StudyData\",B102,  \"Bar\",,  \"ContractOI\", \"D\", \"-2\",,,,,\"T\"))","v":438},{"$f":"IF(LEFT(RTD(\"cqg.rtd\", ,\"ContractData\",B102, \"LastTrade\",, \"T\"),3)=\"768\",\"\",IFERROR(IF(L102>M102,\"+\"&L102-M102,L102-M102)*1,\"\"))","v":5}]
[9700,"C.US.CLEJ269700",{"$f":"IF(LEFT(RTD(\"cqg.rtd\", ,\"ContractData\",B103, \"LastTrade\",, \"T\"),3)=\"768\",\"\",RTD(\"cqg.rtd\", ,\"ContractData\",B103, \"LastTrade\",, \"T\"))","v":5.3500000000000005},{"$f":"IF(C103=\"\",\"\",RTD(\"cqg.rtd\", ,\"ContractData\",B103, \"NetLastTrade\",, \"T\"))","v":1.1500000000000004},{"$f":"IF(LEFT(RTD(\"cqg.rtd\", ,\"ContractData\",B103, \"LastTrade\",, \"T\"),3)=\"768\",\"\",RTD(\"cqg.rtd\", ,\"ContractData\",B103, \"MT_LastBidVolume\",, \"T\"))","v":24},{"$f":"IF(LEFT(RTD(\"cqg.rtd\", ,\"ContractData\",B103, \"LastTrade\",, \"T\"),3)=\"768\",\"\",RTD(\"cqg.rtd\", ,\"ContractData\",B103, \"Bid\",, \"T\"))","v":5.29},{"$f":"IF(LEFT(RTD(\"cqg.rtd\", ,\"ContractData\",B103, \"LastTrade\",, \"T\"),3)=\"768\",\"\",RTD(\"cqg.rtd\", ,\"ContractData\",B103, \"Ask\",, \"T\"))","v":5.4},{"$f":"IF(LEFT(RTD(\"cqg.rtd\", ,\"ContractData\",B103, \"LastTrade\",, \"T\"),3)=\"768\",\"\",RTD(\"cqg.rtd\", ,\"ContractData\",B103, \"MT_LastAskVolume\",, \"T\"))","v":1},{"$f":"IF(LEFT(RTD(\"cqg.rtd\", ,\"ContractData\",B103, \"LastTrade\",, \"T\"),3)=\"768\",\"\",RTD(\"cqg.rtd\", ,\"ContractData\",B103, \"T_CVol\",, \"T\"))","v":168},{"$f":"IF(LEFT(RTD(\"cqg.rtd\", ,\"ContractData\",B103, \"LastTrade\",, \"T\"),3)=\"768\",\"\",RTD(\"cqg.rtd\", ,\"ContractData\",B103, \"Y_CVol\",, \"T\"))","v":571},{"$f":"IF(LEFT(RTD(\"cqg.rtd\", ,\"ContractData\",B103, \"LastTrade\",, \"T\"),3)=\"768\",\"\",IFERROR(IF(I103>J103,\"+\"&I103-J103,I103-J103)*1,\"\"))","v":-403},{"$f":"IF(LEFT(RTD(\"cqg.rtd\", ,\"ContractData\",B103, \"LastTrade\",, \"T\"),3)=\"768\",\"\",RTD(\"cqg.rtd\",,\"StudyData\",B103,  \"Bar\",,  \"ContractOI\", \"D\", \"-1\",,,,,\"T\"))","v":542},{"$f":"IF(LEFT(RTD(\"cqg.rtd\", ,\"ContractData\",B103, \"LastTrade\",, \"T\"),3)=\"768\",\"\",RTD(\"cqg.rtd\",,\"StudyData\",B103,  \"Bar\",,  \"ContractOI\", \"D\", \"-2\",,,,,\"T\"))","v":466},{"$f":"IF(LEFT(RTD(\"cqg.rtd\", ,\"ContractData\",B103, \"LastTrade\",, \"T\"),3)=\"768\",\"\",IFERROR(IF(L103>M103,\"+\"&L103-M103,L103-M103)*1,\"\"))","v":76}]
[9750,"C.US.CLEJ269750",{"$f":"IF(LEFT(RTD(\"cqg.rtd\", ,\"ContractData\",B104, \"LastTrade\",, \"T\"),3)=\"768\",\"\",RTD(\"cqg.rtd\", ,\"ContractData\",B104, \"LastTrade\",, \"T\"))","v":5.22},{"$f":"IF(C104=\"\",\"\",RTD(\"cqg.rtd\", ,\"ContractData\",B104, \"NetLastTrade\",, \"T\"))","v":1.1299999999999999},{"$f":"IF(LEFT(RTD(\"cqg.rtd\", ,\"ContractData\",B104, \"LastTrade\",, \"T\"),3)=\"768\",\"\",RTD(\"cqg.rtd\", ,\"ContractData\",B104, \"MT_LastBidVolume\",, \"T\"))","v":37},{"$f":"IF(LEFT(RTD(\"cqg.rtd\", ,\"ContractData\",B104, \"LastTrade\",, \"T\"),3)=\"768\",\"\",RTD(\"cqg.rtd\", ,\"ContractData\",B104, \"Bid\",, \"T\"))","v":5.14},{"$f":"IF(LEFT(RTD(\"cqg.rtd\", ,\"ContractData\",B104, \"LastTrade\",, \"T\"),3)=\"768\",\"\",RTD(\"cqg.rtd\", ,\"ContractData\",B104, \"Ask\",, \"T\"))","v":5.26},{"$f":"IF(LEFT(RTD(\"cqg.rtd\", ,\"ContractData\",B104, \"LastTrade\",, \"T\"),3)=\"768\",\"\",RTD(\"cqg.rtd\", ,\"ContractData\",B104, \"MT_LastAskVolume\",, \"T\"))","v":1},{"$f":"IF(LEFT(RTD(\"cqg.rtd\", ,\"ContractData\",B104, \"LastTrade\",, \"T\"),3)=\"768\",\"\",RTD(\"cqg.rtd\", ,\"ContractData\",B104, \"T_CVol\",, \"T\"))","v":45},{"$f":"IF(LEFT(RTD(\"cqg.rtd\", ,\"ContractData\",B104, \"LastTrade\",, \"T\"),3)=\"768\",\"\",RTD(\"cqg.rtd\", ,\"ContractData\",B104, \"Y_CVol\",, \"T\"))","v":155},{"$f":"IF(LEFT(RTD(\"cqg.rtd\", ,\"ContractData\",B104, \"LastTrade\",, \"T\"),3)=\"768\",\"\",IFERROR(IF(I104>J104,\"+\"&I104-J104,I104-J104)*1,\"\"))","v":-110},{"$f":"IF(LEFT(RTD(\"cqg.rtd\", ,\"ContractData\",B104, \"LastTrade\",, \"T\"),3)=\"768\",\"\",RTD(\"cqg.rtd\",,\"StudyData\",B104,  \"Bar\",,  \"ContractOI\", \"D\", \"-1\",,,,,\"T\"))","v":355},{"$f":"IF(LEFT(RTD(\"cqg.rtd\", ,\"ContractData\",B104, \"LastTrade\",, \"T\"),3)=\"768\",\"\",RTD(\"cqg.rtd\",,\"StudyData\",B104,  \"Bar\",,  \"ContractOI\", \"D\", \"-2\",,,,,\"T\"))","v":274},{"$f":"IF(LEFT(RTD(\"cqg.rtd\", ,\"ContractData\",B104, \"LastTrade\",, \"T\"),3)=\"768\",\"\",IFERROR(IF(L104>M104,\"+\"&L104-M104,L104-M104)*1,\"\"))","v":81}]
[9800,"C.US.CLEJ269800",{"$f":"IF(LEFT(RTD(\"cqg.rtd\", ,\"ContractData\",B105, \"LastTrade\",, \"T\"),3)=\"768\",\"\",RTD(\"cqg.rtd\", ,\"ContractData\",B105, \"LastTrade\",, \"T\"))","v":6.2},{"$f":"IF(C105=\"\",\"\",RTD(\"cqg.rtd\", ,\"ContractData\",B105, \"NetLastTrade\",, \"T\"))","v":2.2200000000000002},{"$f":"IF(LEFT(RTD(\"cqg.rtd\", ,\"ContractData\",B105, \"LastTrade\",, \"T\"),3)=\"768\",\"\",RTD(\"cqg.rtd\", ,\"ContractData\",B105, \"MT_LastBidVolume\",, \"T\"))","v":28},{"$f":"IF(LEFT(RTD(\"cqg.rtd\", ,\"ContractData\",B105, \"LastTrade\",, \"T\"),3)=\"768\",\"\",RTD(\"cqg.rtd\", ,\"ContractData\",B105, \"Bid\",, \"T\"))","v":5},{"$f":"IF(LEFT(RTD(\"cqg.rtd\", ,\"ContractData\",B105, \"LastTrade\",, \"T\"),3)=\"768\",\"\",RTD(\"cqg.rtd\", ,\"ContractData\",B105, \"Ask\",, \"T\"))","v":5.1100000000000003},{"$f":"IF(LEFT(RTD(\"cqg.rtd\", ,\"ContractData\",B105, \"LastTrade\",, \"T\"),3)=\"768\",\"\",RTD(\"cqg.rtd\", ,\"ContractData\",B105, \"MT_LastAskVolume\",, \"T\"))","v":2},{"$f":"IF(LEFT(RTD(\"cqg.rtd\", ,\"ContractData\",B105, \"LastTrade\",, \"T\"),3)=\"768\",\"\",RTD(\"cqg.rtd\", ,\"ContractData\",B105, \"T_CVol\",, \"T\"))","v":42},{"$f":"IF(LEFT(RTD(\"cqg.rtd\", ,\"ContractData\",B105, \"LastTrade\",, \"T\"),3)=\"768\",\"\",RTD(\"cqg.rtd\", ,\"ContractData\",B105, \"Y_CVol\",, \"T\"))","v":649},{"$f":"IF(LEFT(RTD(\"cqg.rtd\", ,\"ContractData\",B105, \"LastTrade\",, \"T\"),3)=\"768\",\"\",IFERROR(IF(I105>J105,\"+\"&I105-J105,I105-J105)*1,\"\"))","v":-607},{"$f":"IF(LEFT(RTD(\"cqg.rtd\", ,\"ContractData\",B105, \"LastTrade\",, \"T\"),3)=\"768\",\"\",RTD(\"cqg.rtd\",,\"StudyData\",B105,  \"Bar\",,  \"ContractOI\", \"D\", \"-1\",,,,,\"T\"))","v":2294},{"$f":"IF(LEFT(RTD(\"cqg.rtd\", ,\"ContractData\",B105, \"LastTrade\",, \"T\"),3)=\"768\",\"\",RTD(\"cqg.rtd\",,\"StudyData\",B105,  \"Bar\",,  \"ContractOI\", \"D\", \"-2\",,,,,\"T\"))","v":2182},{"$f":"IF(LEFT(RTD(\"cqg.rtd\", ,\"ContractData\",B105, \"LastTrade\",, \"T\"),3)=\"768\",\"\",IFERROR(IF(L105>M105,\"+\"&L105-M105,L105-M105)*1,\"\"))","v":112}]
[9850,"C.US.CLEJ269850",{"$f":"IF(LEFT(RTD(\"cqg.rtd\", ,\"ContractData\",B106, \"LastTrade\",, \"T\"),3)=\"768\",\"\",RTD(\"cqg.rtd\", ,\"ContractData\",B106, \"LastTrade\",, \"T\"))","v":6.25},{"$f":"IF(C106=\"\",\"\",RTD(\"cqg.rtd\", ,\"ContractData\",B106, \"NetLastTrade\",, \"T\"))","v":2.38},{"$f":"IF(LEFT(RTD(\"cqg.rtd\", ,\"ContractData\",B106, \"LastTrade\",, \"T\"),3)=\"768\",\"\",RTD(\"cqg.rtd\", ,\"ContractData\",B106, \"MT_LastBidVolume\",, \"T\"))","v":28},{"$f":"IF(LEFT(RTD(\"cqg.rtd\", ,\"ContractData\",B106, \"LastTrade\",, \"T\"),3)=\"768\",\"\",RTD(\"cqg.rtd\", ,\"ContractData\",B106, \"Bid\",, \"T\"))","v":4.8600000000000003},{"$f":"IF(LEFT(RTD(\"cqg.rtd\", ,\"ContractData\",B106, \"LastTrade\",, \"T\"),3)=\"768\",\"\",RTD(\"cqg.rtd\", ,\"ContractData\",B106, \"Ask\",, \"T\"))","v":4.97},{"$f":"IF(LEFT(RTD(\"cqg.rtd\", ,\"ContractData\",B106, \"LastTrade\",, \"T\"),3)=\"768\",\"\",RTD(\"cqg.rtd\", ,\"ContractData\",B106, \"MT_LastAskVolume\",, \"T\"))","v":2},{"$f":"IF(LEFT(RTD(\"cqg.rtd\", ,\"ContractData\",B106, \"LastTrade\",, \"T\"),3)=\"768\",\"\",RTD(\"cqg.rtd\", ,\"ContractData\",B106, \"T_CVol\",, \"T\"))","v":7},{"$f":"IF(LEFT(RTD(\"cqg.rtd\", ,\"ContractData\",B106, \"LastTrade\",, \"T\"),3)=\"768\",\"\",RTD(\"cqg.rtd\", ,\"ContractData\",B106, \"Y_CVol\",, \"T\"))","v":100},{"$f":"IF(LEFT(RTD(\"cqg.rtd\", ,\"ContractData\",B106, \"LastTrade\",, \"T\"),3)=\"768\",\"\",IFERROR(IF(I106>J106,\"+\"&I106-J106,I106-J106)*1,\"\"))","v":-93},{"$f":"IF(LEFT(RTD(\"cqg.rtd\", ,\"ContractData\",B106, \"LastTrade\",, \"T\"),3)=\"768\",\"\",RTD(\"cqg.rtd\",,\"StudyData\",B106,  \"Bar\",,  \"ContractOI\", \"D\", \"-1\",,,,,\"T\"))","v":567},{"$f":"IF(LEFT(RTD(\"cqg.rtd\", ,\"ContractData\",B106, \"LastTrade\",, \"T\"),3)=\"768\",\"\",RTD(\"cqg.rtd\",,\"StudyData\",B106,  \"Bar\",,  \"ContractOI\", \"D\", \"-2\",,,,,\"T\"))","v":528},{"$f":"IF(LEFT(RTD(\"cqg.rtd\", ,\"ContractData\",B106, \"LastTrade\",, \"T\"),3)=\"768\",\"\",IFERROR(IF(L106>M106,\"+\"&L106-M106,L106-M106)*1,\"\"))","v":39}]
[9900,"C.US.CLEJ269900",{"$f":"IF(LEFT(RTD(\"cqg.rtd\", ,\"ContractData\",B107, \"LastTrade\",, \"T\"),3)=\"768\",\"\",RTD(\"cqg.rtd\", ,\"ContractData\",B107, \"LastTrade\",, \"T\"))","v":4.7300000000000004},{"$f":"IF(C107=\"\",\"\",RTD(\"cqg.rtd\", ,\"ContractData\",B107, \"NetLastTrade\",, \"T\"))","v":0.96000000000000041},{"$f":"IF(LEFT(RTD(\"cqg.rtd\", ,\"ContractData\",B107, \"LastTrade\",, \"T\"),3)=\"768\",\"\",RTD(\"cqg.rtd\", ,\"ContractData\",B107, \"MT_LastBidVolume\",, \"T\"))","v":47},{"$f":"IF(LEFT(RTD(\"cqg.rtd\", ,\"ContractData\",B107, \"LastTrade\",, \"T\"),3)=\"768\",\"\",RTD(\"cqg.rtd\", ,\"ContractData\",B107, \"Bid\",, \"T\"))","v":4.72},{"$f":"IF(LEFT(RTD(\"cqg.rtd\", ,\"ContractData\",B107, \"LastTrade\",, \"T\"),3)=\"768\",\"\",RTD(\"cqg.rtd\", ,\"ContractData\",B107, \"Ask\",, \"T\"))","v":4.84},{"$f":"IF(LEFT(RTD(\"cqg.rtd\", ,\"ContractData\",B107, \"LastTrade\",, \"T\"),3)=\"768\",\"\",RTD(\"cqg.rtd\", ,\"ContractData\",B107, \"MT_LastAskVolume\",, \"T\"))","v":2},{"$f":"IF(LEFT(RTD(\"cqg.rtd\", ,\"ContractData\",B107, \"LastTrade\",, \"T\"),3)=\"768\",\"\",RTD(\"cqg.rtd\", ,\"ContractData\",B107, \"T_CVol\",, \"T\"))","v":3},{"$f":"IF(LEFT(RTD(\"cqg.rtd\", ,\"ContractData\",B107, \"LastTrade\",, \"T\"),3)=\"768\",\"\",RTD(\"cqg.rtd\", ,\"ContractData\",B107, \"Y_CVol\",, \"T\"))","v":550},{"$f":"IF(LEFT(RTD(\"cqg.rtd\", ,\"ContractData\",B107, \"LastTrade\",, \"T\"),3)=\"768\",\"\",IFERROR(IF(I107>J107,\"+\"&I107-J107,I107-J107)*1,\"\"))","v":-547},{"$f":"IF(LEFT(RTD(\"cqg.rtd\", ,\"ContractData\",B107, \"LastTrade\",, \"T\"),3)=\"768\",\"\",RTD(\"cqg.rtd\",,\"StudyData\",B107,  \"Bar\",,  \"ContractOI\", \"D\", \"-1\",,,,,\"T\"))","v":858},{"$f":"IF(LEFT(RTD(\"cqg.rtd\", ,\"ContractData\",B107, \"LastTrade\",, \"T\"),3)=\"768\",\"\",RTD(\"cqg.rtd\",,\"StudyData\",B107,  \"Bar\",,  \"ContractOI\", \"D\", \"-2\",,,,,\"T\"))","v":569},{"$f":"IF(LEFT(RTD(\"cqg.rtd\", ,\"ContractData\",B107, \"LastTrade\",, \"T\"),3)=\"768\",\"\",IFERROR(IF(L107>M107,\"+\"&L107-M107,L107-M107)*1,\"\"))","v":289}]
[9950,"C.US.CLEJ269950",{"$f":"IF(LEFT(RTD(\"cqg.rtd\", ,\"ContractData\",B108, \"LastTrade\",, \"T\"),3)=\"768\",\"\",RTD(\"cqg.rtd\", ,\"ContractData\",B108, \"LastTrade\",, \"T\"))","v":3.94},{"$f":"IF(C108=\"\",\"\",RTD(\"cqg.rtd\", ,\"ContractData\",B108, \"NetLastTrade\",, \"T\"))","v":0.27},{"$f":"IF(LEFT(RTD(\"cqg.rtd\", ,\"ContractData\",B108, \"LastTrade\",, \"T\"),3)=\"768\",\"\",RTD(\"cqg.rtd\", ,\"ContractData\",B108, \"MT_LastBidVolume\",, \"T\"))","v":35},{"$f":"IF(LEFT(RTD(\"cqg.rtd\", ,\"ContractData\",B108, \"LastTrade\",, \"T\"),3)=\"768\",\"\",RTD(\"cqg.rtd\", ,\"ContractData\",B108, \"Bid\",, \"T\"))","v":4.59},{"$f":"IF(LEFT(RTD(\"cqg.rtd\", ,\"ContractData\",B108, \"LastTrade\",, \"T\"),3)=\"768\",\"\",RTD(\"cqg.rtd\", ,\"ContractData\",B108, \"Ask\",, \"T\"))","v":4.7},{"$f":"IF(LEFT(RTD(\"cqg.rtd\", ,\"ContractData\",B108, \"LastTrade\",, \"T\"),3)=\"768\",\"\",RTD(\"cqg.rtd\", ,\"ContractData\",B108, \"MT_LastAskVolume\",, \"T\"))","v":2},{"$f":"IF(LEFT(RTD(\"cqg.rtd\", ,\"ContractData\",B108, \"LastTrade\",, \"T\"),3)=\"768\",\"\",RTD(\"cqg.rtd\", ,\"ContractData\",B108, \"T_CVol\",, \"T\"))","v":107},{"$f":"IF(LEFT(RTD(\"cqg.rtd\", ,\"ContractData\",B108, \"LastTrade\",, \"T\"),3)=\"768\",\"\",RTD(\"cqg.rtd\", ,\"ContractData\",B108, \"Y_CVol\",, \"T\"))","v":283},{"$f":"IF(LEFT(RTD(\"cqg.rtd\", ,\"ContractData\",B108, \"LastTrade\",, \"T\"),3)=\"768\",\"\",IFERROR(IF(I108>J108,\"+\"&I108-J108,I108-J108)*1,\"\"))","v":-176},{"$f":"IF(LEFT(RTD(\"cqg.rtd\", ,\"ContractData\",B108, \"LastTrade\",, \"T\"),3)=\"768\",\"\",RTD(\"cqg.rtd\",,\"StudyData\",B108,  \"Bar\",,  \"ContractOI\", \"D\", \"-1\",,,,,\"T\"))","v":7296},{"$f":"IF(LEFT(RTD(\"cqg.rtd\", ,\"ContractData\",B108, \"LastTrade\",, \"T\"),3)=\"768\",\"\",RTD(\"cqg.rtd\",,\"StudyData\",B108,  \"Bar\",,  \"ContractOI\", \"D\", \"-2\",,,,,\"T\"))","v":7132},{"$f":"IF(LEFT(RTD(\"cqg.rtd\", ,\"ContractData\",B108, \"LastTrade\",, \"T\"),3)=\"768\",\"\",IFERROR(IF(L108>M108,\"+\"&L108-M108,L108-M108)*1,\"\"))","v":164}]
[10000,"C.US.CLEJ2610000",{"$f":"IF(LEFT(RTD(\"cqg.rtd\", ,\"ContractData\",B109, \"LastTrade\",, \"T\"),3)=\"768\",\"\",RTD(\"cqg.rtd\", ,\"ContractData\",B109, \"LastTrade\",, \"T\"))","v":4.6000000000000005},{"$f":"IF(C109=\"\",\"\",RTD(\"cqg.rtd\", ,\"ContractData\",B109, \"NetLastTrade\",, \"T\"))","v":1.0300000000000002},{"$f":"IF(LEFT(RTD(\"cqg.rtd\", ,\"ContractData\",B109, \"LastTrade\",, \"T\"),3)=\"768\",\"\",RTD(\"cqg.rtd\", ,\"ContractData\",B109, \"MT_LastBidVolume\",, \"T\"))","v":41},{"$f":"IF(LEFT(RTD(\"cqg.rtd\", ,\"ContractData\",B109, \"LastTrade\",, \"T\"),3)=\"768\",\"\",RTD(\"cqg.rtd\", ,\"ContractData\",B109, \"Bid\",, \"T\"))","v":4.46},{"$f":"IF(LEFT(RTD(\"cqg.rtd\", ,\"ContractData\",B109, \"LastTrade\",, \"T\"),3)=\"768\",\"\",RTD(\"cqg.rtd\", ,\"ContractData\",B109, \"Ask\",, \"T\"))","v":4.58},{"$f":"IF(LEFT(RTD(\"cqg.rtd\", ,\"ContractData\",B109, \"LastTrade\",, \"T\"),3)=\"768\",\"\",RTD(\"cqg.rtd\", ,\"ContractData\",B109, \"MT_LastAskVolume\",, \"T\"))","v":2},{"$f":"IF(LEFT(RTD(\"cqg.rtd\", ,\"ContractData\",B109, \"LastTrade\",, \"T\"),3)=\"768\",\"\",RTD(\"cqg.rtd\", ,\"ContractData\",B109, \"T_CVol\",, \"T\"))","v":942},{"$f":"IF(LEFT(RTD(\"cqg.rtd\", ,\"ContractData\",B109, \"LastTrade\",, \"T\"),3)=\"768\",\"\",RTD(\"cqg.rtd\", ,\"ContractData\",B109, \"Y_CVol\",, \"T\"))","v":4144},{"$f":"IF(LEFT(RTD(\"cqg.rtd\", ,\"ContractData\",B109, \"LastTrade\",, \"T\"),3)=\"768\",\"\",IFERROR(IF(I109>J109,\"+\"&I109-J109,I109-J109)*1,\"\"))","v":-3202},{"$f":"IF(LEFT(RTD(\"cqg.rtd\", ,\"ContractData\",B109, \"LastTrade\",, \"T\"),3)=\"768\",\"\",RTD(\"cqg.rtd\",,\"StudyData\",B109,  \"Bar\",,  \"ContractOI\", \"D\", \"-1\",,,,,\"T\"))","v":28881},{"$f":"IF(LEFT(RTD(\"cqg.rtd\", ,\"ContractData\",B109, \"LastTrade\",, \"T\"),3)=\"768\",\"\",RTD(\"cqg.rtd\",,\"StudyData\",B109,  \"Bar\",,  \"ContractOI\", \"D\", \"-2\",,,,,\"T\"))","v":28034},{"$f":"IF(LEFT(RTD(\"cqg.rtd\", ,\"ContractData\",B109, \"LastTrade\",, \"T\"),3)=\"768\",\"\",IFERROR(IF(L109>M109,\"+\"&L109-M109,L109-M109)*1,\"\"))","v":847}]
[10050,"C.US.CLEJ2610050",{"$f":"IF(LEFT(RTD(\"cqg.rtd\", ,\"ContractData\",B110, \"LastTrade\",, \"T\"),3)=\"768\",\"\",RTD(\"cqg.rtd\", ,\"ContractData\",B110, \"LastTrade\",, \"T\"))","v":4.74},{"$f":"IF(C110=\"\",\"\",RTD(\"cqg.rtd\", ,\"ContractData\",B110, \"NetLastTrade\",, \"T\"))","v":1.2600000000000002},{"$f":"IF(LEFT(RTD(\"cqg.rtd\", ,\"ContractData\",B110, \"LastTrade\",, \"T\"),3)=\"768\",\"\",RTD(\"cqg.rtd\", ,\"ContractData\",B110, \"MT_LastBidVolume\",, \"T\"))","v":49},{"$f":"IF(LEFT(RTD(\"cqg.rtd\", ,\"ContractData\",B110, \"LastTrade\",, \"T\"),3)=\"768\",\"\",RTD(\"cqg.rtd\", ,\"ContractData\",B110, \"Bid\",, \"T\"))","v":4.33},{"$f":"IF(LEFT(RTD(\"cqg.rtd\", ,\"ContractData\",B110, \"LastTrade\",, \"T\"),3)=\"768\",\"\",RTD(\"cqg.rtd\", ,\"ContractData\",B110, \"Ask\",, \"T\"))","v":4.4400000000000004},{"$f":"IF(LEFT(RTD(\"cqg.rtd\", ,\"ContractData\",B110, \"LastTrade\",, \"T\"),3)=\"768\",\"\",RTD(\"cqg.rtd\", ,\"ContractData\",B110, \"MT_LastAskVolume\",, \"T\"))","v":1},{"$f":"IF(LEFT(RTD(\"cqg.rtd\", ,\"ContractData\",B110, \"LastTrade\",, \"T\"),3)=\"768\",\"\",RTD(\"cqg.rtd\", ,\"ContractData\",B110, \"T_CVol\",, \"T\"))","v":168},{"$f":"IF(LEFT(RTD(\"cqg.rtd\", ,\"ContractData\",B110, \"LastTrade\",, \"T\"),3)=\"768\",\"\",RTD(\"cqg.rtd\", ,\"ContractData\",B110, \"Y_CVol\",, \"T\"))","v":670},{"$f":"IF(LEFT(RTD(\"cqg.rtd\", ,\"ContractData\",B110, \"LastTrade\",, \"T\"),3)=\"768\",\"\",IFERROR(IF(I110>J110,\"+\"&I110-J110,I110-J110)*1,\"\"))","v":-502},{"$f":"IF(LEFT(RTD(\"cqg.rtd\", ,\"ContractData\",B110, \"LastTrade\",, \"T\"),3)=\"768\",\"\",RTD(\"cqg.rtd\",,\"StudyData\",B110,  \"Bar\",,  \"ContractOI\", \"D\", \"-1\",,,,,\"T\"))","v":18150},{"$f":"IF(LEFT(RTD(\"cqg.rtd\", ,\"ContractData\",B110, \"LastTrade\",, \"T\"),3)=\"768\",\"\",RTD(\"cqg.rtd\",,\"StudyData\",B110,  \"Bar\",,  \"ContractOI\", \"D\", \"-2\",,,,,\"T\"))","v":17779},{"$f":"IF(LEFT(RTD(\"cqg.rtd\", ,\"ContractData\",B110, \"LastTrade\",, \"T\"),3)=\"768\",\"\",IFERROR(IF(L110>M110,\"+\"&L110-M110,L110-M110)*1,\"\"))","v":371}]
[10100,"C.US.CLEJ2610100",{"$f":"IF(LEFT(RTD(\"cqg.rtd\", ,\"ContractData\",B111, \"LastTrade\",, \"T\"),3)=\"768\",\"\",RTD(\"cqg.rtd\", ,\"ContractData\",B111, \"LastTrade\",, \"T\"))","v":4.75},{"$f":"IF(C111=\"\",\"\",RTD(\"cqg.rtd\", ,\"ContractData\",B111, \"NetLastTrade\",, \"T\"))","v":1.37},{"$f":"IF(LEFT(RTD(\"cqg.rtd\", ,\"ContractData\",B111, \"LastTrade\",, \"T\"),3)=\"768\",\"\",RTD(\"cqg.rtd\", ,\"ContractData\",B111, \"MT_LastBidVolume\",, \"T\"))","v":8},{"$f":"IF(LEFT(RTD(\"cqg.rtd\", ,\"ContractData\",B111, \"LastTrade\",, \"T\"),3)=\"768\",\"\",RTD(\"cqg.rtd\", ,\"ContractData\",B111, \"Bid\",, \"T\"))","v":4.2300000000000004},{"$f":"IF(LEFT(RTD(\"cqg.rtd\", ,\"ContractData\",B111, \"LastTrade\",, \"T\"),3)=\"768\",\"\",RTD(\"cqg.rtd\", ,\"ContractData\",B111, \"Ask\",, \"T\"))","v":4.33},{"$f":"IF(LEFT(RTD(\"cqg.rtd\", ,\"ContractData\",B111, \"LastTrade\",, \"T\"),3)=\"768\",\"\",RTD(\"cqg.rtd\", ,\"ContractData\",B111, \"MT_LastAskVolume\",, \"T\"))","v":1},{"$f":"IF(LEFT(RTD(\"cqg.rtd\", ,\"ContractData\",B111, \"LastTrade\",, \"T\"),3)=\"768\",\"\",RTD(\"cqg.rtd\", ,\"ContractData\",B111, \"T_CVol\",, \"T\"))","v":70},{"$f":"IF(LEFT(RTD(\"cqg.rtd\", ,\"ContractData\",B111, \"LastTrade\",, \"T\"),3)=\"768\",\"\",RTD(\"cqg.rtd\", ,\"ContractData\",B111, \"Y_CVol\",, \"T\"))","v":258},{"$f":"IF(LEFT(RTD(\"cqg.rtd\", ,\"ContractData\",B111, \"LastTrade\",, \"T\"),3)=\"768\",\"\",IFERROR(IF(I111>J111,\"+\"&I111-J111,I111-J111)*1,\"\"))","v":-188},{"$f":"IF(LEFT(RTD(\"cqg.rtd\", ,\"ContractData\",B111, \"LastTrade\",, \"T\"),3)=\"768\",\"\",RTD(\"cqg.rtd\",,\"StudyData\",B111,  \"Bar\",,  \"ContractOI\", \"D\", \"-1\",,,,,\"T\"))","v":612},{"$f":"IF(LEFT(RTD(\"cqg.rtd\", ,\"ContractData\",B111, \"LastTrade\",, \"T\"),3)=\"768\",\"\",RTD(\"cqg.rtd\",,\"StudyData\",B111,  \"Bar\",,  \"ContractOI\", \"D\", \"-2\",,,,,\"T\"))","v":573},{"$f":"IF(LEFT(RTD(\"cqg.rtd\", ,\"ContractData\",B111, \"LastTrade\",, \"T\"),3)=\"768\",\"\",IFERROR(IF(L111>M111,\"+\"&L111-M111,L111-M111)*1,\"\"))","v":39}]
[10150,"C.US.CLEJ2610150",{"$f":"IF(LEFT(RTD(\"cqg.rtd\", ,\"ContractData\",B112, \"LastTrade\",, \"T\"),3)=\"768\",\"\",RTD(\"cqg.rtd\", ,\"ContractData\",B112, \"LastTrade\",, \"T\"))","v":6.09},{"$f":"IF(C112=\"\",\"\",RTD(\"cqg.rtd\", ,\"ContractData\",B112, \"NetLastTrade\",, \"T\"))","v":2.8},{"$f":"IF(LEFT(RTD(\"cqg.rtd\", ,\"ContractData\",B112, \"LastTrade\",, \"T\"),3)=\"768\",\"\",RTD(\"cqg.rtd\", ,\"ContractData\",B112, \"MT_LastBidVolume\",, \"T\"))","v":8},{"$f":"IF(LEFT(RTD(\"cqg.rtd\", ,\"ContractData\",B112, \"LastTrade\",, \"T\"),3)=\"768\",\"\",RTD(\"cqg.rtd\", ,\"ContractData\",B112, \"Bid\",, \"T\"))","v":4.12},{"$f":"IF(LEFT(RTD(\"cqg.rtd\", ,\"ContractData\",B112, \"LastTrade\",, \"T\"),3)=\"768\",\"\",RTD(\"cqg.rtd\", ,\"ContractData\",B112, \"Ask\",, \"T\"))","v":4.22},{"$f":"IF(LEFT(RTD(\"cqg.rtd\", ,\"ContractData\",B112, \"LastTrade\",, \"T\"),3)=\"768\",\"\",RTD(\"cqg.rtd\", ,\"ContractData\",B112, \"MT_LastAskVolume\",, \"T\"))","v":47},{"$f":"IF(LEFT(RTD(\"cqg.rtd\", ,\"ContractData\",B112, \"LastTrade\",, \"T\"),3)=\"768\",\"\",RTD(\"cqg.rtd\", ,\"ContractData\",B112, \"T_CVol\",, \"T\"))","v":1},{"$f":"IF(LEFT(RTD(\"cqg.rtd\", ,\"ContractData\",B112, \"LastTrade\",, \"T\"),3)=\"768\",\"\",RTD(\"cqg.rtd\", ,\"ContractData\",B112, \"Y_CVol\",, \"T\"))","v":101},{"$f":"IF(LEFT(RTD(\"cqg.rtd\", ,\"ContractData\",B112, \"LastTrade\",, \"T\"),3)=\"768\",\"\",IFERROR(IF(I112>J112,\"+\"&I112-J112,I112-J112)*1,\"\"))","v":-100},{"$f":"IF(LEFT(RTD(\"cqg.rtd\", ,\"ContractData\",B112, \"LastTrade\",, \"T\"),3)=\"768\",\"\",RTD(\"cqg.rtd\",,\"StudyData\",B112,  \"Bar\",,  \"ContractOI\", \"D\", \"-1\",,,,,\"T\"))","v":238},{"$f":"IF(LEFT(RTD(\"cqg.rtd\", ,\"ContractData\",B112, \"LastTrade\",, \"T\"),3)=\"768\",\"\",RTD(\"cqg.rtd\",,\"StudyData\",B112,  \"Bar\",,  \"ContractOI\", \"D\", \"-2\",,,,,\"T\"))","v":267},{"$f":"IF(LEFT(RTD(\"cqg.rtd\", ,\"ContractData\",B112, \"LastTrade\",, \"T\"),3)=\"768\",\"\",IFERROR(IF(L112>M112,\"+\"&L112-M112,L112-M112)*1,\"\"))","v":-29}]
[10200,"C.US.CLEJ2610200",{"$f":"IF(LEFT(RTD(\"cqg.rtd\", ,\"ContractData\",B113, \"LastTrade\",, \"T\"),3)=\"768\",\"\",RTD(\"cqg.rtd\", ,\"ContractData\",B113, \"LastTrade\",, \"T\"))","v":3.95},{"$f":"IF(C113=\"\",\"\",RTD(\"cqg.rtd\", ,\"ContractData\",B113, \"NetLastTrade\",, \"T\"))","v":0.74000000000000021},{"$f":"IF(LEFT(RTD(\"cqg.rtd\", ,\"ContractData\",B113, \"LastTrade\",, \"T\"),3)=\"768\",\"\",RTD(\"cqg.rtd\", ,\"ContractData\",B113, \"MT_LastBidVolume\",, \"T\"))","v":3},{"$f":"IF(LEFT(RTD(\"cqg.rtd\", ,\"ContractData\",B113, \"LastTrade\",, \"T\"),3)=\"768\",\"\",RTD(\"cqg.rtd\", ,\"ContractData\",B113, \"Bid\",, \"T\"))","v":4},{"$f":"IF(LEFT(RTD(\"cqg.rtd\", ,\"ContractData\",B113, \"LastTrade\",, \"T\"),3)=\"768\",\"\",RTD(\"cqg.rtd\", ,\"ContractData\",B113, \"Ask\",, \"T\"))","v":4.0999999999999996},{"$f":"IF(LEFT(RTD(\"cqg.rtd\", ,\"ContractData\",B113, \"LastTrade\",, \"T\"),3)=\"768\",\"\",RTD(\"cqg.rtd\", ,\"ContractData\",B113, \"MT_LastAskVolume\",, \"T\"))","v":19},{"$f":"IF(LEFT(RTD(\"cqg.rtd\", ,\"ContractData\",B113, \"LastTrade\",, \"T\"),3)=\"768\",\"\",RTD(\"cqg.rtd\", ,\"ContractData\",B113, \"T_CVol\",, \"T\"))","v":247},{"$f":"IF(LEFT(RTD(\"cqg.rtd\", ,\"ContractData\",B113, \"LastTrade\",, \"T\"),3)=\"768\",\"\",RTD(\"cqg.rtd\", ,\"ContractData\",B113, \"Y_CVol\",, \"T\"))","v":749},{"$f":"IF(LEFT(RTD(\"cqg.rtd\", ,\"ContractData\",B113, \"LastTrade\",, \"T\"),3)=\"768\",\"\",IFERROR(IF(I113>J113,\"+\"&I113-J113,I113-J113)*1,\"\"))","v":-502},{"$f":"IF(LEFT(RTD(\"cqg.rtd\", ,\"ContractData\",B113, \"LastTrade\",, \"T\"),3)=\"768\",\"\",RTD(\"cqg.rtd\",,\"StudyData\",B113,  \"Bar\",,  \"ContractOI\", \"D\", \"-1\",,,,,\"T\"))","v":499},{"$f":"IF(LEFT(RTD(\"cqg.rtd\", ,\"ContractData\",B113, \"LastTrade\",, \"T\"),3)=\"768\",\"\",RTD(\"cqg.rtd\",,\"StudyData\",B113,  \"Bar\",,  \"ContractOI\", \"D\", \"-2\",,,,,\"T\"))","v":379},{"$f":"IF(LEFT(RTD(\"cqg.rtd\", ,\"ContractData\",B113, \"LastTrade\",, \"T\"),3)=\"768\",\"\",IFERROR(IF(L113>M113,\"+\"&L113-M113,L113-M113)*1,\"\"))","v":120}]
[10250,"C.US.CLEJ2610250",{"$f":"IF(LEFT(RTD(\"cqg.rtd\", ,\"ContractData\",B114, \"LastTrade\",, \"T\"),3)=\"768\",\"\",RTD(\"cqg.rtd\", ,\"ContractData\",B114, \"LastTrade\",, \"T\"))","v":4.43},{"$f":"IF(C114=\"\",\"\",RTD(\"cqg.rtd\", ,\"ContractData\",B114, \"NetLastTrade\",, \"T\"))","v":1.3099999999999996},{"$f":"IF(LEFT(RTD(\"cqg.rtd\", ,\"ContractData\",B114, \"LastTrade\",, \"T\"),3)=\"768\",\"\",RTD(\"cqg.rtd\", ,\"ContractData\",B114, \"MT_LastBidVolume\",, \"T\"))","v":1},{"$f":"IF(LEFT(RTD(\"cqg.rtd\", ,\"ContractData\",B114, \"LastTrade\",, \"T\"),3)=\"768\",\"\",RTD(\"cqg.rtd\", ,\"ContractData\",B114, \"Bid\",, \"T\"))","v":3.89},{"$f":"IF(LEFT(RTD(\"cqg.rtd\", ,\"ContractData\",B114, \"LastTrade\",, \"T\"),3)=\"768\",\"\",RTD(\"cqg.rtd\", ,\"ContractData\",B114, \"Ask\",, \"T\"))","v":3.98},{"$f":"IF(LEFT(RTD(\"cqg.rtd\", ,\"ContractData\",B114, \"LastTrade\",, \"T\"),3)=\"768\",\"\",RTD(\"cqg.rtd\", ,\"ContractData\",B114, \"MT_LastAskVolume\",, \"T\"))","v":14},{"$f":"IF(LEFT(RTD(\"cqg.rtd\", ,\"ContractData\",B114, \"LastTrade\",, \"T\"),3)=\"768\",\"\",RTD(\"cqg.rtd\", ,\"ContractData\",B114, \"T_CVol\",, \"T\"))","v":9},{"$f":"IF(LEFT(RTD(\"cqg.rtd\", ,\"ContractData\",B114, \"LastTrade\",, \"T\"),3)=\"768\",\"\",RTD(\"cqg.rtd\", ,\"ContractData\",B114, \"Y_CVol\",, \"T\"))","v":106},{"$f":"IF(LEFT(RTD(\"cqg.rtd\", ,\"ContractData\",B114, \"LastTrade\",, \"T\"),3)=\"768\",\"\",IFERROR(IF(I114>J114,\"+\"&I114-J114,I114-J114)*1,\"\"))","v":-97},{"$f":"IF(LEFT(RTD(\"cqg.rtd\", ,\"ContractData\",B114, \"LastTrade\",, \"T\"),3)=\"768\",\"\",RTD(\"cqg.rtd\",,\"StudyData\",B114,  \"Bar\",,  \"ContractOI\", \"D\", \"-1\",,,,,\"T\"))","v":410},{"$f":"IF(LEFT(RTD(\"cqg.rtd\", ,\"ContractData\",B114, \"LastTrade\",, \"T\"),3)=\"768\",\"\",RTD(\"cqg.rtd\",,\"StudyData\",B114,  \"Bar\",,  \"ContractOI\", \"D\", \"-2\",,,,,\"T\"))","v":447},{"$f":"IF(LEFT(RTD(\"cqg.rtd\", ,\"ContractData\",B114, \"LastTrade\",, \"T\"),3)=\"768\",\"\",IFERROR(IF(L114>M114,\"+\"&L114-M114,L114-M114)*1,\"\"))","v":-37}]
[10300,"C.US.CLEJ2610300",{"$f":"IF(LEFT(RTD(\"cqg.rtd\", ,\"ContractData\",B115, \"LastTrade\",, \"T\"),3)=\"768\",\"\",RTD(\"cqg.rtd\", ,\"ContractData\",B115, \"LastTrade\",, \"T\"))","v":3.73},{"$f":"IF(C115=\"\",\"\",RTD(\"cqg.rtd\", ,\"ContractData\",B115, \"NetLastTrade\",, \"T\"))","v":0.69},{"$f":"IF(LEFT(RTD(\"cqg.rtd\", ,\"ContractData\",B115, \"LastTrade\",, \"T\"),3)=\"768\",\"\",RTD(\"cqg.rtd\", ,\"ContractData\",B115, \"MT_LastBidVolume\",, \"T\"))","v":2},{"$f":"IF(LEFT(RTD(\"cqg.rtd\", ,\"ContractData\",B115, \"LastTrade\",, \"T\"),3)=\"768\",\"\",RTD(\"cqg.rtd\", ,\"ContractData\",B115, \"Bid\",, \"T\"))","v":3.7800000000000002},{"$f":"IF(LEFT(RTD(\"cqg.rtd\", ,\"ContractData\",B115, \"LastTrade\",, \"T\"),3)=\"768\",\"\",RTD(\"cqg.rtd\", ,\"ContractData\",B115, \"Ask\",, \"T\"))","v":3.87},{"$f":"IF(LEFT(RTD(\"cqg.rtd\", ,\"ContractData\",B115, \"LastTrade\",, \"T\"),3)=\"768\",\"\",RTD(\"cqg.rtd\", ,\"ContractData\",B115, \"MT_LastAskVolume\",, \"T\"))","v":1},{"$f":"IF(LEFT(RTD(\"cqg.rtd\", ,\"ContractData\",B115, \"LastTrade\",, \"T\"),3)=\"768\",\"\",RTD(\"cqg.rtd\", ,\"ContractData\",B115, \"T_CVol\",, \"T\"))","v":57},{"$f":"IF(LEFT(RTD(\"cqg.rtd\", ,\"ContractData\",B115, \"LastTrade\",, \"T\"),3)=\"768\",\"\",RTD(\"cqg.rtd\", ,\"ContractData\",B115, \"Y_CVol\",, \"T\"))","v":390},{"$f":"IF(LEFT(RTD(\"cqg.rtd\", ,\"ContractData\",B115, \"LastTrade\",, \"T\"),3)=\"768\",\"\",IFERROR(IF(I115>J115,\"+\"&I115-J115,I115-J115)*1,\"\"))","v":-333},{"$f":"IF(LEFT(RTD(\"cqg.rtd\", ,\"ContractData\",B115, \"LastTrade\",, \"T\"),3)=\"768\",\"\",RTD(\"cqg.rtd\",,\"StudyData\",B115,  \"Bar\",,  \"ContractOI\", \"D\", \"-1\",,,,,\"T\"))","v":692},{"$f":"IF(LEFT(RTD(\"cqg.rtd\", ,\"ContractData\",B115, \"LastTrade\",, \"T\"),3)=\"768\",\"\",RTD(\"cqg.rtd\",,\"StudyData\",B115,  \"Bar\",,  \"ContractOI\", \"D\", \"-2\",,,,,\"T\"))","v":636},{"$f":"IF(LEFT(RTD(\"cqg.rtd\", ,\"ContractData\",B115, \"LastTrade\",, \"T\"),3)=\"768\",\"\",IFERROR(IF(L115>M115,\"+\"&L115-M115,L115-M115)*1,\"\"))","v":56}]
[10350,"C.US.CLEJ2610350",{"$f":"IF(LEFT(RTD(\"cqg.rtd\", ,\"ContractData\",B116, \"LastTrade\",, \"T\"),3)=\"768\",\"\",RTD(\"cqg.rtd\", ,\"ContractData\",B116, \"LastTrade\",, \"T\"))","v":2.9},{"$f":"IF(C116=\"\",\"\",RTD(\"cqg.rtd\", ,\"ContractData\",B116, \"NetLastTrade\",, \"T\"))","v":-5.0000000000000266E-2},{"$f":"IF(LEFT(RTD(\"cqg.rtd\", ,\"ContractData\",B116, \"LastTrade\",, \"T\"),3)=\"768\",\"\",RTD(\"cqg.rtd\", ,\"ContractData\",B116, \"MT_LastBidVolume\",, \"T\"))","v":9},{"$f":"IF(LEFT(RTD(\"cqg.rtd\", ,\"ContractData\",B116, \"LastTrade\",, \"T\"),3)=\"768\",\"\",RTD(\"cqg.rtd\", ,\"ContractData\",B116, \"Bid\",, \"T\"))","v":3.67},{"$f":"IF(LEFT(RTD(\"cqg.rtd\", ,\"ContractData\",B116, \"LastTrade\",, \"T\"),3)=\"768\",\"\",RTD(\"cqg.rtd\", ,\"ContractData\",B116, \"Ask\",, \"T\"))","v":3.7600000000000002},{"$f":"IF(LEFT(RTD(\"cqg.rtd\", ,\"ContractData\",B116, \"LastTrade\",, \"T\"),3)=\"768\",\"\",RTD(\"cqg.rtd\", ,\"ContractData\",B116, \"MT_LastAskVolume\",, \"T\"))","v":1},{"$f":"IF(LEFT(RTD(\"cqg.rtd\", ,\"ContractData\",B116, \"LastTrade\",, \"T\"),3)=\"768\",\"\",RTD(\"cqg.rtd\", ,\"ContractData\",B116, \"T_CVol\",, \"T\"))","v":50},{"$f":"IF(LEFT(RTD(\"cqg.rtd\", ,\"ContractData\",B116, \"LastTrade\",, \"T\"),3)=\"768\",\"\",RTD(\"cqg.rtd\", ,\"ContractData\",B116, \"Y_CVol\",, \"T\"))","v":26},{"$f":"IF(LEFT(RTD(\"cqg.rtd\", ,\"ContractData\",B116, \"LastTrade\",, \"T\"),3)=\"768\",\"\",IFERROR(IF(I116>J116,\"+\"&I116-J116,I116-J116)*1,\"\"))","v":24},{"$f":"IF(LEFT(RTD(\"cqg.rtd\", ,\"ContractData\",B116, \"LastTrade\",, \"T\"),3)=\"768\",\"\",RTD(\"cqg.rtd\",,\"StudyData\",B116,  \"Bar\",,  \"ContractOI\", \"D\", \"-1\",,,,,\"T\"))","v":232},{"$f":"IF(LEFT(RTD(\"cqg.rtd\", ,\"ContractData\",B116, \"LastTrade\",, \"T\"),3)=\"768\",\"\",RTD(\"cqg.rtd\",,\"StudyData\",B116,  \"Bar\",,  \"ContractOI\", \"D\", \"-2\",,,,,\"T\"))","v":235},{"$f":"IF(LEFT(RTD(\"cqg.rtd\", ,\"ContractData\",B116, \"LastTrade\",, \"T\"),3)=\"768\",\"\",IFERROR(IF(L116>M116,\"+\"&L116-M116,L116-M116)*1,\"\"))","v":-3}]
[10400,"C.US.CLEJ2610400",{"$f":"IF(LEFT(RTD(\"cqg.rtd\", ,\"ContractData\",B117, \"LastTrade\",, \"T\"),3)=\"768\",\"\",RTD(\"cqg.rtd\", ,\"ContractData\",B117, \"LastTrade\",, \"T\"))","v":4.03},{"$f":"IF(C117=\"\",\"\",RTD(\"cqg.rtd\", ,\"ContractData\",B117, \"NetLastTrade\",, \"T\"))","v":1.1600000000000001},{"$f":"IF(LEFT(RTD(\"cqg.rtd\", ,\"ContractData\",B117, \"LastTrade\",, \"T\"),3)=\"768\",\"\",RTD(\"cqg.rtd\", ,\"ContractData\",B117, \"MT_LastBidVolume\",, \"T\"))","v":22},{"$f":"IF(LEFT(RTD(\"cqg.rtd\", ,\"ContractData\",B117, \"LastTrade\",, \"T\"),3)=\"768\",\"\",RTD(\"cqg.rtd\", ,\"ContractData\",B117, \"Bid\",, \"T\"))","v":3.5700000000000003},{"$f":"IF(LEFT(RTD(\"cqg.rtd\", ,\"ContractData\",B117, \"LastTrade\",, \"T\"),3)=\"768\",\"\",RTD(\"cqg.rtd\", ,\"ContractData\",B117, \"Ask\",, \"T\"))","v":3.66},{"$f":"IF(LEFT(RTD(\"cqg.rtd\", ,\"ContractData\",B117, \"LastTrade\",, \"T\"),3)=\"768\",\"\",RTD(\"cqg.rtd\", ,\"ContractData\",B117, \"MT_LastAskVolume\",, \"T\"))","v":2},{"$f":"IF(LEFT(RTD(\"cqg.rtd\", ,\"ContractData\",B117, \"LastTrade\",, \"T\"),3)=\"768\",\"\",RTD(\"cqg.rtd\", ,\"ContractData\",B117, \"T_CVol\",, \"T\"))","v":4},{"$f":"IF(LEFT(RTD(\"cqg.rtd\", ,\"ContractData\",B117, \"LastTrade\",, \"T\"),3)=\"768\",\"\",RTD(\"cqg.rtd\", ,\"ContractData\",B117, \"Y_CVol\",, \"T\"))","v":43},{"$f":"IF(LEFT(RTD(\"cqg.rtd\", ,\"ContractData\",B117, \"LastTrade\",, \"T\"),3)=\"768\",\"\",IFERROR(IF(I117>J117,\"+\"&I117-J117,I117-J117)*1,\"\"))","v":-39},{"$f":"IF(LEFT(RTD(\"cqg.rtd\", ,\"ContractData\",B117, \"LastTrade\",, \"T\"),3)=\"768\",\"\",RTD(\"cqg.rtd\",,\"StudyData\",B117,  \"Bar\",,  \"ContractOI\", \"D\", \"-1\",,,,,\"T\"))","v":269},{"$f":"IF(LEFT(RTD(\"cqg.rtd\", ,\"ContractData\",B117, \"LastTrade\",, \"T\"),3)=\"768\",\"\",RTD(\"cqg.rtd\",,\"StudyData\",B117,  \"Bar\",,  \"ContractOI\", \"D\", \"-2\",,,,,\"T\"))","v":273},{"$f":"IF(LEFT(RTD(\"cqg.rtd\", ,\"ContractData\",B117, \"LastTrade\",, \"T\"),3)=\"768\",\"\",IFERROR(IF(L117>M117,\"+\"&L117-M117,L117-M117)*1,\"\"))","v":-4}]
[10450,"C.US.CLEJ2610450",{"$f":"IF(LEFT(RTD(\"cqg.rtd\", ,\"ContractData\",B118, \"LastTrade\",, \"T\"),3)=\"768\",\"\",RTD(\"cqg.rtd\", ,\"ContractData\",B118, \"LastTrade\",, \"T\"))","v":2.92},{"$f":"IF(C118=\"\",\"\",RTD(\"cqg.rtd\", ,\"ContractData\",B118, \"NetLastTrade\",, \"T\"))","v":0.11999999999999966},{"$f":"IF(LEFT(RTD(\"cqg.rtd\", ,\"ContractData\",B118, \"LastTrade\",, \"T\"),3)=\"768\",\"\",RTD(\"cqg.rtd\", ,\"ContractData\",B118, \"MT_LastBidVolume\",, \"T\"))","v":21},{"$f":"IF(LEFT(RTD(\"cqg.rtd\", ,\"ContractData\",B118, \"LastTrade\",, \"T\"),3)=\"768\",\"\",RTD(\"cqg.rtd\", ,\"ContractData\",B118, \"Bid\",, \"T\"))","v":3.46},{"$f":"IF(LEFT(RTD(\"cqg.rtd\", ,\"ContractData\",B118, \"LastTrade\",, \"T\"),3)=\"768\",\"\",RTD(\"cqg.rtd\", ,\"ContractData\",B118, \"Ask\",, \"T\"))","v":3.56},{"$f":"IF(LEFT(RTD(\"cqg.rtd\", ,\"ContractData\",B118, \"LastTrade\",, \"T\"),3)=\"768\",\"\",RTD(\"cqg.rtd\", ,\"ContractData\",B118, \"MT_LastAskVolume\",, \"T\"))","v":6},{"$f":"IF(LEFT(RTD(\"cqg.rtd\", ,\"ContractData\",B118, \"LastTrade\",, \"T\"),3)=\"768\",\"\",RTD(\"cqg.rtd\", ,\"ContractData\",B118, \"T_CVol\",, \"T\"))","v":0},{"$f":"IF(LEFT(RTD(\"cqg.rtd\", ,\"ContractData\",B118, \"LastTrade\",, \"T\"),3)=\"768\",\"\",RTD(\"cqg.rtd\", ,\"ContractData\",B118, \"Y_CVol\",, \"T\"))","v":9},{"$f":"IF(LEFT(RTD(\"cqg.rtd\", ,\"ContractData\",B118, \"LastTrade\",, \"T\"),3)=\"768\",\"\",IFERROR(IF(I118>J118,\"+\"&I118-J118,I118-J118)*1,\"\"))","v":-9},{"$f":"IF(LEFT(RTD(\"cqg.rtd\", ,\"ContractData\",B118, \"LastTrade\",, \"T\"),3)=\"768\",\"\",RTD(\"cqg.rtd\",,\"StudyData\",B118,  \"Bar\",,  \"ContractOI\", \"D\", \"-1\",,,,,\"T\"))","v":326},{"$f":"IF(LEFT(RTD(\"cqg.rtd\", ,\"ContractData\",B118, \"LastTrade\",, \"T\"),3)=\"768\",\"\",RTD(\"cqg.rtd\",,\"StudyData\",B118,  \"Bar\",,  \"ContractOI\", \"D\", \"-2\",,,,,\"T\"))","v":324},{"$f":"IF(LEFT(RTD(\"cqg.rtd\", ,\"ContractData\",B118, \"LastTrade\",, \"T\"),3)=\"768\",\"\",IFERROR(IF(L118>M118,\"+\"&L118-M118,L118-M118)*1,\"\"))","v":2}]
[10500,"C.US.CLEJ2610500",{"$f":"IF(LEFT(RTD(\"cqg.rtd\", ,\"ContractData\",B119, \"LastTrade\",, \"T\"),3)=\"768\",\"\",RTD(\"cqg.rtd\", ,\"ContractData\",B119, \"LastTrade\",, \"T\"))","v":3.2600000000000002},{"$f":"IF(C119=\"\",\"\",RTD(\"cqg.rtd\", ,\"ContractData\",B119, \"NetLastTrade\",, \"T\"))","v":0.54},{"$f":"IF(LEFT(RTD(\"cqg.rtd\", ,\"ContractData\",B119, \"LastTrade\",, \"T\"),3)=\"768\",\"\",RTD(\"cqg.rtd\", ,\"ContractData\",B119, \"MT_LastBidVolume\",, \"T\"))","v":8},{"$f":"IF(LEFT(RTD(\"cqg.rtd\", ,\"ContractData\",B119, \"LastTrade\",, \"T\"),3)=\"768\",\"\",RTD(\"cqg.rtd\", ,\"ContractData\",B119, \"Bid\",, \"T\"))","v":3.37},{"$f":"IF(LEFT(RTD(\"cqg.rtd\", ,\"ContractData\",B119, \"LastTrade\",, \"T\"),3)=\"768\",\"\",RTD(\"cqg.rtd\", ,\"ContractData\",B119, \"Ask\",, \"T\"))","v":3.46},{"$f":"IF(LEFT(RTD(\"cqg.rtd\", ,\"ContractData\",B119, \"LastTrade\",, \"T\"),3)=\"768\",\"\",RTD(\"cqg.rtd\", ,\"ContractData\",B119, \"MT_LastAskVolume\",, \"T\"))","v":1},{"$f":"IF(LEFT(RTD(\"cqg.rtd\", ,\"ContractData\",B119, \"LastTrade\",, \"T\"),3)=\"768\",\"\",RTD(\"cqg.rtd\", ,\"ContractData\",B119, \"T_CVol\",, \"T\"))","v":174},{"$f":"IF(LEFT(RTD(\"cqg.rtd\", ,\"ContractData\",B119, \"LastTrade\",, \"T\"),3)=\"768\",\"\",RTD(\"cqg.rtd\", ,\"ContractData\",B119, \"Y_CVol\",, \"T\"))","v":1643},{"$f":"IF(LEFT(RTD(\"cqg.rtd\", ,\"ContractData\",B119, \"LastTrade\",, \"T\"),3)=\"768\",\"\",IFERROR(IF(I119>J119,\"+\"&I119-J119,I119-J119)*1,\"\"))","v":-1469},{"$f":"IF(LEFT(RTD(\"cqg.rtd\", ,\"ContractData\",B119, \"LastTrade\",, \"T\"),3)=\"768\",\"\",RTD(\"cqg.rtd\",,\"StudyData\",B119,  \"Bar\",,  \"ContractOI\", \"D\", \"-1\",,,,,\"T\"))","v":6445},{"$f":"IF(LEFT(RTD(\"cqg.rtd\", ,\"ContractData\",B119, \"LastTrade\",, \"T\"),3)=\"768\",\"\",RTD(\"cqg.rtd\",,\"StudyData\",B119,  \"Bar\",,  \"ContractOI\", \"D\", \"-2\",,,,,\"T\"))","v":7559},{"$f":"IF(LEFT(RTD(\"cqg.rtd\", ,\"ContractData\",B119, \"LastTrade\",, \"T\"),3)=\"768\",\"\",IFERROR(IF(L119>M119,\"+\"&L119-M119,L119-M119)*1,\"\"))","v":-1114}]
[10550,"C.US.CLEJ2610550",{"$f":"IF(LEFT(RTD(\"cqg.rtd\", ,\"ContractData\",B120, \"LastTrade\",, \"T\"),3)=\"768\",\"\",RTD(\"cqg.rtd\", ,\"ContractData\",B120, \"LastTrade\",, \"T\"))","v":2.84},{"$f":"IF(C120=\"\",\"\",RTD(\"cqg.rtd\", ,\"ContractData\",B120, \"NetLastTrade\",, \"T\"))","v":0.18999999999999995},{"$f":"IF(LEFT(RTD(\"cqg.rtd\", ,\"ContractData\",B120, \"LastTrade\",, \"T\"),3)=\"768\",\"\",RTD(\"cqg.rtd\", ,\"ContractData\",B120, \"MT_LastBidVolume\",, \"T\"))","v":24},{"$f":"IF(LEFT(RTD(\"cqg.rtd\", ,\"ContractData\",B120, \"LastTrade\",, \"T\"),3)=\"768\",\"\",RTD(\"cqg.rtd\", ,\"ContractData\",B120, \"Bid\",, \"T\"))","v":3.27},{"$f":"IF(LEFT(RTD(\"cqg.rtd\", ,\"ContractData\",B120, \"LastTrade\",, \"T\"),3)=\"768\",\"\",RTD(\"cqg.rtd\", ,\"ContractData\",B120, \"Ask\",, \"T\"))","v":3.37},{"$f":"IF(LEFT(RTD(\"cqg.rtd\", ,\"ContractData\",B120, \"LastTrade\",, \"T\"),3)=\"768\",\"\",RTD(\"cqg.rtd\", ,\"ContractData\",B120, \"MT_LastAskVolume\",, \"T\"))","v":26},{"$f":"IF(LEFT(RTD(\"cqg.rtd\", ,\"ContractData\",B120, \"LastTrade\",, \"T\"),3)=\"768\",\"\",RTD(\"cqg.rtd\", ,\"ContractData\",B120, \"T_CVol\",, \"T\"))","v":0},{"$f":"IF(LEFT(RTD(\"cqg.rtd\", ,\"ContractData\",B120, \"LastTrade\",, \"T\"),3)=\"768\",\"\",RTD(\"cqg.rtd\", ,\"ContractData\",B120, \"Y_CVol\",, \"T\"))","v":9},{"$f":"IF(LEFT(RTD(\"cqg.rtd\", ,\"ContractData\",B120, \"LastTrade\",, \"T\"),3)=\"768\",\"\",IFERROR(IF(I120>J120,\"+\"&I120-J120,I120-J120)*1,\"\"))","v":-9},{"$f":"IF(LEFT(RTD(\"cqg.rtd\", ,\"ContractData\",B120, \"LastTrade\",, \"T\"),3)=\"768\",\"\",RTD(\"cqg.rtd\",,\"StudyData\",B120,  \"Bar\",,  \"ContractOI\", \"D\", \"-1\",,,,,\"T\"))","v":218},{"$f":"IF(LEFT(RTD(\"cqg.rtd\", ,\"ContractData\",B120, \"LastTrade\",, \"T\"),3)=\"768\",\"\",RTD(\"cqg.rtd\",,\"StudyData\",B120,  \"Bar\",,  \"ContractOI\", \"D\", \"-2\",,,,,\"T\"))","v":212},{"$f":"IF(LEFT(RTD(\"cqg.rtd\", ,\"ContractData\",B120, \"LastTrade\",, \"T\"),3)=\"768\",\"\",IFERROR(IF(L120>M120,\"+\"&L120-M120,L120-M120)*1,\"\"))","v":6}]
[10600,"C.US.CLEJ2610600",{"$f":"IF(LEFT(RTD(\"cqg.rtd\", ,\"ContractData\",B121, \"LastTrade\",, \"T\"),3)=\"768\",\"\",RTD(\"cqg.rtd\", ,\"ContractData\",B121, \"LastTrade\",, \"T\"))","v":3.61},{"$f":"IF(C121=\"\",\"\",RTD(\"cqg.rtd\", ,\"ContractData\",B121, \"NetLastTrade\",, \"T\"))","v":1.0299999999999998},{"$f":"IF(LEFT(RTD(\"cqg.rtd\", ,\"ContractData\",B121, \"LastTrade\",, \"T\"),3)=\"768\",\"\",RTD(\"cqg.rtd\", ,\"ContractData\",B121, \"MT_LastBidVolume\",, \"T\"))","v":9},{"$f":"IF(LEFT(RTD(\"cqg.rtd\", ,\"ContractData\",B121, \"LastTrade\",, \"T\"),3)=\"768\",\"\",RTD(\"cqg.rtd\", ,\"ContractData\",B121, \"Bid\",, \"T\"))","v":3.18},{"$f":"IF(LEFT(RTD(\"cqg.rtd\", ,\"ContractData\",B121, \"LastTrade\",, \"T\"),3)=\"768\",\"\",RTD(\"cqg.rtd\", ,\"ContractData\",B121, \"Ask\",, \"T\"))","v":3.27},{"$f":"IF(LEFT(RTD(\"cqg.rtd\", ,\"ContractData\",B121, \"LastTrade\",, \"T\"),3)=\"768\",\"\",RTD(\"cqg.rtd\", ,\"ContractData\",B121, \"MT_LastAskVolume\",, \"T\"))","v":18},{"$f":"IF(LEFT(RTD(\"cqg.rtd\", ,\"ContractData\",B121, \"LastTrade\",, \"T\"),3)=\"768\",\"\",RTD(\"cqg.rtd\", ,\"ContractData\",B121, \"T_CVol\",, \"T\"))","v":40},{"$f":"IF(LEFT(RTD(\"cqg.rtd\", ,\"ContractData\",B121, \"LastTrade\",, \"T\"),3)=\"768\",\"\",RTD(\"cqg.rtd\", ,\"ContractData\",B121, \"Y_CVol\",, \"T\"))","v":314},{"$f":"IF(LEFT(RTD(\"cqg.rtd\", ,\"ContractData\",B121, \"LastTrade\",, \"T\"),3)=\"768\",\"\",IFERROR(IF(I121>J121,\"+\"&I121-J121,I121-J121)*1,\"\"))","v":-274},{"$f":"IF(LEFT(RTD(\"cqg.rtd\", ,\"ContractData\",B121, \"LastTrade\",, \"T\"),3)=\"768\",\"\",RTD(\"cqg.rtd\",,\"StudyData\",B121,  \"Bar\",,  \"ContractOI\", \"D\", \"-1\",,,,,\"T\"))","v":712},{"$f":"IF(LEFT(RTD(\"cqg.rtd\", ,\"ContractData\",B121, \"LastTrade\",, \"T\"),3)=\"768\",\"\",RTD(\"cqg.rtd\",,\"StudyData\",B121,  \"Bar\",,  \"ContractOI\", \"D\", \"-2\",,,,,\"T\"))","v":756},{"$f":"IF(LEFT(RTD(\"cqg.rtd\", ,\"ContractData\",B121, \"LastTrade\",, \"T\"),3)=\"768\",\"\",IFERROR(IF(L121>M121,\"+\"&L121-M121,L121-M121)*1,\"\"))","v":-44}]
[10650,"C.US.CLEJ2610650",{"$f":"IF(LEFT(RTD(\"cqg.rtd\", ,\"ContractData\",B122, \"LastTrade\",, \"T\"),3)=\"768\",\"\",RTD(\"cqg.rtd\", ,\"ContractData\",B122, \"LastTrade\",, \"T\"))","v":4.12},{"$f":"IF(C122=\"\",\"\",RTD(\"cqg.rtd\", ,\"ContractData\",B122, \"NetLastTrade\",, \"T\"))","v":1.6099999999999999},{"$f":"IF(LEFT(RTD(\"cqg.rtd\", ,\"ContractData\",B122, \"LastTrade\",, \"T\"),3)=\"768\",\"\",RTD(\"cqg.rtd\", ,\"ContractData\",B122, \"MT_LastBidVolume\",, \"T\"))","v":23},{"$f":"IF(LEFT(RTD(\"cqg.rtd\", ,\"ContractData\",B122, \"LastTrade\",, \"T\"),3)=\"768\",\"\",RTD(\"cqg.rtd\", ,\"ContractData\",B122, \"Bid\",, \"T\"))","v":3.09},{"$f":"IF(LEFT(RTD(\"cqg.rtd\", ,\"ContractData\",B122, \"LastTrade\",, \"T\"),3)=\"768\",\"\",RTD(\"cqg.rtd\", ,\"ContractData\",B122, \"Ask\",, \"T\"))","v":3.18},{"$f":"IF(LEFT(RTD(\"cqg.rtd\", ,\"ContractData\",B122, \"LastTrade\",, \"T\"),3)=\"768\",\"\",RTD(\"cqg.rtd\", ,\"ContractData\",B122, \"MT_LastAskVolume\",, \"T\"))","v":23},{"$f":"IF(LEFT(RTD(\"cqg.rtd\", ,\"ContractData\",B122, \"LastTrade\",, \"T\"),3)=\"768\",\"\",RTD(\"cqg.rtd\", ,\"ContractData\",B122, \"T_CVol\",, \"T\"))","v":13},{"$f":"IF(LEFT(RTD(\"cqg.rtd\", ,\"ContractData\",B122, \"LastTrade\",, \"T\"),3)=\"768\",\"\",RTD(\"cqg.rtd\", ,\"ContractData\",B122, \"Y_CVol\",, \"T\"))","v":223},{"$f":"IF(LEFT(RTD(\"cqg.rtd\", ,\"ContractData\",B122, \"LastTrade\",, \"T\"),3)=\"768\",\"\",IFERROR(IF(I122>J122,\"+\"&I122-J122,I122-J122)*1,\"\"))","v":-210},{"$f":"IF(LEFT(RTD(\"cqg.rtd\", ,\"ContractData\",B122, \"LastTrade\",, \"T\"),3)=\"768\",\"\",RTD(\"cqg.rtd\",,\"StudyData\",B122,  \"Bar\",,  \"ContractOI\", \"D\", \"-1\",,,,,\"T\"))","v":105},{"$f":"IF(LEFT(RTD(\"cqg.rtd\", ,\"ContractData\",B122, \"LastTrade\",, \"T\"),3)=\"768\",\"\",RTD(\"cqg.rtd\",,\"StudyData\",B122,  \"Bar\",,  \"ContractOI\", \"D\", \"-2\",,,,,\"T\"))","v":141},{"$f":"IF(LEFT(RTD(\"cqg.rtd\", ,\"ContractData\",B122, \"LastTrade\",, \"T\"),3)=\"768\",\"\",IFERROR(IF(L122>M122,\"+\"&L122-M122,L122-M122)*1,\"\"))","v":-36}]
[10700,"C.US.CLEJ2610700",{"$f":"IF(LEFT(RTD(\"cqg.rtd\", ,\"ContractData\",B123, \"LastTrade\",, \"T\"),3)=\"768\",\"\",RTD(\"cqg.rtd\", ,\"ContractData\",B123, \"LastTrade\",, \"T\"))","v":3.0500000000000003},{"$f":"IF(C123=\"\",\"\",RTD(\"cqg.rtd\", ,\"ContractData\",B123, \"NetLastTrade\",, \"T\"))","v":0.61000000000000032},{"$f":"IF(LEFT(RTD(\"cqg.rtd\", ,\"ContractData\",B123, \"LastTrade\",, \"T\"),3)=\"768\",\"\",RTD(\"cqg.rtd\", ,\"ContractData\",B123, \"MT_LastBidVolume\",, \"T\"))","v":9},{"$f":"IF(LEFT(RTD(\"cqg.rtd\", ,\"ContractData\",B123, \"LastTrade\",, \"T\"),3)=\"768\",\"\",RTD(\"cqg.rtd\", ,\"ContractData\",B123, \"Bid\",, \"T\"))","v":3},{"$f":"IF(LEFT(RTD(\"cqg.rtd\", ,\"ContractData\",B123, \"LastTrade\",, \"T\"),3)=\"768\",\"\",RTD(\"cqg.rtd\", ,\"ContractData\",B123, \"Ask\",, \"T\"))","v":3.09},{"$f":"IF(LEFT(RTD(\"cqg.rtd\", ,\"ContractData\",B123, \"LastTrade\",, \"T\"),3)=\"768\",\"\",RTD(\"cqg.rtd\", ,\"ContractData\",B123, \"MT_LastAskVolume\",, \"T\"))","v":20},{"$f":"IF(LEFT(RTD(\"cqg.rtd\", ,\"ContractData\",B123, \"LastTrade\",, \"T\"),3)=\"768\",\"\",RTD(\"cqg.rtd\", ,\"ContractData\",B123, \"T_CVol\",, \"T\"))","v":153},{"$f":"IF(LEFT(RTD(\"cqg.rtd\", ,\"ContractData\",B123, \"LastTrade\",, \"T\"),3)=\"768\",\"\",RTD(\"cqg.rtd\", ,\"ContractData\",B123, \"Y_CVol\",, \"T\"))","v":525},{"$f":"IF(LEFT(RTD(\"cqg.rtd\", ,\"ContractData\",B123, \"LastTrade\",, \"T\"),3)=\"768\",\"\",IFERROR(IF(I123>J123,\"+\"&I123-J123,I123-J123)*1,\"\"))","v":-372},{"$f":"IF(LEFT(RTD(\"cqg.rtd\", ,\"ContractData\",B123, \"LastTrade\",, \"T\"),3)=\"768\",\"\",RTD(\"cqg.rtd\",,\"StudyData\",B123,  \"Bar\",,  \"ContractOI\", \"D\", \"-1\",,,,,\"T\"))","v":590},{"$f":"IF(LEFT(RTD(\"cqg.rtd\", ,\"ContractData\",B123, \"LastTrade\",, \"T\"),3)=\"768\",\"\",RTD(\"cqg.rtd\",,\"StudyData\",B123,  \"Bar\",,  \"ContractOI\", \"D\", \"-2\",,,,,\"T\"))","v":354},{"$f":"IF(LEFT(RTD(\"cqg.rtd\", ,\"ContractData\",B123, \"LastTrade\",, \"T\"),3)=\"768\",\"\",IFERROR(IF(L123>M123,\"+\"&L123-M123,L123-M123)*1,\"\"))","v":236}]
[10750,"C.US.CLEJ2610750",{"$f":"IF(LEFT(RTD(\"cqg.rtd\", ,\"ContractData\",B124, \"LastTrade\",, \"T\"),3)=\"768\",\"\",RTD(\"cqg.rtd\", ,\"ContractData\",B124, \"LastTrade\",, \"T\"))","v":2.89},{"$f":"IF(C124=\"\",\"\",RTD(\"cqg.rtd\", ,\"ContractData\",B124, \"NetLastTrade\",, \"T\"))","v":0.52},{"$f":"IF(LEFT(RTD(\"cqg.rtd\", ,\"ContractData\",B124, \"LastTrade\",, \"T\"),3)=\"768\",\"\",RTD(\"cqg.rtd\", ,\"ContractData\",B124, \"MT_LastBidVolume\",, \"T\"))","v":23},{"$f":"IF(LEFT(RTD(\"cqg.rtd\", ,\"ContractData\",B124, \"LastTrade\",, \"T\"),3)=\"768\",\"\",RTD(\"cqg.rtd\", ,\"ContractData\",B124, \"Bid\",, \"T\"))","v":2.92},{"$f":"IF(LEFT(RTD(\"cqg.rtd\", ,\"ContractData\",B124, \"LastTrade\",, \"T\"),3)=\"768\",\"\",RTD(\"cqg.rtd\", ,\"ContractData\",B124, \"Ask\",, \"T\"))","v":3.0100000000000002},{"$f":"IF(LEFT(RTD(\"cqg.rtd\", ,\"ContractData\",B124, \"LastTrade\",, \"T\"),3)=\"768\",\"\",RTD(\"cqg.rtd\", ,\"ContractData\",B124, \"MT_LastAskVolume\",, \"T\"))","v":22},{"$f":"IF(LEFT(RTD(\"cqg.rtd\", ,\"ContractData\",B124, \"LastTrade\",, \"T\"),3)=\"768\",\"\",RTD(\"cqg.rtd\", ,\"ContractData\",B124, \"T_CVol\",, \"T\"))","v":146},{"$f":"IF(LEFT(RTD(\"cqg.rtd\", ,\"ContractData\",B124, \"LastTrade\",, \"T\"),3)=\"768\",\"\",RTD(\"cqg.rtd\", ,\"ContractData\",B124, \"Y_CVol\",, \"T\"))","v":556},{"$f":"IF(LEFT(RTD(\"cqg.rtd\", ,\"ContractData\",B124, \"LastTrade\",, \"T\"),3)=\"768\",\"\",IFERROR(IF(I124>J124,\"+\"&I124-J124,I124-J124)*1,\"\"))","v":-410},{"$f":"IF(LEFT(RTD(\"cqg.rtd\", ,\"ContractData\",B124, \"LastTrade\",, \"T\"),3)=\"768\",\"\",RTD(\"cqg.rtd\",,\"StudyData\",B124,  \"Bar\",,  \"ContractOI\", \"D\", \"-1\",,,,,\"T\"))","v":378},{"$f":"IF(LEFT(RTD(\"cqg.rtd\", ,\"ContractData\",B124, \"LastTrade\",, \"T\"),3)=\"768\",\"\",RTD(\"cqg.rtd\",,\"StudyData\",B124,  \"Bar\",,  \"ContractOI\", \"D\", \"-2\",,,,,\"T\"))","v":203},{"$f":"IF(LEFT(RTD(\"cqg.rtd\", ,\"ContractData\",B124, \"LastTrade\",, \"T\"),3)=\"768\",\"\",IFERROR(IF(L124>M124,\"+\"&L124-M124,L124-M124)*1,\"\"))","v":175}]
[10800,"C.US.CLEJ2610800",{"$f":"IF(LEFT(RTD(\"cqg.rtd\", ,\"ContractData\",B125, \"LastTrade\",, \"T\"),3)=\"768\",\"\",RTD(\"cqg.rtd\", ,\"ContractData\",B125, \"LastTrade\",, \"T\"))","v":2.93},{"$f":"IF(C125=\"\",\"\",RTD(\"cqg.rtd\", ,\"ContractData\",B125, \"NetLastTrade\",, \"T\"))","v":0.62000000000000011},{"$f":"IF(LEFT(RTD(\"cqg.rtd\", ,\"ContractData\",B125, \"LastTrade\",, \"T\"),3)=\"768\",\"\",RTD(\"cqg.rtd\", ,\"ContractData\",B125, \"MT_LastBidVolume\",, \"T\"))","v":22},{"$f":"IF(LEFT(RTD(\"cqg.rtd\", ,\"ContractData\",B125, \"LastTrade\",, \"T\"),3)=\"768\",\"\",RTD(\"cqg.rtd\", ,\"ContractData\",B125, \"Bid\",, \"T\"))","v":2.84},{"$f":"IF(LEFT(RTD(\"cqg.rtd\", ,\"ContractData\",B125, \"LastTrade\",, \"T\"),3)=\"768\",\"\",RTD(\"cqg.rtd\", ,\"ContractData\",B125, \"Ask\",, \"T\"))","v":2.92},{"$f":"IF(LEFT(RTD(\"cqg.rtd\", ,\"ContractData\",B125, \"LastTrade\",, \"T\"),3)=\"768\",\"\",RTD(\"cqg.rtd\", ,\"ContractData\",B125, \"MT_LastAskVolume\",, \"T\"))","v":22},{"$f":"IF(LEFT(RTD(\"cqg.rtd\", ,\"ContractData\",B125, \"LastTrade\",, \"T\"),3)=\"768\",\"\",RTD(\"cqg.rtd\", ,\"ContractData\",B125, \"T_CVol\",, \"T\"))","v":89},{"$f":"IF(LEFT(RTD(\"cqg.rtd\", ,\"ContractData\",B125, \"LastTrade\",, \"T\"),3)=\"768\",\"\",RTD(\"cqg.rtd\", ,\"ContractData\",B125, \"Y_CVol\",, \"T\"))","v":236},{"$f":"IF(LEFT(RTD(\"cqg.rtd\", ,\"ContractData\",B125, \"LastTrade\",, \"T\"),3)=\"768\",\"\",IFERROR(IF(I125>J125,\"+\"&I125-J125,I125-J125)*1,\"\"))","v":-147},{"$f":"IF(LEFT(RTD(\"cqg.rtd\", ,\"ContractData\",B125, \"LastTrade\",, \"T\"),3)=\"768\",\"\",RTD(\"cqg.rtd\",,\"StudyData\",B125,  \"Bar\",,  \"ContractOI\", \"D\", \"-1\",,,,,\"T\"))","v":544},{"$f":"IF(LEFT(RTD(\"cqg.rtd\", ,\"ContractData\",B125, \"LastTrade\",, \"T\"),3)=\"768\",\"\",RTD(\"cqg.rtd\",,\"StudyData\",B125,  \"Bar\",,  \"ContractOI\", \"D\", \"-2\",,,,,\"T\"))","v":483},{"$f":"IF(LEFT(RTD(\"cqg.rtd\", ,\"ContractData\",B125, \"LastTrade\",, \"T\"),3)=\"768\",\"\",IFERROR(IF(L125>M125,\"+\"&L125-M125,L125-M125)*1,\"\"))","v":61}]
[10850,"C.US.CLEJ2610850",{"$f":"IF(LEFT(RTD(\"cqg.rtd\", ,\"ContractData\",B126, \"LastTrade\",, \"T\"),3)=\"768\",\"\",RTD(\"cqg.rtd\", ,\"ContractData\",B126, \"LastTrade\",, \"T\"))","v":2.8000000000000003},{"$f":"IF(C126=\"\",\"\",RTD(\"cqg.rtd\", ,\"ContractData\",B126, \"NetLastTrade\",, \"T\"))","v":0.55000000000000027},{"$f":"IF(LEFT(RTD(\"cqg.rtd\", ,\"ContractData\",B126, \"LastTrade\",, \"T\"),3)=\"768\",\"\",RTD(\"cqg.rtd\", ,\"ContractData\",B126, \"MT_LastBidVolume\",, \"T\"))","v":25},{"$f":"IF(LEFT(RTD(\"cqg.rtd\", ,\"ContractData\",B126, \"LastTrade\",, \"T\"),3)=\"768\",\"\",RTD(\"cqg.rtd\", ,\"ContractData\",B126, \"Bid\",, \"T\"))","v":2.75},{"$f":"IF(LEFT(RTD(\"cqg.rtd\", ,\"ContractData\",B126, \"LastTrade\",, \"T\"),3)=\"768\",\"\",RTD(\"cqg.rtd\", ,\"ContractData\",B126, \"Ask\",, \"T\"))","v":2.84},{"$f":"IF(LEFT(RTD(\"cqg.rtd\", ,\"ContractData\",B126, \"LastTrade\",, \"T\"),3)=\"768\",\"\",RTD(\"cqg.rtd\", ,\"ContractData\",B126, \"MT_LastAskVolume\",, \"T\"))","v":23},{"$f":"IF(LEFT(RTD(\"cqg.rtd\", ,\"ContractData\",B126, \"LastTrade\",, \"T\"),3)=\"768\",\"\",RTD(\"cqg.rtd\", ,\"ContractData\",B126, \"T_CVol\",, \"T\"))","v":2},{"$f":"IF(LEFT(RTD(\"cqg.rtd\", ,\"ContractData\",B126, \"LastTrade\",, \"T\"),3)=\"768\",\"\",RTD(\"cqg.rtd\", ,\"ContractData\",B126, \"Y_CVol\",, \"T\"))","v":24},{"$f":"IF(LEFT(RTD(\"cqg.rtd\", ,\"ContractData\",B126, \"LastTrade\",, \"T\"),3)=\"768\",\"\",IFERROR(IF(I126>J126,\"+\"&I126-J126,I126-J126)*1,\"\"))","v":-22},{"$f":"IF(LEFT(RTD(\"cqg.rtd\", ,\"ContractData\",B126, \"LastTrade\",, \"T\"),3)=\"768\",\"\",RTD(\"cqg.rtd\",,\"StudyData\",B126,  \"Bar\",,  \"ContractOI\", \"D\", \"-1\",,,,,\"T\"))","v":143},{"$f":"IF(LEFT(RTD(\"cqg.rtd\", ,\"ContractData\",B126, \"LastTrade\",, \"T\"),3)=\"768\",\"\",RTD(\"cqg.rtd\",,\"StudyData\",B126,  \"Bar\",,  \"ContractOI\", \"D\", \"-2\",,,,,\"T\"))","v":153},{"$f":"IF(LEFT(RTD(\"cqg.rtd\", ,\"ContractData\",B126, \"LastTrade\",, \"T\"),3)=\"768\",\"\",IFERROR(IF(L126>M126,\"+\"&L126-M126,L126-M126)*1,\"\"))","v":-10}]
[10900,"C.US.CLEJ2610900",{"$f":"IF(LEFT(RTD(\"cqg.rtd\", ,\"ContractData\",B127, \"LastTrade\",, \"T\"),3)=\"768\",\"\",RTD(\"cqg.rtd\", ,\"ContractData\",B127, \"LastTrade\",, \"T\"))","v":2.69},{"$f":"IF(C127=\"\",\"\",RTD(\"cqg.rtd\", ,\"ContractData\",B127, \"NetLastTrade\",, \"T\"))","v":0.5},{"$f":"IF(LEFT(RTD(\"cqg.rtd\", ,\"ContractData\",B127, \"LastTrade\",, \"T\"),3)=\"768\",\"\",RTD(\"cqg.rtd\", ,\"ContractData\",B127, \"MT_LastBidVolume\",, \"T\"))","v":25},{"$f":"IF(LEFT(RTD(\"cqg.rtd\", ,\"ContractData\",B127, \"LastTrade\",, \"T\"),3)=\"768\",\"\",RTD(\"cqg.rtd\", ,\"ContractData\",B127, \"Bid\",, \"T\"))","v":2.67},{"$f":"IF(LEFT(RTD(\"cqg.rtd\", ,\"ContractData\",B127, \"LastTrade\",, \"T\"),3)=\"768\",\"\",RTD(\"cqg.rtd\", ,\"ContractData\",B127, \"Ask\",, \"T\"))","v":2.7600000000000002},{"$f":"IF(LEFT(RTD(\"cqg.rtd\", ,\"ContractData\",B127, \"LastTrade\",, \"T\"),3)=\"768\",\"\",RTD(\"cqg.rtd\", ,\"ContractData\",B127, \"MT_LastAskVolume\",, \"T\"))","v":21},{"$f":"IF(LEFT(RTD(\"cqg.rtd\", ,\"ContractData\",B127, \"LastTrade\",, \"T\"),3)=\"768\",\"\",RTD(\"cqg.rtd\", ,\"ContractData\",B127, \"T_CVol\",, \"T\"))","v":17},{"$f":"IF(LEFT(RTD(\"cqg.rtd\", ,\"ContractData\",B127, \"LastTrade\",, \"T\"),3)=\"768\",\"\",RTD(\"cqg.rtd\", ,\"ContractData\",B127, \"Y_CVol\",, \"T\"))","v":155},{"$f":"IF(LEFT(RTD(\"cqg.rtd\", ,\"ContractData\",B127, \"LastTrade\",, \"T\"),3)=\"768\",\"\",IFERROR(IF(I127>J127,\"+\"&I127-J127,I127-J127)*1,\"\"))","v":-138},{"$f":"IF(LEFT(RTD(\"cqg.rtd\", ,\"ContractData\",B127, \"LastTrade\",, \"T\"),3)=\"768\",\"\",RTD(\"cqg.rtd\",,\"StudyData\",B127,  \"Bar\",,  \"ContractOI\", \"D\", \"-1\",,,,,\"T\"))","v":1643},{"$f":"IF(LEFT(RTD(\"cqg.rtd\", ,\"ContractData\",B127, \"LastTrade\",, \"T\"),3)=\"768\",\"\",RTD(\"cqg.rtd\",,\"StudyData\",B127,  \"Bar\",,  \"ContractOI\", \"D\", \"-2\",,,,,\"T\"))","v":1717},{"$f":"IF(LEFT(RTD(\"cqg.rtd\", ,\"ContractData\",B127, \"LastTrade\",, \"T\"),3)=\"768\",\"\",IFERROR(IF(L127>M127,\"+\"&L127-M127,L127-M127)*1,\"\"))","v":-74}]
[10950,"C.US.CLEJ2610950",{"$f":"IF(LEFT(RTD(\"cqg.rtd\", ,\"ContractData\",B128, \"LastTrade\",, \"T\"),3)=\"768\",\"\",RTD(\"cqg.rtd\", ,\"ContractData\",B128, \"LastTrade\",, \"T\"))","v":2.15},{"$f":"IF(C128=\"\",\"\",RTD(\"cqg.rtd\", ,\"ContractData\",B128, \"NetLastTrade\",, \"T\"))","v":2.0000000000000018E-2},{"$f":"IF(LEFT(RTD(\"cqg.rtd\", ,\"ContractData\",B128, \"LastTrade\",, \"T\"),3)=\"768\",\"\",RTD(\"cqg.rtd\", ,\"ContractData\",B128, \"MT_LastBidVolume\",, \"T\"))","v":23},{"$f":"IF(LEFT(RTD(\"cqg.rtd\", ,\"ContractData\",B128, \"LastTrade\",, \"T\"),3)=\"768\",\"\",RTD(\"cqg.rtd\", ,\"ContractData\",B128, \"Bid\",, \"T\"))","v":2.6},{"$f":"IF(LEFT(RTD(\"cqg.rtd\", ,\"ContractData\",B128, \"LastTrade\",, \"T\"),3)=\"768\",\"\",RTD(\"cqg.rtd\", ,\"ContractData\",B128, \"Ask\",, \"T\"))","v":2.69},{"$f":"IF(LEFT(RTD(\"cqg.rtd\", ,\"ContractData\",B128, \"LastTrade\",, \"T\"),3)=\"768\",\"\",RTD(\"cqg.rtd\", ,\"ContractData\",B128, \"MT_LastAskVolume\",, \"T\"))","v":48},{"$f":"IF(LEFT(RTD(\"cqg.rtd\", ,\"ContractData\",B128, \"LastTrade\",, \"T\"),3)=\"768\",\"\",RTD(\"cqg.rtd\", ,\"ContractData\",B128, \"T_CVol\",, \"T\"))","v":0},{"$f":"IF(LEFT(RTD(\"cqg.rtd\", ,\"ContractData\",B128, \"LastTrade\",, \"T\"),3)=\"768\",\"\",RTD(\"cqg.rtd\", ,\"ContractData\",B128, \"Y_CVol\",, \"T\"))","v":9},{"$f":"IF(LEFT(RTD(\"cqg.rtd\", ,\"ContractData\",B128, \"LastTrade\",, \"T\"),3)=\"768\",\"\",IFERROR(IF(I128>J128,\"+\"&I128-J128,I128-J128)*1,\"\"))","v":-9},{"$f":"IF(LEFT(RTD(\"cqg.rtd\", ,\"ContractData\",B128, \"LastTrade\",, \"T\"),3)=\"768\",\"\",RTD(\"cqg.rtd\",,\"StudyData\",B128,  \"Bar\",,  \"ContractOI\", \"D\", \"-1\",,,,,\"T\"))","v":140},{"$f":"IF(LEFT(RTD(\"cqg.rtd\", ,\"ContractData\",B128, \"LastTrade\",, \"T\"),3)=\"768\",\"\",RTD(\"cqg.rtd\",,\"StudyData\",B128,  \"Bar\",,  \"ContractOI\", \"D\", \"-2\",,,,,\"T\"))","v":144},{"$f":"IF(LEFT(RTD(\"cqg.rtd\", ,\"ContractData\",B128, \"LastTrade\",, \"T\"),3)=\"768\",\"\",IFERROR(IF(L128>M128,\"+\"&L128-M128,L128-M128)*1,\"\"))","v":-4}]
[11000,"C.US.CLEJ2611000",{"$f":"IF(LEFT(RTD(\"cqg.rtd\", ,\"ContractData\",B129, \"LastTrade\",, \"T\"),3)=\"768\",\"\",RTD(\"cqg.rtd\", ,\"ContractData\",B129, \"LastTrade\",, \"T\"))","v":2.5500000000000003},{"$f":"IF(C129=\"\",\"\",RTD(\"cqg.rtd\", ,\"ContractData\",B129, \"NetLastTrade\",, \"T\"))","v":0.48000000000000043},{"$f":"IF(LEFT(RTD(\"cqg.rtd\", ,\"ContractData\",B129, \"LastTrade\",, \"T\"),3)=\"768\",\"\",RTD(\"cqg.rtd\", ,\"ContractData\",B129, \"MT_LastBidVolume\",, \"T\"))","v":1},{"$f":"IF(LEFT(RTD(\"cqg.rtd\", ,\"ContractData\",B129, \"LastTrade\",, \"T\"),3)=\"768\",\"\",RTD(\"cqg.rtd\", ,\"ContractData\",B129, \"Bid\",, \"T\"))","v":2.58},{"$f":"IF(LEFT(RTD(\"cqg.rtd\", ,\"ContractData\",B129, \"LastTrade\",, \"T\"),3)=\"768\",\"\",RTD(\"cqg.rtd\", ,\"ContractData\",B129, \"Ask\",, \"T\"))","v":2.6},{"$f":"IF(LEFT(RTD(\"cqg.rtd\", ,\"ContractData\",B129, \"LastTrade\",, \"T\"),3)=\"768\",\"\",RTD(\"cqg.rtd\", ,\"ContractData\",B129, \"MT_LastAskVolume\",, \"T\"))","v":4},{"$f":"IF(LEFT(RTD(\"cqg.rtd\", ,\"ContractData\",B129, \"LastTrade\",, \"T\"),3)=\"768\",\"\",RTD(\"cqg.rtd\", ,\"ContractData\",B129, \"T_CVol\",, \"T\"))","v":686},{"$f":"IF(LEFT(RTD(\"cqg.rtd\", ,\"ContractData\",B129, \"LastTrade\",, \"T\"),3)=\"768\",\"\",RTD(\"cqg.rtd\", ,\"ContractData\",B129, \"Y_CVol\",, \"T\"))","v":2942},{"$f":"IF(LEFT(RTD(\"cqg.rtd\", ,\"ContractData\",B129, \"LastTrade\",, \"T\"),3)=\"768\",\"\",IFERROR(IF(I129>J129,\"+\"&I129-J129,I129-J129)*1,\"\"))","v":-2256},{"$f":"IF(LEFT(RTD(\"cqg.rtd\", ,\"ContractData\",B129, \"LastTrade\",, \"T\"),3)=\"768\",\"\",RTD(\"cqg.rtd\",,\"StudyData\",B129,  \"Bar\",,  \"ContractOI\", \"D\", \"-1\",,,,,\"T\"))","v":11582},{"$f":"IF(LEFT(RTD(\"cqg.rtd\", ,\"ContractData\",B129, \"LastTrade\",, \"T\"),3)=\"768\",\"\",RTD(\"cqg.rtd\",,\"StudyData\",B129,  \"Bar\",,  \"ContractOI\", \"D\", \"-2\",,,,,\"T\"))","v":10578},{"$f":"IF(LEFT(RTD(\"cqg.rtd\", ,\"ContractData\",B129, \"LastTrade\",, \"T\"),3)=\"768\",\"\",IFERROR(IF(L129>M129,\"+\"&L129-M129,L129-M129)*1,\"\"))","v":1004}]
[11050,"C.US.CLEJ2611050",{"$f":"IF(LEFT(RTD(\"cqg.rtd\", ,\"ContractData\",B130, \"LastTrade\",, \"T\"),3)=\"768\",\"\",RTD(\"cqg.rtd\", ,\"ContractData\",B130, \"LastTrade\",, \"T\"))","v":3.38},{"$f":"IF(C130=\"\",\"\",RTD(\"cqg.rtd\", ,\"ContractData\",B130, \"NetLastTrade\",, \"T\"))","v":1.3599999999999999},{"$f":"IF(LEFT(RTD(\"cqg.rtd\", ,\"ContractData\",B130, \"LastTrade\",, \"T\"),3)=\"768\",\"\",RTD(\"cqg.rtd\", ,\"ContractData\",B130, \"MT_LastBidVolume\",, \"T\"))","v":1},{"$f":"IF(LEFT(RTD(\"cqg.rtd\", ,\"ContractData\",B130, \"LastTrade\",, \"T\"),3)=\"768\",\"\",RTD(\"cqg.rtd\", ,\"ContractData\",B130, \"Bid\",, \"T\"))","v":2.46},{"$f":"IF(LEFT(RTD(\"cqg.rtd\", ,\"ContractData\",B130, \"LastTrade\",, \"T\"),3)=\"768\",\"\",RTD(\"cqg.rtd\", ,\"ContractData\",B130, \"Ask\",, \"T\"))","v":2.5300000000000002},{"$f":"IF(LEFT(RTD(\"cqg.rtd\", ,\"ContractData\",B130, \"LastTrade\",, \"T\"),3)=\"768\",\"\",RTD(\"cqg.rtd\", ,\"ContractData\",B130, \"MT_LastAskVolume\",, \"T\"))","v":17},{"$f":"IF(LEFT(RTD(\"cqg.rtd\", ,\"ContractData\",B130, \"LastTrade\",, \"T\"),3)=\"768\",\"\",RTD(\"cqg.rtd\", ,\"ContractData\",B130, \"T_CVol\",, \"T\"))","v":8},{"$f":"IF(LEFT(RTD(\"cqg.rtd\", ,\"ContractData\",B130, \"LastTrade\",, \"T\"),3)=\"768\",\"\",RTD(\"cqg.rtd\", ,\"ContractData\",B130, \"Y_CVol\",, \"T\"))","v":49},{"$f":"IF(LEFT(RTD(\"cqg.rtd\", ,\"ContractData\",B130, \"LastTrade\",, \"T\"),3)=\"768\",\"\",IFERROR(IF(I130>J130,\"+\"&I130-J130,I130-J130)*1,\"\"))","v":-41},{"$f":"IF(LEFT(RTD(\"cqg.rtd\", ,\"ContractData\",B130, \"LastTrade\",, \"T\"),3)=\"768\",\"\",RTD(\"cqg.rtd\",,\"StudyData\",B130,  \"Bar\",,  \"ContractOI\", \"D\", \"-1\",,,,,\"T\"))","v":245},{"$f":"IF(LEFT(RTD(\"cqg.rtd\", ,\"ContractData\",B130, \"LastTrade\",, \"T\"),3)=\"768\",\"\",RTD(\"cqg.rtd\",,\"StudyData\",B130,  \"Bar\",,  \"ContractOI\", \"D\", \"-2\",,,,,\"T\"))","v":247},{"$f":"IF(LEFT(RTD(\"cqg.rtd\", ,\"ContractData\",B130, \"LastTrade\",, \"T\"),3)=\"768\",\"\",IFERROR(IF(L130>M130,\"+\"&L130-M130,L130-M130)*1,\"\"))","v":-2}]
[11100,"C.US.CLEJ2611100",{"$f":"IF(LEFT(RTD(\"cqg.rtd\", ,\"ContractData\",B131, \"LastTrade\",, \"T\"),3)=\"768\",\"\",RTD(\"cqg.rtd\", ,\"ContractData\",B131, \"LastTrade\",, \"T\"))","v":3.5300000000000002},{"$f":"IF(C131=\"\",\"\",RTD(\"cqg.rtd\", ,\"ContractData\",B131, \"NetLastTrade\",, \"T\"))","v":1.5600000000000003},{"$f":"IF(LEFT(RTD(\"cqg.rtd\", ,\"ContractData\",B131, \"LastTrade\",, \"T\"),3)=\"768\",\"\",RTD(\"cqg.rtd\", ,\"ContractData\",B131, \"MT_LastBidVolume\",, \"T\"))","v":23},{"$f":"IF(LEFT(RTD(\"cqg.rtd\", ,\"ContractData\",B131, \"LastTrade\",, \"T\"),3)=\"768\",\"\",RTD(\"cqg.rtd\", ,\"ContractData\",B131, \"Bid\",, \"T\"))","v":2.39},{"$f":"IF(LEFT(RTD(\"cqg.rtd\", ,\"ContractData\",B131, \"LastTrade\",, \"T\"),3)=\"768\",\"\",RTD(\"cqg.rtd\", ,\"ContractData\",B131, \"Ask\",, \"T\"))","v":2.46},{"$f":"IF(LEFT(RTD(\"cqg.rtd\", ,\"ContractData\",B131, \"LastTrade\",, \"T\"),3)=\"768\",\"\",RTD(\"cqg.rtd\", ,\"ContractData\",B131, \"MT_LastAskVolume\",, \"T\"))","v":17},{"$f":"IF(LEFT(RTD(\"cqg.rtd\", ,\"ContractData\",B131, \"LastTrade\",, \"T\"),3)=\"768\",\"\",RTD(\"cqg.rtd\", ,\"ContractData\",B131, \"T_CVol\",, \"T\"))","v":4},{"$f":"IF(LEFT(RTD(\"cqg.rtd\", ,\"ContractData\",B131, \"LastTrade\",, \"T\"),3)=\"768\",\"\",RTD(\"cqg.rtd\", ,\"ContractData\",B131, \"Y_CVol\",, \"T\"))","v":80},{"$f":"IF(LEFT(RTD(\"cqg.rtd\", ,\"ContractData\",B131, \"LastTrade\",, \"T\"),3)=\"768\",\"\",IFERROR(IF(I131>J131,\"+\"&I131-J131,I131-J131)*1,\"\"))","v":-76},{"$f":"IF(LEFT(RTD(\"cqg.rtd\", ,\"ContractData\",B131, \"LastTrade\",, \"T\"),3)=\"768\",\"\",RTD(\"cqg.rtd\",,\"StudyData\",B131,  \"Bar\",,  \"ContractOI\", \"D\", \"-1\",,,,,\"T\"))","v":1584},{"$f":"IF(LEFT(RTD(\"cqg.rtd\", ,\"ContractData\",B131, \"LastTrade\",, \"T\"),3)=\"768\",\"\",RTD(\"cqg.rtd\",,\"StudyData\",B131,  \"Bar\",,  \"ContractOI\", \"D\", \"-2\",,,,,\"T\"))","v":1584},{"$f":"IF(LEFT(RTD(\"cqg.rtd\", ,\"ContractData\",B131, \"LastTrade\",, \"T\"),3)=\"768\",\"\",IFERROR(IF(L131>M131,\"+\"&L131-M131,L131-M131)*1,\"\"))","v":0}]
[11150,"C.US.CLEJ2611150",{"$f":"IF(LEFT(RTD(\"cqg.rtd\", ,\"ContractData\",B132, \"LastTrade\",, \"T\"),3)=\"768\",\"\",RTD(\"cqg.rtd\", ,\"ContractData\",B132, \"LastTrade\",, \"T\"))","v":3.21},{"$f":"IF(C132=\"\",\"\",RTD(\"cqg.rtd\", ,\"ContractData\",B132, \"NetLastTrade\",, \"T\"))","v":1.2999999999999998},{"$f":"IF(LEFT(RTD(\"cqg.rtd\", ,\"ContractData\",B132, \"LastTrade\",, \"T\"),3)=\"768\",\"\",RTD(\"cqg.rtd\", ,\"ContractData\",B132, \"MT_LastBidVolume\",, \"T\"))","v":9},{"$f":"IF(LEFT(RTD(\"cqg.rtd\", ,\"ContractData\",B132, \"LastTrade\",, \"T\"),3)=\"768\",\"\",RTD(\"cqg.rtd\", ,\"ContractData\",B132, \"Bid\",, \"T\"))","v":2.3199999999999998},{"$f":"IF(LEFT(RTD(\"cqg.rtd\", ,\"ContractData\",B132, \"LastTrade\",, \"T\"),3)=\"768\",\"\",RTD(\"cqg.rtd\", ,\"ContractData\",B132, \"Ask\",, \"T\"))","v":2.4},{"$f":"IF(LEFT(RTD(\"cqg.rtd\", ,\"ContractData\",B132, \"LastTrade\",, \"T\"),3)=\"768\",\"\",RTD(\"cqg.rtd\", ,\"ContractData\",B132, \"MT_LastAskVolume\",, \"T\"))","v":49},{"$f":"IF(LEFT(RTD(\"cqg.rtd\", ,\"ContractData\",B132, \"LastTrade\",, \"T\"),3)=\"768\",\"\",RTD(\"cqg.rtd\", ,\"ContractData\",B132, \"T_CVol\",, \"T\"))","v":11},{"$f":"IF(LEFT(RTD(\"cqg.rtd\", ,\"ContractData\",B132, \"LastTrade\",, \"T\"),3)=\"768\",\"\",RTD(\"cqg.rtd\", ,\"ContractData\",B132, \"Y_CVol\",, \"T\"))","v":15},{"$f":"IF(LEFT(RTD(\"cqg.rtd\", ,\"ContractData\",B132, \"LastTrade\",, \"T\"),3)=\"768\",\"\",IFERROR(IF(I132>J132,\"+\"&I132-J132,I132-J132)*1,\"\"))","v":-4},{"$f":"IF(LEFT(RTD(\"cqg.rtd\", ,\"ContractData\",B132, \"LastTrade\",, \"T\"),3)=\"768\",\"\",RTD(\"cqg.rtd\",,\"StudyData\",B132,  \"Bar\",,  \"ContractOI\", \"D\", \"-1\",,,,,\"T\"))","v":175},{"$f":"IF(LEFT(RTD(\"cqg.rtd\", ,\"ContractData\",B132, \"LastTrade\",, \"T\"),3)=\"768\",\"\",RTD(\"cqg.rtd\",,\"StudyData\",B132,  \"Bar\",,  \"ContractOI\", \"D\", \"-2\",,,,,\"T\"))","v":183},{"$f":"IF(LEFT(RTD(\"cqg.rtd\", ,\"ContractData\",B132, \"LastTrade\",, \"T\"),3)=\"768\",\"\",IFERROR(IF(L132>M132,\"+\"&L132-M132,L132-M132)*1,\"\"))","v":-8}]
[11200,"C.US.CLEJ2611200",{"$f":"IF(LEFT(RTD(\"cqg.rtd\", ,\"ContractData\",B133, \"LastTrade\",, \"T\"),3)=\"768\",\"\",RTD(\"cqg.rtd\", ,\"ContractData\",B133, \"LastTrade\",, \"T\"))","v":2.1800000000000002},{"$f":"IF(C133=\"\",\"\",RTD(\"cqg.rtd\", ,\"ContractData\",B133, \"NetLastTrade\",, \"T\"))","v":0.32000000000000006},{"$f":"IF(LEFT(RTD(\"cqg.rtd\", ,\"ContractData\",B133, \"LastTrade\",, \"T\"),3)=\"768\",\"\",RTD(\"cqg.rtd\", ,\"ContractData\",B133, \"MT_LastBidVolume\",, \"T\"))","v":23},{"$f":"IF(LEFT(RTD(\"cqg.rtd\", ,\"ContractData\",B133, \"LastTrade\",, \"T\"),3)=\"768\",\"\",RTD(\"cqg.rtd\", ,\"ContractData\",B133, \"Bid\",, \"T\"))","v":2.2400000000000002},{"$f":"IF(LEFT(RTD(\"cqg.rtd\", ,\"ContractData\",B133, \"LastTrade\",, \"T\"),3)=\"768\",\"\",RTD(\"cqg.rtd\", ,\"ContractData\",B133, \"Ask\",, \"T\"))","v":2.3199999999999998},{"$f":"IF(LEFT(RTD(\"cqg.rtd\", ,\"ContractData\",B133, \"LastTrade\",, \"T\"),3)=\"768\",\"\",RTD(\"cqg.rtd\", ,\"ContractData\",B133, \"MT_LastAskVolume\",, \"T\"))","v":18},{"$f":"IF(LEFT(RTD(\"cqg.rtd\", ,\"ContractData\",B133, \"LastTrade\",, \"T\"),3)=\"768\",\"\",RTD(\"cqg.rtd\", ,\"ContractData\",B133, \"T_CVol\",, \"T\"))","v":41},{"$f":"IF(LEFT(RTD(\"cqg.rtd\", ,\"ContractData\",B133, \"LastTrade\",, \"T\"),3)=\"768\",\"\",RTD(\"cqg.rtd\", ,\"ContractData\",B133, \"Y_CVol\",, \"T\"))","v":104},{"$f":"IF(LEFT(RTD(\"cqg.rtd\", ,\"ContractData\",B133, \"LastTrade\",, \"T\"),3)=\"768\",\"\",IFERROR(IF(I133>J133,\"+\"&I133-J133,I133-J133)*1,\"\"))","v":-63},{"$f":"IF(LEFT(RTD(\"cqg.rtd\", ,\"ContractData\",B133, \"LastTrade\",, \"T\"),3)=\"768\",\"\",RTD(\"cqg.rtd\",,\"StudyData\",B133,  \"Bar\",,  \"ContractOI\", \"D\", \"-1\",,,,,\"T\"))","v":1401},{"$f":"IF(LEFT(RTD(\"cqg.rtd\", ,\"ContractData\",B133, \"LastTrade\",, \"T\"),3)=\"768\",\"\",RTD(\"cqg.rtd\",,\"StudyData\",B133,  \"Bar\",,  \"ContractOI\", \"D\", \"-2\",,,,,\"T\"))","v":1393},{"$f":"IF(LEFT(RTD(\"cqg.rtd\", ,\"ContractData\",B133, \"LastTrade\",, \"T\"),3)=\"768\",\"\",IFERROR(IF(L133>M133,\"+\"&L133-M133,L133-M133)*1,\"\"))","v":8}]
[11250,"C.US.CLEJ2611250",{"$f":"IF(LEFT(RTD(\"cqg.rtd\", ,\"ContractData\",B134, \"LastTrade\",, \"T\"),3)=\"768\",\"\",RTD(\"cqg.rtd\", ,\"ContractData\",B134, \"LastTrade\",, \"T\"))","v":2.12},{"$f":"IF(C134=\"\",\"\",RTD(\"cqg.rtd\", ,\"ContractData\",B134, \"NetLastTrade\",, \"T\"))","v":0.30000000000000004},{"$f":"IF(LEFT(RTD(\"cqg.rtd\", ,\"ContractData\",B134, \"LastTrade\",, \"T\"),3)=\"768\",\"\",RTD(\"cqg.rtd\", ,\"ContractData\",B134, \"MT_LastBidVolume\",, \"T\"))","v":22},{"$f":"IF(LEFT(RTD(\"cqg.rtd\", ,\"ContractData\",B134, \"LastTrade\",, \"T\"),3)=\"768\",\"\",RTD(\"cqg.rtd\", ,\"ContractData\",B134, \"Bid\",, \"T\"))","v":2.19},{"$f":"IF(LEFT(RTD(\"cqg.rtd\", ,\"ContractData\",B134, \"LastTrade\",, \"T\"),3)=\"768\",\"\",RTD(\"cqg.rtd\", ,\"ContractData\",B134, \"Ask\",, \"T\"))","v":2.2600000000000002},{"$f":"IF(LEFT(RTD(\"cqg.rtd\", ,\"ContractData\",B134, \"LastTrade\",, \"T\"),3)=\"768\",\"\",RTD(\"cqg.rtd\", ,\"ContractData\",B134, \"MT_LastAskVolume\",, \"T\"))","v":4},{"$f":"IF(LEFT(RTD(\"cqg.rtd\", ,\"ContractData\",B134, \"LastTrade\",, \"T\"),3)=\"768\",\"\",RTD(\"cqg.rtd\", ,\"ContractData\",B134, \"T_CVol\",, \"T\"))","v":134},{"$f":"IF(LEFT(RTD(\"cqg.rtd\", ,\"ContractData\",B134, \"LastTrade\",, \"T\"),3)=\"768\",\"\",RTD(\"cqg.rtd\", ,\"ContractData\",B134, \"Y_CVol\",, \"T\"))","v":185},{"$f":"IF(LEFT(RTD(\"cqg.rtd\", ,\"ContractData\",B134, \"LastTrade\",, \"T\"),3)=\"768\",\"\",IFERROR(IF(I134>J134,\"+\"&I134-J134,I134-J134)*1,\"\"))","v":-51},{"$f":"IF(LEFT(RTD(\"cqg.rtd\", ,\"ContractData\",B134, \"LastTrade\",, \"T\"),3)=\"768\",\"\",RTD(\"cqg.rtd\",,\"StudyData\",B134,  \"Bar\",,  \"ContractOI\", \"D\", \"-1\",,,,,\"T\"))","v":615},{"$f":"IF(LEFT(RTD(\"cqg.rtd\", ,\"ContractData\",B134, \"LastTrade\",, \"T\"),3)=\"768\",\"\",RTD(\"cqg.rtd\",,\"StudyData\",B134,  \"Bar\",,  \"ContractOI\", \"D\", \"-2\",,,,,\"T\"))","v":615},{"$f":"IF(LEFT(RTD(\"cqg.rtd\", ,\"ContractData\",B134, \"LastTrade\",, \"T\"),3)=\"768\",\"\",IFERROR(IF(L134>M134,\"+\"&L134-M134,L134-M134)*1,\"\"))","v":0}]
[11300,"C.US.CLEJ2611300",{"$f":"IF(LEFT(RTD(\"cqg.rtd\", ,\"ContractData\",B135, \"LastTrade\",, \"T\"),3)=\"768\",\"\",RTD(\"cqg.rtd\", ,\"ContractData\",B135, \"LastTrade\",, \"T\"))","v":2.04},{"$f":"IF(C135=\"\",\"\",RTD(\"cqg.rtd\", ,\"ContractData\",B135, \"NetLastTrade\",, \"T\"))","v":0.27},{"$f":"IF(LEFT(RTD(\"cqg.rtd\", ,\"ContractData\",B135, \"LastTrade\",, \"T\"),3)=\"768\",\"\",RTD(\"cqg.rtd\", ,\"ContractData\",B135, \"MT_LastBidVolume\",, \"T\"))","v":23},{"$f":"IF(LEFT(RTD(\"cqg.rtd\", ,\"ContractData\",B135, \"LastTrade\",, \"T\"),3)=\"768\",\"\",RTD(\"cqg.rtd\", ,\"ContractData\",B135, \"Bid\",, \"T\"))","v":2.13},{"$f":"IF(LEFT(RTD(\"cqg.rtd\", ,\"ContractData\",B135, \"LastTrade\",, \"T\"),3)=\"768\",\"\",RTD(\"cqg.rtd\", ,\"ContractData\",B135, \"Ask\",, \"T\"))","v":2.2000000000000002},{"$f":"IF(LEFT(RTD(\"cqg.rtd\", ,\"ContractData\",B135, \"LastTrade\",, \"T\"),3)=\"768\",\"\",RTD(\"cqg.rtd\", ,\"ContractData\",B135, \"MT_LastAskVolume\",, \"T\"))","v":22},{"$f":"IF(LEFT(RTD(\"cqg.rtd\", ,\"ContractData\",B135, \"LastTrade\",, \"T\"),3)=\"768\",\"\",RTD(\"cqg.rtd\", ,\"ContractData\",B135, \"T_CVol\",, \"T\"))","v":42},{"$f":"IF(LEFT(RTD(\"cqg.rtd\", ,\"ContractData\",B135, \"LastTrade\",, \"T\"),3)=\"768\",\"\",RTD(\"cqg.rtd\", ,\"ContractData\",B135, \"Y_CVol\",, \"T\"))","v":136},{"$f":"IF(LEFT(RTD(\"cqg.rtd\", ,\"ContractData\",B135, \"LastTrade\",, \"T\"),3)=\"768\",\"\",IFERROR(IF(I135>J135,\"+\"&I135-J135,I135-J135)*1,\"\"))","v":-94},{"$f":"IF(LEFT(RTD(\"cqg.rtd\", ,\"ContractData\",B135, \"LastTrade\",, \"T\"),3)=\"768\",\"\",RTD(\"cqg.rtd\",,\"StudyData\",B135,  \"Bar\",,  \"ContractOI\", \"D\", \"-1\",,,,,\"T\"))","v":694},{"$f":"IF(LEFT(RTD(\"cqg.rtd\", ,\"ContractData\",B135, \"LastTrade\",, \"T\"),3)=\"768\",\"\",RTD(\"cqg.rtd\",,\"StudyData\",B135,  \"Bar\",,  \"ContractOI\", \"D\", \"-2\",,,,,\"T\"))","v":704},{"$f":"IF(LEFT(RTD(\"cqg.rtd\", ,\"ContractData\",B135, \"LastTrade\",, \"T\"),3)=\"768\",\"\",IFERROR(IF(L135>M135,\"+\"&L135-M135,L135-M135)*1,\"\"))","v":-10}]
[11350,"C.US.CLEJ2611350",{"$f":"IF(LEFT(RTD(\"cqg.rtd\", ,\"ContractData\",B136, \"LastTrade\",, \"T\"),3)=\"768\",\"\",RTD(\"cqg.rtd\", ,\"ContractData\",B136, \"LastTrade\",, \"T\"))","v":2.09},{"$f":"IF(C136=\"\",\"\",RTD(\"cqg.rtd\", ,\"ContractData\",B136, \"NetLastTrade\",, \"T\"))","v":0.36999999999999988},{"$f":"IF(LEFT(RTD(\"cqg.rtd\", ,\"ContractData\",B136, \"LastTrade\",, \"T\"),3)=\"768\",\"\",RTD(\"cqg.rtd\", ,\"ContractData\",B136, \"MT_LastBidVolume\",, \"T\"))","v":2},{"$f":"IF(LEFT(RTD(\"cqg.rtd\", ,\"ContractData\",B136, \"LastTrade\",, \"T\"),3)=\"768\",\"\",RTD(\"cqg.rtd\", ,\"ContractData\",B136, \"Bid\",, \"T\"))","v":2.06},{"$f":"IF(LEFT(RTD(\"cqg.rtd\", ,\"ContractData\",B136, \"LastTrade\",, \"T\"),3)=\"768\",\"\",RTD(\"cqg.rtd\", ,\"ContractData\",B136, \"Ask\",, \"T\"))","v":2.14},{"$f":"IF(LEFT(RTD(\"cqg.rtd\", ,\"ContractData\",B136, \"LastTrade\",, \"T\"),3)=\"768\",\"\",RTD(\"cqg.rtd\", ,\"ContractData\",B136, \"MT_LastAskVolume\",, \"T\"))","v":22},{"$f":"IF(LEFT(RTD(\"cqg.rtd\", ,\"ContractData\",B136, \"LastTrade\",, \"T\"),3)=\"768\",\"\",RTD(\"cqg.rtd\", ,\"ContractData\",B136, \"T_CVol\",, \"T\"))","v":20},{"$f":"IF(LEFT(RTD(\"cqg.rtd\", ,\"ContractData\",B136, \"LastTrade\",, \"T\"),3)=\"768\",\"\",RTD(\"cqg.rtd\", ,\"ContractData\",B136, \"Y_CVol\",, \"T\"))","v":31},{"$f":"IF(LEFT(RTD(\"cqg.rtd\", ,\"ContractData\",B136, \"LastTrade\",, \"T\"),3)=\"768\",\"\",IFERROR(IF(I136>J136,\"+\"&I136-J136,I136-J136)*1,\"\"))","v":-11},{"$f":"IF(LEFT(RTD(\"cqg.rtd\", ,\"ContractData\",B136, \"LastTrade\",, \"T\"),3)=\"768\",\"\",RTD(\"cqg.rtd\",,\"StudyData\",B136,  \"Bar\",,  \"ContractOI\", \"D\", \"-1\",,,,,\"T\"))","v":150},{"$f":"IF(LEFT(RTD(\"cqg.rtd\", ,\"ContractData\",B136, \"LastTrade\",, \"T\"),3)=\"768\",\"\",RTD(\"cqg.rtd\",,\"StudyData\",B136,  \"Bar\",,  \"ContractOI\", \"D\", \"-2\",,,,,\"T\"))","v":129},{"$f":"IF(LEFT(RTD(\"cqg.rtd\", ,\"ContractData\",B136, \"LastTrade\",, \"T\"),3)=\"768\",\"\",IFERROR(IF(L136>M136,\"+\"&L136-M136,L136-M136)*1,\"\"))","v":21}]
[11400,"C.US.CLEJ2611400",{"$f":"IF(LEFT(RTD(\"cqg.rtd\", ,\"ContractData\",B137, \"LastTrade\",, \"T\"),3)=\"768\",\"\",RTD(\"cqg.rtd\", ,\"ContractData\",B137, \"LastTrade\",, \"T\"))","v":2.15},{"$f":"IF(C137=\"\",\"\",RTD(\"cqg.rtd\", ,\"ContractData\",B137, \"NetLastTrade\",, \"T\"))","v":0.47},{"$f":"IF(LEFT(RTD(\"cqg.rtd\", ,\"ContractData\",B137, \"LastTrade\",, \"T\"),3)=\"768\",\"\",RTD(\"cqg.rtd\", ,\"ContractData\",B137, \"MT_LastBidVolume\",, \"T\"))","v":2},{"$f":"IF(LEFT(RTD(\"cqg.rtd\", ,\"ContractData\",B137, \"LastTrade\",, \"T\"),3)=\"768\",\"\",RTD(\"cqg.rtd\", ,\"ContractData\",B137, \"Bid\",, \"T\"))","v":2},{"$f":"IF(LEFT(RTD(\"cqg.rtd\", ,\"ContractData\",B137, \"LastTrade\",, \"T\"),3)=\"768\",\"\",RTD(\"cqg.rtd\", ,\"ContractData\",B137, \"Ask\",, \"T\"))","v":2.08},{"$f":"IF(LEFT(RTD(\"cqg.rtd\", ,\"ContractData\",B137, \"LastTrade\",, \"T\"),3)=\"768\",\"\",RTD(\"cqg.rtd\", ,\"ContractData\",B137, \"MT_LastAskVolume\",, \"T\"))","v":1},{"$f":"IF(LEFT(RTD(\"cqg.rtd\", ,\"ContractData\",B137, \"LastTrade\",, \"T\"),3)=\"768\",\"\",RTD(\"cqg.rtd\", ,\"ContractData\",B137, \"T_CVol\",, \"T\"))","v":242},{"$f":"IF(LEFT(RTD(\"cqg.rtd\", ,\"ContractData\",B137, \"LastTrade\",, \"T\"),3)=\"768\",\"\",RTD(\"cqg.rtd\", ,\"ContractData\",B137, \"Y_CVol\",, \"T\"))","v":101},{"$f":"IF(LEFT(RTD(\"cqg.rtd\", ,\"ContractData\",B137, \"LastTrade\",, \"T\"),3)=\"768\",\"\",IFERROR(IF(I137>J137,\"+\"&I137-J137,I137-J137)*1,\"\"))","v":141},{"$f":"IF(LEFT(RTD(\"cqg.rtd\", ,\"ContractData\",B137, \"LastTrade\",, \"T\"),3)=\"768\",\"\",RTD(\"cqg.rtd\",,\"StudyData\",B137,  \"Bar\",,  \"ContractOI\", \"D\", \"-1\",,,,,\"T\"))","v":305},{"$f":"IF(LEFT(RTD(\"cqg.rtd\", ,\"ContractData\",B137, \"LastTrade\",, \"T\"),3)=\"768\",\"\",RTD(\"cqg.rtd\",,\"StudyData\",B137,  \"Bar\",,  \"ContractOI\", \"D\", \"-2\",,,,,\"T\"))","v":293},{"$f":"IF(LEFT(RTD(\"cqg.rtd\", ,\"ContractData\",B137, \"LastTrade\",, \"T\"),3)=\"768\",\"\",IFERROR(IF(L137>M137,\"+\"&L137-M137,L137-M137)*1,\"\"))","v":12}]
[11450,"C.US.CLEJ2611450",{"$f":"IF(LEFT(RTD(\"cqg.rtd\", ,\"ContractData\",B138, \"LastTrade\",, \"T\"),3)=\"768\",\"\",RTD(\"cqg.rtd\", ,\"ContractData\",B138, \"LastTrade\",, \"T\"))","v":2.0499999999999998},{"$f":"IF(C138=\"\",\"\",RTD(\"cqg.rtd\", ,\"ContractData\",B138, \"NetLastTrade\",, \"T\"))","v":0.4099999999999997},{"$f":"IF(LEFT(RTD(\"cqg.rtd\", ,\"ContractData\",B138, \"LastTrade\",, \"T\"),3)=\"768\",\"\",RTD(\"cqg.rtd\", ,\"ContractData\",B138, \"MT_LastBidVolume\",, \"T\"))","v":1},{"$f":"IF(LEFT(RTD(\"cqg.rtd\", ,\"ContractData\",B138, \"LastTrade\",, \"T\"),3)=\"768\",\"\",RTD(\"cqg.rtd\", ,\"ContractData\",B138, \"Bid\",, \"T\"))","v":1.95},{"$f":"IF(LEFT(RTD(\"cqg.rtd\", ,\"ContractData\",B138, \"LastTrade\",, \"T\"),3)=\"768\",\"\",RTD(\"cqg.rtd\", ,\"ContractData\",B138, \"Ask\",, \"T\"))","v":2.02},{"$f":"IF(LEFT(RTD(\"cqg.rtd\", ,\"ContractData\",B138, \"LastTrade\",, \"T\"),3)=\"768\",\"\",RTD(\"cqg.rtd\", ,\"ContractData\",B138, \"MT_LastAskVolume\",, \"T\"))","v":16},{"$f":"IF(LEFT(RTD(\"cqg.rtd\", ,\"ContractData\",B138, \"LastTrade\",, \"T\"),3)=\"768\",\"\",RTD(\"cqg.rtd\", ,\"ContractData\",B138, \"T_CVol\",, \"T\"))","v":4},{"$f":"IF(LEFT(RTD(\"cqg.rtd\", ,\"ContractData\",B138, \"LastTrade\",, \"T\"),3)=\"768\",\"\",RTD(\"cqg.rtd\", ,\"ContractData\",B138, \"Y_CVol\",, \"T\"))","v":25},{"$f":"IF(LEFT(RTD(\"cqg.rtd\", ,\"ContractData\",B138, \"LastTrade\",, \"T\"),3)=\"768\",\"\",IFERROR(IF(I138>J138,\"+\"&I138-J138,I138-J138)*1,\"\"))","v":-21},{"$f":"IF(LEFT(RTD(\"cqg.rtd\", ,\"ContractData\",B138, \"LastTrade\",, \"T\"),3)=\"768\",\"\",RTD(\"cqg.rtd\",,\"StudyData\",B138,  \"Bar\",,  \"ContractOI\", \"D\", \"-1\",,,,,\"T\"))","v":420},{"$f":"IF(LEFT(RTD(\"cqg.rtd\", ,\"ContractData\",B138, \"LastTrade\",, \"T\"),3)=\"768\",\"\",RTD(\"cqg.rtd\",,\"StudyData\",B138,  \"Bar\",,  \"ContractOI\", \"D\", \"-2\",,,,,\"T\"))","v":419},{"$f":"IF(LEFT(RTD(\"cqg.rtd\", ,\"ContractData\",B138, \"LastTrade\",, \"T\"),3)=\"768\",\"\",IFERROR(IF(L138>M138,\"+\"&L138-M138,L138-M138)*1,\"\"))","v":1}]
[11500,"C.US.CLEJ2611500",{"$f":"IF(LEFT(RTD(\"cqg.rtd\", ,\"ContractData\",B139, \"LastTrade\",, \"T\"),3)=\"768\",\"\",RTD(\"cqg.rtd\", ,\"ContractData\",B139, \"LastTrade\",, \"T\"))","v":1.86},{"$f":"IF(C139=\"\",\"\",RTD(\"cqg.rtd\", ,\"ContractData\",B139, \"NetLastTrade\",, \"T\"))","v":0.26},{"$f":"IF(LEFT(RTD(\"cqg.rtd\", ,\"ContractData\",B139, \"LastTrade\",, \"T\"),3)=\"768\",\"\",RTD(\"cqg.rtd\", ,\"ContractData\",B139, \"MT_LastBidVolume\",, \"T\"))","v":2},{"$f":"IF(LEFT(RTD(\"cqg.rtd\", ,\"ContractData\",B139, \"LastTrade\",, \"T\"),3)=\"768\",\"\",RTD(\"cqg.rtd\", ,\"ContractData\",B139, \"Bid\",, \"T\"))","v":1.8800000000000001},{"$f":"IF(LEFT(RTD(\"cqg.rtd\", ,\"ContractData\",B139, \"LastTrade\",, \"T\"),3)=\"768\",\"\",RTD(\"cqg.rtd\", ,\"ContractData\",B139, \"Ask\",, \"T\"))","v":1.96},{"$f":"IF(LEFT(RTD(\"cqg.rtd\", ,\"ContractData\",B139, \"LastTrade\",, \"T\"),3)=\"768\",\"\",RTD(\"cqg.rtd\", ,\"ContractData\",B139, \"MT_LastAskVolume\",, \"T\"))","v":17},{"$f":"IF(LEFT(RTD(\"cqg.rtd\", ,\"ContractData\",B139, \"LastTrade\",, \"T\"),3)=\"768\",\"\",RTD(\"cqg.rtd\", ,\"ContractData\",B139, \"T_CVol\",, \"T\"))","v":186},{"$f":"IF(LEFT(RTD(\"cqg.rtd\", ,\"ContractData\",B139, \"LastTrade\",, \"T\"),3)=\"768\",\"\",RTD(\"cqg.rtd\", ,\"ContractData\",B139, \"Y_CVol\",, \"T\"))","v":392},{"$f":"IF(LEFT(RTD(\"cqg.rtd\", ,\"ContractData\",B139, \"LastTrade\",, \"T\"),3)=\"768\",\"\",IFERROR(IF(I139>J139,\"+\"&I139-J139,I139-J139)*1,\"\"))","v":-206},{"$f":"IF(LEFT(RTD(\"cqg.rtd\", ,\"ContractData\",B139, \"LastTrade\",, \"T\"),3)=\"768\",\"\",RTD(\"cqg.rtd\",,\"StudyData\",B139,  \"Bar\",,  \"ContractOI\", \"D\", \"-1\",,,,,\"T\"))","v":5673},{"$f":"IF(LEFT(RTD(\"cqg.rtd\", ,\"ContractData\",B139, \"LastTrade\",, \"T\"),3)=\"768\",\"\",RTD(\"cqg.rtd\",,\"StudyData\",B139,  \"Bar\",,  \"ContractOI\", \"D\", \"-2\",,,,,\"T\"))","v":6687},{"$f":"IF(LEFT(RTD(\"cqg.rtd\", ,\"ContractData\",B139, \"LastTrade\",, \"T\"),3)=\"768\",\"\",IFERROR(IF(L139>M139,\"+\"&L139-M139,L139-M139)*1,\"\"))","v":-1014}]
[11550,"C.US.CLEJ2611550",{"$f":"IF(LEFT(RTD(\"cqg.rtd\", ,\"ContractData\",B140, \"LastTrade\",, \"T\"),3)=\"768\",\"\",RTD(\"cqg.rtd\", ,\"ContractData\",B140, \"LastTrade\",, \"T\"))","v":1.69},{"$f":"IF(C140=\"\",\"\",RTD(\"cqg.rtd\", ,\"ContractData\",B140, \"NetLastTrade\",, \"T\"))","v":0.12999999999999989},{"$f":"IF(LEFT(RTD(\"cqg.rtd\", ,\"ContractData\",B140, \"LastTrade\",, \"T\"),3)=\"768\",\"\",RTD(\"cqg.rtd\", ,\"ContractData\",B140, \"MT_LastBidVolume\",, \"T\"))","v":2},{"$f":"IF(LEFT(RTD(\"cqg.rtd\", ,\"ContractData\",B140, \"LastTrade\",, \"T\"),3)=\"768\",\"\",RTD(\"cqg.rtd\", ,\"ContractData\",B140, \"Bid\",, \"T\"))","v":1.83},{"$f":"IF(LEFT(RTD(\"cqg.rtd\", ,\"ContractData\",B140, \"LastTrade\",, \"T\"),3)=\"768\",\"\",RTD(\"cqg.rtd\", ,\"ContractData\",B140, \"Ask\",, \"T\"))","v":1.9100000000000001},{"$f":"IF(LEFT(RTD(\"cqg.rtd\", ,\"ContractData\",B140, \"LastTrade\",, \"T\"),3)=\"768\",\"\",RTD(\"cqg.rtd\", ,\"ContractData\",B140, \"MT_LastAskVolume\",, \"T\"))","v":16},{"$f":"IF(LEFT(RTD(\"cqg.rtd\", ,\"ContractData\",B140, \"LastTrade\",, \"T\"),3)=\"768\",\"\",RTD(\"cqg.rtd\", ,\"ContractData\",B140, \"T_CVol\",, \"T\"))","v":1},{"$f":"IF(LEFT(RTD(\"cqg.rtd\", ,\"ContractData\",B140, \"LastTrade\",, \"T\"),3)=\"768\",\"\",RTD(\"cqg.rtd\", ,\"ContractData\",B140, \"Y_CVol\",, \"T\"))","v":3},{"$f":"IF(LEFT(RTD(\"cqg.rtd\", ,\"ContractData\",B140, \"LastTrade\",, \"T\"),3)=\"768\",\"\",IFERROR(IF(I140>J140,\"+\"&I140-J140,I140-J140)*1,\"\"))","v":-2},{"$f":"IF(LEFT(RTD(\"cqg.rtd\", ,\"ContractData\",B140, \"LastTrade\",, \"T\"),3)=\"768\",\"\",RTD(\"cqg.rtd\",,\"StudyData\",B140,  \"Bar\",,  \"ContractOI\", \"D\", \"-1\",,,,,\"T\"))","v":272},{"$f":"IF(LEFT(RTD(\"cqg.rtd\", ,\"ContractData\",B140, \"LastTrade\",, \"T\"),3)=\"768\",\"\",RTD(\"cqg.rtd\",,\"StudyData\",B140,  \"Bar\",,  \"ContractOI\", \"D\", \"-2\",,,,,\"T\"))","v":272},{"$f":"IF(LEFT(RTD(\"cqg.rtd\", ,\"ContractData\",B140, \"LastTrade\",, \"T\"),3)=\"768\",\"\",IFERROR(IF(L140>M140,\"+\"&L140-M140,L140-M140)*1,\"\"))","v":0}]
[11600,"C.US.CLEJ2611600",{"$f":"IF(LEFT(RTD(\"cqg.rtd\", ,\"ContractData\",B141, \"LastTrade\",, \"T\"),3)=\"768\",\"\",RTD(\"cqg.rtd\", ,\"ContractData\",B141, \"LastTrade\",, \"T\"))","v":1.73},{"$f":"IF(C141=\"\",\"\",RTD(\"cqg.rtd\", ,\"ContractData\",B141, \"NetLastTrade\",, \"T\"))","v":0.20999999999999996},{"$f":"IF(LEFT(RTD(\"cqg.rtd\", ,\"ContractData\",B141, \"LastTrade\",, \"T\"),3)=\"768\",\"\",RTD(\"cqg.rtd\", ,\"ContractData\",B141, \"MT_LastBidVolume\",, \"T\"))","v":2},{"$f":"IF(LEFT(RTD(\"cqg.rtd\", ,\"ContractData\",B141, \"LastTrade\",, \"T\"),3)=\"768\",\"\",RTD(\"cqg.rtd\", ,\"ContractData\",B141, \"Bid\",, \"T\"))","v":1.77},{"$f":"IF(LEFT(RTD(\"cqg.rtd\", ,\"ContractData\",B141, \"LastTrade\",, \"T\"),3)=\"768\",\"\",RTD(\"cqg.rtd\", ,\"ContractData\",B141, \"Ask\",, \"T\"))","v":1.85},{"$f":"IF(LEFT(RTD(\"cqg.rtd\", ,\"ContractData\",B141, \"LastTrade\",, \"T\"),3)=\"768\",\"\",RTD(\"cqg.rtd\", ,\"ContractData\",B141, \"MT_LastAskVolume\",, \"T\"))","v":17},{"$f":"IF(LEFT(RTD(\"cqg.rtd\", ,\"ContractData\",B141, \"LastTrade\",, \"T\"),3)=\"768\",\"\",RTD(\"cqg.rtd\", ,\"ContractData\",B141, \"T_CVol\",, \"T\"))","v":15},{"$f":"IF(LEFT(RTD(\"cqg.rtd\", ,\"ContractData\",B141, \"LastTrade\",, \"T\"),3)=\"768\",\"\",RTD(\"cqg.rtd\", ,\"ContractData\",B141, \"Y_CVol\",, \"T\"))","v":21},{"$f":"IF(LEFT(RTD(\"cqg.rtd\", ,\"ContractData\",B141, \"LastTrade\",, \"T\"),3)=\"768\",\"\",IFERROR(IF(I141>J141,\"+\"&I141-J141,I141-J141)*1,\"\"))","v":-6},{"$f":"IF(LEFT(RTD(\"cqg.rtd\", ,\"ContractData\",B141, \"LastTrade\",, \"T\"),3)=\"768\",\"\",RTD(\"cqg.rtd\",,\"StudyData\",B141,  \"Bar\",,  \"ContractOI\", \"D\", \"-1\",,,,,\"T\"))","v":894},{"$f":"IF(LEFT(RTD(\"cqg.rtd\", ,\"ContractData\",B141, \"LastTrade\",, \"T\"),3)=\"768\",\"\",RTD(\"cqg.rtd\",,\"StudyData\",B141,  \"Bar\",,  \"ContractOI\", \"D\", \"-2\",,,,,\"T\"))","v":899},{"$f":"IF(LEFT(RTD(\"cqg.rtd\", ,\"ContractData\",B141, \"LastTrade\",, \"T\"),3)=\"768\",\"\",IFERROR(IF(L141>M141,\"+\"&L141-M141,L141-M141)*1,\"\"))","v":-5}]
[11650,"C.US.CLEJ2611650",{"$f":"IF(LEFT(RTD(\"cqg.rtd\", ,\"ContractData\",B142, \"LastTrade\",, \"T\"),3)=\"768\",\"\",RTD(\"cqg.rtd\", ,\"ContractData\",B142, \"LastTrade\",, \"T\"))","v":3.06},{"$f":"IF(C142=\"\",\"\",RTD(\"cqg.rtd\", ,\"ContractData\",B142, \"NetLastTrade\",, \"T\"))","v":1.58},{"$f":"IF(LEFT(RTD(\"cqg.rtd\", ,\"ContractData\",B142, \"LastTrade\",, \"T\"),3)=\"768\",\"\",RTD(\"cqg.rtd\", ,\"ContractData\",B142, \"MT_LastBidVolume\",, \"T\"))","v":1},{"$f":"IF(LEFT(RTD(\"cqg.rtd\", ,\"ContractData\",B142, \"LastTrade\",, \"T\"),3)=\"768\",\"\",RTD(\"cqg.rtd\", ,\"ContractData\",B142, \"Bid\",, \"T\"))","v":1.73},{"$f":"IF(LEFT(RTD(\"cqg.rtd\", ,\"ContractData\",B142, \"LastTrade\",, \"T\"),3)=\"768\",\"\",RTD(\"cqg.rtd\", ,\"ContractData\",B142, \"Ask\",, \"T\"))","v":1.8},{"$f":"IF(LEFT(RTD(\"cqg.rtd\", ,\"ContractData\",B142, \"LastTrade\",, \"T\"),3)=\"768\",\"\",RTD(\"cqg.rtd\", ,\"ContractData\",B142, \"MT_LastAskVolume\",, \"T\"))","v":17},{"$f":"IF(LEFT(RTD(\"cqg.rtd\", ,\"ContractData\",B142, \"LastTrade\",, \"T\"),3)=\"768\",\"\",RTD(\"cqg.rtd\", ,\"ContractData\",B142, \"T_CVol\",, \"T\"))","v":2},{"$f":"IF(LEFT(RTD(\"cqg.rtd\", ,\"ContractData\",B142, \"LastTrade\",, \"T\"),3)=\"768\",\"\",RTD(\"cqg.rtd\", ,\"ContractData\",B142, \"Y_CVol\",, \"T\"))","v":29},{"$f":"IF(LEFT(RTD(\"cqg.rtd\", ,\"ContractData\",B142, \"LastTrade\",, \"T\"),3)=\"768\",\"\",IFERROR(IF(I142>J142,\"+\"&I142-J142,I142-J142)*1,\"\"))","v":-27},{"$f":"IF(LEFT(RTD(\"cqg.rtd\", ,\"ContractData\",B142, \"LastTrade\",, \"T\"),3)=\"768\",\"\",RTD(\"cqg.rtd\",,\"StudyData\",B142,  \"Bar\",,  \"ContractOI\", \"D\", \"-1\",,,,,\"T\"))","v":209},{"$f":"IF(LEFT(RTD(\"cqg.rtd\", ,\"ContractData\",B142, \"LastTrade\",, \"T\"),3)=\"768\",\"\",RTD(\"cqg.rtd\",,\"StudyData\",B142,  \"Bar\",,  \"ContractOI\", \"D\", \"-2\",,,,,\"T\"))","v":211},{"$f":"IF(LEFT(RTD(\"cqg.rtd\", ,\"ContractData\",B142, \"LastTrade\",, \"T\"),3)=\"768\",\"\",IFERROR(IF(L142>M142,\"+\"&L142-M142,L142-M142)*1,\"\"))","v":-2}]
[11700,"C.US.CLEJ2611700",{"$f":"IF(LEFT(RTD(\"cqg.rtd\", ,\"ContractData\",B143, \"LastTrade\",, \"T\"),3)=\"768\",\"\",RTD(\"cqg.rtd\", ,\"ContractData\",B143, \"LastTrade\",, \"T\"))","v":1.75},{"$f":"IF(C143=\"\",\"\",RTD(\"cqg.rtd\", ,\"ContractData\",B143, \"NetLastTrade\",, \"T\"))","v":0.30000000000000004},{"$f":"IF(LEFT(RTD(\"cqg.rtd\", ,\"ContractData\",B143, \"LastTrade\",, \"T\"),3)=\"768\",\"\",RTD(\"cqg.rtd\", ,\"ContractData\",B143, \"MT_LastBidVolume\",, \"T\"))","v":2},{"$f":"IF(LEFT(RTD(\"cqg.rtd\", ,\"ContractData\",B143, \"LastTrade\",, \"T\"),3)=\"768\",\"\",RTD(\"cqg.rtd\", ,\"ContractData\",B143, \"Bid\",, \"T\"))","v":1.67},{"$f":"IF(LEFT(RTD(\"cqg.rtd\", ,\"ContractData\",B143, \"LastTrade\",, \"T\"),3)=\"768\",\"\",RTD(\"cqg.rtd\", ,\"ContractData\",B143, \"Ask\",, \"T\"))","v":1.75},{"$f":"IF(LEFT(RTD(\"cqg.rtd\", ,\"ContractData\",B143, \"LastTrade\",, \"T\"),3)=\"768\",\"\",RTD(\"cqg.rtd\", ,\"ContractData\",B143, \"MT_LastAskVolume\",, \"T\"))","v":17},{"$f":"IF(LEFT(RTD(\"cqg.rtd\", ,\"ContractData\",B143, \"LastTrade\",, \"T\"),3)=\"768\",\"\",RTD(\"cqg.rtd\", ,\"ContractData\",B143, \"T_CVol\",, \"T\"))","v":63},{"$f":"IF(LEFT(RTD(\"cqg.rtd\", ,\"ContractData\",B143, \"LastTrade\",, \"T\"),3)=\"768\",\"\",RTD(\"cqg.rtd\", ,\"ContractData\",B143, \"Y_CVol\",, \"T\"))","v":139},{"$f":"IF(LEFT(RTD(\"cqg.rtd\", ,\"ContractData\",B143, \"LastTrade\",, \"T\"),3)=\"768\",\"\",IFERROR(IF(I143>J143,\"+\"&I143-J143,I143-J143)*1,\"\"))","v":-76},{"$f":"IF(LEFT(RTD(\"cqg.rtd\", ,\"ContractData\",B143, \"LastTrade\",, \"T\"),3)=\"768\",\"\",RTD(\"cqg.rtd\",,\"StudyData\",B143,  \"Bar\",,  \"ContractOI\", \"D\", \"-1\",,,,,\"T\"))","v":1750},{"$f":"IF(LEFT(RTD(\"cqg.rtd\", ,\"ContractData\",B143, \"LastTrade\",, \"T\"),3)=\"768\",\"\",RTD(\"cqg.rtd\",,\"StudyData\",B143,  \"Bar\",,  \"ContractOI\", \"D\", \"-2\",,,,,\"T\"))","v":1789},{"$f":"IF(LEFT(RTD(\"cqg.rtd\", ,\"ContractData\",B143, \"LastTrade\",, \"T\"),3)=\"768\",\"\",IFERROR(IF(L143>M143,\"+\"&L143-M143,L143-M143)*1,\"\"))","v":-39}]
[11750,"C.US.CLEJ2611750",{"$f":"IF(LEFT(RTD(\"cqg.rtd\", ,\"ContractData\",B144, \"LastTrade\",, \"T\"),3)=\"768\",\"\",RTD(\"cqg.rtd\", ,\"ContractData\",B144, \"LastTrade\",, \"T\"))","v":1.8},{"$f":"IF(C144=\"\",\"\",RTD(\"cqg.rtd\", ,\"ContractData\",B144, \"NetLastTrade\",, \"T\"))","v":0.39000000000000012},{"$f":"IF(LEFT(RTD(\"cqg.rtd\", ,\"ContractData\",B144, \"LastTrade\",, \"T\"),3)=\"768\",\"\",RTD(\"cqg.rtd\", ,\"ContractData\",B144, \"MT_LastBidVolume\",, \"T\"))","v":2},{"$f":"IF(LEFT(RTD(\"cqg.rtd\", ,\"ContractData\",B144, \"LastTrade\",, \"T\"),3)=\"768\",\"\",RTD(\"cqg.rtd\", ,\"ContractData\",B144, \"Bid\",, \"T\"))","v":1.6300000000000001},{"$f":"IF(LEFT(RTD(\"cqg.rtd\", ,\"ContractData\",B144, \"LastTrade\",, \"T\"),3)=\"768\",\"\",RTD(\"cqg.rtd\", ,\"ContractData\",B144, \"Ask\",, \"T\"))","v":1.71},{"$f":"IF(LEFT(RTD(\"cqg.rtd\", ,\"ContractData\",B144, \"LastTrade\",, \"T\"),3)=\"768\",\"\",RTD(\"cqg.rtd\", ,\"ContractData\",B144, \"MT_LastAskVolume\",, \"T\"))","v":18},{"$f":"IF(LEFT(RTD(\"cqg.rtd\", ,\"ContractData\",B144, \"LastTrade\",, \"T\"),3)=\"768\",\"\",RTD(\"cqg.rtd\", ,\"ContractData\",B144, \"T_CVol\",, \"T\"))","v":18},{"$f":"IF(LEFT(RTD(\"cqg.rtd\", ,\"ContractData\",B144, \"LastTrade\",, \"T\"),3)=\"768\",\"\",RTD(\"cqg.rtd\", ,\"ContractData\",B144, \"Y_CVol\",, \"T\"))","v":135},{"$f":"IF(LEFT(RTD(\"cqg.rtd\", ,\"ContractData\",B144, \"LastTrade\",, \"T\"),3)=\"768\",\"\",IFERROR(IF(I144>J144,\"+\"&I144-J144,I144-J144)*1,\"\"))","v":-117},{"$f":"IF(LEFT(RTD(\"cqg.rtd\", ,\"ContractData\",B144, \"LastTrade\",, \"T\"),3)=\"768\",\"\",RTD(\"cqg.rtd\",,\"StudyData\",B144,  \"Bar\",,  \"ContractOI\", \"D\", \"-1\",,,,,\"T\"))","v":578},{"$f":"IF(LEFT(RTD(\"cqg.rtd\", ,\"ContractData\",B144, \"LastTrade\",, \"T\"),3)=\"768\",\"\",RTD(\"cqg.rtd\",,\"StudyData\",B144,  \"Bar\",,  \"ContractOI\", \"D\", \"-2\",,,,,\"T\"))","v":534},{"$f":"IF(LEFT(RTD(\"cqg.rtd\", ,\"ContractData\",B144, \"LastTrade\",, \"T\"),3)=\"768\",\"\",IFERROR(IF(L144>M144,\"+\"&L144-M144,L144-M144)*1,\"\"))","v":44}]
[11800,"C.US.CLEJ2611800",{"$f":"IF(LEFT(RTD(\"cqg.rtd\", ,\"ContractData\",B145, \"LastTrade\",, \"T\"),3)=\"768\",\"\",RTD(\"cqg.rtd\", ,\"ContractData\",B145, \"LastTrade\",, \"T\"))","v":1.58},{"$f":"IF(C145=\"\",\"\",RTD(\"cqg.rtd\", ,\"ContractData\",B145, \"NetLastTrade\",, \"T\"))","v":0.19999999999999996},{"$f":"IF(LEFT(RTD(\"cqg.rtd\", ,\"ContractData\",B145, \"LastTrade\",, \"T\"),3)=\"768\",\"\",RTD(\"cqg.rtd\", ,\"ContractData\",B145, \"MT_LastBidVolume\",, \"T\"))","v":2},{"$f":"IF(LEFT(RTD(\"cqg.rtd\", ,\"ContractData\",B145, \"LastTrade\",, \"T\"),3)=\"768\",\"\",RTD(\"cqg.rtd\", ,\"ContractData\",B145, \"Bid\",, \"T\"))","v":1.58},{"$f":"IF(LEFT(RTD(\"cqg.rtd\", ,\"ContractData\",B145, \"LastTrade\",, \"T\"),3)=\"768\",\"\",RTD(\"cqg.rtd\", ,\"ContractData\",B145, \"Ask\",, \"T\"))","v":1.6600000000000001},{"$f":"IF(LEFT(RTD(\"cqg.rtd\", ,\"ContractData\",B145, \"LastTrade\",, \"T\"),3)=\"768\",\"\",RTD(\"cqg.rtd\", ,\"ContractData\",B145, \"MT_LastAskVolume\",, \"T\"))","v":18},{"$f":"IF(LEFT(RTD(\"cqg.rtd\", ,\"ContractData\",B145, \"LastTrade\",, \"T\"),3)=\"768\",\"\",RTD(\"cqg.rtd\", ,\"ContractData\",B145, \"T_CVol\",, \"T\"))","v":39},{"$f":"IF(LEFT(RTD(\"cqg.rtd\", ,\"ContractData\",B145, \"LastTrade\",, \"T\"),3)=\"768\",\"\",RTD(\"cqg.rtd\", ,\"ContractData\",B145, \"Y_CVol\",, \"T\"))","v":117},{"$f":"IF(LEFT(RTD(\"cqg.rtd\", ,\"ContractData\",B145, \"LastTrade\",, \"T\"),3)=\"768\",\"\",IFERROR(IF(I145>J145,\"+\"&I145-J145,I145-J145)*1,\"\"))","v":-78},{"$f":"IF(LEFT(RTD(\"cqg.rtd\", ,\"ContractData\",B145, \"LastTrade\",, \"T\"),3)=\"768\",\"\",RTD(\"cqg.rtd\",,\"StudyData\",B145,  \"Bar\",,  \"ContractOI\", \"D\", \"-1\",,,,,\"T\"))","v":213},{"$f":"IF(LEFT(RTD(\"cqg.rtd\", ,\"ContractData\",B145, \"LastTrade\",, \"T\"),3)=\"768\",\"\",RTD(\"cqg.rtd\",,\"StudyData\",B145,  \"Bar\",,  \"ContractOI\", \"D\", \"-2\",,,,,\"T\"))","v":188},{"$f":"IF(LEFT(RTD(\"cqg.rtd\", ,\"ContractData\",B145, \"LastTrade\",, \"T\"),3)=\"768\",\"\",IFERROR(IF(L145>M145,\"+\"&L145-M145,L145-M145)*1,\"\"))","v":25}]
[11850,"C.US.CLEJ2611850",{"$f":"IF(LEFT(RTD(\"cqg.rtd\", ,\"ContractData\",B146, \"LastTrade\",, \"T\"),3)=\"768\",\"\",RTD(\"cqg.rtd\", ,\"ContractData\",B146, \"LastTrade\",, \"T\"))","v":2.29},{"$f":"IF(C146=\"\",\"\",RTD(\"cqg.rtd\", ,\"ContractData\",B146, \"NetLastTrade\",, \"T\"))","v":0.94},{"$f":"IF(LEFT(RTD(\"cqg.rtd\", ,\"ContractData\",B146, \"LastTrade\",, \"T\"),3)=\"768\",\"\",RTD(\"cqg.rtd\", ,\"ContractData\",B146, \"MT_LastBidVolume\",, \"T\"))","v":1},{"$f":"IF(LEFT(RTD(\"cqg.rtd\", ,\"ContractData\",B146, \"LastTrade\",, \"T\"),3)=\"768\",\"\",RTD(\"cqg.rtd\", ,\"ContractData\",B146, \"Bid\",, \"T\"))","v":1.54},{"$f":"IF(LEFT(RTD(\"cqg.rtd\", ,\"ContractData\",B146, \"LastTrade\",, \"T\"),3)=\"768\",\"\",RTD(\"cqg.rtd\", ,\"ContractData\",B146, \"Ask\",, \"T\"))","v":1.61},{"$f":"IF(LEFT(RTD(\"cqg.rtd\", ,\"ContractData\",B146, \"LastTrade\",, \"T\"),3)=\"768\",\"\",RTD(\"cqg.rtd\", ,\"ContractData\",B146, \"MT_LastAskVolume\",, \"T\"))","v":16},{"$f":"IF(LEFT(RTD(\"cqg.rtd\", ,\"ContractData\",B146, \"LastTrade\",, \"T\"),3)=\"768\",\"\",RTD(\"cqg.rtd\", ,\"ContractData\",B146, \"T_CVol\",, \"T\"))","v":10},{"$f":"IF(LEFT(RTD(\"cqg.rtd\", ,\"ContractData\",B146, \"LastTrade\",, \"T\"),3)=\"768\",\"\",RTD(\"cqg.rtd\", ,\"ContractData\",B146, \"Y_CVol\",, \"T\"))","v":65},{"$f":"IF(LEFT(RTD(\"cqg.rtd\", ,\"ContractData\",B146, \"LastTrade\",, \"T\"),3)=\"768\",\"\",IFERROR(IF(I146>J146,\"+\"&I146-J146,I146-J146)*1,\"\"))","v":-55},{"$f":"IF(LEFT(RTD(\"cqg.rtd\", ,\"ContractData\",B146, \"LastTrade\",, \"T\"),3)=\"768\",\"\",RTD(\"cqg.rtd\",,\"StudyData\",B146,  \"Bar\",,  \"ContractOI\", \"D\", \"-1\",,,,,\"T\"))","v":363},{"$f":"IF(LEFT(RTD(\"cqg.rtd\", ,\"ContractData\",B146, \"LastTrade\",, \"T\"),3)=\"768\",\"\",RTD(\"cqg.rtd\",,\"StudyData\",B146,  \"Bar\",,  \"ContractOI\", \"D\", \"-2\",,,,,\"T\"))","v":342},{"$f":"IF(LEFT(RTD(\"cqg.rtd\", ,\"ContractData\",B146, \"LastTrade\",, \"T\"),3)=\"768\",\"\",IFERROR(IF(L146>M146,\"+\"&L146-M146,L146-M146)*1,\"\"))","v":21}]
[11900,"C.US.CLEJ2611900",{"$f":"IF(LEFT(RTD(\"cqg.rtd\", ,\"ContractData\",B147, \"LastTrade\",, \"T\"),3)=\"768\",\"\",RTD(\"cqg.rtd\", ,\"ContractData\",B147, \"LastTrade\",, \"T\"))","v":1.52},{"$f":"IF(C147=\"\",\"\",RTD(\"cqg.rtd\", ,\"ContractData\",B147, \"NetLastTrade\",, \"T\"))","v":0.20999999999999996},{"$f":"IF(LEFT(RTD(\"cqg.rtd\", ,\"ContractData\",B147, \"LastTrade\",, \"T\"),3)=\"768\",\"\",RTD(\"cqg.rtd\", ,\"ContractData\",B147, \"MT_LastBidVolume\",, \"T\"))","v":1},{"$f":"IF(LEFT(RTD(\"cqg.rtd\", ,\"ContractData\",B147, \"LastTrade\",, \"T\"),3)=\"768\",\"\",RTD(\"cqg.rtd\", ,\"ContractData\",B147, \"Bid\",, \"T\"))","v":1.49},{"$f":"IF(LEFT(RTD(\"cqg.rtd\", ,\"ContractData\",B147, \"LastTrade\",, \"T\"),3)=\"768\",\"\",RTD(\"cqg.rtd\", ,\"ContractData\",B147, \"Ask\",, \"T\"))","v":1.57},{"$f":"IF(LEFT(RTD(\"cqg.rtd\", ,\"ContractData\",B147, \"LastTrade\",, \"T\"),3)=\"768\",\"\",RTD(\"cqg.rtd\", ,\"ContractData\",B147, \"MT_LastAskVolume\",, \"T\"))","v":21},{"$f":"IF(LEFT(RTD(\"cqg.rtd\", ,\"ContractData\",B147, \"LastTrade\",, \"T\"),3)=\"768\",\"\",RTD(\"cqg.rtd\", ,\"ContractData\",B147, \"T_CVol\",, \"T\"))","v":17},{"$f":"IF(LEFT(RTD(\"cqg.rtd\", ,\"ContractData\",B147, \"LastTrade\",, \"T\"),3)=\"768\",\"\",RTD(\"cqg.rtd\", ,\"ContractData\",B147, \"Y_CVol\",, \"T\"))","v":151},{"$f":"IF(LEFT(RTD(\"cqg.rtd\", ,\"ContractData\",B147, \"LastTrade\",, \"T\"),3)=\"768\",\"\",IFERROR(IF(I147>J147,\"+\"&I147-J147,I147-J147)*1,\"\"))","v":-134},{"$f":"IF(LEFT(RTD(\"cqg.rtd\", ,\"ContractData\",B147, \"LastTrade\",, \"T\"),3)=\"768\",\"\",RTD(\"cqg.rtd\",,\"StudyData\",B147,  \"Bar\",,  \"ContractOI\", \"D\", \"-1\",,,,,\"T\"))","v":181},{"$f":"IF(LEFT(RTD(\"cqg.rtd\", ,\"ContractData\",B147, \"LastTrade\",, \"T\"),3)=\"768\",\"\",RTD(\"cqg.rtd\",,\"StudyData\",B147,  \"Bar\",,  \"ContractOI\", \"D\", \"-2\",,,,,\"T\"))","v":158},{"$f":"IF(LEFT(RTD(\"cqg.rtd\", ,\"ContractData\",B147, \"LastTrade\",, \"T\"),3)=\"768\",\"\",IFERROR(IF(L147>M147,\"+\"&L147-M147,L147-M147)*1,\"\"))","v":23}]
[11950,"C.US.CLEJ2611950",{"$f":"IF(LEFT(RTD(\"cqg.rtd\", ,\"ContractData\",B148, \"LastTrade\",, \"T\"),3)=\"768\",\"\",RTD(\"cqg.rtd\", ,\"ContractData\",B148, \"LastTrade\",, \"T\"))","v":1.41},{"$f":"IF(C148=\"\",\"\",RTD(\"cqg.rtd\", ,\"ContractData\",B148, \"NetLastTrade\",, \"T\"))","v":0.12999999999999989},{"$f":"IF(LEFT(RTD(\"cqg.rtd\", ,\"ContractData\",B148, \"LastTrade\",, \"T\"),3)=\"768\",\"\",RTD(\"cqg.rtd\", ,\"ContractData\",B148, \"MT_LastBidVolume\",, \"T\"))","v":1},{"$f":"IF(LEFT(RTD(\"cqg.rtd\", ,\"ContractData\",B148, \"LastTrade\",, \"T\"),3)=\"768\",\"\",RTD(\"cqg.rtd\", ,\"ContractData\",B148, \"Bid\",, \"T\"))","v":1.46},{"$f":"IF(LEFT(RTD(\"cqg.rtd\", ,\"ContractData\",B148, \"LastTrade\",, \"T\"),3)=\"768\",\"\",RTD(\"cqg.rtd\", ,\"ContractData\",B148, \"Ask\",, \"T\"))","v":1.53},{"$f":"IF(LEFT(RTD(\"cqg.rtd\", ,\"ContractData\",B148, \"LastTrade\",, \"T\"),3)=\"768\",\"\",RTD(\"cqg.rtd\", ,\"ContractData\",B148, \"MT_LastAskVolume\",, \"T\"))","v":19},{"$f":"IF(LEFT(RTD(\"cqg.rtd\", ,\"ContractData\",B148, \"LastTrade\",, \"T\"),3)=\"768\",\"\",RTD(\"cqg.rtd\", ,\"ContractData\",B148, \"T_CVol\",, \"T\"))","v":4},{"$f":"IF(LEFT(RTD(\"cqg.rtd\", ,\"ContractData\",B148, \"LastTrade\",, \"T\"),3)=\"768\",\"\",RTD(\"cqg.rtd\", ,\"ContractData\",B148, \"Y_CVol\",, \"T\"))","v":62},{"$f":"IF(LEFT(RTD(\"cqg.rtd\", ,\"ContractData\",B148, \"LastTrade\",, \"T\"),3)=\"768\",\"\",IFERROR(IF(I148>J148,\"+\"&I148-J148,I148-J148)*1,\"\"))","v":-58},{"$f":"IF(LEFT(RTD(\"cqg.rtd\", ,\"ContractData\",B148, \"LastTrade\",, \"T\"),3)=\"768\",\"\",RTD(\"cqg.rtd\",,\"StudyData\",B148,  \"Bar\",,  \"ContractOI\", \"D\", \"-1\",,,,,\"T\"))","v":98},{"$f":"IF(LEFT(RTD(\"cqg.rtd\", ,\"ContractData\",B148, \"LastTrade\",, \"T\"),3)=\"768\",\"\",RTD(\"cqg.rtd\",,\"StudyData\",B148,  \"Bar\",,  \"ContractOI\", \"D\", \"-2\",,,,,\"T\"))","v":89},{"$f":"IF(LEFT(RTD(\"cqg.rtd\", ,\"ContractData\",B148, \"LastTrade\",, \"T\"),3)=\"768\",\"\",IFERROR(IF(L148>M148,\"+\"&L148-M148,L148-M148)*1,\"\"))","v":9}]
[12000,"C.US.CLEJ2612000",{"$f":"IF(LEFT(RTD(\"cqg.rtd\", ,\"ContractData\",B149, \"LastTrade\",, \"T\"),3)=\"768\",\"\",RTD(\"cqg.rtd\", ,\"ContractData\",B149, \"LastTrade\",, \"T\"))","v":1.5},{"$f":"IF(C149=\"\",\"\",RTD(\"cqg.rtd\", ,\"ContractData\",B149, \"NetLastTrade\",, \"T\"))","v":0.25},{"$f":"IF(LEFT(RTD(\"cqg.rtd\", ,\"ContractData\",B149, \"LastTrade\",, \"T\"),3)=\"768\",\"\",RTD(\"cqg.rtd\", ,\"ContractData\",B149, \"MT_LastBidVolume\",, \"T\"))","v":2},{"$f":"IF(LEFT(RTD(\"cqg.rtd\", ,\"ContractData\",B149, \"LastTrade\",, \"T\"),3)=\"768\",\"\",RTD(\"cqg.rtd\", ,\"ContractData\",B149, \"Bid\",, \"T\"))","v":1.42},{"$f":"IF(LEFT(RTD(\"cqg.rtd\", ,\"ContractData\",B149, \"LastTrade\",, \"T\"),3)=\"768\",\"\",RTD(\"cqg.rtd\", ,\"ContractData\",B149, \"Ask\",, \"T\"))","v":1.49},{"$f":"IF(LEFT(RTD(\"cqg.rtd\", ,\"ContractData\",B149, \"LastTrade\",, \"T\"),3)=\"768\",\"\",RTD(\"cqg.rtd\", ,\"ContractData\",B149, \"MT_LastAskVolume\",, \"T\"))","v":19},{"$f":"IF(LEFT(RTD(\"cqg.rtd\", ,\"ContractData\",B149, \"LastTrade\",, \"T\"),3)=\"768\",\"\",RTD(\"cqg.rtd\", ,\"ContractData\",B149, \"T_CVol\",, \"T\"))","v":443},{"$f":"IF(LEFT(RTD(\"cqg.rtd\", ,\"ContractData\",B149, \"LastTrade\",, \"T\"),3)=\"768\",\"\",RTD(\"cqg.rtd\", ,\"ContractData\",B149, \"Y_CVol\",, \"T\"))","v":1081},{"$f":"IF(LEFT(RTD(\"cqg.rtd\", ,\"ContractData\",B149, \"LastTrade\",, \"T\"),3)=\"768\",\"\",IFERROR(IF(I149>J149,\"+\"&I149-J149,I149-J149)*1,\"\"))","v":-638},{"$f":"IF(LEFT(RTD(\"cqg.rtd\", ,\"ContractData\",B149, \"LastTrade\",, \"T\"),3)=\"768\",\"\",RTD(\"cqg.rtd\",,\"StudyData\",B149,  \"Bar\",,  \"ContractOI\", \"D\", \"-1\",,,,,\"T\"))","v":6631},{"$f":"IF(LEFT(RTD(\"cqg.rtd\", ,\"ContractData\",B149, \"LastTrade\",, \"T\"),3)=\"768\",\"\",RTD(\"cqg.rtd\",,\"StudyData\",B149,  \"Bar\",,  \"ContractOI\", \"D\", \"-2\",,,,,\"T\"))","v":6886},{"$f":"IF(LEFT(RTD(\"cqg.rtd\", ,\"ContractData\",B149, \"LastTrade\",, \"T\"),3)=\"768\",\"\",IFERROR(IF(L149>M149,\"+\"&L149-M149,L149-M149)*1,\"\"))","v":-255}]
[12050,"C.US.CLEJ2612050",{"$f":"IF(LEFT(RTD(\"cqg.rtd\", ,\"ContractData\",B150, \"LastTrade\",, \"T\"),3)=\"768\",\"\",RTD(\"cqg.rtd\", ,\"ContractData\",B150, \"LastTrade\",, \"T\"))","v":1.26},{"$f":"IF(C150=\"\",\"\",RTD(\"cqg.rtd\", ,\"ContractData\",B150, \"NetLastTrade\",, \"T\"))","v":4.0000000000000036E-2},{"$f":"IF(LEFT(RTD(\"cqg.rtd\", ,\"ContractData\",B150, \"LastTrade\",, \"T\"),3)=\"768\",\"\",RTD(\"cqg.rtd\", ,\"ContractData\",B150, \"MT_LastBidVolume\",, \"T\"))","v":1},{"$f":"IF(LEFT(RTD(\"cqg.rtd\", ,\"ContractData\",B150, \"LastTrade\",, \"T\"),3)=\"768\",\"\",RTD(\"cqg.rtd\", ,\"ContractData\",B150, \"Bid\",, \"T\"))","v":1.3800000000000001},{"$f":"IF(LEFT(RTD(\"cqg.rtd\", ,\"ContractData\",B150, \"LastTrade\",, \"T\"),3)=\"768\",\"\",RTD(\"cqg.rtd\", ,\"ContractData\",B150, \"Ask\",, \"T\"))","v":1.44},{"$f":"IF(LEFT(RTD(\"cqg.rtd\", ,\"ContractData\",B150, \"LastTrade\",, \"T\"),3)=\"768\",\"\",RTD(\"cqg.rtd\", ,\"ContractData\",B150, \"MT_LastAskVolume\",, \"T\"))","v":19},{"$f":"IF(LEFT(RTD(\"cqg.rtd\", ,\"ContractData\",B150, \"LastTrade\",, \"T\"),3)=\"768\",\"\",RTD(\"cqg.rtd\", ,\"ContractData\",B150, \"T_CVol\",, \"T\"))","v":84},{"$f":"IF(LEFT(RTD(\"cqg.rtd\", ,\"ContractData\",B150, \"LastTrade\",, \"T\"),3)=\"768\",\"\",RTD(\"cqg.rtd\", ,\"ContractData\",B150, \"Y_CVol\",, \"T\"))","v":99},{"$f":"IF(LEFT(RTD(\"cqg.rtd\", ,\"ContractData\",B150, \"LastTrade\",, \"T\"),3)=\"768\",\"\",IFERROR(IF(I150>J150,\"+\"&I150-J150,I150-J150)*1,\"\"))","v":-15},{"$f":"IF(LEFT(RTD(\"cqg.rtd\", ,\"ContractData\",B150, \"LastTrade\",, \"T\"),3)=\"768\",\"\",RTD(\"cqg.rtd\",,\"StudyData\",B150,  \"Bar\",,  \"ContractOI\", \"D\", \"-1\",,,,,\"T\"))","v":314},{"$f":"IF(LEFT(RTD(\"cqg.rtd\", ,\"ContractData\",B150, \"LastTrade\",, \"T\"),3)=\"768\",\"\",RTD(\"cqg.rtd\",,\"StudyData\",B150,  \"Bar\",,  \"ContractOI\", \"D\", \"-2\",,,,,\"T\"))","v":265},{"$f":"IF(LEFT(RTD(\"cqg.rtd\", ,\"ContractData\",B150, \"LastTrade\",, \"T\"),3)=\"768\",\"\",IFERROR(IF(L150>M150,\"+\"&L150-M150,L150-M150)*1,\"\"))","v":49}]
[12100,"C.US.CLEJ2612100",{"$f":"IF(LEFT(RTD(\"cqg.rtd\", ,\"ContractData\",B151, \"LastTrade\",, \"T\"),3)=\"768\",\"\",RTD(\"cqg.rtd\", ,\"ContractData\",B151, \"LastTrade\",, \"T\"))","v":1.56},{"$f":"IF(C151=\"\",\"\",RTD(\"cqg.rtd\", ,\"ContractData\",B151, \"NetLastTrade\",, \"T\"))","v":0.3600000000000001},{"$f":"IF(LEFT(RTD(\"cqg.rtd\", ,\"ContractData\",B151, \"LastTrade\",, \"T\"),3)=\"768\",\"\",RTD(\"cqg.rtd\", ,\"ContractData\",B151, \"MT_LastBidVolume\",, \"T\"))","v":2},{"$f":"IF(LEFT(RTD(\"cqg.rtd\", ,\"ContractData\",B151, \"LastTrade\",, \"T\"),3)=\"768\",\"\",RTD(\"cqg.rtd\", ,\"ContractData\",B151, \"Bid\",, \"T\"))","v":1.33},{"$f":"IF(LEFT(RTD(\"cqg.rtd\", ,\"ContractData\",B151, \"LastTrade\",, \"T\"),3)=\"768\",\"\",RTD(\"cqg.rtd\", ,\"ContractData\",B151, \"Ask\",, \"T\"))","v":1.41},{"$f":"IF(LEFT(RTD(\"cqg.rtd\", ,\"ContractData\",B151, \"LastTrade\",, \"T\"),3)=\"768\",\"\",RTD(\"cqg.rtd\", ,\"ContractData\",B151, \"MT_LastAskVolume\",, \"T\"))","v":23},{"$f":"IF(LEFT(RTD(\"cqg.rtd\", ,\"ContractData\",B151, \"LastTrade\",, \"T\"),3)=\"768\",\"\",RTD(\"cqg.rtd\", ,\"ContractData\",B151, \"T_CVol\",, \"T\"))","v":11},{"$f":"IF(LEFT(RTD(\"cqg.rtd\", ,\"ContractData\",B151, \"LastTrade\",, \"T\"),3)=\"768\",\"\",RTD(\"cqg.rtd\", ,\"ContractData\",B151, \"Y_CVol\",, \"T\"))","v":68},{"$f":"IF(LEFT(RTD(\"cqg.rtd\", ,\"ContractData\",B151, \"LastTrade\",, \"T\"),3)=\"768\",\"\",IFERROR(IF(I151>J151,\"+\"&I151-J151,I151-J151)*1,\"\"))","v":-57},{"$f":"IF(LEFT(RTD(\"cqg.rtd\", ,\"ContractData\",B151, \"LastTrade\",, \"T\"),3)=\"768\",\"\",RTD(\"cqg.rtd\",,\"StudyData\",B151,  \"Bar\",,  \"ContractOI\", \"D\", \"-1\",,,,,\"T\"))","v":959},{"$f":"IF(LEFT(RTD(\"cqg.rtd\", ,\"ContractData\",B151, \"LastTrade\",, \"T\"),3)=\"768\",\"\",RTD(\"cqg.rtd\",,\"StudyData\",B151,  \"Bar\",,  \"ContractOI\", \"D\", \"-2\",,,,,\"T\"))","v":952},{"$f":"IF(LEFT(RTD(\"cqg.rtd\", ,\"ContractData\",B151, \"LastTrade\",, \"T\"),3)=\"768\",\"\",IFERROR(IF(L151>M151,\"+\"&L151-M151,L151-M151)*1,\"\"))","v":7}]
[12150,"C.US.CLEJ2612150",{"$f":"IF(LEFT(RTD(\"cqg.rtd\", ,\"ContractData\",B152, \"LastTrade\",, \"T\"),3)=\"768\",\"\",RTD(\"cqg.rtd\", ,\"ContractData\",B152, \"LastTrade\",, \"T\"))","v":2.15},{"$f":"IF(C152=\"\",\"\",RTD(\"cqg.rtd\", ,\"ContractData\",B152, \"NetLastTrade\",, \"T\"))","v":0.98},{"$f":"IF(LEFT(RTD(\"cqg.rtd\", ,\"ContractData\",B152, \"LastTrade\",, \"T\"),3)=\"768\",\"\",RTD(\"cqg.rtd\", ,\"ContractData\",B152, \"MT_LastBidVolume\",, \"T\"))","v":2},{"$f":"IF(LEFT(RTD(\"cqg.rtd\", ,\"ContractData\",B152, \"LastTrade\",, \"T\"),3)=\"768\",\"\",RTD(\"cqg.rtd\", ,\"ContractData\",B152, \"Bid\",, \"T\"))","v":1.3},{"$f":"IF(LEFT(RTD(\"cqg.rtd\", ,\"ContractData\",B152, \"LastTrade\",, \"T\"),3)=\"768\",\"\",RTD(\"cqg.rtd\", ,\"ContractData\",B152, \"Ask\",, \"T\"))","v":1.37},{"$f":"IF(LEFT(RTD(\"cqg.rtd\", ,\"ContractData\",B152, \"LastTrade\",, \"T\"),3)=\"768\",\"\",RTD(\"cqg.rtd\", ,\"ContractData\",B152, \"MT_LastAskVolume\",, \"T\"))","v":22},{"$f":"IF(LEFT(RTD(\"cqg.rtd\", ,\"ContractData\",B152, \"LastTrade\",, \"T\"),3)=\"768\",\"\",RTD(\"cqg.rtd\", ,\"ContractData\",B152, \"T_CVol\",, \"T\"))","v":2},{"$f":"IF(LEFT(RTD(\"cqg.rtd\", ,\"ContractData\",B152, \"LastTrade\",, \"T\"),3)=\"768\",\"\",RTD(\"cqg.rtd\", ,\"ContractData\",B152, \"Y_CVol\",, \"T\"))","v":15},{"$f":"IF(LEFT(RTD(\"cqg.rtd\", ,\"ContractData\",B152, \"LastTrade\",, \"T\"),3)=\"768\",\"\",IFERROR(IF(I152>J152,\"+\"&I152-J152,I152-J152)*1,\"\"))","v":-13},{"$f":"IF(LEFT(RTD(\"cqg.rtd\", ,\"ContractData\",B152, \"LastTrade\",, \"T\"),3)=\"768\",\"\",RTD(\"cqg.rtd\",,\"StudyData\",B152,  \"Bar\",,  \"ContractOI\", \"D\", \"-1\",,,,,\"T\"))","v":76},{"$f":"IF(LEFT(RTD(\"cqg.rtd\", ,\"ContractData\",B152, \"LastTrade\",, \"T\"),3)=\"768\",\"\",RTD(\"cqg.rtd\",,\"StudyData\",B152,  \"Bar\",,  \"ContractOI\", \"D\", \"-2\",,,,,\"T\"))","v":70},{"$f":"IF(LEFT(RTD(\"cqg.rtd\", ,\"ContractData\",B152, \"LastTrade\",, \"T\"),3)=\"768\",\"\",IFERROR(IF(L152>M152,\"+\"&L152-M152,L152-M152)*1,\"\"))","v":6}]
[12200,"C.US.CLEJ2612200",{"$f":"IF(LEFT(RTD(\"cqg.rtd\", ,\"ContractData\",B153, \"LastTrade\",, \"T\"),3)=\"768\",\"\",RTD(\"cqg.rtd\", ,\"ContractData\",B153, \"LastTrade\",, \"T\"))","v":2},{"$f":"IF(C153=\"\",\"\",RTD(\"cqg.rtd\", ,\"ContractData\",B153, \"NetLastTrade\",, \"T\"))","v":0.85999999999999988},{"$f":"IF(LEFT(RTD(\"cqg.rtd\", ,\"ContractData\",B153, \"LastTrade\",, \"T\"),3)=\"768\",\"\",RTD(\"cqg.rtd\", ,\"ContractData\",B153, \"MT_LastBidVolume\",, \"T\"))","v":1},{"$f":"IF(LEFT(RTD(\"cqg.rtd\", ,\"ContractData\",B153, \"LastTrade\",, \"T\"),3)=\"768\",\"\",RTD(\"cqg.rtd\", ,\"ContractData\",B153, \"Bid\",, \"T\"))","v":1.26},{"$f":"IF(LEFT(RTD(\"cqg.rtd\", ,\"ContractData\",B153, \"LastTrade\",, \"T\"),3)=\"768\",\"\",RTD(\"cqg.rtd\", ,\"ContractData\",B153, \"Ask\",, \"T\"))","v":1.33},{"$f":"IF(LEFT(RTD(\"cqg.rtd\", ,\"ContractData\",B153, \"LastTrade\",, \"T\"),3)=\"768\",\"\",RTD(\"cqg.rtd\", ,\"ContractData\",B153, \"MT_LastAskVolume\",, \"T\"))","v":21},{"$f":"IF(LEFT(RTD(\"cqg.rtd\", ,\"ContractData\",B153, \"LastTrade\",, \"T\"),3)=\"768\",\"\",RTD(\"cqg.rtd\", ,\"ContractData\",B153, \"T_CVol\",, \"T\"))","v":4},{"$f":"IF(LEFT(RTD(\"cqg.rtd\", ,\"ContractData\",B153, \"LastTrade\",, \"T\"),3)=\"768\",\"\",RTD(\"cqg.rtd\", ,\"ContractData\",B153, \"Y_CVol\",, \"T\"))","v":37},{"$f":"IF(LEFT(RTD(\"cqg.rtd\", ,\"ContractData\",B153, \"LastTrade\",, \"T\"),3)=\"768\",\"\",IFERROR(IF(I153>J153,\"+\"&I153-J153,I153-J153)*1,\"\"))","v":-33},{"$f":"IF(LEFT(RTD(\"cqg.rtd\", ,\"ContractData\",B153, \"LastTrade\",, \"T\"),3)=\"768\",\"\",RTD(\"cqg.rtd\",,\"StudyData\",B153,  \"Bar\",,  \"ContractOI\", \"D\", \"-1\",,,,,\"T\"))","v":341},{"$f":"IF(LEFT(RTD(\"cqg.rtd\", ,\"ContractData\",B153, \"LastTrade\",, \"T\"),3)=\"768\",\"\",RTD(\"cqg.rtd\",,\"StudyData\",B153,  \"Bar\",,  \"ContractOI\", \"D\", \"-2\",,,,,\"T\"))","v":348},{"$f":"IF(LEFT(RTD(\"cqg.rtd\", ,\"ContractData\",B153, \"LastTrade\",, \"T\"),3)=\"768\",\"\",IFERROR(IF(L153>M153,\"+\"&L153-M153,L153-M153)*1,\"\"))","v":-7}]
[12250,"C.US.CLEJ2612250",{"$f":"IF(LEFT(RTD(\"cqg.rtd\", ,\"ContractData\",B154, \"LastTrade\",, \"T\"),3)=\"768\",\"\",RTD(\"cqg.rtd\", ,\"ContractData\",B154, \"LastTrade\",, \"T\"))","v":1.86},{"$f":"IF(C154=\"\",\"\",RTD(\"cqg.rtd\", ,\"ContractData\",B154, \"NetLastTrade\",, \"T\"))","v":0.74},{"$f":"IF(LEFT(RTD(\"cqg.rtd\", ,\"ContractData\",B154, \"LastTrade\",, \"T\"),3)=\"768\",\"\",RTD(\"cqg.rtd\", ,\"ContractData\",B154, \"MT_LastBidVolume\",, \"T\"))","v":1},{"$f":"IF(LEFT(RTD(\"cqg.rtd\", ,\"ContractData\",B154, \"LastTrade\",, \"T\"),3)=\"768\",\"\",RTD(\"cqg.rtd\", ,\"ContractData\",B154, \"Bid\",, \"T\"))","v":1.23},{"$f":"IF(LEFT(RTD(\"cqg.rtd\", ,\"ContractData\",B154, \"LastTrade\",, \"T\"),3)=\"768\",\"\",RTD(\"cqg.rtd\", ,\"ContractData\",B154, \"Ask\",, \"T\"))","v":1.3},{"$f":"IF(LEFT(RTD(\"cqg.rtd\", ,\"ContractData\",B154, \"LastTrade\",, \"T\"),3)=\"768\",\"\",RTD(\"cqg.rtd\", ,\"ContractData\",B154, \"MT_LastAskVolume\",, \"T\"))","v":22},{"$f":"IF(LEFT(RTD(\"cqg.rtd\", ,\"ContractData\",B154, \"LastTrade\",, \"T\"),3)=\"768\",\"\",RTD(\"cqg.rtd\", ,\"ContractData\",B154, \"T_CVol\",, \"T\"))","v":10},{"$f":"IF(LEFT(RTD(\"cqg.rtd\", ,\"ContractData\",B154, \"LastTrade\",, \"T\"),3)=\"768\",\"\",RTD(\"cqg.rtd\", ,\"ContractData\",B154, \"Y_CVol\",, \"T\"))","v":30},{"$f":"IF(LEFT(RTD(\"cqg.rtd\", ,\"ContractData\",B154, \"LastTrade\",, \"T\"),3)=\"768\",\"\",IFERROR(IF(I154>J154,\"+\"&I154-J154,I154-J154)*1,\"\"))","v":-20},{"$f":"IF(LEFT(RTD(\"cqg.rtd\", ,\"ContractData\",B154, \"LastTrade\",, \"T\"),3)=\"768\",\"\",RTD(\"cqg.rtd\",,\"StudyData\",B154,  \"Bar\",,  \"ContractOI\", \"D\", \"-1\",,,,,\"T\"))","v":357},{"$f":"IF(LEFT(RTD(\"cqg.rtd\", ,\"ContractData\",B154, \"LastTrade\",, \"T\"),3)=\"768\",\"\",RTD(\"cqg.rtd\",,\"StudyData\",B154,  \"Bar\",,  \"ContractOI\", \"D\", \"-2\",,,,,\"T\"))","v":355},{"$f":"IF(LEFT(RTD(\"cqg.rtd\", ,\"ContractData\",B154, \"LastTrade\",, \"T\"),3)=\"768\",\"\",IFERROR(IF(L154>M154,\"+\"&L154-M154,L154-M154)*1,\"\"))","v":2}]
[12300,"C.US.CLEJ2612300",{"$f":"IF(LEFT(RTD(\"cqg.rtd\", ,\"ContractData\",B155, \"LastTrade\",, \"T\"),3)=\"768\",\"\",RTD(\"cqg.rtd\", ,\"ContractData\",B155, \"LastTrade\",, \"T\"))","v":2.5300000000000002},{"$f":"IF(C155=\"\",\"\",RTD(\"cqg.rtd\", ,\"ContractData\",B155, \"NetLastTrade\",, \"T\"))","v":1.4400000000000002},{"$f":"IF(LEFT(RTD(\"cqg.rtd\", ,\"ContractData\",B155, \"LastTrade\",, \"T\"),3)=\"768\",\"\",RTD(\"cqg.rtd\", ,\"ContractData\",B155, \"MT_LastBidVolume\",, \"T\"))","v":3},{"$f":"IF(LEFT(RTD(\"cqg.rtd\", ,\"ContractData\",B155, \"LastTrade\",, \"T\"),3)=\"768\",\"\",RTD(\"cqg.rtd\", ,\"ContractData\",B155, \"Bid\",, \"T\"))","v":1.19},{"$f":"IF(LEFT(RTD(\"cqg.rtd\", ,\"ContractData\",B155, \"LastTrade\",, \"T\"),3)=\"768\",\"\",RTD(\"cqg.rtd\", ,\"ContractData\",B155, \"Ask\",, \"T\"))","v":1.26},{"$f":"IF(LEFT(RTD(\"cqg.rtd\", ,\"ContractData\",B155, \"LastTrade\",, \"T\"),3)=\"768\",\"\",RTD(\"cqg.rtd\", ,\"ContractData\",B155, \"MT_LastAskVolume\",, \"T\"))","v":21},{"$f":"IF(LEFT(RTD(\"cqg.rtd\", ,\"ContractData\",B155, \"LastTrade\",, \"T\"),3)=\"768\",\"\",RTD(\"cqg.rtd\", ,\"ContractData\",B155, \"T_CVol\",, \"T\"))","v":4},{"$f":"IF(LEFT(RTD(\"cqg.rtd\", ,\"ContractData\",B155, \"LastTrade\",, \"T\"),3)=\"768\",\"\",RTD(\"cqg.rtd\", ,\"ContractData\",B155, \"Y_CVol\",, \"T\"))","v":29},{"$f":"IF(LEFT(RTD(\"cqg.rtd\", ,\"ContractData\",B155, \"LastTrade\",, \"T\"),3)=\"768\",\"\",IFERROR(IF(I155>J155,\"+\"&I155-J155,I155-J155)*1,\"\"))","v":-25},{"$f":"IF(LEFT(RTD(\"cqg.rtd\", ,\"ContractData\",B155, \"LastTrade\",, \"T\"),3)=\"768\",\"\",RTD(\"cqg.rtd\",,\"StudyData\",B155,  \"Bar\",,  \"ContractOI\", \"D\", \"-1\",,,,,\"T\"))","v":340},{"$f":"IF(LEFT(RTD(\"cqg.rtd\", ,\"ContractData\",B155, \"LastTrade\",, \"T\"),3)=\"768\",\"\",RTD(\"cqg.rtd\",,\"StudyData\",B155,  \"Bar\",,  \"ContractOI\", \"D\", \"-2\",,,,,\"T\"))","v":337},{"$f":"IF(LEFT(RTD(\"cqg.rtd\", ,\"ContractData\",B155, \"LastTrade\",, \"T\"),3)=\"768\",\"\",IFERROR(IF(L155>M155,\"+\"&L155-M155,L155-M155)*1,\"\"))","v":3}]
[12350,"C.US.CLEJ2612350",{"$f":"IF(LEFT(RTD(\"cqg.rtd\", ,\"ContractData\",B156, \"LastTrade\",, \"T\"),3)=\"768\",\"\",RTD(\"cqg.rtd\", ,\"ContractData\",B156, \"LastTrade\",, \"T\"))","v":1.1400000000000001},{"$f":"IF(C156=\"\",\"\",RTD(\"cqg.rtd\", ,\"ContractData\",B156, \"NetLastTrade\",, \"T\"))","v":8.0000000000000071E-2},{"$f":"IF(LEFT(RTD(\"cqg.rtd\", ,\"ContractData\",B156, \"LastTrade\",, \"T\"),3)=\"768\",\"\",RTD(\"cqg.rtd\", ,\"ContractData\",B156, \"MT_LastBidVolume\",, \"T\"))","v":1},{"$f":"IF(LEFT(RTD(\"cqg.rtd\", ,\"ContractData\",B156, \"LastTrade\",, \"T\"),3)=\"768\",\"\",RTD(\"cqg.rtd\", ,\"ContractData\",B156, \"Bid\",, \"T\"))","v":1.1599999999999999},{"$f":"IF(LEFT(RTD(\"cqg.rtd\", ,\"ContractData\",B156, \"LastTrade\",, \"T\"),3)=\"768\",\"\",RTD(\"cqg.rtd\", ,\"ContractData\",B156, \"Ask\",, \"T\"))","v":1.23},{"$f":"IF(LEFT(RTD(\"cqg.rtd\", ,\"ContractData\",B156, \"LastTrade\",, \"T\"),3)=\"768\",\"\",RTD(\"cqg.rtd\", ,\"ContractData\",B156, \"MT_LastAskVolume\",, \"T\"))","v":22},{"$f":"IF(LEFT(RTD(\"cqg.rtd\", ,\"ContractData\",B156, \"LastTrade\",, \"T\"),3)=\"768\",\"\",RTD(\"cqg.rtd\", ,\"ContractData\",B156, \"T_CVol\",, \"T\"))","v":11},{"$f":"IF(LEFT(RTD(\"cqg.rtd\", ,\"ContractData\",B156, \"LastTrade\",, \"T\"),3)=\"768\",\"\",RTD(\"cqg.rtd\", ,\"ContractData\",B156, \"Y_CVol\",, \"T\"))","v":44},{"$f":"IF(LEFT(RTD(\"cqg.rtd\", ,\"ContractData\",B156, \"LastTrade\",, \"T\"),3)=\"768\",\"\",IFERROR(IF(I156>J156,\"+\"&I156-J156,I156-J156)*1,\"\"))","v":-33},{"$f":"IF(LEFT(RTD(\"cqg.rtd\", ,\"ContractData\",B156, \"LastTrade\",, \"T\"),3)=\"768\",\"\",RTD(\"cqg.rtd\",,\"StudyData\",B156,  \"Bar\",,  \"ContractOI\", \"D\", \"-1\",,,,,\"T\"))","v":42},{"$f":"IF(LEFT(RTD(\"cqg.rtd\", ,\"ContractData\",B156, \"LastTrade\",, \"T\"),3)=\"768\",\"\",RTD(\"cqg.rtd\",,\"StudyData\",B156,  \"Bar\",,  \"ContractOI\", \"D\", \"-2\",,,,,\"T\"))","v":32},{"$f":"IF(LEFT(RTD(\"cqg.rtd\", ,\"ContractData\",B156, \"LastTrade\",, \"T\"),3)=\"768\",\"\",IFERROR(IF(L156>M156,\"+\"&L156-M156,L156-M156)*1,\"\"))","v":10}]
[12400,"C.US.CLEJ2612400",{"$f":"IF(LEFT(RTD(\"cqg.rtd\", ,\"ContractData\",B157, \"LastTrade\",, \"T\"),3)=\"768\",\"\",RTD(\"cqg.rtd\", ,\"ContractData\",B157, \"LastTrade\",, \"T\"))","v":1.07},{"$f":"IF(C157=\"\",\"\",RTD(\"cqg.rtd\", ,\"ContractData\",B157, \"NetLastTrade\",, \"T\"))","v":3.0000000000000027E-2},{"$f":"IF(LEFT(RTD(\"cqg.rtd\", ,\"ContractData\",B157, \"LastTrade\",, \"T\"),3)=\"768\",\"\",RTD(\"cqg.rtd\", ,\"ContractData\",B157, \"MT_LastBidVolume\",, \"T\"))","v":2},{"$f":"IF(LEFT(RTD(\"cqg.rtd\", ,\"ContractData\",B157, \"LastTrade\",, \"T\"),3)=\"768\",\"\",RTD(\"cqg.rtd\", ,\"ContractData\",B157, \"Bid\",, \"T\"))","v":1.1200000000000001},{"$f":"IF(LEFT(RTD(\"cqg.rtd\", ,\"ContractData\",B157, \"LastTrade\",, \"T\"),3)=\"768\",\"\",RTD(\"cqg.rtd\", ,\"ContractData\",B157, \"Ask\",, \"T\"))","v":1.2},{"$f":"IF(LEFT(RTD(\"cqg.rtd\", ,\"ContractData\",B157, \"LastTrade\",, \"T\"),3)=\"768\",\"\",RTD(\"cqg.rtd\", ,\"ContractData\",B157, \"MT_LastAskVolume\",, \"T\"))","v":23},{"$f":"IF(LEFT(RTD(\"cqg.rtd\", ,\"ContractData\",B157, \"LastTrade\",, \"T\"),3)=\"768\",\"\",RTD(\"cqg.rtd\", ,\"ContractData\",B157, \"T_CVol\",, \"T\"))","v":14},{"$f":"IF(LEFT(RTD(\"cqg.rtd\", ,\"ContractData\",B157, \"LastTrade\",, \"T\"),3)=\"768\",\"\",RTD(\"cqg.rtd\", ,\"ContractData\",B157, \"Y_CVol\",, \"T\"))","v":15},{"$f":"IF(LEFT(RTD(\"cqg.rtd\", ,\"ContractData\",B157, \"LastTrade\",, \"T\"),3)=\"768\",\"\",IFERROR(IF(I157>J157,\"+\"&I157-J157,I157-J157)*1,\"\"))","v":-1},{"$f":"IF(LEFT(RTD(\"cqg.rtd\", ,\"ContractData\",B157, \"LastTrade\",, \"T\"),3)=\"768\",\"\",RTD(\"cqg.rtd\",,\"StudyData\",B157,  \"Bar\",,  \"ContractOI\", \"D\", \"-1\",,,,,\"T\"))","v":169},{"$f":"IF(LEFT(RTD(\"cqg.rtd\", ,\"ContractData\",B157, \"LastTrade\",, \"T\"),3)=\"768\",\"\",RTD(\"cqg.rtd\",,\"StudyData\",B157,  \"Bar\",,  \"ContractOI\", \"D\", \"-2\",,,,,\"T\"))","v":167},{"$f":"IF(LEFT(RTD(\"cqg.rtd\", ,\"ContractData\",B157, \"LastTrade\",, \"T\"),3)=\"768\",\"\",IFERROR(IF(L157>M157,\"+\"&L157-M157,L157-M157)*1,\"\"))","v":2}]
[{"$f":"A157+$A$7","v":12450},{"$f":"LEFT(B157,FIND(A157,B157)-1)&A158","v":"C.US.CLEJ2612450"},{"$f":"IF(LEFT(RTD(\"cqg.rtd\", ,\"ContractData\",B158, \"LastTrade\",, \"T\"),3)=\"768\",\"\",RTD(\"cqg.rtd\", ,\"ContractData\",B158, \"LastTrade\",, \"T\"))","v":1.0900000000000001},{"$f":"IF(C158=\"\",\"\",RTD(\"cqg.rtd\", ,\"ContractData\",B158, \"NetLastTrade\",, \"T\"))","v":7.0000000000000062E-2},{"$f":"IF(LEFT(RTD(\"cqg.rtd\", ,\"ContractData\",B158, \"LastTrade\",, \"T\"),3)=\"768\",\"\",RTD(\"cqg.rtd\", ,\"ContractData\",B158, \"MT_LastBidVolume\",, \"T\"))","v":2},{"$f":"IF(LEFT(RTD(\"cqg.rtd\", ,\"ContractData\",B158, \"LastTrade\",, \"T\"),3)=\"768\",\"\",RTD(\"cqg.rtd\", ,\"ContractData\",B158, \"Bid\",, \"T\"))","v":1.0900000000000001},{"$f":"IF(LEFT(RTD(\"cqg.rtd\", ,\"ContractData\",B158, \"LastTrade\",, \"T\"),3)=\"768\",\"\",RTD(\"cqg.rtd\", ,\"ContractData\",B158, \"Ask\",, \"T\"))","v":1.17},{"$f":"IF(LEFT(RTD(\"cqg.rtd\", ,\"ContractData\",B158, \"LastTrade\",, \"T\"),3)=\"768\",\"\",RTD(\"cqg.rtd\", ,\"ContractData\",B158, \"MT_LastAskVolume\",, \"T\"))","v":25},{"$f":"IF(LEFT(RTD(\"cqg.rtd\", ,\"ContractData\",B158, \"LastTrade\",, \"T\"),3)=\"768\",\"\",RTD(\"cqg.rtd\", ,\"ContractData\",B158, \"T_CVol\",, \"T\"))","v":19},{"$f":"IF(LEFT(RTD(\"cqg.rtd\", ,\"ContractData\",B158, \"LastTrade\",, \"T\"),3)=\"768\",\"\",RTD(\"cqg.rtd\", ,\"ContractData\",B158, \"Y_CVol\",, \"T\"))","v":23},{"$f":"IF(LEFT(RTD(\"cqg.rtd\", ,\"ContractData\",B158, \"LastTrade\",, \"T\"),3)=\"768\",\"\",IFERROR(IF(I158>J158,\"+\"&I158-J158,I158-J158)*1,\"\"))","v":-4},{"$f":"IF(LEFT(RTD(\"cqg.rtd\", ,\"ContractData\",B158, \"LastTrade\",, \"T\"),3)=\"768\",\"\",RTD(\"cqg.rtd\",,\"StudyData\",B158,  \"Bar\",,  \"ContractOI\", \"D\", \"-1\",,,,,\"T\"))","v":16},{"$f":"IF(LEFT(RTD(\"cqg.rtd\", ,\"ContractData\",B158, \"LastTrade\",, \"T\"),3)=\"768\",\"\",RTD(\"cqg.rtd\",,\"StudyData\",B158,  \"Bar\",,  \"ContractOI\", \"D\", \"-2\",,,,,\"T\"))","v":14},{"$f":"IF(LEFT(RTD(\"cqg.rtd\", ,\"ContractData\",B158, \"LastTrade\",, \"T\"),3)=\"768\",\"\",IFERROR(IF(L158>M158,\"+\"&L158-M158,L158-M158)*1,\"\"))","v":2}]
[12500,"C.US.CLEJ2612500",{"$f":"IF(LEFT(RTD(\"cqg.rtd\", ,\"ContractData\",B159, \"LastTrade\",, \"T\"),3)=\"768\",\"\",RTD(\"cqg.rtd\", ,\"ContractData\",B159, \"LastTrade\",, \"T\"))","v":1},{"$f":"IF(C159=\"\",\"\",RTD(\"cqg.rtd\", ,\"ContractData\",B159, \"NetLastTrade\",, \"T\"))","v":1.0000000000000009E-2},{"$f":"IF(LEFT(RTD(\"cqg.rtd\", ,\"ContractData\",B159, \"LastTrade\",, \"T\"),3)=\"768\",\"\",RTD(\"cqg.rtd\", ,\"ContractData\",B159, \"MT_LastBidVolume\",, \"T\"))","v":1},{"$f":"IF(LEFT(RTD(\"cqg.rtd\", ,\"ContractData\",B159, \"LastTrade\",, \"T\"),3)=\"768\",\"\",RTD(\"cqg.rtd\", ,\"ContractData\",B159, \"Bid\",, \"T\"))","v":1.07},{"$f":"IF(LEFT(RTD(\"cqg.rtd\", ,\"ContractData\",B159, \"LastTrade\",, \"T\"),3)=\"768\",\"\",RTD(\"cqg.rtd\", ,\"ContractData\",B159, \"Ask\",, \"T\"))","v":1.1400000000000001},{"$f":"IF(LEFT(RTD(\"cqg.rtd\", ,\"ContractData\",B159, \"LastTrade\",, \"T\"),3)=\"768\",\"\",RTD(\"cqg.rtd\", ,\"ContractData\",B159, \"MT_LastAskVolume\",, \"T\"))","v":28},{"$f":"IF(LEFT(RTD(\"cqg.rtd\", ,\"ContractData\",B159, \"LastTrade\",, \"T\"),3)=\"768\",\"\",RTD(\"cqg.rtd\", ,\"ContractData\",B159, \"T_CVol\",, \"T\"))","v":189},{"$f":"IF(LEFT(RTD(\"cqg.rtd\", ,\"ContractData\",B159, \"LastTrade\",, \"T\"),3)=\"768\",\"\",RTD(\"cqg.rtd\", ,\"ContractData\",B159, \"Y_CVol\",, \"T\"))","v":476},{"$f":"IF(LEFT(RTD(\"cqg.rtd\", ,\"ContractData\",B159, \"LastTrade\",, \"T\"),3)=\"768\",\"\",IFERROR(IF(I159>J159,\"+\"&I159-J159,I159-J159)*1,\"\"))","v":-287},{"$f":"IF(LEFT(RTD(\"cqg.rtd\", ,\"ContractData\",B159, \"LastTrade\",, \"T\"),3)=\"768\",\"\",RTD(\"cqg.rtd\",,\"StudyData\",B159,  \"Bar\",,  \"ContractOI\", \"D\", \"-1\",,,,,\"T\"))","v":2060},{"$f":"IF(LEFT(RTD(\"cqg.rtd\", ,\"ContractData\",B159, \"LastTrade\",, \"T\"),3)=\"768\",\"\",RTD(\"cqg.rtd\",,\"StudyData\",B159,  \"Bar\",,  \"ContractOI\", \"D\", \"-2\",,,,,\"T\"))","v":2080},{"$f":"IF(LEFT(RTD(\"cqg.rtd\", ,\"ContractData\",B159, \"LastTrade\",, \"T\"),3)=\"768\",\"\",IFERROR(IF(L159>M159,\"+\"&L159-M159,L159-M159)*1,\"\"))","v":-20}]
[12550,"C.US.CLEJ2612550",{"$f":"IF(LEFT(RTD(\"cqg.rtd\", ,\"ContractData\",B160, \"LastTrade\",, \"T\"),3)=\"768\",\"\",RTD(\"cqg.rtd\", ,\"ContractData\",B160, \"LastTrade\",, \"T\"))","v":0.95000000000000007},{"$f":"IF(C160=\"\",\"\",RTD(\"cqg.rtd\", ,\"ContractData\",B160, \"NetLastTrade\",, \"T\"))","v":-1.9999999999999907E-2},{"$f":"IF(LEFT(RTD(\"cqg.rtd\", ,\"ContractData\",B160, \"LastTrade\",, \"T\"),3)=\"768\",\"\",RTD(\"cqg.rtd\", ,\"ContractData\",B160, \"MT_LastBidVolume\",, \"T\"))","v":2},{"$f":"IF(LEFT(RTD(\"cqg.rtd\", ,\"ContractData\",B160, \"LastTrade\",, \"T\"),3)=\"768\",\"\",RTD(\"cqg.rtd\", ,\"ContractData\",B160, \"Bid\",, \"T\"))","v":1.03},{"$f":"IF(LEFT(RTD(\"cqg.rtd\", ,\"ContractData\",B160, \"LastTrade\",, \"T\"),3)=\"768\",\"\",RTD(\"cqg.rtd\", ,\"ContractData\",B160, \"Ask\",, \"T\"))","v":1.1000000000000001},{"$f":"IF(LEFT(RTD(\"cqg.rtd\", ,\"ContractData\",B160, \"LastTrade\",, \"T\"),3)=\"768\",\"\",RTD(\"cqg.rtd\", ,\"ContractData\",B160, \"MT_LastAskVolume\",, \"T\"))","v":18},{"$f":"IF(LEFT(RTD(\"cqg.rtd\", ,\"ContractData\",B160, \"LastTrade\",, \"T\"),3)=\"768\",\"\",RTD(\"cqg.rtd\", ,\"ContractData\",B160, \"T_CVol\",, \"T\"))","v":0},{"$f":"IF(LEFT(RTD(\"cqg.rtd\", ,\"ContractData\",B160, \"LastTrade\",, \"T\"),3)=\"768\",\"\",RTD(\"cqg.rtd\", ,\"ContractData\",B160, \"Y_CVol\",, \"T\"))","v":16},{"$f":"IF(LEFT(RTD(\"cqg.rtd\", ,\"ContractData\",B160, \"LastTrade\",, \"T\"),3)=\"768\",\"\",IFERROR(IF(I160>J160,\"+\"&I160-J160,I160-J160)*1,\"\"))","v":-16},{"$f":"IF(LEFT(RTD(\"cqg.rtd\", ,\"ContractData\",B160, \"LastTrade\",, \"T\"),3)=\"768\",\"\",RTD(\"cqg.rtd\",,\"StudyData\",B160,  \"Bar\",,  \"ContractOI\", \"D\", \"-1\",,,,,\"T\"))","v":22},{"$f":"IF(LEFT(RTD(\"cqg.rtd\", ,\"ContractData\",B160, \"LastTrade\",, \"T\"),3)=\"768\",\"\",RTD(\"cqg.rtd\",,\"StudyData\",B160,  \"Bar\",,  \"ContractOI\", \"D\", \"-2\",,,,,\"T\"))","v":15},{"$f":"IF(LEFT(RTD(\"cqg.rtd\", ,\"ContractData\",B160, \"LastTrade\",, \"T\"),3)=\"768\",\"\",IFERROR(IF(L160>M160,\"+\"&L160-M160,L160-M160)*1,\"\"))","v":7}]
[12600,"C.US.CLEJ2612600",{"$f":"IF(LEFT(RTD(\"cqg.rtd\", ,\"ContractData\",B161, \"LastTrade\",, \"T\"),3)=\"768\",\"\",RTD(\"cqg.rtd\", ,\"ContractData\",B161, \"LastTrade\",, \"T\"))","v":1.6300000000000001},{"$f":"IF(C161=\"\",\"\",RTD(\"cqg.rtd\", ,\"ContractData\",B161, \"NetLastTrade\",, \"T\"))","v":0.68},{"$f":"IF(LEFT(RTD(\"cqg.rtd\", ,\"ContractData\",B161, \"LastTrade\",, \"T\"),3)=\"768\",\"\",RTD(\"cqg.rtd\", ,\"ContractData\",B161, \"MT_LastBidVolume\",, \"T\"))","v":33},{"$f":"IF(LEFT(RTD(\"cqg.rtd\", ,\"ContractData\",B161, \"LastTrade\",, \"T\"),3)=\"768\",\"\",RTD(\"cqg.rtd\", ,\"ContractData\",B161, \"Bid\",, \"T\"))","v":1},{"$f":"IF(LEFT(RTD(\"cqg.rtd\", ,\"ContractData\",B161, \"LastTrade\",, \"T\"),3)=\"768\",\"\",RTD(\"cqg.rtd\", ,\"ContractData\",B161, \"Ask\",, \"T\"))","v":1.07},{"$f":"IF(LEFT(RTD(\"cqg.rtd\", ,\"ContractData\",B161, \"LastTrade\",, \"T\"),3)=\"768\",\"\",RTD(\"cqg.rtd\", ,\"ContractData\",B161, \"MT_LastAskVolume\",, \"T\"))","v":18},{"$f":"IF(LEFT(RTD(\"cqg.rtd\", ,\"ContractData\",B161, \"LastTrade\",, \"T\"),3)=\"768\",\"\",RTD(\"cqg.rtd\", ,\"ContractData\",B161, \"T_CVol\",, \"T\"))","v":23},{"$f":"IF(LEFT(RTD(\"cqg.rtd\", ,\"ContractData\",B161, \"LastTrade\",, \"T\"),3)=\"768\",\"\",RTD(\"cqg.rtd\", ,\"ContractData\",B161, \"Y_CVol\",, \"T\"))","v":180},{"$f":"IF(LEFT(RTD(\"cqg.rtd\", ,\"ContractData\",B161, \"LastTrade\",, \"T\"),3)=\"768\",\"\",IFERROR(IF(I161>J161,\"+\"&I161-J161,I161-J161)*1,\"\"))","v":-157},{"$f":"IF(LEFT(RTD(\"cqg.rtd\", ,\"ContractData\",B161, \"LastTrade\",, \"T\"),3)=\"768\",\"\",RTD(\"cqg.rtd\",,\"StudyData\",B161,  \"Bar\",,  \"ContractOI\", \"D\", \"-1\",,,,,\"T\"))","v":101},{"$f":"IF(LEFT(RTD(\"cqg.rtd\", ,\"ContractData\",B161, \"LastTrade\",, \"T\"),3)=\"768\",\"\",RTD(\"cqg.rtd\",,\"StudyData\",B161,  \"Bar\",,  \"ContractOI\", \"D\", \"-2\",,,,,\"T\"))","v":81},{"$f":"IF(LEFT(RTD(\"cqg.rtd\", ,\"ContractData\",B161, \"LastTrade\",, \"T\"),3)=\"768\",\"\",IFERROR(IF(L161>M161,\"+\"&L161-M161,L161-M161)*1,\"\"))","v":20}]
[12650,"C.US.CLEJ2612650",{"$f":"IF(LEFT(RTD(\"cqg.rtd\", ,\"ContractData\",B162, \"LastTrade\",, \"T\"),3)=\"768\",\"\",RTD(\"cqg.rtd\", ,\"ContractData\",B162, \"LastTrade\",, \"T\"))","v":0.96},{"$f":"IF(C162=\"\",\"\",RTD(\"cqg.rtd\", ,\"ContractData\",B162, \"NetLastTrade\",, \"T\"))","v":2.9999999999999916E-2},{"$f":"IF(LEFT(RTD(\"cqg.rtd\", ,\"ContractData\",B162, \"LastTrade\",, \"T\"),3)=\"768\",\"\",RTD(\"cqg.rtd\", ,\"ContractData\",B162, \"MT_LastBidVolume\",, \"T\"))","v":1},{"$f":"IF(LEFT(RTD(\"cqg.rtd\", ,\"ContractData\",B162, \"LastTrade\",, \"T\"),3)=\"768\",\"\",RTD(\"cqg.rtd\", ,\"ContractData\",B162, \"Bid\",, \"T\"))","v":0.98},{"$f":"IF(LEFT(RTD(\"cqg.rtd\", ,\"ContractData\",B162, \"LastTrade\",, \"T\"),3)=\"768\",\"\",RTD(\"cqg.rtd\", ,\"ContractData\",B162, \"Ask\",, \"T\"))","v":1.04},{"$f":"IF(LEFT(RTD(\"cqg.rtd\", ,\"ContractData\",B162, \"LastTrade\",, \"T\"),3)=\"768\",\"\",RTD(\"cqg.rtd\", ,\"ContractData\",B162, \"MT_LastAskVolume\",, \"T\"))","v":18},{"$f":"IF(LEFT(RTD(\"cqg.rtd\", ,\"ContractData\",B162, \"LastTrade\",, \"T\"),3)=\"768\",\"\",RTD(\"cqg.rtd\", ,\"ContractData\",B162, \"T_CVol\",, \"T\"))","v":8},{"$f":"IF(LEFT(RTD(\"cqg.rtd\", ,\"ContractData\",B162, \"LastTrade\",, \"T\"),3)=\"768\",\"\",RTD(\"cqg.rtd\", ,\"ContractData\",B162, \"Y_CVol\",, \"T\"))","v":6},{"$f":"IF(LEFT(RTD(\"cqg.rtd\", ,\"ContractData\",B162, \"LastTrade\",, \"T\"),3)=\"768\",\"\",IFERROR(IF(I162>J162,\"+\"&I162-J162,I162-J162)*1,\"\"))","v":2},{"$f":"IF(LEFT(RTD(\"cqg.rtd\", ,\"ContractData\",B162, \"LastTrade\",, \"T\"),3)=\"768\",\"\",RTD(\"cqg.rtd\",,\"StudyData\",B162,  \"Bar\",,  \"ContractOI\", \"D\", \"-1\",,,,,\"T\"))","v":30},{"$f":"IF(LEFT(RTD(\"cqg.rtd\", ,\"ContractData\",B162, \"LastTrade\",, \"T\"),3)=\"768\",\"\",RTD(\"cqg.rtd\",,\"StudyData\",B162,  \"Bar\",,  \"ContractOI\", \"D\", \"-2\",,,,,\"T\"))","v":30},{"$f":"IF(LEFT(RTD(\"cqg.rtd\", ,\"ContractData\",B162, \"LastTrade\",, \"T\"),3)=\"768\",\"\",IFERROR(IF(L162>M162,\"+\"&L162-M162,L162-M162)*1,\"\"))","v":0}]
[12700,"C.US.CLEJ2612700",{"$f":"IF(LEFT(RTD(\"cqg.rtd\", ,\"ContractData\",B163, \"LastTrade\",, \"T\"),3)=\"768\",\"\",RTD(\"cqg.rtd\", ,\"ContractData\",B163, \"LastTrade\",, \"T\"))","v":1.08},{"$f":"IF(C163=\"\",\"\",RTD(\"cqg.rtd\", ,\"ContractData\",B163, \"NetLastTrade\",, \"T\"))","v":0.17000000000000004},{"$f":"IF(LEFT(RTD(\"cqg.rtd\", ,\"ContractData\",B163, \"LastTrade\",, \"T\"),3)=\"768\",\"\",RTD(\"cqg.rtd\", ,\"ContractData\",B163, \"MT_LastBidVolume\",, \"T\"))","v":2},{"$f":"IF(LEFT(RTD(\"cqg.rtd\", ,\"ContractData\",B163, \"LastTrade\",, \"T\"),3)=\"768\",\"\",RTD(\"cqg.rtd\", ,\"ContractData\",B163, \"Bid\",, \"T\"))","v":0.95000000000000007},{"$f":"IF(LEFT(RTD(\"cqg.rtd\", ,\"ContractData\",B163, \"LastTrade\",, \"T\"),3)=\"768\",\"\",RTD(\"cqg.rtd\", ,\"ContractData\",B163, \"Ask\",, \"T\"))","v":1.02},{"$f":"IF(LEFT(RTD(\"cqg.rtd\", ,\"ContractData\",B163, \"LastTrade\",, \"T\"),3)=\"768\",\"\",RTD(\"cqg.rtd\", ,\"ContractData\",B163, \"MT_LastAskVolume\",, \"T\"))","v":1},{"$f":"IF(LEFT(RTD(\"cqg.rtd\", ,\"ContractData\",B163, \"LastTrade\",, \"T\"),3)=\"768\",\"\",RTD(\"cqg.rtd\", ,\"ContractData\",B163, \"T_CVol\",, \"T\"))","v":22},{"$f":"IF(LEFT(RTD(\"cqg.rtd\", ,\"ContractData\",B163, \"LastTrade\",, \"T\"),3)=\"768\",\"\",RTD(\"cqg.rtd\", ,\"ContractData\",B163, \"Y_CVol\",, \"T\"))","v":6},{"$f":"IF(LEFT(RTD(\"cqg.rtd\", ,\"ContractData\",B163, \"LastTrade\",, \"T\"),3)=\"768\",\"\",IFERROR(IF(I163>J163,\"+\"&I163-J163,I163-J163)*1,\"\"))","v":16},{"$f":"IF(LEFT(RTD(\"cqg.rtd\", ,\"ContractData\",B163, \"LastTrade\",, \"T\"),3)=\"768\",\"\",RTD(\"cqg.rtd\",,\"StudyData\",B163,  \"Bar\",,  \"ContractOI\", \"D\", \"-1\",,,,,\"T\"))","v":25},{"$f":"IF(LEFT(RTD(\"cqg.rtd\", ,\"ContractData\",B163, \"LastTrade\",, \"T\"),3)=\"768\",\"\",RTD(\"cqg.rtd\",,\"StudyData\",B163,  \"Bar\",,  \"ContractOI\", \"D\", \"-2\",,,,,\"T\"))","v":25},{"$f":"IF(LEFT(RTD(\"cqg.rtd\", ,\"ContractData\",B163, \"LastTrade\",, \"T\"),3)=\"768\",\"\",IFERROR(IF(L163>M163,\"+\"&L163-M163,L163-M163)*1,\"\"))","v":0}]
[12750,"C.US.CLEJ2612750",{"$f":"IF(LEFT(RTD(\"cqg.rtd\", ,\"ContractData\",B164, \"LastTrade\",, \"T\"),3)=\"768\",\"\",RTD(\"cqg.rtd\", ,\"ContractData\",B164, \"LastTrade\",, \"T\"))","v":1.92},{"$f":"IF(C164=\"\",\"\",RTD(\"cqg.rtd\", ,\"ContractData\",B164, \"NetLastTrade\",, \"T\"))","v":1.04},{"$f":"IF(LEFT(RTD(\"cqg.rtd\", ,\"ContractData\",B164, \"LastTrade\",, \"T\"),3)=\"768\",\"\",RTD(\"cqg.rtd\", ,\"ContractData\",B164, \"MT_LastBidVolume\",, \"T\"))","v":2},{"$f":"IF(LEFT(RTD(\"cqg.rtd\", ,\"ContractData\",B164, \"LastTrade\",, \"T\"),3)=\"768\",\"\",RTD(\"cqg.rtd\", ,\"ContractData\",B164, \"Bid\",, \"T\"))","v":0.92},{"$f":"IF(LEFT(RTD(\"cqg.rtd\", ,\"ContractData\",B164, \"LastTrade\",, \"T\"),3)=\"768\",\"\",RTD(\"cqg.rtd\", ,\"ContractData\",B164, \"Ask\",, \"T\"))","v":0.99},{"$f":"IF(LEFT(RTD(\"cqg.rtd\", ,\"ContractData\",B164, \"LastTrade\",, \"T\"),3)=\"768\",\"\",RTD(\"cqg.rtd\", ,\"ContractData\",B164, \"MT_LastAskVolume\",, \"T\"))","v":17},{"$f":"IF(LEFT(RTD(\"cqg.rtd\", ,\"ContractData\",B164, \"LastTrade\",, \"T\"),3)=\"768\",\"\",RTD(\"cqg.rtd\", ,\"ContractData\",B164, \"T_CVol\",, \"T\"))","v":13},{"$f":"IF(LEFT(RTD(\"cqg.rtd\", ,\"ContractData\",B164, \"LastTrade\",, \"T\"),3)=\"768\",\"\",RTD(\"cqg.rtd\", ,\"ContractData\",B164, \"Y_CVol\",, \"T\"))","v":253},{"$f":"IF(LEFT(RTD(\"cqg.rtd\", ,\"ContractData\",B164, \"LastTrade\",, \"T\"),3)=\"768\",\"\",IFERROR(IF(I164>J164,\"+\"&I164-J164,I164-J164)*1,\"\"))","v":-240},{"$f":"IF(LEFT(RTD(\"cqg.rtd\", ,\"ContractData\",B164, \"LastTrade\",, \"T\"),3)=\"768\",\"\",RTD(\"cqg.rtd\",,\"StudyData\",B164,  \"Bar\",,  \"ContractOI\", \"D\", \"-1\",,,,,\"T\"))","v":244},{"$f":"IF(LEFT(RTD(\"cqg.rtd\", ,\"ContractData\",B164, \"LastTrade\",, \"T\"),3)=\"768\",\"\",RTD(\"cqg.rtd\",,\"StudyData\",B164,  \"Bar\",,  \"ContractOI\", \"D\", \"-2\",,,,,\"T\"))","v":155},{"$f":"IF(LEFT(RTD(\"cqg.rtd\", ,\"ContractData\",B164, \"LastTrade\",, \"T\"),3)=\"768\",\"\",IFERROR(IF(L164>M164,\"+\"&L164-M164,L164-M164)*1,\"\"))","v":89},null,null,{"$f":"C163","v":1.08}]
[12800,"C.US.CLEJ2612800",{"$f":"IF(LEFT(RTD(\"cqg.rtd\", ,\"ContractData\",B165, \"LastTrade\",, \"T\"),3)=\"768\",\"\",RTD(\"cqg.rtd\", ,\"ContractData\",B165, \"LastTrade\",, \"T\"))","v":0.92},{"$f":"IF(C165=\"\",\"\",RTD(\"cqg.rtd\", ,\"ContractData\",B165, \"NetLastTrade\",, \"T\"))","v":6.0000000000000053E-2},{"$f":"IF(LEFT(RTD(\"cqg.rtd\", ,\"ContractData\",B165, \"LastTrade\",, \"T\"),3)=\"768\",\"\",RTD(\"cqg.rtd\", ,\"ContractData\",B165, \"MT_LastBidVolume\",, \"T\"))","v":1},{"$f":"IF(LEFT(RTD(\"cqg.rtd\", ,\"ContractData\",B165, \"LastTrade\",, \"T\"),3)=\"768\",\"\",RTD(\"cqg.rtd\", ,\"ContractData\",B165, \"Bid\",, \"T\"))","v":0.9},{"$f":"IF(LEFT(RTD(\"cqg.rtd\", ,\"ContractData\",B165, \"LastTrade\",, \"T\"),3)=\"768\",\"\",RTD(\"cqg.rtd\", ,\"ContractData\",B165, \"Ask\",, \"T\"))","v":0.96},{"$f":"IF(LEFT(RTD(\"cqg.rtd\", ,\"ContractData\",B165, \"LastTrade\",, \"T\"),3)=\"768\",\"\",RTD(\"cqg.rtd\", ,\"ContractData\",B165, \"MT_LastAskVolume\",, \"T\"))","v":20},{"$f":"IF(LEFT(RTD(\"cqg.rtd\", ,\"ContractData\",B165, \"LastTrade\",, \"T\"),3)=\"768\",\"\",RTD(\"cqg.rtd\", ,\"ContractData\",B165, \"T_CVol\",, \"T\"))","v":125},{"$f":"IF(LEFT(RTD(\"cqg.rtd\", ,\"ContractData\",B165, \"LastTrade\",, \"T\"),3)=\"768\",\"\",RTD(\"cqg.rtd\", ,\"ContractData\",B165, \"Y_CVol\",, \"T\"))","v":234},{"$f":"IF(LEFT(RTD(\"cqg.rtd\", ,\"ContractData\",B165, \"LastTrade\",, \"T\"),3)=\"768\",\"\",IFERROR(IF(I165>J165,\"+\"&I165-J165,I165-J165)*1,\"\"))","v":-109},{"$f":"IF(LEFT(RTD(\"cqg.rtd\", ,\"ContractData\",B165, \"LastTrade\",, \"T\"),3)=\"768\",\"\",RTD(\"cqg.rtd\",,\"StudyData\",B165,  \"Bar\",,  \"ContractOI\", \"D\", \"-1\",,,,,\"T\"))","v":246},{"$f":"IF(LEFT(RTD(\"cqg.rtd\", ,\"ContractData\",B165, \"LastTrade\",, \"T\"),3)=\"768\",\"\",RTD(\"cqg.rtd\",,\"StudyData\",B165,  \"Bar\",,  \"ContractOI\", \"D\", \"-2\",,,,,\"T\"))","v":171},{"$f":"IF(LEFT(RTD(\"cqg.rtd\", ,\"ContractData\",B165, \"LastTrade\",, \"T\"),3)=\"768\",\"\",IFERROR(IF(L165>M165,\"+\"&L165-M165,L165-M165)*1,\"\"))","v":75}]
[12850,"C.US.CLEJ2612850",{"$f":"IF(LEFT(RTD(\"cqg.rtd\", ,\"ContractData\",B166, \"LastTrade\",, \"T\"),3)=\"768\",\"\",RTD(\"cqg.rtd\", ,\"ContractData\",B166, \"LastTrade\",, \"T\"))","v":0.86},{"$f":"IF(C166=\"\",\"\",RTD(\"cqg.rtd\", ,\"ContractData\",B166, \"NetLastTrade\",, \"T\"))","v":2.0000000000000018E-2},{"$f":"IF(LEFT(RTD(\"cqg.rtd\", ,\"ContractData\",B166, \"LastTrade\",, \"T\"),3)=\"768\",\"\",RTD(\"cqg.rtd\", ,\"ContractData\",B166, \"MT_LastBidVolume\",, \"T\"))","v":34},{"$f":"IF(LEFT(RTD(\"cqg.rtd\", ,\"ContractData\",B166, \"LastTrade\",, \"T\"),3)=\"768\",\"\",RTD(\"cqg.rtd\", ,\"ContractData\",B166, \"Bid\",, \"T\"))","v":0.87},{"$f":"IF(LEFT(RTD(\"cqg.rtd\", ,\"ContractData\",B166, \"LastTrade\",, \"T\"),3)=\"768\",\"\",RTD(\"cqg.rtd\", ,\"ContractData\",B166, \"Ask\",, \"T\"))","v":0.94000000000000006},{"$f":"IF(LEFT(RTD(\"cqg.rtd\", ,\"ContractData\",B166, \"LastTrade\",, \"T\"),3)=\"768\",\"\",RTD(\"cqg.rtd\", ,\"ContractData\",B166, \"MT_LastAskVolume\",, \"T\"))","v":19},{"$f":"IF(LEFT(RTD(\"cqg.rtd\", ,\"ContractData\",B166, \"LastTrade\",, \"T\"),3)=\"768\",\"\",RTD(\"cqg.rtd\", ,\"ContractData\",B166, \"T_CVol\",, \"T\"))","v":108},{"$f":"IF(LEFT(RTD(\"cqg.rtd\", ,\"ContractData\",B166, \"LastTrade\",, \"T\"),3)=\"768\",\"\",RTD(\"cqg.rtd\", ,\"ContractData\",B166, \"Y_CVol\",, \"T\"))","v":150},{"$f":"IF(LEFT(RTD(\"cqg.rtd\", ,\"ContractData\",B166, \"LastTrade\",, \"T\"),3)=\"768\",\"\",IFERROR(IF(I166>J166,\"+\"&I166-J166,I166-J166)*1,\"\"))","v":-42},{"$f":"IF(LEFT(RTD(\"cqg.rtd\", ,\"ContractData\",B166, \"LastTrade\",, \"T\"),3)=\"768\",\"\",RTD(\"cqg.rtd\",,\"StudyData\",B166,  \"Bar\",,  \"ContractOI\", \"D\", \"-1\",,,,,\"T\"))","v":167},{"$f":"IF(LEFT(RTD(\"cqg.rtd\", ,\"ContractData\",B166, \"LastTrade\",, \"T\"),3)=\"768\",\"\",RTD(\"cqg.rtd\",,\"StudyData\",B166,  \"Bar\",,  \"ContractOI\", \"D\", \"-2\",,,,,\"T\"))","v":160},{"$f":"IF(LEFT(RTD(\"cqg.rtd\", ,\"ContractData\",B166, \"LastTrade\",, \"T\"),3)=\"768\",\"\",IFERROR(IF(L166>M166,\"+\"&L166-M166,L166-M166)*1,\"\"))","v":7},null,null,{"$f":"IF(LEFT(RTD(\"cqg.rtd\", ,\"ContractData\",B165, \"LastTrade\",, \"T\"),3)=\"768\",\"\",RTD(\"cqg.rtd\", ,\"ContractData\",B165, \"LastTrade\",, \"T\"))","v":0.92}]
[12900,"C.US.CLEJ2612900",{"$f":"IF(LEFT(RTD(\"cqg.rtd\", ,\"ContractData\",B167, \"LastTrade\",, \"T\"),3)=\"768\",\"\",RTD(\"cqg.rtd\", ,\"ContractData\",B167, \"LastTrade\",, \"T\"))","v":0.83000000000000007},{"$f":"IF(C167=\"\",\"\",RTD(\"cqg.rtd\", ,\"ContractData\",B167, \"NetLastTrade\",, \"T\"))","v":0},{"$f":"IF(LEFT(RTD(\"cqg.rtd\", ,\"ContractData\",B167, \"LastTrade\",, \"T\"),3)=\"768\",\"\",RTD(\"cqg.rtd\", ,\"ContractData\",B167, \"MT_LastBidVolume\",, \"T\"))","v":1},{"$f":"IF(LEFT(RTD(\"cqg.rtd\", ,\"ContractData\",B167, \"LastTrade\",, \"T\"),3)=\"768\",\"\",RTD(\"cqg.rtd\", ,\"ContractData\",B167, \"Bid\",, \"T\"))","v":0.85},{"$f":"IF(LEFT(RTD(\"cqg.rtd\", ,\"ContractData\",B167, \"LastTrade\",, \"T\"),3)=\"768\",\"\",RTD(\"cqg.rtd\", ,\"ContractData\",B167, \"Ask\",, \"T\"))","v":0.91},{"$f":"IF(LEFT(RTD(\"cqg.rtd\", ,\"ContractData\",B167, \"LastTrade\",, \"T\"),3)=\"768\",\"\",RTD(\"cqg.rtd\", ,\"ContractData\",B167, \"MT_LastAskVolume\",, \"T\"))","v":1},{"$f":"IF(LEFT(RTD(\"cqg.rtd\", ,\"ContractData\",B167, \"LastTrade\",, \"T\"),3)=\"768\",\"\",RTD(\"cqg.rtd\", ,\"ContractData\",B167, \"T_CVol\",, \"T\"))","v":149},{"$f":"IF(LEFT(RTD(\"cqg.rtd\", ,\"ContractData\",B167, \"LastTrade\",, \"T\"),3)=\"768\",\"\",RTD(\"cqg.rtd\", ,\"ContractData\",B167, \"Y_CVol\",, \"T\"))","v":209},{"$f":"IF(LEFT(RTD(\"cqg.rtd\", ,\"ContractData\",B167, \"LastTrade\",, \"T\"),3)=\"768\",\"\",IFERROR(IF(I167>J167,\"+\"&I167-J167,I167-J167)*1,\"\"))","v":-60},{"$f":"IF(LEFT(RTD(\"cqg.rtd\", ,\"ContractData\",B167, \"LastTrade\",, \"T\"),3)=\"768\",\"\",RTD(\"cqg.rtd\",,\"StudyData\",B167,  \"Bar\",,  \"ContractOI\", \"D\", \"-1\",,,,,\"T\"))","v":184},{"$f":"IF(LEFT(RTD(\"cqg.rtd\", ,\"ContractData\",B167, \"LastTrade\",, \"T\"),3)=\"768\",\"\",RTD(\"cqg.rtd\",,\"StudyData\",B167,  \"Bar\",,  \"ContractOI\", \"D\", \"-2\",,,,,\"T\"))","v":131},{"$f":"IF(LEFT(RTD(\"cqg.rtd\", ,\"ContractData\",B167, \"LastTrade\",, \"T\"),3)=\"768\",\"\",IFERROR(IF(L167>M167,\"+\"&L167-M167,L167-M167)*1,\"\"))","v":53}]
[12950,"C.US.CLEJ2612950",{"$f":"IF(LEFT(RTD(\"cqg.rtd\", ,\"ContractData\",B168, \"LastTrade\",, \"T\"),3)=\"768\",\"\",RTD(\"cqg.rtd\", ,\"ContractData\",B168, \"LastTrade\",, \"T\"))","v":1.3},{"$f":"IF(C168=\"\",\"\",RTD(\"cqg.rtd\", ,\"ContractData\",B168, \"NetLastTrade\",, \"T\"))","v":0.49},{"$f":"IF(LEFT(RTD(\"cqg.rtd\", ,\"ContractData\",B168, \"LastTrade\",, \"T\"),3)=\"768\",\"\",RTD(\"cqg.rtd\", ,\"ContractData\",B168, \"MT_LastBidVolume\",, \"T\"))","v":36},{"$f":"IF(LEFT(RTD(\"cqg.rtd\", ,\"ContractData\",B168, \"LastTrade\",, \"T\"),3)=\"768\",\"\",RTD(\"cqg.rtd\", ,\"ContractData\",B168, \"Bid\",, \"T\"))","v":0.82000000000000006},{"$f":"IF(LEFT(RTD(\"cqg.rtd\", ,\"ContractData\",B168, \"LastTrade\",, \"T\"),3)=\"768\",\"\",RTD(\"cqg.rtd\", ,\"ContractData\",B168, \"Ask\",, \"T\"))","v":0.89},{"$f":"IF(LEFT(RTD(\"cqg.rtd\", ,\"ContractData\",B168, \"LastTrade\",, \"T\"),3)=\"768\",\"\",RTD(\"cqg.rtd\", ,\"ContractData\",B168, \"MT_LastAskVolume\",, \"T\"))","v":19},{"$f":"IF(LEFT(RTD(\"cqg.rtd\", ,\"ContractData\",B168, \"LastTrade\",, \"T\"),3)=\"768\",\"\",RTD(\"cqg.rtd\", ,\"ContractData\",B168, \"T_CVol\",, \"T\"))","v":21},{"$f":"IF(LEFT(RTD(\"cqg.rtd\", ,\"ContractData\",B168, \"LastTrade\",, \"T\"),3)=\"768\",\"\",RTD(\"cqg.rtd\", ,\"ContractData\",B168, \"Y_CVol\",, \"T\"))","v":60},{"$f":"IF(LEFT(RTD(\"cqg.rtd\", ,\"ContractData\",B168, \"LastTrade\",, \"T\"),3)=\"768\",\"\",IFERROR(IF(I168>J168,\"+\"&I168-J168,I168-J168)*1,\"\"))","v":-39},{"$f":"IF(LEFT(RTD(\"cqg.rtd\", ,\"ContractData\",B168, \"LastTrade\",, \"T\"),3)=\"768\",\"\",RTD(\"cqg.rtd\",,\"StudyData\",B168,  \"Bar\",,  \"ContractOI\", \"D\", \"-1\",,,,,\"T\"))","v":96},{"$f":"IF(LEFT(RTD(\"cqg.rtd\", ,\"ContractData\",B168, \"LastTrade\",, \"T\"),3)=\"768\",\"\",RTD(\"cqg.rtd\",,\"StudyData\",B168,  \"Bar\",,  \"ContractOI\", \"D\", \"-2\",,,,,\"T\"))","v":67},{"$f":"IF(LEFT(RTD(\"cqg.rtd\", ,\"ContractData\",B168, \"LastTrade\",, \"T\"),3)=\"768\",\"\",IFERROR(IF(L168>M168,\"+\"&L168-M168,L168-M168)*1,\"\"))","v":29}]
[13000,"C.US.CLEJ2613000",{"$f":"IF(LEFT(RTD(\"cqg.rtd\", ,\"ContractData\",B169, \"LastTrade\",, \"T\"),3)=\"768\",\"\",RTD(\"cqg.rtd\", ,\"ContractData\",B169, \"LastTrade\",, \"T\"))","v":0.88},{"$f":"IF(C169=\"\",\"\",RTD(\"cqg.rtd\", ,\"ContractData\",B169, \"NetLastTrade\",, \"T\"))","v":8.9999999999999969E-2},{"$f":"IF(LEFT(RTD(\"cqg.rtd\", ,\"ContractData\",B169, \"LastTrade\",, \"T\"),3)=\"768\",\"\",RTD(\"cqg.rtd\", ,\"ContractData\",B169, \"MT_LastBidVolume\",, \"T\"))","v":3},{"$f":"IF(LEFT(RTD(\"cqg.rtd\", ,\"ContractData\",B169, \"LastTrade\",, \"T\"),3)=\"768\",\"\",RTD(\"cqg.rtd\", ,\"ContractData\",B169, \"Bid\",, \"T\"))","v":0.81},{"$f":"IF(LEFT(RTD(\"cqg.rtd\", ,\"ContractData\",B169, \"LastTrade\",, \"T\"),3)=\"768\",\"\",RTD(\"cqg.rtd\", ,\"ContractData\",B169, \"Ask\",, \"T\"))","v":0.87},{"$f":"IF(LEFT(RTD(\"cqg.rtd\", ,\"ContractData\",B169, \"LastTrade\",, \"T\"),3)=\"768\",\"\",RTD(\"cqg.rtd\", ,\"ContractData\",B169, \"MT_LastAskVolume\",, \"T\"))","v":1},{"$f":"IF(LEFT(RTD(\"cqg.rtd\", ,\"ContractData\",B169, \"LastTrade\",, \"T\"),3)=\"768\",\"\",RTD(\"cqg.rtd\", ,\"ContractData\",B169, \"T_CVol\",, \"T\"))","v":149},{"$f":"IF(LEFT(RTD(\"cqg.rtd\", ,\"ContractData\",B169, \"LastTrade\",, \"T\"),3)=\"768\",\"\",RTD(\"cqg.rtd\", ,\"ContractData\",B169, \"Y_CVol\",, \"T\"))","v":2102},{"$f":"IF(LEFT(RTD(\"cqg.rtd\", ,\"ContractData\",B169, \"LastTrade\",, \"T\"),3)=\"768\",\"\",IFERROR(IF(I169>J169,\"+\"&I169-J169,I169-J169)*1,\"\"))","v":-1953},{"$f":"IF(LEFT(RTD(\"cqg.rtd\", ,\"ContractData\",B169, \"LastTrade\",, \"T\"),3)=\"768\",\"\",RTD(\"cqg.rtd\",,\"StudyData\",B169,  \"Bar\",,  \"ContractOI\", \"D\", \"-1\",,,,,\"T\"))","v":8013},{"$f":"IF(LEFT(RTD(\"cqg.rtd\", ,\"ContractData\",B169, \"LastTrade\",, \"T\"),3)=\"768\",\"\",RTD(\"cqg.rtd\",,\"StudyData\",B169,  \"Bar\",,  \"ContractOI\", \"D\", \"-2\",,,,,\"T\"))","v":6604},{"$f":"IF(LEFT(RTD(\"cqg.rtd\", ,\"ContractData\",B169, \"LastTrade\",, \"T\"),3)=\"768\",\"\",IFERROR(IF(L169>M169,\"+\"&L169-M169,L169-M169)*1,\"\"))","v":1409}]
[13050,"C.US.CLEJ2613050",{"$f":"IF(LEFT(RTD(\"cqg.rtd\", ,\"ContractData\",B170, \"LastTrade\",, \"T\"),3)=\"768\",\"\",RTD(\"cqg.rtd\", ,\"ContractData\",B170, \"LastTrade\",, \"T\"))","v":0.74},{"$f":"IF(C170=\"\",\"\",RTD(\"cqg.rtd\", ,\"ContractData\",B170, \"NetLastTrade\",, \"T\"))","v":-3.0000000000000027E-2},{"$f":"IF(LEFT(RTD(\"cqg.rtd\", ,\"ContractData\",B170, \"LastTrade\",, \"T\"),3)=\"768\",\"\",RTD(\"cqg.rtd\", ,\"ContractData\",B170, \"MT_LastBidVolume\",, \"T\"))","v":1},{"$f":"IF(LEFT(RTD(\"cqg.rtd\", ,\"ContractData\",B170, \"LastTrade\",, \"T\"),3)=\"768\",\"\",RTD(\"cqg.rtd\", ,\"ContractData\",B170, \"Bid\",, \"T\"))","v":0.79},{"$f":"IF(LEFT(RTD(\"cqg.rtd\", ,\"ContractData\",B170, \"LastTrade\",, \"T\"),3)=\"768\",\"\",RTD(\"cqg.rtd\", ,\"ContractData\",B170, \"Ask\",, \"T\"))","v":0.85},{"$f":"IF(LEFT(RTD(\"cqg.rtd\", ,\"ContractData\",B170, \"LastTrade\",, \"T\"),3)=\"768\",\"\",RTD(\"cqg.rtd\", ,\"ContractData\",B170, \"MT_LastAskVolume\",, \"T\"))","v":76},{"$f":"IF(LEFT(RTD(\"cqg.rtd\", ,\"ContractData\",B170, \"LastTrade\",, \"T\"),3)=\"768\",\"\",RTD(\"cqg.rtd\", ,\"ContractData\",B170, \"T_CVol\",, \"T\"))","v":1},{"$f":"IF(LEFT(RTD(\"cqg.rtd\", ,\"ContractData\",B170, \"LastTrade\",, \"T\"),3)=\"768\",\"\",RTD(\"cqg.rtd\", ,\"ContractData\",B170, \"Y_CVol\",, \"T\"))","v":23},{"$f":"IF(LEFT(RTD(\"cqg.rtd\", ,\"ContractData\",B170, \"LastTrade\",, \"T\"),3)=\"768\",\"\",IFERROR(IF(I170>J170,\"+\"&I170-J170,I170-J170)*1,\"\"))","v":-22},{"$f":"IF(LEFT(RTD(\"cqg.rtd\", ,\"ContractData\",B170, \"LastTrade\",, \"T\"),3)=\"768\",\"\",RTD(\"cqg.rtd\",,\"StudyData\",B170,  \"Bar\",,  \"ContractOI\", \"D\", \"-1\",,,,,\"T\"))","v":25},{"$f":"IF(LEFT(RTD(\"cqg.rtd\", ,\"ContractData\",B170, \"LastTrade\",, \"T\"),3)=\"768\",\"\",RTD(\"cqg.rtd\",,\"StudyData\",B170,  \"Bar\",,  \"ContractOI\", \"D\", \"-2\",,,,,\"T\"))","v":11},{"$f":"IF(LEFT(RTD(\"cqg.rtd\", ,\"ContractData\",B170, \"LastTrade\",, \"T\"),3)=\"768\",\"\",IFERROR(IF(L170>M170,\"+\"&L170-M170,L170-M170)*1,\"\"))","v":14}]
[13100,"C.US.CLEJ2613100",{"$f":"IF(LEFT(RTD(\"cqg.rtd\", ,\"ContractData\",B171, \"LastTrade\",, \"T\"),3)=\"768\",\"\",RTD(\"cqg.rtd\", ,\"ContractData\",B171, \"LastTrade\",, \"T\"))","v":0.81},{"$f":"IF(C171=\"\",\"\",RTD(\"cqg.rtd\", ,\"ContractData\",B171, \"NetLastTrade\",, \"T\"))","v":6.0000000000000053E-2},{"$f":"IF(LEFT(RTD(\"cqg.rtd\", ,\"ContractData\",B171, \"LastTrade\",, \"T\"),3)=\"768\",\"\",RTD(\"cqg.rtd\", ,\"ContractData\",B171, \"MT_LastBidVolume\",, \"T\"))","v":3},{"$f":"IF(LEFT(RTD(\"cqg.rtd\", ,\"ContractData\",B171, \"LastTrade\",, \"T\"),3)=\"768\",\"\",RTD(\"cqg.rtd\", ,\"ContractData\",B171, \"Bid\",, \"T\"))","v":0.75},{"$f":"IF(LEFT(RTD(\"cqg.rtd\", ,\"ContractData\",B171, \"LastTrade\",, \"T\"),3)=\"768\",\"\",RTD(\"cqg.rtd\", ,\"ContractData\",B171, \"Ask\",, \"T\"))","v":0.83000000000000007},{"$f":"IF(LEFT(RTD(\"cqg.rtd\", ,\"ContractData\",B171, \"LastTrade\",, \"T\"),3)=\"768\",\"\",RTD(\"cqg.rtd\", ,\"ContractData\",B171, \"MT_LastAskVolume\",, \"T\"))","v":77},{"$f":"IF(LEFT(RTD(\"cqg.rtd\", ,\"ContractData\",B171, \"LastTrade\",, \"T\"),3)=\"768\",\"\",RTD(\"cqg.rtd\", ,\"ContractData\",B171, \"T_CVol\",, \"T\"))","v":0},{"$f":"IF(LEFT(RTD(\"cqg.rtd\", ,\"ContractData\",B171, \"LastTrade\",, \"T\"),3)=\"768\",\"\",RTD(\"cqg.rtd\", ,\"ContractData\",B171, \"Y_CVol\",, \"T\"))","v":39},{"$f":"IF(LEFT(RTD(\"cqg.rtd\", ,\"ContractData\",B171, \"LastTrade\",, \"T\"),3)=\"768\",\"\",IFERROR(IF(I171>J171,\"+\"&I171-J171,I171-J171)*1,\"\"))","v":-39},{"$f":"IF(LEFT(RTD(\"cqg.rtd\", ,\"ContractData\",B171, \"LastTrade\",, \"T\"),3)=\"768\",\"\",RTD(\"cqg.rtd\",,\"StudyData\",B171,  \"Bar\",,  \"ContractOI\", \"D\", \"-1\",,,,,\"T\"))","v":47},{"$f":"IF(LEFT(RTD(\"cqg.rtd\", ,\"ContractData\",B171, \"LastTrade\",, \"T\"),3)=\"768\",\"\",RTD(\"cqg.rtd\",,\"StudyData\",B171,  \"Bar\",,  \"ContractOI\", \"D\", \"-2\",,,,,\"T\"))","v":17},{"$f":"IF(LEFT(RTD(\"cqg.rtd\", ,\"ContractData\",B171, \"LastTrade\",, \"T\"),3)=\"768\",\"\",IFERROR(IF(L171>M171,\"+\"&L171-M171,L171-M171)*1,\"\"))","v":30}]
[13150,"C.US.CLEJ2613150",{"$f":"IF(LEFT(RTD(\"cqg.rtd\", ,\"ContractData\",B172, \"LastTrade\",, \"T\"),3)=\"768\",\"\",RTD(\"cqg.rtd\", ,\"ContractData\",B172, \"LastTrade\",, \"T\"))","v":1.44},{"$f":"IF(C172=\"\",\"\",RTD(\"cqg.rtd\", ,\"ContractData\",B172, \"NetLastTrade\",, \"T\"))","v":0.7},{"$f":"IF(LEFT(RTD(\"cqg.rtd\", ,\"ContractData\",B172, \"LastTrade\",, \"T\"),3)=\"768\",\"\",RTD(\"cqg.rtd\", ,\"ContractData\",B172, \"MT_LastBidVolume\",, \"T\"))","v":3},{"$f":"IF(LEFT(RTD(\"cqg.rtd\", ,\"ContractData\",B172, \"LastTrade\",, \"T\"),3)=\"768\",\"\",RTD(\"cqg.rtd\", ,\"ContractData\",B172, \"Bid\",, \"T\"))","v":0.73},{"$f":"IF(LEFT(RTD(\"cqg.rtd\", ,\"ContractData\",B172, \"LastTrade\",, \"T\"),3)=\"768\",\"\",RTD(\"cqg.rtd\", ,\"ContractData\",B172, \"Ask\",, \"T\"))","v":0.81},{"$f":"IF(LEFT(RTD(\"cqg.rtd\", ,\"ContractData\",B172, \"LastTrade\",, \"T\"),3)=\"768\",\"\",RTD(\"cqg.rtd\", ,\"ContractData\",B172, \"MT_LastAskVolume\",, \"T\"))","v":76},{"$f":"IF(LEFT(RTD(\"cqg.rtd\", ,\"ContractData\",B172, \"LastTrade\",, \"T\"),3)=\"768\",\"\",RTD(\"cqg.rtd\", ,\"ContractData\",B172, \"T_CVol\",, \"T\"))","v":2},{"$f":"IF(LEFT(RTD(\"cqg.rtd\", ,\"ContractData\",B172, \"LastTrade\",, \"T\"),3)=\"768\",\"\",RTD(\"cqg.rtd\", ,\"ContractData\",B172, \"Y_CVol\",, \"T\"))","v":1},{"$f":"IF(LEFT(RTD(\"cqg.rtd\", ,\"ContractData\",B172, \"LastTrade\",, \"T\"),3)=\"768\",\"\",IFERROR(IF(I172>J172,\"+\"&I172-J172,I172-J172)*1,\"\"))","v":1},{"$f":"IF(LEFT(RTD(\"cqg.rtd\", ,\"ContractData\",B172, \"LastTrade\",, \"T\"),3)=\"768\",\"\",RTD(\"cqg.rtd\",,\"StudyData\",B172,  \"Bar\",,  \"ContractOI\", \"D\", \"-1\",,,,,\"T\"))","v":49},{"$f":"IF(LEFT(RTD(\"cqg.rtd\", ,\"ContractData\",B172, \"LastTrade\",, \"T\"),3)=\"768\",\"\",RTD(\"cqg.rtd\",,\"StudyData\",B172,  \"Bar\",,  \"ContractOI\", \"D\", \"-2\",,,,,\"T\"))","v":49},{"$f":"IF(LEFT(RTD(\"cqg.rtd\", ,\"ContractData\",B172, \"LastTrade\",, \"T\"),3)=\"768\",\"\",IFERROR(IF(L172>M172,\"+\"&L172-M172,L172-M172)*1,\"\"))","v":0}]
[13200,"C.US.CLEJ2613200",{"$f":"IF(LEFT(RTD(\"cqg.rtd\", ,\"ContractData\",B173, \"LastTrade\",, \"T\"),3)=\"768\",\"\",RTD(\"cqg.rtd\", ,\"ContractData\",B173, \"LastTrade\",, \"T\"))","v":0.79},{"$f":"IF(C173=\"\",\"\",RTD(\"cqg.rtd\", ,\"ContractData\",B173, \"NetLastTrade\",, \"T\"))","v":7.0000000000000062E-2},{"$f":"IF(LEFT(RTD(\"cqg.rtd\", ,\"ContractData\",B173, \"LastTrade\",, \"T\"),3)=\"768\",\"\",RTD(\"cqg.rtd\", ,\"ContractData\",B173, \"MT_LastBidVolume\",, \"T\"))","v":3},{"$f":"IF(LEFT(RTD(\"cqg.rtd\", ,\"ContractData\",B173, \"LastTrade\",, \"T\"),3)=\"768\",\"\",RTD(\"cqg.rtd\", ,\"ContractData\",B173, \"Bid\",, \"T\"))","v":0.71},{"$f":"IF(LEFT(RTD(\"cqg.rtd\", ,\"ContractData\",B173, \"LastTrade\",, \"T\"),3)=\"768\",\"\",RTD(\"cqg.rtd\", ,\"ContractData\",B173, \"Ask\",, \"T\"))","v":0.78},{"$f":"IF(LEFT(RTD(\"cqg.rtd\", ,\"ContractData\",B173, \"LastTrade\",, \"T\"),3)=\"768\",\"\",RTD(\"cqg.rtd\", ,\"ContractData\",B173, \"MT_LastAskVolume\",, \"T\"))","v":15},{"$f":"IF(LEFT(RTD(\"cqg.rtd\", ,\"ContractData\",B173, \"LastTrade\",, \"T\"),3)=\"768\",\"\",RTD(\"cqg.rtd\", ,\"ContractData\",B173, \"T_CVol\",, \"T\"))","v":0},{"$f":"IF(LEFT(RTD(\"cqg.rtd\", ,\"ContractData\",B173, \"LastTrade\",, \"T\"),3)=\"768\",\"\",RTD(\"cqg.rtd\", ,\"ContractData\",B173, \"Y_CVol\",, \"T\"))","v":18},{"$f":"IF(LEFT(RTD(\"cqg.rtd\", ,\"ContractData\",B173, \"LastTrade\",, \"T\"),3)=\"768\",\"\",IFERROR(IF(I173>J173,\"+\"&I173-J173,I173-J173)*1,\"\"))","v":-18},{"$f":"IF(LEFT(RTD(\"cqg.rtd\", ,\"ContractData\",B173, \"LastTrade\",, \"T\"),3)=\"768\",\"\",RTD(\"cqg.rtd\",,\"StudyData\",B173,  \"Bar\",,  \"ContractOI\", \"D\", \"-1\",,,,,\"T\"))","v":13},{"$f":"IF(LEFT(RTD(\"cqg.rtd\", ,\"ContractData\",B173, \"LastTrade\",, \"T\"),3)=\"768\",\"\",RTD(\"cqg.rtd\",,\"StudyData\",B173,  \"Bar\",,  \"ContractOI\", \"D\", \"-2\",,,,,\"T\"))","v":2},{"$f":"IF(LEFT(RTD(\"cqg.rtd\", ,\"ContractData\",B173, \"LastTrade\",, \"T\"),3)=\"768\",\"\",IFERROR(IF(L173>M173,\"+\"&L173-M173,L173-M173)*1,\"\"))","v":11}]
[13250,"C.US.CLEJ2613250",{"$f":"IF(LEFT(RTD(\"cqg.rtd\", ,\"ContractData\",B174, \"LastTrade\",, \"T\"),3)=\"768\",\"\",RTD(\"cqg.rtd\", ,\"ContractData\",B174, \"LastTrade\",, \"T\"))","v":0.89},{"$f":"IF(C174=\"\",\"\",RTD(\"cqg.rtd\", ,\"ContractData\",B174, \"NetLastTrade\",, \"T\"))","v":0.18999999999999995},{"$f":"IF(LEFT(RTD(\"cqg.rtd\", ,\"ContractData\",B174, \"LastTrade\",, \"T\"),3)=\"768\",\"\",RTD(\"cqg.rtd\", ,\"ContractData\",B174, \"MT_LastBidVolume\",, \"T\"))","v":4},{"$f":"IF(LEFT(RTD(\"cqg.rtd\", ,\"ContractData\",B174, \"LastTrade\",, \"T\"),3)=\"768\",\"\",RTD(\"cqg.rtd\", ,\"ContractData\",B174, \"Bid\",, \"T\"))","v":0.69000000000000006},{"$f":"IF(LEFT(RTD(\"cqg.rtd\", ,\"ContractData\",B174, \"LastTrade\",, \"T\"),3)=\"768\",\"\",RTD(\"cqg.rtd\", ,\"ContractData\",B174, \"Ask\",, \"T\"))","v":0.76},{"$f":"IF(LEFT(RTD(\"cqg.rtd\", ,\"ContractData\",B174, \"LastTrade\",, \"T\"),3)=\"768\",\"\",RTD(\"cqg.rtd\", ,\"ContractData\",B174, \"MT_LastAskVolume\",, \"T\"))","v":15},{"$f":"IF(LEFT(RTD(\"cqg.rtd\", ,\"ContractData\",B174, \"LastTrade\",, \"T\"),3)=\"768\",\"\",RTD(\"cqg.rtd\", ,\"ContractData\",B174, \"T_CVol\",, \"T\"))","v":4},{"$f":"IF(LEFT(RTD(\"cqg.rtd\", ,\"ContractData\",B174, \"LastTrade\",, \"T\"),3)=\"768\",\"\",RTD(\"cqg.rtd\", ,\"ContractData\",B174, \"Y_CVol\",, \"T\"))","v":52},{"$f":"IF(LEFT(RTD(\"cqg.rtd\", ,\"ContractData\",B174, \"LastTrade\",, \"T\"),3)=\"768\",\"\",IFERROR(IF(I174>J174,\"+\"&I174-J174,I174-J174)*1,\"\"))","v":-48},{"$f":"IF(LEFT(RTD(\"cqg.rtd\", ,\"ContractData\",B174, \"LastTrade\",, \"T\"),3)=\"768\",\"\",RTD(\"cqg.rtd\",,\"StudyData\",B174,  \"Bar\",,  \"ContractOI\", \"D\", \"-1\",,,,,\"T\"))","v":101},{"$f":"IF(LEFT(RTD(\"cqg.rtd\", ,\"ContractData\",B174, \"LastTrade\",, \"T\"),3)=\"768\",\"\",RTD(\"cqg.rtd\",,\"StudyData\",B174,  \"Bar\",,  \"ContractOI\", \"D\", \"-2\",,,,,\"T\"))","v":102},{"$f":"IF(LEFT(RTD(\"cqg.rtd\", ,\"ContractData\",B174, \"LastTrade\",, \"T\"),3)=\"768\",\"\",IFERROR(IF(L174>M174,\"+\"&L174-M174,L174-M174)*1,\"\"))","v":-1}]
[13300,"C.US.CLEJ2613300",{"$f":"IF(LEFT(RTD(\"cqg.rtd\", ,\"ContractData\",B175, \"LastTrade\",, \"T\"),3)=\"768\",\"\",RTD(\"cqg.rtd\", ,\"ContractData\",B175, \"LastTrade\",, \"T\"))","v":0.64},{"$f":"IF(C175=\"\",\"\",RTD(\"cqg.rtd\", ,\"ContractData\",B175, \"NetLastTrade\",, \"T\"))","v":-5.0000000000000044E-2},{"$f":"IF(LEFT(RTD(\"cqg.rtd\", ,\"ContractData\",B175, \"LastTrade\",, \"T\"),3)=\"768\",\"\",RTD(\"cqg.rtd\", ,\"ContractData\",B175, \"MT_LastBidVolume\",, \"T\"))","v":2},{"$f":"IF(LEFT(RTD(\"cqg.rtd\", ,\"ContractData\",B175, \"LastTrade\",, \"T\"),3)=\"768\",\"\",RTD(\"cqg.rtd\", ,\"ContractData\",B175, \"Bid\",, \"T\"))","v":0.68},{"$f":"IF(LEFT(RTD(\"cqg.rtd\", ,\"ContractData\",B175, \"LastTrade\",, \"T\"),3)=\"768\",\"\",RTD(\"cqg.rtd\", ,\"ContractData\",B175, \"Ask\",, \"T\"))","v":0.74},{"$f":"IF(LEFT(RTD(\"cqg.rtd\", ,\"ContractData\",B175, \"LastTrade\",, \"T\"),3)=\"768\",\"\",RTD(\"cqg.rtd\", ,\"ContractData\",B175, \"MT_LastAskVolume\",, \"T\"))","v":15},{"$f":"IF(LEFT(RTD(\"cqg.rtd\", ,\"ContractData\",B175, \"LastTrade\",, \"T\"),3)=\"768\",\"\",RTD(\"cqg.rtd\", ,\"ContractData\",B175, \"T_CVol\",, \"T\"))","v":0},{"$f":"IF(LEFT(RTD(\"cqg.rtd\", ,\"ContractData\",B175, \"LastTrade\",, \"T\"),3)=\"768\",\"\",RTD(\"cqg.rtd\", ,\"ContractData\",B175, \"Y_CVol\",, \"T\"))","v":6},{"$f":"IF(LEFT(RTD(\"cqg.rtd\", ,\"ContractData\",B175, \"LastTrade\",, \"T\"),3)=\"768\",\"\",IFERROR(IF(I175>J175,\"+\"&I175-J175,I175-J175)*1,\"\"))","v":-6},{"$f":"IF(LEFT(RTD(\"cqg.rtd\", ,\"ContractData\",B175, \"LastTrade\",, \"T\"),3)=\"768\",\"\",RTD(\"cqg.rtd\",,\"StudyData\",B175,  \"Bar\",,  \"ContractOI\", \"D\", \"-1\",,,,,\"T\"))","v":8},{"$f":"IF(LEFT(RTD(\"cqg.rtd\", ,\"ContractData\",B175, \"LastTrade\",, \"T\"),3)=\"768\",\"\",RTD(\"cqg.rtd\",,\"StudyData\",B175,  \"Bar\",,  \"ContractOI\", \"D\", \"-2\",,,,,\"T\"))","v":3},{"$f":"IF(LEFT(RTD(\"cqg.rtd\", ,\"ContractData\",B175, \"LastTrade\",, \"T\"),3)=\"768\",\"\",IFERROR(IF(L175>M175,\"+\"&L175-M175,L175-M175)*1,\"\"))","v":5}]

{"sheet":"Put Data","index":1,"n_rows":175,"n_cols":14,"rows_kept":175,"cut":false,"hidden":false,"merged":[[4,3,4,6],[1,10,2,12],[4,9,4,11],[5,9,5,11],[3,12,3,13]]}
[{"$f":"\"P\"&RIGHT('Call Data'!A1,LEN('Call Data'!A1)-1)","v":"P.US.CLEJ269150"}]
[{"$f":"_xll.CQGOptions(B6, \"1\", \"-1,0\", \"Put\")","v":"P.US.CLEJ269100"},null,"Make changes on the Call Data Tab.",null,null,null,null,null,null,null,{"$f":"MOD(RTD(\"cqg.rtd\", ,\"SystemInfo\", \"Linetime\"),1)","v":"06:43:34"}]
["P.US.CLEJ269150"]
[null,"Underlying ",null,null,null,null,null,null,null,null,null,null,{"$f":"RTD(\"cqg.rtd\", ,\"ContractData\",B6, \"LongDescription\",, \"T\")","v":"Crude Light (Globex), Apr 26"}]
[null,"Symbol","Live ATM",{"$f":"RTD(\"cqg.rtd\", ,\"ContractData\",A1, \"LongDescription\",, \"T\")","v":"Crude Light (Globex), Apr 26 9150 Put"},null,null,null,null,null,null,null,null,"Last","NC"]
[null,{"$f":"'Call Data'!B6","v":"CLE"},null,null,null,null,null,null,null,null,null,null,{"$f":"RTD(\"cqg.rtd\", ,\"ContractData\",B6, \"LastTrade\",, \"T\")","v":91.710000000000008},{"$f":"RTD(\"cqg.rtd\", ,\"ContractData\",B6, \"NetLastTrade\",, \"T\")","v":4.460000000000008}]
[]
[null,"Symbol","Last","NC","Bid Vol","Bid","Ask","Ask Vol","Volume","Yesterday Vol","Volume Change","Open Int","Prev OI","OI Change"]
[{"$f":"'Call Data'!A9","v":5000},{"$f":"\"P\"&RIGHT('Call Data'!B9,LEN('Call Data'!B9)-1)","v":"P.US.CLEJ265000"},{"$f":"IF(LEFT(RTD(\"cqg.rtd\", ,\"ContractData\",B9, \"LastTrade\",, \"T\"),3)=\"768\",\"\",RTD(\"cqg.rtd\", ,\"ContractData\",B9, \"LastTrade\",, \"T\"))","v":0.02},{"$f":"IF(C9=\"\",\"\",RTD(\"cqg.rtd\", ,\"ContractData\",B9, \"NetLastTrade\",, \"T\"))","v":0},{"$f":"IF(LEFT(RTD(\"cqg.rtd\", ,\"ContractData\",B9, \"LastTrade\",, \"T\"),3)=\"768\",\"\",RTD(\"cqg.rtd\", ,\"ContractData\",B9, \"MT_LastBidVolume\",, \"T\"))","v":2},{"$f":"IF(LEFT(RTD(\"cqg.rtd\", ,\"ContractData\",B9, \"LastTrade\",, \"T\"),3)=\"768\",\"\",RTD(\"cqg.rtd\", ,\"ContractData\",B9, \"Bid\",, \"T\"))","v":0.01},{"$f":"IF(LEFT(RTD(\"cqg.rtd\", ,\"ContractData\",B9, \"LastTrade\",, \"T\"),3)=\"768\",\"\",RTD(\"cqg.rtd\", ,\"ContractData\",B9, \"Ask\",, \"T\"))","v":0.02},{"$f":"IF(LEFT(RTD(\"cqg.rtd\", ,\"ContractData\",B9, \"LastTrade\",, \"T\"),3)=\"768\",\"\",RTD(\"cqg.rtd\", ,\"ContractData\",B9, \"MT_LastAskVolume\",, \"T\"))","v":2},{"$f":"IF(LEFT(RTD(\"cqg.rtd\", ,\"ContractData\",B9, \"LastTrade\",, \"T\"),3)=\"768\",\"\",RTD(\"cqg.rtd\", ,\"ContractData\",B9, \"T_CVol\",, \"T\"))","v":11},{"$f":"IF(LEFT(RTD(\"cqg.rtd\", ,\"ContractData\",B9, \"LastTrade\",, \"T\"),3)=\"768\",\"\",RTD(\"cqg.rtd\", ,\"ContractData\",B9, \"Y_CVol\",, \"T\"))","v":114},{"$f":"IF(LEFT(RTD(\"cqg.rtd\", ,\"ContractData\",B9, \"LastTrade\",, \"T\"),3)=\"768\",\"\",IFERROR(IF(I9>J9,\"+\"&I9-J9,I9-J9)*1,\"\"))","v":-103},{"$f":"IF(LEFT(RTD(\"cqg.rtd\", ,\"ContractData\",B9, \"LastTrade\",, \"T\"),3)=\"768\",\"\",RTD(\"cqg.rtd\",,\"StudyData\",B9,  \"Bar\",,  \"ContractOI\", \"D\", \"-1\",,,,,\"T\"))","v":16334},{"$f":"IF(LEFT(RTD(\"cqg.rtd\", ,\"ContractData\",B9, \"LastTrade\",, \"T\"),3)=\"768\",\"\",RTD(\"cqg.rtd\",,\"StudyData\",B9,  \"Bar\",,  \"ContractOI\", \"D\", \"-2\",,,,,\"T\"))","v":16340},{"$f":"IF(LEFT(RTD(\"cqg.rtd\", ,\"ContractData\",B9, \"LastTrade\",, \"T\"),3)=\"768\",\"\",IFERROR(IF(L9>M9,\"+\"&L9-M9,L9-M9)*1,\"\"))","v":-6}]
[{"$f":"'Call Data'!A10","v":5050},{"$f":"\"P\"&RIGHT('Call Data'!B10,LEN('Call Data'!B10)-1)","v":"P.US.CLEJ265050"},{"$f":"IF(LEFT(RTD(\"cqg.rtd\", ,\"ContractData\",B10, \"LastTrade\",, \"T\"),3)=\"768\",\"\",RTD(\"cqg.rtd\", ,\"ContractData\",B10, \"LastTrade\",, \"T\"))","v":0.02},{"$f":"IF(C10=\"\",\"\",RTD(\"cqg.rtd\", ,\"ContractData\",B10, \"NetLastTrade\",, \"T\"))","v":-9.9999999999999985E-3},{"$f":"IF(LEFT(RTD(\"cqg.rtd\", ,\"ContractData\",B10, \"LastTrade\",, \"T\"),3)=\"768\",\"\",RTD(\"cqg.rtd\", ,\"ContractData\",B10, \"MT_LastBidVolume\",, \"T\"))","v":1},{"$f":"IF(LEFT(RTD(\"cqg.rtd\", ,\"ContractData\",B10, \"LastTrade\",, \"T\"),3)=\"768\",\"\",RTD(\"cqg.rtd\", ,\"ContractData\",B10, \"Bid\",, \"T\"))","v":0.01},{"$f":"IF(LEFT(RTD(\"cqg.rtd\", ,\"ContractData\",B10, \"LastTrade\",, \"T\"),3)=\"768\",\"\",RTD(\"cqg.rtd\", ,\"ContractData\",B10, \"Ask\",, \"T\"))","v":0.04},{"$f":"IF(LEFT(RTD(\"cqg.rtd\", ,\"ContractData\",B10, \"LastTrade\",, \"T\"),3)=\"768\",\"\",RTD(\"cqg.rtd\", ,\"ContractData\",B10, \"MT_LastAskVolume\",, \"T\"))","v":108},{"$f":"IF(LEFT(RTD(\"cqg.rtd\", ,\"ContractData\",B10, \"LastTrade\",, \"T\"),3)=\"768\",\"\",RTD(\"cqg.rtd\", ,\"ContractData\",B10, \"T_CVol\",, \"T\"))","v":0},{"$f":"IF(LEFT(RTD(\"cqg.rtd\", ,\"ContractData\",B10, \"LastTrade\",, \"T\"),3)=\"768\",\"\",RTD(\"cqg.rtd\", ,\"ContractData\",B10, \"Y_CVol\",, \"T\"))","v":9},{"$f":"IF(LEFT(RTD(\"cqg.rtd\", ,\"ContractData\",B10, \"LastTrade\",, \"T\"),3)=\"768\",\"\",IFERROR(IF(I10>J10,\"+\"&I10-J10,I10-J10)*1,\"\"))","v":-9},{"$f":"IF(LEFT(RTD(\"cqg.rtd\", ,\"ContractData\",B10, \"LastTrade\",, \"T\"),3)=\"768\",\"\",RTD(\"cqg.rtd\",,\"StudyData\",B10,  \"Bar\",,  \"ContractOI\", \"D\", \"-1\",,,,,\"T\"))","v":671},{"$f":"IF(LEFT(RTD(\"cqg.rtd\", ,\"ContractData\",B10, \"LastTrade\",, \"T\"),3)=\"768\",\"\",RTD(\"cqg.rtd\",,\"StudyData\",B10,  \"Bar\",,  \"ContractOI\", \"D\", \"-2\",,,,,\"T\"))","v":663},{"$f":"IF(LEFT(RTD(\"cqg.rtd\", ,\"ContractData\",B10, \"LastTrade\",, \"T\"),3)=\"768\",\"\",IFERROR(IF(L10>M10,\"+\"&L10-M10,L10-M10)*1,\"\"))","v":8}]
[{"$f":"'Call Data'!A11","v":5100},{"$f":"\"P\"&RIGHT('Call Data'!B11,LEN('Call Data'!B11)-1)","v":"P.US.CLEJ265100"},{"$f":"IF(LEFT(RTD(\"cqg.rtd\", ,\"ContractData\",B11, \"LastTrade\",, \"T\"),3)=\"768\",\"\",RTD(\"cqg.rtd\", ,\"ContractData\",B11, \"LastTrade\",, \"T\"))","v":0.02},{"$f":"IF(C11=\"\",\"\",RTD(\"cqg.rtd\", ,\"ContractData\",B11, \"NetLastTrade\",, \"T\"))","v":-9.9999999999999985E-3},{"$f":"IF(LEFT(RTD(\"cqg.rtd\", ,\"ContractData\",B11, \"LastTrade\",, \"T\"),3)=\"768\",\"\",RTD(\"cqg.rtd\", ,\"ContractData\",B11, \"MT_LastBidVolume\",, \"T\"))","v":1},{"$f":"IF(LEFT(RTD(\"cqg.rtd\", ,\"ContractData\",B11, \"LastTrade\",, \"T\"),3)=\"768\",\"\",RTD(\"cqg.rtd\", ,\"ContractData\",B11, \"Bid\",, \"T\"))","v":0.01},{"$f":"IF(LEFT(RTD(\"cqg.rtd\", ,\"ContractData\",B11, \"LastTrade\",, \"T\"),3)=\"768\",\"\",RTD(\"cqg.rtd\", ,\"ContractData\",B11, \"Ask\",, \"T\"))","v":0.04},{"$f":"IF(LEFT(RTD(\"cqg.rtd\", ,\"ContractData\",B11, \"LastTrade\",, \"T\"),3)=\"768\",\"\",RTD(\"cqg.rtd\", ,\"ContractData\",B11, \"MT_LastAskVolume\",, \"T\"))","v":100},{"$f":"IF(LEFT(RTD(\"cqg.rtd\", ,\"ContractData\",B11, \"LastTrade\",, \"T\"),3)=\"768\",\"\",RTD(\"cqg.rtd\", ,\"ContractData\",B11, \"T_CVol\",, \"T\"))","v":1},{"$f":"IF(LEFT(RTD(\"cqg.rtd\", ,\"ContractData\",B11, \"LastTrade\",, \"T\"),3)=\"768\",\"\",RTD(\"cqg.rtd\", ,\"ContractData\",B11, \"Y_CVol\",, \"T\"))","v":16},{"$f":"IF(LEFT(RTD(\"cqg.rtd\", ,\"ContractData\",B11, \"LastTrade\",, \"T\"),3)=\"768\",\"\",IFERROR(IF(I11>J11,\"+\"&I11-J11,I11-J11)*1,\"\"))","v":-15},{"$f":"IF(LEFT(RTD(\"cqg.rtd\", ,\"ContractData\",B11, \"LastTrade\",, \"T\"),3)=\"768\",\"\",RTD(\"cqg.rtd\",,\"StudyData\",B11,  \"Bar\",,  \"ContractOI\", \"D\", \"-1\",,,,,\"T\"))","v":4508},{"$f":"IF(LEFT(RTD(\"cqg.rtd\", ,\"ContractData\",B11, \"LastTrade\",, \"T\"),3)=\"768\",\"\",RTD(\"cqg.rtd\",,\"StudyData\",B11,  \"Bar\",,  \"ContractOI\", \"D\", \"-2\",,,,,\"T\"))","v":4513},{"$f":"IF(LEFT(RTD(\"cqg.rtd\", ,\"ContractData\",B11, \"LastTrade\",, \"T\"),3)=\"768\",\"\",IFERROR(IF(L11>M11,\"+\"&L11-M11,L11-M11)*1,\"\"))","v":-5}]
[{"$f":"'Call Data'!A12","v":5150},{"$f":"\"P\"&RIGHT('Call Data'!B12,LEN('Call Data'!B12)-1)","v":"P.US.CLEJ265150"},{"$f":"IF(LEFT(RTD(\"cqg.rtd\", ,\"ContractData\",B12, \"LastTrade\",, \"T\"),3)=\"768\",\"\",RTD(\"cqg.rtd\", ,\"ContractData\",B12, \"LastTrade\",, \"T\"))","v":0.04},{"$f":"IF(C12=\"\",\"\",RTD(\"cqg.rtd\", ,\"ContractData\",B12, \"NetLastTrade\",, \"T\"))","v":1.0000000000000002E-2},{"$f":"IF(LEFT(RTD(\"cqg.rtd\", ,\"ContractData\",B12, \"LastTrade\",, \"T\"),3)=\"768\",\"\",RTD(\"cqg.rtd\", ,\"ContractData\",B12, \"MT_LastBidVolume\",, \"T\"))","v":0},{"$f":"IF(LEFT(RTD(\"cqg.rtd\", ,\"ContractData\",B12, \"LastTrade\",, \"T\"),3)=\"768\",\"\",RTD(\"cqg.rtd\", ,\"ContractData\",B12, \"Bid\",, \"T\"))","v":""},{"$f":"IF(LEFT(RTD(\"cqg.rtd\", ,\"ContractData\",B12, \"LastTrade\",, \"T\"),3)=\"768\",\"\",RTD(\"cqg.rtd\", ,\"ContractData\",B12, \"Ask\",, \"T\"))","v":0.04},{"$f":"IF(LEFT(RTD(\"cqg.rtd\", ,\"ContractData\",B12, \"LastTrade\",, \"T\"),3)=\"768\",\"\",RTD(\"cqg.rtd\", ,\"ContractData\",B12, \"MT_LastAskVolume\",, \"T\"))","v":124},{"$f":"IF(LEFT(RTD(\"cqg.rtd\", ,\"ContractData\",B12, \"LastTrade\",, \"T\"),3)=\"768\",\"\",RTD(\"cqg.rtd\", ,\"ContractData\",B12, \"T_CVol\",, \"T\"))","v":0},{"$f":"IF(LEFT(RTD(\"cqg.rtd\", ,\"ContractData\",B12, \"LastTrade\",, \"T\"),3)=\"768\",\"\",RTD(\"cqg.rtd\", ,\"ContractData\",B12, \"Y_CVol\",, \"T\"))","v":10},{"$f":"IF(LEFT(RTD(\"cqg.rtd\", ,\"ContractData\",B12, \"LastTrade\",, \"T\"),3)=\"768\",\"\",IFERROR(IF(I12>J12,\"+\"&I12-J12,I12-J12)*1,\"\"))","v":-10},{"$f":"IF(LEFT(RTD(\"cqg.rtd\", ,\"ContractData\",B12, \"LastTrade\",, \"T\"),3)=\"768\",\"\",RTD(\"cqg.rtd\",,\"StudyData\",B12,  \"Bar\",,  \"ContractOI\", \"D\", \"-1\",,,,,\"T\"))","v":1018},{"$f":"IF(LEFT(RTD(\"cqg.rtd\", ,\"ContractData\",B12, \"LastTrade\",, \"T\"),3)=\"768\",\"\",RTD(\"cqg.rtd\",,\"StudyData\",B12,  \"Bar\",,  \"ContractOI\", \"D\", \"-2\",,,,,\"T\"))","v":1018},{"$f":"IF(LEFT(RTD(\"cqg.rtd\", ,\"ContractData\",B12, \"LastTrade\",, \"T\"),3)=\"768\",\"\",IFERROR(IF(L12>M12,\"+\"&L12-M12,L12-M12)*1,\"\"))","v":0}]
[{"$f":"'Call Data'!A13","v":5200},{"$f":"\"P\"&RIGHT('Call Data'!B13,LEN('Call Data'!B13)-1)","v":"P.US.CLEJ265200"},{"$f":"IF(LEFT(RTD(\"cqg.rtd\", ,\"ContractData\",B13, \"LastTrade\",, \"T\"),3)=\"768\",\"\",RTD(\"cqg.rtd\", ,\"ContractData\",B13, \"LastTrade\",, \"T\"))","v":0.02},{"$f":"IF(C13=\"\",\"\",RTD(\"cqg.rtd\", ,\"ContractData\",B13, \"NetLastTrade\",, \"T\"))","v":-9.9999999999999985E-3},{"$f":"IF(LEFT(RTD(\"cqg.rtd\", ,\"ContractData\",B13, \"LastTrade\",, \"T\"),3)=\"768\",\"\",RTD(\"cqg.rtd\", ,\"ContractData\",B13, \"MT_LastBidVolume\",, \"T\"))","v":3},{"$f":"IF(LEFT(RTD(\"cqg.rtd\", ,\"ContractData\",B13, \"LastTrade\",, \"T\"),3)=\"768\",\"\",RTD(\"cqg.rtd\", ,\"ContractData\",B13, \"Bid\",, \"T\"))","v":0.01},{"$f":"IF(LEFT(RTD(\"cqg.rtd\", ,\"ContractData\",B13, \"LastTrade\",, \"T\"),3)=\"768\",\"\",RTD(\"cqg.rtd\", ,\"ContractData\",B13, \"Ask\",, \"T\"))","v":0.04},{"$f":"IF(LEFT(RTD(\"cqg.rtd\", ,\"ContractData\",B13, \"LastTrade\",, \"T\"),3)=\"768\",\"\",RTD(\"cqg.rtd\", ,\"ContractData\",B13, \"MT_LastAskVolume\",, \"T\"))","v":100},{"$f":"IF(LEFT(RTD(\"cqg.rtd\", ,\"ContractData\",B13, \"LastTrade\",, \"T\"),3)=\"768\",\"\",RTD(\"cqg.rtd\", ,\"ContractData\",B13, \"T_CVol\",, \"T\"))","v":12},{"$f":"IF(LEFT(RTD(\"cqg.rtd\", ,\"ContractData\",B13, \"LastTrade\",, \"T\"),3)=\"768\",\"\",RTD(\"cqg.rtd\", ,\"ContractData\",B13, \"Y_CVol\",, \"T\"))","v":24},{"$f":"IF(LEFT(RTD(\"cqg.rtd\", ,\"ContractData\",B13, \"LastTrade\",, \"T\"),3)=\"768\",\"\",IFERROR(IF(I13>J13,\"+\"&I13-J13,I13-J13)*1,\"\"))","v":-12},{"$f":"IF(LEFT(RTD(\"cqg.rtd\", ,\"ContractData\",B13, \"LastTrade\",, \"T\"),3)=\"768\",\"\",RTD(\"cqg.rtd\",,\"StudyData\",B13,  \"Bar\",,  \"ContractOI\", \"D\", \"-1\",,,,,\"T\"))","v":7586},{"$f":"IF(LEFT(RTD(\"cqg.rtd\", ,\"ContractData\",B13, \"LastTrade\",, \"T\"),3)=\"768\",\"\",RTD(\"cqg.rtd\",,\"StudyData\",B13,  \"Bar\",,  \"ContractOI\", \"D\", \"-2\",,,,,\"T\"))","v":7602},{"$f":"IF(LEFT(RTD(\"cqg.rtd\", ,\"ContractData\",B13, \"LastTrade\",, \"T\"),3)=\"768\",\"\",IFERROR(IF(L13>M13,\"+\"&L13-M13,L13-M13)*1,\"\"))","v":-16}]
[{"$f":"'Call Data'!A14","v":5250},{"$f":"\"P\"&RIGHT('Call Data'!B14,LEN('Call Data'!B14)-1)","v":"P.US.CLEJ265250"},{"$f":"IF(LEFT(RTD(\"cqg.rtd\", ,\"ContractData\",B14, \"LastTrade\",, \"T\"),3)=\"768\",\"\",RTD(\"cqg.rtd\", ,\"ContractData\",B14, \"LastTrade\",, \"T\"))","v":0.02},{"$f":"IF(C14=\"\",\"\",RTD(\"cqg.rtd\", ,\"ContractData\",B14, \"NetLastTrade\",, \"T\"))","v":-9.9999999999999985E-3},{"$f":"IF(LEFT(RTD(\"cqg.rtd\", ,\"ContractData\",B14, \"LastTrade\",, \"T\"),3)=\"768\",\"\",RTD(\"cqg.rtd\", ,\"ContractData\",B14, \"MT_LastBidVolume\",, \"T\"))","v":0},{"$f":"IF(LEFT(RTD(\"cqg.rtd\", ,\"ContractData\",B14, \"LastTrade\",, \"T\"),3)=\"768\",\"\",RTD(\"cqg.rtd\", ,\"ContractData\",B14, \"Bid\",, \"T\"))","v":""},{"$f":"IF(LEFT(RTD(\"cqg.rtd\", ,\"ContractData\",B14, \"LastTrade\",, \"T\"),3)=\"768\",\"\",RTD(\"cqg.rtd\", ,\"ContractData\",B14, \"Ask\",, \"T\"))","v":0.03},{"$f":"IF(LEFT(RTD(\"cqg.rtd\", ,\"ContractData\",B14, \"LastTrade\",, \"T\"),3)=\"768\",\"\",RTD(\"cqg.rtd\", ,\"ContractData\",B14, \"MT_LastAskVolume\",, \"T\"))","v":5},{"$f":"IF(LEFT(RTD(\"cqg.rtd\", ,\"ContractData\",B14, \"LastTrade\",, \"T\"),3)=\"768\",\"\",RTD(\"cqg.rtd\", ,\"ContractData\",B14, \"T_CVol\",, \"T\"))","v":2},{"$f":"IF(LEFT(RTD(\"cqg.rtd\", ,\"ContractData\",B14, \"LastTrade\",, \"T\"),3)=\"768\",\"\",RTD(\"cqg.rtd\", ,\"ContractData\",B14, \"Y_CVol\",, \"T\"))","v":3},{"$f":"IF(LEFT(RTD(\"cqg.rtd\", ,\"ContractData\",B14, \"LastTrade\",, \"T\"),3)=\"768\",\"\",IFERROR(IF(I14>J14,\"+\"&I14-J14,I14-J14)*1,\"\"))","v":-1},{"$f":"IF(LEFT(RTD(\"cqg.rtd\", ,\"ContractData\",B14, \"LastTrade\",, \"T\"),3)=\"768\",\"\",RTD(\"cqg.rtd\",,\"StudyData\",B14,  \"Bar\",,  \"ContractOI\", \"D\", \"-1\",,,,,\"T\"))","v":1760},{"$f":"IF(LEFT(RTD(\"cqg.rtd\", ,\"ContractData\",B14, \"LastTrade\",, \"T\"),3)=\"768\",\"\",RTD(\"cqg.rtd\",,\"StudyData\",B14,  \"Bar\",,  \"ContractOI\", \"D\", \"-2\",,,,,\"T\"))","v":1760},{"$f":"IF(LEFT(RTD(\"cqg.rtd\", ,\"ContractData\",B14, \"LastTrade\",, \"T\"),3)=\"768\",\"\",IFERROR(IF(L14>M14,\"+\"&L14-M14,L14-M14)*1,\"\"))","v":0}]
[{"$f":"'Call Data'!A15","v":5300},{"$f":"\"P\"&RIGHT('Call Data'!B15,LEN('Call Data'!B15)-1)","v":"P.US.CLEJ265300"},{"$f":"IF(LEFT(RTD(\"cqg.rtd\", ,\"ContractData\",B15, \"LastTrade\",, \"T\"),3)=\"768\",\"\",RTD(\"cqg.rtd\", ,\"ContractData\",B15, \"LastTrade\",, \"T\"))","v":0.03},{"$f":"IF(C15=\"\",\"\",RTD(\"cqg.rtd\", ,\"ContractData\",B15, \"NetLastTrade\",, \"T\"))","v":0},{"$f":"IF(LEFT(RTD(\"cqg.rtd\", ,\"ContractData\",B15, \"LastTrade\",, \"T\"),3)=\"768\",\"\",RTD(\"cqg.rtd\", ,\"ContractData\",B15, \"MT_LastBidVolume\",, \"T\"))","v":0},{"$f":"IF(LEFT(RTD(\"cqg.rtd\", ,\"ContractData\",B15, \"LastTrade\",, \"T\"),3)=\"768\",\"\",RTD(\"cqg.rtd\", ,\"ContractData\",B15, \"Bid\",, \"T\"))","v":""},{"$f":"IF(LEFT(RTD(\"cqg.rtd\", ,\"ContractData\",B15, \"LastTrade\",, \"T\"),3)=\"768\",\"\",RTD(\"cqg.rtd\", ,\"ContractData\",B15, \"Ask\",, \"T\"))","v":0.04},{"$f":"IF(LEFT(RTD(\"cqg.rtd\", ,\"ContractData\",B15, \"LastTrade\",, \"T\"),3)=\"768\",\"\",RTD(\"cqg.rtd\", ,\"ContractData\",B15, \"MT_LastAskVolume\",, \"T\"))","v":100},{"$f":"IF(LEFT(RTD(\"cqg.rtd\", ,\"ContractData\",B15, \"LastTrade\",, \"T\"),3)=\"768\",\"\",RTD(\"cqg.rtd\", ,\"ContractData\",B15, \"T_CVol\",, \"T\"))","v":2},{"$f":"IF(LEFT(RTD(\"cqg.rtd\", ,\"ContractData\",B15, \"LastTrade\",, \"T\"),3)=\"768\",\"\",RTD(\"cqg.rtd\", ,\"ContractData\",B15, \"Y_CVol\",, \"T\"))","v":1},{"$f":"IF(LEFT(RTD(\"cqg.rtd\", ,\"ContractData\",B15, \"LastTrade\",, \"T\"),3)=\"768\",\"\",IFERROR(IF(I15>J15,\"+\"&I15-J15,I15-J15)*1,\"\"))","v":1},{"$f":"IF(LEFT(RTD(\"cqg.rtd\", ,\"ContractData\",B15, \"LastTrade\",, \"T\"),3)=\"768\",\"\",RTD(\"cqg.rtd\",,\"StudyData\",B15,  \"Bar\",,  \"ContractOI\", \"D\", \"-1\",,,,,\"T\"))","v":11365},{"$f":"IF(LEFT(RTD(\"cqg.rtd\", ,\"ContractData\",B15, \"LastTrade\",, \"T\"),3)=\"768\",\"\",RTD(\"cqg.rtd\",,\"StudyData\",B15,  \"Bar\",,  \"ContractOI\", \"D\", \"-2\",,,,,\"T\"))","v":11365},{"$f":"IF(LEFT(RTD(\"cqg.rtd\", ,\"ContractData\",B15, \"LastTrade\",, \"T\"),3)=\"768\",\"\",IFERROR(IF(L15>M15,\"+\"&L15-M15,L15-M15)*1,\"\"))","v":0}]
[{"$f":"'Call Data'!A16","v":5350},{"$f":"\"P\"&RIGHT('Call Data'!B16,LEN('Call Data'!B16)-1)","v":"P.US.CLEJ265350"},{"$f":"IF(LEFT(RTD(\"cqg.rtd\", ,\"ContractData\",B16, \"LastTrade\",, \"T\"),3)=\"768\",\"\",RTD(\"cqg.rtd\", ,\"ContractData\",B16, \"LastTrade\",, \"T\"))","v":0.01},{"$f":"IF(C16=\"\",\"\",RTD(\"cqg.rtd\", ,\"ContractData\",B16, \"NetLastTrade\",, \"T\"))","v":-1.9999999999999997E-2},{"$f":"IF(LEFT(RTD(\"cqg.rtd\", ,\"ContractData\",B16, \"LastTrade\",, \"T\"),3)=\"768\",\"\",RTD(\"cqg.rtd\", ,\"ContractData\",B16, \"MT_LastBidVolume\",, \"T\"))","v":0},{"$f":"IF(LEFT(RTD(\"cqg.rtd\", ,\"ContractData\",B16, \"LastTrade\",, \"T\"),3)=\"768\",\"\",RTD(\"cqg.rtd\", ,\"ContractData\",B16, \"Bid\",, \"T\"))","v":""},{"$f":"IF(LEFT(RTD(\"cqg.rtd\", ,\"ContractData\",B16, \"LastTrade\",, \"T\"),3)=\"768\",\"\",RTD(\"cqg.rtd\", ,\"ContractData\",B16, \"Ask\",, \"T\"))","v":0.03},{"$f":"IF(LEFT(RTD(\"cqg.rtd\", ,\"ContractData\",B16, \"LastTrade\",, \"T\"),3)=\"768\",\"\",RTD(\"cqg.rtd\", ,\"ContractData\",B16, \"MT_LastAskVolume\",, \"T\"))","v":38},{"$f":"IF(LEFT(RTD(\"cqg.rtd\", ,\"ContractData\",B16, \"LastTrade\",, \"T\"),3)=\"768\",\"\",RTD(\"cqg.rtd\", ,\"ContractData\",B16, \"T_CVol\",, \"T\"))","v":1},{"$f":"IF(LEFT(RTD(\"cqg.rtd\", ,\"ContractData\",B16, \"LastTrade\",, \"T\"),3)=\"768\",\"\",RTD(\"cqg.rtd\", ,\"ContractData\",B16, \"Y_CVol\",, \"T\"))","v":2},{"$f":"IF(LEFT(RTD(\"cqg.rtd\", ,\"ContractData\",B16, \"LastTrade\",, \"T\"),3)=\"768\",\"\",IFERROR(IF(I16>J16,\"+\"&I16-J16,I16-J16)*1,\"\"))","v":-1},{"$f":"IF(LEFT(RTD(\"cqg.rtd\", ,\"ContractData\",B16, \"LastTrade\",, \"T\"),3)=\"768\",\"\",RTD(\"cqg.rtd\",,\"StudyData\",B16,  \"Bar\",,  \"ContractOI\", \"D\", \"-1\",,,,,\"T\"))","v":1322},{"$f":"IF(LEFT(RTD(\"cqg.rtd\", ,\"ContractData\",B16, \"LastTrade\",, \"T\"),3)=\"768\",\"\",RTD(\"cqg.rtd\",,\"StudyData\",B16,  \"Bar\",,  \"ContractOI\", \"D\", \"-2\",,,,,\"T\"))","v":1320},{"$f":"IF(LEFT(RTD(\"cqg.rtd\", ,\"ContractData\",B16, \"LastTrade\",, \"T\"),3)=\"768\",\"\",IFERROR(IF(L16>M16,\"+\"&L16-M16,L16-M16)*1,\"\"))","v":2}]
[{"$f":"'Call Data'!A17","v":5400},{"$f":"\"P\"&RIGHT('Call Data'!B17,LEN('Call Data'!B17)-1)","v":"P.US.CLEJ265400"},{"$f":"IF(LEFT(RTD(\"cqg.rtd\", ,\"ContractData\",B17, \"LastTrade\",, \"T\"),3)=\"768\",\"\",RTD(\"cqg.rtd\", ,\"ContractData\",B17, \"LastTrade\",, \"T\"))","v":0.01},{"$f":"IF(C17=\"\",\"\",RTD(\"cqg.rtd\", ,\"ContractData\",B17, \"NetLastTrade\",, \"T\"))","v":-0.03},{"$f":"IF(LEFT(RTD(\"cqg.rtd\", ,\"ContractData\",B17, \"LastTrade\",, \"T\"),3)=\"768\",\"\",RTD(\"cqg.rtd\", ,\"ContractData\",B17, \"MT_LastBidVolume\",, \"T\"))","v":7},{"$f":"IF(LEFT(RTD(\"cqg.rtd\", ,\"ContractData\",B17, \"LastTrade\",, \"T\"),3)=\"768\",\"\",RTD(\"cqg.rtd\", ,\"ContractData\",B17, \"Bid\",, \"T\"))","v":0.02},{"$f":"IF(LEFT(RTD(\"cqg.rtd\", ,\"ContractData\",B17, \"LastTrade\",, \"T\"),3)=\"768\",\"\",RTD(\"cqg.rtd\", ,\"ContractData\",B17, \"Ask\",, \"T\"))","v":0.03},{"$f":"IF(LEFT(RTD(\"cqg.rtd\", ,\"ContractData\",B17, \"LastTrade\",, \"T\"),3)=\"768\",\"\",RTD(\"cqg.rtd\", ,\"ContractData\",B17, \"MT_LastAskVolume\",, \"T\"))","v":38},{"$f":"IF(LEFT(RTD(\"cqg.rtd\", ,\"ContractData\",B17, \"LastTrade\",, \"T\"),3)=\"768\",\"\",RTD(\"cqg.rtd\", ,\"ContractData\",B17, \"T_CVol\",, \"T\"))","v":10},{"$f":"IF(LEFT(RTD(\"cqg.rtd\", ,\"ContractData\",B17, \"LastTrade\",, \"T\"),3)=\"768\",\"\",RTD(\"cqg.rtd\", ,\"ContractData\",B17, \"Y_CVol\",, \"T\"))","v":58},{"$f":"IF(LEFT(RTD(\"cqg.rtd\", ,\"ContractData\",B17, \"LastTrade\",, \"T\"),3)=\"768\",\"\",IFERROR(IF(I17>J17,\"+\"&I17-J17,I17-J17)*1,\"\"))","v":-48},{"$f":"IF(LEFT(RTD(\"cqg.rtd\", ,\"ContractData\",B17, \"LastTrade\",, \"T\"),3)=\"768\",\"\",RTD(\"cqg.rtd\",,\"StudyData\",B17,  \"Bar\",,  \"ContractOI\", \"D\", \"-1\",,,,,\"T\"))","v":6645},{"$f":"IF(LEFT(RTD(\"cqg.rtd\", ,\"ContractData\",B17, \"LastTrade\",, \"T\"),3)=\"768\",\"\",RTD(\"cqg.rtd\",,\"StudyData\",B17,  \"Bar\",,  \"ContractOI\", \"D\", \"-2\",,,,,\"T\"))","v":6702},{"$f":"IF(LEFT(RTD(\"cqg.rtd\", ,\"ContractData\",B17, \"LastTrade\",, \"T\"),3)=\"768\",\"\",IFERROR(IF(L17>M17,\"+\"&L17-M17,L17-M17)*1,\"\"))","v":-57}]
[{"$f":"'Call Data'!A18","v":5450},{"$f":"\"P\"&RIGHT('Call Data'!B18,LEN('Call Data'!B18)-1)","v":"P.US.CLEJ265450"},{"$f":"IF(LEFT(RTD(\"cqg.rtd\", ,\"ContractData\",B18, \"LastTrade\",, \"T\"),3)=\"768\",\"\",RTD(\"cqg.rtd\", ,\"ContractData\",B18, \"LastTrade\",, \"T\"))","v":0.03},{"$f":"IF(C18=\"\",\"\",RTD(\"cqg.rtd\", ,\"ContractData\",B18, \"NetLastTrade\",, \"T\"))","v":-1.0000000000000002E-2},{"$f":"IF(LEFT(RTD(\"cqg.rtd\", ,\"ContractData\",B18, \"LastTrade\",, \"T\"),3)=\"768\",\"\",RTD(\"cqg.rtd\", ,\"ContractData\",B18, \"MT_LastBidVolume\",, \"T\"))","v":53},{"$f":"IF(LEFT(RTD(\"cqg.rtd\", ,\"ContractData\",B18, \"LastTrade\",, \"T\"),3)=\"768\",\"\",RTD(\"cqg.rtd\", ,\"ContractData\",B18, \"Bid\",, \"T\"))","v":0.01},{"$f":"IF(LEFT(RTD(\"cqg.rtd\", ,\"ContractData\",B18, \"LastTrade\",, \"T\"),3)=\"768\",\"\",RTD(\"cqg.rtd\", ,\"ContractData\",B18, \"Ask\",, \"T\"))","v":0.05},{"$f":"IF(LEFT(RTD(\"cqg.rtd\", ,\"ContractData\",B18, \"LastTrade\",, \"T\"),3)=\"768\",\"\",RTD(\"cqg.rtd\", ,\"ContractData\",B18, \"MT_LastAskVolume\",, \"T\"))","v":110},{"$f":"IF(LEFT(RTD(\"cqg.rtd\", ,\"ContractData\",B18, \"LastTrade\",, \"T\"),3)=\"768\",\"\",RTD(\"cqg.rtd\", ,\"ContractData\",B18, \"T_CVol\",, \"T\"))","v":8},{"$f":"IF(LEFT(RTD(\"cqg.rtd\", ,\"ContractData\",B18, \"LastTrade\",, \"T\"),3)=\"768\",\"\",RTD(\"cqg.rtd\", ,\"ContractData\",B18, \"Y_CVol\",, \"T\"))","v":2},{"$f":"IF(LEFT(RTD(\"cqg.rtd\", ,\"ContractData\",B18, \"LastTrade\",, \"T\"),3)=\"768\",\"\",IFERROR(IF(I18>J18,\"+\"&I18-J18,I18-J18)*1,\"\"))","v":6},{"$f":"IF(LEFT(RTD(\"cqg.rtd\", ,\"ContractData\",B18, \"LastTrade\",, \"T\"),3)=\"768\",\"\",RTD(\"cqg.rtd\",,\"StudyData\",B18,  \"Bar\",,  \"ContractOI\", \"D\", \"-1\",,,,,\"T\"))","v":1829},{"$f":"IF(LEFT(RTD(\"cqg.rtd\", ,\"ContractData\",B18, \"LastTrade\",, \"T\"),3)=\"768\",\"\",RTD(\"cqg.rtd\",,\"StudyData\",B18,  \"Bar\",,  \"ContractOI\", \"D\", \"-2\",,,,,\"T\"))","v":1831},{"$f":"IF(LEFT(RTD(\"cqg.rtd\", ,\"ContractData\",B18, \"LastTrade\",, \"T\"),3)=\"768\",\"\",IFERROR(IF(L18>M18,\"+\"&L18-M18,L18-M18)*1,\"\"))","v":-2}]
[{"$f":"'Call Data'!A19","v":5500},{"$f":"\"P\"&RIGHT('Call Data'!B19,LEN('Call Data'!B19)-1)","v":"P.US.CLEJ265500"},{"$f":"IF(LEFT(RTD(\"cqg.rtd\", ,\"ContractData\",B19, \"LastTrade\",, \"T\"),3)=\"768\",\"\",RTD(\"cqg.rtd\", ,\"ContractData\",B19, \"LastTrade\",, \"T\"))","v":0.03},{"$f":"IF(C19=\"\",\"\",RTD(\"cqg.rtd\", ,\"ContractData\",B19, \"NetLastTrade\",, \"T\"))","v":-1.0000000000000002E-2},{"$f":"IF(LEFT(RTD(\"cqg.rtd\", ,\"ContractData\",B19, \"LastTrade\",, \"T\"),3)=\"768\",\"\",RTD(\"cqg.rtd\", ,\"ContractData\",B19, \"MT_LastBidVolume\",, \"T\"))","v":1},{"$f":"IF(LEFT(RTD(\"cqg.rtd\", ,\"ContractData\",B19, \"LastTrade\",, \"T\"),3)=\"768\",\"\",RTD(\"cqg.rtd\", ,\"ContractData\",B19, \"Bid\",, \"T\"))","v":0.01},{"$f":"IF(LEFT(RTD(\"cqg.rtd\", ,\"ContractData\",B19, \"LastTrade\",, \"T\"),3)=\"768\",\"\",RTD(\"cqg.rtd\", ,\"ContractData\",B19, \"Ask\",, \"T\"))","v":0.05},{"$f":"IF(LEFT(RTD(\"cqg.rtd\", ,\"ContractData\",B19, \"LastTrade\",, \"T\"),3)=\"768\",\"\",RTD(\"cqg.rtd\", ,\"ContractData\",B19, \"MT_LastAskVolume\",, \"T\"))","v":95},{"$f":"IF(LEFT(RTD(\"cqg.rtd\", ,\"ContractData\",B19, \"LastTrade\",, \"T\"),3)=\"768\",\"\",RTD(\"cqg.rtd\", ,\"ContractData\",B19, \"T_CVol\",, \"T\"))","v":25},{"$f":"IF(LEFT(RTD(\"cqg.rtd\", ,\"ContractData\",B19, \"LastTrade\",, \"T\"),3)=\"768\",\"\",RTD(\"cqg.rtd\", ,\"ContractData\",B19, \"Y_CVol\",, \"T\"))","v":380},{"$f":"IF(LEFT(RTD(\"cqg.rtd\", ,\"ContractData\",B19, \"LastTrade\",, \"T\"),3)=\"768\",\"\",IFERROR(IF(I19>J19,\"+\"&I19-J19,I19-J19)*1,\"\"))","v":-355},{"$f":"IF(LEFT(RTD(\"cqg.rtd\", ,\"ContractData\",B19, \"LastTrade\",, \"T\"),3)=\"768\",\"\",RTD(\"cqg.rtd\",,\"StudyData\",B19,  \"Bar\",,  \"ContractOI\", \"D\", \"-1\",,,,,\"T\"))","v":22901},{"$f":"IF(LEFT(RTD(\"cqg.rtd\", ,\"ContractData\",B19, \"LastTrade\",, \"T\"),3)=\"768\",\"\",RTD(\"cqg.rtd\",,\"StudyData\",B19,  \"Bar\",,  \"ContractOI\", \"D\", \"-2\",,,,,\"T\"))","v":23069},{"$f":"IF(LEFT(RTD(\"cqg.rtd\", ,\"ContractData\",B19, \"LastTrade\",, \"T\"),3)=\"768\",\"\",IFERROR(IF(L19>M19,\"+\"&L19-M19,L19-M19)*1,\"\"))","v":-168}]
[{"$f":"'Call Data'!A20","v":5550},{"$f":"\"P\"&RIGHT('Call Data'!B20,LEN('Call Data'!B20)-1)","v":"P.US.CLEJ265550"},{"$f":"IF(LEFT(RTD(\"cqg.rtd\", ,\"ContractData\",B20, \"LastTrade\",, \"T\"),3)=\"768\",\"\",RTD(\"cqg.rtd\", ,\"ContractData\",B20, \"LastTrade\",, \"T\"))","v":0.05},{"$f":"IF(C20=\"\",\"\",RTD(\"cqg.rtd\", ,\"ContractData\",B20, \"NetLastTrade\",, \"T\"))","v":1.0000000000000002E-2},{"$f":"IF(LEFT(RTD(\"cqg.rtd\", ,\"ContractData\",B20, \"LastTrade\",, \"T\"),3)=\"768\",\"\",RTD(\"cqg.rtd\", ,\"ContractData\",B20, \"MT_LastBidVolume\",, \"T\"))","v":64},{"$f":"IF(LEFT(RTD(\"cqg.rtd\", ,\"ContractData\",B20, \"LastTrade\",, \"T\"),3)=\"768\",\"\",RTD(\"cqg.rtd\", ,\"ContractData\",B20, \"Bid\",, \"T\"))","v":0.01},{"$f":"IF(LEFT(RTD(\"cqg.rtd\", ,\"ContractData\",B20, \"LastTrade\",, \"T\"),3)=\"768\",\"\",RTD(\"cqg.rtd\", ,\"ContractData\",B20, \"Ask\",, \"T\"))","v":0.05},{"$f":"IF(LEFT(RTD(\"cqg.rtd\", ,\"ContractData\",B20, \"LastTrade\",, \"T\"),3)=\"768\",\"\",RTD(\"cqg.rtd\", ,\"ContractData\",B20, \"MT_LastAskVolume\",, \"T\"))","v":97},{"$f":"IF(LEFT(RTD(\"cqg.rtd\", ,\"ContractData\",B20, \"LastTrade\",, \"T\"),3)=\"768\",\"\",RTD(\"cqg.rtd\", ,\"ContractData\",B20, \"T_CVol\",, \"T\"))","v":0},{"$f":"IF(LEFT(RTD(\"cqg.rtd\", ,\"ContractData\",B20, \"LastTrade\",, \"T\"),3)=\"768\",\"\",RTD(\"cqg.rtd\", ,\"ContractData\",B20, \"Y_CVol\",, \"T\"))","v":68},{"$f":"IF(LEFT(RTD(\"cqg.rtd\", ,\"ContractData\",B20, \"LastTrade\",, \"T\"),3)=\"768\",\"\",IFERROR(IF(I20>J20,\"+\"&I20-J20,I20-J20)*1,\"\"))","v":-68},{"$f":"IF(LEFT(RTD(\"cqg.rtd\", ,\"ContractData\",B20, \"LastTrade\",, \"T\"),3)=\"768\",\"\",RTD(\"cqg.rtd\",,\"StudyData\",B20,  \"Bar\",,  \"ContractOI\", \"D\", \"-1\",,,,,\"T\"))","v":4206},{"$f":"IF(LEFT(RTD(\"cqg.rtd\", ,\"ContractData\",B20, \"LastTrade\",, \"T\"),3)=\"768\",\"\",RTD(\"cqg.rtd\",,\"StudyData\",B20,  \"Bar\",,  \"ContractOI\", \"D\", \"-2\",,,,,\"T\"))","v":4273},{"$f":"IF(LEFT(RTD(\"cqg.rtd\", ,\"ContractData\",B20, \"LastTrade\",, \"T\"),3)=\"768\",\"\",IFERROR(IF(L20>M20,\"+\"&L20-M20,L20-M20)*1,\"\"))","v":-67}]
[{"$f":"'Call Data'!A21","v":5600},{"$f":"\"P\"&RIGHT('Call Data'!B21,LEN('Call Data'!B21)-1)","v":"P.US.CLEJ265600"},{"$f":"IF(LEFT(RTD(\"cqg.rtd\", ,\"ContractData\",B21, \"LastTrade\",, \"T\"),3)=\"768\",\"\",RTD(\"cqg.rtd\", ,\"ContractData\",B21, \"LastTrade\",, \"T\"))","v":0.05},{"$f":"IF(C21=\"\",\"\",RTD(\"cqg.rtd\", ,\"ContractData\",B21, \"NetLastTrade\",, \"T\"))","v":0},{"$f":"IF(LEFT(RTD(\"cqg.rtd\", ,\"ContractData\",B21, \"LastTrade\",, \"T\"),3)=\"768\",\"\",RTD(\"cqg.rtd\", ,\"ContractData\",B21, \"MT_LastBidVolume\",, \"T\"))","v":6},{"$f":"IF(LEFT(RTD(\"cqg.rtd\", ,\"ContractData\",B21, \"LastTrade\",, \"T\"),3)=\"768\",\"\",RTD(\"cqg.rtd\", ,\"ContractData\",B21, \"Bid\",, \"T\"))","v":0.03},{"$f":"IF(LEFT(RTD(\"cqg.rtd\", ,\"ContractData\",B21, \"LastTrade\",, \"T\"),3)=\"768\",\"\",RTD(\"cqg.rtd\", ,\"ContractData\",B21, \"Ask\",, \"T\"))","v":0.05},{"$f":"IF(LEFT(RTD(\"cqg.rtd\", ,\"ContractData\",B21, \"LastTrade\",, \"T\"),3)=\"768\",\"\",RTD(\"cqg.rtd\", ,\"ContractData\",B21, \"MT_LastAskVolume\",, \"T\"))","v":106},{"$f":"IF(LEFT(RTD(\"cqg.rtd\", ,\"ContractData\",B21, \"LastTrade\",, \"T\"),3)=\"768\",\"\",RTD(\"cqg.rtd\", ,\"ContractData\",B21, \"T_CVol\",, \"T\"))","v":1},{"$f":"IF(LEFT(RTD(\"cqg.rtd\", ,\"ContractData\",B21, \"LastTrade\",, \"T\"),3)=\"768\",\"\",RTD(\"cqg.rtd\", ,\"ContractData\",B21, \"Y_CVol\",, \"T\"))","v":22},{"$f":"IF(LEFT(RTD(\"cqg.rtd\", ,\"ContractData\",B21, \"LastTrade\",, \"T\"),3)=\"768\",\"\",IFERROR(IF(I21>J21,\"+\"&I21-J21,I21-J21)*1,\"\"))","v":-21},{"$f":"IF(LEFT(RTD(\"cqg.rtd\", ,\"ContractData\",B21, \"LastTrade\",, \"T\"),3)=\"768\",\"\",RTD(\"cqg.rtd\",,\"StudyData\",B21,  \"Bar\",,  \"ContractOI\", \"D\", \"-1\",,,,,\"T\"))","v":9549},{"$f":"IF(LEFT(RTD(\"cqg.rtd\", ,\"ContractData\",B21, \"LastTrade\",, \"T\"),3)=\"768\",\"\",RTD(\"cqg.rtd\",,\"StudyData\",B21,  \"Bar\",,  \"ContractOI\", \"D\", \"-2\",,,,,\"T\"))","v":9564},{"$f":"IF(LEFT(RTD(\"cqg.rtd\", ,\"ContractData\",B21, \"LastTrade\",, \"T\"),3)=\"768\",\"\",IFERROR(IF(L21>M21,\"+\"&L21-M21,L21-M21)*1,\"\"))","v":-15}]
[{"$f":"'Call Data'!A22","v":5650},{"$f":"\"P\"&RIGHT('Call Data'!B22,LEN('Call Data'!B22)-1)","v":"P.US.CLEJ265650"},{"$f":"IF(LEFT(RTD(\"cqg.rtd\", ,\"ContractData\",B22, \"LastTrade\",, \"T\"),3)=\"768\",\"\",RTD(\"cqg.rtd\", ,\"ContractData\",B22, \"LastTrade\",, \"T\"))","v":7.0000000000000007E-2},{"$f":"IF(C22=\"\",\"\",RTD(\"cqg.rtd\", ,\"ContractData\",B22, \"NetLastTrade\",, \"T\"))","v":2.0000000000000004E-2},{"$f":"IF(LEFT(RTD(\"cqg.rtd\", ,\"ContractData\",B22, \"LastTrade\",, \"T\"),3)=\"768\",\"\",RTD(\"cqg.rtd\", ,\"ContractData\",B22, \"MT_LastBidVolume\",, \"T\"))","v":72},{"$f":"IF(LEFT(RTD(\"cqg.rtd\", ,\"ContractData\",B22, \"LastTrade\",, \"T\"),3)=\"768\",\"\",RTD(\"cqg.rtd\", ,\"ContractData\",B22, \"Bid\",, \"T\"))","v":0.01},{"$f":"IF(LEFT(RTD(\"cqg.rtd\", ,\"ContractData\",B22, \"LastTrade\",, \"T\"),3)=\"768\",\"\",RTD(\"cqg.rtd\", ,\"ContractData\",B22, \"Ask\",, \"T\"))","v":0.04},{"$f":"IF(LEFT(RTD(\"cqg.rtd\", ,\"ContractData\",B22, \"LastTrade\",, \"T\"),3)=\"768\",\"\",RTD(\"cqg.rtd\", ,\"ContractData\",B22, \"MT_LastAskVolume\",, \"T\"))","v":47},{"$f":"IF(LEFT(RTD(\"cqg.rtd\", ,\"ContractData\",B22, \"LastTrade\",, \"T\"),3)=\"768\",\"\",RTD(\"cqg.rtd\", ,\"ContractData\",B22, \"T_CVol\",, \"T\"))","v":0},{"$f":"IF(LEFT(RTD(\"cqg.rtd\", ,\"ContractData\",B22, \"LastTrade\",, \"T\"),3)=\"768\",\"\",RTD(\"cqg.rtd\", ,\"ContractData\",B22, \"Y_CVol\",, \"T\"))","v":3},{"$f":"IF(LEFT(RTD(\"cqg.rtd\", ,\"ContractData\",B22, \"LastTrade\",, \"T\"),3)=\"768\",\"\",IFERROR(IF(I22>J22,\"+\"&I22-J22,I22-J22)*1,\"\"))","v":-3},{"$f":"IF(LEFT(RTD(\"cqg.rtd\", ,\"ContractData\",B22, \"LastTrade\",, \"T\"),3)=\"768\",\"\",RTD(\"cqg.rtd\",,\"StudyData\",B22,  \"Bar\",,  \"ContractOI\", \"D\", \"-1\",,,,,\"T\"))","v":2006},{"$f":"IF(LEFT(RTD(\"cqg.rtd\", ,\"ContractData\",B22, \"LastTrade\",, \"T\"),3)=\"768\",\"\",RTD(\"cqg.rtd\",,\"StudyData\",B22,  \"Bar\",,  \"ContractOI\", \"D\", \"-2\",,,,,\"T\"))","v":2008},{"$f":"IF(LEFT(RTD(\"cqg.rtd\", ,\"ContractData\",B22, \"LastTrade\",, \"T\"),3)=\"768\",\"\",IFERROR(IF(L22>M22,\"+\"&L22-M22,L22-M22)*1,\"\"))","v":-2}]
[{"$f":"'Call Data'!A23","v":5700},{"$f":"\"P\"&RIGHT('Call Data'!B23,LEN('Call Data'!B23)-1)","v":"P.US.CLEJ265700"},{"$f":"IF(LEFT(RTD(\"cqg.rtd\", ,\"ContractData\",B23, \"LastTrade\",, \"T\"),3)=\"768\",\"\",RTD(\"cqg.rtd\", ,\"ContractData\",B23, \"LastTrade\",, \"T\"))","v":0.04},{"$f":"IF(C23=\"\",\"\",RTD(\"cqg.rtd\", ,\"ContractData\",B23, \"NetLastTrade\",, \"T\"))","v":-1.0000000000000002E-2},{"$f":"IF(LEFT(RTD(\"cqg.rtd\", ,\"ContractData\",B23, \"LastTrade\",, \"T\"),3)=\"768\",\"\",RTD(\"cqg.rtd\", ,\"ContractData\",B23, \"MT_LastBidVolume\",, \"T\"))","v":22},{"$f":"IF(LEFT(RTD(\"cqg.rtd\", ,\"ContractData\",B23, \"LastTrade\",, \"T\"),3)=\"768\",\"\",RTD(\"cqg.rtd\", ,\"ContractData\",B23, \"Bid\",, \"T\"))","v":0.02},{"$f":"IF(LEFT(RTD(\"cqg.rtd\", ,\"ContractData\",B23, \"LastTrade\",, \"T\"),3)=\"768\",\"\",RTD(\"cqg.rtd\", ,\"ContractData\",B23, \"Ask\",, \"T\"))","v":0.06},{"$f":"IF(LEFT(RTD(\"cqg.rtd\", ,\"ContractData\",B23, \"LastTrade\",, \"T\"),3)=\"768\",\"\",RTD(\"cqg.rtd\", ,\"ContractData\",B23, \"MT_LastAskVolume\",, \"T\"))","v":111},{"$f":"IF(LEFT(RTD(\"cqg.rtd\", ,\"ContractData\",B23, \"LastTrade\",, \"T\"),3)=\"768\",\"\",RTD(\"cqg.rtd\", ,\"ContractData\",B23, \"T_CVol\",, \"T\"))","v":6},{"$f":"IF(LEFT(RTD(\"cqg.rtd\", ,\"ContractData\",B23, \"LastTrade\",, \"T\"),3)=\"768\",\"\",RTD(\"cqg.rtd\", ,\"ContractData\",B23, \"Y_CVol\",, \"T\"))","v":1},{"$f":"IF(LEFT(RTD(\"cqg.rtd\", ,\"ContractData\",B23, \"LastTrade\",, \"T\"),3)=\"768\",\"\",IFERROR(IF(I23>J23,\"+\"&I23-J23,I23-J23)*1,\"\"))","v":5},{"$f":"IF(LEFT(RTD(\"cqg.rtd\", ,\"ContractData\",B23, \"LastTrade\",, \"T\"),3)=\"768\",\"\",RTD(\"cqg.rtd\",,\"StudyData\",B23,  \"Bar\",,  \"ContractOI\", \"D\", \"-1\",,,,,\"T\"))","v":7047},{"$f":"IF(LEFT(RTD(\"cqg.rtd\", ,\"ContractData\",B23, \"LastTrade\",, \"T\"),3)=\"768\",\"\",RTD(\"cqg.rtd\",,\"StudyData\",B23,  \"Bar\",,  \"ContractOI\", \"D\", \"-2\",,,,,\"T\"))","v":7047},{"$f":"IF(LEFT(RTD(\"cqg.rtd\", ,\"ContractData\",B23, \"LastTrade\",, \"T\"),3)=\"768\",\"\",IFERROR(IF(L23>M23,\"+\"&L23-M23,L23-M23)*1,\"\"))","v":0}]
[{"$f":"'Call Data'!A24","v":5750},{"$f":"\"P\"&RIGHT('Call Data'!B24,LEN('Call Data'!B24)-1)","v":"P.US.CLEJ265750"},{"$f":"IF(LEFT(RTD(\"cqg.rtd\", ,\"ContractData\",B24, \"LastTrade\",, \"T\"),3)=\"768\",\"\",RTD(\"cqg.rtd\", ,\"ContractData\",B24, \"LastTrade\",, \"T\"))","v":0.11},{"$f":"IF(C24=\"\",\"\",RTD(\"cqg.rtd\", ,\"ContractData\",B24, \"NetLastTrade\",, \"T\"))","v":0.05},{"$f":"IF(LEFT(RTD(\"cqg.rtd\", ,\"ContractData\",B24, \"LastTrade\",, \"T\"),3)=\"768\",\"\",RTD(\"cqg.rtd\", ,\"ContractData\",B24, \"MT_LastBidVolume\",, \"T\"))","v":51},{"$f":"IF(LEFT(RTD(\"cqg.rtd\", ,\"ContractData\",B24, \"LastTrade\",, \"T\"),3)=\"768\",\"\",RTD(\"cqg.rtd\", ,\"ContractData\",B24, \"Bid\",, \"T\"))","v":0.02},{"$f":"IF(LEFT(RTD(\"cqg.rtd\", ,\"ContractData\",B24, \"LastTrade\",, \"T\"),3)=\"768\",\"\",RTD(\"cqg.rtd\", ,\"ContractData\",B24, \"Ask\",, \"T\"))","v":0.04},{"$f":"IF(LEFT(RTD(\"cqg.rtd\", ,\"ContractData\",B24, \"LastTrade\",, \"T\"),3)=\"768\",\"\",RTD(\"cqg.rtd\", ,\"ContractData\",B24, \"MT_LastAskVolume\",, \"T\"))","v":50},{"$f":"IF(LEFT(RTD(\"cqg.rtd\", ,\"ContractData\",B24, \"LastTrade\",, \"T\"),3)=\"768\",\"\",RTD(\"cqg.rtd\", ,\"ContractData\",B24, \"T_CVol\",, \"T\"))","v":0},{"$f":"IF(LEFT(RTD(\"cqg.rtd\", ,\"ContractData\",B24, \"LastTrade\",, \"T\"),3)=\"768\",\"\",RTD(\"cqg.rtd\", ,\"ContractData\",B24, \"Y_CVol\",, \"T\"))","v":604},{"$f":"IF(LEFT(RTD(\"cqg.rtd\", ,\"ContractData\",B24, \"LastTrade\",, \"T\"),3)=\"768\",\"\",IFERROR(IF(I24>J24,\"+\"&I24-J24,I24-J24)*1,\"\"))","v":-604},{"$f":"IF(LEFT(RTD(\"cqg.rtd\", ,\"ContractData\",B24, \"LastTrade\",, \"T\"),3)=\"768\",\"\",RTD(\"cqg.rtd\",,\"StudyData\",B24,  \"Bar\",,  \"ContractOI\", \"D\", \"-1\",,,,,\"T\"))","v":2155},{"$f":"IF(LEFT(RTD(\"cqg.rtd\", ,\"ContractData\",B24, \"LastTrade\",, \"T\"),3)=\"768\",\"\",RTD(\"cqg.rtd\",,\"StudyData\",B24,  \"Bar\",,  \"ContractOI\", \"D\", \"-2\",,,,,\"T\"))","v":1892},{"$f":"IF(LEFT(RTD(\"cqg.rtd\", ,\"ContractData\",B24, \"LastTrade\",, \"T\"),3)=\"768\",\"\",IFERROR(IF(L24>M24,\"+\"&L24-M24,L24-M24)*1,\"\"))","v":263}]
[{"$f":"'Call Data'!A25","v":5800},{"$f":"\"P\"&RIGHT('Call Data'!B25,LEN('Call Data'!B25)-1)","v":"P.US.CLEJ265800"},{"$f":"IF(LEFT(RTD(\"cqg.rtd\", ,\"ContractData\",B25, \"LastTrade\",, \"T\"),3)=\"768\",\"\",RTD(\"cqg.rtd\", ,\"ContractData\",B25, \"LastTrade\",, \"T\"))","v":0.06},{"$f":"IF(C25=\"\",\"\",RTD(\"cqg.rtd\", ,\"ContractData\",B25, \"NetLastTrade\",, \"T\"))","v":0},{"$f":"IF(LEFT(RTD(\"cqg.rtd\", ,\"ContractData\",B25, \"LastTrade\",, \"T\"),3)=\"768\",\"\",RTD(\"cqg.rtd\", ,\"ContractData\",B25, \"MT_LastBidVolume\",, \"T\"))","v":1},{"$f":"IF(LEFT(RTD(\"cqg.rtd\", ,\"ContractData\",B25, \"LastTrade\",, \"T\"),3)=\"768\",\"\",RTD(\"cqg.rtd\", ,\"ContractData\",B25, \"Bid\",, \"T\"))","v":0.03},{"$f":"IF(LEFT(RTD(\"cqg.rtd\", ,\"ContractData\",B25, \"LastTrade\",, \"T\"),3)=\"768\",\"\",RTD(\"cqg.rtd\", ,\"ContractData\",B25, \"Ask\",, \"T\"))","v":0.04},{"$f":"IF(LEFT(RTD(\"cqg.rtd\", ,\"ContractData\",B25, \"LastTrade\",, \"T\"),3)=\"768\",\"\",RTD(\"cqg.rtd\", ,\"ContractData\",B25, \"MT_LastAskVolume\",, \"T\"))","v":1},{"$f":"IF(LEFT(RTD(\"cqg.rtd\", ,\"ContractData\",B25, \"LastTrade\",, \"T\"),3)=\"768\",\"\",RTD(\"cqg.rtd\", ,\"ContractData\",B25, \"T_CVol\",, \"T\"))","v":58},{"$f":"IF(LEFT(RTD(\"cqg.rtd\", ,\"ContractData\",B25, \"LastTrade\",, \"T\"),3)=\"768\",\"\",RTD(\"cqg.rtd\", ,\"ContractData\",B25, \"Y_CVol\",, \"T\"))","v":619},{"$f":"IF(LEFT(RTD(\"cqg.rtd\", ,\"ContractData\",B25, \"LastTrade\",, \"T\"),3)=\"768\",\"\",IFERROR(IF(I25>J25,\"+\"&I25-J25,I25-J25)*1,\"\"))","v":-561},{"$f":"IF(LEFT(RTD(\"cqg.rtd\", ,\"ContractData\",B25, \"LastTrade\",, \"T\"),3)=\"768\",\"\",RTD(\"cqg.rtd\",,\"StudyData\",B25,  \"Bar\",,  \"ContractOI\", \"D\", \"-1\",,,,,\"T\"))","v":3483},{"$f":"IF(LEFT(RTD(\"cqg.rtd\", ,\"ContractData\",B25, \"LastTrade\",, \"T\"),3)=\"768\",\"\",RTD(\"cqg.rtd\",,\"StudyData\",B25,  \"Bar\",,  \"ContractOI\", \"D\", \"-2\",,,,,\"T\"))","v":3185},{"$f":"IF(LEFT(RTD(\"cqg.rtd\", ,\"ContractData\",B25, \"LastTrade\",, \"T\"),3)=\"768\",\"\",IFERROR(IF(L25>M25,\"+\"&L25-M25,L25-M25)*1,\"\"))","v":298}]
[{"$f":"'Call Data'!A26","v":5850},{"$f":"\"P\"&RIGHT('Call Data'!B26,LEN('Call Data'!B26)-1)","v":"P.US.CLEJ265850"},{"$f":"IF(LEFT(RTD(\"cqg.rtd\", ,\"ContractData\",B26, \"LastTrade\",, \"T\"),3)=\"768\",\"\",RTD(\"cqg.rtd\", ,\"ContractData\",B26, \"LastTrade\",, \"T\"))","v":0.09},{"$f":"IF(C26=\"\",\"\",RTD(\"cqg.rtd\", ,\"ContractData\",B26, \"NetLastTrade\",, \"T\"))","v":1.999999999999999E-2},{"$f":"IF(LEFT(RTD(\"cqg.rtd\", ,\"ContractData\",B26, \"LastTrade\",, \"T\"),3)=\"768\",\"\",RTD(\"cqg.rtd\", ,\"ContractData\",B26, \"MT_LastBidVolume\",, \"T\"))","v":30},{"$f":"IF(LEFT(RTD(\"cqg.rtd\", ,\"ContractData\",B26, \"LastTrade\",, \"T\"),3)=\"768\",\"\",RTD(\"cqg.rtd\", ,\"ContractData\",B26, \"Bid\",, \"T\"))","v":0.03},{"$f":"IF(LEFT(RTD(\"cqg.rtd\", ,\"ContractData\",B26, \"LastTrade\",, \"T\"),3)=\"768\",\"\",RTD(\"cqg.rtd\", ,\"ContractData\",B26, \"Ask\",, \"T\"))","v":0.05},{"$f":"IF(LEFT(RTD(\"cqg.rtd\", ,\"ContractData\",B26, \"LastTrade\",, \"T\"),3)=\"768\",\"\",RTD(\"cqg.rtd\", ,\"ContractData\",B26, \"MT_LastAskVolume\",, \"T\"))","v":39},{"$f":"IF(LEFT(RTD(\"cqg.rtd\", ,\"ContractData\",B26, \"LastTrade\",, \"T\"),3)=\"768\",\"\",RTD(\"cqg.rtd\", ,\"ContractData\",B26, \"T_CVol\",, \"T\"))","v":0},{"$f":"IF(LEFT(RTD(\"cqg.rtd\", ,\"ContractData\",B26, \"LastTrade\",, \"T\"),3)=\"768\",\"\",RTD(\"cqg.rtd\", ,\"ContractData\",B26, \"Y_CVol\",, \"T\"))","v":11},{"$f":"IF(LEFT(RTD(\"cqg.rtd\", ,\"ContractData\",B26, \"LastTrade\",, \"T\"),3)=\"768\",\"\",IFERROR(IF(I26>J26,\"+\"&I26-J26,I26-J26)*1,\"\"))","v":-11},{"$f":"IF(LEFT(RTD(\"cqg.rtd\", ,\"ContractData\",B26, \"LastTrade\",, \"T\"),3)=\"768\",\"\",RTD(\"cqg.rtd\",,\"StudyData\",B26,  \"Bar\",,  \"ContractOI\", \"D\", \"-1\",,,,,\"T\"))","v":1959},{"$f":"IF(LEFT(RTD(\"cqg.rtd\", ,\"ContractData\",B26, \"LastTrade\",, \"T\"),3)=\"768\",\"\",RTD(\"cqg.rtd\",,\"StudyData\",B26,  \"Bar\",,  \"ContractOI\", \"D\", \"-2\",,,,,\"T\"))","v":1960},{"$f":"IF(LEFT(RTD(\"cqg.rtd\", ,\"ContractData\",B26, \"LastTrade\",, \"T\"),3)=\"768\",\"\",IFERROR(IF(L26>M26,\"+\"&L26-M26,L26-M26)*1,\"\"))","v":-1}]
[{"$f":"'Call Data'!A27","v":5900},{"$f":"\"P\"&RIGHT('Call Data'!B27,LEN('Call Data'!B27)-1)","v":"P.US.CLEJ265900"},{"$f":"IF(LEFT(RTD(\"cqg.rtd\", ,\"ContractData\",B27, \"LastTrade\",, \"T\"),3)=\"768\",\"\",RTD(\"cqg.rtd\", ,\"ContractData\",B27, \"LastTrade\",, \"T\"))","v":7.0000000000000007E-2},{"$f":"IF(C27=\"\",\"\",RTD(\"cqg.rtd\", ,\"ContractData\",B27, \"NetLastTrade\",, \"T\"))","v":0},{"$f":"IF(LEFT(RTD(\"cqg.rtd\", ,\"ContractData\",B27, \"LastTrade\",, \"T\"),3)=\"768\",\"\",RTD(\"cqg.rtd\", ,\"ContractData\",B27, \"MT_LastBidVolume\",, \"T\"))","v":39},{"$f":"IF(LEFT(RTD(\"cqg.rtd\", ,\"ContractData\",B27, \"LastTrade\",, \"T\"),3)=\"768\",\"\",RTD(\"cqg.rtd\", ,\"ContractData\",B27, \"Bid\",, \"T\"))","v":0.03},{"$f":"IF(LEFT(RTD(\"cqg.rtd\", ,\"ContractData\",B27, \"LastTrade\",, \"T\"),3)=\"768\",\"\",RTD(\"cqg.rtd\", ,\"ContractData\",B27, \"Ask\",, \"T\"))","v":0.05},{"$f":"IF(LEFT(RTD(\"cqg.rtd\", ,\"ContractData\",B27, \"LastTrade\",, \"T\"),3)=\"768\",\"\",RTD(\"cqg.rtd\", ,\"ContractData\",B27, \"MT_LastAskVolume\",, \"T\"))","v":39},{"$f":"IF(LEFT(RTD(\"cqg.rtd\", ,\"ContractData\",B27, \"LastTrade\",, \"T\"),3)=\"768\",\"\",RTD(\"cqg.rtd\", ,\"ContractData\",B27, \"T_CVol\",, \"T\"))","v":7},{"$f":"IF(LEFT(RTD(\"cqg.rtd\", ,\"ContractData\",B27, \"LastTrade\",, \"T\"),3)=\"768\",\"\",RTD(\"cqg.rtd\", ,\"ContractData\",B27, \"Y_CVol\",, \"T\"))","v":123},{"$f":"IF(LEFT(RTD(\"cqg.rtd\", ,\"ContractData\",B27, \"LastTrade\",, \"T\"),3)=\"768\",\"\",IFERROR(IF(I27>J27,\"+\"&I27-J27,I27-J27)*1,\"\"))","v":-116},{"$f":"IF(LEFT(RTD(\"cqg.rtd\", ,\"ContractData\",B27, \"LastTrade\",, \"T\"),3)=\"768\",\"\",RTD(\"cqg.rtd\",,\"StudyData\",B27,  \"Bar\",,  \"ContractOI\", \"D\", \"-1\",,,,,\"T\"))","v":4580},{"$f":"IF(LEFT(RTD(\"cqg.rtd\", ,\"ContractData\",B27, \"LastTrade\",, \"T\"),3)=\"768\",\"\",RTD(\"cqg.rtd\",,\"StudyData\",B27,  \"Bar\",,  \"ContractOI\", \"D\", \"-2\",,,,,\"T\"))","v":4605},{"$f":"IF(LEFT(RTD(\"cqg.rtd\", ,\"ContractData\",B27, \"LastTrade\",, \"T\"),3)=\"768\",\"\",IFERROR(IF(L27>M27,\"+\"&L27-M27,L27-M27)*1,\"\"))","v":-25}]
[{"$f":"'Call Data'!A28","v":5950},{"$f":"\"P\"&RIGHT('Call Data'!B28,LEN('Call Data'!B28)-1)","v":"P.US.CLEJ265950"},{"$f":"IF(LEFT(RTD(\"cqg.rtd\", ,\"ContractData\",B28, \"LastTrade\",, \"T\"),3)=\"768\",\"\",RTD(\"cqg.rtd\", ,\"ContractData\",B28, \"LastTrade\",, \"T\"))","v":0.05},{"$f":"IF(C28=\"\",\"\",RTD(\"cqg.rtd\", ,\"ContractData\",B28, \"NetLastTrade\",, \"T\"))","v":-0.03},{"$f":"IF(LEFT(RTD(\"cqg.rtd\", ,\"ContractData\",B28, \"LastTrade\",, \"T\"),3)=\"768\",\"\",RTD(\"cqg.rtd\", ,\"ContractData\",B28, \"MT_LastBidVolume\",, \"T\"))","v":38},{"$f":"IF(LEFT(RTD(\"cqg.rtd\", ,\"ContractData\",B28, \"LastTrade\",, \"T\"),3)=\"768\",\"\",RTD(\"cqg.rtd\", ,\"ContractData\",B28, \"Bid\",, \"T\"))","v":0.03},{"$f":"IF(LEFT(RTD(\"cqg.rtd\", ,\"ContractData\",B28, \"LastTrade\",, \"T\"),3)=\"768\",\"\",RTD(\"cqg.rtd\", ,\"ContractData\",B28, \"Ask\",, \"T\"))","v":0.06},{"$f":"IF(LEFT(RTD(\"cqg.rtd\", ,\"ContractData\",B28, \"LastTrade\",, \"T\"),3)=\"768\",\"\",RTD(\"cqg.rtd\", ,\"ContractData\",B28, \"MT_LastAskVolume\",, \"T\"))","v":38},{"$f":"IF(LEFT(RTD(\"cqg.rtd\", ,\"ContractData\",B28, \"LastTrade\",, \"T\"),3)=\"768\",\"\",RTD(\"cqg.rtd\", ,\"ContractData\",B28, \"T_CVol\",, \"T\"))","v":1},{"$f":"IF(LEFT(RTD(\"cqg.rtd\", ,\"ContractData\",B28, \"LastTrade\",, \"T\"),3)=\"768\",\"\",RTD(\"cqg.rtd\", ,\"ContractData\",B28, \"Y_CVol\",, \"T\"))","v":84},{"$f":"IF(LEFT(RTD(\"cqg.rtd\", ,\"ContractData\",B28, \"LastTrade\",, \"T\"),3)=\"768\",\"\",IFERROR(IF(I28>J28,\"+\"&I28-J28,I28-J28)*1,\"\"))","v":-83},{"$f":"IF(LEFT(RTD(\"cqg.rtd\", ,\"ContractData\",B28, \"LastTrade\",, \"T\"),3)=\"768\",\"\",RTD(\"cqg.rtd\",,\"StudyData\",B28,  \"Bar\",,  \"ContractOI\", \"D\", \"-1\",,,,,\"T\"))","v":2541},{"$f":"IF(LEFT(RTD(\"cqg.rtd\", ,\"ContractData\",B28, \"LastTrade\",, \"T\"),3)=\"768\",\"\",RTD(\"cqg.rtd\",,\"StudyData\",B28,  \"Bar\",,  \"ContractOI\", \"D\", \"-2\",,,,,\"T\"))","v":2502},{"$f":"IF(LEFT(RTD(\"cqg.rtd\", ,\"ContractData\",B28, \"LastTrade\",, \"T\"),3)=\"768\",\"\",IFERROR(IF(L28>M28,\"+\"&L28-M28,L28-M28)*1,\"\"))","v":39}]
[{"$f":"'Call Data'!A29","v":6000},{"$f":"\"P\"&RIGHT('Call Data'!B29,LEN('Call Data'!B29)-1)","v":"P.US.CLEJ266000"},{"$f":"IF(LEFT(RTD(\"cqg.rtd\", ,\"ContractData\",B29, \"LastTrade\",, \"T\"),3)=\"768\",\"\",RTD(\"cqg.rtd\", ,\"ContractData\",B29, \"LastTrade\",, \"T\"))","v":0.03},{"$f":"IF(C29=\"\",\"\",RTD(\"cqg.rtd\", ,\"ContractData\",B29, \"NetLastTrade\",, \"T\"))","v":-0.06},{"$f":"IF(LEFT(RTD(\"cqg.rtd\", ,\"ContractData\",B29, \"LastTrade\",, \"T\"),3)=\"768\",\"\",RTD(\"cqg.rtd\", ,\"ContractData\",B29, \"MT_LastBidVolume\",, \"T\"))","v":18},{"$f":"IF(LEFT(RTD(\"cqg.rtd\", ,\"ContractData\",B29, \"LastTrade\",, \"T\"),3)=\"768\",\"\",RTD(\"cqg.rtd\", ,\"ContractData\",B29, \"Bid\",, \"T\"))","v":0.04},{"$f":"IF(LEFT(RTD(\"cqg.rtd\", ,\"ContractData\",B29, \"LastTrade\",, \"T\"),3)=\"768\",\"\",RTD(\"cqg.rtd\", ,\"ContractData\",B29, \"Ask\",, \"T\"))","v":0.06},{"$f":"IF(LEFT(RTD(\"cqg.rtd\", ,\"ContractData\",B29, \"LastTrade\",, \"T\"),3)=\"768\",\"\",RTD(\"cqg.rtd\", ,\"ContractData\",B29, \"MT_LastAskVolume\",, \"T\"))","v":4},{"$f":"IF(LEFT(RTD(\"cqg.rtd\", ,\"ContractData\",B29, \"LastTrade\",, \"T\"),3)=\"768\",\"\",RTD(\"cqg.rtd\", ,\"ContractData\",B29, \"T_CVol\",, \"T\"))","v":36},{"$f":"IF(LEFT(RTD(\"cqg.rtd\", ,\"ContractData\",B29, \"LastTrade\",, \"T\"),3)=\"768\",\"\",RTD(\"cqg.rtd\", ,\"ContractData\",B29, \"Y_CVol\",, \"T\"))","v":1281},{"$f":"IF(LEFT(RTD(\"cqg.rtd\", ,\"ContractData\",B29, \"LastTrade\",, \"T\"),3)=\"768\",\"\",IFERROR(IF(I29>J29,\"+\"&I29-J29,I29-J29)*1,\"\"))","v":-1245},{"$f":"IF(LEFT(RTD(\"cqg.rtd\", ,\"ContractData\",B29, \"LastTrade\",, \"T\"),3)=\"768\",\"\",RTD(\"cqg.rtd\",,\"StudyData\",B29,  \"Bar\",,  \"ContractOI\", \"D\", \"-1\",,,,,\"T\"))","v":22253},{"$f":"IF(LEFT(RTD(\"cqg.rtd\", ,\"ContractData\",B29, \"LastTrade\",, \"T\"),3)=\"768\",\"\",RTD(\"cqg.rtd\",,\"StudyData\",B29,  \"Bar\",,  \"ContractOI\", \"D\", \"-2\",,,,,\"T\"))","v":22210},{"$f":"IF(LEFT(RTD(\"cqg.rtd\", ,\"ContractData\",B29, \"LastTrade\",, \"T\"),3)=\"768\",\"\",IFERROR(IF(L29>M29,\"+\"&L29-M29,L29-M29)*1,\"\"))","v":43}]
[{"$f":"'Call Data'!A30","v":6050},{"$f":"\"P\"&RIGHT('Call Data'!B30,LEN('Call Data'!B30)-1)","v":"P.US.CLEJ266050"},{"$f":"IF(LEFT(RTD(\"cqg.rtd\", ,\"ContractData\",B30, \"LastTrade\",, \"T\"),3)=\"768\",\"\",RTD(\"cqg.rtd\", ,\"ContractData\",B30, \"LastTrade\",, \"T\"))","v":0.08},{"$f":"IF(C30=\"\",\"\",RTD(\"cqg.rtd\", ,\"ContractData\",B30, \"NetLastTrade\",, \"T\"))","v":-2.0000000000000004E-2},{"$f":"IF(LEFT(RTD(\"cqg.rtd\", ,\"ContractData\",B30, \"LastTrade\",, \"T\"),3)=\"768\",\"\",RTD(\"cqg.rtd\", ,\"ContractData\",B30, \"MT_LastBidVolume\",, \"T\"))","v":37},{"$f":"IF(LEFT(RTD(\"cqg.rtd\", ,\"ContractData\",B30, \"LastTrade\",, \"T\"),3)=\"768\",\"\",RTD(\"cqg.rtd\", ,\"ContractData\",B30, \"Bid\",, \"T\"))","v":0.04},{"$f":"IF(LEFT(RTD(\"cqg.rtd\", ,\"ContractData\",B30, \"LastTrade\",, \"T\"),3)=\"768\",\"\",RTD(\"cqg.rtd\", ,\"ContractData\",B30, \"Ask\",, \"T\"))","v":0.06},{"$f":"IF(LEFT(RTD(\"cqg.rtd\", ,\"ContractData\",B30, \"LastTrade\",, \"T\"),3)=\"768\",\"\",RTD(\"cqg.rtd\", ,\"ContractData\",B30, \"MT_LastAskVolume\",, \"T\"))","v":39},{"$f":"IF(LEFT(RTD(\"cqg.rtd\", ,\"ContractData\",B30, \"LastTrade\",, \"T\"),3)=\"768\",\"\",RTD(\"cqg.rtd\", ,\"ContractData\",B30, \"T_CVol\",, \"T\"))","v":0},{"$f":"IF(LEFT(RTD(\"cqg.rtd\", ,\"ContractData\",B30, \"LastTrade\",, \"T\"),3)=\"768\",\"\",RTD(\"cqg.rtd\", ,\"ContractData\",B30, \"Y_CVol\",, \"T\"))","v":33},{"$f":"IF(LEFT(RTD(\"cqg.rtd\", ,\"ContractData\",B30, \"LastTrade\",, \"T\"),3)=\"768\",\"\",IFERROR(IF(I30>J30,\"+\"&I30-J30,I30-J30)*1,\"\"))","v":-33},{"$f":"IF(LEFT(RTD(\"cqg.rtd\", ,\"ContractData\",B30, \"LastTrade\",, \"T\"),3)=\"768\",\"\",RTD(\"cqg.rtd\",,\"StudyData\",B30,  \"Bar\",,  \"ContractOI\", \"D\", \"-1\",,,,,\"T\"))","v":1461},{"$f":"IF(LEFT(RTD(\"cqg.rtd\", ,\"ContractData\",B30, \"LastTrade\",, \"T\"),3)=\"768\",\"\",RTD(\"cqg.rtd\",,\"StudyData\",B30,  \"Bar\",,  \"ContractOI\", \"D\", \"-2\",,,,,\"T\"))","v":1478},{"$f":"IF(LEFT(RTD(\"cqg.rtd\", ,\"ContractData\",B30, \"LastTrade\",, \"T\"),3)=\"768\",\"\",IFERROR(IF(L30>M30,\"+\"&L30-M30,L30-M30)*1,\"\"))","v":-17}]
[{"$f":"'Call Data'!A31","v":6100},{"$f":"\"P\"&RIGHT('Call Data'!B31,LEN('Call Data'!B31)-1)","v":"P.US.CLEJ266100"},{"$f":"IF(LEFT(RTD(\"cqg.rtd\", ,\"ContractData\",B31, \"LastTrade\",, \"T\"),3)=\"768\",\"\",RTD(\"cqg.rtd\", ,\"ContractData\",B31, \"LastTrade\",, \"T\"))","v":0.08},{"$f":"IF(C31=\"\",\"\",RTD(\"cqg.rtd\", ,\"ContractData\",B31, \"NetLastTrade\",, \"T\"))","v":-0.03},{"$f":"IF(LEFT(RTD(\"cqg.rtd\", ,\"ContractData\",B31, \"LastTrade\",, \"T\"),3)=\"768\",\"\",RTD(\"cqg.rtd\", ,\"ContractData\",B31, \"MT_LastBidVolume\",, \"T\"))","v":42},{"$f":"IF(LEFT(RTD(\"cqg.rtd\", ,\"ContractData\",B31, \"LastTrade\",, \"T\"),3)=\"768\",\"\",RTD(\"cqg.rtd\", ,\"ContractData\",B31, \"Bid\",, \"T\"))","v":0.04},{"$f":"IF(LEFT(RTD(\"cqg.rtd\", ,\"ContractData\",B31, \"LastTrade\",, \"T\"),3)=\"768\",\"\",RTD(\"cqg.rtd\", ,\"ContractData\",B31, \"Ask\",, \"T\"))","v":7.0000000000000007E-2},{"$f":"IF(LEFT(RTD(\"cqg.rtd\", ,\"ContractData\",B31, \"LastTrade\",, \"T\"),3)=\"768\",\"\",RTD(\"cqg.rtd\", ,\"ContractData\",B31, \"MT_LastAskVolume\",, \"T\"))","v":45},{"$f":"IF(LEFT(RTD(\"cqg.rtd\", ,\"ContractData\",B31, \"LastTrade\",, \"T\"),3)=\"768\",\"\",RTD(\"cqg.rtd\", ,\"ContractData\",B31, \"T_CVol\",, \"T\"))","v":12},{"$f":"IF(LEFT(RTD(\"cqg.rtd\", ,\"ContractData\",B31, \"LastTrade\",, \"T\"),3)=\"768\",\"\",RTD(\"cqg.rtd\", ,\"ContractData\",B31, \"Y_CVol\",, \"T\"))","v":31},{"$f":"IF(LEFT(RTD(\"cqg.rtd\", ,\"ContractData\",B31, \"LastTrade\",, \"T\"),3)=\"768\",\"\",IFERROR(IF(I31>J31,\"+\"&I31-J31,I31-J31)*1,\"\"))","v":-19},{"$f":"IF(LEFT(RTD(\"cqg.rtd\", ,\"ContractData\",B31, \"LastTrade\",, \"T\"),3)=\"768\",\"\",RTD(\"cqg.rtd\",,\"StudyData\",B31,  \"Bar\",,  \"ContractOI\", \"D\", \"-1\",,,,,\"T\"))","v":6661},{"$f":"IF(LEFT(RTD(\"cqg.rtd\", ,\"ContractData\",B31, \"LastTrade\",, \"T\"),3)=\"768\",\"\",RTD(\"cqg.rtd\",,\"StudyData\",B31,  \"Bar\",,  \"ContractOI\", \"D\", \"-2\",,,,,\"T\"))","v":6672},{"$f":"IF(LEFT(RTD(\"cqg.rtd\", ,\"ContractData\",B31, \"LastTrade\",, \"T\"),3)=\"768\",\"\",IFERROR(IF(L31>M31,\"+\"&L31-M31,L31-M31)*1,\"\"))","v":-11}]
[{"$f":"'Call Data'!A32","v":6150},{"$f":"\"P\"&RIGHT('Call Data'!B32,LEN('Call Data'!B32)-1)","v":"P.US.CLEJ266150"},{"$f":"IF(LEFT(RTD(\"cqg.rtd\", ,\"ContractData\",B32, \"LastTrade\",, \"T\"),3)=\"768\",\"\",RTD(\"cqg.rtd\", ,\"ContractData\",B32, \"LastTrade\",, \"T\"))","v":0.11},{"$f":"IF(C32=\"\",\"\",RTD(\"cqg.rtd\", ,\"ContractData\",B32, \"NetLastTrade\",, \"T\"))","v":-9.9999999999999811E-3},{"$f":"IF(LEFT(RTD(\"cqg.rtd\", ,\"ContractData\",B32, \"LastTrade\",, \"T\"),3)=\"768\",\"\",RTD(\"cqg.rtd\", ,\"ContractData\",B32, \"MT_LastBidVolume\",, \"T\"))","v":9},{"$f":"IF(LEFT(RTD(\"cqg.rtd\", ,\"ContractData\",B32, \"LastTrade\",, \"T\"),3)=\"768\",\"\",RTD(\"cqg.rtd\", ,\"ContractData\",B32, \"Bid\",, \"T\"))","v":0.05},{"$f":"IF(LEFT(RTD(\"cqg.rtd\", ,\"ContractData\",B32, \"LastTrade\",, \"T\"),3)=\"768\",\"\",RTD(\"cqg.rtd\", ,\"ContractData\",B32, \"Ask\",, \"T\"))","v":7.0000000000000007E-2},{"$f":"IF(LEFT(RTD(\"cqg.rtd\", ,\"ContractData\",B32, \"LastTrade\",, \"T\"),3)=\"768\",\"\",RTD(\"cqg.rtd\", ,\"ContractData\",B32, \"MT_LastAskVolume\",, \"T\"))","v":44},{"$f":"IF(LEFT(RTD(\"cqg.rtd\", ,\"ContractData\",B32, \"LastTrade\",, \"T\"),3)=\"768\",\"\",RTD(\"cqg.rtd\", ,\"ContractData\",B32, \"T_CVol\",, \"T\"))","v":0},{"$f":"IF(LEFT(RTD(\"cqg.rtd\", ,\"ContractData\",B32, \"LastTrade\",, \"T\"),3)=\"768\",\"\",RTD(\"cqg.rtd\", ,\"ContractData\",B32, \"Y_CVol\",, \"T\"))","v":26},{"$f":"IF(LEFT(RTD(\"cqg.rtd\", ,\"ContractData\",B32, \"LastTrade\",, \"T\"),3)=\"768\",\"\",IFERROR(IF(I32>J32,\"+\"&I32-J32,I32-J32)*1,\"\"))","v":-26},{"$f":"IF(LEFT(RTD(\"cqg.rtd\", ,\"ContractData\",B32, \"LastTrade\",, \"T\"),3)=\"768\",\"\",RTD(\"cqg.rtd\",,\"StudyData\",B32,  \"Bar\",,  \"ContractOI\", \"D\", \"-1\",,,,,\"T\"))","v":1561},{"$f":"IF(LEFT(RTD(\"cqg.rtd\", ,\"ContractData\",B32, \"LastTrade\",, \"T\"),3)=\"768\",\"\",RTD(\"cqg.rtd\",,\"StudyData\",B32,  \"Bar\",,  \"ContractOI\", \"D\", \"-2\",,,,,\"T\"))","v":1567},{"$f":"IF(LEFT(RTD(\"cqg.rtd\", ,\"ContractData\",B32, \"LastTrade\",, \"T\"),3)=\"768\",\"\",IFERROR(IF(L32>M32,\"+\"&L32-M32,L32-M32)*1,\"\"))","v":-6}]
[{"$f":"'Call Data'!A33","v":6200},{"$f":"\"P\"&RIGHT('Call Data'!B33,LEN('Call Data'!B33)-1)","v":"P.US.CLEJ266200"},{"$f":"IF(LEFT(RTD(\"cqg.rtd\", ,\"ContractData\",B33, \"LastTrade\",, \"T\"),3)=\"768\",\"\",RTD(\"cqg.rtd\", ,\"ContractData\",B33, \"LastTrade\",, \"T\"))","v":7.0000000000000007E-2},{"$f":"IF(C33=\"\",\"\",RTD(\"cqg.rtd\", ,\"ContractData\",B33, \"NetLastTrade\",, \"T\"))","v":-0.06},{"$f":"IF(LEFT(RTD(\"cqg.rtd\", ,\"ContractData\",B33, \"LastTrade\",, \"T\"),3)=\"768\",\"\",RTD(\"cqg.rtd\", ,\"ContractData\",B33, \"MT_LastBidVolume\",, \"T\"))","v":36},{"$f":"IF(LEFT(RTD(\"cqg.rtd\", ,\"ContractData\",B33, \"LastTrade\",, \"T\"),3)=\"768\",\"\",RTD(\"cqg.rtd\", ,\"ContractData\",B33, \"Bid\",, \"T\"))","v":0.05},{"$f":"IF(LEFT(RTD(\"cqg.rtd\", ,\"ContractData\",B33, \"LastTrade\",, \"T\"),3)=\"768\",\"\",RTD(\"cqg.rtd\", ,\"ContractData\",B33, \"Ask\",, \"T\"))","v":0.08},{"$f":"IF(LEFT(RTD(\"cqg.rtd\", ,\"ContractData\",B33, \"LastTrade\",, \"T\"),3)=\"768\",\"\",RTD(\"cqg.rtd\", ,\"ContractData\",B33, \"MT_LastAskVolume\",, \"T\"))","v":38},{"$f":"IF(LEFT(RTD(\"cqg.rtd\", ,\"ContractData\",B33, \"LastTrade\",, \"T\"),3)=\"768\",\"\",RTD(\"cqg.rtd\", ,\"ContractData\",B33, \"T_CVol\",, \"T\"))","v":16},{"$f":"IF(LEFT(RTD(\"cqg.rtd\", ,\"ContractData\",B33, \"LastTrade\",, \"T\"),3)=\"768\",\"\",RTD(\"cqg.rtd\", ,\"ContractData\",B33, \"Y_CVol\",, \"T\"))","v":566},{"$f":"IF(LEFT(RTD(\"cqg.rtd\", ,\"ContractData\",B33, \"LastTrade\",, \"T\"),3)=\"768\",\"\",IFERROR(IF(I33>J33,\"+\"&I33-J33,I33-J33)*1,\"\"))","v":-550},{"$f":"IF(LEFT(RTD(\"cqg.rtd\", ,\"ContractData\",B33, \"LastTrade\",, \"T\"),3)=\"768\",\"\",RTD(\"cqg.rtd\",,\"StudyData\",B33,  \"Bar\",,  \"ContractOI\", \"D\", \"-1\",,,,,\"T\"))","v":7946},{"$f":"IF(LEFT(RTD(\"cqg.rtd\", ,\"ContractData\",B33, \"LastTrade\",, \"T\"),3)=\"768\",\"\",RTD(\"cqg.rtd\",,\"StudyData\",B33,  \"Bar\",,  \"ContractOI\", \"D\", \"-2\",,,,,\"T\"))","v":7863},{"$f":"IF(LEFT(RTD(\"cqg.rtd\", ,\"ContractData\",B33, \"LastTrade\",, \"T\"),3)=\"768\",\"\",IFERROR(IF(L33>M33,\"+\"&L33-M33,L33-M33)*1,\"\"))","v":83}]
[{"$f":"'Call Data'!A34","v":6250},{"$f":"\"P\"&RIGHT('Call Data'!B34,LEN('Call Data'!B34)-1)","v":"P.US.CLEJ266250"},{"$f":"IF(LEFT(RTD(\"cqg.rtd\", ,\"ContractData\",B34, \"LastTrade\",, \"T\"),3)=\"768\",\"\",RTD(\"cqg.rtd\", ,\"ContractData\",B34, \"LastTrade\",, \"T\"))","v":0.13},{"$f":"IF(C34=\"\",\"\",RTD(\"cqg.rtd\", ,\"ContractData\",B34, \"NetLastTrade\",, \"T\"))","v":-1.0000000000000009E-2},{"$f":"IF(LEFT(RTD(\"cqg.rtd\", ,\"ContractData\",B34, \"LastTrade\",, \"T\"),3)=\"768\",\"\",RTD(\"cqg.rtd\", ,\"ContractData\",B34, \"MT_LastBidVolume\",, \"T\"))","v":9},{"$f":"IF(LEFT(RTD(\"cqg.rtd\", ,\"ContractData\",B34, \"LastTrade\",, \"T\"),3)=\"768\",\"\",RTD(\"cqg.rtd\", ,\"ContractData\",B34, \"Bid\",, \"T\"))","v":0.06},{"$f":"IF(LEFT(RTD(\"cqg.rtd\", ,\"ContractData\",B34, \"LastTrade\",, \"T\"),3)=\"768\",\"\",RTD(\"cqg.rtd\", ,\"ContractData\",B34, \"Ask\",, \"T\"))","v":0.08},{"$f":"IF(LEFT(RTD(\"cqg.rtd\", ,\"ContractData\",B34, \"LastTrade\",, \"T\"),3)=\"768\",\"\",RTD(\"cqg.rtd\", ,\"ContractData\",B34, \"MT_LastAskVolume\",, \"T\"))","v":30},{"$f":"IF(LEFT(RTD(\"cqg.rtd\", ,\"ContractData\",B34, \"LastTrade\",, \"T\"),3)=\"768\",\"\",RTD(\"cqg.rtd\", ,\"ContractData\",B34, \"T_CVol\",, \"T\"))","v":1},{"$f":"IF(LEFT(RTD(\"cqg.rtd\", ,\"ContractData\",B34, \"LastTrade\",, \"T\"),3)=\"768\",\"\",RTD(\"cqg.rtd\", ,\"ContractData\",B34, \"Y_CVol\",, \"T\"))","v":164},{"$f":"IF(LEFT(RTD(\"cqg.rtd\", ,\"ContractData\",B34, \"LastTrade\",, \"T\"),3)=\"768\",\"\",IFERROR(IF(I34>J34,\"+\"&I34-J34,I34-J34)*1,\"\"))","v":-163},{"$f":"IF(LEFT(RTD(\"cqg.rtd\", ,\"ContractData\",B34, \"LastTrade\",, \"T\"),3)=\"768\",\"\",RTD(\"cqg.rtd\",,\"StudyData\",B34,  \"Bar\",,  \"ContractOI\", \"D\", \"-1\",,,,,\"T\"))","v":1942},{"$f":"IF(LEFT(RTD(\"cqg.rtd\", ,\"ContractData\",B34, \"LastTrade\",, \"T\"),3)=\"768\",\"\",RTD(\"cqg.rtd\",,\"StudyData\",B34,  \"Bar\",,  \"ContractOI\", \"D\", \"-2\",,,,,\"T\"))","v":1869},{"$f":"IF(LEFT(RTD(\"cqg.rtd\", ,\"ContractData\",B34, \"LastTrade\",, \"T\"),3)=\"768\",\"\",IFERROR(IF(L34>M34,\"+\"&L34-M34,L34-M34)*1,\"\"))","v":73}]
[{"$f":"'Call Data'!A35","v":6300},{"$f":"\"P\"&RIGHT('Call Data'!B35,LEN('Call Data'!B35)-1)","v":"P.US.CLEJ266300"},{"$f":"IF(LEFT(RTD(\"cqg.rtd\", ,\"ContractData\",B35, \"LastTrade\",, \"T\"),3)=\"768\",\"\",RTD(\"cqg.rtd\", ,\"ContractData\",B35, \"LastTrade\",, \"T\"))","v":7.0000000000000007E-2},{"$f":"IF(C35=\"\",\"\",RTD(\"cqg.rtd\", ,\"ContractData\",B35, \"NetLastTrade\",, \"T\"))","v":-0.09},{"$f":"IF(LEFT(RTD(\"cqg.rtd\", ,\"ContractData\",B35, \"LastTrade\",, \"T\"),3)=\"768\",\"\",RTD(\"cqg.rtd\", ,\"ContractData\",B35, \"MT_LastBidVolume\",, \"T\"))","v":40},{"$f":"IF(LEFT(RTD(\"cqg.rtd\", ,\"ContractData\",B35, \"LastTrade\",, \"T\"),3)=\"768\",\"\",RTD(\"cqg.rtd\", ,\"ContractData\",B35, \"Bid\",, \"T\"))","v":0.06},{"$f":"IF(LEFT(RTD(\"cqg.rtd\", ,\"ContractData\",B35, \"LastTrade\",, \"T\"),3)=\"768\",\"\",RTD(\"cqg.rtd\", ,\"ContractData\",B35, \"Ask\",, \"T\"))","v":0.09},{"$f":"IF(LEFT(RTD(\"cqg.rtd\", ,\"ContractData\",B35, \"LastTrade\",, \"T\"),3)=\"768\",\"\",RTD(\"cqg.rtd\", ,\"ContractData\",B35, \"MT_LastAskVolume\",, \"T\"))","v":53},{"$f":"IF(LEFT(RTD(\"cqg.rtd\", ,\"ContractData\",B35, \"LastTrade\",, \"T\"),3)=\"768\",\"\",RTD(\"cqg.rtd\", ,\"ContractData\",B35, \"T_CVol\",, \"T\"))","v":16},{"$f":"IF(LEFT(RTD(\"cqg.rtd\", ,\"ContractData\",B35, \"LastTrade\",, \"T\"),3)=\"768\",\"\",RTD(\"cqg.rtd\", ,\"ContractData\",B35, \"Y_CVol\",, \"T\"))","v":257},{"$f":"IF(LEFT(RTD(\"cqg.rtd\", ,\"ContractData\",B35, \"LastTrade\",, \"T\"),3)=\"768\",\"\",IFERROR(IF(I35>J35,\"+\"&I35-J35,I35-J35)*1,\"\"))","v":-241},{"$f":"IF(LEFT(RTD(\"cqg.rtd\", ,\"ContractData\",B35, \"LastTrade\",, \"T\"),3)=\"768\",\"\",RTD(\"cqg.rtd\",,\"StudyData\",B35,  \"Bar\",,  \"ContractOI\", \"D\", \"-1\",,,,,\"T\"))","v":3609},{"$f":"IF(LEFT(RTD(\"cqg.rtd\", ,\"ContractData\",B35, \"LastTrade\",, \"T\"),3)=\"768\",\"\",RTD(\"cqg.rtd\",,\"StudyData\",B35,  \"Bar\",,  \"ContractOI\", \"D\", \"-2\",,,,,\"T\"))","v":3572},{"$f":"IF(LEFT(RTD(\"cqg.rtd\", ,\"ContractData\",B35, \"LastTrade\",, \"T\"),3)=\"768\",\"\",IFERROR(IF(L35>M35,\"+\"&L35-M35,L35-M35)*1,\"\"))","v":37}]
[{"$f":"'Call Data'!A36","v":6350},{"$f":"\"P\"&RIGHT('Call Data'!B36,LEN('Call Data'!B36)-1)","v":"P.US.CLEJ266350"},{"$f":"IF(LEFT(RTD(\"cqg.rtd\", ,\"ContractData\",B36, \"LastTrade\",, \"T\"),3)=\"768\",\"\",RTD(\"cqg.rtd\", ,\"ContractData\",B36, \"LastTrade\",, \"T\"))","v":7.0000000000000007E-2},{"$f":"IF(C36=\"\",\"\",RTD(\"cqg.rtd\", ,\"ContractData\",B36, \"NetLastTrade\",, \"T\"))","v":-0.1},{"$f":"IF(LEFT(RTD(\"cqg.rtd\", ,\"ContractData\",B36, \"LastTrade\",, \"T\"),3)=\"768\",\"\",RTD(\"cqg.rtd\", ,\"ContractData\",B36, \"MT_LastBidVolume\",, \"T\"))","v":37},{"$f":"IF(LEFT(RTD(\"cqg.rtd\", ,\"ContractData\",B36, \"LastTrade\",, \"T\"),3)=\"768\",\"\",RTD(\"cqg.rtd\", ,\"ContractData\",B36, \"Bid\",, \"T\"))","v":7.0000000000000007E-2},{"$f":"IF(LEFT(RTD(\"cqg.rtd\", ,\"ContractData\",B36, \"LastTrade\",, \"T\"),3)=\"768\",\"\",RTD(\"cqg.rtd\", ,\"ContractData\",B36, \"Ask\",, \"T\"))","v":0.1},{"$f":"IF(LEFT(RTD(\"cqg.rtd\", ,\"ContractData\",B36, \"LastTrade\",, \"T\"),3)=\"768\",\"\",RTD(\"cqg.rtd\", ,\"ContractData\",B36, \"MT_LastAskVolume\",, \"T\"))","v":44},{"$f":"IF(LEFT(RTD(\"cqg.rtd\", ,\"ContractData\",B36, \"LastTrade\",, \"T\"),3)=\"768\",\"\",RTD(\"cqg.rtd\", ,\"ContractData\",B36, \"T_CVol\",, \"T\"))","v":6},{"$f":"IF(LEFT(RTD(\"cqg.rtd\", ,\"ContractData\",B36, \"LastTrade\",, \"T\"),3)=\"768\",\"\",RTD(\"cqg.rtd\", ,\"ContractData\",B36, \"Y_CVol\",, \"T\"))","v":43},{"$f":"IF(LEFT(RTD(\"cqg.rtd\", ,\"ContractData\",B36, \"LastTrade\",, \"T\"),3)=\"768\",\"\",IFERROR(IF(I36>J36,\"+\"&I36-J36,I36-J36)*1,\"\"))","v":-37},{"$f":"IF(LEFT(RTD(\"cqg.rtd\", ,\"ContractData\",B36, \"LastTrade\",, \"T\"),3)=\"768\",\"\",RTD(\"cqg.rtd\",,\"StudyData\",B36,  \"Bar\",,  \"ContractOI\", \"D\", \"-1\",,,,,\"T\"))","v":2730},{"$f":"IF(LEFT(RTD(\"cqg.rtd\", ,\"ContractData\",B36, \"LastTrade\",, \"T\"),3)=\"768\",\"\",RTD(\"cqg.rtd\",,\"StudyData\",B36,  \"Bar\",,  \"ContractOI\", \"D\", \"-2\",,,,,\"T\"))","v":2697},{"$f":"IF(LEFT(RTD(\"cqg.rtd\", ,\"ContractData\",B36, \"LastTrade\",, \"T\"),3)=\"768\",\"\",IFERROR(IF(L36>M36,\"+\"&L36-M36,L36-M36)*1,\"\"))","v":33}]
[{"$f":"'Call Data'!A37","v":6400},{"$f":"\"P\"&RIGHT('Call Data'!B37,LEN('Call Data'!B37)-1)","v":"P.US.CLEJ266400"},{"$f":"IF(LEFT(RTD(\"cqg.rtd\", ,\"ContractData\",B37, \"LastTrade\",, \"T\"),3)=\"768\",\"\",RTD(\"cqg.rtd\", ,\"ContractData\",B37, \"LastTrade\",, \"T\"))","v":0.11},{"$f":"IF(C37=\"\",\"\",RTD(\"cqg.rtd\", ,\"ContractData\",B37, \"NetLastTrade\",, \"T\"))","v":-0.08},{"$f":"IF(LEFT(RTD(\"cqg.rtd\", ,\"ContractData\",B37, \"LastTrade\",, \"T\"),3)=\"768\",\"\",RTD(\"cqg.rtd\", ,\"ContractData\",B37, \"MT_LastBidVolume\",, \"T\"))","v":9},{"$f":"IF(LEFT(RTD(\"cqg.rtd\", ,\"ContractData\",B37, \"LastTrade\",, \"T\"),3)=\"768\",\"\",RTD(\"cqg.rtd\", ,\"ContractData\",B37, \"Bid\",, \"T\"))","v":0.08},{"$f":"IF(LEFT(RTD(\"cqg.rtd\", ,\"ContractData\",B37, \"LastTrade\",, \"T\"),3)=\"768\",\"\",RTD(\"cqg.rtd\", ,\"ContractData\",B37, \"Ask\",, \"T\"))","v":0.11},{"$f":"IF(LEFT(RTD(\"cqg.rtd\", ,\"ContractData\",B37, \"LastTrade\",, \"T\"),3)=\"768\",\"\",RTD(\"cqg.rtd\", ,\"ContractData\",B37, \"MT_LastAskVolume\",, \"T\"))","v":56},{"$f":"IF(LEFT(RTD(\"cqg.rtd\", ,\"ContractData\",B37, \"LastTrade\",, \"T\"),3)=\"768\",\"\",RTD(\"cqg.rtd\", ,\"ContractData\",B37, \"T_CVol\",, \"T\"))","v":5},{"$f":"IF(LEFT(RTD(\"cqg.rtd\", ,\"ContractData\",B37, \"LastTrade\",, \"T\"),3)=\"768\",\"\",RTD(\"cqg.rtd\", ,\"ContractData\",B37, \"Y_CVol\",, \"T\"))","v":794},{"$f":"IF(LEFT(RTD(\"cqg.rtd\", ,\"ContractData\",B37, \"LastTrade\",, \"T\"),3)=\"768\",\"\",IFERROR(IF(I37>J37,\"+\"&I37-J37,I37-J37)*1,\"\"))","v":-789},{"$f":"IF(LEFT(RTD(\"cqg.rtd\", ,\"ContractData\",B37, \"LastTrade\",, \"T\"),3)=\"768\",\"\",RTD(\"cqg.rtd\",,\"StudyData\",B37,  \"Bar\",,  \"ContractOI\", \"D\", \"-1\",,,,,\"T\"))","v":3177},{"$f":"IF(LEFT(RTD(\"cqg.rtd\", ,\"ContractData\",B37, \"LastTrade\",, \"T\"),3)=\"768\",\"\",RTD(\"cqg.rtd\",,\"StudyData\",B37,  \"Bar\",,  \"ContractOI\", \"D\", \"-2\",,,,,\"T\"))","v":3136},{"$f":"IF(LEFT(RTD(\"cqg.rtd\", ,\"ContractData\",B37, \"LastTrade\",, \"T\"),3)=\"768\",\"\",IFERROR(IF(L37>M37,\"+\"&L37-M37,L37-M37)*1,\"\"))","v":41}]
[{"$f":"'Call Data'!A38","v":6450},{"$f":"\"P\"&RIGHT('Call Data'!B38,LEN('Call Data'!B38)-1)","v":"P.US.CLEJ266450"},{"$f":"IF(LEFT(RTD(\"cqg.rtd\", ,\"ContractData\",B38, \"LastTrade\",, \"T\"),3)=\"768\",\"\",RTD(\"cqg.rtd\", ,\"ContractData\",B38, \"LastTrade\",, \"T\"))","v":0.1},{"$f":"IF(C38=\"\",\"\",RTD(\"cqg.rtd\", ,\"ContractData\",B38, \"NetLastTrade\",, \"T\"))","v":-0.11},{"$f":"IF(LEFT(RTD(\"cqg.rtd\", ,\"ContractData\",B38, \"LastTrade\",, \"T\"),3)=\"768\",\"\",RTD(\"cqg.rtd\", ,\"ContractData\",B38, \"MT_LastBidVolume\",, \"T\"))","v":42},{"$f":"IF(LEFT(RTD(\"cqg.rtd\", ,\"ContractData\",B38, \"LastTrade\",, \"T\"),3)=\"768\",\"\",RTD(\"cqg.rtd\", ,\"ContractData\",B38, \"Bid\",, \"T\"))","v":0.08},{"$f":"IF(LEFT(RTD(\"cqg.rtd\", ,\"ContractData\",B38, \"LastTrade\",, \"T\"),3)=\"768\",\"\",RTD(\"cqg.rtd\", ,\"ContractData\",B38, \"Ask\",, \"T\"))","v":0.12},{"$f":"IF(LEFT(RTD(\"cqg.rtd\", ,\"ContractData\",B38, \"LastTrade\",, \"T\"),3)=\"768\",\"\",RTD(\"cqg.rtd\", ,\"ContractData\",B38, \"MT_LastAskVolume\",, \"T\"))","v":54},{"$f":"IF(LEFT(RTD(\"cqg.rtd\", ,\"ContractData\",B38, \"LastTrade\",, \"T\"),3)=\"768\",\"\",RTD(\"cqg.rtd\", ,\"ContractData\",B38, \"T_CVol\",, \"T\"))","v":4},{"$f":"IF(LEFT(RTD(\"cqg.rtd\", ,\"ContractData\",B38, \"LastTrade\",, \"T\"),3)=\"768\",\"\",RTD(\"cqg.rtd\", ,\"ContractData\",B38, \"Y_CVol\",, \"T\"))","v":163},{"$f":"IF(LEFT(RTD(\"cqg.rtd\", ,\"ContractData\",B38, \"LastTrade\",, \"T\"),3)=\"768\",\"\",IFERROR(IF(I38>J38,\"+\"&I38-J38,I38-J38)*1,\"\"))","v":-159},{"$f":"IF(LEFT(RTD(\"cqg.rtd\", ,\"ContractData\",B38, \"LastTrade\",, \"T\"),3)=\"768\",\"\",RTD(\"cqg.rtd\",,\"StudyData\",B38,  \"Bar\",,  \"ContractOI\", \"D\", \"-1\",,,,,\"T\"))","v":761},{"$f":"IF(LEFT(RTD(\"cqg.rtd\", ,\"ContractData\",B38, \"LastTrade\",, \"T\"),3)=\"768\",\"\",RTD(\"cqg.rtd\",,\"StudyData\",B38,  \"Bar\",,  \"ContractOI\", \"D\", \"-2\",,,,,\"T\"))","v":779},{"$f":"IF(LEFT(RTD(\"cqg.rtd\", ,\"ContractData\",B38, \"LastTrade\",, \"T\"),3)=\"768\",\"\",IFERROR(IF(L38>M38,\"+\"&L38-M38,L38-M38)*1,\"\"))","v":-18}]
[{"$f":"'Call Data'!A39","v":6500},{"$f":"\"P\"&RIGHT('Call Data'!B39,LEN('Call Data'!B39)-1)","v":"P.US.CLEJ266500"},{"$f":"IF(LEFT(RTD(\"cqg.rtd\", ,\"ContractData\",B39, \"LastTrade\",, \"T\"),3)=\"768\",\"\",RTD(\"cqg.rtd\", ,\"ContractData\",B39, \"LastTrade\",, \"T\"))","v":0.12},{"$f":"IF(C39=\"\",\"\",RTD(\"cqg.rtd\", ,\"ContractData\",B39, \"NetLastTrade\",, \"T\"))","v":-0.11000000000000001},{"$f":"IF(LEFT(RTD(\"cqg.rtd\", ,\"ContractData\",B39, \"LastTrade\",, \"T\"),3)=\"768\",\"\",RTD(\"cqg.rtd\", ,\"ContractData\",B39, \"MT_LastBidVolume\",, \"T\"))","v":29},{"$f":"IF(LEFT(RTD(\"cqg.rtd\", ,\"ContractData\",B39, \"LastTrade\",, \"T\"),3)=\"768\",\"\",RTD(\"cqg.rtd\", ,\"ContractData\",B39, \"Bid\",, \"T\"))","v":0.1},{"$f":"IF(LEFT(RTD(\"cqg.rtd\", ,\"ContractData\",B39, \"LastTrade\",, \"T\"),3)=\"768\",\"\",RTD(\"cqg.rtd\", ,\"ContractData\",B39, \"Ask\",, \"T\"))","v":0.13},{"$f":"IF(LEFT(RTD(\"cqg.rtd\", ,\"ContractData\",B39, \"LastTrade\",, \"T\"),3)=\"768\",\"\",RTD(\"cqg.rtd\", ,\"ContractData\",B39, \"MT_LastAskVolume\",, \"T\"))","v":50},{"$f":"IF(LEFT(RTD(\"cqg.rtd\", ,\"ContractData\",B39, \"LastTrade\",, \"T\"),3)=\"768\",\"\",RTD(\"cqg.rtd\", ,\"ContractData\",B39, \"T_CVol\",, \"T\"))","v":111},{"$f":"IF(LEFT(RTD(\"cqg.rtd\", ,\"ContractData\",B39, \"LastTrade\",, \"T\"),3)=\"768\",\"\",RTD(\"cqg.rtd\", ,\"ContractData\",B39, \"Y_CVol\",, \"T\"))","v":2250},{"$f":"IF(LEFT(RTD(\"cqg.rtd\", ,\"ContractData\",B39, \"LastTrade\",, \"T\"),3)=\"768\",\"\",IFERROR(IF(I39>J39,\"+\"&I39-J39,I39-J39)*1,\"\"))","v":-2139},{"$f":"IF(LEFT(RTD(\"cqg.rtd\", ,\"ContractData\",B39, \"LastTrade\",, \"T\"),3)=\"768\",\"\",RTD(\"cqg.rtd\",,\"StudyData\",B39,  \"Bar\",,  \"ContractOI\", \"D\", \"-1\",,,,,\"T\"))","v":13739},{"$f":"IF(LEFT(RTD(\"cqg.rtd\", ,\"ContractData\",B39, \"LastTrade\",, \"T\"),3)=\"768\",\"\",RTD(\"cqg.rtd\",,\"StudyData\",B39,  \"Bar\",,  \"ContractOI\", \"D\", \"-2\",,,,,\"T\"))","v":12591},{"$f":"IF(LEFT(RTD(\"cqg.rtd\", ,\"ContractData\",B39, \"LastTrade\",, \"T\"),3)=\"768\",\"\",IFERROR(IF(L39>M39,\"+\"&L39-M39,L39-M39)*1,\"\"))","v":1148}]
[{"$f":"'Call Data'!A40","v":6550},{"$f":"\"P\"&RIGHT('Call Data'!B40,LEN('Call Data'!B40)-1)","v":"P.US.CLEJ266550"},{"$f":"IF(LEFT(RTD(\"cqg.rtd\", ,\"ContractData\",B40, \"LastTrade\",, \"T\"),3)=\"768\",\"\",RTD(\"cqg.rtd\", ,\"ContractData\",B40, \"LastTrade\",, \"T\"))","v":0.12},{"$f":"IF(C40=\"\",\"\",RTD(\"cqg.rtd\", ,\"ContractData\",B40, \"NetLastTrade\",, \"T\"))","v":-0.14000000000000001},{"$f":"IF(LEFT(RTD(\"cqg.rtd\", ,\"ContractData\",B40, \"LastTrade\",, \"T\"),3)=\"768\",\"\",RTD(\"cqg.rtd\", ,\"ContractData\",B40, \"MT_LastBidVolume\",, \"T\"))","v":109},{"$f":"IF(LEFT(RTD(\"cqg.rtd\", ,\"ContractData\",B40, \"LastTrade\",, \"T\"),3)=\"768\",\"\",RTD(\"cqg.rtd\", ,\"ContractData\",B40, \"Bid\",, \"T\"))","v":0.1},{"$f":"IF(LEFT(RTD(\"cqg.rtd\", ,\"ContractData\",B40, \"LastTrade\",, \"T\"),3)=\"768\",\"\",RTD(\"cqg.rtd\", ,\"ContractData\",B40, \"Ask\",, \"T\"))","v":0.14000000000000001},{"$f":"IF(LEFT(RTD(\"cqg.rtd\", ,\"ContractData\",B40, \"LastTrade\",, \"T\"),3)=\"768\",\"\",RTD(\"cqg.rtd\", ,\"ContractData\",B40, \"MT_LastAskVolume\",, \"T\"))","v":51},{"$f":"IF(LEFT(RTD(\"cqg.rtd\", ,\"ContractData\",B40, \"LastTrade\",, \"T\"),3)=\"768\",\"\",RTD(\"cqg.rtd\", ,\"ContractData\",B40, \"T_CVol\",, \"T\"))","v":18},{"$f":"IF(LEFT(RTD(\"cqg.rtd\", ,\"ContractData\",B40, \"LastTrade\",, \"T\"),3)=\"768\",\"\",RTD(\"cqg.rtd\", ,\"ContractData\",B40, \"Y_CVol\",, \"T\"))","v":122},{"$f":"IF(LEFT(RTD(\"cqg.rtd\", ,\"ContractData\",B40, \"LastTrade\",, \"T\"),3)=\"768\",\"\",IFERROR(IF(I40>J40,\"+\"&I40-J40,I40-J40)*1,\"\"))","v":-104},{"$f":"IF(LEFT(RTD(\"cqg.rtd\", ,\"ContractData\",B40, \"LastTrade\",, \"T\"),3)=\"768\",\"\",RTD(\"cqg.rtd\",,\"StudyData\",B40,  \"Bar\",,  \"ContractOI\", \"D\", \"-1\",,,,,\"T\"))","v":520},{"$f":"IF(LEFT(RTD(\"cqg.rtd\", ,\"ContractData\",B40, \"LastTrade\",, \"T\"),3)=\"768\",\"\",RTD(\"cqg.rtd\",,\"StudyData\",B40,  \"Bar\",,  \"ContractOI\", \"D\", \"-2\",,,,,\"T\"))","v":532},{"$f":"IF(LEFT(RTD(\"cqg.rtd\", ,\"ContractData\",B40, \"LastTrade\",, \"T\"),3)=\"768\",\"\",IFERROR(IF(L40>M40,\"+\"&L40-M40,L40-M40)*1,\"\"))","v":-12}]
[{"$f":"'Call Data'!A41","v":6600},{"$f":"\"P\"&RIGHT('Call Data'!B41,LEN('Call Data'!B41)-1)","v":"P.US.CLEJ266600"},{"$f":"IF(LEFT(RTD(\"cqg.rtd\", ,\"ContractData\",B41, \"LastTrade\",, \"T\"),3)=\"768\",\"\",RTD(\"cqg.rtd\", ,\"ContractData\",B41, \"LastTrade\",, \"T\"))","v":0.15},{"$f":"IF(C41=\"\",\"\",RTD(\"cqg.rtd\", ,\"ContractData\",B41, \"NetLastTrade\",, \"T\"))","v":-0.13000000000000003},{"$f":"IF(LEFT(RTD(\"cqg.rtd\", ,\"ContractData\",B41, \"LastTrade\",, \"T\"),3)=\"768\",\"\",RTD(\"cqg.rtd\", ,\"ContractData\",B41, \"MT_LastBidVolume\",, \"T\"))","v":39},{"$f":"IF(LEFT(RTD(\"cqg.rtd\", ,\"ContractData\",B41, \"LastTrade\",, \"T\"),3)=\"768\",\"\",RTD(\"cqg.rtd\", ,\"ContractData\",B41, \"Bid\",, \"T\"))","v":0.12},{"$f":"IF(LEFT(RTD(\"cqg.rtd\", ,\"ContractData\",B41, \"LastTrade\",, \"T\"),3)=\"768\",\"\",RTD(\"cqg.rtd\", ,\"ContractData\",B41, \"Ask\",, \"T\"))","v":0.16},{"$f":"IF(LEFT(RTD(\"cqg.rtd\", ,\"ContractData\",B41, \"LastTrade\",, \"T\"),3)=\"768\",\"\",RTD(\"cqg.rtd\", ,\"ContractData\",B41, \"MT_LastAskVolume\",, \"T\"))","v":51},{"$f":"IF(LEFT(RTD(\"cqg.rtd\", ,\"ContractData\",B41, \"LastTrade\",, \"T\"),3)=\"768\",\"\",RTD(\"cqg.rtd\", ,\"ContractData\",B41, \"T_CVol\",, \"T\"))","v":14},{"$f":"IF(LEFT(RTD(\"cqg.rtd\", ,\"ContractData\",B41, \"LastTrade\",, \"T\"),3)=\"768\",\"\",RTD(\"cqg.rtd\", ,\"ContractData\",B41, \"Y_CVol\",, \"T\"))","v":182},{"$f":"IF(LEFT(RTD(\"cqg.rtd\", ,\"ContractData\",B41, \"LastTrade\",, \"T\"),3)=\"768\",\"\",IFERROR(IF(I41>J41,\"+\"&I41-J41,I41-J41)*1,\"\"))","v":-168},{"$f":"IF(LEFT(RTD(\"cqg.rtd\", ,\"ContractData\",B41, \"LastTrade\",, \"T\"),3)=\"768\",\"\",RTD(\"cqg.rtd\",,\"StudyData\",B41,  \"Bar\",,  \"ContractOI\", \"D\", \"-1\",,,,,\"T\"))","v":6738},{"$f":"IF(LEFT(RTD(\"cqg.rtd\", ,\"ContractData\",B41, \"LastTrade\",, \"T\"),3)=\"768\",\"\",RTD(\"cqg.rtd\",,\"StudyData\",B41,  \"Bar\",,  \"ContractOI\", \"D\", \"-2\",,,,,\"T\"))","v":6697},{"$f":"IF(LEFT(RTD(\"cqg.rtd\", ,\"ContractData\",B41, \"LastTrade\",, \"T\"),3)=\"768\",\"\",IFERROR(IF(L41>M41,\"+\"&L41-M41,L41-M41)*1,\"\"))","v":41}]
[{"$f":"'Call Data'!A42","v":6650},{"$f":"\"P\"&RIGHT('Call Data'!B42,LEN('Call Data'!B42)-1)","v":"P.US.CLEJ266650"},{"$f":"IF(LEFT(RTD(\"cqg.rtd\", ,\"ContractData\",B42, \"LastTrade\",, \"T\"),3)=\"768\",\"\",RTD(\"cqg.rtd\", ,\"ContractData\",B42, \"LastTrade\",, \"T\"))","v":0.13},{"$f":"IF(C42=\"\",\"\",RTD(\"cqg.rtd\", ,\"ContractData\",B42, \"NetLastTrade\",, \"T\"))","v":-0.19},{"$f":"IF(LEFT(RTD(\"cqg.rtd\", ,\"ContractData\",B42, \"LastTrade\",, \"T\"),3)=\"768\",\"\",RTD(\"cqg.rtd\", ,\"ContractData\",B42, \"MT_LastBidVolume\",, \"T\"))","v":41},{"$f":"IF(LEFT(RTD(\"cqg.rtd\", ,\"ContractData\",B42, \"LastTrade\",, \"T\"),3)=\"768\",\"\",RTD(\"cqg.rtd\", ,\"ContractData\",B42, \"Bid\",, \"T\"))","v":0.13},{"$f":"IF(LEFT(RTD(\"cqg.rtd\", ,\"ContractData\",B42, \"LastTrade\",, \"T\"),3)=\"768\",\"\",RTD(\"cqg.rtd\", ,\"ContractData\",B42, \"Ask\",, \"T\"))","v":0.17},{"$f":"IF(LEFT(RTD(\"cqg.rtd\", ,\"ContractData\",B42, \"LastTrade\",, \"T\"),3)=\"768\",\"\",RTD(\"cqg.rtd\", ,\"ContractData\",B42, \"MT_LastAskVolume\",, \"T\"))","v":52},{"$f":"IF(LEFT(RTD(\"cqg.rtd\", ,\"ContractData\",B42, \"LastTrade\",, \"T\"),3)=\"768\",\"\",RTD(\"cqg.rtd\", ,\"ContractData\",B42, \"T_CVol\",, \"T\"))","v":12},{"$f":"IF(LEFT(RTD(\"cqg.rtd\", ,\"ContractData\",B42, \"LastTrade\",, \"T\"),3)=\"768\",\"\",RTD(\"cqg.rtd\", ,\"ContractData\",B42, \"Y_CVol\",, \"T\"))","v":202},{"$f":"IF(LEFT(RTD(\"cqg.rtd\", ,\"ContractData\",B42, \"LastTrade\",, \"T\"),3)=\"768\",\"\",IFERROR(IF(I42>J42,\"+\"&I42-J42,I42-J42)*1,\"\"))","v":-190},{"$f":"IF(LEFT(RTD(\"cqg.rtd\", ,\"ContractData\",B42, \"LastTrade\",, \"T\"),3)=\"768\",\"\",RTD(\"cqg.rtd\",,\"StudyData\",B42,  \"Bar\",,  \"ContractOI\", \"D\", \"-1\",,,,,\"T\"))","v":1265},{"$f":"IF(LEFT(RTD(\"cqg.rtd\", ,\"ContractData\",B42, \"LastTrade\",, \"T\"),3)=\"768\",\"\",RTD(\"cqg.rtd\",,\"StudyData\",B42,  \"Bar\",,  \"ContractOI\", \"D\", \"-2\",,,,,\"T\"))","v":1267},{"$f":"IF(LEFT(RTD(\"cqg.rtd\", ,\"ContractData\",B42, \"LastTrade\",, \"T\"),3)=\"768\",\"\",IFERROR(IF(L42>M42,\"+\"&L42-M42,L42-M42)*1,\"\"))","v":-2}]
[{"$f":"'Call Data'!A43","v":6700},{"$f":"\"P\"&RIGHT('Call Data'!B43,LEN('Call Data'!B43)-1)","v":"P.US.CLEJ266700"},{"$f":"IF(LEFT(RTD(\"cqg.rtd\", ,\"ContractData\",B43, \"LastTrade\",, \"T\"),3)=\"768\",\"\",RTD(\"cqg.rtd\", ,\"ContractData\",B43, \"LastTrade\",, \"T\"))","v":0.15},{"$f":"IF(C43=\"\",\"\",RTD(\"cqg.rtd\", ,\"ContractData\",B43, \"NetLastTrade\",, \"T\"))","v":-0.20000000000000004},{"$f":"IF(LEFT(RTD(\"cqg.rtd\", ,\"ContractData\",B43, \"LastTrade\",, \"T\"),3)=\"768\",\"\",RTD(\"cqg.rtd\", ,\"ContractData\",B43, \"MT_LastBidVolume\",, \"T\"))","v":60},{"$f":"IF(LEFT(RTD(\"cqg.rtd\", ,\"ContractData\",B43, \"LastTrade\",, \"T\"),3)=\"768\",\"\",RTD(\"cqg.rtd\", ,\"ContractData\",B43, \"Bid\",, \"T\"))","v":0.14000000000000001},{"$f":"IF(LEFT(RTD(\"cqg.rtd\", ,\"ContractData\",B43, \"LastTrade\",, \"T\"),3)=\"768\",\"\",RTD(\"cqg.rtd\", ,\"ContractData\",B43, \"Ask\",, \"T\"))","v":0.19},{"$f":"IF(LEFT(RTD(\"cqg.rtd\", ,\"ContractData\",B43, \"LastTrade\",, \"T\"),3)=\"768\",\"\",RTD(\"cqg.rtd\", ,\"ContractData\",B43, \"MT_LastAskVolume\",, \"T\"))","v":49},{"$f":"IF(LEFT(RTD(\"cqg.rtd\", ,\"ContractData\",B43, \"LastTrade\",, \"T\"),3)=\"768\",\"\",RTD(\"cqg.rtd\", ,\"ContractData\",B43, \"T_CVol\",, \"T\"))","v":18},{"$f":"IF(LEFT(RTD(\"cqg.rtd\", ,\"ContractData\",B43, \"LastTrade\",, \"T\"),3)=\"768\",\"\",RTD(\"cqg.rtd\", ,\"ContractData\",B43, \"Y_CVol\",, \"T\"))","v":347},{"$f":"IF(LEFT(RTD(\"cqg.rtd\", ,\"ContractData\",B43, \"LastTrade\",, \"T\"),3)=\"768\",\"\",IFERROR(IF(I43>J43,\"+\"&I43-J43,I43-J43)*1,\"\"))","v":-329},{"$f":"IF(LEFT(RTD(\"cqg.rtd\", ,\"ContractData\",B43, \"LastTrade\",, \"T\"),3)=\"768\",\"\",RTD(\"cqg.rtd\",,\"StudyData\",B43,  \"Bar\",,  \"ContractOI\", \"D\", \"-1\",,,,,\"T\"))","v":3690},{"$f":"IF(LEFT(RTD(\"cqg.rtd\", ,\"ContractData\",B43, \"LastTrade\",, \"T\"),3)=\"768\",\"\",RTD(\"cqg.rtd\",,\"StudyData\",B43,  \"Bar\",,  \"ContractOI\", \"D\", \"-2\",,,,,\"T\"))","v":3645},{"$f":"IF(LEFT(RTD(\"cqg.rtd\", ,\"ContractData\",B43, \"LastTrade\",, \"T\"),3)=\"768\",\"\",IFERROR(IF(L43>M43,\"+\"&L43-M43,L43-M43)*1,\"\"))","v":45}]
[{"$f":"'Call Data'!A44","v":6750},{"$f":"\"P\"&RIGHT('Call Data'!B44,LEN('Call Data'!B44)-1)","v":"P.US.CLEJ266750"},{"$f":"IF(LEFT(RTD(\"cqg.rtd\", ,\"ContractData\",B44, \"LastTrade\",, \"T\"),3)=\"768\",\"\",RTD(\"cqg.rtd\", ,\"ContractData\",B44, \"LastTrade\",, \"T\"))","v":0.21},{"$f":"IF(C44=\"\",\"\",RTD(\"cqg.rtd\", ,\"ContractData\",B44, \"NetLastTrade\",, \"T\"))","v":-0.18000000000000002},{"$f":"IF(LEFT(RTD(\"cqg.rtd\", ,\"ContractData\",B44, \"LastTrade\",, \"T\"),3)=\"768\",\"\",RTD(\"cqg.rtd\", ,\"ContractData\",B44, \"MT_LastBidVolume\",, \"T\"))","v":1},{"$f":"IF(LEFT(RTD(\"cqg.rtd\", ,\"ContractData\",B44, \"LastTrade\",, \"T\"),3)=\"768\",\"\",RTD(\"cqg.rtd\", ,\"ContractData\",B44, \"Bid\",, \"T\"))","v":0.17},{"$f":"IF(LEFT(RTD(\"cqg.rtd\", ,\"ContractData\",B44, \"LastTrade\",, \"T\"),3)=\"768\",\"\",RTD(\"cqg.rtd\", ,\"ContractData\",B44, \"Ask\",, \"T\"))","v":0.21},{"$f":"IF(LEFT(RTD(\"cqg.rtd\", ,\"ContractData\",B44, \"LastTrade\",, \"T\"),3)=\"768\",\"\",RTD(\"cqg.rtd\", ,\"ContractData\",B44, \"MT_LastAskVolume\",, \"T\"))","v":46},{"$f":"IF(LEFT(RTD(\"cqg.rtd\", ,\"ContractData\",B44, \"LastTrade\",, \"T\"),3)=\"768\",\"\",RTD(\"cqg.rtd\", ,\"ContractData\",B44, \"T_CVol\",, \"T\"))","v":25},{"$f":"IF(LEFT(RTD(\"cqg.rtd\", ,\"ContractData\",B44, \"LastTrade\",, \"T\"),3)=\"768\",\"\",RTD(\"cqg.rtd\", ,\"ContractData\",B44, \"Y_CVol\",, \"T\"))","v":521},{"$f":"IF(LEFT(RTD(\"cqg.rtd\", ,\"ContractData\",B44, \"LastTrade\",, \"T\"),3)=\"768\",\"\",IFERROR(IF(I44>J44,\"+\"&I44-J44,I44-J44)*1,\"\"))","v":-496},{"$f":"IF(LEFT(RTD(\"cqg.rtd\", ,\"ContractData\",B44, \"LastTrade\",, \"T\"),3)=\"768\",\"\",RTD(\"cqg.rtd\",,\"StudyData\",B44,  \"Bar\",,  \"ContractOI\", \"D\", \"-1\",,,,,\"T\"))","v":1379},{"$f":"IF(LEFT(RTD(\"cqg.rtd\", ,\"ContractData\",B44, \"LastTrade\",, \"T\"),3)=\"768\",\"\",RTD(\"cqg.rtd\",,\"StudyData\",B44,  \"Bar\",,  \"ContractOI\", \"D\", \"-2\",,,,,\"T\"))","v":1235},{"$f":"IF(LEFT(RTD(\"cqg.rtd\", ,\"ContractData\",B44, \"LastTrade\",, \"T\"),3)=\"768\",\"\",IFERROR(IF(L44>M44,\"+\"&L44-M44,L44-M44)*1,\"\"))","v":144}]
[{"$f":"'Call Data'!A45","v":6800},{"$f":"\"P\"&RIGHT('Call Data'!B45,LEN('Call Data'!B45)-1)","v":"P.US.CLEJ266800"},{"$f":"IF(LEFT(RTD(\"cqg.rtd\", ,\"ContractData\",B45, \"LastTrade\",, \"T\"),3)=\"768\",\"\",RTD(\"cqg.rtd\", ,\"ContractData\",B45, \"LastTrade\",, \"T\"))","v":0.22},{"$f":"IF(C45=\"\",\"\",RTD(\"cqg.rtd\", ,\"ContractData\",B45, \"NetLastTrade\",, \"T\"))","v":-0.22},{"$f":"IF(LEFT(RTD(\"cqg.rtd\", ,\"ContractData\",B45, \"LastTrade\",, \"T\"),3)=\"768\",\"\",RTD(\"cqg.rtd\", ,\"ContractData\",B45, \"MT_LastBidVolume\",, \"T\"))","v":46},{"$f":"IF(LEFT(RTD(\"cqg.rtd\", ,\"ContractData\",B45, \"LastTrade\",, \"T\"),3)=\"768\",\"\",RTD(\"cqg.rtd\", ,\"ContractData\",B45, \"Bid\",, \"T\"))","v":0.18},{"$f":"IF(LEFT(RTD(\"cqg.rtd\", ,\"ContractData\",B45, \"LastTrade\",, \"T\"),3)=\"768\",\"\",RTD(\"cqg.rtd\", ,\"ContractData\",B45, \"Ask\",, \"T\"))","v":0.22},{"$f":"IF(LEFT(RTD(\"cqg.rtd\", ,\"ContractData\",B45, \"LastTrade\",, \"T\"),3)=\"768\",\"\",RTD(\"cqg.rtd\", ,\"ContractData\",B45, \"MT_LastAskVolume\",, \"T\"))","v":45},{"$f":"IF(LEFT(RTD(\"cqg.rtd\", ,\"ContractData\",B45, \"LastTrade\",, \"T\"),3)=\"768\",\"\",RTD(\"cqg.rtd\", ,\"ContractData\",B45, \"T_CVol\",, \"T\"))","v":43},{"$f":"IF(LEFT(RTD(\"cqg.rtd\", ,\"ContractData\",B45, \"LastTrade\",, \"T\"),3)=\"768\",\"\",RTD(\"cqg.rtd\", ,\"ContractData\",B45, \"Y_CVol\",, \"T\"))","v":211},{"$f":"IF(LEFT(RTD(\"cqg.rtd\", ,\"ContractData\",B45, \"LastTrade\",, \"T\"),3)=\"768\",\"\",IFERROR(IF(I45>J45,\"+\"&I45-J45,I45-J45)*1,\"\"))","v":-168},{"$f":"IF(LEFT(RTD(\"cqg.rtd\", ,\"ContractData\",B45, \"LastTrade\",, \"T\"),3)=\"768\",\"\",RTD(\"cqg.rtd\",,\"StudyData\",B45,  \"Bar\",,  \"ContractOI\", \"D\", \"-1\",,,,,\"T\"))","v":3746},{"$f":"IF(LEFT(RTD(\"cqg.rtd\", ,\"ContractData\",B45, \"LastTrade\",, \"T\"),3)=\"768\",\"\",RTD(\"cqg.rtd\",,\"StudyData\",B45,  \"Bar\",,  \"ContractOI\", \"D\", \"-2\",,,,,\"T\"))","v":3693},{"$f":"IF(LEFT(RTD(\"cqg.rtd\", ,\"ContractData\",B45, \"LastTrade\",, \"T\"),3)=\"768\",\"\",IFERROR(IF(L45>M45,\"+\"&L45-M45,L45-M45)*1,\"\"))","v":53}]
[{"$f":"'Call Data'!A46","v":6850},{"$f":"\"P\"&RIGHT('Call Data'!B46,LEN('Call Data'!B46)-1)","v":"P.US.CLEJ266850"},{"$f":"IF(LEFT(RTD(\"cqg.rtd\", ,\"ContractData\",B46, \"LastTrade\",, \"T\"),3)=\"768\",\"\",RTD(\"cqg.rtd\", ,\"ContractData\",B46, \"LastTrade\",, \"T\"))","v":0.17},{"$f":"IF(C46=\"\",\"\",RTD(\"cqg.rtd\", ,\"ContractData\",B46, \"NetLastTrade\",, \"T\"))","v":-0.32},{"$f":"IF(LEFT(RTD(\"cqg.rtd\", ,\"ContractData\",B46, \"LastTrade\",, \"T\"),3)=\"768\",\"\",RTD(\"cqg.rtd\", ,\"ContractData\",B46, \"MT_LastBidVolume\",, \"T\"))","v":1},{"$f":"IF(LEFT(RTD(\"cqg.rtd\", ,\"ContractData\",B46, \"LastTrade\",, \"T\"),3)=\"768\",\"\",RTD(\"cqg.rtd\", ,\"ContractData\",B46, \"Bid\",, \"T\"))","v":0.21},{"$f":"IF(LEFT(RTD(\"cqg.rtd\", ,\"ContractData\",B46, \"LastTrade\",, \"T\"),3)=\"768\",\"\",RTD(\"cqg.rtd\", ,\"ContractData\",B46, \"Ask\",, \"T\"))","v":0.25},{"$f":"IF(LEFT(RTD(\"cqg.rtd\", ,\"ContractData\",B46, \"LastTrade\",, \"T\"),3)=\"768\",\"\",RTD(\"cqg.rtd\", ,\"ContractData\",B46, \"MT_LastAskVolume\",, \"T\"))","v":39},{"$f":"IF(LEFT(RTD(\"cqg.rtd\", ,\"ContractData\",B46, \"LastTrade\",, \"T\"),3)=\"768\",\"\",RTD(\"cqg.rtd\", ,\"ContractData\",B46, \"T_CVol\",, \"T\"))","v":4},{"$f":"IF(LEFT(RTD(\"cqg.rtd\", ,\"ContractData\",B46, \"LastTrade\",, \"T\"),3)=\"768\",\"\",RTD(\"cqg.rtd\", ,\"ContractData\",B46, \"Y_CVol\",, \"T\"))","v":128},{"$f":"IF(LEFT(RTD(\"cqg.rtd\", ,\"ContractData\",B46, \"LastTrade\",, \"T\"),3)=\"768\",\"\",IFERROR(IF(I46>J46,\"+\"&I46-J46,I46-J46)*1,\"\"))","v":-124},{"$f":"IF(LEFT(RTD(\"cqg.rtd\", ,\"ContractData\",B46, \"LastTrade\",, \"T\"),3)=\"768\",\"\",RTD(\"cqg.rtd\",,\"StudyData\",B46,  \"Bar\",,  \"ContractOI\", \"D\", \"-1\",,,,,\"T\"))","v":3652},{"$f":"IF(LEFT(RTD(\"cqg.rtd\", ,\"ContractData\",B46, \"LastTrade\",, \"T\"),3)=\"768\",\"\",RTD(\"cqg.rtd\",,\"StudyData\",B46,  \"Bar\",,  \"ContractOI\", \"D\", \"-2\",,,,,\"T\"))","v":3644},{"$f":"IF(LEFT(RTD(\"cqg.rtd\", ,\"ContractData\",B46, \"LastTrade\",, \"T\"),3)=\"768\",\"\",IFERROR(IF(L46>M46,\"+\"&L46-M46,L46-M46)*1,\"\"))","v":8}]
[{"$f":"'Call Data'!A47","v":6900},{"$f":"\"P\"&RIGHT('Call Data'!B47,LEN('Call Data'!B47)-1)","v":"P.US.CLEJ266900"},{"$f":"IF(LEFT(RTD(\"cqg.rtd\", ,\"ContractData\",B47, \"LastTrade\",, \"T\"),3)=\"768\",\"\",RTD(\"cqg.rtd\", ,\"ContractData\",B47, \"LastTrade\",, \"T\"))","v":0.24},{"$f":"IF(C47=\"\",\"\",RTD(\"cqg.rtd\", ,\"ContractData\",B47, \"NetLastTrade\",, \"T\"))","v":-0.31000000000000005},{"$f":"IF(LEFT(RTD(\"cqg.rtd\", ,\"ContractData\",B47, \"LastTrade\",, \"T\"),3)=\"768\",\"\",RTD(\"cqg.rtd\", ,\"ContractData\",B47, \"MT_LastBidVolume\",, \"T\"))","v":43},{"$f":"IF(LEFT(RTD(\"cqg.rtd\", ,\"ContractData\",B47, \"LastTrade\",, \"T\"),3)=\"768\",\"\",RTD(\"cqg.rtd\", ,\"ContractData\",B47, \"Bid\",, \"T\"))","v":0.23},{"$f":"IF(LEFT(RTD(\"cqg.rtd\", ,\"ContractData\",B47, \"LastTrade\",, \"T\"),3)=\"768\",\"\",RTD(\"cqg.rtd\", ,\"ContractData\",B47, \"Ask\",, \"T\"))","v":0.27},{"$f":"IF(LEFT(RTD(\"cqg.rtd\", ,\"ContractData\",B47, \"LastTrade\",, \"T\"),3)=\"768\",\"\",RTD(\"cqg.rtd\", ,\"ContractData\",B47, \"MT_LastAskVolume\",, \"T\"))","v":39},{"$f":"IF(LEFT(RTD(\"cqg.rtd\", ,\"ContractData\",B47, \"LastTrade\",, \"T\"),3)=\"768\",\"\",RTD(\"cqg.rtd\", ,\"ContractData\",B47, \"T_CVol\",, \"T\"))","v":23},{"$f":"IF(LEFT(RTD(\"cqg.rtd\", ,\"ContractData\",B47, \"LastTrade\",, \"T\"),3)=\"768\",\"\",RTD(\"cqg.rtd\", ,\"ContractData\",B47, \"Y_CVol\",, \"T\"))","v":236},{"$f":"IF(LEFT(RTD(\"cqg.rtd\", ,\"ContractData\",B47, \"LastTrade\",, \"T\"),3)=\"768\",\"\",IFERROR(IF(I47>J47,\"+\"&I47-J47,I47-J47)*1,\"\"))","v":-213},{"$f":"IF(LEFT(RTD(\"cqg.rtd\", ,\"ContractData\",B47, \"LastTrade\",, \"T\"),3)=\"768\",\"\",RTD(\"cqg.rtd\",,\"StudyData\",B47,  \"Bar\",,  \"ContractOI\", \"D\", \"-1\",,,,,\"T\"))","v":1396},{"$f":"IF(LEFT(RTD(\"cqg.rtd\", ,\"ContractData\",B47, \"LastTrade\",, \"T\"),3)=\"768\",\"\",RTD(\"cqg.rtd\",,\"StudyData\",B47,  \"Bar\",,  \"ContractOI\", \"D\", \"-2\",,,,,\"T\"))","v":1308},{"$f":"IF(LEFT(RTD(\"cqg.rtd\", ,\"ContractData\",B47, \"LastTrade\",, \"T\"),3)=\"768\",\"\",IFERROR(IF(L47>M47,\"+\"&L47-M47,L47-M47)*1,\"\"))","v":88}]
[{"$f":"'Call Data'!A48","v":6950},{"$f":"\"P\"&RIGHT('Call Data'!B48,LEN('Call Data'!B48)-1)","v":"P.US.CLEJ266950"},{"$f":"IF(LEFT(RTD(\"cqg.rtd\", ,\"ContractData\",B48, \"LastTrade\",, \"T\"),3)=\"768\",\"\",RTD(\"cqg.rtd\", ,\"ContractData\",B48, \"LastTrade\",, \"T\"))","v":0.3},{"$f":"IF(C48=\"\",\"\",RTD(\"cqg.rtd\", ,\"ContractData\",B48, \"NetLastTrade\",, \"T\"))","v":-0.31},{"$f":"IF(LEFT(RTD(\"cqg.rtd\", ,\"ContractData\",B48, \"LastTrade\",, \"T\"),3)=\"768\",\"\",RTD(\"cqg.rtd\", ,\"ContractData\",B48, \"MT_LastBidVolume\",, \"T\"))","v":36},{"$f":"IF(LEFT(RTD(\"cqg.rtd\", ,\"ContractData\",B48, \"LastTrade\",, \"T\"),3)=\"768\",\"\",RTD(\"cqg.rtd\", ,\"ContractData\",B48, \"Bid\",, \"T\"))","v":0.25},{"$f":"IF(LEFT(RTD(\"cqg.rtd\", ,\"ContractData\",B48, \"LastTrade\",, \"T\"),3)=\"768\",\"\",RTD(\"cqg.rtd\", ,\"ContractData\",B48, \"Ask\",, \"T\"))","v":0.3},{"$f":"IF(LEFT(RTD(\"cqg.rtd\", ,\"ContractData\",B48, \"LastTrade\",, \"T\"),3)=\"768\",\"\",RTD(\"cqg.rtd\", ,\"ContractData\",B48, \"MT_LastAskVolume\",, \"T\"))","v":29},{"$f":"IF(LEFT(RTD(\"cqg.rtd\", ,\"ContractData\",B48, \"LastTrade\",, \"T\"),3)=\"768\",\"\",RTD(\"cqg.rtd\", ,\"ContractData\",B48, \"T_CVol\",, \"T\"))","v":63},{"$f":"IF(LEFT(RTD(\"cqg.rtd\", ,\"ContractData\",B48, \"LastTrade\",, \"T\"),3)=\"768\",\"\",RTD(\"cqg.rtd\", ,\"ContractData\",B48, \"Y_CVol\",, \"T\"))","v":246},{"$f":"IF(LEFT(RTD(\"cqg.rtd\", ,\"ContractData\",B48, \"LastTrade\",, \"T\"),3)=\"768\",\"\",IFERROR(IF(I48>J48,\"+\"&I48-J48,I48-J48)*1,\"\"))","v":-183},{"$f":"IF(LEFT(RTD(\"cqg.rtd\", ,\"ContractData\",B48, \"LastTrade\",, \"T\"),3)=\"768\",\"\",RTD(\"cqg.rtd\",,\"StudyData\",B48,  \"Bar\",,  \"ContractOI\", \"D\", \"-1\",,,,,\"T\"))","v":715},{"$f":"IF(LEFT(RTD(\"cqg.rtd\", ,\"ContractData\",B48, \"LastTrade\",, \"T\"),3)=\"768\",\"\",RTD(\"cqg.rtd\",,\"StudyData\",B48,  \"Bar\",,  \"ContractOI\", \"D\", \"-2\",,,,,\"T\"))","v":656},{"$f":"IF(LEFT(RTD(\"cqg.rtd\", ,\"ContractData\",B48, \"LastTrade\",, \"T\"),3)=\"768\",\"\",IFERROR(IF(L48>M48,\"+\"&L48-M48,L48-M48)*1,\"\"))","v":59}]
[{"$f":"'Call Data'!A49","v":7000},{"$f":"\"P\"&RIGHT('Call Data'!B49,LEN('Call Data'!B49)-1)","v":"P.US.CLEJ267000"},{"$f":"IF(LEFT(RTD(\"cqg.rtd\", ,\"ContractData\",B49, \"LastTrade\",, \"T\"),3)=\"768\",\"\",RTD(\"cqg.rtd\", ,\"ContractData\",B49, \"LastTrade\",, \"T\"))","v":0.34},{"$f":"IF(C49=\"\",\"\",RTD(\"cqg.rtd\", ,\"ContractData\",B49, \"NetLastTrade\",, \"T\"))","v":-0.34},{"$f":"IF(LEFT(RTD(\"cqg.rtd\", ,\"ContractData\",B49, \"LastTrade\",, \"T\"),3)=\"768\",\"\",RTD(\"cqg.rtd\", ,\"ContractData\",B49, \"MT_LastBidVolume\",, \"T\"))","v":39},{"$f":"IF(LEFT(RTD(\"cqg.rtd\", ,\"ContractData\",B49, \"LastTrade\",, \"T\"),3)=\"768\",\"\",RTD(\"cqg.rtd\", ,\"ContractData\",B49, \"Bid\",, \"T\"))","v":0.28000000000000003},{"$f":"IF(LEFT(RTD(\"cqg.rtd\", ,\"ContractData\",B49, \"LastTrade\",, \"T\"),3)=\"768\",\"\",RTD(\"cqg.rtd\", ,\"ContractData\",B49, \"Ask\",, \"T\"))","v":0.32},{"$f":"IF(LEFT(RTD(\"cqg.rtd\", ,\"ContractData\",B49, \"LastTrade\",, \"T\"),3)=\"768\",\"\",RTD(\"cqg.rtd\", ,\"ContractData\",B49, \"MT_LastAskVolume\",, \"T\"))","v":1},{"$f":"IF(LEFT(RTD(\"cqg.rtd\", ,\"ContractData\",B49, \"LastTrade\",, \"T\"),3)=\"768\",\"\",RTD(\"cqg.rtd\", ,\"ContractData\",B49, \"T_CVol\",, \"T\"))","v":1135},{"$f":"IF(LEFT(RTD(\"cqg.rtd\", ,\"ContractData\",B49, \"LastTrade\",, \"T\"),3)=\"768\",\"\",RTD(\"cqg.rtd\", ,\"ContractData\",B49, \"Y_CVol\",, \"T\"))","v":4053},{"$f":"IF(LEFT(RTD(\"cqg.rtd\", ,\"ContractData\",B49, \"LastTrade\",, \"T\"),3)=\"768\",\"\",IFERROR(IF(I49>J49,\"+\"&I49-J49,I49-J49)*1,\"\"))","v":-2918},{"$f":"IF(LEFT(RTD(\"cqg.rtd\", ,\"ContractData\",B49, \"LastTrade\",, \"T\"),3)=\"768\",\"\",RTD(\"cqg.rtd\",,\"StudyData\",B49,  \"Bar\",,  \"ContractOI\", \"D\", \"-1\",,,,,\"T\"))","v":8321},{"$f":"IF(LEFT(RTD(\"cqg.rtd\", ,\"ContractData\",B49, \"LastTrade\",, \"T\"),3)=\"768\",\"\",RTD(\"cqg.rtd\",,\"StudyData\",B49,  \"Bar\",,  \"ContractOI\", \"D\", \"-2\",,,,,\"T\"))","v":8368},{"$f":"IF(LEFT(RTD(\"cqg.rtd\", ,\"ContractData\",B49, \"LastTrade\",, \"T\"),3)=\"768\",\"\",IFERROR(IF(L49>M49,\"+\"&L49-M49,L49-M49)*1,\"\"))","v":-47}]
[{"$f":"'Call Data'!A50","v":7050},{"$f":"\"P\"&RIGHT('Call Data'!B50,LEN('Call Data'!B50)-1)","v":"P.US.CLEJ267050"},{"$f":"IF(LEFT(RTD(\"cqg.rtd\", ,\"ContractData\",B50, \"LastTrade\",, \"T\"),3)=\"768\",\"\",RTD(\"cqg.rtd\", ,\"ContractData\",B50, \"LastTrade\",, \"T\"))","v":0.36},{"$f":"IF(C50=\"\",\"\",RTD(\"cqg.rtd\", ,\"ContractData\",B50, \"NetLastTrade\",, \"T\"))","v":-0.38},{"$f":"IF(LEFT(RTD(\"cqg.rtd\", ,\"ContractData\",B50, \"LastTrade\",, \"T\"),3)=\"768\",\"\",RTD(\"cqg.rtd\", ,\"ContractData\",B50, \"MT_LastBidVolume\",, \"T\"))","v":53},{"$f":"IF(LEFT(RTD(\"cqg.rtd\", ,\"ContractData\",B50, \"LastTrade\",, \"T\"),3)=\"768\",\"\",RTD(\"cqg.rtd\", ,\"ContractData\",B50, \"Bid\",, \"T\"))","v":0.31},{"$f":"IF(LEFT(RTD(\"cqg.rtd\", ,\"ContractData\",B50, \"LastTrade\",, \"T\"),3)=\"768\",\"\",RTD(\"cqg.rtd\", ,\"ContractData\",B50, \"Ask\",, \"T\"))","v":0.37},{"$f":"IF(LEFT(RTD(\"cqg.rtd\", ,\"ContractData\",B50, \"LastTrade\",, \"T\"),3)=\"768\",\"\",RTD(\"cqg.rtd\", ,\"ContractData\",B50, \"MT_LastAskVolume\",, \"T\"))","v":42},{"$f":"IF(LEFT(RTD(\"cqg.rtd\", ,\"ContractData\",B50, \"LastTrade\",, \"T\"),3)=\"768\",\"\",RTD(\"cqg.rtd\", ,\"ContractData\",B50, \"T_CVol\",, \"T\"))","v":34},{"$f":"IF(LEFT(RTD(\"cqg.rtd\", ,\"ContractData\",B50, \"LastTrade\",, \"T\"),3)=\"768\",\"\",RTD(\"cqg.rtd\", ,\"ContractData\",B50, \"Y_CVol\",, \"T\"))","v":116},{"$f":"IF(LEFT(RTD(\"cqg.rtd\", ,\"ContractData\",B50, \"LastTrade\",, \"T\"),3)=\"768\",\"\",IFERROR(IF(I50>J50,\"+\"&I50-J50,I50-J50)*1,\"\"))","v":-82},{"$f":"IF(LEFT(RTD(\"cqg.rtd\", ,\"ContractData\",B50, \"LastTrade\",, \"T\"),3)=\"768\",\"\",RTD(\"cqg.rtd\",,\"StudyData\",B50,  \"Bar\",,  \"ContractOI\", \"D\", \"-1\",,,,,\"T\"))","v":406},{"$f":"IF(LEFT(RTD(\"cqg.rtd\", ,\"ContractData\",B50, \"LastTrade\",, \"T\"),3)=\"768\",\"\",RTD(\"cqg.rtd\",,\"StudyData\",B50,  \"Bar\",,  \"ContractOI\", \"D\", \"-2\",,,,,\"T\"))","v":384},{"$f":"IF(LEFT(RTD(\"cqg.rtd\", ,\"ContractData\",B50, \"LastTrade\",, \"T\"),3)=\"768\",\"\",IFERROR(IF(L50>M50,\"+\"&L50-M50,L50-M50)*1,\"\"))","v":22}]
[{"$f":"'Call Data'!A51","v":7100},{"$f":"\"P\"&RIGHT('Call Data'!B51,LEN('Call Data'!B51)-1)","v":"P.US.CLEJ267100"},{"$f":"IF(LEFT(RTD(\"cqg.rtd\", ,\"ContractData\",B51, \"LastTrade\",, \"T\"),3)=\"768\",\"\",RTD(\"cqg.rtd\", ,\"ContractData\",B51, \"LastTrade\",, \"T\"))","v":0.39},{"$f":"IF(C51=\"\",\"\",RTD(\"cqg.rtd\", ,\"ContractData\",B51, \"NetLastTrade\",, \"T\"))","v":-0.43000000000000005},{"$f":"IF(LEFT(RTD(\"cqg.rtd\", ,\"ContractData\",B51, \"LastTrade\",, \"T\"),3)=\"768\",\"\",RTD(\"cqg.rtd\", ,\"ContractData\",B51, \"MT_LastBidVolume\",, \"T\"))","v":1},{"$f":"IF(LEFT(RTD(\"cqg.rtd\", ,\"ContractData\",B51, \"LastTrade\",, \"T\"),3)=\"768\",\"\",RTD(\"cqg.rtd\", ,\"ContractData\",B51, \"Bid\",, \"T\"))","v":0.35000000000000003},{"$f":"IF(LEFT(RTD(\"cqg.rtd\", ,\"ContractData\",B51, \"LastTrade\",, \"T\"),3)=\"768\",\"\",RTD(\"cqg.rtd\", ,\"ContractData\",B51, \"Ask\",, \"T\"))","v":0.4},{"$f":"IF(LEFT(RTD(\"cqg.rtd\", ,\"ContractData\",B51, \"LastTrade\",, \"T\"),3)=\"768\",\"\",RTD(\"cqg.rtd\", ,\"ContractData\",B51, \"MT_LastAskVolume\",, \"T\"))","v":26},{"$f":"IF(LEFT(RTD(\"cqg.rtd\", ,\"ContractData\",B51, \"LastTrade\",, \"T\"),3)=\"768\",\"\",RTD(\"cqg.rtd\", ,\"ContractData\",B51, \"T_CVol\",, \"T\"))","v":83},{"$f":"IF(LEFT(RTD(\"cqg.rtd\", ,\"ContractData\",B51, \"LastTrade\",, \"T\"),3)=\"768\",\"\",RTD(\"cqg.rtd\", ,\"ContractData\",B51, \"Y_CVol\",, \"T\"))","v":351},{"$f":"IF(LEFT(RTD(\"cqg.rtd\", ,\"ContractData\",B51, \"LastTrade\",, \"T\"),3)=\"768\",\"\",IFERROR(IF(I51>J51,\"+\"&I51-J51,I51-J51)*1,\"\"))","v":-268},{"$f":"IF(LEFT(RTD(\"cqg.rtd\", ,\"ContractData\",B51, \"LastTrade\",, \"T\"),3)=\"768\",\"\",RTD(\"cqg.rtd\",,\"StudyData\",B51,  \"Bar\",,  \"ContractOI\", \"D\", \"-1\",,,,,\"T\"))","v":4152},{"$f":"IF(LEFT(RTD(\"cqg.rtd\", ,\"ContractData\",B51, \"LastTrade\",, \"T\"),3)=\"768\",\"\",RTD(\"cqg.rtd\",,\"StudyData\",B51,  \"Bar\",,  \"ContractOI\", \"D\", \"-2\",,,,,\"T\"))","v":4092},{"$f":"IF(LEFT(RTD(\"cqg.rtd\", ,\"ContractData\",B51, \"LastTrade\",, \"T\"),3)=\"768\",\"\",IFERROR(IF(L51>M51,\"+\"&L51-M51,L51-M51)*1,\"\"))","v":60}]
[{"$f":"'Call Data'!A52","v":7150},{"$f":"\"P\"&RIGHT('Call Data'!B52,LEN('Call Data'!B52)-1)","v":"P.US.CLEJ267150"},{"$f":"IF(LEFT(RTD(\"cqg.rtd\", ,\"ContractData\",B52, \"LastTrade\",, \"T\"),3)=\"768\",\"\",RTD(\"cqg.rtd\", ,\"ContractData\",B52, \"LastTrade\",, \"T\"))","v":0.32},{"$f":"IF(C52=\"\",\"\",RTD(\"cqg.rtd\", ,\"ContractData\",B52, \"NetLastTrade\",, \"T\"))","v":-0.58000000000000007},{"$f":"IF(LEFT(RTD(\"cqg.rtd\", ,\"ContractData\",B52, \"LastTrade\",, \"T\"),3)=\"768\",\"\",RTD(\"cqg.rtd\", ,\"ContractData\",B52, \"MT_LastBidVolume\",, \"T\"))","v":43},{"$f":"IF(LEFT(RTD(\"cqg.rtd\", ,\"ContractData\",B52, \"LastTrade\",, \"T\"),3)=\"768\",\"\",RTD(\"cqg.rtd\", ,\"ContractData\",B52, \"Bid\",, \"T\"))","v":0.38},{"$f":"IF(LEFT(RTD(\"cqg.rtd\", ,\"ContractData\",B52, \"LastTrade\",, \"T\"),3)=\"768\",\"\",RTD(\"cqg.rtd\", ,\"ContractData\",B52, \"Ask\",, \"T\"))","v":0.45},{"$f":"IF(LEFT(RTD(\"cqg.rtd\", ,\"ContractData\",B52, \"LastTrade\",, \"T\"),3)=\"768\",\"\",RTD(\"cqg.rtd\", ,\"ContractData\",B52, \"MT_LastAskVolume\",, \"T\"))","v":102},{"$f":"IF(LEFT(RTD(\"cqg.rtd\", ,\"ContractData\",B52, \"LastTrade\",, \"T\"),3)=\"768\",\"\",RTD(\"cqg.rtd\", ,\"ContractData\",B52, \"T_CVol\",, \"T\"))","v":22},{"$f":"IF(LEFT(RTD(\"cqg.rtd\", ,\"ContractData\",B52, \"LastTrade\",, \"T\"),3)=\"768\",\"\",RTD(\"cqg.rtd\", ,\"ContractData\",B52, \"Y_CVol\",, \"T\"))","v":154},{"$f":"IF(LEFT(RTD(\"cqg.rtd\", ,\"ContractData\",B52, \"LastTrade\",, \"T\"),3)=\"768\",\"\",IFERROR(IF(I52>J52,\"+\"&I52-J52,I52-J52)*1,\"\"))","v":-132},{"$f":"IF(LEFT(RTD(\"cqg.rtd\", ,\"ContractData\",B52, \"LastTrade\",, \"T\"),3)=\"768\",\"\",RTD(\"cqg.rtd\",,\"StudyData\",B52,  \"Bar\",,  \"ContractOI\", \"D\", \"-1\",,,,,\"T\"))","v":365},{"$f":"IF(LEFT(RTD(\"cqg.rtd\", ,\"ContractData\",B52, \"LastTrade\",, \"T\"),3)=\"768\",\"\",RTD(\"cqg.rtd\",,\"StudyData\",B52,  \"Bar\",,  \"ContractOI\", \"D\", \"-2\",,,,,\"T\"))","v":326},{"$f":"IF(LEFT(RTD(\"cqg.rtd\", ,\"ContractData\",B52, \"LastTrade\",, \"T\"),3)=\"768\",\"\",IFERROR(IF(L52>M52,\"+\"&L52-M52,L52-M52)*1,\"\"))","v":39}]
[{"$f":"'Call Data'!A53","v":7200},{"$f":"\"P\"&RIGHT('Call Data'!B53,LEN('Call Data'!B53)-1)","v":"P.US.CLEJ267200"},{"$f":"IF(LEFT(RTD(\"cqg.rtd\", ,\"ContractData\",B53, \"LastTrade\",, \"T\"),3)=\"768\",\"\",RTD(\"cqg.rtd\", ,\"ContractData\",B53, \"LastTrade\",, \"T\"))","v":0.49},{"$f":"IF(C53=\"\",\"\",RTD(\"cqg.rtd\", ,\"ContractData\",B53, \"NetLastTrade\",, \"T\"))","v":-0.49},{"$f":"IF(LEFT(RTD(\"cqg.rtd\", ,\"ContractData\",B53, \"LastTrade\",, \"T\"),3)=\"768\",\"\",RTD(\"cqg.rtd\", ,\"ContractData\",B53, \"MT_LastBidVolume\",, \"T\"))","v":51},{"$f":"IF(LEFT(RTD(\"cqg.rtd\", ,\"ContractData\",B53, \"LastTrade\",, \"T\"),3)=\"768\",\"\",RTD(\"cqg.rtd\", ,\"ContractData\",B53, \"Bid\",, \"T\"))","v":0.42},{"$f":"IF(LEFT(RTD(\"cqg.rtd\", ,\"ContractData\",B53, \"LastTrade\",, \"T\"),3)=\"768\",\"\",RTD(\"cqg.rtd\", ,\"ContractData\",B53, \"Ask\",, \"T\"))","v":0.48},{"$f":"IF(LEFT(RTD(\"cqg.rtd\", ,\"ContractData\",B53, \"LastTrade\",, \"T\"),3)=\"768\",\"\",RTD(\"cqg.rtd\", ,\"ContractData\",B53, \"MT_LastAskVolume\",, \"T\"))","v":1},{"$f":"IF(LEFT(RTD(\"cqg.rtd\", ,\"ContractData\",B53, \"LastTrade\",, \"T\"),3)=\"768\",\"\",RTD(\"cqg.rtd\", ,\"ContractData\",B53, \"T_CVol\",, \"T\"))","v":355},{"$f":"IF(LEFT(RTD(\"cqg.rtd\", ,\"ContractData\",B53, \"LastTrade\",, \"T\"),3)=\"768\",\"\",RTD(\"cqg.rtd\", ,\"ContractData\",B53, \"Y_CVol\",, \"T\"))","v":841},{"$f":"IF(LEFT(RTD(\"cqg.rtd\", ,\"ContractData\",B53, \"LastTrade\",, \"T\"),3)=\"768\",\"\",IFERROR(IF(I53>J53,\"+\"&I53-J53,I53-J53)*1,\"\"))","v":-486},{"$f":"IF(LEFT(RTD(\"cqg.rtd\", ,\"ContractData\",B53, \"LastTrade\",, \"T\"),3)=\"768\",\"\",RTD(\"cqg.rtd\",,\"StudyData\",B53,  \"Bar\",,  \"ContractOI\", \"D\", \"-1\",,,,,\"T\"))","v":4004},{"$f":"IF(LEFT(RTD(\"cqg.rtd\", ,\"ContractData\",B53, \"LastTrade\",, \"T\"),3)=\"768\",\"\",RTD(\"cqg.rtd\",,\"StudyData\",B53,  \"Bar\",,  \"ContractOI\", \"D\", \"-2\",,,,,\"T\"))","v":4073},{"$f":"IF(LEFT(RTD(\"cqg.rtd\", ,\"ContractData\",B53, \"LastTrade\",, \"T\"),3)=\"768\",\"\",IFERROR(IF(L53>M53,\"+\"&L53-M53,L53-M53)*1,\"\"))","v":-69}]
[{"$f":"'Call Data'!A54","v":7250},{"$f":"\"P\"&RIGHT('Call Data'!B54,LEN('Call Data'!B54)-1)","v":"P.US.CLEJ267250"},{"$f":"IF(LEFT(RTD(\"cqg.rtd\", ,\"ContractData\",B54, \"LastTrade\",, \"T\"),3)=\"768\",\"\",RTD(\"cqg.rtd\", ,\"ContractData\",B54, \"LastTrade\",, \"T\"))","v":0.55000000000000004},{"$f":"IF(C54=\"\",\"\",RTD(\"cqg.rtd\", ,\"ContractData\",B54, \"NetLastTrade\",, \"T\"))","v":-0.52},{"$f":"IF(LEFT(RTD(\"cqg.rtd\", ,\"ContractData\",B54, \"LastTrade\",, \"T\"),3)=\"768\",\"\",RTD(\"cqg.rtd\", ,\"ContractData\",B54, \"MT_LastBidVolume\",, \"T\"))","v":45},{"$f":"IF(LEFT(RTD(\"cqg.rtd\", ,\"ContractData\",B54, \"LastTrade\",, \"T\"),3)=\"768\",\"\",RTD(\"cqg.rtd\", ,\"ContractData\",B54, \"Bid\",, \"T\"))","v":0.47000000000000003},{"$f":"IF(LEFT(RTD(\"cqg.rtd\", ,\"ContractData\",B54, \"LastTrade\",, \"T\"),3)=\"768\",\"\",RTD(\"cqg.rtd\", ,\"ContractData\",B54, \"Ask\",, \"T\"))","v":0.53},{"$f":"IF(LEFT(RTD(\"cqg.rtd\", ,\"ContractData\",B54, \"LastTrade\",, \"T\"),3)=\"768\",\"\",RTD(\"cqg.rtd\", ,\"ContractData\",B54, \"MT_LastAskVolume\",, \"T\"))","v":34},{"$f":"IF(LEFT(RTD(\"cqg.rtd\", ,\"ContractData\",B54, \"LastTrade\",, \"T\"),3)=\"768\",\"\",RTD(\"cqg.rtd\", ,\"ContractData\",B54, \"T_CVol\",, \"T\"))","v":82},{"$f":"IF(LEFT(RTD(\"cqg.rtd\", ,\"ContractData\",B54, \"LastTrade\",, \"T\"),3)=\"768\",\"\",RTD(\"cqg.rtd\", ,\"ContractData\",B54, \"Y_CVol\",, \"T\"))","v":60},{"$f":"IF(LEFT(RTD(\"cqg.rtd\", ,\"ContractData\",B54, \"LastTrade\",, \"T\"),3)=\"768\",\"\",IFERROR(IF(I54>J54,\"+\"&I54-J54,I54-J54)*1,\"\"))","v":22},{"$f":"IF(LEFT(RTD(\"cqg.rtd\", ,\"ContractData\",B54, \"LastTrade\",, \"T\"),3)=\"768\",\"\",RTD(\"cqg.rtd\",,\"StudyData\",B54,  \"Bar\",,  \"ContractOI\", \"D\", \"-1\",,,,,\"T\"))","v":1577},{"$f":"IF(LEFT(RTD(\"cqg.rtd\", ,\"ContractData\",B54, \"LastTrade\",, \"T\"),3)=\"768\",\"\",RTD(\"cqg.rtd\",,\"StudyData\",B54,  \"Bar\",,  \"ContractOI\", \"D\", \"-2\",,,,,\"T\"))","v":1581},{"$f":"IF(LEFT(RTD(\"cqg.rtd\", ,\"ContractData\",B54, \"LastTrade\",, \"T\"),3)=\"768\",\"\",IFERROR(IF(L54>M54,\"+\"&L54-M54,L54-M54)*1,\"\"))","v":-4}]
[{"$f":"'Call Data'!A55","v":7300},{"$f":"\"P\"&RIGHT('Call Data'!B55,LEN('Call Data'!B55)-1)","v":"P.US.CLEJ267300"},{"$f":"IF(LEFT(RTD(\"cqg.rtd\", ,\"ContractData\",B55, \"LastTrade\",, \"T\"),3)=\"768\",\"\",RTD(\"cqg.rtd\", ,\"ContractData\",B55, \"LastTrade\",, \"T\"))","v":0.59},{"$f":"IF(C55=\"\",\"\",RTD(\"cqg.rtd\", ,\"ContractData\",B55, \"NetLastTrade\",, \"T\"))","v":-0.57999999999999996},{"$f":"IF(LEFT(RTD(\"cqg.rtd\", ,\"ContractData\",B55, \"LastTrade\",, \"T\"),3)=\"768\",\"\",RTD(\"cqg.rtd\", ,\"ContractData\",B55, \"MT_LastBidVolume\",, \"T\"))","v":42},{"$f":"IF(LEFT(RTD(\"cqg.rtd\", ,\"ContractData\",B55, \"LastTrade\",, \"T\"),3)=\"768\",\"\",RTD(\"cqg.rtd\", ,\"ContractData\",B55, \"Bid\",, \"T\"))","v":0.52},{"$f":"IF(LEFT(RTD(\"cqg.rtd\", ,\"ContractData\",B55, \"LastTrade\",, \"T\"),3)=\"768\",\"\",RTD(\"cqg.rtd\", ,\"ContractData\",B55, \"Ask\",, \"T\"))","v":0.57999999999999996},{"$f":"IF(LEFT(RTD(\"cqg.rtd\", ,\"ContractData\",B55, \"LastTrade\",, \"T\"),3)=\"768\",\"\",RTD(\"cqg.rtd\", ,\"ContractData\",B55, \"MT_LastAskVolume\",, \"T\"))","v":33},{"$f":"IF(LEFT(RTD(\"cqg.rtd\", ,\"ContractData\",B55, \"LastTrade\",, \"T\"),3)=\"768\",\"\",RTD(\"cqg.rtd\", ,\"ContractData\",B55, \"T_CVol\",, \"T\"))","v":54},{"$f":"IF(LEFT(RTD(\"cqg.rtd\", ,\"ContractData\",B55, \"LastTrade\",, \"T\"),3)=\"768\",\"\",RTD(\"cqg.rtd\", ,\"ContractData\",B55, \"Y_CVol\",, \"T\"))","v":130},{"$f":"IF(LEFT(RTD(\"cqg.rtd\", ,\"ContractData\",B55, \"LastTrade\",, \"T\"),3)=\"768\",\"\",IFERROR(IF(I55>J55,\"+\"&I55-J55,I55-J55)*1,\"\"))","v":-76},{"$f":"IF(LEFT(RTD(\"cqg.rtd\", ,\"ContractData\",B55, \"LastTrade\",, \"T\"),3)=\"768\",\"\",RTD(\"cqg.rtd\",,\"StudyData\",B55,  \"Bar\",,  \"ContractOI\", \"D\", \"-1\",,,,,\"T\"))","v":780},{"$f":"IF(LEFT(RTD(\"cqg.rtd\", ,\"ContractData\",B55, \"LastTrade\",, \"T\"),3)=\"768\",\"\",RTD(\"cqg.rtd\",,\"StudyData\",B55,  \"Bar\",,  \"ContractOI\", \"D\", \"-2\",,,,,\"T\"))","v":755},{"$f":"IF(LEFT(RTD(\"cqg.rtd\", ,\"ContractData\",B55, \"LastTrade\",, \"T\"),3)=\"768\",\"\",IFERROR(IF(L55>M55,\"+\"&L55-M55,L55-M55)*1,\"\"))","v":25}]
[{"$f":"'Call Data'!A56","v":7350},{"$f":"\"P\"&RIGHT('Call Data'!B56,LEN('Call Data'!B56)-1)","v":"P.US.CLEJ267350"},{"$f":"IF(LEFT(RTD(\"cqg.rtd\", ,\"ContractData\",B56, \"LastTrade\",, \"T\"),3)=\"768\",\"\",RTD(\"cqg.rtd\", ,\"ContractData\",B56, \"LastTrade\",, \"T\"))","v":0.45},{"$f":"IF(C56=\"\",\"\",RTD(\"cqg.rtd\", ,\"ContractData\",B56, \"NetLastTrade\",, \"T\"))","v":-0.83000000000000007},{"$f":"IF(LEFT(RTD(\"cqg.rtd\", ,\"ContractData\",B56, \"LastTrade\",, \"T\"),3)=\"768\",\"\",RTD(\"cqg.rtd\", ,\"ContractData\",B56, \"MT_LastBidVolume\",, \"T\"))","v":32},{"$f":"IF(LEFT(RTD(\"cqg.rtd\", ,\"ContractData\",B56, \"LastTrade\",, \"T\"),3)=\"768\",\"\",RTD(\"cqg.rtd\", ,\"ContractData\",B56, \"Bid\",, \"T\"))","v":0.57000000000000006},{"$f":"IF(LEFT(RTD(\"cqg.rtd\", ,\"ContractData\",B56, \"LastTrade\",, \"T\"),3)=\"768\",\"\",RTD(\"cqg.rtd\", ,\"ContractData\",B56, \"Ask\",, \"T\"))","v":0.64},{"$f":"IF(LEFT(RTD(\"cqg.rtd\", ,\"ContractData\",B56, \"LastTrade\",, \"T\"),3)=\"768\",\"\",RTD(\"cqg.rtd\", ,\"ContractData\",B56, \"MT_LastAskVolume\",, \"T\"))","v":90},{"$f":"IF(LEFT(RTD(\"cqg.rtd\", ,\"ContractData\",B56, \"LastTrade\",, \"T\"),3)=\"768\",\"\",RTD(\"cqg.rtd\", ,\"ContractData\",B56, \"T_CVol\",, \"T\"))","v":24},{"$f":"IF(LEFT(RTD(\"cqg.rtd\", ,\"ContractData\",B56, \"LastTrade\",, \"T\"),3)=\"768\",\"\",RTD(\"cqg.rtd\", ,\"ContractData\",B56, \"Y_CVol\",, \"T\"))","v":73},{"$f":"IF(LEFT(RTD(\"cqg.rtd\", ,\"ContractData\",B56, \"LastTrade\",, \"T\"),3)=\"768\",\"\",IFERROR(IF(I56>J56,\"+\"&I56-J56,I56-J56)*1,\"\"))","v":-49},{"$f":"IF(LEFT(RTD(\"cqg.rtd\", ,\"ContractData\",B56, \"LastTrade\",, \"T\"),3)=\"768\",\"\",RTD(\"cqg.rtd\",,\"StudyData\",B56,  \"Bar\",,  \"ContractOI\", \"D\", \"-1\",,,,,\"T\"))","v":474},{"$f":"IF(LEFT(RTD(\"cqg.rtd\", ,\"ContractData\",B56, \"LastTrade\",, \"T\"),3)=\"768\",\"\",RTD(\"cqg.rtd\",,\"StudyData\",B56,  \"Bar\",,  \"ContractOI\", \"D\", \"-2\",,,,,\"T\"))","v":486},{"$f":"IF(LEFT(RTD(\"cqg.rtd\", ,\"ContractData\",B56, \"LastTrade\",, \"T\"),3)=\"768\",\"\",IFERROR(IF(L56>M56,\"+\"&L56-M56,L56-M56)*1,\"\"))","v":-12}]
[{"$f":"'Call Data'!A57","v":7400},{"$f":"\"P\"&RIGHT('Call Data'!B57,LEN('Call Data'!B57)-1)","v":"P.US.CLEJ267400"},{"$f":"IF(LEFT(RTD(\"cqg.rtd\", ,\"ContractData\",B57, \"LastTrade\",, \"T\"),3)=\"768\",\"\",RTD(\"cqg.rtd\", ,\"ContractData\",B57, \"LastTrade\",, \"T\"))","v":0.75},{"$f":"IF(C57=\"\",\"\",RTD(\"cqg.rtd\", ,\"ContractData\",B57, \"NetLastTrade\",, \"T\"))","v":-0.65000000000000013},{"$f":"IF(LEFT(RTD(\"cqg.rtd\", ,\"ContractData\",B57, \"LastTrade\",, \"T\"),3)=\"768\",\"\",RTD(\"cqg.rtd\", ,\"ContractData\",B57, \"MT_LastBidVolume\",, \"T\"))","v":1},{"$f":"IF(LEFT(RTD(\"cqg.rtd\", ,\"ContractData\",B57, \"LastTrade\",, \"T\"),3)=\"768\",\"\",RTD(\"cqg.rtd\", ,\"ContractData\",B57, \"Bid\",, \"T\"))","v":0.64},{"$f":"IF(LEFT(RTD(\"cqg.rtd\", ,\"ContractData\",B57, \"LastTrade\",, \"T\"),3)=\"768\",\"\",RTD(\"cqg.rtd\", ,\"ContractData\",B57, \"Ask\",, \"T\"))","v":0.70000000000000007},{"$f":"IF(LEFT(RTD(\"cqg.rtd\", ,\"ContractData\",B57, \"LastTrade\",, \"T\"),3)=\"768\",\"\",RTD(\"cqg.rtd\", ,\"ContractData\",B57, \"MT_LastAskVolume\",, \"T\"))","v":86},{"$f":"IF(LEFT(RTD(\"cqg.rtd\", ,\"ContractData\",B57, \"LastTrade\",, \"T\"),3)=\"768\",\"\",RTD(\"cqg.rtd\", ,\"ContractData\",B57, \"T_CVol\",, \"T\"))","v":197},{"$f":"IF(LEFT(RTD(\"cqg.rtd\", ,\"ContractData\",B57, \"LastTrade\",, \"T\"),3)=\"768\",\"\",RTD(\"cqg.rtd\", ,\"ContractData\",B57, \"Y_CVol\",, \"T\"))","v":721},{"$f":"IF(LEFT(RTD(\"cqg.rtd\", ,\"ContractData\",B57, \"LastTrade\",, \"T\"),3)=\"768\",\"\",IFERROR(IF(I57>J57,\"+\"&I57-J57,I57-J57)*1,\"\"))","v":-524},{"$f":"IF(LEFT(RTD(\"cqg.rtd\", ,\"ContractData\",B57, \"LastTrade\",, \"T\"),3)=\"768\",\"\",RTD(\"cqg.rtd\",,\"StudyData\",B57,  \"Bar\",,  \"ContractOI\", \"D\", \"-1\",,,,,\"T\"))","v":1677},{"$f":"IF(LEFT(RTD(\"cqg.rtd\", ,\"ContractData\",B57, \"LastTrade\",, \"T\"),3)=\"768\",\"\",RTD(\"cqg.rtd\",,\"StudyData\",B57,  \"Bar\",,  \"ContractOI\", \"D\", \"-2\",,,,,\"T\"))","v":1989},{"$f":"IF(LEFT(RTD(\"cqg.rtd\", ,\"ContractData\",B57, \"LastTrade\",, \"T\"),3)=\"768\",\"\",IFERROR(IF(L57>M57,\"+\"&L57-M57,L57-M57)*1,\"\"))","v":-312}]
[{"$f":"'Call Data'!A58","v":7450},{"$f":"\"P\"&RIGHT('Call Data'!B58,LEN('Call Data'!B58)-1)","v":"P.US.CLEJ267450"},{"$f":"IF(LEFT(RTD(\"cqg.rtd\", ,\"ContractData\",B58, \"LastTrade\",, \"T\"),3)=\"768\",\"\",RTD(\"cqg.rtd\", ,\"ContractData\",B58, \"LastTrade\",, \"T\"))","v":0.81},{"$f":"IF(C58=\"\",\"\",RTD(\"cqg.rtd\", ,\"ContractData\",B58, \"NetLastTrade\",, \"T\"))","v":-0.71},{"$f":"IF(LEFT(RTD(\"cqg.rtd\", ,\"ContractData\",B58, \"LastTrade\",, \"T\"),3)=\"768\",\"\",RTD(\"cqg.rtd\", ,\"ContractData\",B58, \"MT_LastBidVolume\",, \"T\"))","v":3},{"$f":"IF(LEFT(RTD(\"cqg.rtd\", ,\"ContractData\",B58, \"LastTrade\",, \"T\"),3)=\"768\",\"\",RTD(\"cqg.rtd\", ,\"ContractData\",B58, \"Bid\",, \"T\"))","v":0.69000000000000006},{"$f":"IF(LEFT(RTD(\"cqg.rtd\", ,\"ContractData\",B58, \"LastTrade\",, \"T\"),3)=\"768\",\"\",RTD(\"cqg.rtd\", ,\"ContractData\",B58, \"Ask\",, \"T\"))","v":0.76},{"$f":"IF(LEFT(RTD(\"cqg.rtd\", ,\"ContractData\",B58, \"LastTrade\",, \"T\"),3)=\"768\",\"\",RTD(\"cqg.rtd\", ,\"ContractData\",B58, \"MT_LastAskVolume\",, \"T\"))","v":23},{"$f":"IF(LEFT(RTD(\"cqg.rtd\", ,\"ContractData\",B58, \"LastTrade\",, \"T\"),3)=\"768\",\"\",RTD(\"cqg.rtd\", ,\"ContractData\",B58, \"T_CVol\",, \"T\"))","v":55},{"$f":"IF(LEFT(RTD(\"cqg.rtd\", ,\"ContractData\",B58, \"LastTrade\",, \"T\"),3)=\"768\",\"\",RTD(\"cqg.rtd\", ,\"ContractData\",B58, \"Y_CVol\",, \"T\"))","v":62},{"$f":"IF(LEFT(RTD(\"cqg.rtd\", ,\"ContractData\",B58, \"LastTrade\",, \"T\"),3)=\"768\",\"\",IFERROR(IF(I58>J58,\"+\"&I58-J58,I58-J58)*1,\"\"))","v":-7},{"$f":"IF(LEFT(RTD(\"cqg.rtd\", ,\"ContractData\",B58, \"LastTrade\",, \"T\"),3)=\"768\",\"\",RTD(\"cqg.rtd\",,\"StudyData\",B58,  \"Bar\",,  \"ContractOI\", \"D\", \"-1\",,,,,\"T\"))","v":2903},{"$f":"IF(LEFT(RTD(\"cqg.rtd\", ,\"ContractData\",B58, \"LastTrade\",, \"T\"),3)=\"768\",\"\",RTD(\"cqg.rtd\",,\"StudyData\",B58,  \"Bar\",,  \"ContractOI\", \"D\", \"-2\",,,,,\"T\"))","v":2873},{"$f":"IF(LEFT(RTD(\"cqg.rtd\", ,\"ContractData\",B58, \"LastTrade\",, \"T\"),3)=\"768\",\"\",IFERROR(IF(L58>M58,\"+\"&L58-M58,L58-M58)*1,\"\"))","v":30}]
[{"$f":"'Call Data'!A59","v":7500},{"$f":"\"P\"&RIGHT('Call Data'!B59,LEN('Call Data'!B59)-1)","v":"P.US.CLEJ267500"},{"$f":"IF(LEFT(RTD(\"cqg.rtd\", ,\"ContractData\",B59, \"LastTrade\",, \"T\"),3)=\"768\",\"\",RTD(\"cqg.rtd\", ,\"ContractData\",B59, \"LastTrade\",, \"T\"))","v":0.85},{"$f":"IF(C59=\"\",\"\",RTD(\"cqg.rtd\", ,\"ContractData\",B59, \"NetLastTrade\",, \"T\"))","v":-0.80000000000000016},{"$f":"IF(LEFT(RTD(\"cqg.rtd\", ,\"ContractData\",B59, \"LastTrade\",, \"T\"),3)=\"768\",\"\",RTD(\"cqg.rtd\", ,\"ContractData\",B59, \"MT_LastBidVolume\",, \"T\"))","v":1},{"$f":"IF(LEFT(RTD(\"cqg.rtd\", ,\"ContractData\",B59, \"LastTrade\",, \"T\"),3)=\"768\",\"\",RTD(\"cqg.rtd\", ,\"ContractData\",B59, \"Bid\",, \"T\"))","v":0.77},{"$f":"IF(LEFT(RTD(\"cqg.rtd\", ,\"ContractData\",B59, \"LastTrade\",, \"T\"),3)=\"768\",\"\",RTD(\"cqg.rtd\", ,\"ContractData\",B59, \"Ask\",, \"T\"))","v":0.83000000000000007},{"$f":"IF(LEFT(RTD(\"cqg.rtd\", ,\"ContractData\",B59, \"LastTrade\",, \"T\"),3)=\"768\",\"\",RTD(\"cqg.rtd\", ,\"ContractData\",B59, \"MT_LastAskVolume\",, \"T\"))","v":23},{"$f":"IF(LEFT(RTD(\"cqg.rtd\", ,\"ContractData\",B59, \"LastTrade\",, \"T\"),3)=\"768\",\"\",RTD(\"cqg.rtd\", ,\"ContractData\",B59, \"T_CVol\",, \"T\"))","v":585},{"$f":"IF(LEFT(RTD(\"cqg.rtd\", ,\"ContractData\",B59, \"LastTrade\",, \"T\"),3)=\"768\",\"\",RTD(\"cqg.rtd\", ,\"ContractData\",B59, \"Y_CVol\",, \"T\"))","v":5848},{"$f":"IF(LEFT(RTD(\"cqg.rtd\", ,\"ContractData\",B59, \"LastTrade\",, \"T\"),3)=\"768\",\"\",IFERROR(IF(I59>J59,\"+\"&I59-J59,I59-J59)*1,\"\"))","v":-5263},{"$f":"IF(LEFT(RTD(\"cqg.rtd\", ,\"ContractData\",B59, \"LastTrade\",, \"T\"),3)=\"768\",\"\",RTD(\"cqg.rtd\",,\"StudyData\",B59,  \"Bar\",,  \"ContractOI\", \"D\", \"-1\",,,,,\"T\"))","v":9191},{"$f":"IF(LEFT(RTD(\"cqg.rtd\", ,\"ContractData\",B59, \"LastTrade\",, \"T\"),3)=\"768\",\"\",RTD(\"cqg.rtd\",,\"StudyData\",B59,  \"Bar\",,  \"ContractOI\", \"D\", \"-2\",,,,,\"T\"))","v":9175},{"$f":"IF(LEFT(RTD(\"cqg.rtd\", ,\"ContractData\",B59, \"LastTrade\",, \"T\"),3)=\"768\",\"\",IFERROR(IF(L59>M59,\"+\"&L59-M59,L59-M59)*1,\"\"))","v":16}]
[{"$f":"'Call Data'!A60","v":7550},{"$f":"\"P\"&RIGHT('Call Data'!B60,LEN('Call Data'!B60)-1)","v":"P.US.CLEJ267550"},{"$f":"IF(LEFT(RTD(\"cqg.rtd\", ,\"ContractData\",B60, \"LastTrade\",, \"T\"),3)=\"768\",\"\",RTD(\"cqg.rtd\", ,\"ContractData\",B60, \"LastTrade\",, \"T\"))","v":0.93},{"$f":"IF(C60=\"\",\"\",RTD(\"cqg.rtd\", ,\"ContractData\",B60, \"NetLastTrade\",, \"T\"))","v":-0.86},{"$f":"IF(LEFT(RTD(\"cqg.rtd\", ,\"ContractData\",B60, \"LastTrade\",, \"T\"),3)=\"768\",\"\",RTD(\"cqg.rtd\", ,\"ContractData\",B60, \"MT_LastBidVolume\",, \"T\"))","v":1},{"$f":"IF(LEFT(RTD(\"cqg.rtd\", ,\"ContractData\",B60, \"LastTrade\",, \"T\"),3)=\"768\",\"\",RTD(\"cqg.rtd\", ,\"ContractData\",B60, \"Bid\",, \"T\"))","v":0.85},{"$f":"IF(LEFT(RTD(\"cqg.rtd\", ,\"ContractData\",B60, \"LastTrade\",, \"T\"),3)=\"768\",\"\",RTD(\"cqg.rtd\", ,\"ContractData\",B60, \"Ask\",, \"T\"))","v":0.91},{"$f":"IF(LEFT(RTD(\"cqg.rtd\", ,\"ContractData\",B60, \"LastTrade\",, \"T\"),3)=\"768\",\"\",RTD(\"cqg.rtd\", ,\"ContractData\",B60, \"MT_LastAskVolume\",, \"T\"))","v":20},{"$f":"IF(LEFT(RTD(\"cqg.rtd\", ,\"ContractData\",B60, \"LastTrade\",, \"T\"),3)=\"768\",\"\",RTD(\"cqg.rtd\", ,\"ContractData\",B60, \"T_CVol\",, \"T\"))","v":13},{"$f":"IF(LEFT(RTD(\"cqg.rtd\", ,\"ContractData\",B60, \"LastTrade\",, \"T\"),3)=\"768\",\"\",RTD(\"cqg.rtd\", ,\"ContractData\",B60, \"Y_CVol\",, \"T\"))","v":18},{"$f":"IF(LEFT(RTD(\"cqg.rtd\", ,\"ContractData\",B60, \"LastTrade\",, \"T\"),3)=\"768\",\"\",IFERROR(IF(I60>J60,\"+\"&I60-J60,I60-J60)*1,\"\"))","v":-5},{"$f":"IF(LEFT(RTD(\"cqg.rtd\", ,\"ContractData\",B60, \"LastTrade\",, \"T\"),3)=\"768\",\"\",RTD(\"cqg.rtd\",,\"StudyData\",B60,  \"Bar\",,  \"ContractOI\", \"D\", \"-1\",,,,,\"T\"))","v":2840},{"$f":"IF(LEFT(RTD(\"cqg.rtd\", ,\"ContractData\",B60, \"LastTrade\",, \"T\"),3)=\"768\",\"\",RTD(\"cqg.rtd\",,\"StudyData\",B60,  \"Bar\",,  \"ContractOI\", \"D\", \"-2\",,,,,\"T\"))","v":2843},{"$f":"IF(LEFT(RTD(\"cqg.rtd\", ,\"ContractData\",B60, \"LastTrade\",, \"T\"),3)=\"768\",\"\",IFERROR(IF(L60>M60,\"+\"&L60-M60,L60-M60)*1,\"\"))","v":-3}]
[{"$f":"'Call Data'!A61","v":7600},{"$f":"\"P\"&RIGHT('Call Data'!B61,LEN('Call Data'!B61)-1)","v":"P.US.CLEJ267600"},{"$f":"IF(LEFT(RTD(\"cqg.rtd\", ,\"ContractData\",B61, \"LastTrade\",, \"T\"),3)=\"768\",\"\",RTD(\"cqg.rtd\", ,\"ContractData\",B61, \"LastTrade\",, \"T\"))","v":0.95000000000000007},{"$f":"IF(C61=\"\",\"\",RTD(\"cqg.rtd\", ,\"ContractData\",B61, \"NetLastTrade\",, \"T\"))","v":-0.97999999999999976},{"$f":"IF(LEFT(RTD(\"cqg.rtd\", ,\"ContractData\",B61, \"LastTrade\",, \"T\"),3)=\"768\",\"\",RTD(\"cqg.rtd\", ,\"ContractData\",B61, \"MT_LastBidVolume\",, \"T\"))","v":1},{"$f":"IF(LEFT(RTD(\"cqg.rtd\", ,\"ContractData\",B61, \"LastTrade\",, \"T\"),3)=\"768\",\"\",RTD(\"cqg.rtd\", ,\"ContractData\",B61, \"Bid\",, \"T\"))","v":0.93},{"$f":"IF(LEFT(RTD(\"cqg.rtd\", ,\"ContractData\",B61, \"LastTrade\",, \"T\"),3)=\"768\",\"\",RTD(\"cqg.rtd\", ,\"ContractData\",B61, \"Ask\",, \"T\"))","v":0.99},{"$f":"IF(LEFT(RTD(\"cqg.rtd\", ,\"ContractData\",B61, \"LastTrade\",, \"T\"),3)=\"768\",\"\",RTD(\"cqg.rtd\", ,\"ContractData\",B61, \"MT_LastAskVolume\",, \"T\"))","v":32},{"$f":"IF(LEFT(RTD(\"cqg.rtd\", ,\"ContractData\",B61, \"LastTrade\",, \"T\"),3)=\"768\",\"\",RTD(\"cqg.rtd\", ,\"ContractData\",B61, \"T_CVol\",, \"T\"))","v":169},{"$f":"IF(LEFT(RTD(\"cqg.rtd\", ,\"ContractData\",B61, \"LastTrade\",, \"T\"),3)=\"768\",\"\",RTD(\"cqg.rtd\", ,\"ContractData\",B61, \"Y_CVol\",, \"T\"))","v":3455},{"$f":"IF(LEFT(RTD(\"cqg.rtd\", ,\"ContractData\",B61, \"LastTrade\",, \"T\"),3)=\"768\",\"\",IFERROR(IF(I61>J61,\"+\"&I61-J61,I61-J61)*1,\"\"))","v":-3286},{"$f":"IF(LEFT(RTD(\"cqg.rtd\", ,\"ContractData\",B61, \"LastTrade\",, \"T\"),3)=\"768\",\"\",RTD(\"cqg.rtd\",,\"StudyData\",B61,  \"Bar\",,  \"ContractOI\", \"D\", \"-1\",,,,,\"T\"))","v":1353},{"$f":"IF(LEFT(RTD(\"cqg.rtd\", ,\"ContractData\",B61, \"LastTrade\",, \"T\"),3)=\"768\",\"\",RTD(\"cqg.rtd\",,\"StudyData\",B61,  \"Bar\",,  \"ContractOI\", \"D\", \"-2\",,,,,\"T\"))","v":629},{"$f":"IF(LEFT(RTD(\"cqg.rtd\", ,\"ContractData\",B61, \"LastTrade\",, \"T\"),3)=\"768\",\"\",IFERROR(IF(L61>M61,\"+\"&L61-M61,L61-M61)*1,\"\"))","v":724}]
[{"$f":"'Call Data'!A62","v":7650},{"$f":"\"P\"&RIGHT('Call Data'!B62,LEN('Call Data'!B62)-1)","v":"P.US.CLEJ267650"},{"$f":"IF(LEFT(RTD(\"cqg.rtd\", ,\"ContractData\",B62, \"LastTrade\",, \"T\"),3)=\"768\",\"\",RTD(\"cqg.rtd\", ,\"ContractData\",B62, \"LastTrade\",, \"T\"))","v":2.13},{"$f":"IF(C62=\"\",\"\",RTD(\"cqg.rtd\", ,\"ContractData\",B62, \"NetLastTrade\",, \"T\"))","v":4.9999999999999822E-2},{"$f":"IF(LEFT(RTD(\"cqg.rtd\", ,\"ContractData\",B62, \"LastTrade\",, \"T\"),3)=\"768\",\"\",RTD(\"cqg.rtd\", ,\"ContractData\",B62, \"MT_LastBidVolume\",, \"T\"))","v":18},{"$f":"IF(LEFT(RTD(\"cqg.rtd\", ,\"ContractData\",B62, \"LastTrade\",, \"T\"),3)=\"768\",\"\",RTD(\"cqg.rtd\", ,\"ContractData\",B62, \"Bid\",, \"T\"))","v":1.01},{"$f":"IF(LEFT(RTD(\"cqg.rtd\", ,\"ContractData\",B62, \"LastTrade\",, \"T\"),3)=\"768\",\"\",RTD(\"cqg.rtd\", ,\"ContractData\",B62, \"Ask\",, \"T\"))","v":1.08},{"$f":"IF(LEFT(RTD(\"cqg.rtd\", ,\"ContractData\",B62, \"LastTrade\",, \"T\"),3)=\"768\",\"\",RTD(\"cqg.rtd\", ,\"ContractData\",B62, \"MT_LastAskVolume\",, \"T\"))","v":35},{"$f":"IF(LEFT(RTD(\"cqg.rtd\", ,\"ContractData\",B62, \"LastTrade\",, \"T\"),3)=\"768\",\"\",RTD(\"cqg.rtd\", ,\"ContractData\",B62, \"T_CVol\",, \"T\"))","v":1},{"$f":"IF(LEFT(RTD(\"cqg.rtd\", ,\"ContractData\",B62, \"LastTrade\",, \"T\"),3)=\"768\",\"\",RTD(\"cqg.rtd\", ,\"ContractData\",B62, \"Y_CVol\",, \"T\"))","v":218},{"$f":"IF(LEFT(RTD(\"cqg.rtd\", ,\"ContractData\",B62, \"LastTrade\",, \"T\"),3)=\"768\",\"\",IFERROR(IF(I62>J62,\"+\"&I62-J62,I62-J62)*1,\"\"))","v":-217},{"$f":"IF(LEFT(RTD(\"cqg.rtd\", ,\"ContractData\",B62, \"LastTrade\",, \"T\"),3)=\"768\",\"\",RTD(\"cqg.rtd\",,\"StudyData\",B62,  \"Bar\",,  \"ContractOI\", \"D\", \"-1\",,,,,\"T\"))","v":623},{"$f":"IF(LEFT(RTD(\"cqg.rtd\", ,\"ContractData\",B62, \"LastTrade\",, \"T\"),3)=\"768\",\"\",RTD(\"cqg.rtd\",,\"StudyData\",B62,  \"Bar\",,  \"ContractOI\", \"D\", \"-2\",,,,,\"T\"))","v":697},{"$f":"IF(LEFT(RTD(\"cqg.rtd\", ,\"ContractData\",B62, \"LastTrade\",, \"T\"),3)=\"768\",\"\",IFERROR(IF(L62>M62,\"+\"&L62-M62,L62-M62)*1,\"\"))","v":-74}]
[{"$f":"'Call Data'!A63","v":7700},{"$f":"\"P\"&RIGHT('Call Data'!B63,LEN('Call Data'!B63)-1)","v":"P.US.CLEJ267700"},{"$f":"IF(LEFT(RTD(\"cqg.rtd\", ,\"ContractData\",B63, \"LastTrade\",, \"T\"),3)=\"768\",\"\",RTD(\"cqg.rtd\", ,\"ContractData\",B63, \"LastTrade\",, \"T\"))","v":1.1300000000000001},{"$f":"IF(C63=\"\",\"\",RTD(\"cqg.rtd\", ,\"ContractData\",B63, \"NetLastTrade\",, \"T\"))","v":-1.1199999999999999},{"$f":"IF(LEFT(RTD(\"cqg.rtd\", ,\"ContractData\",B63, \"LastTrade\",, \"T\"),3)=\"768\",\"\",RTD(\"cqg.rtd\", ,\"ContractData\",B63, \"MT_LastBidVolume\",, \"T\"))","v":1},{"$f":"IF(LEFT(RTD(\"cqg.rtd\", ,\"ContractData\",B63, \"LastTrade\",, \"T\"),3)=\"768\",\"\",RTD(\"cqg.rtd\", ,\"ContractData\",B63, \"Bid\",, \"T\"))","v":1.1100000000000001},{"$f":"IF(LEFT(RTD(\"cqg.rtd\", ,\"ContractData\",B63, \"LastTrade\",, \"T\"),3)=\"768\",\"\",RTD(\"cqg.rtd\", ,\"ContractData\",B63, \"Ask\",, \"T\"))","v":1.17},{"$f":"IF(LEFT(RTD(\"cqg.rtd\", ,\"ContractData\",B63, \"LastTrade\",, \"T\"),3)=\"768\",\"\",RTD(\"cqg.rtd\", ,\"ContractData\",B63, \"MT_LastAskVolume\",, \"T\"))","v":32},{"$f":"IF(LEFT(RTD(\"cqg.rtd\", ,\"ContractData\",B63, \"LastTrade\",, \"T\"),3)=\"768\",\"\",RTD(\"cqg.rtd\", ,\"ContractData\",B63, \"T_CVol\",, \"T\"))","v":167},{"$f":"IF(LEFT(RTD(\"cqg.rtd\", ,\"ContractData\",B63, \"LastTrade\",, \"T\"),3)=\"768\",\"\",RTD(\"cqg.rtd\", ,\"ContractData\",B63, \"Y_CVol\",, \"T\"))","v":1435},{"$f":"IF(LEFT(RTD(\"cqg.rtd\", ,\"ContractData\",B63, \"LastTrade\",, \"T\"),3)=\"768\",\"\",IFERROR(IF(I63>J63,\"+\"&I63-J63,I63-J63)*1,\"\"))","v":-1268},{"$f":"IF(LEFT(RTD(\"cqg.rtd\", ,\"ContractData\",B63, \"LastTrade\",, \"T\"),3)=\"768\",\"\",RTD(\"cqg.rtd\",,\"StudyData\",B63,  \"Bar\",,  \"ContractOI\", \"D\", \"-1\",,,,,\"T\"))","v":2010},{"$f":"IF(LEFT(RTD(\"cqg.rtd\", ,\"ContractData\",B63, \"LastTrade\",, \"T\"),3)=\"768\",\"\",RTD(\"cqg.rtd\",,\"StudyData\",B63,  \"Bar\",,  \"ContractOI\", \"D\", \"-2\",,,,,\"T\"))","v":1866},{"$f":"IF(LEFT(RTD(\"cqg.rtd\", ,\"ContractData\",B63, \"LastTrade\",, \"T\"),3)=\"768\",\"\",IFERROR(IF(L63>M63,\"+\"&L63-M63,L63-M63)*1,\"\"))","v":144}]
[{"$f":"'Call Data'!A64","v":7750},{"$f":"\"P\"&RIGHT('Call Data'!B64,LEN('Call Data'!B64)-1)","v":"P.US.CLEJ267750"},{"$f":"IF(LEFT(RTD(\"cqg.rtd\", ,\"ContractData\",B64, \"LastTrade\",, \"T\"),3)=\"768\",\"\",RTD(\"cqg.rtd\", ,\"ContractData\",B64, \"LastTrade\",, \"T\"))","v":1.23},{"$f":"IF(C64=\"\",\"\",RTD(\"cqg.rtd\", ,\"ContractData\",B64, \"NetLastTrade\",, \"T\"))","v":-1.1800000000000002},{"$f":"IF(LEFT(RTD(\"cqg.rtd\", ,\"ContractData\",B64, \"LastTrade\",, \"T\"),3)=\"768\",\"\",RTD(\"cqg.rtd\", ,\"ContractData\",B64, \"MT_LastBidVolume\",, \"T\"))","v":1},{"$f":"IF(LEFT(RTD(\"cqg.rtd\", ,\"ContractData\",B64, \"LastTrade\",, \"T\"),3)=\"768\",\"\",RTD(\"cqg.rtd\", ,\"ContractData\",B64, \"Bid\",, \"T\"))","v":1.2},{"$f":"IF(LEFT(RTD(\"cqg.rtd\", ,\"ContractData\",B64, \"LastTrade\",, \"T\"),3)=\"768\",\"\",RTD(\"cqg.rtd\", ,\"ContractData\",B64, \"Ask\",, \"T\"))","v":1.27},{"$f":"IF(LEFT(RTD(\"cqg.rtd\", ,\"ContractData\",B64, \"LastTrade\",, \"T\"),3)=\"768\",\"\",RTD(\"cqg.rtd\", ,\"ContractData\",B64, \"MT_LastAskVolume\",, \"T\"))","v":28},{"$f":"IF(LEFT(RTD(\"cqg.rtd\", ,\"ContractData\",B64, \"LastTrade\",, \"T\"),3)=\"768\",\"\",RTD(\"cqg.rtd\", ,\"ContractData\",B64, \"T_CVol\",, \"T\"))","v":34},{"$f":"IF(LEFT(RTD(\"cqg.rtd\", ,\"ContractData\",B64, \"LastTrade\",, \"T\"),3)=\"768\",\"\",RTD(\"cqg.rtd\", ,\"ContractData\",B64, \"Y_CVol\",, \"T\"))","v":33},{"$f":"IF(LEFT(RTD(\"cqg.rtd\", ,\"ContractData\",B64, \"LastTrade\",, \"T\"),3)=\"768\",\"\",IFERROR(IF(I64>J64,\"+\"&I64-J64,I64-J64)*1,\"\"))","v":1},{"$f":"IF(LEFT(RTD(\"cqg.rtd\", ,\"ContractData\",B64, \"LastTrade\",, \"T\"),3)=\"768\",\"\",RTD(\"cqg.rtd\",,\"StudyData\",B64,  \"Bar\",,  \"ContractOI\", \"D\", \"-1\",,,,,\"T\"))","v":278},{"$f":"IF(LEFT(RTD(\"cqg.rtd\", ,\"ContractData\",B64, \"LastTrade\",, \"T\"),3)=\"768\",\"\",RTD(\"cqg.rtd\",,\"StudyData\",B64,  \"Bar\",,  \"ContractOI\", \"D\", \"-2\",,,,,\"T\"))","v":277},{"$f":"IF(LEFT(RTD(\"cqg.rtd\", ,\"ContractData\",B64, \"LastTrade\",, \"T\"),3)=\"768\",\"\",IFERROR(IF(L64>M64,\"+\"&L64-M64,L64-M64)*1,\"\"))","v":1}]
[{"$f":"'Call Data'!A65","v":7800},{"$f":"\"P\"&RIGHT('Call Data'!B65,LEN('Call Data'!B65)-1)","v":"P.US.CLEJ267800"},{"$f":"IF(LEFT(RTD(\"cqg.rtd\", ,\"ContractData\",B65, \"LastTrade\",, \"T\"),3)=\"768\",\"\",RTD(\"cqg.rtd\", ,\"ContractData\",B65, \"LastTrade\",, \"T\"))","v":1.51},{"$f":"IF(C65=\"\",\"\",RTD(\"cqg.rtd\", ,\"ContractData\",B65, \"NetLastTrade\",, \"T\"))","v":-1.0799999999999998},{"$f":"IF(LEFT(RTD(\"cqg.rtd\", ,\"ContractData\",B65, \"LastTrade\",, \"T\"),3)=\"768\",\"\",RTD(\"cqg.rtd\", ,\"ContractData\",B65, \"MT_LastBidVolume\",, \"T\"))","v":1},{"$f":"IF(LEFT(RTD(\"cqg.rtd\", ,\"ContractData\",B65, \"LastTrade\",, \"T\"),3)=\"768\",\"\",RTD(\"cqg.rtd\", ,\"ContractData\",B65, \"Bid\",, \"T\"))","v":1.31},{"$f":"IF(LEFT(RTD(\"cqg.rtd\", ,\"ContractData\",B65, \"LastTrade\",, \"T\"),3)=\"768\",\"\",RTD(\"cqg.rtd\", ,\"ContractData\",B65, \"Ask\",, \"T\"))","v":1.3800000000000001},{"$f":"IF(LEFT(RTD(\"cqg.rtd\", ,\"ContractData\",B65, \"LastTrade\",, \"T\"),3)=\"768\",\"\",RTD(\"cqg.rtd\", ,\"ContractData\",B65, \"MT_LastAskVolume\",, \"T\"))","v":28},{"$f":"IF(LEFT(RTD(\"cqg.rtd\", ,\"ContractData\",B65, \"LastTrade\",, \"T\"),3)=\"768\",\"\",RTD(\"cqg.rtd\", ,\"ContractData\",B65, \"T_CVol\",, \"T\"))","v":29},{"$f":"IF(LEFT(RTD(\"cqg.rtd\", ,\"ContractData\",B65, \"LastTrade\",, \"T\"),3)=\"768\",\"\",RTD(\"cqg.rtd\", ,\"ContractData\",B65, \"Y_CVol\",, \"T\"))","v":211},{"$f":"IF(LEFT(RTD(\"cqg.rtd\", ,\"ContractData\",B65, \"LastTrade\",, \"T\"),3)=\"768\",\"\",IFERROR(IF(I65>J65,\"+\"&I65-J65,I65-J65)*1,\"\"))","v":-182},{"$f":"IF(LEFT(RTD(\"cqg.rtd\", ,\"ContractData\",B65, \"LastTrade\",, \"T\"),3)=\"768\",\"\",RTD(\"cqg.rtd\",,\"StudyData\",B65,  \"Bar\",,  \"ContractOI\", \"D\", \"-1\",,,,,\"T\"))","v":1588},{"$f":"IF(LEFT(RTD(\"cqg.rtd\", ,\"ContractData\",B65, \"LastTrade\",, \"T\"),3)=\"768\",\"\",RTD(\"cqg.rtd\",,\"StudyData\",B65,  \"Bar\",,  \"ContractOI\", \"D\", \"-2\",,,,,\"T\"))","v":1501},{"$f":"IF(LEFT(RTD(\"cqg.rtd\", ,\"ContractData\",B65, \"LastTrade\",, \"T\"),3)=\"768\",\"\",IFERROR(IF(L65>M65,\"+\"&L65-M65,L65-M65)*1,\"\"))","v":87}]
[{"$f":"'Call Data'!A66","v":7850},{"$f":"\"P\"&RIGHT('Call Data'!B66,LEN('Call Data'!B66)-1)","v":"P.US.CLEJ267850"},{"$f":"IF(LEFT(RTD(\"cqg.rtd\", ,\"ContractData\",B66, \"LastTrade\",, \"T\"),3)=\"768\",\"\",RTD(\"cqg.rtd\", ,\"ContractData\",B66, \"LastTrade\",, \"T\"))","v":1.62},{"$f":"IF(C66=\"\",\"\",RTD(\"cqg.rtd\", ,\"ContractData\",B66, \"NetLastTrade\",, \"T\"))","v":-1.1600000000000001},{"$f":"IF(LEFT(RTD(\"cqg.rtd\", ,\"ContractData\",B66, \"LastTrade\",, \"T\"),3)=\"768\",\"\",RTD(\"cqg.rtd\", ,\"ContractData\",B66, \"MT_LastBidVolume\",, \"T\"))","v":17},{"$f":"IF(LEFT(RTD(\"cqg.rtd\", ,\"ContractData\",B66, \"LastTrade\",, \"T\"),3)=\"768\",\"\",RTD(\"cqg.rtd\", ,\"ContractData\",B66, \"Bid\",, \"T\"))","v":1.42},{"$f":"IF(LEFT(RTD(\"cqg.rtd\", ,\"ContractData\",B66, \"LastTrade\",, \"T\"),3)=\"768\",\"\",RTD(\"cqg.rtd\", ,\"ContractData\",B66, \"Ask\",, \"T\"))","v":1.49},{"$f":"IF(LEFT(RTD(\"cqg.rtd\", ,\"ContractData\",B66, \"LastTrade\",, \"T\"),3)=\"768\",\"\",RTD(\"cqg.rtd\", ,\"ContractData\",B66, \"MT_LastAskVolume\",, \"T\"))","v":33},{"$f":"IF(LEFT(RTD(\"cqg.rtd\", ,\"ContractData\",B66, \"LastTrade\",, \"T\"),3)=\"768\",\"\",RTD(\"cqg.rtd\", ,\"ContractData\",B66, \"T_CVol\",, \"T\"))","v":11},{"$f":"IF(LEFT(RTD(\"cqg.rtd\", ,\"ContractData\",B66, \"LastTrade\",, \"T\"),3)=\"768\",\"\",RTD(\"cqg.rtd\", ,\"ContractData\",B66, \"Y_CVol\",, \"T\"))","v":69},{"$f":"IF(LEFT(RTD(\"cqg.rtd\", ,\"ContractData\",B66, \"LastTrade\",, \"T\"),3)=\"768\",\"\",IFERROR(IF(I66>J66,\"+\"&I66-J66,I66-J66)*1,\"\"))","v":-58},{"$f":"IF(LEFT(RTD(\"cqg.rtd\", ,\"ContractData\",B66, \"LastTrade\",, \"T\"),3)=\"768\",\"\",RTD(\"cqg.rtd\",,\"StudyData\",B66,  \"Bar\",,  \"ContractOI\", \"D\", \"-1\",,,,,\"T\"))","v":126},{"$f":"IF(LEFT(RTD(\"cqg.rtd\", ,\"ContractData\",B66, \"LastTrade\",, \"T\"),3)=\"768\",\"\",RTD(\"cqg.rtd\",,\"StudyData\",B66,  \"Bar\",,  \"ContractOI\", \"D\", \"-2\",,,,,\"T\"))","v":96},{"$f":"IF(LEFT(RTD(\"cqg.rtd\", ,\"ContractData\",B66, \"LastTrade\",, \"T\"),3)=\"768\",\"\",IFERROR(IF(L66>M66,\"+\"&L66-M66,L66-M66)*1,\"\"))","v":30}]
[{"$f":"'Call Data'!A67","v":7900},{"$f":"\"P\"&RIGHT('Call Data'!B67,LEN('Call Data'!B67)-1)","v":"P.US.CLEJ267900"},{"$f":"IF(LEFT(RTD(\"cqg.rtd\", ,\"ContractData\",B67, \"LastTrade\",, \"T\"),3)=\"768\",\"\",RTD(\"cqg.rtd\", ,\"ContractData\",B67, \"LastTrade\",, \"T\"))","v":1.57},{"$f":"IF(C67=\"\",\"\",RTD(\"cqg.rtd\", ,\"ContractData\",B67, \"NetLastTrade\",, \"T\"))","v":-1.4000000000000001},{"$f":"IF(LEFT(RTD(\"cqg.rtd\", ,\"ContractData\",B67, \"LastTrade\",, \"T\"),3)=\"768\",\"\",RTD(\"cqg.rtd\", ,\"ContractData\",B67, \"MT_LastBidVolume\",, \"T\"))","v":16},{"$f":"IF(LEFT(RTD(\"cqg.rtd\", ,\"ContractData\",B67, \"LastTrade\",, \"T\"),3)=\"768\",\"\",RTD(\"cqg.rtd\", ,\"ContractData\",B67, \"Bid\",, \"T\"))","v":1.54},{"$f":"IF(LEFT(RTD(\"cqg.rtd\", ,\"ContractData\",B67, \"LastTrade\",, \"T\"),3)=\"768\",\"\",RTD(\"cqg.rtd\", ,\"ContractData\",B67, \"Ask\",, \"T\"))","v":1.61},{"$f":"IF(LEFT(RTD(\"cqg.rtd\", ,\"ContractData\",B67, \"LastTrade\",, \"T\"),3)=\"768\",\"\",RTD(\"cqg.rtd\", ,\"ContractData\",B67, \"MT_LastAskVolume\",, \"T\"))","v":29},{"$f":"IF(LEFT(RTD(\"cqg.rtd\", ,\"ContractData\",B67, \"LastTrade\",, \"T\"),3)=\"768\",\"\",RTD(\"cqg.rtd\", ,\"ContractData\",B67, \"T_CVol\",, \"T\"))","v":14},{"$f":"IF(LEFT(RTD(\"cqg.rtd\", ,\"ContractData\",B67, \"LastTrade\",, \"T\"),3)=\"768\",\"\",RTD(\"cqg.rtd\", ,\"ContractData\",B67, \"Y_CVol\",, \"T\"))","v":53},{"$f":"IF(LEFT(RTD(\"cqg.rtd\", ,\"ContractData\",B67, \"LastTrade\",, \"T\"),3)=\"768\",\"\",IFERROR(IF(I67>J67,\"+\"&I67-J67,I67-J67)*1,\"\"))","v":-39},{"$f":"IF(LEFT(RTD(\"cqg.rtd\", ,\"ContractData\",B67, \"LastTrade\",, \"T\"),3)=\"768\",\"\",RTD(\"cqg.rtd\",,\"StudyData\",B67,  \"Bar\",,  \"ContractOI\", \"D\", \"-1\",,,,,\"T\"))","v":1008},{"$f":"IF(LEFT(RTD(\"cqg.rtd\", ,\"ContractData\",B67, \"LastTrade\",, \"T\"),3)=\"768\",\"\",RTD(\"cqg.rtd\",,\"StudyData\",B67,  \"Bar\",,  \"ContractOI\", \"D\", \"-2\",,,,,\"T\"))","v":986},{"$f":"IF(LEFT(RTD(\"cqg.rtd\", ,\"ContractData\",B67, \"LastTrade\",, \"T\"),3)=\"768\",\"\",IFERROR(IF(L67>M67,\"+\"&L67-M67,L67-M67)*1,\"\"))","v":22}]
[{"$f":"'Call Data'!A68","v":7950},{"$f":"\"P\"&RIGHT('Call Data'!B68,LEN('Call Data'!B68)-1)","v":"P.US.CLEJ267950"},{"$f":"IF(LEFT(RTD(\"cqg.rtd\", ,\"ContractData\",B68, \"LastTrade\",, \"T\"),3)=\"768\",\"\",RTD(\"cqg.rtd\", ,\"ContractData\",B68, \"LastTrade\",, \"T\"))","v":1.25},{"$f":"IF(C68=\"\",\"\",RTD(\"cqg.rtd\", ,\"ContractData\",B68, \"NetLastTrade\",, \"T\"))","v":-1.92},{"$f":"IF(LEFT(RTD(\"cqg.rtd\", ,\"ContractData\",B68, \"LastTrade\",, \"T\"),3)=\"768\",\"\",RTD(\"cqg.rtd\", ,\"ContractData\",B68, \"MT_LastBidVolume\",, \"T\"))","v":15},{"$f":"IF(LEFT(RTD(\"cqg.rtd\", ,\"ContractData\",B68, \"LastTrade\",, \"T\"),3)=\"768\",\"\",RTD(\"cqg.rtd\", ,\"ContractData\",B68, \"Bid\",, \"T\"))","v":1.67},{"$f":"IF(LEFT(RTD(\"cqg.rtd\", ,\"ContractData\",B68, \"LastTrade\",, \"T\"),3)=\"768\",\"\",RTD(\"cqg.rtd\", ,\"ContractData\",B68, \"Ask\",, \"T\"))","v":1.74},{"$f":"IF(LEFT(RTD(\"cqg.rtd\", ,\"ContractData\",B68, \"LastTrade\",, \"T\"),3)=\"768\",\"\",RTD(\"cqg.rtd\", ,\"ContractData\",B68, \"MT_LastAskVolume\",, \"T\"))","v":1},{"$f":"IF(LEFT(RTD(\"cqg.rtd\", ,\"ContractData\",B68, \"LastTrade\",, \"T\"),3)=\"768\",\"\",RTD(\"cqg.rtd\", ,\"ContractData\",B68, \"T_CVol\",, \"T\"))","v":3},{"$f":"IF(LEFT(RTD(\"cqg.rtd\", ,\"ContractData\",B68, \"LastTrade\",, \"T\"),3)=\"768\",\"\",RTD(\"cqg.rtd\", ,\"ContractData\",B68, \"Y_CVol\",, \"T\"))","v":101},{"$f":"IF(LEFT(RTD(\"cqg.rtd\", ,\"ContractData\",B68, \"LastTrade\",, \"T\"),3)=\"768\",\"\",IFERROR(IF(I68>J68,\"+\"&I68-J68,I68-J68)*1,\"\"))","v":-98},{"$f":"IF(LEFT(RTD(\"cqg.rtd\", ,\"ContractData\",B68, \"LastTrade\",, \"T\"),3)=\"768\",\"\",RTD(\"cqg.rtd\",,\"StudyData\",B68,  \"Bar\",,  \"ContractOI\", \"D\", \"-1\",,,,,\"T\"))","v":116},{"$f":"IF(LEFT(RTD(\"cqg.rtd\", ,\"ContractData\",B68, \"LastTrade\",, \"T\"),3)=\"768\",\"\",RTD(\"cqg.rtd\",,\"StudyData\",B68,  \"Bar\",,  \"ContractOI\", \"D\", \"-2\",,,,,\"T\"))","v":75},{"$f":"IF(LEFT(RTD(\"cqg.rtd\", ,\"ContractData\",B68, \"LastTrade\",, \"T\"),3)=\"768\",\"\",IFERROR(IF(L68>M68,\"+\"&L68-M68,L68-M68)*1,\"\"))","v":41}]
[{"$f":"'Call Data'!A69","v":8000},{"$f":"\"P\"&RIGHT('Call Data'!B69,LEN('Call Data'!B69)-1)","v":"P.US.CLEJ268000"},{"$f":"IF(LEFT(RTD(\"cqg.rtd\", ,\"ContractData\",B69, \"LastTrade\",, \"T\"),3)=\"768\",\"\",RTD(\"cqg.rtd\", ,\"ContractData\",B69, \"LastTrade\",, \"T\"))","v":1.9000000000000001},{"$f":"IF(C69=\"\",\"\",RTD(\"cqg.rtd\", ,\"ContractData\",B69, \"NetLastTrade\",, \"T\"))","v":-1.47},{"$f":"IF(LEFT(RTD(\"cqg.rtd\", ,\"ContractData\",B69, \"LastTrade\",, \"T\"),3)=\"768\",\"\",RTD(\"cqg.rtd\", ,\"ContractData\",B69, \"MT_LastBidVolume\",, \"T\"))","v":61},{"$f":"IF(LEFT(RTD(\"cqg.rtd\", ,\"ContractData\",B69, \"LastTrade\",, \"T\"),3)=\"768\",\"\",RTD(\"cqg.rtd\", ,\"ContractData\",B69, \"Bid\",, \"T\"))","v":1.82},{"$f":"IF(LEFT(RTD(\"cqg.rtd\", ,\"ContractData\",B69, \"LastTrade\",, \"T\"),3)=\"768\",\"\",RTD(\"cqg.rtd\", ,\"ContractData\",B69, \"Ask\",, \"T\"))","v":1.87},{"$f":"IF(LEFT(RTD(\"cqg.rtd\", ,\"ContractData\",B69, \"LastTrade\",, \"T\"),3)=\"768\",\"\",RTD(\"cqg.rtd\", ,\"ContractData\",B69, \"MT_LastAskVolume\",, \"T\"))","v":3},{"$f":"IF(LEFT(RTD(\"cqg.rtd\", ,\"ContractData\",B69, \"LastTrade\",, \"T\"),3)=\"768\",\"\",RTD(\"cqg.rtd\", ,\"ContractData\",B69, \"T_CVol\",, \"T\"))","v":1468},{"$f":"IF(LEFT(RTD(\"cqg.rtd\", ,\"ContractData\",B69, \"LastTrade\",, \"T\"),3)=\"768\",\"\",RTD(\"cqg.rtd\", ,\"ContractData\",B69, \"Y_CVol\",, \"T\"))","v":2163},{"$f":"IF(LEFT(RTD(\"cqg.rtd\", ,\"ContractData\",B69, \"LastTrade\",, \"T\"),3)=\"768\",\"\",IFERROR(IF(I69>J69,\"+\"&I69-J69,I69-J69)*1,\"\"))","v":-695},{"$f":"IF(LEFT(RTD(\"cqg.rtd\", ,\"ContractData\",B69, \"LastTrade\",, \"T\"),3)=\"768\",\"\",RTD(\"cqg.rtd\",,\"StudyData\",B69,  \"Bar\",,  \"ContractOI\", \"D\", \"-1\",,,,,\"T\"))","v":5462},{"$f":"IF(LEFT(RTD(\"cqg.rtd\", ,\"ContractData\",B69, \"LastTrade\",, \"T\"),3)=\"768\",\"\",RTD(\"cqg.rtd\",,\"StudyData\",B69,  \"Bar\",,  \"ContractOI\", \"D\", \"-2\",,,,,\"T\"))","v":4561},{"$f":"IF(LEFT(RTD(\"cqg.rtd\", ,\"ContractData\",B69, \"LastTrade\",, \"T\"),3)=\"768\",\"\",IFERROR(IF(L69>M69,\"+\"&L69-M69,L69-M69)*1,\"\"))","v":901}]
[{"$f":"'Call Data'!A70","v":8050},{"$f":"\"P\"&RIGHT('Call Data'!B70,LEN('Call Data'!B70)-1)","v":"P.US.CLEJ268050"},{"$f":"IF(LEFT(RTD(\"cqg.rtd\", ,\"ContractData\",B70, \"LastTrade\",, \"T\"),3)=\"768\",\"\",RTD(\"cqg.rtd\", ,\"ContractData\",B70, \"LastTrade\",, \"T\"))","v":2.0699999999999998},{"$f":"IF(C70=\"\",\"\",RTD(\"cqg.rtd\", ,\"ContractData\",B70, \"NetLastTrade\",, \"T\"))","v":-1.52},{"$f":"IF(LEFT(RTD(\"cqg.rtd\", ,\"ContractData\",B70, \"LastTrade\",, \"T\"),3)=\"768\",\"\",RTD(\"cqg.rtd\", ,\"ContractData\",B70, \"MT_LastBidVolume\",, \"T\"))","v":24},{"$f":"IF(LEFT(RTD(\"cqg.rtd\", ,\"ContractData\",B70, \"LastTrade\",, \"T\"),3)=\"768\",\"\",RTD(\"cqg.rtd\", ,\"ContractData\",B70, \"Bid\",, \"T\"))","v":1.94},{"$f":"IF(LEFT(RTD(\"cqg.rtd\", ,\"ContractData\",B70, \"LastTrade\",, \"T\"),3)=\"768\",\"\",RTD(\"cqg.rtd\", ,\"ContractData\",B70, \"Ask\",, \"T\"))","v":2.0100000000000002},{"$f":"IF(LEFT(RTD(\"cqg.rtd\", ,\"ContractData\",B70, \"LastTrade\",, \"T\"),3)=\"768\",\"\",RTD(\"cqg.rtd\", ,\"ContractData\",B70, \"MT_LastAskVolume\",, \"T\"))","v":1},{"$f":"IF(LEFT(RTD(\"cqg.rtd\", ,\"ContractData\",B70, \"LastTrade\",, \"T\"),3)=\"768\",\"\",RTD(\"cqg.rtd\", ,\"ContractData\",B70, \"T_CVol\",, \"T\"))","v":49},{"$f":"IF(LEFT(RTD(\"cqg.rtd\", ,\"ContractData\",B70, \"LastTrade\",, \"T\"),3)=\"768\",\"\",RTD(\"cqg.rtd\", ,\"ContractData\",B70, \"Y_CVol\",, \"T\"))","v":52},{"$f":"IF(LEFT(RTD(\"cqg.rtd\", ,\"ContractData\",B70, \"LastTrade\",, \"T\"),3)=\"768\",\"\",IFERROR(IF(I70>J70,\"+\"&I70-J70,I70-J70)*1,\"\"))","v":-3},{"$f":"IF(LEFT(RTD(\"cqg.rtd\", ,\"ContractData\",B70, \"LastTrade\",, \"T\"),3)=\"768\",\"\",RTD(\"cqg.rtd\",,\"StudyData\",B70,  \"Bar\",,  \"ContractOI\", \"D\", \"-1\",,,,,\"T\"))","v":199},{"$f":"IF(LEFT(RTD(\"cqg.rtd\", ,\"ContractData\",B70, \"LastTrade\",, \"T\"),3)=\"768\",\"\",RTD(\"cqg.rtd\",,\"StudyData\",B70,  \"Bar\",,  \"ContractOI\", \"D\", \"-2\",,,,,\"T\"))","v":159},{"$f":"IF(LEFT(RTD(\"cqg.rtd\", ,\"ContractData\",B70, \"LastTrade\",, \"T\"),3)=\"768\",\"\",IFERROR(IF(L70>M70,\"+\"&L70-M70,L70-M70)*1,\"\"))","v":40}]
[{"$f":"'Call Data'!A71","v":8100},{"$f":"\"P\"&RIGHT('Call Data'!B71,LEN('Call Data'!B71)-1)","v":"P.US.CLEJ268100"},{"$f":"IF(LEFT(RTD(\"cqg.rtd\", ,\"ContractData\",B71, \"LastTrade\",, \"T\"),3)=\"768\",\"\",RTD(\"cqg.rtd\", ,\"ContractData\",B71, \"LastTrade\",, \"T\"))","v":2.15},{"$f":"IF(C71=\"\",\"\",RTD(\"cqg.rtd\", ,\"ContractData\",B71, \"NetLastTrade\",, \"T\"))","v":-1.6600000000000001},{"$f":"IF(LEFT(RTD(\"cqg.rtd\", ,\"ContractData\",B71, \"LastTrade\",, \"T\"),3)=\"768\",\"\",RTD(\"cqg.rtd\", ,\"ContractData\",B71, \"MT_LastBidVolume\",, \"T\"))","v":24},{"$f":"IF(LEFT(RTD(\"cqg.rtd\", ,\"ContractData\",B71, \"LastTrade\",, \"T\"),3)=\"768\",\"\",RTD(\"cqg.rtd\", ,\"ContractData\",B71, \"Bid\",, \"T\"))","v":2.1},{"$f":"IF(LEFT(RTD(\"cqg.rtd\", ,\"ContractData\",B71, \"LastTrade\",, \"T\"),3)=\"768\",\"\",RTD(\"cqg.rtd\", ,\"ContractData\",B71, \"Ask\",, \"T\"))","v":2.17},{"$f":"IF(LEFT(RTD(\"cqg.rtd\", ,\"ContractData\",B71, \"LastTrade\",, \"T\"),3)=\"768\",\"\",RTD(\"cqg.rtd\", ,\"ContractData\",B71, \"MT_LastAskVolume\",, \"T\"))","v":1},{"$f":"IF(LEFT(RTD(\"cqg.rtd\", ,\"ContractData\",B71, \"LastTrade\",, \"T\"),3)=\"768\",\"\",RTD(\"cqg.rtd\", ,\"ContractData\",B71, \"T_CVol\",, \"T\"))","v":65},{"$f":"IF(LEFT(RTD(\"cqg.rtd\", ,\"ContractData\",B71, \"LastTrade\",, \"T\"),3)=\"768\",\"\",RTD(\"cqg.rtd\", ,\"ContractData\",B71, \"Y_CVol\",, \"T\"))","v":278},{"$f":"IF(LEFT(RTD(\"cqg.rtd\", ,\"ContractData\",B71, \"LastTrade\",, \"T\"),3)=\"768\",\"\",IFERROR(IF(I71>J71,\"+\"&I71-J71,I71-J71)*1,\"\"))","v":-213},{"$f":"IF(LEFT(RTD(\"cqg.rtd\", ,\"ContractData\",B71, \"LastTrade\",, \"T\"),3)=\"768\",\"\",RTD(\"cqg.rtd\",,\"StudyData\",B71,  \"Bar\",,  \"ContractOI\", \"D\", \"-1\",,,,,\"T\"))","v":846},{"$f":"IF(LEFT(RTD(\"cqg.rtd\", ,\"ContractData\",B71, \"LastTrade\",, \"T\"),3)=\"768\",\"\",RTD(\"cqg.rtd\",,\"StudyData\",B71,  \"Bar\",,  \"ContractOI\", \"D\", \"-2\",,,,,\"T\"))","v":929},{"$f":"IF(LEFT(RTD(\"cqg.rtd\", ,\"ContractData\",B71, \"LastTrade\",, \"T\"),3)=\"768\",\"\",IFERROR(IF(L71>M71,\"+\"&L71-M71,L71-M71)*1,\"\"))","v":-83}]
[{"$f":"'Call Data'!A72","v":8150},{"$f":"\"P\"&RIGHT('Call Data'!B72,LEN('Call Data'!B72)-1)","v":"P.US.CLEJ268150"},{"$f":"IF(LEFT(RTD(\"cqg.rtd\", ,\"ContractData\",B72, \"LastTrade\",, \"T\"),3)=\"768\",\"\",RTD(\"cqg.rtd\", ,\"ContractData\",B72, \"LastTrade\",, \"T\"))","v":2.31},{"$f":"IF(C72=\"\",\"\",RTD(\"cqg.rtd\", ,\"ContractData\",B72, \"NetLastTrade\",, \"T\"))","v":-1.7200000000000002},{"$f":"IF(LEFT(RTD(\"cqg.rtd\", ,\"ContractData\",B72, \"LastTrade\",, \"T\"),3)=\"768\",\"\",RTD(\"cqg.rtd\", ,\"ContractData\",B72, \"MT_LastBidVolume\",, \"T\"))","v":20},{"$f":"IF(LEFT(RTD(\"cqg.rtd\", ,\"ContractData\",B72, \"LastTrade\",, \"T\"),3)=\"768\",\"\",RTD(\"cqg.rtd\", ,\"ContractData\",B72, \"Bid\",, \"T\"))","v":2.2600000000000002},{"$f":"IF(LEFT(RTD(\"cqg.rtd\", ,\"ContractData\",B72, \"LastTrade\",, \"T\"),3)=\"768\",\"\",RTD(\"cqg.rtd\", ,\"ContractData\",B72, \"Ask\",, \"T\"))","v":2.33},{"$f":"IF(LEFT(RTD(\"cqg.rtd\", ,\"ContractData\",B72, \"LastTrade\",, \"T\"),3)=\"768\",\"\",RTD(\"cqg.rtd\", ,\"ContractData\",B72, \"MT_LastAskVolume\",, \"T\"))","v":5},{"$f":"IF(LEFT(RTD(\"cqg.rtd\", ,\"ContractData\",B72, \"LastTrade\",, \"T\"),3)=\"768\",\"\",RTD(\"cqg.rtd\", ,\"ContractData\",B72, \"T_CVol\",, \"T\"))","v":23},{"$f":"IF(LEFT(RTD(\"cqg.rtd\", ,\"ContractData\",B72, \"LastTrade\",, \"T\"),3)=\"768\",\"\",RTD(\"cqg.rtd\", ,\"ContractData\",B72, \"Y_CVol\",, \"T\"))","v":49},{"$f":"IF(LEFT(RTD(\"cqg.rtd\", ,\"ContractData\",B72, \"LastTrade\",, \"T\"),3)=\"768\",\"\",IFERROR(IF(I72>J72,\"+\"&I72-J72,I72-J72)*1,\"\"))","v":-26},{"$f":"IF(LEFT(RTD(\"cqg.rtd\", ,\"ContractData\",B72, \"LastTrade\",, \"T\"),3)=\"768\",\"\",RTD(\"cqg.rtd\",,\"StudyData\",B72,  \"Bar\",,  \"ContractOI\", \"D\", \"-1\",,,,,\"T\"))","v":247},{"$f":"IF(LEFT(RTD(\"cqg.rtd\", ,\"ContractData\",B72, \"LastTrade\",, \"T\"),3)=\"768\",\"\",RTD(\"cqg.rtd\",,\"StudyData\",B72,  \"Bar\",,  \"ContractOI\", \"D\", \"-2\",,,,,\"T\"))","v":218},{"$f":"IF(LEFT(RTD(\"cqg.rtd\", ,\"ContractData\",B72, \"LastTrade\",, \"T\"),3)=\"768\",\"\",IFERROR(IF(L72>M72,\"+\"&L72-M72,L72-M72)*1,\"\"))","v":29}]
[{"$f":"'Call Data'!A73","v":8200},{"$f":"\"P\"&RIGHT('Call Data'!B73,LEN('Call Data'!B73)-1)","v":"P.US.CLEJ268200"},{"$f":"IF(LEFT(RTD(\"cqg.rtd\", ,\"ContractData\",B73, \"LastTrade\",, \"T\"),3)=\"768\",\"\",RTD(\"cqg.rtd\", ,\"ContractData\",B73, \"LastTrade\",, \"T\"))","v":2.5100000000000002},{"$f":"IF(C73=\"\",\"\",RTD(\"cqg.rtd\", ,\"ContractData\",B73, \"NetLastTrade\",, \"T\"))","v":-1.7600000000000002},{"$f":"IF(LEFT(RTD(\"cqg.rtd\", ,\"ContractData\",B73, \"LastTrade\",, \"T\"),3)=\"768\",\"\",RTD(\"cqg.rtd\", ,\"ContractData\",B73, \"MT_LastBidVolume\",, \"T\"))","v":19},{"$f":"IF(LEFT(RTD(\"cqg.rtd\", ,\"ContractData\",B73, \"LastTrade\",, \"T\"),3)=\"768\",\"\",RTD(\"cqg.rtd\", ,\"ContractData\",B73, \"Bid\",, \"T\"))","v":2.4300000000000002},{"$f":"IF(LEFT(RTD(\"cqg.rtd\", ,\"ContractData\",B73, \"LastTrade\",, \"T\"),3)=\"768\",\"\",RTD(\"cqg.rtd\", ,\"ContractData\",B73, \"Ask\",, \"T\"))","v":2.5},{"$f":"IF(LEFT(RTD(\"cqg.rtd\", ,\"ContractData\",B73, \"LastTrade\",, \"T\"),3)=\"768\",\"\",RTD(\"cqg.rtd\", ,\"ContractData\",B73, \"MT_LastAskVolume\",, \"T\"))","v":5},{"$f":"IF(LEFT(RTD(\"cqg.rtd\", ,\"ContractData\",B73, \"LastTrade\",, \"T\"),3)=\"768\",\"\",RTD(\"cqg.rtd\", ,\"ContractData\",B73, \"T_CVol\",, \"T\"))","v":536},{"$f":"IF(LEFT(RTD(\"cqg.rtd\", ,\"ContractData\",B73, \"LastTrade\",, \"T\"),3)=\"768\",\"\",RTD(\"cqg.rtd\", ,\"ContractData\",B73, \"Y_CVol\",, \"T\"))","v":865},{"$f":"IF(LEFT(RTD(\"cqg.rtd\", ,\"ContractData\",B73, \"LastTrade\",, \"T\"),3)=\"768\",\"\",IFERROR(IF(I73>J73,\"+\"&I73-J73,I73-J73)*1,\"\"))","v":-329},{"$f":"IF(LEFT(RTD(\"cqg.rtd\", ,\"ContractData\",B73, \"LastTrade\",, \"T\"),3)=\"768\",\"\",RTD(\"cqg.rtd\",,\"StudyData\",B73,  \"Bar\",,  \"ContractOI\", \"D\", \"-1\",,,,,\"T\"))","v":438},{"$f":"IF(LEFT(RTD(\"cqg.rtd\", ,\"ContractData\",B73, \"LastTrade\",, \"T\"),3)=\"768\",\"\",RTD(\"cqg.rtd\",,\"StudyData\",B73,  \"Bar\",,  \"ContractOI\", \"D\", \"-2\",,,,,\"T\"))","v":378},{"$f":"IF(LEFT(RTD(\"cqg.rtd\", ,\"ContractData\",B73, \"LastTrade\",, \"T\"),3)=\"768\",\"\",IFERROR(IF(L73>M73,\"+\"&L73-M73,L73-M73)*1,\"\"))","v":60}]
[{"$f":"'Call Data'!A74","v":8250},{"$f":"\"P\"&RIGHT('Call Data'!B74,LEN('Call Data'!B74)-1)","v":"P.US.CLEJ268250"},{"$f":"IF(LEFT(RTD(\"cqg.rtd\", ,\"ContractData\",B74, \"LastTrade\",, \"T\"),3)=\"768\",\"\",RTD(\"cqg.rtd\", ,\"ContractData\",B74, \"LastTrade\",, \"T\"))","v":2.87},{"$f":"IF(C74=\"\",\"\",RTD(\"cqg.rtd\", ,\"ContractData\",B74, \"NetLastTrade\",, \"T\"))","v":-1.6399999999999997},{"$f":"IF(LEFT(RTD(\"cqg.rtd\", ,\"ContractData\",B74, \"LastTrade\",, \"T\"),3)=\"768\",\"\",RTD(\"cqg.rtd\", ,\"ContractData\",B74, \"MT_LastBidVolume\",, \"T\"))","v":18},{"$f":"IF(LEFT(RTD(\"cqg.rtd\", ,\"ContractData\",B74, \"LastTrade\",, \"T\"),3)=\"768\",\"\",RTD(\"cqg.rtd\", ,\"ContractData\",B74, \"Bid\",, \"T\"))","v":2.6},{"$f":"IF(LEFT(RTD(\"cqg.rtd\", ,\"ContractData\",B74, \"LastTrade\",, \"T\"),3)=\"768\",\"\",RTD(\"cqg.rtd\", ,\"ContractData\",B74, \"Ask\",, \"T\"))","v":2.68},{"$f":"IF(LEFT(RTD(\"cqg.rtd\", ,\"ContractData\",B74, \"LastTrade\",, \"T\"),3)=\"768\",\"\",RTD(\"cqg.rtd\", ,\"ContractData\",B74, \"MT_LastAskVolume\",, \"T\"))","v":6},{"$f":"IF(LEFT(RTD(\"cqg.rtd\", ,\"ContractData\",B74, \"LastTrade\",, \"T\"),3)=\"768\",\"\",RTD(\"cqg.rtd\", ,\"ContractData\",B74, \"T_CVol\",, \"T\"))","v":10},{"$f":"IF(LEFT(RTD(\"cqg.rtd\", ,\"ContractData\",B74, \"LastTrade\",, \"T\"),3)=\"768\",\"\",RTD(\"cqg.rtd\", ,\"ContractData\",B74, \"Y_CVol\",, \"T\"))","v":34},{"$f":"IF(LEFT(RTD(\"cqg.rtd\", ,\"ContractData\",B74, \"LastTrade\",, \"T\"),3)=\"768\",\"\",IFERROR(IF(I74>J74,\"+\"&I74-J74,I74-J74)*1,\"\"))","v":-24},{"$f":"IF(LEFT(RTD(\"cqg.rtd\", ,\"ContractData\",B74, \"LastTrade\",, \"T\"),3)=\"768\",\"\",RTD(\"cqg.rtd\",,\"StudyData\",B74,  \"Bar\",,  \"ContractOI\", \"D\", \"-1\",,,,,\"T\"))","v":397},{"$f":"IF(LEFT(RTD(\"cqg.rtd\", ,\"ContractData\",B74, \"LastTrade\",, \"T\"),3)=\"768\",\"\",RTD(\"cqg.rtd\",,\"StudyData\",B74,  \"Bar\",,  \"ContractOI\", \"D\", \"-2\",,,,,\"T\"))","v":392},{"$f":"IF(LEFT(RTD(\"cqg.rtd\", ,\"ContractData\",B74, \"LastTrade\",, \"T\"),3)=\"768\",\"\",IFERROR(IF(L74>M74,\"+\"&L74-M74,L74-M74)*1,\"\"))","v":5}]
[{"$f":"'Call Data'!A75","v":8300},{"$f":"\"P\"&RIGHT('Call Data'!B75,LEN('Call Data'!B75)-1)","v":"P.US.CLEJ268300"},{"$f":"IF(LEFT(RTD(\"cqg.rtd\", ,\"ContractData\",B75, \"LastTrade\",, \"T\"),3)=\"768\",\"\",RTD(\"cqg.rtd\", ,\"ContractData\",B75, \"LastTrade\",, \"T\"))","v":2.1800000000000002},{"$f":"IF(C75=\"\",\"\",RTD(\"cqg.rtd\", ,\"ContractData\",B75, \"NetLastTrade\",, \"T\"))","v":-2.57},{"$f":"IF(LEFT(RTD(\"cqg.rtd\", ,\"ContractData\",B75, \"LastTrade\",, \"T\"),3)=\"768\",\"\",RTD(\"cqg.rtd\", ,\"ContractData\",B75, \"MT_LastBidVolume\",, \"T\"))","v":22},{"$f":"IF(LEFT(RTD(\"cqg.rtd\", ,\"ContractData\",B75, \"LastTrade\",, \"T\"),3)=\"768\",\"\",RTD(\"cqg.rtd\", ,\"ContractData\",B75, \"Bid\",, \"T\"))","v":2.7800000000000002},{"$f":"IF(LEFT(RTD(\"cqg.rtd\", ,\"ContractData\",B75, \"LastTrade\",, \"T\"),3)=\"768\",\"\",RTD(\"cqg.rtd\", ,\"ContractData\",B75, \"Ask\",, \"T\"))","v":2.86},{"$f":"IF(LEFT(RTD(\"cqg.rtd\", ,\"ContractData\",B75, \"LastTrade\",, \"T\"),3)=\"768\",\"\",RTD(\"cqg.rtd\", ,\"ContractData\",B75, \"MT_LastAskVolume\",, \"T\"))","v":1},{"$f":"IF(LEFT(RTD(\"cqg.rtd\", ,\"ContractData\",B75, \"LastTrade\",, \"T\"),3)=\"768\",\"\",RTD(\"cqg.rtd\", ,\"ContractData\",B75, \"T_CVol\",, \"T\"))","v":44},{"$f":"IF(LEFT(RTD(\"cqg.rtd\", ,\"ContractData\",B75, \"LastTrade\",, \"T\"),3)=\"768\",\"\",RTD(\"cqg.rtd\", ,\"ContractData\",B75, \"Y_CVol\",, \"T\"))","v":152},{"$f":"IF(LEFT(RTD(\"cqg.rtd\", ,\"ContractData\",B75, \"LastTrade\",, \"T\"),3)=\"768\",\"\",IFERROR(IF(I75>J75,\"+\"&I75-J75,I75-J75)*1,\"\"))","v":-108},{"$f":"IF(LEFT(RTD(\"cqg.rtd\", ,\"ContractData\",B75, \"LastTrade\",, \"T\"),3)=\"768\",\"\",RTD(\"cqg.rtd\",,\"StudyData\",B75,  \"Bar\",,  \"ContractOI\", \"D\", \"-1\",,,,,\"T\"))","v":1263},{"$f":"IF(LEFT(RTD(\"cqg.rtd\", ,\"ContractData\",B75, \"LastTrade\",, \"T\"),3)=\"768\",\"\",RTD(\"cqg.rtd\",,\"StudyData\",B75,  \"Bar\",,  \"ContractOI\", \"D\", \"-2\",,,,,\"T\"))","v":1274},{"$f":"IF(LEFT(RTD(\"cqg.rtd\", ,\"ContractData\",B75, \"LastTrade\",, \"T\"),3)=\"768\",\"\",IFERROR(IF(L75>M75,\"+\"&L75-M75,L75-M75)*1,\"\"))","v":-11}]
[{"$f":"'Call Data'!A76","v":8350},{"$f":"\"P\"&RIGHT('Call Data'!B76,LEN('Call Data'!B76)-1)","v":"P.US.CLEJ268350"},{"$f":"IF(LEFT(RTD(\"cqg.rtd\", ,\"ContractData\",B76, \"LastTrade\",, \"T\"),3)=\"768\",\"\",RTD(\"cqg.rtd\", ,\"ContractData\",B76, \"LastTrade\",, \"T\"))","v":3.0300000000000002},{"$f":"IF(C76=\"\",\"\",RTD(\"cqg.rtd\", ,\"ContractData\",B76, \"NetLastTrade\",, \"T\"))","v":-1.9699999999999998},{"$f":"IF(LEFT(RTD(\"cqg.rtd\", ,\"ContractData\",B76, \"LastTrade\",, \"T\"),3)=\"768\",\"\",RTD(\"cqg.rtd\", ,\"ContractData\",B76, \"MT_LastBidVolume\",, \"T\"))","v":22},{"$f":"IF(LEFT(RTD(\"cqg.rtd\", ,\"ContractData\",B76, \"LastTrade\",, \"T\"),3)=\"768\",\"\",RTD(\"cqg.rtd\", ,\"ContractData\",B76, \"Bid\",, \"T\"))","v":2.98},{"$f":"IF(LEFT(RTD(\"cqg.rtd\", ,\"ContractData\",B76, \"LastTrade\",, \"T\"),3)=\"768\",\"\",RTD(\"cqg.rtd\", ,\"ContractData\",B76, \"Ask\",, \"T\"))","v":3.06},{"$f":"IF(LEFT(RTD(\"cqg.rtd\", ,\"ContractData\",B76, \"LastTrade\",, \"T\"),3)=\"768\",\"\",RTD(\"cqg.rtd\", ,\"ContractData\",B76, \"MT_LastAskVolume\",, \"T\"))","v":1},{"$f":"IF(LEFT(RTD(\"cqg.rtd\", ,\"ContractData\",B76, \"LastTrade\",, \"T\"),3)=\"768\",\"\",RTD(\"cqg.rtd\", ,\"ContractData\",B76, \"T_CVol\",, \"T\"))","v":88},{"$f":"IF(LEFT(RTD(\"cqg.rtd\", ,\"ContractData\",B76, \"LastTrade\",, \"T\"),3)=\"768\",\"\",RTD(\"cqg.rtd\", ,\"ContractData\",B76, \"Y_CVol\",, \"T\"))","v":214},{"$f":"IF(LEFT(RTD(\"cqg.rtd\", ,\"ContractData\",B76, \"LastTrade\",, \"T\"),3)=\"768\",\"\",IFERROR(IF(I76>J76,\"+\"&I76-J76,I76-J76)*1,\"\"))","v":-126},{"$f":"IF(LEFT(RTD(\"cqg.rtd\", ,\"ContractData\",B76, \"LastTrade\",, \"T\"),3)=\"768\",\"\",RTD(\"cqg.rtd\",,\"StudyData\",B76,  \"Bar\",,  \"ContractOI\", \"D\", \"-1\",,,,,\"T\"))","v":129},{"$f":"IF(LEFT(RTD(\"cqg.rtd\", ,\"ContractData\",B76, \"LastTrade\",, \"T\"),3)=\"768\",\"\",RTD(\"cqg.rtd\",,\"StudyData\",B76,  \"Bar\",,  \"ContractOI\", \"D\", \"-2\",,,,,\"T\"))","v":113},{"$f":"IF(LEFT(RTD(\"cqg.rtd\", ,\"ContractData\",B76, \"LastTrade\",, \"T\"),3)=\"768\",\"\",IFERROR(IF(L76>M76,\"+\"&L76-M76,L76-M76)*1,\"\"))","v":16}]
[{"$f":"'Call Data'!A77","v":8400},{"$f":"\"P\"&RIGHT('Call Data'!B77,LEN('Call Data'!B77)-1)","v":"P.US.CLEJ268400"},{"$f":"IF(LEFT(RTD(\"cqg.rtd\", ,\"ContractData\",B77, \"LastTrade\",, \"T\"),3)=\"768\",\"\",RTD(\"cqg.rtd\", ,\"ContractData\",B77, \"LastTrade\",, \"T\"))","v":3.5100000000000002},{"$f":"IF(C77=\"\",\"\",RTD(\"cqg.rtd\", ,\"ContractData\",B77, \"NetLastTrade\",, \"T\"))","v":-1.7499999999999996},{"$f":"IF(LEFT(RTD(\"cqg.rtd\", ,\"ContractData\",B77, \"LastTrade\",, \"T\"),3)=\"768\",\"\",RTD(\"cqg.rtd\", ,\"ContractData\",B77, \"MT_LastBidVolume\",, \"T\"))","v":21},{"$f":"IF(LEFT(RTD(\"cqg.rtd\", ,\"ContractData\",B77, \"LastTrade\",, \"T\"),3)=\"768\",\"\",RTD(\"cqg.rtd\", ,\"ContractData\",B77, \"Bid\",, \"T\"))","v":3.18},{"$f":"IF(LEFT(RTD(\"cqg.rtd\", ,\"ContractData\",B77, \"LastTrade\",, \"T\"),3)=\"768\",\"\",RTD(\"cqg.rtd\", ,\"ContractData\",B77, \"Ask\",, \"T\"))","v":3.2600000000000002},{"$f":"IF(LEFT(RTD(\"cqg.rtd\", ,\"ContractData\",B77, \"LastTrade\",, \"T\"),3)=\"768\",\"\",RTD(\"cqg.rtd\", ,\"ContractData\",B77, \"MT_LastAskVolume\",, \"T\"))","v":1},{"$f":"IF(LEFT(RTD(\"cqg.rtd\", ,\"ContractData\",B77, \"LastTrade\",, \"T\"),3)=\"768\",\"\",RTD(\"cqg.rtd\", ,\"ContractData\",B77, \"T_CVol\",, \"T\"))","v":55},{"$f":"IF(LEFT(RTD(\"cqg.rtd\", ,\"ContractData\",B77, \"LastTrade\",, \"T\"),3)=\"768\",\"\",RTD(\"cqg.rtd\", ,\"ContractData\",B77, \"Y_CVol\",, \"T\"))","v":227},{"$f":"IF(LEFT(RTD(\"cqg.rtd\", ,\"ContractData\",B77, \"LastTrade\",, \"T\"),3)=\"768\",\"\",IFERROR(IF(I77>J77,\"+\"&I77-J77,I77-J77)*1,\"\"))","v":-172},{"$f":"IF(LEFT(RTD(\"cqg.rtd\", ,\"ContractData\",B77, \"LastTrade\",, \"T\"),3)=\"768\",\"\",RTD(\"cqg.rtd\",,\"StudyData\",B77,  \"Bar\",,  \"ContractOI\", \"D\", \"-1\",,,,,\"T\"))","v":628},{"$f":"IF(LEFT(RTD(\"cqg.rtd\", ,\"ContractData\",B77, \"LastTrade\",, \"T\"),3)=\"768\",\"\",RTD(\"cqg.rtd\",,\"StudyData\",B77,  \"Bar\",,  \"ContractOI\", \"D\", \"-2\",,,,,\"T\"))","v":674},{"$f":"IF(LEFT(RTD(\"cqg.rtd\", ,\"ContractData\",B77, \"LastTrade\",, \"T\"),3)=\"768\",\"\",IFERROR(IF(L77>M77,\"+\"&L77-M77,L77-M77)*1,\"\"))","v":-46}]
[{"$f":"'Call Data'!A78","v":8450},{"$f":"\"P\"&RIGHT('Call Data'!B78,LEN('Call Data'!B78)-1)","v":"P.US.CLEJ268450"},{"$f":"IF(LEFT(RTD(\"cqg.rtd\", ,\"ContractData\",B78, \"LastTrade\",, \"T\"),3)=\"768\",\"\",RTD(\"cqg.rtd\", ,\"ContractData\",B78, \"LastTrade\",, \"T\"))","v":3.48},{"$f":"IF(C78=\"\",\"\",RTD(\"cqg.rtd\", ,\"ContractData\",B78, \"NetLastTrade\",, \"T\"))","v":-2.0400000000000005},{"$f":"IF(LEFT(RTD(\"cqg.rtd\", ,\"ContractData\",B78, \"LastTrade\",, \"T\"),3)=\"768\",\"\",RTD(\"cqg.rtd\", ,\"ContractData\",B78, \"MT_LastBidVolume\",, \"T\"))","v":23},{"$f":"IF(LEFT(RTD(\"cqg.rtd\", ,\"ContractData\",B78, \"LastTrade\",, \"T\"),3)=\"768\",\"\",RTD(\"cqg.rtd\", ,\"ContractData\",B78, \"Bid\",, \"T\"))","v":3.37},{"$f":"IF(LEFT(RTD(\"cqg.rtd\", ,\"ContractData\",B78, \"LastTrade\",, \"T\"),3)=\"768\",\"\",RTD(\"cqg.rtd\", ,\"ContractData\",B78, \"Ask\",, \"T\"))","v":3.47},{"$f":"IF(LEFT(RTD(\"cqg.rtd\", ,\"ContractData\",B78, \"LastTrade\",, \"T\"),3)=\"768\",\"\",RTD(\"cqg.rtd\", ,\"ContractData\",B78, \"MT_LastAskVolume\",, \"T\"))","v":5},{"$f":"IF(LEFT(RTD(\"cqg.rtd\", ,\"ContractData\",B78, \"LastTrade\",, \"T\"),3)=\"768\",\"\",RTD(\"cqg.rtd\", ,\"ContractData\",B78, \"T_CVol\",, \"T\"))","v":974},{"$f":"IF(LEFT(RTD(\"cqg.rtd\", ,\"ContractData\",B78, \"LastTrade\",, \"T\"),3)=\"768\",\"\",RTD(\"cqg.rtd\", ,\"ContractData\",B78, \"Y_CVol\",, \"T\"))","v":102},{"$f":"IF(LEFT(RTD(\"cqg.rtd\", ,\"ContractData\",B78, \"LastTrade\",, \"T\"),3)=\"768\",\"\",IFERROR(IF(I78>J78,\"+\"&I78-J78,I78-J78)*1,\"\"))","v":872},{"$f":"IF(LEFT(RTD(\"cqg.rtd\", ,\"ContractData\",B78, \"LastTrade\",, \"T\"),3)=\"768\",\"\",RTD(\"cqg.rtd\",,\"StudyData\",B78,  \"Bar\",,  \"ContractOI\", \"D\", \"-1\",,,,,\"T\"))","v":202},{"$f":"IF(LEFT(RTD(\"cqg.rtd\", ,\"ContractData\",B78, \"LastTrade\",, \"T\"),3)=\"768\",\"\",RTD(\"cqg.rtd\",,\"StudyData\",B78,  \"Bar\",,  \"ContractOI\", \"D\", \"-2\",,,,,\"T\"))","v":185},{"$f":"IF(LEFT(RTD(\"cqg.rtd\", ,\"ContractData\",B78, \"LastTrade\",, \"T\"),3)=\"768\",\"\",IFERROR(IF(L78>M78,\"+\"&L78-M78,L78-M78)*1,\"\"))","v":17}]
[{"$f":"'Call Data'!A79","v":8500},{"$f":"\"P\"&RIGHT('Call Data'!B79,LEN('Call Data'!B79)-1)","v":"P.US.CLEJ268500"},{"$f":"IF(LEFT(RTD(\"cqg.rtd\", ,\"ContractData\",B79, \"LastTrade\",, \"T\"),3)=\"768\",\"\",RTD(\"cqg.rtd\", ,\"ContractData\",B79, \"LastTrade\",, \"T\"))","v":3.7},{"$f":"IF(C79=\"\",\"\",RTD(\"cqg.rtd\", ,\"ContractData\",B79, \"NetLastTrade\",, \"T\"))","v":-2.0999999999999996},{"$f":"IF(LEFT(RTD(\"cqg.rtd\", ,\"ContractData\",B79, \"LastTrade\",, \"T\"),3)=\"768\",\"\",RTD(\"cqg.rtd\", ,\"ContractData\",B79, \"MT_LastBidVolume\",, \"T\"))","v":22},{"$f":"IF(LEFT(RTD(\"cqg.rtd\", ,\"ContractData\",B79, \"LastTrade\",, \"T\"),3)=\"768\",\"\",RTD(\"cqg.rtd\", ,\"ContractData\",B79, \"Bid\",, \"T\"))","v":3.59},{"$f":"IF(LEFT(RTD(\"cqg.rtd\", ,\"ContractData\",B79, \"LastTrade\",, \"T\"),3)=\"768\",\"\",RTD(\"cqg.rtd\", ,\"ContractData\",B79, \"Ask\",, \"T\"))","v":3.69},{"$f":"IF(LEFT(RTD(\"cqg.rtd\", ,\"ContractData\",B79, \"LastTrade\",, \"T\"),3)=\"768\",\"\",RTD(\"cqg.rtd\", ,\"ContractData\",B79, \"MT_LastAskVolume\",, \"T\"))","v":22},{"$f":"IF(LEFT(RTD(\"cqg.rtd\", ,\"ContractData\",B79, \"LastTrade\",, \"T\"),3)=\"768\",\"\",RTD(\"cqg.rtd\", ,\"ContractData\",B79, \"T_CVol\",, \"T\"))","v":190},{"$f":"IF(LEFT(RTD(\"cqg.rtd\", ,\"ContractData\",B79, \"LastTrade\",, \"T\"),3)=\"768\",\"\",RTD(\"cqg.rtd\", ,\"ContractData\",B79, \"Y_CVol\",, \"T\"))","v":2797},{"$f":"IF(LEFT(RTD(\"cqg.rtd\", ,\"ContractData\",B79, \"LastTrade\",, \"T\"),3)=\"768\",\"\",IFERROR(IF(I79>J79,\"+\"&I79-J79,I79-J79)*1,\"\"))","v":-2607},{"$f":"IF(LEFT(RTD(\"cqg.rtd\", ,\"ContractData\",B79, \"LastTrade\",, \"T\"),3)=\"768\",\"\",RTD(\"cqg.rtd\",,\"StudyData\",B79,  \"Bar\",,  \"ContractOI\", \"D\", \"-1\",,,,,\"T\"))","v":4880},{"$f":"IF(LEFT(RTD(\"cqg.rtd\", ,\"ContractData\",B79, \"LastTrade\",, \"T\"),3)=\"768\",\"\",RTD(\"cqg.rtd\",,\"StudyData\",B79,  \"Bar\",,  \"ContractOI\", \"D\", \"-2\",,,,,\"T\"))","v":3497},{"$f":"IF(LEFT(RTD(\"cqg.rtd\", ,\"ContractData\",B79, \"LastTrade\",, \"T\"),3)=\"768\",\"\",IFERROR(IF(L79>M79,\"+\"&L79-M79,L79-M79)*1,\"\"))","v":1383}]
[{"$f":"'Call Data'!A80","v":8550},{"$f":"\"P\"&RIGHT('Call Data'!B80,LEN('Call Data'!B80)-1)","v":"P.US.CLEJ268550"},{"$f":"IF(LEFT(RTD(\"cqg.rtd\", ,\"ContractData\",B80, \"LastTrade\",, \"T\"),3)=\"768\",\"\",RTD(\"cqg.rtd\", ,\"ContractData\",B80, \"LastTrade\",, \"T\"))","v":4.07},{"$f":"IF(C80=\"\",\"\",RTD(\"cqg.rtd\", ,\"ContractData\",B80, \"NetLastTrade\",, \"T\"))","v":-2.0199999999999996},{"$f":"IF(LEFT(RTD(\"cqg.rtd\", ,\"ContractData\",B80, \"LastTrade\",, \"T\"),3)=\"768\",\"\",RTD(\"cqg.rtd\", ,\"ContractData\",B80, \"MT_LastBidVolume\",, \"T\"))","v":7},{"$f":"IF(LEFT(RTD(\"cqg.rtd\", ,\"ContractData\",B80, \"LastTrade\",, \"T\"),3)=\"768\",\"\",RTD(\"cqg.rtd\", ,\"ContractData\",B80, \"Bid\",, \"T\"))","v":3.8200000000000003},{"$f":"IF(LEFT(RTD(\"cqg.rtd\", ,\"ContractData\",B80, \"LastTrade\",, \"T\"),3)=\"768\",\"\",RTD(\"cqg.rtd\", ,\"ContractData\",B80, \"Ask\",, \"T\"))","v":3.92},{"$f":"IF(LEFT(RTD(\"cqg.rtd\", ,\"ContractData\",B80, \"LastTrade\",, \"T\"),3)=\"768\",\"\",RTD(\"cqg.rtd\", ,\"ContractData\",B80, \"MT_LastAskVolume\",, \"T\"))","v":62},{"$f":"IF(LEFT(RTD(\"cqg.rtd\", ,\"ContractData\",B80, \"LastTrade\",, \"T\"),3)=\"768\",\"\",RTD(\"cqg.rtd\", ,\"ContractData\",B80, \"T_CVol\",, \"T\"))","v":26},{"$f":"IF(LEFT(RTD(\"cqg.rtd\", ,\"ContractData\",B80, \"LastTrade\",, \"T\"),3)=\"768\",\"\",RTD(\"cqg.rtd\", ,\"ContractData\",B80, \"Y_CVol\",, \"T\"))","v":102},{"$f":"IF(LEFT(RTD(\"cqg.rtd\", ,\"ContractData\",B80, \"LastTrade\",, \"T\"),3)=\"768\",\"\",IFERROR(IF(I80>J80,\"+\"&I80-J80,I80-J80)*1,\"\"))","v":-76},{"$f":"IF(LEFT(RTD(\"cqg.rtd\", ,\"ContractData\",B80, \"LastTrade\",, \"T\"),3)=\"768\",\"\",RTD(\"cqg.rtd\",,\"StudyData\",B80,  \"Bar\",,  \"ContractOI\", \"D\", \"-1\",,,,,\"T\"))","v":131},{"$f":"IF(LEFT(RTD(\"cqg.rtd\", ,\"ContractData\",B80, \"LastTrade\",, \"T\"),3)=\"768\",\"\",RTD(\"cqg.rtd\",,\"StudyData\",B80,  \"Bar\",,  \"ContractOI\", \"D\", \"-2\",,,,,\"T\"))","v":67},{"$f":"IF(LEFT(RTD(\"cqg.rtd\", ,\"ContractData\",B80, \"LastTrade\",, \"T\"),3)=\"768\",\"\",IFERROR(IF(L80>M80,\"+\"&L80-M80,L80-M80)*1,\"\"))","v":64}]
[{"$f":"'Call Data'!A81","v":8600},{"$f":"\"P\"&RIGHT('Call Data'!B81,LEN('Call Data'!B81)-1)","v":"P.US.CLEJ268600"},{"$f":"IF(LEFT(RTD(\"cqg.rtd\", ,\"ContractData\",B81, \"LastTrade\",, \"T\"),3)=\"768\",\"\",RTD(\"cqg.rtd\", ,\"ContractData\",B81, \"LastTrade\",, \"T\"))","v":4.4000000000000004},{"$f":"IF(C81=\"\",\"\",RTD(\"cqg.rtd\", ,\"ContractData\",B81, \"NetLastTrade\",, \"T\"))","v":-1.9799999999999995},{"$f":"IF(LEFT(RTD(\"cqg.rtd\", ,\"ContractData\",B81, \"LastTrade\",, \"T\"),3)=\"768\",\"\",RTD(\"cqg.rtd\", ,\"ContractData\",B81, \"MT_LastBidVolume\",, \"T\"))","v":7},{"$f":"IF(LEFT(RTD(\"cqg.rtd\", ,\"ContractData\",B81, \"LastTrade\",, \"T\"),3)=\"768\",\"\",RTD(\"cqg.rtd\", ,\"ContractData\",B81, \"Bid\",, \"T\"))","v":4.05},{"$f":"IF(LEFT(RTD(\"cqg.rtd\", ,\"ContractData\",B81, \"LastTrade\",, \"T\"),3)=\"768\",\"\",RTD(\"cqg.rtd\", ,\"ContractData\",B81, \"Ask\",, \"T\"))","v":4.1500000000000004},{"$f":"IF(LEFT(RTD(\"cqg.rtd\", ,\"ContractData\",B81, \"LastTrade\",, \"T\"),3)=\"768\",\"\",RTD(\"cqg.rtd\", ,\"ContractData\",B81, \"MT_LastAskVolume\",, \"T\"))","v":41},{"$f":"IF(LEFT(RTD(\"cqg.rtd\", ,\"ContractData\",B81, \"LastTrade\",, \"T\"),3)=\"768\",\"\",RTD(\"cqg.rtd\", ,\"ContractData\",B81, \"T_CVol\",, \"T\"))","v":53},{"$f":"IF(LEFT(RTD(\"cqg.rtd\", ,\"ContractData\",B81, \"LastTrade\",, \"T\"),3)=\"768\",\"\",RTD(\"cqg.rtd\", ,\"ContractData\",B81, \"Y_CVol\",, \"T\"))","v":209},{"$f":"IF(LEFT(RTD(\"cqg.rtd\", ,\"ContractData\",B81, \"LastTrade\",, \"T\"),3)=\"768\",\"\",IFERROR(IF(I81>J81,\"+\"&I81-J81,I81-J81)*1,\"\"))","v":-156},{"$f":"IF(LEFT(RTD(\"cqg.rtd\", ,\"ContractData\",B81, \"LastTrade\",, \"T\"),3)=\"768\",\"\",RTD(\"cqg.rtd\",,\"StudyData\",B81,  \"Bar\",,  \"ContractOI\", \"D\", \"-1\",,,,,\"T\"))","v":287},{"$f":"IF(LEFT(RTD(\"cqg.rtd\", ,\"ContractData\",B81, \"LastTrade\",, \"T\"),3)=\"768\",\"\",RTD(\"cqg.rtd\",,\"StudyData\",B81,  \"Bar\",,  \"ContractOI\", \"D\", \"-2\",,,,,\"T\"))","v":143},{"$f":"IF(LEFT(RTD(\"cqg.rtd\", ,\"ContractData\",B81, \"LastTrade\",, \"T\"),3)=\"768\",\"\",IFERROR(IF(L81>M81,\"+\"&L81-M81,L81-M81)*1,\"\"))","v":144}]
[{"$f":"'Call Data'!A82","v":8650},{"$f":"\"P\"&RIGHT('Call Data'!B82,LEN('Call Data'!B82)-1)","v":"P.US.CLEJ268650"},{"$f":"IF(LEFT(RTD(\"cqg.rtd\", ,\"ContractData\",B82, \"LastTrade\",, \"T\"),3)=\"768\",\"\",RTD(\"cqg.rtd\", ,\"ContractData\",B82, \"LastTrade\",, \"T\"))","v":4.3899999999999997},{"$f":"IF(C82=\"\",\"\",RTD(\"cqg.rtd\", ,\"ContractData\",B82, \"NetLastTrade\",, \"T\"))","v":-2.29},{"$f":"IF(LEFT(RTD(\"cqg.rtd\", ,\"ContractData\",B82, \"LastTrade\",, \"T\"),3)=\"768\",\"\",RTD(\"cqg.rtd\", ,\"ContractData\",B82, \"MT_LastBidVolume\",, \"T\"))","v":7},{"$f":"IF(LEFT(RTD(\"cqg.rtd\", ,\"ContractData\",B82, \"LastTrade\",, \"T\"),3)=\"768\",\"\",RTD(\"cqg.rtd\", ,\"ContractData\",B82, \"Bid\",, \"T\"))","v":4.29},{"$f":"IF(LEFT(RTD(\"cqg.rtd\", ,\"ContractData\",B82, \"LastTrade\",, \"T\"),3)=\"768\",\"\",RTD(\"cqg.rtd\", ,\"ContractData\",B82, \"Ask\",, \"T\"))","v":4.38},{"$f":"IF(LEFT(RTD(\"cqg.rtd\", ,\"ContractData\",B82, \"LastTrade\",, \"T\"),3)=\"768\",\"\",RTD(\"cqg.rtd\", ,\"ContractData\",B82, \"MT_LastAskVolume\",, \"T\"))","v":22},{"$f":"IF(LEFT(RTD(\"cqg.rtd\", ,\"ContractData\",B82, \"LastTrade\",, \"T\"),3)=\"768\",\"\",RTD(\"cqg.rtd\", ,\"ContractData\",B82, \"T_CVol\",, \"T\"))","v":42},{"$f":"IF(LEFT(RTD(\"cqg.rtd\", ,\"ContractData\",B82, \"LastTrade\",, \"T\"),3)=\"768\",\"\",RTD(\"cqg.rtd\", ,\"ContractData\",B82, \"Y_CVol\",, \"T\"))","v":54},{"$f":"IF(LEFT(RTD(\"cqg.rtd\", ,\"ContractData\",B82, \"LastTrade\",, \"T\"),3)=\"768\",\"\",IFERROR(IF(I82>J82,\"+\"&I82-J82,I82-J82)*1,\"\"))","v":-12},{"$f":"IF(LEFT(RTD(\"cqg.rtd\", ,\"ContractData\",B82, \"LastTrade\",, \"T\"),3)=\"768\",\"\",RTD(\"cqg.rtd\",,\"StudyData\",B82,  \"Bar\",,  \"ContractOI\", \"D\", \"-1\",,,,,\"T\"))","v":97},{"$f":"IF(LEFT(RTD(\"cqg.rtd\", ,\"ContractData\",B82, \"LastTrade\",, \"T\"),3)=\"768\",\"\",RTD(\"cqg.rtd\",,\"StudyData\",B82,  \"Bar\",,  \"ContractOI\", \"D\", \"-2\",,,,,\"T\"))","v":94},{"$f":"IF(LEFT(RTD(\"cqg.rtd\", ,\"ContractData\",B82, \"LastTrade\",, \"T\"),3)=\"768\",\"\",IFERROR(IF(L82>M82,\"+\"&L82-M82,L82-M82)*1,\"\"))","v":3}]
[{"$f":"'Call Data'!A83","v":8700},{"$f":"\"P\"&RIGHT('Call Data'!B83,LEN('Call Data'!B83)-1)","v":"P.US.CLEJ268700"},{"$f":"IF(LEFT(RTD(\"cqg.rtd\", ,\"ContractData\",B83, \"LastTrade\",, \"T\"),3)=\"768\",\"\",RTD(\"cqg.rtd\", ,\"ContractData\",B83, \"LastTrade\",, \"T\"))","v":4.42},{"$f":"IF(C83=\"\",\"\",RTD(\"cqg.rtd\", ,\"ContractData\",B83, \"NetLastTrade\",, \"T\"))","v":-2.5700000000000003},{"$f":"IF(LEFT(RTD(\"cqg.rtd\", ,\"ContractData\",B83, \"LastTrade\",, \"T\"),3)=\"768\",\"\",RTD(\"cqg.rtd\", ,\"ContractData\",B83, \"MT_LastBidVolume\",, \"T\"))","v":7},{"$f":"IF(LEFT(RTD(\"cqg.rtd\", ,\"ContractData\",B83, \"LastTrade\",, \"T\"),3)=\"768\",\"\",RTD(\"cqg.rtd\", ,\"ContractData\",B83, \"Bid\",, \"T\"))","v":4.53},{"$f":"IF(LEFT(RTD(\"cqg.rtd\", ,\"ContractData\",B83, \"LastTrade\",, \"T\"),3)=\"768\",\"\",RTD(\"cqg.rtd\", ,\"ContractData\",B83, \"Ask\",, \"T\"))","v":4.62},{"$f":"IF(LEFT(RTD(\"cqg.rtd\", ,\"ContractData\",B83, \"LastTrade\",, \"T\"),3)=\"768\",\"\",RTD(\"cqg.rtd\", ,\"ContractData\",B83, \"MT_LastAskVolume\",, \"T\"))","v":11},{"$f":"IF(LEFT(RTD(\"cqg.rtd\", ,\"ContractData\",B83, \"LastTrade\",, \"T\"),3)=\"768\",\"\",RTD(\"cqg.rtd\", ,\"ContractData\",B83, \"T_CVol\",, \"T\"))","v":36},{"$f":"IF(LEFT(RTD(\"cqg.rtd\", ,\"ContractData\",B83, \"LastTrade\",, \"T\"),3)=\"768\",\"\",RTD(\"cqg.rtd\", ,\"ContractData\",B83, \"Y_CVol\",, \"T\"))","v":376},{"$f":"IF(LEFT(RTD(\"cqg.rtd\", ,\"ContractData\",B83, \"LastTrade\",, \"T\"),3)=\"768\",\"\",IFERROR(IF(I83>J83,\"+\"&I83-J83,I83-J83)*1,\"\"))","v":-340},{"$f":"IF(LEFT(RTD(\"cqg.rtd\", ,\"ContractData\",B83, \"LastTrade\",, \"T\"),3)=\"768\",\"\",RTD(\"cqg.rtd\",,\"StudyData\",B83,  \"Bar\",,  \"ContractOI\", \"D\", \"-1\",,,,,\"T\"))","v":357},{"$f":"IF(LEFT(RTD(\"cqg.rtd\", ,\"ContractData\",B83, \"LastTrade\",, \"T\"),3)=\"768\",\"\",RTD(\"cqg.rtd\",,\"StudyData\",B83,  \"Bar\",,  \"ContractOI\", \"D\", \"-2\",,,,,\"T\"))","v":241},{"$f":"IF(LEFT(RTD(\"cqg.rtd\", ,\"ContractData\",B83, \"LastTrade\",, \"T\"),3)=\"768\",\"\",IFERROR(IF(L83>M83,\"+\"&L83-M83,L83-M83)*1,\"\"))","v":116}]
[{"$f":"'Call Data'!A84","v":8750},{"$f":"\"P\"&RIGHT('Call Data'!B84,LEN('Call Data'!B84)-1)","v":"P.US.CLEJ268750"},{"$f":"IF(LEFT(RTD(\"cqg.rtd\", ,\"ContractData\",B84, \"LastTrade\",, \"T\"),3)=\"768\",\"\",RTD(\"cqg.rtd\", ,\"ContractData\",B84, \"LastTrade\",, \"T\"))","v":5.01},{"$f":"IF(C84=\"\",\"\",RTD(\"cqg.rtd\", ,\"ContractData\",B84, \"NetLastTrade\",, \"T\"))","v":-2.3100000000000005},{"$f":"IF(LEFT(RTD(\"cqg.rtd\", ,\"ContractData\",B84, \"LastTrade\",, \"T\"),3)=\"768\",\"\",RTD(\"cqg.rtd\", ,\"ContractData\",B84, \"MT_LastBidVolume\",, \"T\"))","v":6},{"$f":"IF(LEFT(RTD(\"cqg.rtd\", ,\"ContractData\",B84, \"LastTrade\",, \"T\"),3)=\"768\",\"\",RTD(\"cqg.rtd\", ,\"ContractData\",B84, \"Bid\",, \"T\"))","v":4.78},{"$f":"IF(LEFT(RTD(\"cqg.rtd\", ,\"ContractData\",B84, \"LastTrade\",, \"T\"),3)=\"768\",\"\",RTD(\"cqg.rtd\", ,\"ContractData\",B84, \"Ask\",, \"T\"))","v":4.88},{"$f":"IF(LEFT(RTD(\"cqg.rtd\", ,\"ContractData\",B84, \"LastTrade\",, \"T\"),3)=\"768\",\"\",RTD(\"cqg.rtd\", ,\"ContractData\",B84, \"MT_LastAskVolume\",, \"T\"))","v":65},{"$f":"IF(LEFT(RTD(\"cqg.rtd\", ,\"ContractData\",B84, \"LastTrade\",, \"T\"),3)=\"768\",\"\",RTD(\"cqg.rtd\", ,\"ContractData\",B84, \"T_CVol\",, \"T\"))","v":30},{"$f":"IF(LEFT(RTD(\"cqg.rtd\", ,\"ContractData\",B84, \"LastTrade\",, \"T\"),3)=\"768\",\"\",RTD(\"cqg.rtd\", ,\"ContractData\",B84, \"Y_CVol\",, \"T\"))","v":77},{"$f":"IF(LEFT(RTD(\"cqg.rtd\", ,\"ContractData\",B84, \"LastTrade\",, \"T\"),3)=\"768\",\"\",IFERROR(IF(I84>J84,\"+\"&I84-J84,I84-J84)*1,\"\"))","v":-47},{"$f":"IF(LEFT(RTD(\"cqg.rtd\", ,\"ContractData\",B84, \"LastTrade\",, \"T\"),3)=\"768\",\"\",RTD(\"cqg.rtd\",,\"StudyData\",B84,  \"Bar\",,  \"ContractOI\", \"D\", \"-1\",,,,,\"T\"))","v":205},{"$f":"IF(LEFT(RTD(\"cqg.rtd\", ,\"ContractData\",B84, \"LastTrade\",, \"T\"),3)=\"768\",\"\",RTD(\"cqg.rtd\",,\"StudyData\",B84,  \"Bar\",,  \"ContractOI\", \"D\", \"-2\",,,,,\"T\"))","v":162},{"$f":"IF(LEFT(RTD(\"cqg.rtd\", ,\"ContractData\",B84, \"LastTrade\",, \"T\"),3)=\"768\",\"\",IFERROR(IF(L84>M84,\"+\"&L84-M84,L84-M84)*1,\"\"))","v":43}]
[{"$f":"'Call Data'!A85","v":8800},{"$f":"\"P\"&RIGHT('Call Data'!B85,LEN('Call Data'!B85)-1)","v":"P.US.CLEJ268800"},{"$f":"IF(LEFT(RTD(\"cqg.rtd\", ,\"ContractData\",B85, \"LastTrade\",, \"T\"),3)=\"768\",\"\",RTD(\"cqg.rtd\", ,\"ContractData\",B85, \"LastTrade\",, \"T\"))","v":4.9400000000000004},{"$f":"IF(C85=\"\",\"\",RTD(\"cqg.rtd\", ,\"ContractData\",B85, \"NetLastTrade\",, \"T\"))","v":-2.7},{"$f":"IF(LEFT(RTD(\"cqg.rtd\", ,\"ContractData\",B85, \"LastTrade\",, \"T\"),3)=\"768\",\"\",RTD(\"cqg.rtd\", ,\"ContractData\",B85, \"MT_LastBidVolume\",, \"T\"))","v":8},{"$f":"IF(LEFT(RTD(\"cqg.rtd\", ,\"ContractData\",B85, \"LastTrade\",, \"T\"),3)=\"768\",\"\",RTD(\"cqg.rtd\", ,\"ContractData\",B85, \"Bid\",, \"T\"))","v":5.03},{"$f":"IF(LEFT(RTD(\"cqg.rtd\", ,\"ContractData\",B85, \"LastTrade\",, \"T\"),3)=\"768\",\"\",RTD(\"cqg.rtd\", ,\"ContractData\",B85, \"Ask\",, \"T\"))","v":5.13},{"$f":"IF(LEFT(RTD(\"cqg.rtd\", ,\"ContractData\",B85, \"LastTrade\",, \"T\"),3)=\"768\",\"\",RTD(\"cqg.rtd\", ,\"ContractData\",B85, \"MT_LastAskVolume\",, \"T\"))","v":23},{"$f":"IF(LEFT(RTD(\"cqg.rtd\", ,\"ContractData\",B85, \"LastTrade\",, \"T\"),3)=\"768\",\"\",RTD(\"cqg.rtd\", ,\"ContractData\",B85, \"T_CVol\",, \"T\"))","v":74},{"$f":"IF(LEFT(RTD(\"cqg.rtd\", ,\"ContractData\",B85, \"LastTrade\",, \"T\"),3)=\"768\",\"\",RTD(\"cqg.rtd\", ,\"ContractData\",B85, \"Y_CVol\",, \"T\"))","v":250},{"$f":"IF(LEFT(RTD(\"cqg.rtd\", ,\"ContractData\",B85, \"LastTrade\",, \"T\"),3)=\"768\",\"\",IFERROR(IF(I85>J85,\"+\"&I85-J85,I85-J85)*1,\"\"))","v":-176},{"$f":"IF(LEFT(RTD(\"cqg.rtd\", ,\"ContractData\",B85, \"LastTrade\",, \"T\"),3)=\"768\",\"\",RTD(\"cqg.rtd\",,\"StudyData\",B85,  \"Bar\",,  \"ContractOI\", \"D\", \"-1\",,,,,\"T\"))","v":1663},{"$f":"IF(LEFT(RTD(\"cqg.rtd\", ,\"ContractData\",B85, \"LastTrade\",, \"T\"),3)=\"768\",\"\",RTD(\"cqg.rtd\",,\"StudyData\",B85,  \"Bar\",,  \"ContractOI\", \"D\", \"-2\",,,,,\"T\"))","v":1838},{"$f":"IF(LEFT(RTD(\"cqg.rtd\", ,\"ContractData\",B85, \"LastTrade\",, \"T\"),3)=\"768\",\"\",IFERROR(IF(L85>M85,\"+\"&L85-M85,L85-M85)*1,\"\"))","v":-175}]
[{"$f":"'Call Data'!A86","v":8850},{"$f":"\"P\"&RIGHT('Call Data'!B86,LEN('Call Data'!B86)-1)","v":"P.US.CLEJ268850"},{"$f":"IF(LEFT(RTD(\"cqg.rtd\", ,\"ContractData\",B86, \"LastTrade\",, \"T\"),3)=\"768\",\"\",RTD(\"cqg.rtd\", ,\"ContractData\",B86, \"LastTrade\",, \"T\"))","v":4.78},{"$f":"IF(C86=\"\",\"\",RTD(\"cqg.rtd\", ,\"ContractData\",B86, \"NetLastTrade\",, \"T\"))","v":-3.1799999999999997},{"$f":"IF(LEFT(RTD(\"cqg.rtd\", ,\"ContractData\",B86, \"LastTrade\",, \"T\"),3)=\"768\",\"\",RTD(\"cqg.rtd\", ,\"ContractData\",B86, \"MT_LastBidVolume\",, \"T\"))","v":22},{"$f":"IF(LEFT(RTD(\"cqg.rtd\", ,\"ContractData\",B86, \"LastTrade\",, \"T\"),3)=\"768\",\"\",RTD(\"cqg.rtd\", ,\"ContractData\",B86, \"Bid\",, \"T\"))","v":5.29},{"$f":"IF(LEFT(RTD(\"cqg.rtd\", ,\"ContractData\",B86, \"LastTrade\",, \"T\"),3)=\"768\",\"\",RTD(\"cqg.rtd\", ,\"ContractData\",B86, \"Ask\",, \"T\"))","v":5.4},{"$f":"IF(LEFT(RTD(\"cqg.rtd\", ,\"ContractData\",B86, \"LastTrade\",, \"T\"),3)=\"768\",\"\",RTD(\"cqg.rtd\", ,\"ContractData\",B86, \"MT_LastAskVolume\",, \"T\"))","v":44},{"$f":"IF(LEFT(RTD(\"cqg.rtd\", ,\"ContractData\",B86, \"LastTrade\",, \"T\"),3)=\"768\",\"\",RTD(\"cqg.rtd\", ,\"ContractData\",B86, \"T_CVol\",, \"T\"))","v":14},{"$f":"IF(LEFT(RTD(\"cqg.rtd\", ,\"ContractData\",B86, \"LastTrade\",, \"T\"),3)=\"768\",\"\",RTD(\"cqg.rtd\", ,\"ContractData\",B86, \"Y_CVol\",, \"T\"))","v":13},{"$f":"IF(LEFT(RTD(\"cqg.rtd\", ,\"ContractData\",B86, \"LastTrade\",, \"T\"),3)=\"768\",\"\",IFERROR(IF(I86>J86,\"+\"&I86-J86,I86-J86)*1,\"\"))","v":1},{"$f":"IF(LEFT(RTD(\"cqg.rtd\", ,\"ContractData\",B86, \"LastTrade\",, \"T\"),3)=\"768\",\"\",RTD(\"cqg.rtd\",,\"StudyData\",B86,  \"Bar\",,  \"ContractOI\", \"D\", \"-1\",,,,,\"T\"))","v":47},{"$f":"IF(LEFT(RTD(\"cqg.rtd\", ,\"ContractData\",B86, \"LastTrade\",, \"T\"),3)=\"768\",\"\",RTD(\"cqg.rtd\",,\"StudyData\",B86,  \"Bar\",,  \"ContractOI\", \"D\", \"-2\",,,,,\"T\"))","v":40},{"$f":"IF(LEFT(RTD(\"cqg.rtd\", ,\"ContractData\",B86, \"LastTrade\",, \"T\"),3)=\"768\",\"\",IFERROR(IF(L86>M86,\"+\"&L86-M86,L86-M86)*1,\"\"))","v":7}]
[{"$f":"'Call Data'!A87","v":8900},{"$f":"\"P\"&RIGHT('Call Data'!B87,LEN('Call Data'!B87)-1)","v":"P.US.CLEJ268900"},{"$f":"IF(LEFT(RTD(\"cqg.rtd\", ,\"ContractData\",B87, \"LastTrade\",, \"T\"),3)=\"768\",\"\",RTD(\"cqg.rtd\", ,\"ContractData\",B87, \"LastTrade\",, \"T\"))","v":5.4},{"$f":"IF(C87=\"\",\"\",RTD(\"cqg.rtd\", ,\"ContractData\",B87, \"NetLastTrade\",, \"T\"))","v":-2.8699999999999992},{"$f":"IF(LEFT(RTD(\"cqg.rtd\", ,\"ContractData\",B87, \"LastTrade\",, \"T\"),3)=\"768\",\"\",RTD(\"cqg.rtd\", ,\"ContractData\",B87, \"MT_LastBidVolume\",, \"T\"))","v":25},{"$f":"IF(LEFT(RTD(\"cqg.rtd\", ,\"ContractData\",B87, \"LastTrade\",, \"T\"),3)=\"768\",\"\",RTD(\"cqg.rtd\", ,\"ContractData\",B87, \"Bid\",, \"T\"))","v":5.5600000000000005},{"$f":"IF(LEFT(RTD(\"cqg.rtd\", ,\"ContractData\",B87, \"LastTrade\",, \"T\"),3)=\"768\",\"\",RTD(\"cqg.rtd\", ,\"ContractData\",B87, \"Ask\",, \"T\"))","v":5.67},{"$f":"IF(LEFT(RTD(\"cqg.rtd\", ,\"ContractData\",B87, \"LastTrade\",, \"T\"),3)=\"768\",\"\",RTD(\"cqg.rtd\", ,\"ContractData\",B87, \"MT_LastAskVolume\",, \"T\"))","v":42},{"$f":"IF(LEFT(RTD(\"cqg.rtd\", ,\"ContractData\",B87, \"LastTrade\",, \"T\"),3)=\"768\",\"\",RTD(\"cqg.rtd\", ,\"ContractData\",B87, \"T_CVol\",, \"T\"))","v":60},{"$f":"IF(LEFT(RTD(\"cqg.rtd\", ,\"ContractData\",B87, \"LastTrade\",, \"T\"),3)=\"768\",\"\",RTD(\"cqg.rtd\", ,\"ContractData\",B87, \"Y_CVol\",, \"T\"))","v":65},{"$f":"IF(LEFT(RTD(\"cqg.rtd\", ,\"ContractData\",B87, \"LastTrade\",, \"T\"),3)=\"768\",\"\",IFERROR(IF(I87>J87,\"+\"&I87-J87,I87-J87)*1,\"\"))","v":-5},{"$f":"IF(LEFT(RTD(\"cqg.rtd\", ,\"ContractData\",B87, \"LastTrade\",, \"T\"),3)=\"768\",\"\",RTD(\"cqg.rtd\",,\"StudyData\",B87,  \"Bar\",,  \"ContractOI\", \"D\", \"-1\",,,,,\"T\"))","v":195},{"$f":"IF(LEFT(RTD(\"cqg.rtd\", ,\"ContractData\",B87, \"LastTrade\",, \"T\"),3)=\"768\",\"\",RTD(\"cqg.rtd\",,\"StudyData\",B87,  \"Bar\",,  \"ContractOI\", \"D\", \"-2\",,,,,\"T\"))","v":200},{"$f":"IF(LEFT(RTD(\"cqg.rtd\", ,\"ContractData\",B87, \"LastTrade\",, \"T\"),3)=\"768\",\"\",IFERROR(IF(L87>M87,\"+\"&L87-M87,L87-M87)*1,\"\"))","v":-5}]
[{"$f":"'Call Data'!A88","v":8950},{"$f":"\"P\"&RIGHT('Call Data'!B88,LEN('Call Data'!B88)-1)","v":"P.US.CLEJ268950"},{"$f":"IF(LEFT(RTD(\"cqg.rtd\", ,\"ContractData\",B88, \"LastTrade\",, \"T\"),3)=\"768\",\"\",RTD(\"cqg.rtd\", ,\"ContractData\",B88, \"LastTrade\",, \"T\"))","v":5.71},{"$f":"IF(C88=\"\",\"\",RTD(\"cqg.rtd\", ,\"ContractData\",B88, \"NetLastTrade\",, \"T\"))","v":-2.88},{"$f":"IF(LEFT(RTD(\"cqg.rtd\", ,\"ContractData\",B88, \"LastTrade\",, \"T\"),3)=\"768\",\"\",RTD(\"cqg.rtd\", ,\"ContractData\",B88, \"MT_LastBidVolume\",, \"T\"))","v":1},{"$f":"IF(LEFT(RTD(\"cqg.rtd\", ,\"ContractData\",B88, \"LastTrade\",, \"T\"),3)=\"768\",\"\",RTD(\"cqg.rtd\", ,\"ContractData\",B88, \"Bid\",, \"T\"))","v":5.83},{"$f":"IF(LEFT(RTD(\"cqg.rtd\", ,\"ContractData\",B88, \"LastTrade\",, \"T\"),3)=\"768\",\"\",RTD(\"cqg.rtd\", ,\"ContractData\",B88, \"Ask\",, \"T\"))","v":5.94},{"$f":"IF(LEFT(RTD(\"cqg.rtd\", ,\"ContractData\",B88, \"LastTrade\",, \"T\"),3)=\"768\",\"\",RTD(\"cqg.rtd\", ,\"ContractData\",B88, \"MT_LastAskVolume\",, \"T\"))","v":37},{"$f":"IF(LEFT(RTD(\"cqg.rtd\", ,\"ContractData\",B88, \"LastTrade\",, \"T\"),3)=\"768\",\"\",RTD(\"cqg.rtd\", ,\"ContractData\",B88, \"T_CVol\",, \"T\"))","v":12},{"$f":"IF(LEFT(RTD(\"cqg.rtd\", ,\"ContractData\",B88, \"LastTrade\",, \"T\"),3)=\"768\",\"\",RTD(\"cqg.rtd\", ,\"ContractData\",B88, \"Y_CVol\",, \"T\"))","v":4},{"$f":"IF(LEFT(RTD(\"cqg.rtd\", ,\"ContractData\",B88, \"LastTrade\",, \"T\"),3)=\"768\",\"\",IFERROR(IF(I88>J88,\"+\"&I88-J88,I88-J88)*1,\"\"))","v":8},{"$f":"IF(LEFT(RTD(\"cqg.rtd\", ,\"ContractData\",B88, \"LastTrade\",, \"T\"),3)=\"768\",\"\",RTD(\"cqg.rtd\",,\"StudyData\",B88,  \"Bar\",,  \"ContractOI\", \"D\", \"-1\",,,,,\"T\"))","v":22},{"$f":"IF(LEFT(RTD(\"cqg.rtd\", ,\"ContractData\",B88, \"LastTrade\",, \"T\"),3)=\"768\",\"\",RTD(\"cqg.rtd\",,\"StudyData\",B88,  \"Bar\",,  \"ContractOI\", \"D\", \"-2\",,,,,\"T\"))","v":23},{"$f":"IF(LEFT(RTD(\"cqg.rtd\", ,\"ContractData\",B88, \"LastTrade\",, \"T\"),3)=\"768\",\"\",IFERROR(IF(L88>M88,\"+\"&L88-M88,L88-M88)*1,\"\"))","v":-1}]
[{"$f":"'Call Data'!A89","v":9000},{"$f":"\"P\"&RIGHT('Call Data'!B89,LEN('Call Data'!B89)-1)","v":"P.US.CLEJ269000"},{"$f":"IF(LEFT(RTD(\"cqg.rtd\", ,\"ContractData\",B89, \"LastTrade\",, \"T\"),3)=\"768\",\"\",RTD(\"cqg.rtd\", ,\"ContractData\",B89, \"LastTrade\",, \"T\"))","v":6.32},{"$f":"IF(C89=\"\",\"\",RTD(\"cqg.rtd\", ,\"ContractData\",B89, \"NetLastTrade\",, \"T\"))","v":-2.59},{"$f":"IF(LEFT(RTD(\"cqg.rtd\", ,\"ContractData\",B89, \"LastTrade\",, \"T\"),3)=\"768\",\"\",RTD(\"cqg.rtd\", ,\"ContractData\",B89, \"MT_LastBidVolume\",, \"T\"))","v":11},{"$f":"IF(LEFT(RTD(\"cqg.rtd\", ,\"ContractData\",B89, \"LastTrade\",, \"T\"),3)=\"768\",\"\",RTD(\"cqg.rtd\", ,\"ContractData\",B89, \"Bid\",, \"T\"))","v":6.13},{"$f":"IF(LEFT(RTD(\"cqg.rtd\", ,\"ContractData\",B89, \"LastTrade\",, \"T\"),3)=\"768\",\"\",RTD(\"cqg.rtd\", ,\"ContractData\",B89, \"Ask\",, \"T\"))","v":6.22},{"$f":"IF(LEFT(RTD(\"cqg.rtd\", ,\"ContractData\",B89, \"LastTrade\",, \"T\"),3)=\"768\",\"\",RTD(\"cqg.rtd\", ,\"ContractData\",B89, \"MT_LastAskVolume\",, \"T\"))","v":34},{"$f":"IF(LEFT(RTD(\"cqg.rtd\", ,\"ContractData\",B89, \"LastTrade\",, \"T\"),3)=\"768\",\"\",RTD(\"cqg.rtd\", ,\"ContractData\",B89, \"T_CVol\",, \"T\"))","v":826},{"$f":"IF(LEFT(RTD(\"cqg.rtd\", ,\"ContractData\",B89, \"LastTrade\",, \"T\"),3)=\"768\",\"\",RTD(\"cqg.rtd\", ,\"ContractData\",B89, \"Y_CVol\",, \"T\"))","v":612},{"$f":"IF(LEFT(RTD(\"cqg.rtd\", ,\"ContractData\",B89, \"LastTrade\",, \"T\"),3)=\"768\",\"\",IFERROR(IF(I89>J89,\"+\"&I89-J89,I89-J89)*1,\"\"))","v":214},{"$f":"IF(LEFT(RTD(\"cqg.rtd\", ,\"ContractData\",B89, \"LastTrade\",, \"T\"),3)=\"768\",\"\",RTD(\"cqg.rtd\",,\"StudyData\",B89,  \"Bar\",,  \"ContractOI\", \"D\", \"-1\",,,,,\"T\"))","v":2459},{"$f":"IF(LEFT(RTD(\"cqg.rtd\", ,\"ContractData\",B89, \"LastTrade\",, \"T\"),3)=\"768\",\"\",RTD(\"cqg.rtd\",,\"StudyData\",B89,  \"Bar\",,  \"ContractOI\", \"D\", \"-2\",,,,,\"T\"))","v":2473},{"$f":"IF(LEFT(RTD(\"cqg.rtd\", ,\"ContractData\",B89, \"LastTrade\",, \"T\"),3)=\"768\",\"\",IFERROR(IF(L89>M89,\"+\"&L89-M89,L89-M89)*1,\"\"))","v":-14}]
[{"$f":"'Call Data'!A90","v":9050},{"$f":"\"P\"&RIGHT('Call Data'!B90,LEN('Call Data'!B90)-1)","v":"P.US.CLEJ269050"},{"$f":"IF(LEFT(RTD(\"cqg.rtd\", ,\"ContractData\",B90, \"LastTrade\",, \"T\"),3)=\"768\",\"\",RTD(\"cqg.rtd\", ,\"ContractData\",B90, \"LastTrade\",, \"T\"))","v":6.59},{"$f":"IF(C90=\"\",\"\",RTD(\"cqg.rtd\", ,\"ContractData\",B90, \"NetLastTrade\",, \"T\"))","v":-2.6400000000000006},{"$f":"IF(LEFT(RTD(\"cqg.rtd\", ,\"ContractData\",B90, \"LastTrade\",, \"T\"),3)=\"768\",\"\",RTD(\"cqg.rtd\", ,\"ContractData\",B90, \"MT_LastBidVolume\",, \"T\"))","v":25},{"$f":"IF(LEFT(RTD(\"cqg.rtd\", ,\"ContractData\",B90, \"LastTrade\",, \"T\"),3)=\"768\",\"\",RTD(\"cqg.rtd\", ,\"ContractData\",B90, \"Bid\",, \"T\"))","v":6.3900000000000006},{"$f":"IF(LEFT(RTD(\"cqg.rtd\", ,\"ContractData\",B90, \"LastTrade\",, \"T\"),3)=\"768\",\"\",RTD(\"cqg.rtd\", ,\"ContractData\",B90, \"Ask\",, \"T\"))","v":6.51},{"$f":"IF(LEFT(RTD(\"cqg.rtd\", ,\"ContractData\",B90, \"LastTrade\",, \"T\"),3)=\"768\",\"\",RTD(\"cqg.rtd\", ,\"ContractData\",B90, \"MT_LastAskVolume\",, \"T\"))","v":39},{"$f":"IF(LEFT(RTD(\"cqg.rtd\", ,\"ContractData\",B90, \"LastTrade\",, \"T\"),3)=\"768\",\"\",RTD(\"cqg.rtd\", ,\"ContractData\",B90, \"T_CVol\",, \"T\"))","v":23},{"$f":"IF(LEFT(RTD(\"cqg.rtd\", ,\"ContractData\",B90, \"LastTrade\",, \"T\"),3)=\"768\",\"\",RTD(\"cqg.rtd\", ,\"ContractData\",B90, \"Y_CVol\",, \"T\"))","v":30},{"$f":"IF(LEFT(RTD(\"cqg.rtd\", ,\"ContractData\",B90, \"LastTrade\",, \"T\"),3)=\"768\",\"\",IFERROR(IF(I90>J90,\"+\"&I90-J90,I90-J90)*1,\"\"))","v":-7},{"$f":"IF(LEFT(RTD(\"cqg.rtd\", ,\"ContractData\",B90, \"LastTrade\",, \"T\"),3)=\"768\",\"\",RTD(\"cqg.rtd\",,\"StudyData\",B90,  \"Bar\",,  \"ContractOI\", \"D\", \"-1\",,,,,\"T\"))","v":1859},{"$f":"IF(LEFT(RTD(\"cqg.rtd\", ,\"ContractData\",B90, \"LastTrade\",, \"T\"),3)=\"768\",\"\",RTD(\"cqg.rtd\",,\"StudyData\",B90,  \"Bar\",,  \"ContractOI\", \"D\", \"-2\",,,,,\"T\"))","v":1859},{"$f":"IF(LEFT(RTD(\"cqg.rtd\", ,\"ContractData\",B90, \"LastTrade\",, \"T\"),3)=\"768\",\"\",IFERROR(IF(L90>M90,\"+\"&L90-M90,L90-M90)*1,\"\"))","v":0}]
[{"$f":"'Call Data'!A91","v":9100},{"$f":"\"P\"&RIGHT('Call Data'!B91,LEN('Call Data'!B91)-1)","v":"P.US.CLEJ269100"},{"$f":"IF(LEFT(RTD(\"cqg.rtd\", ,\"ContractData\",B91, \"LastTrade\",, \"T\"),3)=\"768\",\"\",RTD(\"cqg.rtd\", ,\"ContractData\",B91, \"LastTrade\",, \"T\"))","v":6.95},{"$f":"IF(C91=\"\",\"\",RTD(\"cqg.rtd\", ,\"ContractData\",B91, \"NetLastTrade\",, \"T\"))","v":-2.62},{"$f":"IF(LEFT(RTD(\"cqg.rtd\", ,\"ContractData\",B91, \"LastTrade\",, \"T\"),3)=\"768\",\"\",RTD(\"cqg.rtd\", ,\"ContractData\",B91, \"MT_LastBidVolume\",, \"T\"))","v":25},{"$f":"IF(LEFT(RTD(\"cqg.rtd\", ,\"ContractData\",B91, \"LastTrade\",, \"T\"),3)=\"768\",\"\",RTD(\"cqg.rtd\", ,\"ContractData\",B91, \"Bid\",, \"T\"))","v":6.68},{"$f":"IF(LEFT(RTD(\"cqg.rtd\", ,\"ContractData\",B91, \"LastTrade\",, \"T\"),3)=\"768\",\"\",RTD(\"cqg.rtd\", ,\"ContractData\",B91, \"Ask\",, \"T\"))","v":6.8},{"$f":"IF(LEFT(RTD(\"cqg.rtd\", ,\"ContractData\",B91, \"LastTrade\",, \"T\"),3)=\"768\",\"\",RTD(\"cqg.rtd\", ,\"ContractData\",B91, \"MT_LastAskVolume\",, \"T\"))","v":39},{"$f":"IF(LEFT(RTD(\"cqg.rtd\", ,\"ContractData\",B91, \"LastTrade\",, \"T\"),3)=\"768\",\"\",RTD(\"cqg.rtd\", ,\"ContractData\",B91, \"T_CVol\",, \"T\"))","v":36},{"$f":"IF(LEFT(RTD(\"cqg.rtd\", ,\"ContractData\",B91, \"LastTrade\",, \"T\"),3)=\"768\",\"\",RTD(\"cqg.rtd\", ,\"ContractData\",B91, \"Y_CVol\",, \"T\"))","v":390},{"$f":"IF(LEFT(RTD(\"cqg.rtd\", ,\"ContractData\",B91, \"LastTrade\",, \"T\"),3)=\"768\",\"\",IFERROR(IF(I91>J91,\"+\"&I91-J91,I91-J91)*1,\"\"))","v":-354},{"$f":"IF(LEFT(RTD(\"cqg.rtd\", ,\"ContractData\",B91, \"LastTrade\",, \"T\"),3)=\"768\",\"\",RTD(\"cqg.rtd\",,\"StudyData\",B91,  \"Bar\",,  \"ContractOI\", \"D\", \"-1\",,,,,\"T\"))","v":498},{"$f":"IF(LEFT(RTD(\"cqg.rtd\", ,\"ContractData\",B91, \"LastTrade\",, \"T\"),3)=\"768\",\"\",RTD(\"cqg.rtd\",,\"StudyData\",B91,  \"Bar\",,  \"ContractOI\", \"D\", \"-2\",,,,,\"T\"))","v":183},{"$f":"IF(LEFT(RTD(\"cqg.rtd\", ,\"ContractData\",B91, \"LastTrade\",, \"T\"),3)=\"768\",\"\",IFERROR(IF(L91>M91,\"+\"&L91-M91,L91-M91)*1,\"\"))","v":315}]
[{"$f":"'Call Data'!A92","v":9150},{"$f":"\"P\"&RIGHT('Call Data'!B92,LEN('Call Data'!B92)-1)","v":"P.US.CLEJ269150"},{"$f":"IF(LEFT(RTD(\"cqg.rtd\", ,\"ContractData\",B92, \"LastTrade\",, \"T\"),3)=\"768\",\"\",RTD(\"cqg.rtd\", ,\"ContractData\",B92, \"LastTrade\",, \"T\"))","v":6.65},{"$f":"IF(C92=\"\",\"\",RTD(\"cqg.rtd\", ,\"ContractData\",B92, \"NetLastTrade\",, \"T\"))","v":-3.26},{"$f":"IF(LEFT(RTD(\"cqg.rtd\", ,\"ContractData\",B92, \"LastTrade\",, \"T\"),3)=\"768\",\"\",RTD(\"cqg.rtd\", ,\"ContractData\",B92, \"MT_LastBidVolume\",, \"T\"))","v":1},{"$f":"IF(LEFT(RTD(\"cqg.rtd\", ,\"ContractData\",B92, \"LastTrade\",, \"T\"),3)=\"768\",\"\",RTD(\"cqg.rtd\", ,\"ContractData\",B92, \"Bid\",, \"T\"))","v":6.98},{"$f":"IF(LEFT(RTD(\"cqg.rtd\", ,\"ContractData\",B92, \"LastTrade\",, \"T\"),3)=\"768\",\"\",RTD(\"cqg.rtd\", ,\"ContractData\",B92, \"Ask\",, \"T\"))","v":7.1000000000000005},{"$f":"IF(LEFT(RTD(\"cqg.rtd\", ,\"ContractData\",B92, \"LastTrade\",, \"T\"),3)=\"768\",\"\",RTD(\"cqg.rtd\", ,\"ContractData\",B92, \"MT_LastAskVolume\",, \"T\"))","v":38},{"$f":"IF(LEFT(RTD(\"cqg.rtd\", ,\"ContractData\",B92, \"LastTrade\",, \"T\"),3)=\"768\",\"\",RTD(\"cqg.rtd\", ,\"ContractData\",B92, \"T_CVol\",, \"T\"))","v":3},{"$f":"IF(LEFT(RTD(\"cqg.rtd\", ,\"ContractData\",B92, \"LastTrade\",, \"T\"),3)=\"768\",\"\",RTD(\"cqg.rtd\", ,\"ContractData\",B92, \"Y_CVol\",, \"T\"))","v":1},{"$f":"IF(LEFT(RTD(\"cqg.rtd\", ,\"ContractData\",B92, \"LastTrade\",, \"T\"),3)=\"768\",\"\",IFERROR(IF(I92>J92,\"+\"&I92-J92,I92-J92)*1,\"\"))","v":2},{"$f":"IF(LEFT(RTD(\"cqg.rtd\", ,\"ContractData\",B92, \"LastTrade\",, \"T\"),3)=\"768\",\"\",RTD(\"cqg.rtd\",,\"StudyData\",B92,  \"Bar\",,  \"ContractOI\", \"D\", \"-1\",,,,,\"T\"))","v":185},{"$f":"IF(LEFT(RTD(\"cqg.rtd\", ,\"ContractData\",B92, \"LastTrade\",, \"T\"),3)=\"768\",\"\",RTD(\"cqg.rtd\",,\"StudyData\",B92,  \"Bar\",,  \"ContractOI\", \"D\", \"-2\",,,,,\"T\"))","v":185},{"$f":"IF(LEFT(RTD(\"cqg.rtd\", ,\"ContractData\",B92, \"LastTrade\",, \"T\"),3)=\"768\",\"\",IFERROR(IF(L92>M92,\"+\"&L92-M92,L92-M92)*1,\"\"))","v":0}]
[{"$f":"'Call Data'!A93","v":9200},{"$f":"\"P\"&RIGHT('Call Data'!B93,LEN('Call Data'!B93)-1)","v":"P.US.CLEJ269200"},{"$f":"IF(LEFT(RTD(\"cqg.rtd\", ,\"ContractData\",B93, \"LastTrade\",, \"T\"),3)=\"768\",\"\",RTD(\"cqg.rtd\", ,\"ContractData\",B93, \"LastTrade\",, \"T\"))","v":7.24},{"$f":"IF(C93=\"\",\"\",RTD(\"cqg.rtd\", ,\"ContractData\",B93, \"NetLastTrade\",, \"T\"))","v":-3.0199999999999996},{"$f":"IF(LEFT(RTD(\"cqg.rtd\", ,\"ContractData\",B93, \"LastTrade\",, \"T\"),3)=\"768\",\"\",RTD(\"cqg.rtd\", ,\"ContractData\",B93, \"MT_LastBidVolume\",, \"T\"))","v":19},{"$f":"IF(LEFT(RTD(\"cqg.rtd\", ,\"ContractData\",B93, \"LastTrade\",, \"T\"),3)=\"768\",\"\",RTD(\"cqg.rtd\", ,\"ContractData\",B93, \"Bid\",, \"T\"))","v":7.29},{"$f":"IF(LEFT(RTD(\"cqg.rtd\", ,\"ContractData\",B93, \"LastTrade\",, \"T\"),3)=\"768\",\"\",RTD(\"cqg.rtd\", ,\"ContractData\",B93, \"Ask\",, \"T\"))","v":7.4},{"$f":"IF(LEFT(RTD(\"cqg.rtd\", ,\"ContractData\",B93, \"LastTrade\",, \"T\"),3)=\"768\",\"\",RTD(\"cqg.rtd\", ,\"ContractData\",B93, \"MT_LastAskVolume\",, \"T\"))","v":37},{"$f":"IF(LEFT(RTD(\"cqg.rtd\", ,\"ContractData\",B93, \"LastTrade\",, \"T\"),3)=\"768\",\"\",RTD(\"cqg.rtd\", ,\"ContractData\",B93, \"T_CVol\",, \"T\"))","v":109},{"$f":"IF(LEFT(RTD(\"cqg.rtd\", ,\"ContractData\",B93, \"LastTrade\",, \"T\"),3)=\"768\",\"\",RTD(\"cqg.rtd\", ,\"ContractData\",B93, \"Y_CVol\",, \"T\"))","v":136},{"$f":"IF(LEFT(RTD(\"cqg.rtd\", ,\"ContractData\",B93, \"LastTrade\",, \"T\"),3)=\"768\",\"\",IFERROR(IF(I93>J93,\"+\"&I93-J93,I93-J93)*1,\"\"))","v":-27},{"$f":"IF(LEFT(RTD(\"cqg.rtd\", ,\"ContractData\",B93, \"LastTrade\",, \"T\"),3)=\"768\",\"\",RTD(\"cqg.rtd\",,\"StudyData\",B93,  \"Bar\",,  \"ContractOI\", \"D\", \"-1\",,,,,\"T\"))","v":320},{"$f":"IF(LEFT(RTD(\"cqg.rtd\", ,\"ContractData\",B93, \"LastTrade\",, \"T\"),3)=\"768\",\"\",RTD(\"cqg.rtd\",,\"StudyData\",B93,  \"Bar\",,  \"ContractOI\", \"D\", \"-2\",,,,,\"T\"))","v":256},{"$f":"IF(LEFT(RTD(\"cqg.rtd\", ,\"ContractData\",B93, \"LastTrade\",, \"T\"),3)=\"768\",\"\",IFERROR(IF(L93>M93,\"+\"&L93-M93,L93-M93)*1,\"\"))","v":64}]
[{"$f":"'Call Data'!A94","v":9250},{"$f":"\"P\"&RIGHT('Call Data'!B94,LEN('Call Data'!B94)-1)","v":"P.US.CLEJ269250"},{"$f":"IF(LEFT(RTD(\"cqg.rtd\", ,\"ContractData\",B94, \"LastTrade\",, \"T\"),3)=\"768\",\"\",RTD(\"cqg.rtd\", ,\"ContractData\",B94, \"LastTrade\",, \"T\"))","v":7.87},{"$f":"IF(C94=\"\",\"\",RTD(\"cqg.rtd\", ,\"ContractData\",B94, \"NetLastTrade\",, \"T\"))","v":-2.7399999999999993},{"$f":"IF(LEFT(RTD(\"cqg.rtd\", ,\"ContractData\",B94, \"LastTrade\",, \"T\"),3)=\"768\",\"\",RTD(\"cqg.rtd\", ,\"ContractData\",B94, \"MT_LastBidVolume\",, \"T\"))","v":9},{"$f":"IF(LEFT(RTD(\"cqg.rtd\", ,\"ContractData\",B94, \"LastTrade\",, \"T\"),3)=\"768\",\"\",RTD(\"cqg.rtd\", ,\"ContractData\",B94, \"Bid\",, \"T\"))","v":7.59},{"$f":"IF(LEFT(RTD(\"cqg.rtd\", ,\"ContractData\",B94, \"LastTrade\",, \"T\"),3)=\"768\",\"\",RTD(\"cqg.rtd\", ,\"ContractData\",B94, \"Ask\",, \"T\"))","v":7.71},{"$f":"IF(LEFT(RTD(\"cqg.rtd\", ,\"ContractData\",B94, \"LastTrade\",, \"T\"),3)=\"768\",\"\",RTD(\"cqg.rtd\", ,\"ContractData\",B94, \"MT_LastAskVolume\",, \"T\"))","v":39},{"$f":"IF(LEFT(RTD(\"cqg.rtd\", ,\"ContractData\",B94, \"LastTrade\",, \"T\"),3)=\"768\",\"\",RTD(\"cqg.rtd\", ,\"ContractData\",B94, \"T_CVol\",, \"T\"))","v":15},{"$f":"IF(LEFT(RTD(\"cqg.rtd\", ,\"ContractData\",B94, \"LastTrade\",, \"T\"),3)=\"768\",\"\",RTD(\"cqg.rtd\", ,\"ContractData\",B94, \"Y_CVol\",, \"T\"))","v":22},{"$f":"IF(LEFT(RTD(\"cqg.rtd\", ,\"ContractData\",B94, \"LastTrade\",, \"T\"),3)=\"768\",\"\",IFERROR(IF(I94>J94,\"+\"&I94-J94,I94-J94)*1,\"\"))","v":-7},{"$f":"IF(LEFT(RTD(\"cqg.rtd\", ,\"ContractData\",B94, \"LastTrade\",, \"T\"),3)=\"768\",\"\",RTD(\"cqg.rtd\",,\"StudyData\",B94,  \"Bar\",,  \"ContractOI\", \"D\", \"-1\",,,,,\"T\"))","v":287},{"$f":"IF(LEFT(RTD(\"cqg.rtd\", ,\"ContractData\",B94, \"LastTrade\",, \"T\"),3)=\"768\",\"\",RTD(\"cqg.rtd\",,\"StudyData\",B94,  \"Bar\",,  \"ContractOI\", \"D\", \"-2\",,,,,\"T\"))","v":282},{"$f":"IF(LEFT(RTD(\"cqg.rtd\", ,\"ContractData\",B94, \"LastTrade\",, \"T\"),3)=\"768\",\"\",IFERROR(IF(L94>M94,\"+\"&L94-M94,L94-M94)*1,\"\"))","v":5}]
[{"$f":"'Call Data'!A95","v":9300},{"$f":"\"P\"&RIGHT('Call Data'!B95,LEN('Call Data'!B95)-1)","v":"P.US.CLEJ269300"},{"$f":"IF(LEFT(RTD(\"cqg.rtd\", ,\"ContractData\",B95, \"LastTrade\",, \"T\"),3)=\"768\",\"\",RTD(\"cqg.rtd\", ,\"ContractData\",B95, \"LastTrade\",, \"T\"))","v":8.43},{"$f":"IF(C95=\"\",\"\",RTD(\"cqg.rtd\", ,\"ContractData\",B95, \"NetLastTrade\",, \"T\"))","v":-2.5400000000000009},{"$f":"IF(LEFT(RTD(\"cqg.rtd\", ,\"ContractData\",B95, \"LastTrade\",, \"T\"),3)=\"768\",\"\",RTD(\"cqg.rtd\", ,\"ContractData\",B95, \"MT_LastBidVolume\",, \"T\"))","v":21},{"$f":"IF(LEFT(RTD(\"cqg.rtd\", ,\"ContractData\",B95, \"LastTrade\",, \"T\"),3)=\"768\",\"\",RTD(\"cqg.rtd\", ,\"ContractData\",B95, \"Bid\",, \"T\"))","v":7.9},{"$f":"IF(LEFT(RTD(\"cqg.rtd\", ,\"ContractData\",B95, \"LastTrade\",, \"T\"),3)=\"768\",\"\",RTD(\"cqg.rtd\", ,\"ContractData\",B95, \"Ask\",, \"T\"))","v":8.02},{"$f":"IF(LEFT(RTD(\"cqg.rtd\", ,\"ContractData\",B95, \"LastTrade\",, \"T\"),3)=\"768\",\"\",RTD(\"cqg.rtd\", ,\"ContractData\",B95, \"MT_LastAskVolume\",, \"T\"))","v":37},{"$f":"IF(LEFT(RTD(\"cqg.rtd\", ,\"ContractData\",B95, \"LastTrade\",, \"T\"),3)=\"768\",\"\",RTD(\"cqg.rtd\", ,\"ContractData\",B95, \"T_CVol\",, \"T\"))","v":24},{"$f":"IF(LEFT(RTD(\"cqg.rtd\", ,\"ContractData\",B95, \"LastTrade\",, \"T\"),3)=\"768\",\"\",RTD(\"cqg.rtd\", ,\"ContractData\",B95, \"Y_CVol\",, \"T\"))","v":193},{"$f":"IF(LEFT(RTD(\"cqg.rtd\", ,\"ContractData\",B95, \"LastTrade\",, \"T\"),3)=\"768\",\"\",IFERROR(IF(I95>J95,\"+\"&I95-J95,I95-J95)*1,\"\"))","v":-169},{"$f":"IF(LEFT(RTD(\"cqg.rtd\", ,\"ContractData\",B95, \"LastTrade\",, \"T\"),3)=\"768\",\"\",RTD(\"cqg.rtd\",,\"StudyData\",B95,  \"Bar\",,  \"ContractOI\", \"D\", \"-1\",,,,,\"T\"))","v":502},{"$f":"IF(LEFT(RTD(\"cqg.rtd\", ,\"ContractData\",B95, \"LastTrade\",, \"T\"),3)=\"768\",\"\",RTD(\"cqg.rtd\",,\"StudyData\",B95,  \"Bar\",,  \"ContractOI\", \"D\", \"-2\",,,,,\"T\"))","v":346},{"$f":"IF(LEFT(RTD(\"cqg.rtd\", ,\"ContractData\",B95, \"LastTrade\",, \"T\"),3)=\"768\",\"\",IFERROR(IF(L95>M95,\"+\"&L95-M95,L95-M95)*1,\"\"))","v":156}]
[{"$f":"'Call Data'!A96","v":9350},{"$f":"\"P\"&RIGHT('Call Data'!B96,LEN('Call Data'!B96)-1)","v":"P.US.CLEJ269350"},{"$f":"IF(LEFT(RTD(\"cqg.rtd\", ,\"ContractData\",B96, \"LastTrade\",, \"T\"),3)=\"768\",\"\",RTD(\"cqg.rtd\", ,\"ContractData\",B96, \"LastTrade\",, \"T\"))","v":8.4700000000000006},{"$f":"IF(C96=\"\",\"\",RTD(\"cqg.rtd\", ,\"ContractData\",B96, \"NetLastTrade\",, \"T\"))","v":-2.8599999999999994},{"$f":"IF(LEFT(RTD(\"cqg.rtd\", ,\"ContractData\",B96, \"LastTrade\",, \"T\"),3)=\"768\",\"\",RTD(\"cqg.rtd\", ,\"ContractData\",B96, \"MT_LastBidVolume\",, \"T\"))","v":47},{"$f":"IF(LEFT(RTD(\"cqg.rtd\", ,\"ContractData\",B96, \"LastTrade\",, \"T\"),3)=\"768\",\"\",RTD(\"cqg.rtd\", ,\"ContractData\",B96, \"Bid\",, \"T\"))","v":8.1999999999999993},{"$f":"IF(LEFT(RTD(\"cqg.rtd\", ,\"ContractData\",B96, \"LastTrade\",, \"T\"),3)=\"768\",\"\",RTD(\"cqg.rtd\", ,\"ContractData\",B96, \"Ask\",, \"T\"))","v":8.34},{"$f":"IF(LEFT(RTD(\"cqg.rtd\", ,\"ContractData\",B96, \"LastTrade\",, \"T\"),3)=\"768\",\"\",RTD(\"cqg.rtd\", ,\"ContractData\",B96, \"MT_LastAskVolume\",, \"T\"))","v":37},{"$f":"IF(LEFT(RTD(\"cqg.rtd\", ,\"ContractData\",B96, \"LastTrade\",, \"T\"),3)=\"768\",\"\",RTD(\"cqg.rtd\", ,\"ContractData\",B96, \"T_CVol\",, \"T\"))","v":66},{"$f":"IF(LEFT(RTD(\"cqg.rtd\", ,\"ContractData\",B96, \"LastTrade\",, \"T\"),3)=\"768\",\"\",RTD(\"cqg.rtd\", ,\"ContractData\",B96, \"Y_CVol\",, \"T\"))","v":0},{"$f":"IF(LEFT(RTD(\"cqg.rtd\", ,\"ContractData\",B96, \"LastTrade\",, \"T\"),3)=\"768\",\"\",IFERROR(IF(I96>J96,\"+\"&I96-J96,I96-J96)*1,\"\"))","v":66},{"$f":"IF(LEFT(RTD(\"cqg.rtd\", ,\"ContractData\",B96, \"LastTrade\",, \"T\"),3)=\"768\",\"\",RTD(\"cqg.rtd\",,\"StudyData\",B96,  \"Bar\",,  \"ContractOI\", \"D\", \"-1\",,,,,\"T\"))","v":48},{"$f":"IF(LEFT(RTD(\"cqg.rtd\", ,\"ContractData\",B96, \"LastTrade\",, \"T\"),3)=\"768\",\"\",RTD(\"cqg.rtd\",,\"StudyData\",B96,  \"Bar\",,  \"ContractOI\", \"D\", \"-2\",,,,,\"T\"))","v":48},{"$f":"IF(LEFT(RTD(\"cqg.rtd\", ,\"ContractData\",B96, \"LastTrade\",, \"T\"),3)=\"768\",\"\",IFERROR(IF(L96>M96,\"+\"&L96-M96,L96-M96)*1,\"\"))","v":0}]
[{"$f":"'Call Data'!A97","v":9400},{"$f":"\"P\"&RIGHT('Call Data'!B97,LEN('Call Data'!B97)-1)","v":"P.US.CLEJ269400"},{"$f":"IF(LEFT(RTD(\"cqg.rtd\", ,\"ContractData\",B97, \"LastTrade\",, \"T\"),3)=\"768\",\"\",RTD(\"cqg.rtd\", ,\"ContractData\",B97, \"LastTrade\",, \"T\"))","v":8.4499999999999993},{"$f":"IF(C97=\"\",\"\",RTD(\"cqg.rtd\", ,\"ContractData\",B97, \"NetLastTrade\",, \"T\"))","v":-3.24},{"$f":"IF(LEFT(RTD(\"cqg.rtd\", ,\"ContractData\",B97, \"LastTrade\",, \"T\"),3)=\"768\",\"\",RTD(\"cqg.rtd\", ,\"ContractData\",B97, \"MT_LastBidVolume\",, \"T\"))","v":18},{"$f":"IF(LEFT(RTD(\"cqg.rtd\", ,\"ContractData\",B97, \"LastTrade\",, \"T\"),3)=\"768\",\"\",RTD(\"cqg.rtd\", ,\"ContractData\",B97, \"Bid\",, \"T\"))","v":8.5400000000000009},{"$f":"IF(LEFT(RTD(\"cqg.rtd\", ,\"ContractData\",B97, \"LastTrade\",, \"T\"),3)=\"768\",\"\",RTD(\"cqg.rtd\", ,\"ContractData\",B97, \"Ask\",, \"T\"))","v":8.66},{"$f":"IF(LEFT(RTD(\"cqg.rtd\", ,\"ContractData\",B97, \"LastTrade\",, \"T\"),3)=\"768\",\"\",RTD(\"cqg.rtd\", ,\"ContractData\",B97, \"MT_LastAskVolume\",, \"T\"))","v":38},{"$f":"IF(LEFT(RTD(\"cqg.rtd\", ,\"ContractData\",B97, \"LastTrade\",, \"T\"),3)=\"768\",\"\",RTD(\"cqg.rtd\", ,\"ContractData\",B97, \"T_CVol\",, \"T\"))","v":5},{"$f":"IF(LEFT(RTD(\"cqg.rtd\", ,\"ContractData\",B97, \"LastTrade\",, \"T\"),3)=\"768\",\"\",RTD(\"cqg.rtd\", ,\"ContractData\",B97, \"Y_CVol\",, \"T\"))","v":2},{"$f":"IF(LEFT(RTD(\"cqg.rtd\", ,\"ContractData\",B97, \"LastTrade\",, \"T\"),3)=\"768\",\"\",IFERROR(IF(I97>J97,\"+\"&I97-J97,I97-J97)*1,\"\"))","v":3},{"$f":"IF(LEFT(RTD(\"cqg.rtd\", ,\"ContractData\",B97, \"LastTrade\",, \"T\"),3)=\"768\",\"\",RTD(\"cqg.rtd\",,\"StudyData\",B97,  \"Bar\",,  \"ContractOI\", \"D\", \"-1\",,,,,\"T\"))","v":385},{"$f":"IF(LEFT(RTD(\"cqg.rtd\", ,\"ContractData\",B97, \"LastTrade\",, \"T\"),3)=\"768\",\"\",RTD(\"cqg.rtd\",,\"StudyData\",B97,  \"Bar\",,  \"ContractOI\", \"D\", \"-2\",,,,,\"T\"))","v":383},{"$f":"IF(LEFT(RTD(\"cqg.rtd\", ,\"ContractData\",B97, \"LastTrade\",, \"T\"),3)=\"768\",\"\",IFERROR(IF(L97>M97,\"+\"&L97-M97,L97-M97)*1,\"\"))","v":2}]
[{"$f":"'Call Data'!A98","v":9450},{"$f":"\"P\"&RIGHT('Call Data'!B98,LEN('Call Data'!B98)-1)","v":"P.US.CLEJ269450"},{"$f":"IF(LEFT(RTD(\"cqg.rtd\", ,\"ContractData\",B98, \"LastTrade\",, \"T\"),3)=\"768\",\"\",RTD(\"cqg.rtd\", ,\"ContractData\",B98, \"LastTrade\",, \"T\"))","v":9.15},{"$f":"IF(C98=\"\",\"\",RTD(\"cqg.rtd\", ,\"ContractData\",B98, \"NetLastTrade\",, \"T\"))","v":-2.91},{"$f":"IF(LEFT(RTD(\"cqg.rtd\", ,\"ContractData\",B98, \"LastTrade\",, \"T\"),3)=\"768\",\"\",RTD(\"cqg.rtd\", ,\"ContractData\",B98, \"MT_LastBidVolume\",, \"T\"))","v":34},{"$f":"IF(LEFT(RTD(\"cqg.rtd\", ,\"ContractData\",B98, \"LastTrade\",, \"T\"),3)=\"768\",\"\",RTD(\"cqg.rtd\", ,\"ContractData\",B98, \"Bid\",, \"T\"))","v":8.85},{"$f":"IF(LEFT(RTD(\"cqg.rtd\", ,\"ContractData\",B98, \"LastTrade\",, \"T\"),3)=\"768\",\"\",RTD(\"cqg.rtd\", ,\"ContractData\",B98, \"Ask\",, \"T\"))","v":8.99},{"$f":"IF(LEFT(RTD(\"cqg.rtd\", ,\"ContractData\",B98, \"LastTrade\",, \"T\"),3)=\"768\",\"\",RTD(\"cqg.rtd\", ,\"ContractData\",B98, \"MT_LastAskVolume\",, \"T\"))","v":37},{"$f":"IF(LEFT(RTD(\"cqg.rtd\", ,\"ContractData\",B98, \"LastTrade\",, \"T\"),3)=\"768\",\"\",RTD(\"cqg.rtd\", ,\"ContractData\",B98, \"T_CVol\",, \"T\"))","v":26},{"$f":"IF(LEFT(RTD(\"cqg.rtd\", ,\"ContractData\",B98, \"LastTrade\",, \"T\"),3)=\"768\",\"\",RTD(\"cqg.rtd\", ,\"ContractData\",B98, \"Y_CVol\",, \"T\"))","v":28},{"$f":"IF(LEFT(RTD(\"cqg.rtd\", ,\"ContractData\",B98, \"LastTrade\",, \"T\"),3)=\"768\",\"\",IFERROR(IF(I98>J98,\"+\"&I98-J98,I98-J98)*1,\"\"))","v":-2},{"$f":"IF(LEFT(RTD(\"cqg.rtd\", ,\"ContractData\",B98, \"LastTrade\",, \"T\"),3)=\"768\",\"\",RTD(\"cqg.rtd\",,\"StudyData\",B98,  \"Bar\",,  \"ContractOI\", \"D\", \"-1\",,,,,\"T\"))","v":171},{"$f":"IF(LEFT(RTD(\"cqg.rtd\", ,\"ContractData\",B98, \"LastTrade\",, \"T\"),3)=\"768\",\"\",RTD(\"cqg.rtd\",,\"StudyData\",B98,  \"Bar\",,  \"ContractOI\", \"D\", \"-2\",,,,,\"T\"))","v":162},{"$f":"IF(LEFT(RTD(\"cqg.rtd\", ,\"ContractData\",B98, \"LastTrade\",, \"T\"),3)=\"768\",\"\",IFERROR(IF(L98>M98,\"+\"&L98-M98,L98-M98)*1,\"\"))","v":9}]
[{"$f":"'Call Data'!A99","v":9500},{"$f":"\"P\"&RIGHT('Call Data'!B99,LEN('Call Data'!B99)-1)","v":"P.US.CLEJ269500"},{"$f":"IF(LEFT(RTD(\"cqg.rtd\", ,\"ContractData\",B99, \"LastTrade\",, \"T\"),3)=\"768\",\"\",RTD(\"cqg.rtd\", ,\"ContractData\",B99, \"LastTrade\",, \"T\"))","v":8.3800000000000008},{"$f":"IF(C99=\"\",\"\",RTD(\"cqg.rtd\", ,\"ContractData\",B99, \"NetLastTrade\",, \"T\"))","v":-4.0499999999999989},{"$f":"IF(LEFT(RTD(\"cqg.rtd\", ,\"ContractData\",B99, \"LastTrade\",, \"T\"),3)=\"768\",\"\",RTD(\"cqg.rtd\", ,\"ContractData\",B99, \"MT_LastBidVolume\",, \"T\"))","v":42},{"$f":"IF(LEFT(RTD(\"cqg.rtd\", ,\"ContractData\",B99, \"LastTrade\",, \"T\"),3)=\"768\",\"\",RTD(\"cqg.rtd\", ,\"ContractData\",B99, \"Bid\",, \"T\"))","v":9.19},{"$f":"IF(LEFT(RTD(\"cqg.rtd\", ,\"ContractData\",B99, \"LastTrade\",, \"T\"),3)=\"768\",\"\",RTD(\"cqg.rtd\", ,\"ContractData\",B99, \"Ask\",, \"T\"))","v":9.32},{"$f":"IF(LEFT(RTD(\"cqg.rtd\", ,\"ContractData\",B99, \"LastTrade\",, \"T\"),3)=\"768\",\"\",RTD(\"cqg.rtd\", ,\"ContractData\",B99, \"MT_LastAskVolume\",, \"T\"))","v":1},{"$f":"IF(LEFT(RTD(\"cqg.rtd\", ,\"ContractData\",B99, \"LastTrade\",, \"T\"),3)=\"768\",\"\",RTD(\"cqg.rtd\", ,\"ContractData\",B99, \"T_CVol\",, \"T\"))","v":42},{"$f":"IF(LEFT(RTD(\"cqg.rtd\", ,\"ContractData\",B99, \"LastTrade\",, \"T\"),3)=\"768\",\"\",RTD(\"cqg.rtd\", ,\"ContractData\",B99, \"Y_CVol\",, \"T\"))","v":128},{"$f":"IF(LEFT(RTD(\"cqg.rtd\", ,\"ContractData\",B99, \"LastTrade\",, \"T\"),3)=\"768\",\"\",IFERROR(IF(I99>J99,\"+\"&I99-J99,I99-J99)*1,\"\"))","v":-86},{"$f":"IF(LEFT(RTD(\"cqg.rtd\", ,\"ContractData\",B99, \"LastTrade\",, \"T\"),3)=\"768\",\"\",RTD(\"cqg.rtd\",,\"StudyData\",B99,  \"Bar\",,  \"ContractOI\", \"D\", \"-1\",,,,,\"T\"))","v":807},{"$f":"IF(LEFT(RTD(\"cqg.rtd\", ,\"ContractData\",B99, \"LastTrade\",, \"T\"),3)=\"768\",\"\",RTD(\"cqg.rtd\",,\"StudyData\",B99,  \"Bar\",,  \"ContractOI\", \"D\", \"-2\",,,,,\"T\"))","v":726},{"$f":"IF(LEFT(RTD(\"cqg.rtd\", ,\"ContractData\",B99, \"LastTrade\",, \"T\"),3)=\"768\",\"\",IFERROR(IF(L99>M99,\"+\"&L99-M99,L99-M99)*1,\"\"))","v":81}]
[{"$f":"'Call Data'!A100","v":9550},{"$f":"\"P\"&RIGHT('Call Data'!B100,LEN('Call Data'!B100)-1)","v":"P.US.CLEJ269550"},{"$f":"IF(LEFT(RTD(\"cqg.rtd\", ,\"ContractData\",B100, \"LastTrade\",, \"T\"),3)=\"768\",\"\",RTD(\"cqg.rtd\", ,\"ContractData\",B100, \"LastTrade\",, \"T\"))","v":12.86},{"$f":"IF(C100=\"\",\"\",RTD(\"cqg.rtd\", ,\"ContractData\",B100, \"NetLastTrade\",, \"T\"))","v":5.9999999999998721E-2},{"$f":"IF(LEFT(RTD(\"cqg.rtd\", ,\"ContractData\",B100, \"LastTrade\",, \"T\"),3)=\"768\",\"\",RTD(\"cqg.rtd\", ,\"ContractData\",B100, \"MT_LastBidVolume\",, \"T\"))","v":48},{"$f":"IF(LEFT(RTD(\"cqg.rtd\", ,\"ContractData\",B100, \"LastTrade\",, \"T\"),3)=\"768\",\"\",RTD(\"cqg.rtd\", ,\"ContractData\",B100, \"Bid\",, \"T\"))","v":9.52},{"$f":"IF(LEFT(RTD(\"cqg.rtd\", ,\"ContractData\",B100, \"LastTrade\",, \"T\"),3)=\"768\",\"\",RTD(\"cqg.rtd\", ,\"ContractData\",B100, \"Ask\",, \"T\"))","v":9.66},{"$f":"IF(LEFT(RTD(\"cqg.rtd\", ,\"ContractData\",B100, \"LastTrade\",, \"T\"),3)=\"768\",\"\",RTD(\"cqg.rtd\", ,\"ContractData\",B100, \"MT_LastAskVolume\",, \"T\"))","v":37},{"$f":"IF(LEFT(RTD(\"cqg.rtd\", ,\"ContractData\",B100, \"LastTrade\",, \"T\"),3)=\"768\",\"\",RTD(\"cqg.rtd\", ,\"ContractData\",B100, \"T_CVol\",, \"T\"))","v":0},{"$f":"IF(LEFT(RTD(\"cqg.rtd\", ,\"ContractData\",B100, \"LastTrade\",, \"T\"),3)=\"768\",\"\",RTD(\"cqg.rtd\", ,\"ContractData\",B100, \"Y_CVol\",, \"T\"))","v":5},{"$f":"IF(LEFT(RTD(\"cqg.rtd\", ,\"ContractData\",B100, \"LastTrade\",, \"T\"),3)=\"768\",\"\",IFERROR(IF(I100>J100,\"+\"&I100-J100,I100-J100)*1,\"\"))","v":-5},{"$f":"IF(LEFT(RTD(\"cqg.rtd\", ,\"ContractData\",B100, \"LastTrade\",, \"T\"),3)=\"768\",\"\",RTD(\"cqg.rtd\",,\"StudyData\",B100,  \"Bar\",,  \"ContractOI\", \"D\", \"-1\",,,,,\"T\"))","v":54},{"$f":"IF(LEFT(RTD(\"cqg.rtd\", ,\"ContractData\",B100, \"LastTrade\",, \"T\"),3)=\"768\",\"\",RTD(\"cqg.rtd\",,\"StudyData\",B100,  \"Bar\",,  \"ContractOI\", \"D\", \"-2\",,,,,\"T\"))","v":53},{"$f":"IF(LEFT(RTD(\"cqg.rtd\", ,\"ContractData\",B100, \"LastTrade\",, \"T\"),3)=\"768\",\"\",IFERROR(IF(L100>M100,\"+\"&L100-M100,L100-M100)*1,\"\"))","v":1}]
[{"$f":"'Call Data'!A101","v":9600},{"$f":"\"P\"&RIGHT('Call Data'!B101,LEN('Call Data'!B101)-1)","v":"P.US.CLEJ269600"},{"$f":"IF(LEFT(RTD(\"cqg.rtd\", ,\"ContractData\",B101, \"LastTrade\",, \"T\"),3)=\"768\",\"\",RTD(\"cqg.rtd\", ,\"ContractData\",B101, \"LastTrade\",, \"T\"))","v":12.85},{"$f":"IF(C101=\"\",\"\",RTD(\"cqg.rtd\", ,\"ContractData\",B101, \"NetLastTrade\",, \"T\"))","v":-0.33000000000000007},{"$f":"IF(LEFT(RTD(\"cqg.rtd\", ,\"ContractData\",B101, \"LastTrade\",, \"T\"),3)=\"768\",\"\",RTD(\"cqg.rtd\", ,\"ContractData\",B101, \"MT_LastBidVolume\",, \"T\"))","v":21},{"$f":"IF(LEFT(RTD(\"cqg.rtd\", ,\"ContractData\",B101, \"LastTrade\",, \"T\"),3)=\"768\",\"\",RTD(\"cqg.rtd\", ,\"ContractData\",B101, \"Bid\",, \"T\"))","v":9.870000000000001},{"$f":"IF(LEFT(RTD(\"cqg.rtd\", ,\"ContractData\",B101, \"LastTrade\",, \"T\"),3)=\"768\",\"\",RTD(\"cqg.rtd\", ,\"ContractData\",B101, \"Ask\",, \"T\"))","v":10},{"$f":"IF(LEFT(RTD(\"cqg.rtd\", ,\"ContractData\",B101, \"LastTrade\",, \"T\"),3)=\"768\",\"\",RTD(\"cqg.rtd\", ,\"ContractData\",B101, \"MT_LastAskVolume\",, \"T\"))","v":38},{"$f":"IF(LEFT(RTD(\"cqg.rtd\", ,\"ContractData\",B101, \"LastTrade\",, \"T\"),3)=\"768\",\"\",RTD(\"cqg.rtd\", ,\"ContractData\",B101, \"T_CVol\",, \"T\"))","v":29},{"$f":"IF(LEFT(RTD(\"cqg.rtd\", ,\"ContractData\",B101, \"LastTrade\",, \"T\"),3)=\"768\",\"\",RTD(\"cqg.rtd\", ,\"ContractData\",B101, \"Y_CVol\",, \"T\"))","v":2},{"$f":"IF(LEFT(RTD(\"cqg.rtd\", ,\"ContractData\",B101, \"LastTrade\",, \"T\"),3)=\"768\",\"\",IFERROR(IF(I101>J101,\"+\"&I101-J101,I101-J101)*1,\"\"))","v":27},{"$f":"IF(LEFT(RTD(\"cqg.rtd\", ,\"ContractData\",B101, \"LastTrade\",, \"T\"),3)=\"768\",\"\",RTD(\"cqg.rtd\",,\"StudyData\",B101,  \"Bar\",,  \"ContractOI\", \"D\", \"-1\",,,,,\"T\"))","v":56},{"$f":"IF(LEFT(RTD(\"cqg.rtd\", ,\"ContractData\",B101, \"LastTrade\",, \"T\"),3)=\"768\",\"\",RTD(\"cqg.rtd\",,\"StudyData\",B101,  \"Bar\",,  \"ContractOI\", \"D\", \"-2\",,,,,\"T\"))","v":56},{"$f":"IF(LEFT(RTD(\"cqg.rtd\", ,\"ContractData\",B101, \"LastTrade\",, \"T\"),3)=\"768\",\"\",IFERROR(IF(L101>M101,\"+\"&L101-M101,L101-M101)*1,\"\"))","v":0}]
[{"$f":"'Call Data'!A102","v":9650},{"$f":"\"P\"&RIGHT('Call Data'!B102,LEN('Call Data'!B102)-1)","v":"P.US.CLEJ269650"},{"$f":"IF(LEFT(RTD(\"cqg.rtd\", ,\"ContractData\",B102, \"LastTrade\",, \"T\"),3)=\"768\",\"\",RTD(\"cqg.rtd\", ,\"ContractData\",B102, \"LastTrade\",, \"T\"))","v":13.88},{"$f":"IF(C102=\"\",\"\",RTD(\"cqg.rtd\", ,\"ContractData\",B102, \"NetLastTrade\",, \"T\"))","v":0.32000000000000028},{"$f":"IF(LEFT(RTD(\"cqg.rtd\", ,\"ContractData\",B102, \"LastTrade\",, \"T\"),3)=\"768\",\"\",RTD(\"cqg.rtd\", ,\"ContractData\",B102, \"MT_LastBidVolume\",, \"T\"))","v":41},{"$f":"IF(LEFT(RTD(\"cqg.rtd\", ,\"ContractData\",B102, \"LastTrade\",, \"T\"),3)=\"768\",\"\",RTD(\"cqg.rtd\", ,\"ContractData\",B102, \"Bid\",, \"T\"))","v":10.200000000000001},{"$f":"IF(LEFT(RTD(\"cqg.rtd\", ,\"ContractData\",B102, \"LastTrade\",, \"T\"),3)=\"768\",\"\",RTD(\"cqg.rtd\", ,\"ContractData\",B102, \"Ask\",, \"T\"))","v":10.34},{"$f":"IF(LEFT(RTD(\"cqg.rtd\", ,\"ContractData\",B102, \"LastTrade\",, \"T\"),3)=\"768\",\"\",RTD(\"cqg.rtd\", ,\"ContractData\",B102, \"MT_LastAskVolume\",, \"T\"))","v":13},{"$f":"IF(LEFT(RTD(\"cqg.rtd\", ,\"ContractData\",B102, \"LastTrade\",, \"T\"),3)=\"768\",\"\",RTD(\"cqg.rtd\", ,\"ContractData\",B102, \"T_CVol\",, \"T\"))","v":0},{"$f":"IF(LEFT(RTD(\"cqg.rtd\", ,\"ContractData\",B102, \"LastTrade\",, \"T\"),3)=\"768\",\"\",RTD(\"cqg.rtd\", ,\"ContractData\",B102, \"Y_CVol\",, \"T\"))","v":4},{"$f":"IF(LEFT(RTD(\"cqg.rtd\", ,\"ContractData\",B102, \"LastTrade\",, \"T\"),3)=\"768\",\"\",IFERROR(IF(I102>J102,\"+\"&I102-J102,I102-J102)*1,\"\"))","v":-4},{"$f":"IF(LEFT(RTD(\"cqg.rtd\", ,\"ContractData\",B102, \"LastTrade\",, \"T\"),3)=\"768\",\"\",RTD(\"cqg.rtd\",,\"StudyData\",B102,  \"Bar\",,  \"ContractOI\", \"D\", \"-1\",,,,,\"T\"))","v":29},{"$f":"IF(LEFT(RTD(\"cqg.rtd\", ,\"ContractData\",B102, \"LastTrade\",, \"T\"),3)=\"768\",\"\",RTD(\"cqg.rtd\",,\"StudyData\",B102,  \"Bar\",,  \"ContractOI\", \"D\", \"-2\",,,,,\"T\"))","v":25},{"$f":"IF(LEFT(RTD(\"cqg.rtd\", ,\"ContractData\",B102, \"LastTrade\",, \"T\"),3)=\"768\",\"\",IFERROR(IF(L102>M102,\"+\"&L102-M102,L102-M102)*1,\"\"))","v":4}]
[{"$f":"'Call Data'!A103","v":9700},{"$f":"\"P\"&RIGHT('Call Data'!B103,LEN('Call Data'!B103)-1)","v":"P.US.CLEJ269700"},{"$f":"IF(LEFT(RTD(\"cqg.rtd\", ,\"ContractData\",B103, \"LastTrade\",, \"T\"),3)=\"768\",\"\",RTD(\"cqg.rtd\", ,\"ContractData\",B103, \"LastTrade\",, \"T\"))","v":13.59},{"$f":"IF(C103=\"\",\"\",RTD(\"cqg.rtd\", ,\"ContractData\",B103, \"NetLastTrade\",, \"T\"))","v":-0.34999999999999964},{"$f":"IF(LEFT(RTD(\"cqg.rtd\", ,\"ContractData\",B103, \"LastTrade\",, \"T\"),3)=\"768\",\"\",RTD(\"cqg.rtd\", ,\"ContractData\",B103, \"MT_LastBidVolume\",, \"T\"))","v":38},{"$f":"IF(LEFT(RTD(\"cqg.rtd\", ,\"ContractData\",B103, \"LastTrade\",, \"T\"),3)=\"768\",\"\",RTD(\"cqg.rtd\", ,\"ContractData\",B103, \"Bid\",, \"T\"))","v":10.56},{"$f":"IF(LEFT(RTD(\"cqg.rtd\", ,\"ContractData\",B103, \"LastTrade\",, \"T\"),3)=\"768\",\"\",RTD(\"cqg.rtd\", ,\"ContractData\",B103, \"Ask\",, \"T\"))","v":10.700000000000001},{"$f":"IF(LEFT(RTD(\"cqg.rtd\", ,\"ContractData\",B103, \"LastTrade\",, \"T\"),3)=\"768\",\"\",RTD(\"cqg.rtd\", ,\"ContractData\",B103, \"MT_LastAskVolume\",, \"T\"))","v":34},{"$f":"IF(LEFT(RTD(\"cqg.rtd\", ,\"ContractData\",B103, \"LastTrade\",, \"T\"),3)=\"768\",\"\",RTD(\"cqg.rtd\", ,\"ContractData\",B103, \"T_CVol\",, \"T\"))","v":0},{"$f":"IF(LEFT(RTD(\"cqg.rtd\", ,\"ContractData\",B103, \"LastTrade\",, \"T\"),3)=\"768\",\"\",RTD(\"cqg.rtd\", ,\"ContractData\",B103, \"Y_CVol\",, \"T\"))","v":5},{"$f":"IF(LEFT(RTD(\"cqg.rtd\", ,\"ContractData\",B103, \"LastTrade\",, \"T\"),3)=\"768\",\"\",IFERROR(IF(I103>J103,\"+\"&I103-J103,I103-J103)*1,\"\"))","v":-5},{"$f":"IF(LEFT(RTD(\"cqg.rtd\", ,\"ContractData\",B103, \"LastTrade\",, \"T\"),3)=\"768\",\"\",RTD(\"cqg.rtd\",,\"StudyData\",B103,  \"Bar\",,  \"ContractOI\", \"D\", \"-1\",,,,,\"T\"))","v":124},{"$f":"IF(LEFT(RTD(\"cqg.rtd\", ,\"ContractData\",B103, \"LastTrade\",, \"T\"),3)=\"768\",\"\",RTD(\"cqg.rtd\",,\"StudyData\",B103,  \"Bar\",,  \"ContractOI\", \"D\", \"-2\",,,,,\"T\"))","v":125},{"$f":"IF(LEFT(RTD(\"cqg.rtd\", ,\"ContractData\",B103, \"LastTrade\",, \"T\"),3)=\"768\",\"\",IFERROR(IF(L103>M103,\"+\"&L103-M103,L103-M103)*1,\"\"))","v":-1}]
[{"$f":"'Call Data'!A104","v":9750},{"$f":"\"P\"&RIGHT('Call Data'!B104,LEN('Call Data'!B104)-1)","v":"P.US.CLEJ269750"},{"$f":"IF(LEFT(RTD(\"cqg.rtd\", ,\"ContractData\",B104, \"LastTrade\",, \"T\"),3)=\"768\",\"\",RTD(\"cqg.rtd\", ,\"ContractData\",B104, \"LastTrade\",, \"T\"))","v":15.25},{"$f":"IF(C104=\"\",\"\",RTD(\"cqg.rtd\", ,\"ContractData\",B104, \"NetLastTrade\",, \"T\"))","v":0.91999999999999993},{"$f":"IF(LEFT(RTD(\"cqg.rtd\", ,\"ContractData\",B104, \"LastTrade\",, \"T\"),3)=\"768\",\"\",RTD(\"cqg.rtd\", ,\"ContractData\",B104, \"MT_LastBidVolume\",, \"T\"))","v":42},{"$f":"IF(LEFT(RTD(\"cqg.rtd\", ,\"ContractData\",B104, \"LastTrade\",, \"T\"),3)=\"768\",\"\",RTD(\"cqg.rtd\", ,\"ContractData\",B104, \"Bid\",, \"T\"))","v":10.9},{"$f":"IF(LEFT(RTD(\"cqg.rtd\", ,\"ContractData\",B104, \"LastTrade\",, \"T\"),3)=\"768\",\"\",RTD(\"cqg.rtd\", ,\"ContractData\",B104, \"Ask\",, \"T\"))","v":11.05},{"$f":"IF(LEFT(RTD(\"cqg.rtd\", ,\"ContractData\",B104, \"LastTrade\",, \"T\"),3)=\"768\",\"\",RTD(\"cqg.rtd\", ,\"ContractData\",B104, \"MT_LastAskVolume\",, \"T\"))","v":33},{"$f":"IF(LEFT(RTD(\"cqg.rtd\", ,\"ContractData\",B104, \"LastTrade\",, \"T\"),3)=\"768\",\"\",RTD(\"cqg.rtd\", ,\"ContractData\",B104, \"T_CVol\",, \"T\"))","v":0},{"$f":"IF(LEFT(RTD(\"cqg.rtd\", ,\"ContractData\",B104, \"LastTrade\",, \"T\"),3)=\"768\",\"\",RTD(\"cqg.rtd\", ,\"ContractData\",B104, \"Y_CVol\",, \"T\"))","v":1},{"$f":"IF(LEFT(RTD(\"cqg.rtd\", ,\"ContractData\",B104, \"LastTrade\",, \"T\"),3)=\"768\",\"\",IFERROR(IF(I104>J104,\"+\"&I104-J104,I104-J104)*1,\"\"))","v":-1},{"$f":"IF(LEFT(RTD(\"cqg.rtd\", ,\"ContractData\",B104, \"LastTrade\",, \"T\"),3)=\"768\",\"\",RTD(\"cqg.rtd\",,\"StudyData\",B104,  \"Bar\",,  \"ContractOI\", \"D\", \"-1\",,,,,\"T\"))","v":157},{"$f":"IF(LEFT(RTD(\"cqg.rtd\", ,\"ContractData\",B104, \"LastTrade\",, \"T\"),3)=\"768\",\"\",RTD(\"cqg.rtd\",,\"StudyData\",B104,  \"Bar\",,  \"ContractOI\", \"D\", \"-2\",,,,,\"T\"))","v":157},{"$f":"IF(LEFT(RTD(\"cqg.rtd\", ,\"ContractData\",B104, \"LastTrade\",, \"T\"),3)=\"768\",\"\",IFERROR(IF(L104>M104,\"+\"&L104-M104,L104-M104)*1,\"\"))","v":0}]
[{"$f":"'Call Data'!A105","v":9800},{"$f":"\"P\"&RIGHT('Call Data'!B105,LEN('Call Data'!B105)-1)","v":"P.US.CLEJ269800"},{"$f":"IF(LEFT(RTD(\"cqg.rtd\", ,\"ContractData\",B105, \"LastTrade\",, \"T\"),3)=\"768\",\"\",RTD(\"cqg.rtd\", ,\"ContractData\",B105, \"LastTrade\",, \"T\"))","v":14.5},{"$f":"IF(C105=\"\",\"\",RTD(\"cqg.rtd\", ,\"ContractData\",B105, \"NetLastTrade\",, \"T\"))","v":-0.22000000000000064},{"$f":"IF(LEFT(RTD(\"cqg.rtd\", ,\"ContractData\",B105, \"LastTrade\",, \"T\"),3)=\"768\",\"\",RTD(\"cqg.rtd\", ,\"ContractData\",B105, \"MT_LastBidVolume\",, \"T\"))","v":34},{"$f":"IF(LEFT(RTD(\"cqg.rtd\", ,\"ContractData\",B105, \"LastTrade\",, \"T\"),3)=\"768\",\"\",RTD(\"cqg.rtd\", ,\"ContractData\",B105, \"Bid\",, \"T\"))","v":11.27},{"$f":"IF(LEFT(RTD(\"cqg.rtd\", ,\"ContractData\",B105, \"LastTrade\",, \"T\"),3)=\"768\",\"\",RTD(\"cqg.rtd\", ,\"ContractData\",B105, \"Ask\",, \"T\"))","v":11.41},{"$f":"IF(LEFT(RTD(\"cqg.rtd\", ,\"ContractData\",B105, \"LastTrade\",, \"T\"),3)=\"768\",\"\",RTD(\"cqg.rtd\", ,\"ContractData\",B105, \"MT_LastAskVolume\",, \"T\"))","v":32},{"$f":"IF(LEFT(RTD(\"cqg.rtd\", ,\"ContractData\",B105, \"LastTrade\",, \"T\"),3)=\"768\",\"\",RTD(\"cqg.rtd\", ,\"ContractData\",B105, \"T_CVol\",, \"T\"))","v":0},{"$f":"IF(LEFT(RTD(\"cqg.rtd\", ,\"ContractData\",B105, \"LastTrade\",, \"T\"),3)=\"768\",\"\",RTD(\"cqg.rtd\", ,\"ContractData\",B105, \"Y_CVol\",, \"T\"))","v":33},{"$f":"IF(LEFT(RTD(\"cqg.rtd\", ,\"ContractData\",B105, \"LastTrade\",, \"T\"),3)=\"768\",\"\",IFERROR(IF(I105>J105,\"+\"&I105-J105,I105-J105)*1,\"\"))","v":-33},{"$f":"IF(LEFT(RTD(\"cqg.rtd\", ,\"ContractData\",B105, \"LastTrade\",, \"T\"),3)=\"768\",\"\",RTD(\"cqg.rtd\",,\"StudyData\",B105,  \"Bar\",,  \"ContractOI\", \"D\", \"-1\",,,,,\"T\"))","v":468},{"$f":"IF(LEFT(RTD(\"cqg.rtd\", ,\"ContractData\",B105, \"LastTrade\",, \"T\"),3)=\"768\",\"\",RTD(\"cqg.rtd\",,\"StudyData\",B105,  \"Bar\",,  \"ContractOI\", \"D\", \"-2\",,,,,\"T\"))","v":458},{"$f":"IF(LEFT(RTD(\"cqg.rtd\", ,\"ContractData\",B105, \"LastTrade\",, \"T\"),3)=\"768\",\"\",IFERROR(IF(L105>M105,\"+\"&L105-M105,L105-M105)*1,\"\"))","v":10}]
[{"$f":"'Call Data'!A106","v":9850},{"$f":"\"P\"&RIGHT('Call Data'!B106,LEN('Call Data'!B106)-1)","v":"P.US.CLEJ269850"},{"$f":"IF(LEFT(RTD(\"cqg.rtd\", ,\"ContractData\",B106, \"LastTrade\",, \"T\"),3)=\"768\",\"\",RTD(\"cqg.rtd\", ,\"ContractData\",B106, \"LastTrade\",, \"T\"))","v":15.17},{"$f":"IF(C106=\"\",\"\",RTD(\"cqg.rtd\", ,\"ContractData\",B106, \"NetLastTrade\",, \"T\"))","v":4.9999999999998934E-2},{"$f":"IF(LEFT(RTD(\"cqg.rtd\", ,\"ContractData\",B106, \"LastTrade\",, \"T\"),3)=\"768\",\"\",RTD(\"cqg.rtd\", ,\"ContractData\",B106, \"MT_LastBidVolume\",, \"T\"))","v":31},{"$f":"IF(LEFT(RTD(\"cqg.rtd\", ,\"ContractData\",B106, \"LastTrade\",, \"T\"),3)=\"768\",\"\",RTD(\"cqg.rtd\", ,\"ContractData\",B106, \"Bid\",, \"T\"))","v":11.63},{"$f":"IF(LEFT(RTD(\"cqg.rtd\", ,\"ContractData\",B106, \"LastTrade\",, \"T\"),3)=\"768\",\"\",RTD(\"cqg.rtd\", ,\"ContractData\",B106, \"Ask\",, \"T\"))","v":11.76},{"$f":"IF(LEFT(RTD(\"cqg.rtd\", ,\"ContractData\",B106, \"LastTrade\",, \"T\"),3)=\"768\",\"\",RTD(\"cqg.rtd\", ,\"ContractData\",B106, \"MT_LastAskVolume\",, \"T\"))","v":26},{"$f":"IF(LEFT(RTD(\"cqg.rtd\", ,\"ContractData\",B106, \"LastTrade\",, \"T\"),3)=\"768\",\"\",RTD(\"cqg.rtd\", ,\"ContractData\",B106, \"T_CVol\",, \"T\"))","v":0},{"$f":"IF(LEFT(RTD(\"cqg.rtd\", ,\"ContractData\",B106, \"LastTrade\",, \"T\"),3)=\"768\",\"\",RTD(\"cqg.rtd\", ,\"ContractData\",B106, \"Y_CVol\",, \"T\"))","v":2},{"$f":"IF(LEFT(RTD(\"cqg.rtd\", ,\"ContractData\",B106, \"LastTrade\",, \"T\"),3)=\"768\",\"\",IFERROR(IF(I106>J106,\"+\"&I106-J106,I106-J106)*1,\"\"))","v":-2},{"$f":"IF(LEFT(RTD(\"cqg.rtd\", ,\"ContractData\",B106, \"LastTrade\",, \"T\"),3)=\"768\",\"\",RTD(\"cqg.rtd\",,\"StudyData\",B106,  \"Bar\",,  \"ContractOI\", \"D\", \"-1\",,,,,\"T\"))","v":28},{"$f":"IF(LEFT(RTD(\"cqg.rtd\", ,\"ContractData\",B106, \"LastTrade\",, \"T\"),3)=\"768\",\"\",RTD(\"cqg.rtd\",,\"StudyData\",B106,  \"Bar\",,  \"ContractOI\", \"D\", \"-2\",,,,,\"T\"))","v":27},{"$f":"IF(LEFT(RTD(\"cqg.rtd\", ,\"ContractData\",B106, \"LastTrade\",, \"T\"),3)=\"768\",\"\",IFERROR(IF(L106>M106,\"+\"&L106-M106,L106-M106)*1,\"\"))","v":1}]
[{"$f":"'Call Data'!A107","v":9900},{"$f":"\"P\"&RIGHT('Call Data'!B107,LEN('Call Data'!B107)-1)","v":"P.US.CLEJ269900"},{"$f":"IF(LEFT(RTD(\"cqg.rtd\", ,\"ContractData\",B107, \"LastTrade\",, \"T\"),3)=\"768\",\"\",RTD(\"cqg.rtd\", ,\"ContractData\",B107, \"LastTrade\",, \"T\"))","v":15.56},{"$f":"IF(C107=\"\",\"\",RTD(\"cqg.rtd\", ,\"ContractData\",B107, \"NetLastTrade\",, \"T\"))","v":5.0000000000000711E-2},{"$f":"IF(LEFT(RTD(\"cqg.rtd\", ,\"ContractData\",B107, \"LastTrade\",, \"T\"),3)=\"768\",\"\",RTD(\"cqg.rtd\", ,\"ContractData\",B107, \"MT_LastBidVolume\",, \"T\"))","v":26},{"$f":"IF(LEFT(RTD(\"cqg.rtd\", ,\"ContractData\",B107, \"LastTrade\",, \"T\"),3)=\"768\",\"\",RTD(\"cqg.rtd\", ,\"ContractData\",B107, \"Bid\",, \"T\"))","v":11.97},{"$f":"IF(LEFT(RTD(\"cqg.rtd\", ,\"ContractData\",B107, \"LastTrade\",, \"T\"),3)=\"768\",\"\",RTD(\"cqg.rtd\", ,\"ContractData\",B107, \"Ask\",, \"T\"))","v":12.13},{"$f":"IF(LEFT(RTD(\"cqg.rtd\", ,\"ContractData\",B107, \"LastTrade\",, \"T\"),3)=\"768\",\"\",RTD(\"cqg.rtd\", ,\"ContractData\",B107, \"MT_LastAskVolume\",, \"T\"))","v":25},{"$f":"IF(LEFT(RTD(\"cqg.rtd\", ,\"ContractData\",B107, \"LastTrade\",, \"T\"),3)=\"768\",\"\",RTD(\"cqg.rtd\", ,\"ContractData\",B107, \"T_CVol\",, \"T\"))","v":7},{"$f":"IF(LEFT(RTD(\"cqg.rtd\", ,\"ContractData\",B107, \"LastTrade\",, \"T\"),3)=\"768\",\"\",RTD(\"cqg.rtd\", ,\"ContractData\",B107, \"Y_CVol\",, \"T\"))","v":1},{"$f":"IF(LEFT(RTD(\"cqg.rtd\", ,\"ContractData\",B107, \"LastTrade\",, \"T\"),3)=\"768\",\"\",IFERROR(IF(I107>J107,\"+\"&I107-J107,I107-J107)*1,\"\"))","v":6},{"$f":"IF(LEFT(RTD(\"cqg.rtd\", ,\"ContractData\",B107, \"LastTrade\",, \"T\"),3)=\"768\",\"\",RTD(\"cqg.rtd\",,\"StudyData\",B107,  \"Bar\",,  \"ContractOI\", \"D\", \"-1\",,,,,\"T\"))","v":157},{"$f":"IF(LEFT(RTD(\"cqg.rtd\", ,\"ContractData\",B107, \"LastTrade\",, \"T\"),3)=\"768\",\"\",RTD(\"cqg.rtd\",,\"StudyData\",B107,  \"Bar\",,  \"ContractOI\", \"D\", \"-2\",,,,,\"T\"))","v":158},{"$f":"IF(LEFT(RTD(\"cqg.rtd\", ,\"ContractData\",B107, \"LastTrade\",, \"T\"),3)=\"768\",\"\",IFERROR(IF(L107>M107,\"+\"&L107-M107,L107-M107)*1,\"\"))","v":-1}]
[{"$f":"'Call Data'!A108","v":9950},{"$f":"\"P\"&RIGHT('Call Data'!B108,LEN('Call Data'!B108)-1)","v":"P.US.CLEJ269950"},{"$f":"IF(LEFT(RTD(\"cqg.rtd\", ,\"ContractData\",B108, \"LastTrade\",, \"T\"),3)=\"768\",\"\",RTD(\"cqg.rtd\", ,\"ContractData\",B108, \"LastTrade\",, \"T\"))","v":14.69},{"$f":"IF(C108=\"\",\"\",RTD(\"cqg.rtd\", ,\"ContractData\",B108, \"NetLastTrade\",, \"T\"))","v":-1.2200000000000006},{"$f":"IF(LEFT(RTD(\"cqg.rtd\", ,\"ContractData\",B108, \"LastTrade\",, \"T\"),3)=\"768\",\"\",RTD(\"cqg.rtd\", ,\"ContractData\",B108, \"MT_LastBidVolume\",, \"T\"))","v":1},{"$f":"IF(LEFT(RTD(\"cqg.rtd\", ,\"ContractData\",B108, \"LastTrade\",, \"T\"),3)=\"768\",\"\",RTD(\"cqg.rtd\", ,\"ContractData\",B108, \"Bid\",, \"T\"))","v":12.370000000000001},{"$f":"IF(LEFT(RTD(\"cqg.rtd\", ,\"ContractData\",B108, \"LastTrade\",, \"T\"),3)=\"768\",\"\",RTD(\"cqg.rtd\", ,\"ContractData\",B108, \"Ask\",, \"T\"))","v":12.5},{"$f":"IF(LEFT(RTD(\"cqg.rtd\", ,\"ContractData\",B108, \"LastTrade\",, \"T\"),3)=\"768\",\"\",RTD(\"cqg.rtd\", ,\"ContractData\",B108, \"MT_LastAskVolume\",, \"T\"))","v":11},{"$f":"IF(LEFT(RTD(\"cqg.rtd\", ,\"ContractData\",B108, \"LastTrade\",, \"T\"),3)=\"768\",\"\",RTD(\"cqg.rtd\", ,\"ContractData\",B108, \"T_CVol\",, \"T\"))","v":1},{"$f":"IF(LEFT(RTD(\"cqg.rtd\", ,\"ContractData\",B108, \"LastTrade\",, \"T\"),3)=\"768\",\"\",RTD(\"cqg.rtd\", ,\"ContractData\",B108, \"Y_CVol\",, \"T\"))","v":0},{"$f":"IF(LEFT(RTD(\"cqg.rtd\", ,\"ContractData\",B108, \"LastTrade\",, \"T\"),3)=\"768\",\"\",IFERROR(IF(I108>J108,\"+\"&I108-J108,I108-J108)*1,\"\"))","v":1},{"$f":"IF(LEFT(RTD(\"cqg.rtd\", ,\"ContractData\",B108, \"LastTrade\",, \"T\"),3)=\"768\",\"\",RTD(\"cqg.rtd\",,\"StudyData\",B108,  \"Bar\",,  \"ContractOI\", \"D\", \"-1\",,,,,\"T\"))","v":44},{"$f":"IF(LEFT(RTD(\"cqg.rtd\", ,\"ContractData\",B108, \"LastTrade\",, \"T\"),3)=\"768\",\"\",RTD(\"cqg.rtd\",,\"StudyData\",B108,  \"Bar\",,  \"ContractOI\", \"D\", \"-2\",,,,,\"T\"))","v":44},{"$f":"IF(LEFT(RTD(\"cqg.rtd\", ,\"ContractData\",B108, \"LastTrade\",, \"T\"),3)=\"768\",\"\",IFERROR(IF(L108>M108,\"+\"&L108-M108,L108-M108)*1,\"\"))","v":0}]
[{"$f":"'Call Data'!A109","v":10000},{"$f":"\"P\"&RIGHT('Call Data'!B109,LEN('Call Data'!B109)-1)","v":"P.US.CLEJ2610000"},{"$f":"IF(LEFT(RTD(\"cqg.rtd\", ,\"ContractData\",B109, \"LastTrade\",, \"T\"),3)=\"768\",\"\",RTD(\"cqg.rtd\", ,\"ContractData\",B109, \"LastTrade\",, \"T\"))","v":11.4},{"$f":"IF(C109=\"\",\"\",RTD(\"cqg.rtd\", ,\"ContractData\",B109, \"NetLastTrade\",, \"T\"))","v":-4.92},{"$f":"IF(LEFT(RTD(\"cqg.rtd\", ,\"ContractData\",B109, \"LastTrade\",, \"T\"),3)=\"768\",\"\",RTD(\"cqg.rtd\", ,\"ContractData\",B109, \"MT_LastBidVolume\",, \"T\"))","v":9},{"$f":"IF(LEFT(RTD(\"cqg.rtd\", ,\"ContractData\",B109, \"LastTrade\",, \"T\"),3)=\"768\",\"\",RTD(\"cqg.rtd\", ,\"ContractData\",B109, \"Bid\",, \"T\"))","v":12.73},{"$f":"IF(LEFT(RTD(\"cqg.rtd\", ,\"ContractData\",B109, \"LastTrade\",, \"T\"),3)=\"768\",\"\",RTD(\"cqg.rtd\", ,\"ContractData\",B109, \"Ask\",, \"T\"))","v":12.870000000000001},{"$f":"IF(LEFT(RTD(\"cqg.rtd\", ,\"ContractData\",B109, \"LastTrade\",, \"T\"),3)=\"768\",\"\",RTD(\"cqg.rtd\", ,\"ContractData\",B109, \"MT_LastAskVolume\",, \"T\"))","v":1},{"$f":"IF(LEFT(RTD(\"cqg.rtd\", ,\"ContractData\",B109, \"LastTrade\",, \"T\"),3)=\"768\",\"\",RTD(\"cqg.rtd\", ,\"ContractData\",B109, \"T_CVol\",, \"T\"))","v":10},{"$f":"IF(LEFT(RTD(\"cqg.rtd\", ,\"ContractData\",B109, \"LastTrade\",, \"T\"),3)=\"768\",\"\",RTD(\"cqg.rtd\", ,\"ContractData\",B109, \"Y_CVol\",, \"T\"))","v":74},{"$f":"IF(LEFT(RTD(\"cqg.rtd\", ,\"ContractData\",B109, \"LastTrade\",, \"T\"),3)=\"768\",\"\",IFERROR(IF(I109>J109,\"+\"&I109-J109,I109-J109)*1,\"\"))","v":-64},{"$f":"IF(LEFT(RTD(\"cqg.rtd\", ,\"ContractData\",B109, \"LastTrade\",, \"T\"),3)=\"768\",\"\",RTD(\"cqg.rtd\",,\"StudyData\",B109,  \"Bar\",,  \"ContractOI\", \"D\", \"-1\",,,,,\"T\"))","v":470},{"$f":"IF(LEFT(RTD(\"cqg.rtd\", ,\"ContractData\",B109, \"LastTrade\",, \"T\"),3)=\"768\",\"\",RTD(\"cqg.rtd\",,\"StudyData\",B109,  \"Bar\",,  \"ContractOI\", \"D\", \"-2\",,,,,\"T\"))","v":474},{"$f":"IF(LEFT(RTD(\"cqg.rtd\", ,\"ContractData\",B109, \"LastTrade\",, \"T\"),3)=\"768\",\"\",IFERROR(IF(L109>M109,\"+\"&L109-M109,L109-M109)*1,\"\"))","v":-4}]
[{"$f":"'Call Data'!A110","v":10050},{"$f":"\"P\"&RIGHT('Call Data'!B110,LEN('Call Data'!B110)-1)","v":"P.US.CLEJ2610050"},{"$f":"IF(LEFT(RTD(\"cqg.rtd\", ,\"ContractData\",B110, \"LastTrade\",, \"T\"),3)=\"768\",\"\",RTD(\"cqg.rtd\", ,\"ContractData\",B110, \"LastTrade\",, \"T\"))","v":16.27},{"$f":"IF(C110=\"\",\"\",RTD(\"cqg.rtd\", ,\"ContractData\",B110, \"NetLastTrade\",, \"T\"))","v":-0.44999999999999929},{"$f":"IF(LEFT(RTD(\"cqg.rtd\", ,\"ContractData\",B110, \"LastTrade\",, \"T\"),3)=\"768\",\"\",RTD(\"cqg.rtd\", ,\"ContractData\",B110, \"MT_LastBidVolume\",, \"T\"))","v":8},{"$f":"IF(LEFT(RTD(\"cqg.rtd\", ,\"ContractData\",B110, \"LastTrade\",, \"T\"),3)=\"768\",\"\",RTD(\"cqg.rtd\", ,\"ContractData\",B110, \"Bid\",, \"T\"))","v":13.1},{"$f":"IF(LEFT(RTD(\"cqg.rtd\", ,\"ContractData\",B110, \"LastTrade\",, \"T\"),3)=\"768\",\"\",RTD(\"cqg.rtd\", ,\"ContractData\",B110, \"Ask\",, \"T\"))","v":13.24},{"$f":"IF(LEFT(RTD(\"cqg.rtd\", ,\"ContractData\",B110, \"LastTrade\",, \"T\"),3)=\"768\",\"\",RTD(\"cqg.rtd\", ,\"ContractData\",B110, \"MT_LastAskVolume\",, \"T\"))","v":7},{"$f":"IF(LEFT(RTD(\"cqg.rtd\", ,\"ContractData\",B110, \"LastTrade\",, \"T\"),3)=\"768\",\"\",RTD(\"cqg.rtd\", ,\"ContractData\",B110, \"T_CVol\",, \"T\"))","v":0},{"$f":"IF(LEFT(RTD(\"cqg.rtd\", ,\"ContractData\",B110, \"LastTrade\",, \"T\"),3)=\"768\",\"\",RTD(\"cqg.rtd\", ,\"ContractData\",B110, \"Y_CVol\",, \"T\"))","v":0},{"$f":"IF(LEFT(RTD(\"cqg.rtd\", ,\"ContractData\",B110, \"LastTrade\",, \"T\"),3)=\"768\",\"\",IFERROR(IF(I110>J110,\"+\"&I110-J110,I110-J110)*1,\"\"))","v":0},{"$f":"IF(LEFT(RTD(\"cqg.rtd\", ,\"ContractData\",B110, \"LastTrade\",, \"T\"),3)=\"768\",\"\",RTD(\"cqg.rtd\",,\"StudyData\",B110,  \"Bar\",,  \"ContractOI\", \"D\", \"-1\",,,,,\"T\"))","v":11},{"$f":"IF(LEFT(RTD(\"cqg.rtd\", ,\"ContractData\",B110, \"LastTrade\",, \"T\"),3)=\"768\",\"\",RTD(\"cqg.rtd\",,\"StudyData\",B110,  \"Bar\",,  \"ContractOI\", \"D\", \"-2\",,,,,\"T\"))","v":11},{"$f":"IF(LEFT(RTD(\"cqg.rtd\", ,\"ContractData\",B110, \"LastTrade\",, \"T\"),3)=\"768\",\"\",IFERROR(IF(L110>M110,\"+\"&L110-M110,L110-M110)*1,\"\"))","v":0}]
[{"$f":"'Call Data'!A111","v":10100},{"$f":"\"P\"&RIGHT('Call Data'!B111,LEN('Call Data'!B111)-1)","v":"P.US.CLEJ2610100"},{"$f":"IF(LEFT(RTD(\"cqg.rtd\", ,\"ContractData\",B111, \"LastTrade\",, \"T\"),3)=\"768\",\"\",RTD(\"cqg.rtd\", ,\"ContractData\",B111, \"LastTrade\",, \"T\"))","v":12.63},{"$f":"IF(C111=\"\",\"\",RTD(\"cqg.rtd\", ,\"ContractData\",B111, \"NetLastTrade\",, \"T\"))","v":-4.4999999999999982},{"$f":"IF(LEFT(RTD(\"cqg.rtd\", ,\"ContractData\",B111, \"LastTrade\",, \"T\"),3)=\"768\",\"\",RTD(\"cqg.rtd\", ,\"ContractData\",B111, \"MT_LastBidVolume\",, \"T\"))","v":6},{"$f":"IF(LEFT(RTD(\"cqg.rtd\", ,\"ContractData\",B111, \"LastTrade\",, \"T\"),3)=\"768\",\"\",RTD(\"cqg.rtd\", ,\"ContractData\",B111, \"Bid\",, \"T\"))","v":13.48},{"$f":"IF(LEFT(RTD(\"cqg.rtd\", ,\"ContractData\",B111, \"LastTrade\",, \"T\"),3)=\"768\",\"\",RTD(\"cqg.rtd\", ,\"ContractData\",B111, \"Ask\",, \"T\"))","v":13.620000000000001},{"$f":"IF(LEFT(RTD(\"cqg.rtd\", ,\"ContractData\",B111, \"LastTrade\",, \"T\"),3)=\"768\",\"\",RTD(\"cqg.rtd\", ,\"ContractData\",B111, \"MT_LastAskVolume\",, \"T\"))","v":5},{"$f":"IF(LEFT(RTD(\"cqg.rtd\", ,\"ContractData\",B111, \"LastTrade\",, \"T\"),3)=\"768\",\"\",RTD(\"cqg.rtd\", ,\"ContractData\",B111, \"T_CVol\",, \"T\"))","v":0},{"$f":"IF(LEFT(RTD(\"cqg.rtd\", ,\"ContractData\",B111, \"LastTrade\",, \"T\"),3)=\"768\",\"\",RTD(\"cqg.rtd\", ,\"ContractData\",B111, \"Y_CVol\",, \"T\"))","v":0},{"$f":"IF(LEFT(RTD(\"cqg.rtd\", ,\"ContractData\",B111, \"LastTrade\",, \"T\"),3)=\"768\",\"\",IFERROR(IF(I111>J111,\"+\"&I111-J111,I111-J111)*1,\"\"))","v":0},{"$f":"IF(LEFT(RTD(\"cqg.rtd\", ,\"ContractData\",B111, \"LastTrade\",, \"T\"),3)=\"768\",\"\",RTD(\"cqg.rtd\",,\"StudyData\",B111,  \"Bar\",,  \"ContractOI\", \"D\", \"-1\",,,,,\"T\"))","v":14},{"$f":"IF(LEFT(RTD(\"cqg.rtd\", ,\"ContractData\",B111, \"LastTrade\",, \"T\"),3)=\"768\",\"\",RTD(\"cqg.rtd\",,\"StudyData\",B111,  \"Bar\",,  \"ContractOI\", \"D\", \"-2\",,,,,\"T\"))","v":14},{"$f":"IF(LEFT(RTD(\"cqg.rtd\", ,\"ContractData\",B111, \"LastTrade\",, \"T\"),3)=\"768\",\"\",IFERROR(IF(L111>M111,\"+\"&L111-M111,L111-M111)*1,\"\"))","v":0}]
[{"$f":"'Call Data'!A112","v":10150},{"$f":"\"P\"&RIGHT('Call Data'!B112,LEN('Call Data'!B112)-1)","v":"P.US.CLEJ2610150"},{"$f":"IF(LEFT(RTD(\"cqg.rtd\", ,\"ContractData\",B112, \"LastTrade\",, \"T\"),3)=\"768\",\"\",RTD(\"cqg.rtd\", ,\"ContractData\",B112, \"LastTrade\",, \"T\"))","v":17.78},{"$f":"IF(C112=\"\",\"\",RTD(\"cqg.rtd\", ,\"ContractData\",B112, \"NetLastTrade\",, \"T\"))","v":0.24000000000000199},{"$f":"IF(LEFT(RTD(\"cqg.rtd\", ,\"ContractData\",B112, \"LastTrade\",, \"T\"),3)=\"768\",\"\",RTD(\"cqg.rtd\", ,\"ContractData\",B112, \"MT_LastBidVolume\",, \"T\"))","v":3},{"$f":"IF(LEFT(RTD(\"cqg.rtd\", ,\"ContractData\",B112, \"LastTrade\",, \"T\"),3)=\"768\",\"\",RTD(\"cqg.rtd\", ,\"ContractData\",B112, \"Bid\",, \"T\"))","v":13.86},{"$f":"IF(LEFT(RTD(\"cqg.rtd\", ,\"ContractData\",B112, \"LastTrade\",, \"T\"),3)=\"768\",\"\",RTD(\"cqg.rtd\", ,\"ContractData\",B112, \"Ask\",, \"T\"))","v":14},{"$f":"IF(LEFT(RTD(\"cqg.rtd\", ,\"ContractData\",B112, \"LastTrade\",, \"T\"),3)=\"768\",\"\",RTD(\"cqg.rtd\", ,\"ContractData\",B112, \"MT_LastAskVolume\",, \"T\"))","v":2},{"$f":"IF(LEFT(RTD(\"cqg.rtd\", ,\"ContractData\",B112, \"LastTrade\",, \"T\"),3)=\"768\",\"\",RTD(\"cqg.rtd\", ,\"ContractData\",B112, \"T_CVol\",, \"T\"))","v":0},{"$f":"IF(LEFT(RTD(\"cqg.rtd\", ,\"ContractData\",B112, \"LastTrade\",, \"T\"),3)=\"768\",\"\",RTD(\"cqg.rtd\", ,\"ContractData\",B112, \"Y_CVol\",, \"T\"))","v":2},{"$f":"IF(LEFT(RTD(\"cqg.rtd\", ,\"ContractData\",B112, \"LastTrade\",, \"T\"),3)=\"768\",\"\",IFERROR(IF(I112>J112,\"+\"&I112-J112,I112-J112)*1,\"\"))","v":-2},{"$f":"IF(LEFT(RTD(\"cqg.rtd\", ,\"ContractData\",B112, \"LastTrade\",, \"T\"),3)=\"768\",\"\",RTD(\"cqg.rtd\",,\"StudyData\",B112,  \"Bar\",,  \"ContractOI\", \"D\", \"-1\",,,,,\"T\"))","v":15},{"$f":"IF(LEFT(RTD(\"cqg.rtd\", ,\"ContractData\",B112, \"LastTrade\",, \"T\"),3)=\"768\",\"\",RTD(\"cqg.rtd\",,\"StudyData\",B112,  \"Bar\",,  \"ContractOI\", \"D\", \"-2\",,,,,\"T\"))","v":14},{"$f":"IF(LEFT(RTD(\"cqg.rtd\", ,\"ContractData\",B112, \"LastTrade\",, \"T\"),3)=\"768\",\"\",IFERROR(IF(L112>M112,\"+\"&L112-M112,L112-M112)*1,\"\"))","v":1}]
[{"$f":"'Call Data'!A113","v":10200},{"$f":"\"P\"&RIGHT('Call Data'!B113,LEN('Call Data'!B113)-1)","v":"P.US.CLEJ2610200"},{"$f":"IF(LEFT(RTD(\"cqg.rtd\", ,\"ContractData\",B113, \"LastTrade\",, \"T\"),3)=\"768\",\"\",RTD(\"cqg.rtd\", ,\"ContractData\",B113, \"LastTrade\",, \"T\"))","v":14.1},{"$f":"IF(C113=\"\",\"\",RTD(\"cqg.rtd\", ,\"ContractData\",B113, \"NetLastTrade\",, \"T\"))","v":-3.8499999999999996},{"$f":"IF(LEFT(RTD(\"cqg.rtd\", ,\"ContractData\",B113, \"LastTrade\",, \"T\"),3)=\"768\",\"\",RTD(\"cqg.rtd\", ,\"ContractData\",B113, \"MT_LastBidVolume\",, \"T\"))","v":2},{"$f":"IF(LEFT(RTD(\"cqg.rtd\", ,\"ContractData\",B113, \"LastTrade\",, \"T\"),3)=\"768\",\"\",RTD(\"cqg.rtd\", ,\"ContractData\",B113, \"Bid\",, \"T\"))","v":14.25},{"$f":"IF(LEFT(RTD(\"cqg.rtd\", ,\"ContractData\",B113, \"LastTrade\",, \"T\"),3)=\"768\",\"\",RTD(\"cqg.rtd\", ,\"ContractData\",B113, \"Ask\",, \"T\"))","v":14.38},{"$f":"IF(LEFT(RTD(\"cqg.rtd\", ,\"ContractData\",B113, \"LastTrade\",, \"T\"),3)=\"768\",\"\",RTD(\"cqg.rtd\", ,\"ContractData\",B113, \"MT_LastAskVolume\",, \"T\"))","v":1},{"$f":"IF(LEFT(RTD(\"cqg.rtd\", ,\"ContractData\",B113, \"LastTrade\",, \"T\"),3)=\"768\",\"\",RTD(\"cqg.rtd\", ,\"ContractData\",B113, \"T_CVol\",, \"T\"))","v":3},{"$f":"IF(LEFT(RTD(\"cqg.rtd\", ,\"ContractData\",B113, \"LastTrade\",, \"T\"),3)=\"768\",\"\",RTD(\"cqg.rtd\", ,\"ContractData\",B113, \"Y_CVol\",, \"T\"))","v":0},{"$f":"IF(LEFT(RTD(\"cqg.rtd\", ,\"ContractData\",B113, \"LastTrade\",, \"T\"),3)=\"768\",\"\",IFERROR(IF(I113>J113,\"+\"&I113-J113,I113-J113)*1,\"\"))","v":3},{"$f":"IF(LEFT(RTD(\"cqg.rtd\", ,\"ContractData\",B113, \"LastTrade\",, \"T\"),3)=\"768\",\"\",RTD(\"cqg.rtd\",,\"StudyData\",B113,  \"Bar\",,  \"ContractOI\", \"D\", \"-1\",,,,,\"T\"))","v":61},{"$f":"IF(LEFT(RTD(\"cqg.rtd\", ,\"ContractData\",B113, \"LastTrade\",, \"T\"),3)=\"768\",\"\",RTD(\"cqg.rtd\",,\"StudyData\",B113,  \"Bar\",,  \"ContractOI\", \"D\", \"-2\",,,,,\"T\"))","v":61},{"$f":"IF(LEFT(RTD(\"cqg.rtd\", ,\"ContractData\",B113, \"LastTrade\",, \"T\"),3)=\"768\",\"\",IFERROR(IF(L113>M113,\"+\"&L113-M113,L113-M113)*1,\"\"))","v":0}]
[{"$f":"'Call Data'!A114","v":10250},{"$f":"\"P\"&RIGHT('Call Data'!B114,LEN('Call Data'!B114)-1)","v":"P.US.CLEJ2610250"},{"$f":"IF(LEFT(RTD(\"cqg.rtd\", ,\"ContractData\",B114, \"LastTrade\",, \"T\"),3)=\"768\",\"\",RTD(\"cqg.rtd\", ,\"ContractData\",B114, \"LastTrade\",, \"T\"))","v":18.22},{"$f":"IF(C114=\"\",\"\",RTD(\"cqg.rtd\", ,\"ContractData\",B114, \"NetLastTrade\",, \"T\"))","v":-0.14000000000000057},{"$f":"IF(LEFT(RTD(\"cqg.rtd\", ,\"ContractData\",B114, \"LastTrade\",, \"T\"),3)=\"768\",\"\",RTD(\"cqg.rtd\", ,\"ContractData\",B114, \"MT_LastBidVolume\",, \"T\"))","v":2},{"$f":"IF(LEFT(RTD(\"cqg.rtd\", ,\"ContractData\",B114, \"LastTrade\",, \"T\"),3)=\"768\",\"\",RTD(\"cqg.rtd\", ,\"ContractData\",B114, \"Bid\",, \"T\"))","v":14.63},{"$f":"IF(LEFT(RTD(\"cqg.rtd\", ,\"ContractData\",B114, \"LastTrade\",, \"T\"),3)=\"768\",\"\",RTD(\"cqg.rtd\", ,\"ContractData\",B114, \"Ask\",, \"T\"))","v":14.780000000000001},{"$f":"IF(LEFT(RTD(\"cqg.rtd\", ,\"ContractData\",B114, \"LastTrade\",, \"T\"),3)=\"768\",\"\",RTD(\"cqg.rtd\", ,\"ContractData\",B114, \"MT_LastAskVolume\",, \"T\"))","v":3},{"$f":"IF(LEFT(RTD(\"cqg.rtd\", ,\"ContractData\",B114, \"LastTrade\",, \"T\"),3)=\"768\",\"\",RTD(\"cqg.rtd\", ,\"ContractData\",B114, \"T_CVol\",, \"T\"))","v":0},{"$f":"IF(LEFT(RTD(\"cqg.rtd\", ,\"ContractData\",B114, \"LastTrade\",, \"T\"),3)=\"768\",\"\",RTD(\"cqg.rtd\", ,\"ContractData\",B114, \"Y_CVol\",, \"T\"))","v":0},{"$f":"IF(LEFT(RTD(\"cqg.rtd\", ,\"ContractData\",B114, \"LastTrade\",, \"T\"),3)=\"768\",\"\",IFERROR(IF(I114>J114,\"+\"&I114-J114,I114-J114)*1,\"\"))","v":0},{"$f":"IF(LEFT(RTD(\"cqg.rtd\", ,\"ContractData\",B114, \"LastTrade\",, \"T\"),3)=\"768\",\"\",RTD(\"cqg.rtd\",,\"StudyData\",B114,  \"Bar\",,  \"ContractOI\", \"D\", \"-1\",,,,,\"T\"))","v":18},{"$f":"IF(LEFT(RTD(\"cqg.rtd\", ,\"ContractData\",B114, \"LastTrade\",, \"T\"),3)=\"768\",\"\",RTD(\"cqg.rtd\",,\"StudyData\",B114,  \"Bar\",,  \"ContractOI\", \"D\", \"-2\",,,,,\"T\"))","v":18},{"$f":"IF(LEFT(RTD(\"cqg.rtd\", ,\"ContractData\",B114, \"LastTrade\",, \"T\"),3)=\"768\",\"\",IFERROR(IF(L114>M114,\"+\"&L114-M114,L114-M114)*1,\"\"))","v":0}]
[{"$f":"'Call Data'!A115","v":10300},{"$f":"\"P\"&RIGHT('Call Data'!B115,LEN('Call Data'!B115)-1)","v":"P.US.CLEJ2610300"},{"$f":"IF(LEFT(RTD(\"cqg.rtd\", ,\"ContractData\",B115, \"LastTrade\",, \"T\"),3)=\"768\",\"\",RTD(\"cqg.rtd\", ,\"ContractData\",B115, \"LastTrade\",, \"T\"))","v":19.62},{"$f":"IF(C115=\"\",\"\",RTD(\"cqg.rtd\", ,\"ContractData\",B115, \"NetLastTrade\",, \"T\"))","v":0.83999999999999986},{"$f":"IF(LEFT(RTD(\"cqg.rtd\", ,\"ContractData\",B115, \"LastTrade\",, \"T\"),3)=\"768\",\"\",RTD(\"cqg.rtd\", ,\"ContractData\",B115, \"MT_LastBidVolume\",, \"T\"))","v":3},{"$f":"IF(LEFT(RTD(\"cqg.rtd\", ,\"ContractData\",B115, \"LastTrade\",, \"T\"),3)=\"768\",\"\",RTD(\"cqg.rtd\", ,\"ContractData\",B115, \"Bid\",, \"T\"))","v":15.02},{"$f":"IF(LEFT(RTD(\"cqg.rtd\", ,\"ContractData\",B115, \"LastTrade\",, \"T\"),3)=\"768\",\"\",RTD(\"cqg.rtd\", ,\"ContractData\",B115, \"Ask\",, \"T\"))","v":15.16},{"$f":"IF(LEFT(RTD(\"cqg.rtd\", ,\"ContractData\",B115, \"LastTrade\",, \"T\"),3)=\"768\",\"\",RTD(\"cqg.rtd\", ,\"ContractData\",B115, \"MT_LastAskVolume\",, \"T\"))","v":1},{"$f":"IF(LEFT(RTD(\"cqg.rtd\", ,\"ContractData\",B115, \"LastTrade\",, \"T\"),3)=\"768\",\"\",RTD(\"cqg.rtd\", ,\"ContractData\",B115, \"T_CVol\",, \"T\"))","v":1},{"$f":"IF(LEFT(RTD(\"cqg.rtd\", ,\"ContractData\",B115, \"LastTrade\",, \"T\"),3)=\"768\",\"\",RTD(\"cqg.rtd\", ,\"ContractData\",B115, \"Y_CVol\",, \"T\"))","v":3},{"$f":"IF(LEFT(RTD(\"cqg.rtd\", ,\"ContractData\",B115, \"LastTrade\",, \"T\"),3)=\"768\",\"\",IFERROR(IF(I115>J115,\"+\"&I115-J115,I115-J115)*1,\"\"))","v":-2},{"$f":"IF(LEFT(RTD(\"cqg.rtd\", ,\"ContractData\",B115, \"LastTrade\",, \"T\"),3)=\"768\",\"\",RTD(\"cqg.rtd\",,\"StudyData\",B115,  \"Bar\",,  \"ContractOI\", \"D\", \"-1\",,,,,\"T\"))","v":10},{"$f":"IF(LEFT(RTD(\"cqg.rtd\", ,\"ContractData\",B115, \"LastTrade\",, \"T\"),3)=\"768\",\"\",RTD(\"cqg.rtd\",,\"StudyData\",B115,  \"Bar\",,  \"ContractOI\", \"D\", \"-2\",,,,,\"T\"))","v":9},{"$f":"IF(LEFT(RTD(\"cqg.rtd\", ,\"ContractData\",B115, \"LastTrade\",, \"T\"),3)=\"768\",\"\",IFERROR(IF(L115>M115,\"+\"&L115-M115,L115-M115)*1,\"\"))","v":1}]
[{"$f":"'Call Data'!A116","v":10350},{"$f":"\"P\"&RIGHT('Call Data'!B116,LEN('Call Data'!B116)-1)","v":"P.US.CLEJ2610350"},{"$f":"IF(LEFT(RTD(\"cqg.rtd\", ,\"ContractData\",B116, \"LastTrade\",, \"T\"),3)=\"768\",\"\",RTD(\"cqg.rtd\", ,\"ContractData\",B116, \"LastTrade\",, \"T\"))","v":19.64},{"$f":"IF(C116=\"\",\"\",RTD(\"cqg.rtd\", ,\"ContractData\",B116, \"NetLastTrade\",, \"T\"))","v":0.44000000000000128},{"$f":"IF(LEFT(RTD(\"cqg.rtd\", ,\"ContractData\",B116, \"LastTrade\",, \"T\"),3)=\"768\",\"\",RTD(\"cqg.rtd\", ,\"ContractData\",B116, \"MT_LastBidVolume\",, \"T\"))","v":2},{"$f":"IF(LEFT(RTD(\"cqg.rtd\", ,\"ContractData\",B116, \"LastTrade\",, \"T\"),3)=\"768\",\"\",RTD(\"cqg.rtd\", ,\"ContractData\",B116, \"Bid\",, \"T\"))","v":15.41},{"$f":"IF(LEFT(RTD(\"cqg.rtd\", ,\"ContractData\",B116, \"LastTrade\",, \"T\"),3)=\"768\",\"\",RTD(\"cqg.rtd\", ,\"ContractData\",B116, \"Ask\",, \"T\"))","v":15.56},{"$f":"IF(LEFT(RTD(\"cqg.rtd\", ,\"ContractData\",B116, \"LastTrade\",, \"T\"),3)=\"768\",\"\",RTD(\"cqg.rtd\", ,\"ContractData\",B116, \"MT_LastAskVolume\",, \"T\"))","v":2},{"$f":"IF(LEFT(RTD(\"cqg.rtd\", ,\"ContractData\",B116, \"LastTrade\",, \"T\"),3)=\"768\",\"\",RTD(\"cqg.rtd\", ,\"ContractData\",B116, \"T_CVol\",, \"T\"))","v":0},{"$f":"IF(LEFT(RTD(\"cqg.rtd\", ,\"ContractData\",B116, \"LastTrade\",, \"T\"),3)=\"768\",\"\",RTD(\"cqg.rtd\", ,\"ContractData\",B116, \"Y_CVol\",, \"T\"))","v":4},{"$f":"IF(LEFT(RTD(\"cqg.rtd\", ,\"ContractData\",B116, \"LastTrade\",, \"T\"),3)=\"768\",\"\",IFERROR(IF(I116>J116,\"+\"&I116-J116,I116-J116)*1,\"\"))","v":-4},{"$f":"IF(LEFT(RTD(\"cqg.rtd\", ,\"ContractData\",B116, \"LastTrade\",, \"T\"),3)=\"768\",\"\",RTD(\"cqg.rtd\",,\"StudyData\",B116,  \"Bar\",,  \"ContractOI\", \"D\", \"-1\",,,,,\"T\"))","v":152},{"$f":"IF(LEFT(RTD(\"cqg.rtd\", ,\"ContractData\",B116, \"LastTrade\",, \"T\"),3)=\"768\",\"\",RTD(\"cqg.rtd\",,\"StudyData\",B116,  \"Bar\",,  \"ContractOI\", \"D\", \"-2\",,,,,\"T\"))","v":151},{"$f":"IF(LEFT(RTD(\"cqg.rtd\", ,\"ContractData\",B116, \"LastTrade\",, \"T\"),3)=\"768\",\"\",IFERROR(IF(L116>M116,\"+\"&L116-M116,L116-M116)*1,\"\"))","v":1}]
[{"$f":"'Call Data'!A117","v":10400},{"$f":"\"P\"&RIGHT('Call Data'!B117,LEN('Call Data'!B117)-1)","v":"P.US.CLEJ2610400"},{"$f":"IF(LEFT(RTD(\"cqg.rtd\", ,\"ContractData\",B117, \"LastTrade\",, \"T\"),3)=\"768\",\"\",RTD(\"cqg.rtd\", ,\"ContractData\",B117, \"LastTrade\",, \"T\"))","v":14.700000000000001},{"$f":"IF(C117=\"\",\"\",RTD(\"cqg.rtd\", ,\"ContractData\",B117, \"NetLastTrade\",, \"T\"))","v":-4.92},{"$f":"IF(LEFT(RTD(\"cqg.rtd\", ,\"ContractData\",B117, \"LastTrade\",, \"T\"),3)=\"768\",\"\",RTD(\"cqg.rtd\", ,\"ContractData\",B117, \"MT_LastBidVolume\",, \"T\"))","v":2},{"$f":"IF(LEFT(RTD(\"cqg.rtd\", ,\"ContractData\",B117, \"LastTrade\",, \"T\"),3)=\"768\",\"\",RTD(\"cqg.rtd\", ,\"ContractData\",B117, \"Bid\",, \"T\"))","v":15.82},{"$f":"IF(LEFT(RTD(\"cqg.rtd\", ,\"ContractData\",B117, \"LastTrade\",, \"T\"),3)=\"768\",\"\",RTD(\"cqg.rtd\", ,\"ContractData\",B117, \"Ask\",, \"T\"))","v":15.96},{"$f":"IF(LEFT(RTD(\"cqg.rtd\", ,\"ContractData\",B117, \"LastTrade\",, \"T\"),3)=\"768\",\"\",RTD(\"cqg.rtd\", ,\"ContractData\",B117, \"MT_LastAskVolume\",, \"T\"))","v":3},{"$f":"IF(LEFT(RTD(\"cqg.rtd\", ,\"ContractData\",B117, \"LastTrade\",, \"T\"),3)=\"768\",\"\",RTD(\"cqg.rtd\", ,\"ContractData\",B117, \"T_CVol\",, \"T\"))","v":1},{"$f":"IF(LEFT(RTD(\"cqg.rtd\", ,\"ContractData\",B117, \"LastTrade\",, \"T\"),3)=\"768\",\"\",RTD(\"cqg.rtd\", ,\"ContractData\",B117, \"Y_CVol\",, \"T\"))","v":0},{"$f":"IF(LEFT(RTD(\"cqg.rtd\", ,\"ContractData\",B117, \"LastTrade\",, \"T\"),3)=\"768\",\"\",IFERROR(IF(I117>J117,\"+\"&I117-J117,I117-J117)*1,\"\"))","v":1},{"$f":"IF(LEFT(RTD(\"cqg.rtd\", ,\"ContractData\",B117, \"LastTrade\",, \"T\"),3)=\"768\",\"\",RTD(\"cqg.rtd\",,\"StudyData\",B117,  \"Bar\",,  \"ContractOI\", \"D\", \"-1\",,,,,\"T\"))","v":104},{"$f":"IF(LEFT(RTD(\"cqg.rtd\", ,\"ContractData\",B117, \"LastTrade\",, \"T\"),3)=\"768\",\"\",RTD(\"cqg.rtd\",,\"StudyData\",B117,  \"Bar\",,  \"ContractOI\", \"D\", \"-2\",,,,,\"T\"))","v":104},{"$f":"IF(LEFT(RTD(\"cqg.rtd\", ,\"ContractData\",B117, \"LastTrade\",, \"T\"),3)=\"768\",\"\",IFERROR(IF(L117>M117,\"+\"&L117-M117,L117-M117)*1,\"\"))","v":0}]
[{"$f":"'Call Data'!A118","v":10450},{"$f":"\"P\"&RIGHT('Call Data'!B118,LEN('Call Data'!B118)-1)","v":"P.US.CLEJ2610450"},{"$f":"IF(LEFT(RTD(\"cqg.rtd\", ,\"ContractData\",B118, \"LastTrade\",, \"T\"),3)=\"768\",\"\",RTD(\"cqg.rtd\", ,\"ContractData\",B118, \"LastTrade\",, \"T\"))","v":15.3},{"$f":"IF(C118=\"\",\"\",RTD(\"cqg.rtd\", ,\"ContractData\",B118, \"NetLastTrade\",, \"T\"))","v":-4.7399999999999984},{"$f":"IF(LEFT(RTD(\"cqg.rtd\", ,\"ContractData\",B118, \"LastTrade\",, \"T\"),3)=\"768\",\"\",RTD(\"cqg.rtd\", ,\"ContractData\",B118, \"MT_LastBidVolume\",, \"T\"))","v":2},{"$f":"IF(LEFT(RTD(\"cqg.rtd\", ,\"ContractData\",B118, \"LastTrade\",, \"T\"),3)=\"768\",\"\",RTD(\"cqg.rtd\", ,\"ContractData\",B118, \"Bid\",, \"T\"))","v":16.2},{"$f":"IF(LEFT(RTD(\"cqg.rtd\", ,\"ContractData\",B118, \"LastTrade\",, \"T\"),3)=\"768\",\"\",RTD(\"cqg.rtd\", ,\"ContractData\",B118, \"Ask\",, \"T\"))","v":16.36},{"$f":"IF(LEFT(RTD(\"cqg.rtd\", ,\"ContractData\",B118, \"LastTrade\",, \"T\"),3)=\"768\",\"\",RTD(\"cqg.rtd\", ,\"ContractData\",B118, \"MT_LastAskVolume\",, \"T\"))","v":3},{"$f":"IF(LEFT(RTD(\"cqg.rtd\", ,\"ContractData\",B118, \"LastTrade\",, \"T\"),3)=\"768\",\"\",RTD(\"cqg.rtd\", ,\"ContractData\",B118, \"T_CVol\",, \"T\"))","v":1},{"$f":"IF(LEFT(RTD(\"cqg.rtd\", ,\"ContractData\",B118, \"LastTrade\",, \"T\"),3)=\"768\",\"\",RTD(\"cqg.rtd\", ,\"ContractData\",B118, \"Y_CVol\",, \"T\"))","v":1},{"$f":"IF(LEFT(RTD(\"cqg.rtd\", ,\"ContractData\",B118, \"LastTrade\",, \"T\"),3)=\"768\",\"\",IFERROR(IF(I118>J118,\"+\"&I118-J118,I118-J118)*1,\"\"))","v":0},{"$f":"IF(LEFT(RTD(\"cqg.rtd\", ,\"ContractData\",B118, \"LastTrade\",, \"T\"),3)=\"768\",\"\",RTD(\"cqg.rtd\",,\"StudyData\",B118,  \"Bar\",,  \"ContractOI\", \"D\", \"-1\",,,,,\"T\"))","v":14},{"$f":"IF(LEFT(RTD(\"cqg.rtd\", ,\"ContractData\",B118, \"LastTrade\",, \"T\"),3)=\"768\",\"\",RTD(\"cqg.rtd\",,\"StudyData\",B118,  \"Bar\",,  \"ContractOI\", \"D\", \"-2\",,,,,\"T\"))","v":13},{"$f":"IF(LEFT(RTD(\"cqg.rtd\", ,\"ContractData\",B118, \"LastTrade\",, \"T\"),3)=\"768\",\"\",IFERROR(IF(L118>M118,\"+\"&L118-M118,L118-M118)*1,\"\"))","v":1}]
[{"$f":"'Call Data'!A119","v":10500},{"$f":"\"P\"&RIGHT('Call Data'!B119,LEN('Call Data'!B119)-1)","v":"P.US.CLEJ2610500"},{"$f":"IF(LEFT(RTD(\"cqg.rtd\", ,\"ContractData\",B119, \"LastTrade\",, \"T\"),3)=\"768\",\"\",RTD(\"cqg.rtd\", ,\"ContractData\",B119, \"LastTrade\",, \"T\"))","v":16.09},{"$f":"IF(C119=\"\",\"\",RTD(\"cqg.rtd\", ,\"ContractData\",B119, \"NetLastTrade\",, \"T\"))","v":-4.370000000000001},{"$f":"IF(LEFT(RTD(\"cqg.rtd\", ,\"ContractData\",B119, \"LastTrade\",, \"T\"),3)=\"768\",\"\",RTD(\"cqg.rtd\", ,\"ContractData\",B119, \"MT_LastBidVolume\",, \"T\"))","v":2},{"$f":"IF(LEFT(RTD(\"cqg.rtd\", ,\"ContractData\",B119, \"LastTrade\",, \"T\"),3)=\"768\",\"\",RTD(\"cqg.rtd\", ,\"ContractData\",B119, \"Bid\",, \"T\"))","v":16.61},{"$f":"IF(LEFT(RTD(\"cqg.rtd\", ,\"ContractData\",B119, \"LastTrade\",, \"T\"),3)=\"768\",\"\",RTD(\"cqg.rtd\", ,\"ContractData\",B119, \"Ask\",, \"T\"))","v":16.760000000000002},{"$f":"IF(LEFT(RTD(\"cqg.rtd\", ,\"ContractData\",B119, \"LastTrade\",, \"T\"),3)=\"768\",\"\",RTD(\"cqg.rtd\", ,\"ContractData\",B119, \"MT_LastAskVolume\",, \"T\"))","v":2},{"$f":"IF(LEFT(RTD(\"cqg.rtd\", ,\"ContractData\",B119, \"LastTrade\",, \"T\"),3)=\"768\",\"\",RTD(\"cqg.rtd\", ,\"ContractData\",B119, \"T_CVol\",, \"T\"))","v":4},{"$f":"IF(LEFT(RTD(\"cqg.rtd\", ,\"ContractData\",B119, \"LastTrade\",, \"T\"),3)=\"768\",\"\",RTD(\"cqg.rtd\", ,\"ContractData\",B119, \"Y_CVol\",, \"T\"))","v":17},{"$f":"IF(LEFT(RTD(\"cqg.rtd\", ,\"ContractData\",B119, \"LastTrade\",, \"T\"),3)=\"768\",\"\",IFERROR(IF(I119>J119,\"+\"&I119-J119,I119-J119)*1,\"\"))","v":-13},{"$f":"IF(LEFT(RTD(\"cqg.rtd\", ,\"ContractData\",B119, \"LastTrade\",, \"T\"),3)=\"768\",\"\",RTD(\"cqg.rtd\",,\"StudyData\",B119,  \"Bar\",,  \"ContractOI\", \"D\", \"-1\",,,,,\"T\"))","v":365},{"$f":"IF(LEFT(RTD(\"cqg.rtd\", ,\"ContractData\",B119, \"LastTrade\",, \"T\"),3)=\"768\",\"\",RTD(\"cqg.rtd\",,\"StudyData\",B119,  \"Bar\",,  \"ContractOI\", \"D\", \"-2\",,,,,\"T\"))","v":368},{"$f":"IF(LEFT(RTD(\"cqg.rtd\", ,\"ContractData\",B119, \"LastTrade\",, \"T\"),3)=\"768\",\"\",IFERROR(IF(L119>M119,\"+\"&L119-M119,L119-M119)*1,\"\"))","v":-3}]
[{"$f":"'Call Data'!A120","v":10550},{"$f":"\"P\"&RIGHT('Call Data'!B120,LEN('Call Data'!B120)-1)","v":"P.US.CLEJ2610550"},{"$f":"IF(LEFT(RTD(\"cqg.rtd\", ,\"ContractData\",B120, \"LastTrade\",, \"T\"),3)=\"768\",\"\",RTD(\"cqg.rtd\", ,\"ContractData\",B120, \"LastTrade\",, \"T\"))","v":16.07},{"$f":"IF(C120=\"\",\"\",RTD(\"cqg.rtd\", ,\"ContractData\",B120, \"NetLastTrade\",, \"T\"))","v":-4.82},{"$f":"IF(LEFT(RTD(\"cqg.rtd\", ,\"ContractData\",B120, \"LastTrade\",, \"T\"),3)=\"768\",\"\",RTD(\"cqg.rtd\", ,\"ContractData\",B120, \"MT_LastBidVolume\",, \"T\"))","v":2},{"$f":"IF(LEFT(RTD(\"cqg.rtd\", ,\"ContractData\",B120, \"LastTrade\",, \"T\"),3)=\"768\",\"\",RTD(\"cqg.rtd\", ,\"ContractData\",B120, \"Bid\",, \"T\"))","v":17.02},{"$f":"IF(LEFT(RTD(\"cqg.rtd\", ,\"ContractData\",B120, \"LastTrade\",, \"T\"),3)=\"768\",\"\",RTD(\"cqg.rtd\", ,\"ContractData\",B120, \"Ask\",, \"T\"))","v":17.16},{"$f":"IF(LEFT(RTD(\"cqg.rtd\", ,\"ContractData\",B120, \"LastTrade\",, \"T\"),3)=\"768\",\"\",RTD(\"cqg.rtd\", ,\"ContractData\",B120, \"MT_LastAskVolume\",, \"T\"))","v":2},{"$f":"IF(LEFT(RTD(\"cqg.rtd\", ,\"ContractData\",B120, \"LastTrade\",, \"T\"),3)=\"768\",\"\",RTD(\"cqg.rtd\", ,\"ContractData\",B120, \"T_CVol\",, \"T\"))","v":1},{"$f":"IF(LEFT(RTD(\"cqg.rtd\", ,\"ContractData\",B120, \"LastTrade\",, \"T\"),3)=\"768\",\"\",RTD(\"cqg.rtd\", ,\"ContractData\",B120, \"Y_CVol\",, \"T\"))","v":2},{"$f":"IF(LEFT(RTD(\"cqg.rtd\", ,\"ContractData\",B120, \"LastTrade\",, \"T\"),3)=\"768\",\"\",IFERROR(IF(I120>J120,\"+\"&I120-J120,I120-J120)*1,\"\"))","v":-1},{"$f":"IF(LEFT(RTD(\"cqg.rtd\", ,\"ContractData\",B120, \"LastTrade\",, \"T\"),3)=\"768\",\"\",RTD(\"cqg.rtd\",,\"StudyData\",B120,  \"Bar\",,  \"ContractOI\", \"D\", \"-1\",,,,,\"T\"))","v":17},{"$f":"IF(LEFT(RTD(\"cqg.rtd\", ,\"ContractData\",B120, \"LastTrade\",, \"T\"),3)=\"768\",\"\",RTD(\"cqg.rtd\",,\"StudyData\",B120,  \"Bar\",,  \"ContractOI\", \"D\", \"-2\",,,,,\"T\"))","v":16},{"$f":"IF(LEFT(RTD(\"cqg.rtd\", ,\"ContractData\",B120, \"LastTrade\",, \"T\"),3)=\"768\",\"\",IFERROR(IF(L120>M120,\"+\"&L120-M120,L120-M120)*1,\"\"))","v":1}]
[{"$f":"'Call Data'!A121","v":10600},{"$f":"\"P\"&RIGHT('Call Data'!B121,LEN('Call Data'!B121)-1)","v":"P.US.CLEJ2610600"},{"$f":"IF(LEFT(RTD(\"cqg.rtd\", ,\"ContractData\",B121, \"LastTrade\",, \"T\"),3)=\"768\",\"\",RTD(\"cqg.rtd\", ,\"ContractData\",B121, \"LastTrade\",, \"T\"))","v":19.88},{"$f":"IF(C121=\"\",\"\",RTD(\"cqg.rtd\", ,\"ContractData\",B121, \"NetLastTrade\",, \"T\"))","v":-1.4400000000000013},{"$f":"IF(LEFT(RTD(\"cqg.rtd\", ,\"ContractData\",B121, \"LastTrade\",, \"T\"),3)=\"768\",\"\",RTD(\"cqg.rtd\", ,\"ContractData\",B121, \"MT_LastBidVolume\",, \"T\"))","v":2},{"$f":"IF(LEFT(RTD(\"cqg.rtd\", ,\"ContractData\",B121, \"LastTrade\",, \"T\"),3)=\"768\",\"\",RTD(\"cqg.rtd\", ,\"ContractData\",B121, \"Bid\",, \"T\"))","v":17.420000000000002},{"$f":"IF(LEFT(RTD(\"cqg.rtd\", ,\"ContractData\",B121, \"LastTrade\",, \"T\"),3)=\"768\",\"\",RTD(\"cqg.rtd\", ,\"ContractData\",B121, \"Ask\",, \"T\"))","v":17.559999999999999},{"$f":"IF(LEFT(RTD(\"cqg.rtd\", ,\"ContractData\",B121, \"LastTrade\",, \"T\"),3)=\"768\",\"\",RTD(\"cqg.rtd\", ,\"ContractData\",B121, \"MT_LastAskVolume\",, \"T\"))","v":1},{"$f":"IF(LEFT(RTD(\"cqg.rtd\", ,\"ContractData\",B121, \"LastTrade\",, \"T\"),3)=\"768\",\"\",RTD(\"cqg.rtd\", ,\"ContractData\",B121, \"T_CVol\",, \"T\"))","v":0},{"$f":"IF(LEFT(RTD(\"cqg.rtd\", ,\"ContractData\",B121, \"LastTrade\",, \"T\"),3)=\"768\",\"\",RTD(\"cqg.rtd\", ,\"ContractData\",B121, \"Y_CVol\",, \"T\"))","v":0},{"$f":"IF(LEFT(RTD(\"cqg.rtd\", ,\"ContractData\",B121, \"LastTrade\",, \"T\"),3)=\"768\",\"\",IFERROR(IF(I121>J121,\"+\"&I121-J121,I121-J121)*1,\"\"))","v":0},{"$f":"IF(LEFT(RTD(\"cqg.rtd\", ,\"ContractData\",B121, \"LastTrade\",, \"T\"),3)=\"768\",\"\",RTD(\"cqg.rtd\",,\"StudyData\",B121,  \"Bar\",,  \"ContractOI\", \"D\", \"-1\",,,,,\"T\"))","v":16},{"$f":"IF(LEFT(RTD(\"cqg.rtd\", ,\"ContractData\",B121, \"LastTrade\",, \"T\"),3)=\"768\",\"\",RTD(\"cqg.rtd\",,\"StudyData\",B121,  \"Bar\",,  \"ContractOI\", \"D\", \"-2\",,,,,\"T\"))","v":16},{"$f":"IF(LEFT(RTD(\"cqg.rtd\", ,\"ContractData\",B121, \"LastTrade\",, \"T\"),3)=\"768\",\"\",IFERROR(IF(L121>M121,\"+\"&L121-M121,L121-M121)*1,\"\"))","v":0}]
[{"$f":"'Call Data'!A122","v":10650},{"$f":"\"P\"&RIGHT('Call Data'!B122,LEN('Call Data'!B122)-1)","v":"P.US.CLEJ2610650"},{"$f":"IF(LEFT(RTD(\"cqg.rtd\", ,\"ContractData\",B122, \"LastTrade\",, \"T\"),3)=\"768\",\"\",RTD(\"cqg.rtd\", ,\"ContractData\",B122, \"LastTrade\",, \"T\"))","v":21.3},{"$f":"IF(C122=\"\",\"\",RTD(\"cqg.rtd\", ,\"ContractData\",B122, \"NetLastTrade\",, \"T\"))","v":-0.44999999999999929},{"$f":"IF(LEFT(RTD(\"cqg.rtd\", ,\"ContractData\",B122, \"LastTrade\",, \"T\"),3)=\"768\",\"\",RTD(\"cqg.rtd\", ,\"ContractData\",B122, \"MT_LastBidVolume\",, \"T\"))","v":4},{"$f":"IF(LEFT(RTD(\"cqg.rtd\", ,\"ContractData\",B122, \"LastTrade\",, \"T\"),3)=\"768\",\"\",RTD(\"cqg.rtd\", ,\"ContractData\",B122, \"Bid\",, \"T\"))","v":17.809999999999999},{"$f":"IF(LEFT(RTD(\"cqg.rtd\", ,\"ContractData\",B122, \"LastTrade\",, \"T\"),3)=\"768\",\"\",RTD(\"cqg.rtd\", ,\"ContractData\",B122, \"Ask\",, \"T\"))","v":17.98},{"$f":"IF(LEFT(RTD(\"cqg.rtd\", ,\"ContractData\",B122, \"LastTrade\",, \"T\"),3)=\"768\",\"\",RTD(\"cqg.rtd\", ,\"ContractData\",B122, \"MT_LastAskVolume\",, \"T\"))","v":3},{"$f":"IF(LEFT(RTD(\"cqg.rtd\", ,\"ContractData\",B122, \"LastTrade\",, \"T\"),3)=\"768\",\"\",RTD(\"cqg.rtd\", ,\"ContractData\",B122, \"T_CVol\",, \"T\"))","v":0},{"$f":"IF(LEFT(RTD(\"cqg.rtd\", ,\"ContractData\",B122, \"LastTrade\",, \"T\"),3)=\"768\",\"\",RTD(\"cqg.rtd\", ,\"ContractData\",B122, \"Y_CVol\",, \"T\"))","v":0},{"$f":"IF(LEFT(RTD(\"cqg.rtd\", ,\"ContractData\",B122, \"LastTrade\",, \"T\"),3)=\"768\",\"\",IFERROR(IF(I122>J122,\"+\"&I122-J122,I122-J122)*1,\"\"))","v":0},{"$f":"IF(LEFT(RTD(\"cqg.rtd\", ,\"ContractData\",B122, \"LastTrade\",, \"T\"),3)=\"768\",\"\",RTD(\"cqg.rtd\",,\"StudyData\",B122,  \"Bar\",,  \"ContractOI\", \"D\", \"-1\",,,,,\"T\"))","v":41},{"$f":"IF(LEFT(RTD(\"cqg.rtd\", ,\"ContractData\",B122, \"LastTrade\",, \"T\"),3)=\"768\",\"\",RTD(\"cqg.rtd\",,\"StudyData\",B122,  \"Bar\",,  \"ContractOI\", \"D\", \"-2\",,,,,\"T\"))","v":41},{"$f":"IF(LEFT(RTD(\"cqg.rtd\", ,\"ContractData\",B122, \"LastTrade\",, \"T\"),3)=\"768\",\"\",IFERROR(IF(L122>M122,\"+\"&L122-M122,L122-M122)*1,\"\"))","v":0}]
[{"$f":"'Call Data'!A123","v":10700},{"$f":"\"P\"&RIGHT('Call Data'!B123,LEN('Call Data'!B123)-1)","v":"P.US.CLEJ2610700"},{"$f":"IF(LEFT(RTD(\"cqg.rtd\", ,\"ContractData\",B123, \"LastTrade\",, \"T\"),3)=\"768\",\"\",RTD(\"cqg.rtd\", ,\"ContractData\",B123, \"LastTrade\",, \"T\"))","v":23.13},{"$f":"IF(C123=\"\",\"\",RTD(\"cqg.rtd\", ,\"ContractData\",B123, \"NetLastTrade\",, \"T\"))","v":0.94999999999999929},{"$f":"IF(LEFT(RTD(\"cqg.rtd\", ,\"ContractData\",B123, \"LastTrade\",, \"T\"),3)=\"768\",\"\",RTD(\"cqg.rtd\", ,\"ContractData\",B123, \"MT_LastBidVolume\",, \"T\"))","v":3},{"$f":"IF(LEFT(RTD(\"cqg.rtd\", ,\"ContractData\",B123, \"LastTrade\",, \"T\"),3)=\"768\",\"\",RTD(\"cqg.rtd\", ,\"ContractData\",B123, \"Bid\",, \"T\"))","v":18.23},{"$f":"IF(LEFT(RTD(\"cqg.rtd\", ,\"ContractData\",B123, \"LastTrade\",, \"T\"),3)=\"768\",\"\",RTD(\"cqg.rtd\", ,\"ContractData\",B123, \"Ask\",, \"T\"))","v":18.38},{"$f":"IF(LEFT(RTD(\"cqg.rtd\", ,\"ContractData\",B123, \"LastTrade\",, \"T\"),3)=\"768\",\"\",RTD(\"cqg.rtd\", ,\"ContractData\",B123, \"MT_LastAskVolume\",, \"T\"))","v":1},{"$f":"IF(LEFT(RTD(\"cqg.rtd\", ,\"ContractData\",B123, \"LastTrade\",, \"T\"),3)=\"768\",\"\",RTD(\"cqg.rtd\", ,\"ContractData\",B123, \"T_CVol\",, \"T\"))","v":0},{"$f":"IF(LEFT(RTD(\"cqg.rtd\", ,\"ContractData\",B123, \"LastTrade\",, \"T\"),3)=\"768\",\"\",RTD(\"cqg.rtd\", ,\"ContractData\",B123, \"Y_CVol\",, \"T\"))","v":2},{"$f":"IF(LEFT(RTD(\"cqg.rtd\", ,\"ContractData\",B123, \"LastTrade\",, \"T\"),3)=\"768\",\"\",IFERROR(IF(I123>J123,\"+\"&I123-J123,I123-J123)*1,\"\"))","v":-2},{"$f":"IF(LEFT(RTD(\"cqg.rtd\", ,\"ContractData\",B123, \"LastTrade\",, \"T\"),3)=\"768\",\"\",RTD(\"cqg.rtd\",,\"StudyData\",B123,  \"Bar\",,  \"ContractOI\", \"D\", \"-1\",,,,,\"T\"))","v":160},{"$f":"IF(LEFT(RTD(\"cqg.rtd\", ,\"ContractData\",B123, \"LastTrade\",, \"T\"),3)=\"768\",\"\",RTD(\"cqg.rtd\",,\"StudyData\",B123,  \"Bar\",,  \"ContractOI\", \"D\", \"-2\",,,,,\"T\"))","v":159},{"$f":"IF(LEFT(RTD(\"cqg.rtd\", ,\"ContractData\",B123, \"LastTrade\",, \"T\"),3)=\"768\",\"\",IFERROR(IF(L123>M123,\"+\"&L123-M123,L123-M123)*1,\"\"))","v":1}]
[{"$f":"'Call Data'!A124","v":10750},{"$f":"\"P\"&RIGHT('Call Data'!B124,LEN('Call Data'!B124)-1)","v":"P.US.CLEJ2610750"},{"$f":"IF(LEFT(RTD(\"cqg.rtd\", ,\"ContractData\",B124, \"LastTrade\",, \"T\"),3)=\"768\",\"\",RTD(\"cqg.rtd\", ,\"ContractData\",B124, \"LastTrade\",, \"T\"))","v":21.13},{"$f":"IF(C124=\"\",\"\",RTD(\"cqg.rtd\", ,\"ContractData\",B124, \"NetLastTrade\",, \"T\"))","v":-1.4800000000000004},{"$f":"IF(LEFT(RTD(\"cqg.rtd\", ,\"ContractData\",B124, \"LastTrade\",, \"T\"),3)=\"768\",\"\",RTD(\"cqg.rtd\", ,\"ContractData\",B124, \"MT_LastBidVolume\",, \"T\"))","v":2},{"$f":"IF(LEFT(RTD(\"cqg.rtd\", ,\"ContractData\",B124, \"LastTrade\",, \"T\"),3)=\"768\",\"\",RTD(\"cqg.rtd\", ,\"ContractData\",B124, \"Bid\",, \"T\"))","v":18.650000000000002},{"$f":"IF(LEFT(RTD(\"cqg.rtd\", ,\"ContractData\",B124, \"LastTrade\",, \"T\"),3)=\"768\",\"\",RTD(\"cqg.rtd\", ,\"ContractData\",B124, \"Ask\",, \"T\"))","v":18.8},{"$f":"IF(LEFT(RTD(\"cqg.rtd\", ,\"ContractData\",B124, \"LastTrade\",, \"T\"),3)=\"768\",\"\",RTD(\"cqg.rtd\", ,\"ContractData\",B124, \"MT_LastAskVolume\",, \"T\"))","v":2},{"$f":"IF(LEFT(RTD(\"cqg.rtd\", ,\"ContractData\",B124, \"LastTrade\",, \"T\"),3)=\"768\",\"\",RTD(\"cqg.rtd\", ,\"ContractData\",B124, \"T_CVol\",, \"T\"))","v":0},{"$f":"IF(LEFT(RTD(\"cqg.rtd\", ,\"ContractData\",B124, \"LastTrade\",, \"T\"),3)=\"768\",\"\",RTD(\"cqg.rtd\", ,\"ContractData\",B124, \"Y_CVol\",, \"T\"))","v":0},{"$f":"IF(LEFT(RTD(\"cqg.rtd\", ,\"ContractData\",B124, \"LastTrade\",, \"T\"),3)=\"768\",\"\",IFERROR(IF(I124>J124,\"+\"&I124-J124,I124-J124)*1,\"\"))","v":0},{"$f":"IF(LEFT(RTD(\"cqg.rtd\", ,\"ContractData\",B124, \"LastTrade\",, \"T\"),3)=\"768\",\"\",RTD(\"cqg.rtd\",,\"StudyData\",B124,  \"Bar\",,  \"ContractOI\", \"D\", \"-1\",,,,,\"T\"))","v":42},{"$f":"IF(LEFT(RTD(\"cqg.rtd\", ,\"ContractData\",B124, \"LastTrade\",, \"T\"),3)=\"768\",\"\",RTD(\"cqg.rtd\",,\"StudyData\",B124,  \"Bar\",,  \"ContractOI\", \"D\", \"-2\",,,,,\"T\"))","v":42},{"$f":"IF(LEFT(RTD(\"cqg.rtd\", ,\"ContractData\",B124, \"LastTrade\",, \"T\"),3)=\"768\",\"\",IFERROR(IF(L124>M124,\"+\"&L124-M124,L124-M124)*1,\"\"))","v":0}]
[{"$f":"'Call Data'!A125","v":10800},{"$f":"\"P\"&RIGHT('Call Data'!B125,LEN('Call Data'!B125)-1)","v":"P.US.CLEJ2610800"},{"$f":"IF(LEFT(RTD(\"cqg.rtd\", ,\"ContractData\",B125, \"LastTrade\",, \"T\"),3)=\"768\",\"\",RTD(\"cqg.rtd\", ,\"ContractData\",B125, \"LastTrade\",, \"T\"))","v":24.09},{"$f":"IF(C125=\"\",\"\",RTD(\"cqg.rtd\", ,\"ContractData\",B125, \"NetLastTrade\",, \"T\"))","v":1.0399999999999991},{"$f":"IF(LEFT(RTD(\"cqg.rtd\", ,\"ContractData\",B125, \"LastTrade\",, \"T\"),3)=\"768\",\"\",RTD(\"cqg.rtd\", ,\"ContractData\",B125, \"MT_LastBidVolume\",, \"T\"))","v":2},{"$f":"IF(LEFT(RTD(\"cqg.rtd\", ,\"ContractData\",B125, \"LastTrade\",, \"T\"),3)=\"768\",\"\",RTD(\"cqg.rtd\", ,\"ContractData\",B125, \"Bid\",, \"T\"))","v":19.059999999999999},{"$f":"IF(LEFT(RTD(\"cqg.rtd\", ,\"ContractData\",B125, \"LastTrade\",, \"T\"),3)=\"768\",\"\",RTD(\"cqg.rtd\", ,\"ContractData\",B125, \"Ask\",, \"T\"))","v":19.22},{"$f":"IF(LEFT(RTD(\"cqg.rtd\", ,\"ContractData\",B125, \"LastTrade\",, \"T\"),3)=\"768\",\"\",RTD(\"cqg.rtd\", ,\"ContractData\",B125, \"MT_LastAskVolume\",, \"T\"))","v":2},{"$f":"IF(LEFT(RTD(\"cqg.rtd\", ,\"ContractData\",B125, \"LastTrade\",, \"T\"),3)=\"768\",\"\",RTD(\"cqg.rtd\", ,\"ContractData\",B125, \"T_CVol\",, \"T\"))","v":0},{"$f":"IF(LEFT(RTD(\"cqg.rtd\", ,\"ContractData\",B125, \"LastTrade\",, \"T\"),3)=\"768\",\"\",RTD(\"cqg.rtd\", ,\"ContractData\",B125, \"Y_CVol\",, \"T\"))","v":2},{"$f":"IF(LEFT(RTD(\"cqg.rtd\", ,\"ContractData\",B125, \"LastTrade\",, \"T\"),3)=\"768\",\"\",IFERROR(IF(I125>J125,\"+\"&I125-J125,I125-J125)*1,\"\"))","v":-2},{"$f":"IF(LEFT(RTD(\"cqg.rtd\", ,\"ContractData\",B125, \"LastTrade\",, \"T\"),3)=\"768\",\"\",RTD(\"cqg.rtd\",,\"StudyData\",B125,  \"Bar\",,  \"ContractOI\", \"D\", \"-1\",,,,,\"T\"))","v":65},{"$f":"IF(LEFT(RTD(\"cqg.rtd\", ,\"ContractData\",B125, \"LastTrade\",, \"T\"),3)=\"768\",\"\",RTD(\"cqg.rtd\",,\"StudyData\",B125,  \"Bar\",,  \"ContractOI\", \"D\", \"-2\",,,,,\"T\"))","v":65},{"$f":"IF(LEFT(RTD(\"cqg.rtd\", ,\"ContractData\",B125, \"LastTrade\",, \"T\"),3)=\"768\",\"\",IFERROR(IF(L125>M125,\"+\"&L125-M125,L125-M125)*1,\"\"))","v":0}]
[{"$f":"'Call Data'!A126","v":10850},{"$f":"\"P\"&RIGHT('Call Data'!B126,LEN('Call Data'!B126)-1)","v":"P.US.CLEJ2610850"},{"$f":"IF(LEFT(RTD(\"cqg.rtd\", ,\"ContractData\",B126, \"LastTrade\",, \"T\"),3)=\"768\",\"\",RTD(\"cqg.rtd\", ,\"ContractData\",B126, \"LastTrade\",, \"T\"))","v":21.650000000000002},{"$f":"IF(C126=\"\",\"\",RTD(\"cqg.rtd\", ,\"ContractData\",B126, \"NetLastTrade\",, \"T\"))","v":-1.8399999999999999},{"$f":"IF(LEFT(RTD(\"cqg.rtd\", ,\"ContractData\",B126, \"LastTrade\",, \"T\"),3)=\"768\",\"\",RTD(\"cqg.rtd\", ,\"ContractData\",B126, \"MT_LastBidVolume\",, \"T\"))","v":2},{"$f":"IF(LEFT(RTD(\"cqg.rtd\", ,\"ContractData\",B126, \"LastTrade\",, \"T\"),3)=\"768\",\"\",RTD(\"cqg.rtd\", ,\"ContractData\",B126, \"Bid\",, \"T\"))","v":19.48},{"$f":"IF(LEFT(RTD(\"cqg.rtd\", ,\"ContractData\",B126, \"LastTrade\",, \"T\"),3)=\"768\",\"\",RTD(\"cqg.rtd\", ,\"ContractData\",B126, \"Ask\",, \"T\"))","v":19.64},{"$f":"IF(LEFT(RTD(\"cqg.rtd\", ,\"ContractData\",B126, \"LastTrade\",, \"T\"),3)=\"768\",\"\",RTD(\"cqg.rtd\", ,\"ContractData\",B126, \"MT_LastAskVolume\",, \"T\"))","v":2},{"$f":"IF(LEFT(RTD(\"cqg.rtd\", ,\"ContractData\",B126, \"LastTrade\",, \"T\"),3)=\"768\",\"\",RTD(\"cqg.rtd\", ,\"ContractData\",B126, \"T_CVol\",, \"T\"))","v":0},{"$f":"IF(LEFT(RTD(\"cqg.rtd\", ,\"ContractData\",B126, \"LastTrade\",, \"T\"),3)=\"768\",\"\",RTD(\"cqg.rtd\", ,\"ContractData\",B126, \"Y_CVol\",, \"T\"))","v":0},{"$f":"IF(LEFT(RTD(\"cqg.rtd\", ,\"ContractData\",B126, \"LastTrade\",, \"T\"),3)=\"768\",\"\",IFERROR(IF(I126>J126,\"+\"&I126-J126,I126-J126)*1,\"\"))","v":0},{"$f":"IF(LEFT(RTD(\"cqg.rtd\", ,\"ContractData\",B126, \"LastTrade\",, \"T\"),3)=\"768\",\"\",RTD(\"cqg.rtd\",,\"StudyData\",B126,  \"Bar\",,  \"ContractOI\", \"D\", \"-1\",,,,,\"T\"))","v":23},{"$f":"IF(LEFT(RTD(\"cqg.rtd\", ,\"ContractData\",B126, \"LastTrade\",, \"T\"),3)=\"768\",\"\",RTD(\"cqg.rtd\",,\"StudyData\",B126,  \"Bar\",,  \"ContractOI\", \"D\", \"-2\",,,,,\"T\"))","v":23},{"$f":"IF(LEFT(RTD(\"cqg.rtd\", ,\"ContractData\",B126, \"LastTrade\",, \"T\"),3)=\"768\",\"\",IFERROR(IF(L126>M126,\"+\"&L126-M126,L126-M126)*1,\"\"))","v":0}]
[{"$f":"'Call Data'!A127","v":10900},{"$f":"\"P\"&RIGHT('Call Data'!B127,LEN('Call Data'!B127)-1)","v":"P.US.CLEJ2610900"},{"$f":"IF(LEFT(RTD(\"cqg.rtd\", ,\"ContractData\",B127, \"LastTrade\",, \"T\"),3)=\"768\",\"\",RTD(\"cqg.rtd\", ,\"ContractData\",B127, \"LastTrade\",, \"T\"))","v":17.73},{"$f":"IF(C127=\"\",\"\",RTD(\"cqg.rtd\", ,\"ContractData\",B127, \"NetLastTrade\",, \"T\"))","v":-6.1999999999999993},{"$f":"IF(LEFT(RTD(\"cqg.rtd\", ,\"ContractData\",B127, \"LastTrade\",, \"T\"),3)=\"768\",\"\",RTD(\"cqg.rtd\", ,\"ContractData\",B127, \"MT_LastBidVolume\",, \"T\"))","v":5},{"$f":"IF(LEFT(RTD(\"cqg.rtd\", ,\"ContractData\",B127, \"LastTrade\",, \"T\"),3)=\"768\",\"\",RTD(\"cqg.rtd\", ,\"ContractData\",B127, \"Bid\",, \"T\"))","v":19.89},{"$f":"IF(LEFT(RTD(\"cqg.rtd\", ,\"ContractData\",B127, \"LastTrade\",, \"T\"),3)=\"768\",\"\",RTD(\"cqg.rtd\", ,\"ContractData\",B127, \"Ask\",, \"T\"))","v":20.059999999999999},{"$f":"IF(LEFT(RTD(\"cqg.rtd\", ,\"ContractData\",B127, \"LastTrade\",, \"T\"),3)=\"768\",\"\",RTD(\"cqg.rtd\", ,\"ContractData\",B127, \"MT_LastAskVolume\",, \"T\"))","v":2},{"$f":"IF(LEFT(RTD(\"cqg.rtd\", ,\"ContractData\",B127, \"LastTrade\",, \"T\"),3)=\"768\",\"\",RTD(\"cqg.rtd\", ,\"ContractData\",B127, \"T_CVol\",, \"T\"))","v":0},{"$f":"IF(LEFT(RTD(\"cqg.rtd\", ,\"ContractData\",B127, \"LastTrade\",, \"T\"),3)=\"768\",\"\",RTD(\"cqg.rtd\", ,\"ContractData\",B127, \"Y_CVol\",, \"T\"))","v":0},{"$f":"IF(LEFT(RTD(\"cqg.rtd\", ,\"ContractData\",B127, \"LastTrade\",, \"T\"),3)=\"768\",\"\",IFERROR(IF(I127>J127,\"+\"&I127-J127,I127-J127)*1,\"\"))","v":0},{"$f":"IF(LEFT(RTD(\"cqg.rtd\", ,\"ContractData\",B127, \"LastTrade\",, \"T\"),3)=\"768\",\"\",RTD(\"cqg.rtd\",,\"StudyData\",B127,  \"Bar\",,  \"ContractOI\", \"D\", \"-1\",,,,,\"T\"))","v":9},{"$f":"IF(LEFT(RTD(\"cqg.rtd\", ,\"ContractData\",B127, \"LastTrade\",, \"T\"),3)=\"768\",\"\",RTD(\"cqg.rtd\",,\"StudyData\",B127,  \"Bar\",,  \"ContractOI\", \"D\", \"-2\",,,,,\"T\"))","v":9},{"$f":"IF(LEFT(RTD(\"cqg.rtd\", ,\"ContractData\",B127, \"LastTrade\",, \"T\"),3)=\"768\",\"\",IFERROR(IF(L127>M127,\"+\"&L127-M127,L127-M127)*1,\"\"))","v":0}]
[{"$f":"'Call Data'!A128","v":10950},{"$f":"\"P\"&RIGHT('Call Data'!B128,LEN('Call Data'!B128)-1)","v":"P.US.CLEJ2610950"},{"$f":"IF(LEFT(RTD(\"cqg.rtd\", ,\"ContractData\",B128, \"LastTrade\",, \"T\"),3)=\"768\",\"\",RTD(\"cqg.rtd\", ,\"ContractData\",B128, \"LastTrade\",, \"T\"))","v":24.02},{"$f":"IF(C128=\"\",\"\",RTD(\"cqg.rtd\", ,\"ContractData\",B128, \"NetLastTrade\",, \"T\"))","v":-0.35000000000000142},{"$f":"IF(LEFT(RTD(\"cqg.rtd\", ,\"ContractData\",B128, \"LastTrade\",, \"T\"),3)=\"768\",\"\",RTD(\"cqg.rtd\", ,\"ContractData\",B128, \"MT_LastBidVolume\",, \"T\"))","v":1},{"$f":"IF(LEFT(RTD(\"cqg.rtd\", ,\"ContractData\",B128, \"LastTrade\",, \"T\"),3)=\"768\",\"\",RTD(\"cqg.rtd\", ,\"ContractData\",B128, \"Bid\",, \"T\"))","v":20.330000000000002},{"$f":"IF(LEFT(RTD(\"cqg.rtd\", ,\"ContractData\",B128, \"LastTrade\",, \"T\"),3)=\"768\",\"\",RTD(\"cqg.rtd\", ,\"ContractData\",B128, \"Ask\",, \"T\"))","v":20.48},{"$f":"IF(LEFT(RTD(\"cqg.rtd\", ,\"ContractData\",B128, \"LastTrade\",, \"T\"),3)=\"768\",\"\",RTD(\"cqg.rtd\", ,\"ContractData\",B128, \"MT_LastAskVolume\",, \"T\"))","v":1},{"$f":"IF(LEFT(RTD(\"cqg.rtd\", ,\"ContractData\",B128, \"LastTrade\",, \"T\"),3)=\"768\",\"\",RTD(\"cqg.rtd\", ,\"ContractData\",B128, \"T_CVol\",, \"T\"))","v":0},{"$f":"IF(LEFT(RTD(\"cqg.rtd\", ,\"ContractData\",B128, \"LastTrade\",, \"T\"),3)=\"768\",\"\",RTD(\"cqg.rtd\", ,\"ContractData\",B128, \"Y_CVol\",, \"T\"))","v":0},{"$f":"IF(LEFT(RTD(\"cqg.rtd\", ,\"ContractData\",B128, \"LastTrade\",, \"T\"),3)=\"768\",\"\",IFERROR(IF(I128>J128,\"+\"&I128-J128,I128-J128)*1,\"\"))","v":0},{"$f":"IF(LEFT(RTD(\"cqg.rtd\", ,\"ContractData\",B128, \"LastTrade\",, \"T\"),3)=\"768\",\"\",RTD(\"cqg.rtd\",,\"StudyData\",B128,  \"Bar\",,  \"ContractOI\", \"D\", \"-1\",,,,,\"T\"))","v":92},{"$f":"IF(LEFT(RTD(\"cqg.rtd\", ,\"ContractData\",B128, \"LastTrade\",, \"T\"),3)=\"768\",\"\",RTD(\"cqg.rtd\",,\"StudyData\",B128,  \"Bar\",,  \"ContractOI\", \"D\", \"-2\",,,,,\"T\"))","v":92},{"$f":"IF(LEFT(RTD(\"cqg.rtd\", ,\"ContractData\",B128, \"LastTrade\",, \"T\"),3)=\"768\",\"\",IFERROR(IF(L128>M128,\"+\"&L128-M128,L128-M128)*1,\"\"))","v":0}]
[{"$f":"'Call Data'!A129","v":11000},{"$f":"\"P\"&RIGHT('Call Data'!B129,LEN('Call Data'!B129)-1)","v":"P.US.CLEJ2611000"},{"$f":"IF(LEFT(RTD(\"cqg.rtd\", ,\"ContractData\",B129, \"LastTrade\",, \"T\"),3)=\"768\",\"\",RTD(\"cqg.rtd\", ,\"ContractData\",B129, \"LastTrade\",, \"T\"))","v":23.57},{"$f":"IF(C129=\"\",\"\",RTD(\"cqg.rtd\", ,\"ContractData\",B129, \"NetLastTrade\",, \"T\"))","v":-1.240000000000002},{"$f":"IF(LEFT(RTD(\"cqg.rtd\", ,\"ContractData\",B129, \"LastTrade\",, \"T\"),3)=\"768\",\"\",RTD(\"cqg.rtd\", ,\"ContractData\",B129, \"MT_LastBidVolume\",, \"T\"))","v":1},{"$f":"IF(LEFT(RTD(\"cqg.rtd\", ,\"ContractData\",B129, \"LastTrade\",, \"T\"),3)=\"768\",\"\",RTD(\"cqg.rtd\", ,\"ContractData\",B129, \"Bid\",, \"T\"))","v":20.75},{"$f":"IF(LEFT(RTD(\"cqg.rtd\", ,\"ContractData\",B129, \"LastTrade\",, \"T\"),3)=\"768\",\"\",RTD(\"cqg.rtd\", ,\"ContractData\",B129, \"Ask\",, \"T\"))","v":20.91},{"$f":"IF(LEFT(RTD(\"cqg.rtd\", ,\"ContractData\",B129, \"LastTrade\",, \"T\"),3)=\"768\",\"\",RTD(\"cqg.rtd\", ,\"ContractData\",B129, \"MT_LastAskVolume\",, \"T\"))","v":1},{"$f":"IF(LEFT(RTD(\"cqg.rtd\", ,\"ContractData\",B129, \"LastTrade\",, \"T\"),3)=\"768\",\"\",RTD(\"cqg.rtd\", ,\"ContractData\",B129, \"T_CVol\",, \"T\"))","v":0},{"$f":"IF(LEFT(RTD(\"cqg.rtd\", ,\"ContractData\",B129, \"LastTrade\",, \"T\"),3)=\"768\",\"\",RTD(\"cqg.rtd\", ,\"ContractData\",B129, \"Y_CVol\",, \"T\"))","v":0},{"$f":"IF(LEFT(RTD(\"cqg.rtd\", ,\"ContractData\",B129, \"LastTrade\",, \"T\"),3)=\"768\",\"\",IFERROR(IF(I129>J129,\"+\"&I129-J129,I129-J129)*1,\"\"))","v":0},{"$f":"IF(LEFT(RTD(\"cqg.rtd\", ,\"ContractData\",B129, \"LastTrade\",, \"T\"),3)=\"768\",\"\",RTD(\"cqg.rtd\",,\"StudyData\",B129,  \"Bar\",,  \"ContractOI\", \"D\", \"-1\",,,,,\"T\"))","v":235},{"$f":"IF(LEFT(RTD(\"cqg.rtd\", ,\"ContractData\",B129, \"LastTrade\",, \"T\"),3)=\"768\",\"\",RTD(\"cqg.rtd\",,\"StudyData\",B129,  \"Bar\",,  \"ContractOI\", \"D\", \"-2\",,,,,\"T\"))","v":235},{"$f":"IF(LEFT(RTD(\"cqg.rtd\", ,\"ContractData\",B129, \"LastTrade\",, \"T\"),3)=\"768\",\"\",IFERROR(IF(L129>M129,\"+\"&L129-M129,L129-M129)*1,\"\"))","v":0}]
[{"$f":"'Call Data'!A130","v":11050},{"$f":"\"P\"&RIGHT('Call Data'!B130,LEN('Call Data'!B130)-1)","v":"P.US.CLEJ2611050"},{"$f":"IF(LEFT(RTD(\"cqg.rtd\", ,\"ContractData\",B130, \"LastTrade\",, \"T\"),3)=\"768\",\"\",RTD(\"cqg.rtd\", ,\"ContractData\",B130, \"LastTrade\",, \"T\"))","v":24.5},{"$f":"IF(C130=\"\",\"\",RTD(\"cqg.rtd\", ,\"ContractData\",B130, \"NetLastTrade\",, \"T\"))","v":-0.76000000000000156},{"$f":"IF(LEFT(RTD(\"cqg.rtd\", ,\"ContractData\",B130, \"LastTrade\",, \"T\"),3)=\"768\",\"\",RTD(\"cqg.rtd\", ,\"ContractData\",B130, \"MT_LastBidVolume\",, \"T\"))","v":1},{"$f":"IF(LEFT(RTD(\"cqg.rtd\", ,\"ContractData\",B130, \"LastTrade\",, \"T\"),3)=\"768\",\"\",RTD(\"cqg.rtd\", ,\"ContractData\",B130, \"Bid\",, \"T\"))","v":21.18},{"$f":"IF(LEFT(RTD(\"cqg.rtd\", ,\"ContractData\",B130, \"LastTrade\",, \"T\"),3)=\"768\",\"\",RTD(\"cqg.rtd\", ,\"ContractData\",B130, \"Ask\",, \"T\"))","v":21.34},{"$f":"IF(LEFT(RTD(\"cqg.rtd\", ,\"ContractData\",B130, \"LastTrade\",, \"T\"),3)=\"768\",\"\",RTD(\"cqg.rtd\", ,\"ContractData\",B130, \"MT_LastAskVolume\",, \"T\"))","v":1},{"$f":"IF(LEFT(RTD(\"cqg.rtd\", ,\"ContractData\",B130, \"LastTrade\",, \"T\"),3)=\"768\",\"\",RTD(\"cqg.rtd\", ,\"ContractData\",B130, \"T_CVol\",, \"T\"))","v":0},{"$f":"IF(LEFT(RTD(\"cqg.rtd\", ,\"ContractData\",B130, \"LastTrade\",, \"T\"),3)=\"768\",\"\",RTD(\"cqg.rtd\", ,\"ContractData\",B130, \"Y_CVol\",, \"T\"))","v":0},{"$f":"IF(LEFT(RTD(\"cqg.rtd\", ,\"ContractData\",B130, \"LastTrade\",, \"T\"),3)=\"768\",\"\",IFERROR(IF(I130>J130,\"+\"&I130-J130,I130-J130)*1,\"\"))","v":0},{"$f":"IF(LEFT(RTD(\"cqg.rtd\", ,\"ContractData\",B130, \"LastTrade\",, \"T\"),3)=\"768\",\"\",RTD(\"cqg.rtd\",,\"StudyData\",B130,  \"Bar\",,  \"ContractOI\", \"D\", \"-1\",,,,,\"T\"))","v":22},{"$f":"IF(LEFT(RTD(\"cqg.rtd\", ,\"ContractData\",B130, \"LastTrade\",, \"T\"),3)=\"768\",\"\",RTD(\"cqg.rtd\",,\"StudyData\",B130,  \"Bar\",,  \"ContractOI\", \"D\", \"-2\",,,,,\"T\"))","v":22},{"$f":"IF(LEFT(RTD(\"cqg.rtd\", ,\"ContractData\",B130, \"LastTrade\",, \"T\"),3)=\"768\",\"\",IFERROR(IF(L130>M130,\"+\"&L130-M130,L130-M130)*1,\"\"))","v":0}]
[{"$f":"'Call Data'!A131","v":11100},{"$f":"\"P\"&RIGHT('Call Data'!B131,LEN('Call Data'!B131)-1)","v":"P.US.CLEJ2611100"},{"$f":"IF(LEFT(RTD(\"cqg.rtd\", ,\"ContractData\",B131, \"LastTrade\",, \"T\"),3)=\"768\",\"\",RTD(\"cqg.rtd\", ,\"ContractData\",B131, \"LastTrade\",, \"T\"))","v":22.06},{"$f":"IF(C131=\"\",\"\",RTD(\"cqg.rtd\", ,\"ContractData\",B131, \"NetLastTrade\",, \"T\"))","v":-3.6400000000000006},{"$f":"IF(LEFT(RTD(\"cqg.rtd\", ,\"ContractData\",B131, \"LastTrade\",, \"T\"),3)=\"768\",\"\",RTD(\"cqg.rtd\", ,\"ContractData\",B131, \"MT_LastBidVolume\",, \"T\"))","v":1},{"$f":"IF(LEFT(RTD(\"cqg.rtd\", ,\"ContractData\",B131, \"LastTrade\",, \"T\"),3)=\"768\",\"\",RTD(\"cqg.rtd\", ,\"ContractData\",B131, \"Bid\",, \"T\"))","v":21.61},{"$f":"IF(LEFT(RTD(\"cqg.rtd\", ,\"ContractData\",B131, \"LastTrade\",, \"T\"),3)=\"768\",\"\",RTD(\"cqg.rtd\", ,\"ContractData\",B131, \"Ask\",, \"T\"))","v":21.76},{"$f":"IF(LEFT(RTD(\"cqg.rtd\", ,\"ContractData\",B131, \"LastTrade\",, \"T\"),3)=\"768\",\"\",RTD(\"cqg.rtd\", ,\"ContractData\",B131, \"MT_LastAskVolume\",, \"T\"))","v":1},{"$f":"IF(LEFT(RTD(\"cqg.rtd\", ,\"ContractData\",B131, \"LastTrade\",, \"T\"),3)=\"768\",\"\",RTD(\"cqg.rtd\", ,\"ContractData\",B131, \"T_CVol\",, \"T\"))","v":0},{"$f":"IF(LEFT(RTD(\"cqg.rtd\", ,\"ContractData\",B131, \"LastTrade\",, \"T\"),3)=\"768\",\"\",RTD(\"cqg.rtd\", ,\"ContractData\",B131, \"Y_CVol\",, \"T\"))","v":0},{"$f":"IF(LEFT(RTD(\"cqg.rtd\", ,\"ContractData\",B131, \"LastTrade\",, \"T\"),3)=\"768\",\"\",IFERROR(IF(I131>J131,\"+\"&I131-J131,I131-J131)*1,\"\"))","v":0},{"$f":"IF(LEFT(RTD(\"cqg.rtd\", ,\"ContractData\",B131, \"LastTrade\",, \"T\"),3)=\"768\",\"\",RTD(\"cqg.rtd\",,\"StudyData\",B131,  \"Bar\",,  \"ContractOI\", \"D\", \"-1\",,,,,\"T\"))","v":46},{"$f":"IF(LEFT(RTD(\"cqg.rtd\", ,\"ContractData\",B131, \"LastTrade\",, \"T\"),3)=\"768\",\"\",RTD(\"cqg.rtd\",,\"StudyData\",B131,  \"Bar\",,  \"ContractOI\", \"D\", \"-2\",,,,,\"T\"))","v":46},{"$f":"IF(LEFT(RTD(\"cqg.rtd\", ,\"ContractData\",B131, \"LastTrade\",, \"T\"),3)=\"768\",\"\",IFERROR(IF(L131>M131,\"+\"&L131-M131,L131-M131)*1,\"\"))","v":0}]
[{"$f":"'Call Data'!A132","v":11150},{"$f":"\"P\"&RIGHT('Call Data'!B132,LEN('Call Data'!B132)-1)","v":"P.US.CLEJ2611150"},{"$f":"IF(LEFT(RTD(\"cqg.rtd\", ,\"ContractData\",B132, \"LastTrade\",, \"T\"),3)=\"768\",\"\",RTD(\"cqg.rtd\", ,\"ContractData\",B132, \"LastTrade\",, \"T\"))","v":22.48},{"$f":"IF(C132=\"\",\"\",RTD(\"cqg.rtd\", ,\"ContractData\",B132, \"NetLastTrade\",, \"T\"))","v":-3.6700000000000017},{"$f":"IF(LEFT(RTD(\"cqg.rtd\", ,\"ContractData\",B132, \"LastTrade\",, \"T\"),3)=\"768\",\"\",RTD(\"cqg.rtd\", ,\"ContractData\",B132, \"MT_LastBidVolume\",, \"T\"))","v":1},{"$f":"IF(LEFT(RTD(\"cqg.rtd\", ,\"ContractData\",B132, \"LastTrade\",, \"T\"),3)=\"768\",\"\",RTD(\"cqg.rtd\", ,\"ContractData\",B132, \"Bid\",, \"T\"))","v":22.04},{"$f":"IF(LEFT(RTD(\"cqg.rtd\", ,\"ContractData\",B132, \"LastTrade\",, \"T\"),3)=\"768\",\"\",RTD(\"cqg.rtd\", ,\"ContractData\",B132, \"Ask\",, \"T\"))","v":22.2},{"$f":"IF(LEFT(RTD(\"cqg.rtd\", ,\"ContractData\",B132, \"LastTrade\",, \"T\"),3)=\"768\",\"\",RTD(\"cqg.rtd\", ,\"ContractData\",B132, \"MT_LastAskVolume\",, \"T\"))","v":1},{"$f":"IF(LEFT(RTD(\"cqg.rtd\", ,\"ContractData\",B132, \"LastTrade\",, \"T\"),3)=\"768\",\"\",RTD(\"cqg.rtd\", ,\"ContractData\",B132, \"T_CVol\",, \"T\"))","v":0},{"$f":"IF(LEFT(RTD(\"cqg.rtd\", ,\"ContractData\",B132, \"LastTrade\",, \"T\"),3)=\"768\",\"\",RTD(\"cqg.rtd\", ,\"ContractData\",B132, \"Y_CVol\",, \"T\"))","v":0},{"$f":"IF(LEFT(RTD(\"cqg.rtd\", ,\"ContractData\",B132, \"LastTrade\",, \"T\"),3)=\"768\",\"\",IFERROR(IF(I132>J132,\"+\"&I132-J132,I132-J132)*1,\"\"))","v":0},{"$f":"IF(LEFT(RTD(\"cqg.rtd\", ,\"ContractData\",B132, \"LastTrade\",, \"T\"),3)=\"768\",\"\",RTD(\"cqg.rtd\",,\"StudyData\",B132,  \"Bar\",,  \"ContractOI\", \"D\", \"-1\",,,,,\"T\"))","v":28},{"$f":"IF(LEFT(RTD(\"cqg.rtd\", ,\"ContractData\",B132, \"LastTrade\",, \"T\"),3)=\"768\",\"\",RTD(\"cqg.rtd\",,\"StudyData\",B132,  \"Bar\",,  \"ContractOI\", \"D\", \"-2\",,,,,\"T\"))","v":28},{"$f":"IF(LEFT(RTD(\"cqg.rtd\", ,\"ContractData\",B132, \"LastTrade\",, \"T\"),3)=\"768\",\"\",IFERROR(IF(L132>M132,\"+\"&L132-M132,L132-M132)*1,\"\"))","v":0}]
[{"$f":"'Call Data'!A133","v":11200},{"$f":"\"P\"&RIGHT('Call Data'!B133,LEN('Call Data'!B133)-1)","v":"P.US.CLEJ2611200"},{"$f":"IF(LEFT(RTD(\"cqg.rtd\", ,\"ContractData\",B133, \"LastTrade\",, \"T\"),3)=\"768\",\"\",RTD(\"cqg.rtd\", ,\"ContractData\",B133, \"LastTrade\",, \"T\"))","v":27.5},{"$f":"IF(C133=\"\",\"\",RTD(\"cqg.rtd\", ,\"ContractData\",B133, \"NetLastTrade\",, \"T\"))","v":0.89999999999999858},{"$f":"IF(LEFT(RTD(\"cqg.rtd\", ,\"ContractData\",B133, \"LastTrade\",, \"T\"),3)=\"768\",\"\",RTD(\"cqg.rtd\", ,\"ContractData\",B133, \"MT_LastBidVolume\",, \"T\"))","v":1},{"$f":"IF(LEFT(RTD(\"cqg.rtd\", ,\"ContractData\",B133, \"LastTrade\",, \"T\"),3)=\"768\",\"\",RTD(\"cqg.rtd\", ,\"ContractData\",B133, \"Bid\",, \"T\"))","v":22.47},{"$f":"IF(LEFT(RTD(\"cqg.rtd\", ,\"ContractData\",B133, \"LastTrade\",, \"T\"),3)=\"768\",\"\",RTD(\"cqg.rtd\", ,\"ContractData\",B133, \"Ask\",, \"T\"))","v":22.64},{"$f":"IF(LEFT(RTD(\"cqg.rtd\", ,\"ContractData\",B133, \"LastTrade\",, \"T\"),3)=\"768\",\"\",RTD(\"cqg.rtd\", ,\"ContractData\",B133, \"MT_LastAskVolume\",, \"T\"))","v":2},{"$f":"IF(LEFT(RTD(\"cqg.rtd\", ,\"ContractData\",B133, \"LastTrade\",, \"T\"),3)=\"768\",\"\",RTD(\"cqg.rtd\", ,\"ContractData\",B133, \"T_CVol\",, \"T\"))","v":0},{"$f":"IF(LEFT(RTD(\"cqg.rtd\", ,\"ContractData\",B133, \"LastTrade\",, \"T\"),3)=\"768\",\"\",RTD(\"cqg.rtd\", ,\"ContractData\",B133, \"Y_CVol\",, \"T\"))","v":1},{"$f":"IF(LEFT(RTD(\"cqg.rtd\", ,\"ContractData\",B133, \"LastTrade\",, \"T\"),3)=\"768\",\"\",IFERROR(IF(I133>J133,\"+\"&I133-J133,I133-J133)*1,\"\"))","v":-1},{"$f":"IF(LEFT(RTD(\"cqg.rtd\", ,\"ContractData\",B133, \"LastTrade\",, \"T\"),3)=\"768\",\"\",RTD(\"cqg.rtd\",,\"StudyData\",B133,  \"Bar\",,  \"ContractOI\", \"D\", \"-1\",,,,,\"T\"))","v":20},{"$f":"IF(LEFT(RTD(\"cqg.rtd\", ,\"ContractData\",B133, \"LastTrade\",, \"T\"),3)=\"768\",\"\",RTD(\"cqg.rtd\",,\"StudyData\",B133,  \"Bar\",,  \"ContractOI\", \"D\", \"-2\",,,,,\"T\"))","v":21},{"$f":"IF(LEFT(RTD(\"cqg.rtd\", ,\"ContractData\",B133, \"LastTrade\",, \"T\"),3)=\"768\",\"\",IFERROR(IF(L133>M133,\"+\"&L133-M133,L133-M133)*1,\"\"))","v":-1}]
[{"$f":"'Call Data'!A134","v":11250},{"$f":"\"P\"&RIGHT('Call Data'!B134,LEN('Call Data'!B134)-1)","v":"P.US.CLEJ2611250"},{"$f":"IF(LEFT(RTD(\"cqg.rtd\", ,\"ContractData\",B134, \"LastTrade\",, \"T\"),3)=\"768\",\"\",RTD(\"cqg.rtd\", ,\"ContractData\",B134, \"LastTrade\",, \"T\"))","v":26.27},{"$f":"IF(C134=\"\",\"\",RTD(\"cqg.rtd\", ,\"ContractData\",B134, \"NetLastTrade\",, \"T\"))","v":-0.78000000000000114},{"$f":"IF(LEFT(RTD(\"cqg.rtd\", ,\"ContractData\",B134, \"LastTrade\",, \"T\"),3)=\"768\",\"\",RTD(\"cqg.rtd\", ,\"ContractData\",B134, \"MT_LastBidVolume\",, \"T\"))","v":1},{"$f":"IF(LEFT(RTD(\"cqg.rtd\", ,\"ContractData\",B134, \"LastTrade\",, \"T\"),3)=\"768\",\"\",RTD(\"cqg.rtd\", ,\"ContractData\",B134, \"Bid\",, \"T\"))","v":22.91},{"$f":"IF(LEFT(RTD(\"cqg.rtd\", ,\"ContractData\",B134, \"LastTrade\",, \"T\"),3)=\"768\",\"\",RTD(\"cqg.rtd\", ,\"ContractData\",B134, \"Ask\",, \"T\"))","v":23.07},{"$f":"IF(LEFT(RTD(\"cqg.rtd\", ,\"ContractData\",B134, \"LastTrade\",, \"T\"),3)=\"768\",\"\",RTD(\"cqg.rtd\", ,\"ContractData\",B134, \"MT_LastAskVolume\",, \"T\"))","v":1},{"$f":"IF(LEFT(RTD(\"cqg.rtd\", ,\"ContractData\",B134, \"LastTrade\",, \"T\"),3)=\"768\",\"\",RTD(\"cqg.rtd\", ,\"ContractData\",B134, \"T_CVol\",, \"T\"))","v":0},{"$f":"IF(LEFT(RTD(\"cqg.rtd\", ,\"ContractData\",B134, \"LastTrade\",, \"T\"),3)=\"768\",\"\",RTD(\"cqg.rtd\", ,\"ContractData\",B134, \"Y_CVol\",, \"T\"))","v":0},{"$f":"IF(LEFT(RTD(\"cqg.rtd\", ,\"ContractData\",B134, \"LastTrade\",, \"T\"),3)=\"768\",\"\",IFERROR(IF(I134>J134,\"+\"&I134-J134,I134-J134)*1,\"\"))","v":0},{"$f":"IF(LEFT(RTD(\"cqg.rtd\", ,\"ContractData\",B134, \"LastTrade\",, \"T\"),3)=\"768\",\"\",RTD(\"cqg.rtd\",,\"StudyData\",B134,  \"Bar\",,  \"ContractOI\", \"D\", \"-1\",,,,,\"T\"))","v":13},{"$f":"IF(LEFT(RTD(\"cqg.rtd\", ,\"ContractData\",B134, \"LastTrade\",, \"T\"),3)=\"768\",\"\",RTD(\"cqg.rtd\",,\"StudyData\",B134,  \"Bar\",,  \"ContractOI\", \"D\", \"-2\",,,,,\"T\"))","v":13},{"$f":"IF(LEFT(RTD(\"cqg.rtd\", ,\"ContractData\",B134, \"LastTrade\",, \"T\"),3)=\"768\",\"\",IFERROR(IF(L134>M134,\"+\"&L134-M134,L134-M134)*1,\"\"))","v":0}]
[{"$f":"'Call Data'!A135","v":11300},{"$f":"\"P\"&RIGHT('Call Data'!B135,LEN('Call Data'!B135)-1)","v":"P.US.CLEJ2611300"},{"$f":"IF(LEFT(RTD(\"cqg.rtd\", ,\"ContractData\",B135, \"LastTrade\",, \"T\"),3)=\"768\",\"\",RTD(\"cqg.rtd\", ,\"ContractData\",B135, \"LastTrade\",, \"T\"))","v":28.47},{"$f":"IF(C135=\"\",\"\",RTD(\"cqg.rtd\", ,\"ContractData\",B135, \"NetLastTrade\",, \"T\"))","v":0.9599999999999973},{"$f":"IF(LEFT(RTD(\"cqg.rtd\", ,\"ContractData\",B135, \"LastTrade\",, \"T\"),3)=\"768\",\"\",RTD(\"cqg.rtd\", ,\"ContractData\",B135, \"MT_LastBidVolume\",, \"T\"))","v":1},{"$f":"IF(LEFT(RTD(\"cqg.rtd\", ,\"ContractData\",B135, \"LastTrade\",, \"T\"),3)=\"768\",\"\",RTD(\"cqg.rtd\", ,\"ContractData\",B135, \"Bid\",, \"T\"))","v":23.35},{"$f":"IF(LEFT(RTD(\"cqg.rtd\", ,\"ContractData\",B135, \"LastTrade\",, \"T\"),3)=\"768\",\"\",RTD(\"cqg.rtd\", ,\"ContractData\",B135, \"Ask\",, \"T\"))","v":23.5},{"$f":"IF(LEFT(RTD(\"cqg.rtd\", ,\"ContractData\",B135, \"LastTrade\",, \"T\"),3)=\"768\",\"\",RTD(\"cqg.rtd\", ,\"ContractData\",B135, \"MT_LastAskVolume\",, \"T\"))","v":1},{"$f":"IF(LEFT(RTD(\"cqg.rtd\", ,\"ContractData\",B135, \"LastTrade\",, \"T\"),3)=\"768\",\"\",RTD(\"cqg.rtd\", ,\"ContractData\",B135, \"T_CVol\",, \"T\"))","v":0},{"$f":"IF(LEFT(RTD(\"cqg.rtd\", ,\"ContractData\",B135, \"LastTrade\",, \"T\"),3)=\"768\",\"\",RTD(\"cqg.rtd\", ,\"ContractData\",B135, \"Y_CVol\",, \"T\"))","v":0},{"$f":"IF(LEFT(RTD(\"cqg.rtd\", ,\"ContractData\",B135, \"LastTrade\",, \"T\"),3)=\"768\",\"\",IFERROR(IF(I135>J135,\"+\"&I135-J135,I135-J135)*1,\"\"))","v":0},{"$f":"IF(LEFT(RTD(\"cqg.rtd\", ,\"ContractData\",B135, \"LastTrade\",, \"T\"),3)=\"768\",\"\",RTD(\"cqg.rtd\",,\"StudyData\",B135,  \"Bar\",,  \"ContractOI\", \"D\", \"-1\",,,,,\"T\"))","v":20},{"$f":"IF(LEFT(RTD(\"cqg.rtd\", ,\"ContractData\",B135, \"LastTrade\",, \"T\"),3)=\"768\",\"\",RTD(\"cqg.rtd\",,\"StudyData\",B135,  \"Bar\",,  \"ContractOI\", \"D\", \"-2\",,,,,\"T\"))","v":20},{"$f":"IF(LEFT(RTD(\"cqg.rtd\", ,\"ContractData\",B135, \"LastTrade\",, \"T\"),3)=\"768\",\"\",IFERROR(IF(L135>M135,\"+\"&L135-M135,L135-M135)*1,\"\"))","v":0}]
[{"$f":"'Call Data'!A136","v":11350},{"$f":"\"P\"&RIGHT('Call Data'!B136,LEN('Call Data'!B136)-1)","v":"P.US.CLEJ2611350"},{"$f":"IF(LEFT(RTD(\"cqg.rtd\", ,\"ContractData\",B136, \"LastTrade\",, \"T\"),3)=\"768\",\"\",RTD(\"cqg.rtd\", ,\"ContractData\",B136, \"LastTrade\",, \"T\"))","v":19.16},{"$f":"IF(C136=\"\",\"\",RTD(\"cqg.rtd\", ,\"ContractData\",B136, \"NetLastTrade\",, \"T\"))","v":-8.8000000000000007},{"$f":"IF(LEFT(RTD(\"cqg.rtd\", ,\"ContractData\",B136, \"LastTrade\",, \"T\"),3)=\"768\",\"\",RTD(\"cqg.rtd\", ,\"ContractData\",B136, \"MT_LastBidVolume\",, \"T\"))","v":1},{"$f":"IF(LEFT(RTD(\"cqg.rtd\", ,\"ContractData\",B136, \"LastTrade\",, \"T\"),3)=\"768\",\"\",RTD(\"cqg.rtd\", ,\"ContractData\",B136, \"Bid\",, \"T\"))","v":23.79},{"$f":"IF(LEFT(RTD(\"cqg.rtd\", ,\"ContractData\",B136, \"LastTrade\",, \"T\"),3)=\"768\",\"\",RTD(\"cqg.rtd\", ,\"ContractData\",B136, \"Ask\",, \"T\"))","v":23.94},{"$f":"IF(LEFT(RTD(\"cqg.rtd\", ,\"ContractData\",B136, \"LastTrade\",, \"T\"),3)=\"768\",\"\",RTD(\"cqg.rtd\", ,\"ContractData\",B136, \"MT_LastAskVolume\",, \"T\"))","v":1},{"$f":"IF(LEFT(RTD(\"cqg.rtd\", ,\"ContractData\",B136, \"LastTrade\",, \"T\"),3)=\"768\",\"\",RTD(\"cqg.rtd\", ,\"ContractData\",B136, \"T_CVol\",, \"T\"))","v":0},{"$f":"IF(LEFT(RTD(\"cqg.rtd\", ,\"ContractData\",B136, \"LastTrade\",, \"T\"),3)=\"768\",\"\",RTD(\"cqg.rtd\", ,\"ContractData\",B136, \"Y_CVol\",, \"T\"))","v":0},{"$f":"IF(LEFT(RTD(\"cqg.rtd\", ,\"ContractData\",B136, \"LastTrade\",, \"T\"),3)=\"768\",\"\",IFERROR(IF(I136>J136,\"+\"&I136-J136,I136-J136)*1,\"\"))","v":0},{"$f":"IF(LEFT(RTD(\"cqg.rtd\", ,\"ContractData\",B136, \"LastTrade\",, \"T\"),3)=\"768\",\"\",RTD(\"cqg.rtd\",,\"StudyData\",B136,  \"Bar\",,  \"ContractOI\", \"D\", \"-1\",,,,,\"T\"))","v":47},{"$f":"IF(LEFT(RTD(\"cqg.rtd\", ,\"ContractData\",B136, \"LastTrade\",, \"T\"),3)=\"768\",\"\",RTD(\"cqg.rtd\",,\"StudyData\",B136,  \"Bar\",,  \"ContractOI\", \"D\", \"-2\",,,,,\"T\"))","v":47},{"$f":"IF(LEFT(RTD(\"cqg.rtd\", ,\"ContractData\",B136, \"LastTrade\",, \"T\"),3)=\"768\",\"\",IFERROR(IF(L136>M136,\"+\"&L136-M136,L136-M136)*1,\"\"))","v":0}]
[{"$f":"'Call Data'!A137","v":11400},{"$f":"\"P\"&RIGHT('Call Data'!B137,LEN('Call Data'!B137)-1)","v":"P.US.CLEJ2611400"},{"$f":"IF(LEFT(RTD(\"cqg.rtd\", ,\"ContractData\",B137, \"LastTrade\",, \"T\"),3)=\"768\",\"\",RTD(\"cqg.rtd\", ,\"ContractData\",B137, \"LastTrade\",, \"T\"))","v":31.2},{"$f":"IF(C137=\"\",\"\",RTD(\"cqg.rtd\", ,\"ContractData\",B137, \"NetLastTrade\",, \"T\"))","v":2.7799999999999976},{"$f":"IF(LEFT(RTD(\"cqg.rtd\", ,\"ContractData\",B137, \"LastTrade\",, \"T\"),3)=\"768\",\"\",RTD(\"cqg.rtd\", ,\"ContractData\",B137, \"MT_LastBidVolume\",, \"T\"))","v":1},{"$f":"IF(LEFT(RTD(\"cqg.rtd\", ,\"ContractData\",B137, \"LastTrade\",, \"T\"),3)=\"768\",\"\",RTD(\"cqg.rtd\", ,\"ContractData\",B137, \"Bid\",, \"T\"))","v":24.23},{"$f":"IF(LEFT(RTD(\"cqg.rtd\", ,\"ContractData\",B137, \"LastTrade\",, \"T\"),3)=\"768\",\"\",RTD(\"cqg.rtd\", ,\"ContractData\",B137, \"Ask\",, \"T\"))","v":24.39},{"$f":"IF(LEFT(RTD(\"cqg.rtd\", ,\"ContractData\",B137, \"LastTrade\",, \"T\"),3)=\"768\",\"\",RTD(\"cqg.rtd\", ,\"ContractData\",B137, \"MT_LastAskVolume\",, \"T\"))","v":1},{"$f":"IF(LEFT(RTD(\"cqg.rtd\", ,\"ContractData\",B137, \"LastTrade\",, \"T\"),3)=\"768\",\"\",RTD(\"cqg.rtd\", ,\"ContractData\",B137, \"T_CVol\",, \"T\"))","v":0},{"$f":"IF(LEFT(RTD(\"cqg.rtd\", ,\"ContractData\",B137, \"LastTrade\",, \"T\"),3)=\"768\",\"\",RTD(\"cqg.rtd\", ,\"ContractData\",B137, \"Y_CVol\",, \"T\"))","v":0},{"$f":"IF(LEFT(RTD(\"cqg.rtd\", ,\"ContractData\",B137, \"LastTrade\",, \"T\"),3)=\"768\",\"\",IFERROR(IF(I137>J137,\"+\"&I137-J137,I137-J137)*1,\"\"))","v":0},{"$f":"IF(LEFT(RTD(\"cqg.rtd\", ,\"ContractData\",B137, \"LastTrade\",, \"T\"),3)=\"768\",\"\",RTD(\"cqg.rtd\",,\"StudyData\",B137,  \"Bar\",,  \"ContractOI\", \"D\", \"-1\",,,,,\"T\"))","v":138},{"$f":"IF(LEFT(RTD(\"cqg.rtd\", ,\"ContractData\",B137, \"LastTrade\",, \"T\"),3)=\"768\",\"\",RTD(\"cqg.rtd\",,\"StudyData\",B137,  \"Bar\",,  \"ContractOI\", \"D\", \"-2\",,,,,\"T\"))","v":138},{"$f":"IF(LEFT(RTD(\"cqg.rtd\", ,\"ContractData\",B137, \"LastTrade\",, \"T\"),3)=\"768\",\"\",IFERROR(IF(L137>M137,\"+\"&L137-M137,L137-M137)*1,\"\"))","v":0}]
[{"$f":"'Call Data'!A138","v":11450},{"$f":"\"P\"&RIGHT('Call Data'!B138,LEN('Call Data'!B138)-1)","v":"P.US.CLEJ2611450"},{"$f":"IF(LEFT(RTD(\"cqg.rtd\", ,\"ContractData\",B138, \"LastTrade\",, \"T\"),3)=\"768\",\"\",RTD(\"cqg.rtd\", ,\"ContractData\",B138, \"LastTrade\",, \"T\"))","v":27.51},{"$f":"IF(C138=\"\",\"\",RTD(\"cqg.rtd\", ,\"ContractData\",B138, \"NetLastTrade\",, \"T\"))","v":-1.3599999999999994},{"$f":"IF(LEFT(RTD(\"cqg.rtd\", ,\"ContractData\",B138, \"LastTrade\",, \"T\"),3)=\"768\",\"\",RTD(\"cqg.rtd\", ,\"ContractData\",B138, \"MT_LastBidVolume\",, \"T\"))","v":1},{"$f":"IF(LEFT(RTD(\"cqg.rtd\", ,\"ContractData\",B138, \"LastTrade\",, \"T\"),3)=\"768\",\"\",RTD(\"cqg.rtd\", ,\"ContractData\",B138, \"Bid\",, \"T\"))","v":24.67},{"$f":"IF(LEFT(RTD(\"cqg.rtd\", ,\"ContractData\",B138, \"LastTrade\",, \"T\"),3)=\"768\",\"\",RTD(\"cqg.rtd\", ,\"ContractData\",B138, \"Ask\",, \"T\"))","v":24.830000000000002},{"$f":"IF(LEFT(RTD(\"cqg.rtd\", ,\"ContractData\",B138, \"LastTrade\",, \"T\"),3)=\"768\",\"\",RTD(\"cqg.rtd\", ,\"ContractData\",B138, \"MT_LastAskVolume\",, \"T\"))","v":1},{"$f":"IF(LEFT(RTD(\"cqg.rtd\", ,\"ContractData\",B138, \"LastTrade\",, \"T\"),3)=\"768\",\"\",RTD(\"cqg.rtd\", ,\"ContractData\",B138, \"T_CVol\",, \"T\"))","v":0},{"$f":"IF(LEFT(RTD(\"cqg.rtd\", ,\"ContractData\",B138, \"LastTrade\",, \"T\"),3)=\"768\",\"\",RTD(\"cqg.rtd\", ,\"ContractData\",B138, \"Y_CVol\",, \"T\"))","v":0},{"$f":"IF(LEFT(RTD(\"cqg.rtd\", ,\"ContractData\",B138, \"LastTrade\",, \"T\"),3)=\"768\",\"\",IFERROR(IF(I138>J138,\"+\"&I138-J138,I138-J138)*1,\"\"))","v":0},{"$f":"IF(LEFT(RTD(\"cqg.rtd\", ,\"ContractData\",B138, \"LastTrade\",, \"T\"),3)=\"768\",\"\",RTD(\"cqg.rtd\",,\"StudyData\",B138,  \"Bar\",,  \"ContractOI\", \"D\", \"-1\",,,,,\"T\"))","v":6},{"$f":"IF(LEFT(RTD(\"cqg.rtd\", ,\"ContractData\",B138, \"LastTrade\",, \"T\"),3)=\"768\",\"\",RTD(\"cqg.rtd\",,\"StudyData\",B138,  \"Bar\",,  \"ContractOI\", \"D\", \"-2\",,,,,\"T\"))","v":6},{"$f":"IF(LEFT(RTD(\"cqg.rtd\", ,\"ContractData\",B138, \"LastTrade\",, \"T\"),3)=\"768\",\"\",IFERROR(IF(L138>M138,\"+\"&L138-M138,L138-M138)*1,\"\"))","v":0}]
[{"$f":"'Call Data'!A139","v":11500},{"$f":"\"P\"&RIGHT('Call Data'!B139,LEN('Call Data'!B139)-1)","v":"P.US.CLEJ2611500"},{"$f":"IF(LEFT(RTD(\"cqg.rtd\", ,\"ContractData\",B139, \"LastTrade\",, \"T\"),3)=\"768\",\"\",RTD(\"cqg.rtd\", ,\"ContractData\",B139, \"LastTrade\",, \"T\"))","v":28.57},{"$f":"IF(C139=\"\",\"\",RTD(\"cqg.rtd\", ,\"ContractData\",B139, \"NetLastTrade\",, \"T\"))","v":-0.76000000000000156},{"$f":"IF(LEFT(RTD(\"cqg.rtd\", ,\"ContractData\",B139, \"LastTrade\",, \"T\"),3)=\"768\",\"\",RTD(\"cqg.rtd\", ,\"ContractData\",B139, \"MT_LastBidVolume\",, \"T\"))","v":1},{"$f":"IF(LEFT(RTD(\"cqg.rtd\", ,\"ContractData\",B139, \"LastTrade\",, \"T\"),3)=\"768\",\"\",RTD(\"cqg.rtd\", ,\"ContractData\",B139, \"Bid\",, \"T\"))","v":25.1},{"$f":"IF(LEFT(RTD(\"cqg.rtd\", ,\"ContractData\",B139, \"LastTrade\",, \"T\"),3)=\"768\",\"\",RTD(\"cqg.rtd\", ,\"ContractData\",B139, \"Ask\",, \"T\"))","v":25.29},{"$f":"IF(LEFT(RTD(\"cqg.rtd\", ,\"ContractData\",B139, \"LastTrade\",, \"T\"),3)=\"768\",\"\",RTD(\"cqg.rtd\", ,\"ContractData\",B139, \"MT_LastAskVolume\",, \"T\"))","v":1},{"$f":"IF(LEFT(RTD(\"cqg.rtd\", ,\"ContractData\",B139, \"LastTrade\",, \"T\"),3)=\"768\",\"\",RTD(\"cqg.rtd\", ,\"ContractData\",B139, \"T_CVol\",, \"T\"))","v":0},{"$f":"IF(LEFT(RTD(\"cqg.rtd\", ,\"ContractData\",B139, \"LastTrade\",, \"T\"),3)=\"768\",\"\",RTD(\"cqg.rtd\", ,\"ContractData\",B139, \"Y_CVol\",, \"T\"))","v":0},{"$f":"IF(LEFT(RTD(\"cqg.rtd\", ,\"ContractData\",B139, \"LastTrade\",, \"T\"),3)=\"768\",\"\",IFERROR(IF(I139>J139,\"+\"&I139-J139,I139-J139)*1,\"\"))","v":0},{"$f":"IF(LEFT(RTD(\"cqg.rtd\", ,\"ContractData\",B139, \"LastTrade\",, \"T\"),3)=\"768\",\"\",RTD(\"cqg.rtd\",,\"StudyData\",B139,  \"Bar\",,  \"ContractOI\", \"D\", \"-1\",,,,,\"T\"))","v":242},{"$f":"IF(LEFT(RTD(\"cqg.rtd\", ,\"ContractData\",B139, \"LastTrade\",, \"T\"),3)=\"768\",\"\",RTD(\"cqg.rtd\",,\"StudyData\",B139,  \"Bar\",,  \"ContractOI\", \"D\", \"-2\",,,,,\"T\"))","v":242},{"$f":"IF(LEFT(RTD(\"cqg.rtd\", ,\"ContractData\",B139, \"LastTrade\",, \"T\"),3)=\"768\",\"\",IFERROR(IF(L139>M139,\"+\"&L139-M139,L139-M139)*1,\"\"))","v":0}]
[{"$f":"'Call Data'!A140","v":11550},{"$f":"\"P\"&RIGHT('Call Data'!B140,LEN('Call Data'!B140)-1)","v":"P.US.CLEJ2611550"},{"$f":"IF(LEFT(RTD(\"cqg.rtd\", ,\"ContractData\",B140, \"LastTrade\",, \"T\"),3)=\"768\",\"\",RTD(\"cqg.rtd\", ,\"ContractData\",B140, \"LastTrade\",, \"T\"))","v":24.16},{"$f":"IF(C140=\"\",\"\",RTD(\"cqg.rtd\", ,\"ContractData\",B140, \"NetLastTrade\",, \"T\"))","v":-5.629999999999999},{"$f":"IF(LEFT(RTD(\"cqg.rtd\", ,\"ContractData\",B140, \"LastTrade\",, \"T\"),3)=\"768\",\"\",RTD(\"cqg.rtd\", ,\"ContractData\",B140, \"MT_LastBidVolume\",, \"T\"))","v":1},{"$f":"IF(LEFT(RTD(\"cqg.rtd\", ,\"ContractData\",B140, \"LastTrade\",, \"T\"),3)=\"768\",\"\",RTD(\"cqg.rtd\", ,\"ContractData\",B140, \"Bid\",, \"T\"))","v":25.55},{"$f":"IF(LEFT(RTD(\"cqg.rtd\", ,\"ContractData\",B140, \"LastTrade\",, \"T\"),3)=\"768\",\"\",RTD(\"cqg.rtd\", ,\"ContractData\",B140, \"Ask\",, \"T\"))","v":25.72},{"$f":"IF(LEFT(RTD(\"cqg.rtd\", ,\"ContractData\",B140, \"LastTrade\",, \"T\"),3)=\"768\",\"\",RTD(\"cqg.rtd\", ,\"ContractData\",B140, \"MT_LastAskVolume\",, \"T\"))","v":1},{"$f":"IF(LEFT(RTD(\"cqg.rtd\", ,\"ContractData\",B140, \"LastTrade\",, \"T\"),3)=\"768\",\"\",RTD(\"cqg.rtd\", ,\"ContractData\",B140, \"T_CVol\",, \"T\"))","v":0},{"$f":"IF(LEFT(RTD(\"cqg.rtd\", ,\"ContractData\",B140, \"LastTrade\",, \"T\"),3)=\"768\",\"\",RTD(\"cqg.rtd\", ,\"ContractData\",B140, \"Y_CVol\",, \"T\"))","v":0},{"$f":"IF(LEFT(RTD(\"cqg.rtd\", ,\"ContractData\",B140, \"LastTrade\",, \"T\"),3)=\"768\",\"\",IFERROR(IF(I140>J140,\"+\"&I140-J140,I140-J140)*1,\"\"))","v":0},{"$f":"IF(LEFT(RTD(\"cqg.rtd\", ,\"ContractData\",B140, \"LastTrade\",, \"T\"),3)=\"768\",\"\",RTD(\"cqg.rtd\",,\"StudyData\",B140,  \"Bar\",,  \"ContractOI\", \"D\", \"-1\",,,,,\"T\"))","v":8},{"$f":"IF(LEFT(RTD(\"cqg.rtd\", ,\"ContractData\",B140, \"LastTrade\",, \"T\"),3)=\"768\",\"\",RTD(\"cqg.rtd\",,\"StudyData\",B140,  \"Bar\",,  \"ContractOI\", \"D\", \"-2\",,,,,\"T\"))","v":8},{"$f":"IF(LEFT(RTD(\"cqg.rtd\", ,\"ContractData\",B140, \"LastTrade\",, \"T\"),3)=\"768\",\"\",IFERROR(IF(L140>M140,\"+\"&L140-M140,L140-M140)*1,\"\"))","v":0}]
[{"$f":"'Call Data'!A141","v":11600},{"$f":"\"P\"&RIGHT('Call Data'!B141,LEN('Call Data'!B141)-1)","v":"P.US.CLEJ2611600"},{"$f":"IF(LEFT(RTD(\"cqg.rtd\", ,\"ContractData\",B141, \"LastTrade\",, \"T\"),3)=\"768\",\"\",RTD(\"cqg.rtd\", ,\"ContractData\",B141, \"LastTrade\",, \"T\"))","v":21.42},{"$f":"IF(C141=\"\",\"\",RTD(\"cqg.rtd\", ,\"ContractData\",B141, \"NetLastTrade\",, \"T\"))","v":-8.84},{"$f":"IF(LEFT(RTD(\"cqg.rtd\", ,\"ContractData\",B141, \"LastTrade\",, \"T\"),3)=\"768\",\"\",RTD(\"cqg.rtd\", ,\"ContractData\",B141, \"MT_LastBidVolume\",, \"T\"))","v":1},{"$f":"IF(LEFT(RTD(\"cqg.rtd\", ,\"ContractData\",B141, \"LastTrade\",, \"T\"),3)=\"768\",\"\",RTD(\"cqg.rtd\", ,\"ContractData\",B141, \"Bid\",, \"T\"))","v":26},{"$f":"IF(LEFT(RTD(\"cqg.rtd\", ,\"ContractData\",B141, \"LastTrade\",, \"T\"),3)=\"768\",\"\",RTD(\"cqg.rtd\", ,\"ContractData\",B141, \"Ask\",, \"T\"))","v":26.18},{"$f":"IF(LEFT(RTD(\"cqg.rtd\", ,\"ContractData\",B141, \"LastTrade\",, \"T\"),3)=\"768\",\"\",RTD(\"cqg.rtd\", ,\"ContractData\",B141, \"MT_LastAskVolume\",, \"T\"))","v":2},{"$f":"IF(LEFT(RTD(\"cqg.rtd\", ,\"ContractData\",B141, \"LastTrade\",, \"T\"),3)=\"768\",\"\",RTD(\"cqg.rtd\", ,\"ContractData\",B141, \"T_CVol\",, \"T\"))","v":0},{"$f":"IF(LEFT(RTD(\"cqg.rtd\", ,\"ContractData\",B141, \"LastTrade\",, \"T\"),3)=\"768\",\"\",RTD(\"cqg.rtd\", ,\"ContractData\",B141, \"Y_CVol\",, \"T\"))","v":0},{"$f":"IF(LEFT(RTD(\"cqg.rtd\", ,\"ContractData\",B141, \"LastTrade\",, \"T\"),3)=\"768\",\"\",IFERROR(IF(I141>J141,\"+\"&I141-J141,I141-J141)*1,\"\"))","v":0},{"$f":"IF(LEFT(RTD(\"cqg.rtd\", ,\"ContractData\",B141, \"LastTrade\",, \"T\"),3)=\"768\",\"\",RTD(\"cqg.rtd\",,\"StudyData\",B141,  \"Bar\",,  \"ContractOI\", \"D\", \"-1\",,,,,\"T\"))","v":22},{"$f":"IF(LEFT(RTD(\"cqg.rtd\", ,\"ContractData\",B141, \"LastTrade\",, \"T\"),3)=\"768\",\"\",RTD(\"cqg.rtd\",,\"StudyData\",B141,  \"Bar\",,  \"ContractOI\", \"D\", \"-2\",,,,,\"T\"))","v":22},{"$f":"IF(LEFT(RTD(\"cqg.rtd\", ,\"ContractData\",B141, \"LastTrade\",, \"T\"),3)=\"768\",\"\",IFERROR(IF(L141>M141,\"+\"&L141-M141,L141-M141)*1,\"\"))","v":0}]
[{"$f":"'Call Data'!A142","v":11650},{"$f":"\"P\"&RIGHT('Call Data'!B142,LEN('Call Data'!B142)-1)","v":"P.US.CLEJ2611650"},{"$f":"IF(LEFT(RTD(\"cqg.rtd\", ,\"ContractData\",B142, \"LastTrade\",, \"T\"),3)=\"768\",\"\",RTD(\"cqg.rtd\", ,\"ContractData\",B142, \"LastTrade\",, \"T\"))","v":29.94},{"$f":"IF(C142=\"\",\"\",RTD(\"cqg.rtd\", ,\"ContractData\",B142, \"NetLastTrade\",, \"T\"))","v":-0.77999999999999758},{"$f":"IF(LEFT(RTD(\"cqg.rtd\", ,\"ContractData\",B142, \"LastTrade\",, \"T\"),3)=\"768\",\"\",RTD(\"cqg.rtd\", ,\"ContractData\",B142, \"MT_LastBidVolume\",, \"T\"))","v":1},{"$f":"IF(LEFT(RTD(\"cqg.rtd\", ,\"ContractData\",B142, \"LastTrade\",, \"T\"),3)=\"768\",\"\",RTD(\"cqg.rtd\", ,\"ContractData\",B142, \"Bid\",, \"T\"))","v":26.44},{"$f":"IF(LEFT(RTD(\"cqg.rtd\", ,\"ContractData\",B142, \"LastTrade\",, \"T\"),3)=\"768\",\"\",RTD(\"cqg.rtd\", ,\"ContractData\",B142, \"Ask\",, \"T\"))","v":26.62},{"$f":"IF(LEFT(RTD(\"cqg.rtd\", ,\"ContractData\",B142, \"LastTrade\",, \"T\"),3)=\"768\",\"\",RTD(\"cqg.rtd\", ,\"ContractData\",B142, \"MT_LastAskVolume\",, \"T\"))","v":1},{"$f":"IF(LEFT(RTD(\"cqg.rtd\", ,\"ContractData\",B142, \"LastTrade\",, \"T\"),3)=\"768\",\"\",RTD(\"cqg.rtd\", ,\"ContractData\",B142, \"T_CVol\",, \"T\"))","v":0},{"$f":"IF(LEFT(RTD(\"cqg.rtd\", ,\"ContractData\",B142, \"LastTrade\",, \"T\"),3)=\"768\",\"\",RTD(\"cqg.rtd\", ,\"ContractData\",B142, \"Y_CVol\",, \"T\"))","v":0},{"$f":"IF(LEFT(RTD(\"cqg.rtd\", ,\"ContractData\",B142, \"LastTrade\",, \"T\"),3)=\"768\",\"\",IFERROR(IF(I142>J142,\"+\"&I142-J142,I142-J142)*1,\"\"))","v":0},{"$f":"IF(LEFT(RTD(\"cqg.rtd\", ,\"ContractData\",B142, \"LastTrade\",, \"T\"),3)=\"768\",\"\",RTD(\"cqg.rtd\",,\"StudyData\",B142,  \"Bar\",,  \"ContractOI\", \"D\", \"-1\",,,,,\"T\"))","v":5},{"$f":"IF(LEFT(RTD(\"cqg.rtd\", ,\"ContractData\",B142, \"LastTrade\",, \"T\"),3)=\"768\",\"\",RTD(\"cqg.rtd\",,\"StudyData\",B142,  \"Bar\",,  \"ContractOI\", \"D\", \"-2\",,,,,\"T\"))","v":5},{"$f":"IF(LEFT(RTD(\"cqg.rtd\", ,\"ContractData\",B142, \"LastTrade\",, \"T\"),3)=\"768\",\"\",IFERROR(IF(L142>M142,\"+\"&L142-M142,L142-M142)*1,\"\"))","v":0}]
[{"$f":"'Call Data'!A143","v":11700},{"$f":"\"P\"&RIGHT('Call Data'!B143,LEN('Call Data'!B143)-1)","v":"P.US.CLEJ2611700"},{"$f":"IF(LEFT(RTD(\"cqg.rtd\", ,\"ContractData\",B143, \"LastTrade\",, \"T\"),3)=\"768\",\"\",RTD(\"cqg.rtd\", ,\"ContractData\",B143, \"LastTrade\",, \"T\"))","v":28.51},{"$f":"IF(C143=\"\",\"\",RTD(\"cqg.rtd\", ,\"ContractData\",B143, \"NetLastTrade\",, \"T\"))","v":-2.6699999999999982},{"$f":"IF(LEFT(RTD(\"cqg.rtd\", ,\"ContractData\",B143, \"LastTrade\",, \"T\"),3)=\"768\",\"\",RTD(\"cqg.rtd\", ,\"ContractData\",B143, \"MT_LastBidVolume\",, \"T\"))","v":1},{"$f":"IF(LEFT(RTD(\"cqg.rtd\", ,\"ContractData\",B143, \"LastTrade\",, \"T\"),3)=\"768\",\"\",RTD(\"cqg.rtd\", ,\"ContractData\",B143, \"Bid\",, \"T\"))","v":26.900000000000002},{"$f":"IF(LEFT(RTD(\"cqg.rtd\", ,\"ContractData\",B143, \"LastTrade\",, \"T\"),3)=\"768\",\"\",RTD(\"cqg.rtd\", ,\"ContractData\",B143, \"Ask\",, \"T\"))","v":27.080000000000002},{"$f":"IF(LEFT(RTD(\"cqg.rtd\", ,\"ContractData\",B143, \"LastTrade\",, \"T\"),3)=\"768\",\"\",RTD(\"cqg.rtd\", ,\"ContractData\",B143, \"MT_LastAskVolume\",, \"T\"))","v":2},{"$f":"IF(LEFT(RTD(\"cqg.rtd\", ,\"ContractData\",B143, \"LastTrade\",, \"T\"),3)=\"768\",\"\",RTD(\"cqg.rtd\", ,\"ContractData\",B143, \"T_CVol\",, \"T\"))","v":0},{"$f":"IF(LEFT(RTD(\"cqg.rtd\", ,\"ContractData\",B143, \"LastTrade\",, \"T\"),3)=\"768\",\"\",RTD(\"cqg.rtd\", ,\"ContractData\",B143, \"Y_CVol\",, \"T\"))","v":0},{"$f":"IF(LEFT(RTD(\"cqg.rtd\", ,\"ContractData\",B143, \"LastTrade\",, \"T\"),3)=\"768\",\"\",IFERROR(IF(I143>J143,\"+\"&I143-J143,I143-J143)*1,\"\"))","v":0},{"$f":"IF(LEFT(RTD(\"cqg.rtd\", ,\"ContractData\",B143, \"LastTrade\",, \"T\"),3)=\"768\",\"\",RTD(\"cqg.rtd\",,\"StudyData\",B143,  \"Bar\",,  \"ContractOI\", \"D\", \"-1\",,,,,\"T\"))","v":8},{"$f":"IF(LEFT(RTD(\"cqg.rtd\", ,\"ContractData\",B143, \"LastTrade\",, \"T\"),3)=\"768\",\"\",RTD(\"cqg.rtd\",,\"StudyData\",B143,  \"Bar\",,  \"ContractOI\", \"D\", \"-2\",,,,,\"T\"))","v":8},{"$f":"IF(LEFT(RTD(\"cqg.rtd\", ,\"ContractData\",B143, \"LastTrade\",, \"T\"),3)=\"768\",\"\",IFERROR(IF(L143>M143,\"+\"&L143-M143,L143-M143)*1,\"\"))","v":0}]
[{"$f":"'Call Data'!A144","v":11750},{"$f":"\"P\"&RIGHT('Call Data'!B144,LEN('Call Data'!B144)-1)","v":"P.US.CLEJ2611750"},{"$f":"IF(LEFT(RTD(\"cqg.rtd\", ,\"ContractData\",B144, \"LastTrade\",, \"T\"),3)=\"768\",\"\",RTD(\"cqg.rtd\", ,\"ContractData\",B144, \"LastTrade\",, \"T\"))","v":20.260000000000002},{"$f":"IF(C144=\"\",\"\",RTD(\"cqg.rtd\", ,\"ContractData\",B144, \"NetLastTrade\",, \"T\"))","v":-11.39},{"$f":"IF(LEFT(RTD(\"cqg.rtd\", ,\"ContractData\",B144, \"LastTrade\",, \"T\"),3)=\"768\",\"\",RTD(\"cqg.rtd\", ,\"ContractData\",B144, \"MT_LastBidVolume\",, \"T\"))","v":1},{"$f":"IF(LEFT(RTD(\"cqg.rtd\", ,\"ContractData\",B144, \"LastTrade\",, \"T\"),3)=\"768\",\"\",RTD(\"cqg.rtd\", ,\"ContractData\",B144, \"Bid\",, \"T\"))","v":27.35},{"$f":"IF(LEFT(RTD(\"cqg.rtd\", ,\"ContractData\",B144, \"LastTrade\",, \"T\"),3)=\"768\",\"\",RTD(\"cqg.rtd\", ,\"ContractData\",B144, \"Ask\",, \"T\"))","v":27.52},{"$f":"IF(LEFT(RTD(\"cqg.rtd\", ,\"ContractData\",B144, \"LastTrade\",, \"T\"),3)=\"768\",\"\",RTD(\"cqg.rtd\", ,\"ContractData\",B144, \"MT_LastAskVolume\",, \"T\"))","v":1},{"$f":"IF(LEFT(RTD(\"cqg.rtd\", ,\"ContractData\",B144, \"LastTrade\",, \"T\"),3)=\"768\",\"\",RTD(\"cqg.rtd\", ,\"ContractData\",B144, \"T_CVol\",, \"T\"))","v":0},{"$f":"IF(LEFT(RTD(\"cqg.rtd\", ,\"ContractData\",B144, \"LastTrade\",, \"T\"),3)=\"768\",\"\",RTD(\"cqg.rtd\", ,\"ContractData\",B144, \"Y_CVol\",, \"T\"))","v":0},{"$f":"IF(LEFT(RTD(\"cqg.rtd\", ,\"ContractData\",B144, \"LastTrade\",, \"T\"),3)=\"768\",\"\",IFERROR(IF(I144>J144,\"+\"&I144-J144,I144-J144)*1,\"\"))","v":0},{"$f":"IF(LEFT(RTD(\"cqg.rtd\", ,\"ContractData\",B144, \"LastTrade\",, \"T\"),3)=\"768\",\"\",RTD(\"cqg.rtd\",,\"StudyData\",B144,  \"Bar\",,  \"ContractOI\", \"D\", \"-1\",,,,,\"T\"))","v":6},{"$f":"IF(LEFT(RTD(\"cqg.rtd\", ,\"ContractData\",B144, \"LastTrade\",, \"T\"),3)=\"768\",\"\",RTD(\"cqg.rtd\",,\"StudyData\",B144,  \"Bar\",,  \"ContractOI\", \"D\", \"-2\",,,,,\"T\"))","v":6},{"$f":"IF(LEFT(RTD(\"cqg.rtd\", ,\"ContractData\",B144, \"LastTrade\",, \"T\"),3)=\"768\",\"\",IFERROR(IF(L144>M144,\"+\"&L144-M144,L144-M144)*1,\"\"))","v":0}]
[{"$f":"'Call Data'!A145","v":11800},{"$f":"\"P\"&RIGHT('Call Data'!B145,LEN('Call Data'!B145)-1)","v":"P.US.CLEJ2611800"},{"$f":"IF(LEFT(RTD(\"cqg.rtd\", ,\"ContractData\",B145, \"LastTrade\",, \"T\"),3)=\"768\",\"\",RTD(\"cqg.rtd\", ,\"ContractData\",B145, \"LastTrade\",, \"T\"))","v":30.66},{"$f":"IF(C145=\"\",\"\",RTD(\"cqg.rtd\", ,\"ContractData\",B145, \"NetLastTrade\",, \"T\"))","v":-1.4499999999999993},{"$f":"IF(LEFT(RTD(\"cqg.rtd\", ,\"ContractData\",B145, \"LastTrade\",, \"T\"),3)=\"768\",\"\",RTD(\"cqg.rtd\", ,\"ContractData\",B145, \"MT_LastBidVolume\",, \"T\"))","v":1},{"$f":"IF(LEFT(RTD(\"cqg.rtd\", ,\"ContractData\",B145, \"LastTrade\",, \"T\"),3)=\"768\",\"\",RTD(\"cqg.rtd\", ,\"ContractData\",B145, \"Bid\",, \"T\"))","v":27.8},{"$f":"IF(LEFT(RTD(\"cqg.rtd\", ,\"ContractData\",B145, \"LastTrade\",, \"T\"),3)=\"768\",\"\",RTD(\"cqg.rtd\", ,\"ContractData\",B145, \"Ask\",, \"T\"))","v":27.990000000000002},{"$f":"IF(LEFT(RTD(\"cqg.rtd\", ,\"ContractData\",B145, \"LastTrade\",, \"T\"),3)=\"768\",\"\",RTD(\"cqg.rtd\", ,\"ContractData\",B145, \"MT_LastAskVolume\",, \"T\"))","v":1},{"$f":"IF(LEFT(RTD(\"cqg.rtd\", ,\"ContractData\",B145, \"LastTrade\",, \"T\"),3)=\"768\",\"\",RTD(\"cqg.rtd\", ,\"ContractData\",B145, \"T_CVol\",, \"T\"))","v":0},{"$f":"IF(LEFT(RTD(\"cqg.rtd\", ,\"ContractData\",B145, \"LastTrade\",, \"T\"),3)=\"768\",\"\",RTD(\"cqg.rtd\", ,\"ContractData\",B145, \"Y_CVol\",, \"T\"))","v":0},{"$f":"IF(LEFT(RTD(\"cqg.rtd\", ,\"ContractData\",B145, \"LastTrade\",, \"T\"),3)=\"768\",\"\",IFERROR(IF(I145>J145,\"+\"&I145-J145,I145-J145)*1,\"\"))","v":0},{"$f":"IF(LEFT(RTD(\"cqg.rtd\", ,\"ContractData\",B145, \"LastTrade\",, \"T\"),3)=\"768\",\"\",RTD(\"cqg.rtd\",,\"StudyData\",B145,  \"Bar\",,  \"ContractOI\", \"D\", \"-1\",,,,,\"T\"))","v":83},{"$f":"IF(LEFT(RTD(\"cqg.rtd\", ,\"ContractData\",B145, \"LastTrade\",, \"T\"),3)=\"768\",\"\",RTD(\"cqg.rtd\",,\"StudyData\",B145,  \"Bar\",,  \"ContractOI\", \"D\", \"-2\",,,,,\"T\"))","v":83},{"$f":"IF(LEFT(RTD(\"cqg.rtd\", ,\"ContractData\",B145, \"LastTrade\",, \"T\"),3)=\"768\",\"\",IFERROR(IF(L145>M145,\"+\"&L145-M145,L145-M145)*1,\"\"))","v":0}]
[{"$f":"'Call Data'!A146","v":11850},{"$f":"\"P\"&RIGHT('Call Data'!B146,LEN('Call Data'!B146)-1)","v":"P.US.CLEJ2611850"},{"$f":"IF(LEFT(RTD(\"cqg.rtd\", ,\"ContractData\",B146, \"LastTrade\",, \"T\"),3)=\"768\",\"\",RTD(\"cqg.rtd\", ,\"ContractData\",B146, \"LastTrade\",, \"T\"))","v":""},{"$f":"IF(C146=\"\",\"\",RTD(\"cqg.rtd\", ,\"ContractData\",B146, \"NetLastTrade\",, \"T\"))","v":""},{"$f":"IF(LEFT(RTD(\"cqg.rtd\", ,\"ContractData\",B146, \"LastTrade\",, \"T\"),3)=\"768\",\"\",RTD(\"cqg.rtd\", ,\"ContractData\",B146, \"MT_LastBidVolume\",, \"T\"))","v":1},{"$f":"IF(LEFT(RTD(\"cqg.rtd\", ,\"ContractData\",B146, \"LastTrade\",, \"T\"),3)=\"768\",\"\",RTD(\"cqg.rtd\", ,\"ContractData\",B146, \"Bid\",, \"T\"))","v":28.26},{"$f":"IF(LEFT(RTD(\"cqg.rtd\", ,\"ContractData\",B146, \"LastTrade\",, \"T\"),3)=\"768\",\"\",RTD(\"cqg.rtd\", ,\"ContractData\",B146, \"Ask\",, \"T\"))","v":28.44},{"$f":"IF(LEFT(RTD(\"cqg.rtd\", ,\"ContractData\",B146, \"LastTrade\",, \"T\"),3)=\"768\",\"\",RTD(\"cqg.rtd\", ,\"ContractData\",B146, \"MT_LastAskVolume\",, \"T\"))","v":1},{"$f":"IF(LEFT(RTD(\"cqg.rtd\", ,\"ContractData\",B146, \"LastTrade\",, \"T\"),3)=\"768\",\"\",RTD(\"cqg.rtd\", ,\"ContractData\",B146, \"T_CVol\",, \"T\"))","v":0},{"$f":"IF(LEFT(RTD(\"cqg.rtd\", ,\"ContractData\",B146, \"LastTrade\",, \"T\"),3)=\"768\",\"\",RTD(\"cqg.rtd\", ,\"ContractData\",B146, \"Y_CVol\",, \"T\"))","v":0},{"$f":"IF(LEFT(RTD(\"cqg.rtd\", ,\"ContractData\",B146, \"LastTrade\",, \"T\"),3)=\"768\",\"\",IFERROR(IF(I146>J146,\"+\"&I146-J146,I146-J146)*1,\"\"))","v":0},{"$f":"IF(LEFT(RTD(\"cqg.rtd\", ,\"ContractData\",B146, \"LastTrade\",, \"T\"),3)=\"768\",\"\",RTD(\"cqg.rtd\",,\"StudyData\",B146,  \"Bar\",,  \"ContractOI\", \"D\", \"-1\",,,,,\"T\"))","v":""},{"$f":"IF(LEFT(RTD(\"cqg.rtd\", ,\"ContractData\",B146, \"LastTrade\",, \"T\"),3)=\"768\",\"\",RTD(\"cqg.rtd\",,\"StudyData\",B146,  \"Bar\",,  \"ContractOI\", \"D\", \"-2\",,,,,\"T\"))","v":""},{"$f":"IF(LEFT(RTD(\"cqg.rtd\", ,\"ContractData\",B146, \"LastTrade\",, \"T\"),3)=\"768\",\"\",IFERROR(IF(L146>M146,\"+\"&L146-M146,L146-M146)*1,\"\"))","v":""}]
[{"$f":"'Call Data'!A147","v":11900},{"$f":"\"P\"&RIGHT('Call Data'!B147,LEN('Call Data'!B147)-1)","v":"P.US.CLEJ2611900"},{"$f":"IF(LEFT(RTD(\"cqg.rtd\", ,\"ContractData\",B147, \"LastTrade\",, \"T\"),3)=\"768\",\"\",RTD(\"cqg.rtd\", ,\"ContractData\",B147, \"LastTrade\",, \"T\"))","v":28.96},{"$f":"IF(C147=\"\",\"\",RTD(\"cqg.rtd\", ,\"ContractData\",B147, \"NetLastTrade\",, \"T\"))","v":-4.0899999999999963},{"$f":"IF(LEFT(RTD(\"cqg.rtd\", ,\"ContractData\",B147, \"LastTrade\",, \"T\"),3)=\"768\",\"\",RTD(\"cqg.rtd\", ,\"ContractData\",B147, \"MT_LastBidVolume\",, \"T\"))","v":1},{"$f":"IF(LEFT(RTD(\"cqg.rtd\", ,\"ContractData\",B147, \"LastTrade\",, \"T\"),3)=\"768\",\"\",RTD(\"cqg.rtd\", ,\"ContractData\",B147, \"Bid\",, \"T\"))","v":28.71},{"$f":"IF(LEFT(RTD(\"cqg.rtd\", ,\"ContractData\",B147, \"LastTrade\",, \"T\"),3)=\"768\",\"\",RTD(\"cqg.rtd\", ,\"ContractData\",B147, \"Ask\",, \"T\"))","v":28.900000000000002},{"$f":"IF(LEFT(RTD(\"cqg.rtd\", ,\"ContractData\",B147, \"LastTrade\",, \"T\"),3)=\"768\",\"\",RTD(\"cqg.rtd\", ,\"ContractData\",B147, \"MT_LastAskVolume\",, \"T\"))","v":2},{"$f":"IF(LEFT(RTD(\"cqg.rtd\", ,\"ContractData\",B147, \"LastTrade\",, \"T\"),3)=\"768\",\"\",RTD(\"cqg.rtd\", ,\"ContractData\",B147, \"T_CVol\",, \"T\"))","v":0},{"$f":"IF(LEFT(RTD(\"cqg.rtd\", ,\"ContractData\",B147, \"LastTrade\",, \"T\"),3)=\"768\",\"\",RTD(\"cqg.rtd\", ,\"ContractData\",B147, \"Y_CVol\",, \"T\"))","v":0},{"$f":"IF(LEFT(RTD(\"cqg.rtd\", ,\"ContractData\",B147, \"LastTrade\",, \"T\"),3)=\"768\",\"\",IFERROR(IF(I147>J147,\"+\"&I147-J147,I147-J147)*1,\"\"))","v":0},{"$f":"IF(LEFT(RTD(\"cqg.rtd\", ,\"ContractData\",B147, \"LastTrade\",, \"T\"),3)=\"768\",\"\",RTD(\"cqg.rtd\",,\"StudyData\",B147,  \"Bar\",,  \"ContractOI\", \"D\", \"-1\",,,,,\"T\"))","v":3},{"$f":"IF(LEFT(RTD(\"cqg.rtd\", ,\"ContractData\",B147, \"LastTrade\",, \"T\"),3)=\"768\",\"\",RTD(\"cqg.rtd\",,\"StudyData\",B147,  \"Bar\",,  \"ContractOI\", \"D\", \"-2\",,,,,\"T\"))","v":3},{"$f":"IF(LEFT(RTD(\"cqg.rtd\", ,\"ContractData\",B147, \"LastTrade\",, \"T\"),3)=\"768\",\"\",IFERROR(IF(L147>M147,\"+\"&L147-M147,L147-M147)*1,\"\"))","v":0}]
[{"$f":"'Call Data'!A148","v":11950},{"$f":"\"P\"&RIGHT('Call Data'!B148,LEN('Call Data'!B148)-1)","v":"P.US.CLEJ2611950"},{"$f":"IF(LEFT(RTD(\"cqg.rtd\", ,\"ContractData\",B148, \"LastTrade\",, \"T\"),3)=\"768\",\"\",RTD(\"cqg.rtd\", ,\"ContractData\",B148, \"LastTrade\",, \"T\"))","v":29.25},{"$f":"IF(C148=\"\",\"\",RTD(\"cqg.rtd\", ,\"ContractData\",B148, \"NetLastTrade\",, \"T\"))","v":-4.2700000000000031},{"$f":"IF(LEFT(RTD(\"cqg.rtd\", ,\"ContractData\",B148, \"LastTrade\",, \"T\"),3)=\"768\",\"\",RTD(\"cqg.rtd\", ,\"ContractData\",B148, \"MT_LastBidVolume\",, \"T\"))","v":1},{"$f":"IF(LEFT(RTD(\"cqg.rtd\", ,\"ContractData\",B148, \"LastTrade\",, \"T\"),3)=\"768\",\"\",RTD(\"cqg.rtd\", ,\"ContractData\",B148, \"Bid\",, \"T\"))","v":29.17},{"$f":"IF(LEFT(RTD(\"cqg.rtd\", ,\"ContractData\",B148, \"LastTrade\",, \"T\"),3)=\"768\",\"\",RTD(\"cqg.rtd\", ,\"ContractData\",B148, \"Ask\",, \"T\"))","v":29.36},{"$f":"IF(LEFT(RTD(\"cqg.rtd\", ,\"ContractData\",B148, \"LastTrade\",, \"T\"),3)=\"768\",\"\",RTD(\"cqg.rtd\", ,\"ContractData\",B148, \"MT_LastAskVolume\",, \"T\"))","v":1},{"$f":"IF(LEFT(RTD(\"cqg.rtd\", ,\"ContractData\",B148, \"LastTrade\",, \"T\"),3)=\"768\",\"\",RTD(\"cqg.rtd\", ,\"ContractData\",B148, \"T_CVol\",, \"T\"))","v":0},{"$f":"IF(LEFT(RTD(\"cqg.rtd\", ,\"ContractData\",B148, \"LastTrade\",, \"T\"),3)=\"768\",\"\",RTD(\"cqg.rtd\", ,\"ContractData\",B148, \"Y_CVol\",, \"T\"))","v":0},{"$f":"IF(LEFT(RTD(\"cqg.rtd\", ,\"ContractData\",B148, \"LastTrade\",, \"T\"),3)=\"768\",\"\",IFERROR(IF(I148>J148,\"+\"&I148-J148,I148-J148)*1,\"\"))","v":0},{"$f":"IF(LEFT(RTD(\"cqg.rtd\", ,\"ContractData\",B148, \"LastTrade\",, \"T\"),3)=\"768\",\"\",RTD(\"cqg.rtd\",,\"StudyData\",B148,  \"Bar\",,  \"ContractOI\", \"D\", \"-1\",,,,,\"T\"))","v":6},{"$f":"IF(LEFT(RTD(\"cqg.rtd\", ,\"ContractData\",B148, \"LastTrade\",, \"T\"),3)=\"768\",\"\",RTD(\"cqg.rtd\",,\"StudyData\",B148,  \"Bar\",,  \"ContractOI\", \"D\", \"-2\",,,,,\"T\"))","v":6},{"$f":"IF(LEFT(RTD(\"cqg.rtd\", ,\"ContractData\",B148, \"LastTrade\",, \"T\"),3)=\"768\",\"\",IFERROR(IF(L148>M148,\"+\"&L148-M148,L148-M148)*1,\"\"))","v":0}]
[{"$f":"'Call Data'!A149","v":12000},{"$f":"\"P\"&RIGHT('Call Data'!B149,LEN('Call Data'!B149)-1)","v":"P.US.CLEJ2612000"},{"$f":"IF(LEFT(RTD(\"cqg.rtd\", ,\"ContractData\",B149, \"LastTrade\",, \"T\"),3)=\"768\",\"\",RTD(\"cqg.rtd\", ,\"ContractData\",B149, \"LastTrade\",, \"T\"))","v":27.66},{"$f":"IF(C149=\"\",\"\",RTD(\"cqg.rtd\", ,\"ContractData\",B149, \"NetLastTrade\",, \"T\"))","v":-6.3300000000000018},{"$f":"IF(LEFT(RTD(\"cqg.rtd\", ,\"ContractData\",B149, \"LastTrade\",, \"T\"),3)=\"768\",\"\",RTD(\"cqg.rtd\", ,\"ContractData\",B149, \"MT_LastBidVolume\",, \"T\"))","v":1},{"$f":"IF(LEFT(RTD(\"cqg.rtd\", ,\"ContractData\",B149, \"LastTrade\",, \"T\"),3)=\"768\",\"\",RTD(\"cqg.rtd\", ,\"ContractData\",B149, \"Bid\",, \"T\"))","v":29.63},{"$f":"IF(LEFT(RTD(\"cqg.rtd\", ,\"ContractData\",B149, \"LastTrade\",, \"T\"),3)=\"768\",\"\",RTD(\"cqg.rtd\", ,\"ContractData\",B149, \"Ask\",, \"T\"))","v":29.82},{"$f":"IF(LEFT(RTD(\"cqg.rtd\", ,\"ContractData\",B149, \"LastTrade\",, \"T\"),3)=\"768\",\"\",RTD(\"cqg.rtd\", ,\"ContractData\",B149, \"MT_LastAskVolume\",, \"T\"))","v":1},{"$f":"IF(LEFT(RTD(\"cqg.rtd\", ,\"ContractData\",B149, \"LastTrade\",, \"T\"),3)=\"768\",\"\",RTD(\"cqg.rtd\", ,\"ContractData\",B149, \"T_CVol\",, \"T\"))","v":0},{"$f":"IF(LEFT(RTD(\"cqg.rtd\", ,\"ContractData\",B149, \"LastTrade\",, \"T\"),3)=\"768\",\"\",RTD(\"cqg.rtd\", ,\"ContractData\",B149, \"Y_CVol\",, \"T\"))","v":0},{"$f":"IF(LEFT(RTD(\"cqg.rtd\", ,\"ContractData\",B149, \"LastTrade\",, \"T\"),3)=\"768\",\"\",IFERROR(IF(I149>J149,\"+\"&I149-J149,I149-J149)*1,\"\"))","v":0},{"$f":"IF(LEFT(RTD(\"cqg.rtd\", ,\"ContractData\",B149, \"LastTrade\",, \"T\"),3)=\"768\",\"\",RTD(\"cqg.rtd\",,\"StudyData\",B149,  \"Bar\",,  \"ContractOI\", \"D\", \"-1\",,,,,\"T\"))","v":130},{"$f":"IF(LEFT(RTD(\"cqg.rtd\", ,\"ContractData\",B149, \"LastTrade\",, \"T\"),3)=\"768\",\"\",RTD(\"cqg.rtd\",,\"StudyData\",B149,  \"Bar\",,  \"ContractOI\", \"D\", \"-2\",,,,,\"T\"))","v":130},{"$f":"IF(LEFT(RTD(\"cqg.rtd\", ,\"ContractData\",B149, \"LastTrade\",, \"T\"),3)=\"768\",\"\",IFERROR(IF(L149>M149,\"+\"&L149-M149,L149-M149)*1,\"\"))","v":0}]
[{"$f":"'Call Data'!A150","v":12050},{"$f":"\"P\"&RIGHT('Call Data'!B150,LEN('Call Data'!B150)-1)","v":"P.US.CLEJ2612050"},{"$f":"IF(LEFT(RTD(\"cqg.rtd\", ,\"ContractData\",B150, \"LastTrade\",, \"T\"),3)=\"768\",\"\",RTD(\"cqg.rtd\", ,\"ContractData\",B150, \"LastTrade\",, \"T\"))","v":30.37},{"$f":"IF(C150=\"\",\"\",RTD(\"cqg.rtd\", ,\"ContractData\",B150, \"NetLastTrade\",, \"T\"))","v":-4.09},{"$f":"IF(LEFT(RTD(\"cqg.rtd\", ,\"ContractData\",B150, \"LastTrade\",, \"T\"),3)=\"768\",\"\",RTD(\"cqg.rtd\", ,\"ContractData\",B150, \"MT_LastBidVolume\",, \"T\"))","v":1},{"$f":"IF(LEFT(RTD(\"cqg.rtd\", ,\"ContractData\",B150, \"LastTrade\",, \"T\"),3)=\"768\",\"\",RTD(\"cqg.rtd\", ,\"ContractData\",B150, \"Bid\",, \"T\"))","v":30.09},{"$f":"IF(LEFT(RTD(\"cqg.rtd\", ,\"ContractData\",B150, \"LastTrade\",, \"T\"),3)=\"768\",\"\",RTD(\"cqg.rtd\", ,\"ContractData\",B150, \"Ask\",, \"T\"))","v":30.28},{"$f":"IF(LEFT(RTD(\"cqg.rtd\", ,\"ContractData\",B150, \"LastTrade\",, \"T\"),3)=\"768\",\"\",RTD(\"cqg.rtd\", ,\"ContractData\",B150, \"MT_LastAskVolume\",, \"T\"))","v":1},{"$f":"IF(LEFT(RTD(\"cqg.rtd\", ,\"ContractData\",B150, \"LastTrade\",, \"T\"),3)=\"768\",\"\",RTD(\"cqg.rtd\", ,\"ContractData\",B150, \"T_CVol\",, \"T\"))","v":0},{"$f":"IF(LEFT(RTD(\"cqg.rtd\", ,\"ContractData\",B150, \"LastTrade\",, \"T\"),3)=\"768\",\"\",RTD(\"cqg.rtd\", ,\"ContractData\",B150, \"Y_CVol\",, \"T\"))","v":0},{"$f":"IF(LEFT(RTD(\"cqg.rtd\", ,\"ContractData\",B150, \"LastTrade\",, \"T\"),3)=\"768\",\"\",IFERROR(IF(I150>J150,\"+\"&I150-J150,I150-J150)*1,\"\"))","v":0},{"$f":"IF(LEFT(RTD(\"cqg.rtd\", ,\"ContractData\",B150, \"LastTrade\",, \"T\"),3)=\"768\",\"\",RTD(\"cqg.rtd\",,\"StudyData\",B150,  \"Bar\",,  \"ContractOI\", \"D\", \"-1\",,,,,\"T\"))","v":4},{"$f":"IF(LEFT(RTD(\"cqg.rtd\", ,\"ContractData\",B150, \"LastTrade\",, \"T\"),3)=\"768\",\"\",RTD(\"cqg.rtd\",,\"StudyData\",B150,  \"Bar\",,  \"ContractOI\", \"D\", \"-2\",,,,,\"T\"))","v":4},{"$f":"IF(LEFT(RTD(\"cqg.rtd\", ,\"ContractData\",B150, \"LastTrade\",, \"T\"),3)=\"768\",\"\",IFERROR(IF(L150>M150,\"+\"&L150-M150,L150-M150)*1,\"\"))","v":0}]
[{"$f":"'Call Data'!A151","v":12100},{"$f":"\"P\"&RIGHT('Call Data'!B151,LEN('Call Data'!B151)-1)","v":"P.US.CLEJ2612100"},{"$f":"IF(LEFT(RTD(\"cqg.rtd\", ,\"ContractData\",B151, \"LastTrade\",, \"T\"),3)=\"768\",\"\",RTD(\"cqg.rtd\", ,\"ContractData\",B151, \"LastTrade\",, \"T\"))","v":30.82},{"$f":"IF(C151=\"\",\"\",RTD(\"cqg.rtd\", ,\"ContractData\",B151, \"NetLastTrade\",, \"T\"))","v":-4.1099999999999994},{"$f":"IF(LEFT(RTD(\"cqg.rtd\", ,\"ContractData\",B151, \"LastTrade\",, \"T\"),3)=\"768\",\"\",RTD(\"cqg.rtd\", ,\"ContractData\",B151, \"MT_LastBidVolume\",, \"T\"))","v":1},{"$f":"IF(LEFT(RTD(\"cqg.rtd\", ,\"ContractData\",B151, \"LastTrade\",, \"T\"),3)=\"768\",\"\",RTD(\"cqg.rtd\", ,\"ContractData\",B151, \"Bid\",, \"T\"))","v":30.55},{"$f":"IF(LEFT(RTD(\"cqg.rtd\", ,\"ContractData\",B151, \"LastTrade\",, \"T\"),3)=\"768\",\"\",RTD(\"cqg.rtd\", ,\"ContractData\",B151, \"Ask\",, \"T\"))","v":30.740000000000002},{"$f":"IF(LEFT(RTD(\"cqg.rtd\", ,\"ContractData\",B151, \"LastTrade\",, \"T\"),3)=\"768\",\"\",RTD(\"cqg.rtd\", ,\"ContractData\",B151, \"MT_LastAskVolume\",, \"T\"))","v":1},{"$f":"IF(LEFT(RTD(\"cqg.rtd\", ,\"ContractData\",B151, \"LastTrade\",, \"T\"),3)=\"768\",\"\",RTD(\"cqg.rtd\", ,\"ContractData\",B151, \"T_CVol\",, \"T\"))","v":0},{"$f":"IF(LEFT(RTD(\"cqg.rtd\", ,\"ContractData\",B151, \"LastTrade\",, \"T\"),3)=\"768\",\"\",RTD(\"cqg.rtd\", ,\"ContractData\",B151, \"Y_CVol\",, \"T\"))","v":0},{"$f":"IF(LEFT(RTD(\"cqg.rtd\", ,\"ContractData\",B151, \"LastTrade\",, \"T\"),3)=\"768\",\"\",IFERROR(IF(I151>J151,\"+\"&I151-J151,I151-J151)*1,\"\"))","v":0},{"$f":"IF(LEFT(RTD(\"cqg.rtd\", ,\"ContractData\",B151, \"LastTrade\",, \"T\"),3)=\"768\",\"\",RTD(\"cqg.rtd\",,\"StudyData\",B151,  \"Bar\",,  \"ContractOI\", \"D\", \"-1\",,,,,\"T\"))","v":6},{"$f":"IF(LEFT(RTD(\"cqg.rtd\", ,\"ContractData\",B151, \"LastTrade\",, \"T\"),3)=\"768\",\"\",RTD(\"cqg.rtd\",,\"StudyData\",B151,  \"Bar\",,  \"ContractOI\", \"D\", \"-2\",,,,,\"T\"))","v":6},{"$f":"IF(LEFT(RTD(\"cqg.rtd\", ,\"ContractData\",B151, \"LastTrade\",, \"T\"),3)=\"768\",\"\",IFERROR(IF(L151>M151,\"+\"&L151-M151,L151-M151)*1,\"\"))","v":0}]
[{"$f":"'Call Data'!A152","v":12150},{"$f":"\"P\"&RIGHT('Call Data'!B152,LEN('Call Data'!B152)-1)","v":"P.US.CLEJ2612150"},{"$f":"IF(LEFT(RTD(\"cqg.rtd\", ,\"ContractData\",B152, \"LastTrade\",, \"T\"),3)=\"768\",\"\",RTD(\"cqg.rtd\", ,\"ContractData\",B152, \"LastTrade\",, \"T\"))","v":31.2},{"$f":"IF(C152=\"\",\"\",RTD(\"cqg.rtd\", ,\"ContractData\",B152, \"NetLastTrade\",, \"T\"))","v":-4.1999999999999993},{"$f":"IF(LEFT(RTD(\"cqg.rtd\", ,\"ContractData\",B152, \"LastTrade\",, \"T\"),3)=\"768\",\"\",RTD(\"cqg.rtd\", ,\"ContractData\",B152, \"MT_LastBidVolume\",, \"T\"))","v":1},{"$f":"IF(LEFT(RTD(\"cqg.rtd\", ,\"ContractData\",B152, \"LastTrade\",, \"T\"),3)=\"768\",\"\",RTD(\"cqg.rtd\", ,\"ContractData\",B152, \"Bid\",, \"T\"))","v":31.01},{"$f":"IF(LEFT(RTD(\"cqg.rtd\", ,\"ContractData\",B152, \"LastTrade\",, \"T\"),3)=\"768\",\"\",RTD(\"cqg.rtd\", ,\"ContractData\",B152, \"Ask\",, \"T\"))","v":31.2},{"$f":"IF(LEFT(RTD(\"cqg.rtd\", ,\"ContractData\",B152, \"LastTrade\",, \"T\"),3)=\"768\",\"\",RTD(\"cqg.rtd\", ,\"ContractData\",B152, \"MT_LastAskVolume\",, \"T\"))","v":2},{"$f":"IF(LEFT(RTD(\"cqg.rtd\", ,\"ContractData\",B152, \"LastTrade\",, \"T\"),3)=\"768\",\"\",RTD(\"cqg.rtd\", ,\"ContractData\",B152, \"T_CVol\",, \"T\"))","v":0},{"$f":"IF(LEFT(RTD(\"cqg.rtd\", ,\"ContractData\",B152, \"LastTrade\",, \"T\"),3)=\"768\",\"\",RTD(\"cqg.rtd\", ,\"ContractData\",B152, \"Y_CVol\",, \"T\"))","v":0},{"$f":"IF(LEFT(RTD(\"cqg.rtd\", ,\"ContractData\",B152, \"LastTrade\",, \"T\"),3)=\"768\",\"\",IFERROR(IF(I152>J152,\"+\"&I152-J152,I152-J152)*1,\"\"))","v":0},{"$f":"IF(LEFT(RTD(\"cqg.rtd\", ,\"ContractData\",B152, \"LastTrade\",, \"T\"),3)=\"768\",\"\",RTD(\"cqg.rtd\",,\"StudyData\",B152,  \"Bar\",,  \"ContractOI\", \"D\", \"-1\",,,,,\"T\"))","v":8},{"$f":"IF(LEFT(RTD(\"cqg.rtd\", ,\"ContractData\",B152, \"LastTrade\",, \"T\"),3)=\"768\",\"\",RTD(\"cqg.rtd\",,\"StudyData\",B152,  \"Bar\",,  \"ContractOI\", \"D\", \"-2\",,,,,\"T\"))","v":8},{"$f":"IF(LEFT(RTD(\"cqg.rtd\", ,\"ContractData\",B152, \"LastTrade\",, \"T\"),3)=\"768\",\"\",IFERROR(IF(L152>M152,\"+\"&L152-M152,L152-M152)*1,\"\"))","v":0}]
[{"$f":"'Call Data'!A153","v":12200},{"$f":"\"P\"&RIGHT('Call Data'!B153,LEN('Call Data'!B153)-1)","v":"P.US.CLEJ2612200"},{"$f":"IF(LEFT(RTD(\"cqg.rtd\", ,\"ContractData\",B153, \"LastTrade\",, \"T\"),3)=\"768\",\"\",RTD(\"cqg.rtd\", ,\"ContractData\",B153, \"LastTrade\",, \"T\"))","v":27.59},{"$f":"IF(C153=\"\",\"\",RTD(\"cqg.rtd\", ,\"ContractData\",B153, \"NetLastTrade\",, \"T\"))","v":-8.2799999999999976},{"$f":"IF(LEFT(RTD(\"cqg.rtd\", ,\"ContractData\",B153, \"LastTrade\",, \"T\"),3)=\"768\",\"\",RTD(\"cqg.rtd\", ,\"ContractData\",B153, \"MT_LastBidVolume\",, \"T\"))","v":1},{"$f":"IF(LEFT(RTD(\"cqg.rtd\", ,\"ContractData\",B153, \"LastTrade\",, \"T\"),3)=\"768\",\"\",RTD(\"cqg.rtd\", ,\"ContractData\",B153, \"Bid\",, \"T\"))","v":31.48},{"$f":"IF(LEFT(RTD(\"cqg.rtd\", ,\"ContractData\",B153, \"LastTrade\",, \"T\"),3)=\"768\",\"\",RTD(\"cqg.rtd\", ,\"ContractData\",B153, \"Ask\",, \"T\"))","v":31.67},{"$f":"IF(LEFT(RTD(\"cqg.rtd\", ,\"ContractData\",B153, \"LastTrade\",, \"T\"),3)=\"768\",\"\",RTD(\"cqg.rtd\", ,\"ContractData\",B153, \"MT_LastAskVolume\",, \"T\"))","v":1},{"$f":"IF(LEFT(RTD(\"cqg.rtd\", ,\"ContractData\",B153, \"LastTrade\",, \"T\"),3)=\"768\",\"\",RTD(\"cqg.rtd\", ,\"ContractData\",B153, \"T_CVol\",, \"T\"))","v":0},{"$f":"IF(LEFT(RTD(\"cqg.rtd\", ,\"ContractData\",B153, \"LastTrade\",, \"T\"),3)=\"768\",\"\",RTD(\"cqg.rtd\", ,\"ContractData\",B153, \"Y_CVol\",, \"T\"))","v":0},{"$f":"IF(LEFT(RTD(\"cqg.rtd\", ,\"ContractData\",B153, \"LastTrade\",, \"T\"),3)=\"768\",\"\",IFERROR(IF(I153>J153,\"+\"&I153-J153,I153-J153)*1,\"\"))","v":0},{"$f":"IF(LEFT(RTD(\"cqg.rtd\", ,\"ContractData\",B153, \"LastTrade\",, \"T\"),3)=\"768\",\"\",RTD(\"cqg.rtd\",,\"StudyData\",B153,  \"Bar\",,  \"ContractOI\", \"D\", \"-1\",,,,,\"T\"))","v":55},{"$f":"IF(LEFT(RTD(\"cqg.rtd\", ,\"ContractData\",B153, \"LastTrade\",, \"T\"),3)=\"768\",\"\",RTD(\"cqg.rtd\",,\"StudyData\",B153,  \"Bar\",,  \"ContractOI\", \"D\", \"-2\",,,,,\"T\"))","v":55},{"$f":"IF(LEFT(RTD(\"cqg.rtd\", ,\"ContractData\",B153, \"LastTrade\",, \"T\"),3)=\"768\",\"\",IFERROR(IF(L153>M153,\"+\"&L153-M153,L153-M153)*1,\"\"))","v":0}]
[{"$f":"'Call Data'!A154","v":12250},{"$f":"\"P\"&RIGHT('Call Data'!B154,LEN('Call Data'!B154)-1)","v":"P.US.CLEJ2612250"},{"$f":"IF(LEFT(RTD(\"cqg.rtd\", ,\"ContractData\",B154, \"LastTrade\",, \"T\"),3)=\"768\",\"\",RTD(\"cqg.rtd\", ,\"ContractData\",B154, \"LastTrade\",, \"T\"))","v":23.91},{"$f":"IF(C154=\"\",\"\",RTD(\"cqg.rtd\", ,\"ContractData\",B154, \"NetLastTrade\",, \"T\"))","v":-12.440000000000001},{"$f":"IF(LEFT(RTD(\"cqg.rtd\", ,\"ContractData\",B154, \"LastTrade\",, \"T\"),3)=\"768\",\"\",RTD(\"cqg.rtd\", ,\"ContractData\",B154, \"MT_LastBidVolume\",, \"T\"))","v":1},{"$f":"IF(LEFT(RTD(\"cqg.rtd\", ,\"ContractData\",B154, \"LastTrade\",, \"T\"),3)=\"768\",\"\",RTD(\"cqg.rtd\", ,\"ContractData\",B154, \"Bid\",, \"T\"))","v":31.94},{"$f":"IF(LEFT(RTD(\"cqg.rtd\", ,\"ContractData\",B154, \"LastTrade\",, \"T\"),3)=\"768\",\"\",RTD(\"cqg.rtd\", ,\"ContractData\",B154, \"Ask\",, \"T\"))","v":32.119999999999997},{"$f":"IF(LEFT(RTD(\"cqg.rtd\", ,\"ContractData\",B154, \"LastTrade\",, \"T\"),3)=\"768\",\"\",RTD(\"cqg.rtd\", ,\"ContractData\",B154, \"MT_LastAskVolume\",, \"T\"))","v":1},{"$f":"IF(LEFT(RTD(\"cqg.rtd\", ,\"ContractData\",B154, \"LastTrade\",, \"T\"),3)=\"768\",\"\",RTD(\"cqg.rtd\", ,\"ContractData\",B154, \"T_CVol\",, \"T\"))","v":0},{"$f":"IF(LEFT(RTD(\"cqg.rtd\", ,\"ContractData\",B154, \"LastTrade\",, \"T\"),3)=\"768\",\"\",RTD(\"cqg.rtd\", ,\"ContractData\",B154, \"Y_CVol\",, \"T\"))","v":0},{"$f":"IF(LEFT(RTD(\"cqg.rtd\", ,\"ContractData\",B154, \"LastTrade\",, \"T\"),3)=\"768\",\"\",IFERROR(IF(I154>J154,\"+\"&I154-J154,I154-J154)*1,\"\"))","v":0},{"$f":"IF(LEFT(RTD(\"cqg.rtd\", ,\"ContractData\",B154, \"LastTrade\",, \"T\"),3)=\"768\",\"\",RTD(\"cqg.rtd\",,\"StudyData\",B154,  \"Bar\",,  \"ContractOI\", \"D\", \"-1\",,,,,\"T\"))","v":3},{"$f":"IF(LEFT(RTD(\"cqg.rtd\", ,\"ContractData\",B154, \"LastTrade\",, \"T\"),3)=\"768\",\"\",RTD(\"cqg.rtd\",,\"StudyData\",B154,  \"Bar\",,  \"ContractOI\", \"D\", \"-2\",,,,,\"T\"))","v":3},{"$f":"IF(LEFT(RTD(\"cqg.rtd\", ,\"ContractData\",B154, \"LastTrade\",, \"T\"),3)=\"768\",\"\",IFERROR(IF(L154>M154,\"+\"&L154-M154,L154-M154)*1,\"\"))","v":0}]
[{"$f":"'Call Data'!A155","v":12300},{"$f":"\"P\"&RIGHT('Call Data'!B155,LEN('Call Data'!B155)-1)","v":"P.US.CLEJ2612300"},{"$f":"IF(LEFT(RTD(\"cqg.rtd\", ,\"ContractData\",B155, \"LastTrade\",, \"T\"),3)=\"768\",\"\",RTD(\"cqg.rtd\", ,\"ContractData\",B155, \"LastTrade\",, \"T\"))","v":33.28},{"$f":"IF(C155=\"\",\"\",RTD(\"cqg.rtd\", ,\"ContractData\",B155, \"NetLastTrade\",, \"T\"))","v":-3.5399999999999991},{"$f":"IF(LEFT(RTD(\"cqg.rtd\", ,\"ContractData\",B155, \"LastTrade\",, \"T\"),3)=\"768\",\"\",RTD(\"cqg.rtd\", ,\"ContractData\",B155, \"MT_LastBidVolume\",, \"T\"))","v":1},{"$f":"IF(LEFT(RTD(\"cqg.rtd\", ,\"ContractData\",B155, \"LastTrade\",, \"T\"),3)=\"768\",\"\",RTD(\"cqg.rtd\", ,\"ContractData\",B155, \"Bid\",, \"T\"))","v":32.4},{"$f":"IF(LEFT(RTD(\"cqg.rtd\", ,\"ContractData\",B155, \"LastTrade\",, \"T\"),3)=\"768\",\"\",RTD(\"cqg.rtd\", ,\"ContractData\",B155, \"Ask\",, \"T\"))","v":32.6},{"$f":"IF(LEFT(RTD(\"cqg.rtd\", ,\"ContractData\",B155, \"LastTrade\",, \"T\"),3)=\"768\",\"\",RTD(\"cqg.rtd\", ,\"ContractData\",B155, \"MT_LastAskVolume\",, \"T\"))","v":1},{"$f":"IF(LEFT(RTD(\"cqg.rtd\", ,\"ContractData\",B155, \"LastTrade\",, \"T\"),3)=\"768\",\"\",RTD(\"cqg.rtd\", ,\"ContractData\",B155, \"T_CVol\",, \"T\"))","v":0},{"$f":"IF(LEFT(RTD(\"cqg.rtd\", ,\"ContractData\",B155, \"LastTrade\",, \"T\"),3)=\"768\",\"\",RTD(\"cqg.rtd\", ,\"ContractData\",B155, \"Y_CVol\",, \"T\"))","v":0},{"$f":"IF(LEFT(RTD(\"cqg.rtd\", ,\"ContractData\",B155, \"LastTrade\",, \"T\"),3)=\"768\",\"\",IFERROR(IF(I155>J155,\"+\"&I155-J155,I155-J155)*1,\"\"))","v":0},{"$f":"IF(LEFT(RTD(\"cqg.rtd\", ,\"ContractData\",B155, \"LastTrade\",, \"T\"),3)=\"768\",\"\",RTD(\"cqg.rtd\",,\"StudyData\",B155,  \"Bar\",,  \"ContractOI\", \"D\", \"-1\",,,,,\"T\"))","v":15},{"$f":"IF(LEFT(RTD(\"cqg.rtd\", ,\"ContractData\",B155, \"LastTrade\",, \"T\"),3)=\"768\",\"\",RTD(\"cqg.rtd\",,\"StudyData\",B155,  \"Bar\",,  \"ContractOI\", \"D\", \"-2\",,,,,\"T\"))","v":15},{"$f":"IF(LEFT(RTD(\"cqg.rtd\", ,\"ContractData\",B155, \"LastTrade\",, \"T\"),3)=\"768\",\"\",IFERROR(IF(L155>M155,\"+\"&L155-M155,L155-M155)*1,\"\"))","v":0}]
[{"$f":"'Call Data'!A156","v":12350},{"$f":"\"P\"&RIGHT('Call Data'!B156,LEN('Call Data'!B156)-1)","v":"P.US.CLEJ2612350"},{"$f":"IF(LEFT(RTD(\"cqg.rtd\", ,\"ContractData\",B156, \"LastTrade\",, \"T\"),3)=\"768\",\"\",RTD(\"cqg.rtd\", ,\"ContractData\",B156, \"LastTrade\",, \"T\"))","v":36.01},{"$f":"IF(C156=\"\",\"\",RTD(\"cqg.rtd\", ,\"ContractData\",B156, \"NetLastTrade\",, \"T\"))","v":-1.2900000000000063},{"$f":"IF(LEFT(RTD(\"cqg.rtd\", ,\"ContractData\",B156, \"LastTrade\",, \"T\"),3)=\"768\",\"\",RTD(\"cqg.rtd\", ,\"ContractData\",B156, \"MT_LastBidVolume\",, \"T\"))","v":1},{"$f":"IF(LEFT(RTD(\"cqg.rtd\", ,\"ContractData\",B156, \"LastTrade\",, \"T\"),3)=\"768\",\"\",RTD(\"cqg.rtd\", ,\"ContractData\",B156, \"Bid\",, \"T\"))","v":32.869999999999997},{"$f":"IF(LEFT(RTD(\"cqg.rtd\", ,\"ContractData\",B156, \"LastTrade\",, \"T\"),3)=\"768\",\"\",RTD(\"cqg.rtd\", ,\"ContractData\",B156, \"Ask\",, \"T\"))","v":33.06},{"$f":"IF(LEFT(RTD(\"cqg.rtd\", ,\"ContractData\",B156, \"LastTrade\",, \"T\"),3)=\"768\",\"\",RTD(\"cqg.rtd\", ,\"ContractData\",B156, \"MT_LastAskVolume\",, \"T\"))","v":1},{"$f":"IF(LEFT(RTD(\"cqg.rtd\", ,\"ContractData\",B156, \"LastTrade\",, \"T\"),3)=\"768\",\"\",RTD(\"cqg.rtd\", ,\"ContractData\",B156, \"T_CVol\",, \"T\"))","v":0},{"$f":"IF(LEFT(RTD(\"cqg.rtd\", ,\"ContractData\",B156, \"LastTrade\",, \"T\"),3)=\"768\",\"\",RTD(\"cqg.rtd\", ,\"ContractData\",B156, \"Y_CVol\",, \"T\"))","v":0},{"$f":"IF(LEFT(RTD(\"cqg.rtd\", ,\"ContractData\",B156, \"LastTrade\",, \"T\"),3)=\"768\",\"\",IFERROR(IF(I156>J156,\"+\"&I156-J156,I156-J156)*1,\"\"))","v":0},{"$f":"IF(LEFT(RTD(\"cqg.rtd\", ,\"ContractData\",B156, \"LastTrade\",, \"T\"),3)=\"768\",\"\",RTD(\"cqg.rtd\",,\"StudyData\",B156,  \"Bar\",,  \"ContractOI\", \"D\", \"-1\",,,,,\"T\"))","v":3},{"$f":"IF(LEFT(RTD(\"cqg.rtd\", ,\"ContractData\",B156, \"LastTrade\",, \"T\"),3)=\"768\",\"\",RTD(\"cqg.rtd\",,\"StudyData\",B156,  \"Bar\",,  \"ContractOI\", \"D\", \"-2\",,,,,\"T\"))","v":3},{"$f":"IF(LEFT(RTD(\"cqg.rtd\", ,\"ContractData\",B156, \"LastTrade\",, \"T\"),3)=\"768\",\"\",IFERROR(IF(L156>M156,\"+\"&L156-M156,L156-M156)*1,\"\"))","v":0}]
[{"$f":"'Call Data'!A157","v":12400},{"$f":"\"P\"&RIGHT('Call Data'!B157,LEN('Call Data'!B157)-1)","v":"P.US.CLEJ2612400"},{"$f":"IF(LEFT(RTD(\"cqg.rtd\", ,\"ContractData\",B157, \"LastTrade\",, \"T\"),3)=\"768\",\"\",RTD(\"cqg.rtd\", ,\"ContractData\",B157, \"LastTrade\",, \"T\"))","v":36.15},{"$f":"IF(C157=\"\",\"\",RTD(\"cqg.rtd\", ,\"ContractData\",B157, \"NetLastTrade\",, \"T\"))","v":-1.6200000000000045},{"$f":"IF(LEFT(RTD(\"cqg.rtd\", ,\"ContractData\",B157, \"LastTrade\",, \"T\"),3)=\"768\",\"\",RTD(\"cqg.rtd\", ,\"ContractData\",B157, \"MT_LastBidVolume\",, \"T\"))","v":1},{"$f":"IF(LEFT(RTD(\"cqg.rtd\", ,\"ContractData\",B157, \"LastTrade\",, \"T\"),3)=\"768\",\"\",RTD(\"cqg.rtd\", ,\"ContractData\",B157, \"Bid\",, \"T\"))","v":33.340000000000003},{"$f":"IF(LEFT(RTD(\"cqg.rtd\", ,\"ContractData\",B157, \"LastTrade\",, \"T\"),3)=\"768\",\"\",RTD(\"cqg.rtd\", ,\"ContractData\",B157, \"Ask\",, \"T\"))","v":33.520000000000003},{"$f":"IF(LEFT(RTD(\"cqg.rtd\", ,\"ContractData\",B157, \"LastTrade\",, \"T\"),3)=\"768\",\"\",RTD(\"cqg.rtd\", ,\"ContractData\",B157, \"MT_LastAskVolume\",, \"T\"))","v":1},{"$f":"IF(LEFT(RTD(\"cqg.rtd\", ,\"ContractData\",B157, \"LastTrade\",, \"T\"),3)=\"768\",\"\",RTD(\"cqg.rtd\", ,\"ContractData\",B157, \"T_CVol\",, \"T\"))","v":0},{"$f":"IF(LEFT(RTD(\"cqg.rtd\", ,\"ContractData\",B157, \"LastTrade\",, \"T\"),3)=\"768\",\"\",RTD(\"cqg.rtd\", ,\"ContractData\",B157, \"Y_CVol\",, \"T\"))","v":0},{"$f":"IF(LEFT(RTD(\"cqg.rtd\", ,\"ContractData\",B157, \"LastTrade\",, \"T\"),3)=\"768\",\"\",IFERROR(IF(I157>J157,\"+\"&I157-J157,I157-J157)*1,\"\"))","v":0},{"$f":"IF(LEFT(RTD(\"cqg.rtd\", ,\"ContractData\",B157, \"LastTrade\",, \"T\"),3)=\"768\",\"\",RTD(\"cqg.rtd\",,\"StudyData\",B157,  \"Bar\",,  \"ContractOI\", \"D\", \"-1\",,,,,\"T\"))","v":1},{"$f":"IF(LEFT(RTD(\"cqg.rtd\", ,\"ContractData\",B157, \"LastTrade\",, \"T\"),3)=\"768\",\"\",RTD(\"cqg.rtd\",,\"StudyData\",B157,  \"Bar\",,  \"ContractOI\", \"D\", \"-2\",,,,,\"T\"))","v":1},{"$f":"IF(LEFT(RTD(\"cqg.rtd\", ,\"ContractData\",B157, \"LastTrade\",, \"T\"),3)=\"768\",\"\",IFERROR(IF(L157>M157,\"+\"&L157-M157,L157-M157)*1,\"\"))","v":0}]
[{"$f":"'Call Data'!A158","v":12450},{"$f":"\"P\"&RIGHT('Call Data'!B158,LEN('Call Data'!B158)-1)","v":"P.US.CLEJ2612450"},{"$f":"IF(LEFT(RTD(\"cqg.rtd\", ,\"ContractData\",B158, \"LastTrade\",, \"T\"),3)=\"768\",\"\",RTD(\"cqg.rtd\", ,\"ContractData\",B158, \"LastTrade\",, \"T\"))","v":35.36},{"$f":"IF(C158=\"\",\"\",RTD(\"cqg.rtd\", ,\"ContractData\",B158, \"NetLastTrade\",, \"T\"))","v":-2.8900000000000006},{"$f":"IF(LEFT(RTD(\"cqg.rtd\", ,\"ContractData\",B158, \"LastTrade\",, \"T\"),3)=\"768\",\"\",RTD(\"cqg.rtd\", ,\"ContractData\",B158, \"MT_LastBidVolume\",, \"T\"))","v":1},{"$f":"IF(LEFT(RTD(\"cqg.rtd\", ,\"ContractData\",B158, \"LastTrade\",, \"T\"),3)=\"768\",\"\",RTD(\"cqg.rtd\", ,\"ContractData\",B158, \"Bid\",, \"T\"))","v":33.81},{"$f":"IF(LEFT(RTD(\"cqg.rtd\", ,\"ContractData\",B158, \"LastTrade\",, \"T\"),3)=\"768\",\"\",RTD(\"cqg.rtd\", ,\"ContractData\",B158, \"Ask\",, \"T\"))","v":34},{"$f":"IF(LEFT(RTD(\"cqg.rtd\", ,\"ContractData\",B158, \"LastTrade\",, \"T\"),3)=\"768\",\"\",RTD(\"cqg.rtd\", ,\"ContractData\",B158, \"MT_LastAskVolume\",, \"T\"))","v":1},{"$f":"IF(LEFT(RTD(\"cqg.rtd\", ,\"ContractData\",B158, \"LastTrade\",, \"T\"),3)=\"768\",\"\",RTD(\"cqg.rtd\", ,\"ContractData\",B158, \"T_CVol\",, \"T\"))","v":0},{"$f":"IF(LEFT(RTD(\"cqg.rtd\", ,\"ContractData\",B158, \"LastTrade\",, \"T\"),3)=\"768\",\"\",RTD(\"cqg.rtd\", ,\"ContractData\",B158, \"Y_CVol\",, \"T\"))","v":0},{"$f":"IF(LEFT(RTD(\"cqg.rtd\", ,\"ContractData\",B158, \"LastTrade\",, \"T\"),3)=\"768\",\"\",IFERROR(IF(I158>J158,\"+\"&I158-J158,I158-J158)*1,\"\"))","v":0},{"$f":"IF(LEFT(RTD(\"cqg.rtd\", ,\"ContractData\",B158, \"LastTrade\",, \"T\"),3)=\"768\",\"\",RTD(\"cqg.rtd\",,\"StudyData\",B158,  \"Bar\",,  \"ContractOI\", \"D\", \"-1\",,,,,\"T\"))","v":2},{"$f":"IF(LEFT(RTD(\"cqg.rtd\", ,\"ContractData\",B158, \"LastTrade\",, \"T\"),3)=\"768\",\"\",RTD(\"cqg.rtd\",,\"StudyData\",B158,  \"Bar\",,  \"ContractOI\", \"D\", \"-2\",,,,,\"T\"))","v":2},{"$f":"IF(LEFT(RTD(\"cqg.rtd\", ,\"ContractData\",B158, \"LastTrade\",, \"T\"),3)=\"768\",\"\",IFERROR(IF(L158>M158,\"+\"&L158-M158,L158-M158)*1,\"\"))","v":0}]
[{"$f":"'Call Data'!A159","v":12500},{"$f":"\"P\"&RIGHT('Call Data'!B159,LEN('Call Data'!B159)-1)","v":"P.US.CLEJ2612500"},{"$f":"IF(LEFT(RTD(\"cqg.rtd\", ,\"ContractData\",B159, \"LastTrade\",, \"T\"),3)=\"768\",\"\",RTD(\"cqg.rtd\", ,\"ContractData\",B159, \"LastTrade\",, \"T\"))","v":29.990000000000002},{"$f":"IF(C159=\"\",\"\",RTD(\"cqg.rtd\", ,\"ContractData\",B159, \"NetLastTrade\",, \"T\"))","v":-8.7299999999999969},{"$f":"IF(LEFT(RTD(\"cqg.rtd\", ,\"ContractData\",B159, \"LastTrade\",, \"T\"),3)=\"768\",\"\",RTD(\"cqg.rtd\", ,\"ContractData\",B159, \"MT_LastBidVolume\",, \"T\"))","v":1},{"$f":"IF(LEFT(RTD(\"cqg.rtd\", ,\"ContractData\",B159, \"LastTrade\",, \"T\"),3)=\"768\",\"\",RTD(\"cqg.rtd\", ,\"ContractData\",B159, \"Bid\",, \"T\"))","v":34.28},{"$f":"IF(LEFT(RTD(\"cqg.rtd\", ,\"ContractData\",B159, \"LastTrade\",, \"T\"),3)=\"768\",\"\",RTD(\"cqg.rtd\", ,\"ContractData\",B159, \"Ask\",, \"T\"))","v":34.47},{"$f":"IF(LEFT(RTD(\"cqg.rtd\", ,\"ContractData\",B159, \"LastTrade\",, \"T\"),3)=\"768\",\"\",RTD(\"cqg.rtd\", ,\"ContractData\",B159, \"MT_LastAskVolume\",, \"T\"))","v":2},{"$f":"IF(LEFT(RTD(\"cqg.rtd\", ,\"ContractData\",B159, \"LastTrade\",, \"T\"),3)=\"768\",\"\",RTD(\"cqg.rtd\", ,\"ContractData\",B159, \"T_CVol\",, \"T\"))","v":0},{"$f":"IF(LEFT(RTD(\"cqg.rtd\", ,\"ContractData\",B159, \"LastTrade\",, \"T\"),3)=\"768\",\"\",RTD(\"cqg.rtd\", ,\"ContractData\",B159, \"Y_CVol\",, \"T\"))","v":0},{"$f":"IF(LEFT(RTD(\"cqg.rtd\", ,\"ContractData\",B159, \"LastTrade\",, \"T\"),3)=\"768\",\"\",IFERROR(IF(I159>J159,\"+\"&I159-J159,I159-J159)*1,\"\"))","v":0},{"$f":"IF(LEFT(RTD(\"cqg.rtd\", ,\"ContractData\",B159, \"LastTrade\",, \"T\"),3)=\"768\",\"\",RTD(\"cqg.rtd\",,\"StudyData\",B159,  \"Bar\",,  \"ContractOI\", \"D\", \"-1\",,,,,\"T\"))","v":16},{"$f":"IF(LEFT(RTD(\"cqg.rtd\", ,\"ContractData\",B159, \"LastTrade\",, \"T\"),3)=\"768\",\"\",RTD(\"cqg.rtd\",,\"StudyData\",B159,  \"Bar\",,  \"ContractOI\", \"D\", \"-2\",,,,,\"T\"))","v":16},{"$f":"IF(LEFT(RTD(\"cqg.rtd\", ,\"ContractData\",B159, \"LastTrade\",, \"T\"),3)=\"768\",\"\",IFERROR(IF(L159>M159,\"+\"&L159-M159,L159-M159)*1,\"\"))","v":0}]
[{"$f":"'Call Data'!A160","v":12550},{"$f":"\"P\"&RIGHT('Call Data'!B160,LEN('Call Data'!B160)-1)","v":"P.US.CLEJ2612550"},{"$f":"IF(LEFT(RTD(\"cqg.rtd\", ,\"ContractData\",B160, \"LastTrade\",, \"T\"),3)=\"768\",\"\",RTD(\"cqg.rtd\", ,\"ContractData\",B160, \"LastTrade\",, \"T\"))","v":""},{"$f":"IF(C160=\"\",\"\",RTD(\"cqg.rtd\", ,\"ContractData\",B160, \"NetLastTrade\",, \"T\"))","v":""},{"$f":"IF(LEFT(RTD(\"cqg.rtd\", ,\"ContractData\",B160, \"LastTrade\",, \"T\"),3)=\"768\",\"\",RTD(\"cqg.rtd\", ,\"ContractData\",B160, \"MT_LastBidVolume\",, \"T\"))","v":2},{"$f":"IF(LEFT(RTD(\"cqg.rtd\", ,\"ContractData\",B160, \"LastTrade\",, \"T\"),3)=\"768\",\"\",RTD(\"cqg.rtd\", ,\"ContractData\",B160, \"Bid\",, \"T\"))","v":34.74},{"$f":"IF(LEFT(RTD(\"cqg.rtd\", ,\"ContractData\",B160, \"LastTrade\",, \"T\"),3)=\"768\",\"\",RTD(\"cqg.rtd\", ,\"ContractData\",B160, \"Ask\",, \"T\"))","v":34.94},{"$f":"IF(LEFT(RTD(\"cqg.rtd\", ,\"ContractData\",B160, \"LastTrade\",, \"T\"),3)=\"768\",\"\",RTD(\"cqg.rtd\", ,\"ContractData\",B160, \"MT_LastAskVolume\",, \"T\"))","v":2},{"$f":"IF(LEFT(RTD(\"cqg.rtd\", ,\"ContractData\",B160, \"LastTrade\",, \"T\"),3)=\"768\",\"\",RTD(\"cqg.rtd\", ,\"ContractData\",B160, \"T_CVol\",, \"T\"))","v":0},{"$f":"IF(LEFT(RTD(\"cqg.rtd\", ,\"ContractData\",B160, \"LastTrade\",, \"T\"),3)=\"768\",\"\",RTD(\"cqg.rtd\", ,\"ContractData\",B160, \"Y_CVol\",, \"T\"))","v":0},{"$f":"IF(LEFT(RTD(\"cqg.rtd\", ,\"ContractData\",B160, \"LastTrade\",, \"T\"),3)=\"768\",\"\",IFERROR(IF(I160>J160,\"+\"&I160-J160,I160-J160)*1,\"\"))","v":0},{"$f":"IF(LEFT(RTD(\"cqg.rtd\", ,\"ContractData\",B160, \"LastTrade\",, \"T\"),3)=\"768\",\"\",RTD(\"cqg.rtd\",,\"StudyData\",B160,  \"Bar\",,  \"ContractOI\", \"D\", \"-1\",,,,,\"T\"))","v":""},{"$f":"IF(LEFT(RTD(\"cqg.rtd\", ,\"ContractData\",B160, \"LastTrade\",, \"T\"),3)=\"768\",\"\",RTD(\"cqg.rtd\",,\"StudyData\",B160,  \"Bar\",,  \"ContractOI\", \"D\", \"-2\",,,,,\"T\"))","v":""},{"$f":"IF(LEFT(RTD(\"cqg.rtd\", ,\"ContractData\",B160, \"LastTrade\",, \"T\"),3)=\"768\",\"\",IFERROR(IF(L160>M160,\"+\"&L160-M160,L160-M160)*1,\"\"))","v":""}]
[{"$f":"'Call Data'!A161","v":12600},{"$f":"\"P\"&RIGHT('Call Data'!B161,LEN('Call Data'!B161)-1)","v":"P.US.CLEJ2612600"},{"$f":"IF(LEFT(RTD(\"cqg.rtd\", ,\"ContractData\",B161, \"LastTrade\",, \"T\"),3)=\"768\",\"\",RTD(\"cqg.rtd\", ,\"ContractData\",B161, \"LastTrade\",, \"T\"))","v":""},{"$f":"IF(C161=\"\",\"\",RTD(\"cqg.rtd\", ,\"ContractData\",B161, \"NetLastTrade\",, \"T\"))","v":""},{"$f":"IF(LEFT(RTD(\"cqg.rtd\", ,\"ContractData\",B161, \"LastTrade\",, \"T\"),3)=\"768\",\"\",RTD(\"cqg.rtd\", ,\"ContractData\",B161, \"MT_LastBidVolume\",, \"T\"))","v":1},{"$f":"IF(LEFT(RTD(\"cqg.rtd\", ,\"ContractData\",B161, \"LastTrade\",, \"T\"),3)=\"768\",\"\",RTD(\"cqg.rtd\", ,\"ContractData\",B161, \"Bid\",, \"T\"))","v":35.22},{"$f":"IF(LEFT(RTD(\"cqg.rtd\", ,\"ContractData\",B161, \"LastTrade\",, \"T\"),3)=\"768\",\"\",RTD(\"cqg.rtd\", ,\"ContractData\",B161, \"Ask\",, \"T\"))","v":35.4},{"$f":"IF(LEFT(RTD(\"cqg.rtd\", ,\"ContractData\",B161, \"LastTrade\",, \"T\"),3)=\"768\",\"\",RTD(\"cqg.rtd\", ,\"ContractData\",B161, \"MT_LastAskVolume\",, \"T\"))","v":1},{"$f":"IF(LEFT(RTD(\"cqg.rtd\", ,\"ContractData\",B161, \"LastTrade\",, \"T\"),3)=\"768\",\"\",RTD(\"cqg.rtd\", ,\"ContractData\",B161, \"T_CVol\",, \"T\"))","v":0},{"$f":"IF(LEFT(RTD(\"cqg.rtd\", ,\"ContractData\",B161, \"LastTrade\",, \"T\"),3)=\"768\",\"\",RTD(\"cqg.rtd\", ,\"ContractData\",B161, \"Y_CVol\",, \"T\"))","v":0},{"$f":"IF(LEFT(RTD(\"cqg.rtd\", ,\"ContractData\",B161, \"LastTrade\",, \"T\"),3)=\"768\",\"\",IFERROR(IF(I161>J161,\"+\"&I161-J161,I161-J161)*1,\"\"))","v":0},{"$f":"IF(LEFT(RTD(\"cqg.rtd\", ,\"ContractData\",B161, \"LastTrade\",, \"T\"),3)=\"768\",\"\",RTD(\"cqg.rtd\",,\"StudyData\",B161,  \"Bar\",,  \"ContractOI\", \"D\", \"-1\",,,,,\"T\"))","v":""},{"$f":"IF(LEFT(RTD(\"cqg.rtd\", ,\"ContractData\",B161, \"LastTrade\",, \"T\"),3)=\"768\",\"\",RTD(\"cqg.rtd\",,\"StudyData\",B161,  \"Bar\",,  \"ContractOI\", \"D\", \"-2\",,,,,\"T\"))","v":""},{"$f":"IF(LEFT(RTD(\"cqg.rtd\", ,\"ContractData\",B161, \"LastTrade\",, \"T\"),3)=\"768\",\"\",IFERROR(IF(L161>M161,\"+\"&L161-M161,L161-M161)*1,\"\"))","v":""}]
[{"$f":"'Call Data'!A162","v":12650},{"$f":"\"P\"&RIGHT('Call Data'!B162,LEN('Call Data'!B162)-1)","v":"P.US.CLEJ2612650"},{"$f":"IF(LEFT(RTD(\"cqg.rtd\", ,\"ContractData\",B162, \"LastTrade\",, \"T\"),3)=\"768\",\"\",RTD(\"cqg.rtd\", ,\"ContractData\",B162, \"LastTrade\",, \"T\"))","v":""},{"$f":"IF(C162=\"\",\"\",RTD(\"cqg.rtd\", ,\"ContractData\",B162, \"NetLastTrade\",, \"T\"))","v":""},{"$f":"IF(LEFT(RTD(\"cqg.rtd\", ,\"ContractData\",B162, \"LastTrade\",, \"T\"),3)=\"768\",\"\",RTD(\"cqg.rtd\", ,\"ContractData\",B162, \"MT_LastBidVolume\",, \"T\"))","v":1},{"$f":"IF(LEFT(RTD(\"cqg.rtd\", ,\"ContractData\",B162, \"LastTrade\",, \"T\"),3)=\"768\",\"\",RTD(\"cqg.rtd\", ,\"ContractData\",B162, \"Bid\",, \"T\"))","v":35.69},{"$f":"IF(LEFT(RTD(\"cqg.rtd\", ,\"ContractData\",B162, \"LastTrade\",, \"T\"),3)=\"768\",\"\",RTD(\"cqg.rtd\", ,\"ContractData\",B162, \"Ask\",, \"T\"))","v":35.880000000000003},{"$f":"IF(LEFT(RTD(\"cqg.rtd\", ,\"ContractData\",B162, \"LastTrade\",, \"T\"),3)=\"768\",\"\",RTD(\"cqg.rtd\", ,\"ContractData\",B162, \"MT_LastAskVolume\",, \"T\"))","v":1},{"$f":"IF(LEFT(RTD(\"cqg.rtd\", ,\"ContractData\",B162, \"LastTrade\",, \"T\"),3)=\"768\",\"\",RTD(\"cqg.rtd\", ,\"ContractData\",B162, \"T_CVol\",, \"T\"))","v":0},{"$f":"IF(LEFT(RTD(\"cqg.rtd\", ,\"ContractData\",B162, \"LastTrade\",, \"T\"),3)=\"768\",\"\",RTD(\"cqg.rtd\", ,\"ContractData\",B162, \"Y_CVol\",, \"T\"))","v":0},{"$f":"IF(LEFT(RTD(\"cqg.rtd\", ,\"ContractData\",B162, \"LastTrade\",, \"T\"),3)=\"768\",\"\",IFERROR(IF(I162>J162,\"+\"&I162-J162,I162-J162)*1,\"\"))","v":0},{"$f":"IF(LEFT(RTD(\"cqg.rtd\", ,\"ContractData\",B162, \"LastTrade\",, \"T\"),3)=\"768\",\"\",RTD(\"cqg.rtd\",,\"StudyData\",B162,  \"Bar\",,  \"ContractOI\", \"D\", \"-1\",,,,,\"T\"))","v":""},{"$f":"IF(LEFT(RTD(\"cqg.rtd\", ,\"ContractData\",B162, \"LastTrade\",, \"T\"),3)=\"768\",\"\",RTD(\"cqg.rtd\",,\"StudyData\",B162,  \"Bar\",,  \"ContractOI\", \"D\", \"-2\",,,,,\"T\"))","v":""},{"$f":"IF(LEFT(RTD(\"cqg.rtd\", ,\"ContractData\",B162, \"LastTrade\",, \"T\"),3)=\"768\",\"\",IFERROR(IF(L162>M162,\"+\"&L162-M162,L162-M162)*1,\"\"))","v":""}]
[{"$f":"'Call Data'!A163","v":12700},{"$f":"\"P\"&RIGHT('Call Data'!B163,LEN('Call Data'!B163)-1)","v":"P.US.CLEJ2612700"},{"$f":"IF(LEFT(RTD(\"cqg.rtd\", ,\"ContractData\",B163, \"LastTrade\",, \"T\"),3)=\"768\",\"\",RTD(\"cqg.rtd\", ,\"ContractData\",B163, \"LastTrade\",, \"T\"))","v":""},{"$f":"IF(C163=\"\",\"\",RTD(\"cqg.rtd\", ,\"ContractData\",B163, \"NetLastTrade\",, \"T\"))","v":""},{"$f":"IF(LEFT(RTD(\"cqg.rtd\", ,\"ContractData\",B163, \"LastTrade\",, \"T\"),3)=\"768\",\"\",RTD(\"cqg.rtd\", ,\"ContractData\",B163, \"MT_LastBidVolume\",, \"T\"))","v":1},{"$f":"IF(LEFT(RTD(\"cqg.rtd\", ,\"ContractData\",B163, \"LastTrade\",, \"T\"),3)=\"768\",\"\",RTD(\"cqg.rtd\", ,\"ContractData\",B163, \"Bid\",, \"T\"))","v":36.160000000000004},{"$f":"IF(LEFT(RTD(\"cqg.rtd\", ,\"ContractData\",B163, \"LastTrade\",, \"T\"),3)=\"768\",\"\",RTD(\"cqg.rtd\", ,\"ContractData\",B163, \"Ask\",, \"T\"))","v":36.36},{"$f":"IF(LEFT(RTD(\"cqg.rtd\", ,\"ContractData\",B163, \"LastTrade\",, \"T\"),3)=\"768\",\"\",RTD(\"cqg.rtd\", ,\"ContractData\",B163, \"MT_LastAskVolume\",, \"T\"))","v":1},{"$f":"IF(LEFT(RTD(\"cqg.rtd\", ,\"ContractData\",B163, \"LastTrade\",, \"T\"),3)=\"768\",\"\",RTD(\"cqg.rtd\", ,\"ContractData\",B163, \"T_CVol\",, \"T\"))","v":0},{"$f":"IF(LEFT(RTD(\"cqg.rtd\", ,\"ContractData\",B163, \"LastTrade\",, \"T\"),3)=\"768\",\"\",RTD(\"cqg.rtd\", ,\"ContractData\",B163, \"Y_CVol\",, \"T\"))","v":0},{"$f":"IF(LEFT(RTD(\"cqg.rtd\", ,\"ContractData\",B163, \"LastTrade\",, \"T\"),3)=\"768\",\"\",IFERROR(IF(I163>J163,\"+\"&I163-J163,I163-J163)*1,\"\"))","v":0},{"$f":"IF(LEFT(RTD(\"cqg.rtd\", ,\"ContractData\",B163, \"LastTrade\",, \"T\"),3)=\"768\",\"\",RTD(\"cqg.rtd\",,\"StudyData\",B163,  \"Bar\",,  \"ContractOI\", \"D\", \"-1\",,,,,\"T\"))","v":""},{"$f":"IF(LEFT(RTD(\"cqg.rtd\", ,\"ContractData\",B163, \"LastTrade\",, \"T\"),3)=\"768\",\"\",RTD(\"cqg.rtd\",,\"StudyData\",B163,  \"Bar\",,  \"ContractOI\", \"D\", \"-2\",,,,,\"T\"))","v":""},{"$f":"IF(LEFT(RTD(\"cqg.rtd\", ,\"ContractData\",B163, \"LastTrade\",, \"T\"),3)=\"768\",\"\",IFERROR(IF(L163>M163,\"+\"&L163-M163,L163-M163)*1,\"\"))","v":""}]
[{"$f":"'Call Data'!A164","v":12750},{"$f":"\"P\"&RIGHT('Call Data'!B164,LEN('Call Data'!B164)-1)","v":"P.US.CLEJ2612750"},{"$f":"IF(LEFT(RTD(\"cqg.rtd\", ,\"ContractData\",B164, \"LastTrade\",, \"T\"),3)=\"768\",\"\",RTD(\"cqg.rtd\", ,\"ContractData\",B164, \"LastTrade\",, \"T\"))","v":""},{"$f":"IF(C164=\"\",\"\",RTD(\"cqg.rtd\", ,\"ContractData\",B164, \"NetLastTrade\",, \"T\"))","v":""},{"$f":"IF(LEFT(RTD(\"cqg.rtd\", ,\"ContractData\",B164, \"LastTrade\",, \"T\"),3)=\"768\",\"\",RTD(\"cqg.rtd\", ,\"ContractData\",B164, \"MT_LastBidVolume\",, \"T\"))","v":1},{"$f":"IF(LEFT(RTD(\"cqg.rtd\", ,\"ContractData\",B164, \"LastTrade\",, \"T\"),3)=\"768\",\"\",RTD(\"cqg.rtd\", ,\"ContractData\",B164, \"Bid\",, \"T\"))","v":36.64},{"$f":"IF(LEFT(RTD(\"cqg.rtd\", ,\"ContractData\",B164, \"LastTrade\",, \"T\"),3)=\"768\",\"\",RTD(\"cqg.rtd\", ,\"ContractData\",B164, \"Ask\",, \"T\"))","v":36.83},{"$f":"IF(LEFT(RTD(\"cqg.rtd\", ,\"ContractData\",B164, \"LastTrade\",, \"T\"),3)=\"768\",\"\",RTD(\"cqg.rtd\", ,\"ContractData\",B164, \"MT_LastAskVolume\",, \"T\"))","v":2},{"$f":"IF(LEFT(RTD(\"cqg.rtd\", ,\"ContractData\",B164, \"LastTrade\",, \"T\"),3)=\"768\",\"\",RTD(\"cqg.rtd\", ,\"ContractData\",B164, \"T_CVol\",, \"T\"))","v":0},{"$f":"IF(LEFT(RTD(\"cqg.rtd\", ,\"ContractData\",B164, \"LastTrade\",, \"T\"),3)=\"768\",\"\",RTD(\"cqg.rtd\", ,\"ContractData\",B164, \"Y_CVol\",, \"T\"))","v":0},{"$f":"IF(LEFT(RTD(\"cqg.rtd\", ,\"ContractData\",B164, \"LastTrade\",, \"T\"),3)=\"768\",\"\",IFERROR(IF(I164>J164,\"+\"&I164-J164,I164-J164)*1,\"\"))","v":0},{"$f":"IF(LEFT(RTD(\"cqg.rtd\", ,\"ContractData\",B164, \"LastTrade\",, \"T\"),3)=\"768\",\"\",RTD(\"cqg.rtd\",,\"StudyData\",B164,  \"Bar\",,  \"ContractOI\", \"D\", \"-1\",,,,,\"T\"))","v":""},{"$f":"IF(LEFT(RTD(\"cqg.rtd\", ,\"ContractData\",B164, \"LastTrade\",, \"T\"),3)=\"768\",\"\",RTD(\"cqg.rtd\",,\"StudyData\",B164,  \"Bar\",,  \"ContractOI\", \"D\", \"-2\",,,,,\"T\"))","v":""},{"$f":"IF(LEFT(RTD(\"cqg.rtd\", ,\"ContractData\",B164, \"LastTrade\",, \"T\"),3)=\"768\",\"\",IFERROR(IF(L164>M164,\"+\"&L164-M164,L164-M164)*1,\"\"))","v":""}]
[{"$f":"'Call Data'!A165","v":12800},{"$f":"\"P\"&RIGHT('Call Data'!B165,LEN('Call Data'!B165)-1)","v":"P.US.CLEJ2612800"},{"$f":"IF(LEFT(RTD(\"cqg.rtd\", ,\"ContractData\",B165, \"LastTrade\",, \"T\"),3)=\"768\",\"\",RTD(\"cqg.rtd\", ,\"ContractData\",B165, \"LastTrade\",, \"T\"))","v":""},{"$f":"IF(C165=\"\",\"\",RTD(\"cqg.rtd\", ,\"ContractData\",B165, \"NetLastTrade\",, \"T\"))","v":""},{"$f":"IF(LEFT(RTD(\"cqg.rtd\", ,\"ContractData\",B165, \"LastTrade\",, \"T\"),3)=\"768\",\"\",RTD(\"cqg.rtd\", ,\"ContractData\",B165, \"MT_LastBidVolume\",, \"T\"))","v":1},{"$f":"IF(LEFT(RTD(\"cqg.rtd\", ,\"ContractData\",B165, \"LastTrade\",, \"T\"),3)=\"768\",\"\",RTD(\"cqg.rtd\", ,\"ContractData\",B165, \"Bid\",, \"T\"))","v":37.11},{"$f":"IF(LEFT(RTD(\"cqg.rtd\", ,\"ContractData\",B165, \"LastTrade\",, \"T\"),3)=\"768\",\"\",RTD(\"cqg.rtd\", ,\"ContractData\",B165, \"Ask\",, \"T\"))","v":37.300000000000004},{"$f":"IF(LEFT(RTD(\"cqg.rtd\", ,\"ContractData\",B165, \"LastTrade\",, \"T\"),3)=\"768\",\"\",RTD(\"cqg.rtd\", ,\"ContractData\",B165, \"MT_LastAskVolume\",, \"T\"))","v":1},{"$f":"IF(LEFT(RTD(\"cqg.rtd\", ,\"ContractData\",B165, \"LastTrade\",, \"T\"),3)=\"768\",\"\",RTD(\"cqg.rtd\", ,\"ContractData\",B165, \"T_CVol\",, \"T\"))","v":0},{"$f":"IF(LEFT(RTD(\"cqg.rtd\", ,\"ContractData\",B165, \"LastTrade\",, \"T\"),3)=\"768\",\"\",RTD(\"cqg.rtd\", ,\"ContractData\",B165, \"Y_CVol\",, \"T\"))","v":0},{"$f":"IF(LEFT(RTD(\"cqg.rtd\", ,\"ContractData\",B165, \"LastTrade\",, \"T\"),3)=\"768\",\"\",IFERROR(IF(I165>J165,\"+\"&I165-J165,I165-J165)*1,\"\"))","v":0},{"$f":"IF(LEFT(RTD(\"cqg.rtd\", ,\"ContractData\",B165, \"LastTrade\",, \"T\"),3)=\"768\",\"\",RTD(\"cqg.rtd\",,\"StudyData\",B165,  \"Bar\",,  \"ContractOI\", \"D\", \"-1\",,,,,\"T\"))","v":""},{"$f":"IF(LEFT(RTD(\"cqg.rtd\", ,\"ContractData\",B165, \"LastTrade\",, \"T\"),3)=\"768\",\"\",RTD(\"cqg.rtd\",,\"StudyData\",B165,  \"Bar\",,  \"ContractOI\", \"D\", \"-2\",,,,,\"T\"))","v":""},{"$f":"IF(LEFT(RTD(\"cqg.rtd\", ,\"ContractData\",B165, \"LastTrade\",, \"T\"),3)=\"768\",\"\",IFERROR(IF(L165>M165,\"+\"&L165-M165,L165-M165)*1,\"\"))","v":""}]
[{"$f":"'Call Data'!A166","v":12850},{"$f":"\"P\"&RIGHT('Call Data'!B166,LEN('Call Data'!B166)-1)","v":"P.US.CLEJ2612850"},{"$f":"IF(LEFT(RTD(\"cqg.rtd\", ,\"ContractData\",B166, \"LastTrade\",, \"T\"),3)=\"768\",\"\",RTD(\"cqg.rtd\", ,\"ContractData\",B166, \"LastTrade\",, \"T\"))","v":""},{"$f":"IF(C166=\"\",\"\",RTD(\"cqg.rtd\", ,\"ContractData\",B166, \"NetLastTrade\",, \"T\"))","v":""},{"$f":"IF(LEFT(RTD(\"cqg.rtd\", ,\"ContractData\",B166, \"LastTrade\",, \"T\"),3)=\"768\",\"\",RTD(\"cqg.rtd\", ,\"ContractData\",B166, \"MT_LastBidVolume\",, \"T\"))","v":1},{"$f":"IF(LEFT(RTD(\"cqg.rtd\", ,\"ContractData\",B166, \"LastTrade\",, \"T\"),3)=\"768\",\"\",RTD(\"cqg.rtd\", ,\"ContractData\",B166, \"Bid\",, \"T\"))","v":37.58},{"$f":"IF(LEFT(RTD(\"cqg.rtd\", ,\"ContractData\",B166, \"LastTrade\",, \"T\"),3)=\"768\",\"\",RTD(\"cqg.rtd\", ,\"ContractData\",B166, \"Ask\",, \"T\"))","v":37.78},{"$f":"IF(LEFT(RTD(\"cqg.rtd\", ,\"ContractData\",B166, \"LastTrade\",, \"T\"),3)=\"768\",\"\",RTD(\"cqg.rtd\", ,\"ContractData\",B166, \"MT_LastAskVolume\",, \"T\"))","v":2},{"$f":"IF(LEFT(RTD(\"cqg.rtd\", ,\"ContractData\",B166, \"LastTrade\",, \"T\"),3)=\"768\",\"\",RTD(\"cqg.rtd\", ,\"ContractData\",B166, \"T_CVol\",, \"T\"))","v":0},{"$f":"IF(LEFT(RTD(\"cqg.rtd\", ,\"ContractData\",B166, \"LastTrade\",, \"T\"),3)=\"768\",\"\",RTD(\"cqg.rtd\", ,\"ContractData\",B166, \"Y_CVol\",, \"T\"))","v":0},{"$f":"IF(LEFT(RTD(\"cqg.rtd\", ,\"ContractData\",B166, \"LastTrade\",, \"T\"),3)=\"768\",\"\",IFERROR(IF(I166>J166,\"+\"&I166-J166,I166-J166)*1,\"\"))","v":0},{"$f":"IF(LEFT(RTD(\"cqg.rtd\", ,\"ContractData\",B166, \"LastTrade\",, \"T\"),3)=\"768\",\"\",RTD(\"cqg.rtd\",,\"StudyData\",B166,  \"Bar\",,  \"ContractOI\", \"D\", \"-1\",,,,,\"T\"))","v":""},{"$f":"IF(LEFT(RTD(\"cqg.rtd\", ,\"ContractData\",B166, \"LastTrade\",, \"T\"),3)=\"768\",\"\",RTD(\"cqg.rtd\",,\"StudyData\",B166,  \"Bar\",,  \"ContractOI\", \"D\", \"-2\",,,,,\"T\"))","v":""},{"$f":"IF(LEFT(RTD(\"cqg.rtd\", ,\"ContractData\",B166, \"LastTrade\",, \"T\"),3)=\"768\",\"\",IFERROR(IF(L166>M166,\"+\"&L166-M166,L166-M166)*1,\"\"))","v":""}]
[{"$f":"'Call Data'!A167","v":12900},{"$f":"\"P\"&RIGHT('Call Data'!B167,LEN('Call Data'!B167)-1)","v":"P.US.CLEJ2612900"},{"$f":"IF(LEFT(RTD(\"cqg.rtd\", ,\"ContractData\",B167, \"LastTrade\",, \"T\"),3)=\"768\",\"\",RTD(\"cqg.rtd\", ,\"ContractData\",B167, \"LastTrade\",, \"T\"))","v":""},{"$f":"IF(C167=\"\",\"\",RTD(\"cqg.rtd\", ,\"ContractData\",B167, \"NetLastTrade\",, \"T\"))","v":""},{"$f":"IF(LEFT(RTD(\"cqg.rtd\", ,\"ContractData\",B167, \"LastTrade\",, \"T\"),3)=\"768\",\"\",RTD(\"cqg.rtd\", ,\"ContractData\",B167, \"MT_LastBidVolume\",, \"T\"))","v":1},{"$f":"IF(LEFT(RTD(\"cqg.rtd\", ,\"ContractData\",B167, \"LastTrade\",, \"T\"),3)=\"768\",\"\",RTD(\"cqg.rtd\", ,\"ContractData\",B167, \"Bid\",, \"T\"))","v":38.06},{"$f":"IF(LEFT(RTD(\"cqg.rtd\", ,\"ContractData\",B167, \"LastTrade\",, \"T\"),3)=\"768\",\"\",RTD(\"cqg.rtd\", ,\"ContractData\",B167, \"Ask\",, \"T\"))","v":38.24},{"$f":"IF(LEFT(RTD(\"cqg.rtd\", ,\"ContractData\",B167, \"LastTrade\",, \"T\"),3)=\"768\",\"\",RTD(\"cqg.rtd\", ,\"ContractData\",B167, \"MT_LastAskVolume\",, \"T\"))","v":1},{"$f":"IF(LEFT(RTD(\"cqg.rtd\", ,\"ContractData\",B167, \"LastTrade\",, \"T\"),3)=\"768\",\"\",RTD(\"cqg.rtd\", ,\"ContractData\",B167, \"T_CVol\",, \"T\"))","v":0},{"$f":"IF(LEFT(RTD(\"cqg.rtd\", ,\"ContractData\",B167, \"LastTrade\",, \"T\"),3)=\"768\",\"\",RTD(\"cqg.rtd\", ,\"ContractData\",B167, \"Y_CVol\",, \"T\"))","v":0},{"$f":"IF(LEFT(RTD(\"cqg.rtd\", ,\"ContractData\",B167, \"LastTrade\",, \"T\"),3)=\"768\",\"\",IFERROR(IF(I167>J167,\"+\"&I167-J167,I167-J167)*1,\"\"))","v":0},{"$f":"IF(LEFT(RTD(\"cqg.rtd\", ,\"ContractData\",B167, \"LastTrade\",, \"T\"),3)=\"768\",\"\",RTD(\"cqg.rtd\",,\"StudyData\",B167,  \"Bar\",,  \"ContractOI\", \"D\", \"-1\",,,,,\"T\"))","v":""},{"$f":"IF(LEFT(RTD(\"cqg.rtd\", ,\"ContractData\",B167, \"LastTrade\",, \"T\"),3)=\"768\",\"\",RTD(\"cqg.rtd\",,\"StudyData\",B167,  \"Bar\",,  \"ContractOI\", \"D\", \"-2\",,,,,\"T\"))","v":""},{"$f":"IF(LEFT(RTD(\"cqg.rtd\", ,\"ContractData\",B167, \"LastTrade\",, \"T\"),3)=\"768\",\"\",IFERROR(IF(L167>M167,\"+\"&L167-M167,L167-M167)*1,\"\"))","v":""}]
[{"$f":"'Call Data'!A168","v":12950},{"$f":"\"P\"&RIGHT('Call Data'!B168,LEN('Call Data'!B168)-1)","v":"P.US.CLEJ2612950"},{"$f":"IF(LEFT(RTD(\"cqg.rtd\", ,\"ContractData\",B168, \"LastTrade\",, \"T\"),3)=\"768\",\"\",RTD(\"cqg.rtd\", ,\"ContractData\",B168, \"LastTrade\",, \"T\"))","v":""},{"$f":"IF(C168=\"\",\"\",RTD(\"cqg.rtd\", ,\"ContractData\",B168, \"NetLastTrade\",, \"T\"))","v":""},{"$f":"IF(LEFT(RTD(\"cqg.rtd\", ,\"ContractData\",B168, \"LastTrade\",, \"T\"),3)=\"768\",\"\",RTD(\"cqg.rtd\", ,\"ContractData\",B168, \"MT_LastBidVolume\",, \"T\"))","v":1},{"$f":"IF(LEFT(RTD(\"cqg.rtd\", ,\"ContractData\",B168, \"LastTrade\",, \"T\"),3)=\"768\",\"\",RTD(\"cqg.rtd\", ,\"ContractData\",B168, \"Bid\",, \"T\"))","v":38.54},{"$f":"IF(LEFT(RTD(\"cqg.rtd\", ,\"ContractData\",B168, \"LastTrade\",, \"T\"),3)=\"768\",\"\",RTD(\"cqg.rtd\", ,\"ContractData\",B168, \"Ask\",, \"T\"))","v":38.72},{"$f":"IF(LEFT(RTD(\"cqg.rtd\", ,\"ContractData\",B168, \"LastTrade\",, \"T\"),3)=\"768\",\"\",RTD(\"cqg.rtd\", ,\"ContractData\",B168, \"MT_LastAskVolume\",, \"T\"))","v":1},{"$f":"IF(LEFT(RTD(\"cqg.rtd\", ,\"ContractData\",B168, \"LastTrade\",, \"T\"),3)=\"768\",\"\",RTD(\"cqg.rtd\", ,\"ContractData\",B168, \"T_CVol\",, \"T\"))","v":0},{"$f":"IF(LEFT(RTD(\"cqg.rtd\", ,\"ContractData\",B168, \"LastTrade\",, \"T\"),3)=\"768\",\"\",RTD(\"cqg.rtd\", ,\"ContractData\",B168, \"Y_CVol\",, \"T\"))","v":0},{"$f":"IF(LEFT(RTD(\"cqg.rtd\", ,\"ContractData\",B168, \"LastTrade\",, \"T\"),3)=\"768\",\"\",IFERROR(IF(I168>J168,\"+\"&I168-J168,I168-J168)*1,\"\"))","v":0},{"$f":"IF(LEFT(RTD(\"cqg.rtd\", ,\"ContractData\",B168, \"LastTrade\",, \"T\"),3)=\"768\",\"\",RTD(\"cqg.rtd\",,\"StudyData\",B168,  \"Bar\",,  \"ContractOI\", \"D\", \"-1\",,,,,\"T\"))","v":""},{"$f":"IF(LEFT(RTD(\"cqg.rtd\", ,\"ContractData\",B168, \"LastTrade\",, \"T\"),3)=\"768\",\"\",RTD(\"cqg.rtd\",,\"StudyData\",B168,  \"Bar\",,  \"ContractOI\", \"D\", \"-2\",,,,,\"T\"))","v":""},{"$f":"IF(LEFT(RTD(\"cqg.rtd\", ,\"ContractData\",B168, \"LastTrade\",, \"T\"),3)=\"768\",\"\",IFERROR(IF(L168>M168,\"+\"&L168-M168,L168-M168)*1,\"\"))","v":""}]
[{"$f":"'Call Data'!A169","v":13000},{"$f":"\"P\"&RIGHT('Call Data'!B169,LEN('Call Data'!B169)-1)","v":"P.US.CLEJ2613000"},{"$f":"IF(LEFT(RTD(\"cqg.rtd\", ,\"ContractData\",B169, \"LastTrade\",, \"T\"),3)=\"768\",\"\",RTD(\"cqg.rtd\", ,\"ContractData\",B169, \"LastTrade\",, \"T\"))","v":""},{"$f":"IF(C169=\"\",\"\",RTD(\"cqg.rtd\", ,\"ContractData\",B169, \"NetLastTrade\",, \"T\"))","v":""},{"$f":"IF(LEFT(RTD(\"cqg.rtd\", ,\"ContractData\",B169, \"LastTrade\",, \"T\"),3)=\"768\",\"\",RTD(\"cqg.rtd\", ,\"ContractData\",B169, \"MT_LastBidVolume\",, \"T\"))","v":1},{"$f":"IF(LEFT(RTD(\"cqg.rtd\", ,\"ContractData\",B169, \"LastTrade\",, \"T\"),3)=\"768\",\"\",RTD(\"cqg.rtd\", ,\"ContractData\",B169, \"Bid\",, \"T\"))","v":39.020000000000003},{"$f":"IF(LEFT(RTD(\"cqg.rtd\", ,\"ContractData\",B169, \"LastTrade\",, \"T\"),3)=\"768\",\"\",RTD(\"cqg.rtd\", ,\"ContractData\",B169, \"Ask\",, \"T\"))","v":39.21},{"$f":"IF(LEFT(RTD(\"cqg.rtd\", ,\"ContractData\",B169, \"LastTrade\",, \"T\"),3)=\"768\",\"\",RTD(\"cqg.rtd\", ,\"ContractData\",B169, \"MT_LastAskVolume\",, \"T\"))","v":2},{"$f":"IF(LEFT(RTD(\"cqg.rtd\", ,\"ContractData\",B169, \"LastTrade\",, \"T\"),3)=\"768\",\"\",RTD(\"cqg.rtd\", ,\"ContractData\",B169, \"T_CVol\",, \"T\"))","v":0},{"$f":"IF(LEFT(RTD(\"cqg.rtd\", ,\"ContractData\",B169, \"LastTrade\",, \"T\"),3)=\"768\",\"\",RTD(\"cqg.rtd\", ,\"ContractData\",B169, \"Y_CVol\",, \"T\"))","v":0},{"$f":"IF(LEFT(RTD(\"cqg.rtd\", ,\"ContractData\",B169, \"LastTrade\",, \"T\"),3)=\"768\",\"\",IFERROR(IF(I169>J169,\"+\"&I169-J169,I169-J169)*1,\"\"))","v":0},{"$f":"IF(LEFT(RTD(\"cqg.rtd\", ,\"ContractData\",B169, \"LastTrade\",, \"T\"),3)=\"768\",\"\",RTD(\"cqg.rtd\",,\"StudyData\",B169,  \"Bar\",,  \"ContractOI\", \"D\", \"-1\",,,,,\"T\"))","v":41},{"$f":"IF(LEFT(RTD(\"cqg.rtd\", ,\"ContractData\",B169, \"LastTrade\",, \"T\"),3)=\"768\",\"\",RTD(\"cqg.rtd\",,\"StudyData\",B169,  \"Bar\",,  \"ContractOI\", \"D\", \"-2\",,,,,\"T\"))","v":41},{"$f":"IF(LEFT(RTD(\"cqg.rtd\", ,\"ContractData\",B169, \"LastTrade\",, \"T\"),3)=\"768\",\"\",IFERROR(IF(L169>M169,\"+\"&L169-M169,L169-M169)*1,\"\"))","v":0}]
[{"$f":"'Call Data'!A170","v":13050},{"$f":"\"P\"&RIGHT('Call Data'!B170,LEN('Call Data'!B170)-1)","v":"P.US.CLEJ2613050"},{"$f":"IF(LEFT(RTD(\"cqg.rtd\", ,\"ContractData\",B170, \"LastTrade\",, \"T\"),3)=\"768\",\"\",RTD(\"cqg.rtd\", ,\"ContractData\",B170, \"LastTrade\",, \"T\"))","v":""},{"$f":"IF(C170=\"\",\"\",RTD(\"cqg.rtd\", ,\"ContractData\",B170, \"NetLastTrade\",, \"T\"))","v":""},{"$f":"IF(LEFT(RTD(\"cqg.rtd\", ,\"ContractData\",B170, \"LastTrade\",, \"T\"),3)=\"768\",\"\",RTD(\"cqg.rtd\", ,\"ContractData\",B170, \"MT_LastBidVolume\",, \"T\"))","v":1},{"$f":"IF(LEFT(RTD(\"cqg.rtd\", ,\"ContractData\",B170, \"LastTrade\",, \"T\"),3)=\"768\",\"\",RTD(\"cqg.rtd\", ,\"ContractData\",B170, \"Bid\",, \"T\"))","v":39.49},{"$f":"IF(LEFT(RTD(\"cqg.rtd\", ,\"ContractData\",B170, \"LastTrade\",, \"T\"),3)=\"768\",\"\",RTD(\"cqg.rtd\", ,\"ContractData\",B170, \"Ask\",, \"T\"))","v":39.69},{"$f":"IF(LEFT(RTD(\"cqg.rtd\", ,\"ContractData\",B170, \"LastTrade\",, \"T\"),3)=\"768\",\"\",RTD(\"cqg.rtd\", ,\"ContractData\",B170, \"MT_LastAskVolume\",, \"T\"))","v":1},{"$f":"IF(LEFT(RTD(\"cqg.rtd\", ,\"ContractData\",B170, \"LastTrade\",, \"T\"),3)=\"768\",\"\",RTD(\"cqg.rtd\", ,\"ContractData\",B170, \"T_CVol\",, \"T\"))","v":0},{"$f":"IF(LEFT(RTD(\"cqg.rtd\", ,\"ContractData\",B170, \"LastTrade\",, \"T\"),3)=\"768\",\"\",RTD(\"cqg.rtd\", ,\"ContractData\",B170, \"Y_CVol\",, \"T\"))","v":0},{"$f":"IF(LEFT(RTD(\"cqg.rtd\", ,\"ContractData\",B170, \"LastTrade\",, \"T\"),3)=\"768\",\"\",IFERROR(IF(I170>J170,\"+\"&I170-J170,I170-J170)*1,\"\"))","v":0},{"$f":"IF(LEFT(RTD(\"cqg.rtd\", ,\"ContractData\",B170, \"LastTrade\",, \"T\"),3)=\"768\",\"\",RTD(\"cqg.rtd\",,\"StudyData\",B170,  \"Bar\",,  \"ContractOI\", \"D\", \"-1\",,,,,\"T\"))","v":""},{"$f":"IF(LEFT(RTD(\"cqg.rtd\", ,\"ContractData\",B170, \"LastTrade\",, \"T\"),3)=\"768\",\"\",RTD(\"cqg.rtd\",,\"StudyData\",B170,  \"Bar\",,  \"ContractOI\", \"D\", \"-2\",,,,,\"T\"))","v":""},{"$f":"IF(LEFT(RTD(\"cqg.rtd\", ,\"ContractData\",B170, \"LastTrade\",, \"T\"),3)=\"768\",\"\",IFERROR(IF(L170>M170,\"+\"&L170-M170,L170-M170)*1,\"\"))","v":""}]
[{"$f":"'Call Data'!A171","v":13100},{"$f":"\"P\"&RIGHT('Call Data'!B171,LEN('Call Data'!B171)-1)","v":"P.US.CLEJ2613100"},{"$f":"IF(LEFT(RTD(\"cqg.rtd\", ,\"ContractData\",B171, \"LastTrade\",, \"T\"),3)=\"768\",\"\",RTD(\"cqg.rtd\", ,\"ContractData\",B171, \"LastTrade\",, \"T\"))","v":44.58},{"$f":"IF(C171=\"\",\"\",RTD(\"cqg.rtd\", ,\"ContractData\",B171, \"NetLastTrade\",, \"T\"))","v":9.9999999999994316E-2},{"$f":"IF(LEFT(RTD(\"cqg.rtd\", ,\"ContractData\",B171, \"LastTrade\",, \"T\"),3)=\"768\",\"\",RTD(\"cqg.rtd\", ,\"ContractData\",B171, \"MT_LastBidVolume\",, \"T\"))","v":1},{"$f":"IF(LEFT(RTD(\"cqg.rtd\", ,\"ContractData\",B171, \"LastTrade\",, \"T\"),3)=\"768\",\"\",RTD(\"cqg.rtd\", ,\"ContractData\",B171, \"Bid\",, \"T\"))","v":39.97},{"$f":"IF(LEFT(RTD(\"cqg.rtd\", ,\"ContractData\",B171, \"LastTrade\",, \"T\"),3)=\"768\",\"\",RTD(\"cqg.rtd\", ,\"ContractData\",B171, \"Ask\",, \"T\"))","v":40.17},{"$f":"IF(LEFT(RTD(\"cqg.rtd\", ,\"ContractData\",B171, \"LastTrade\",, \"T\"),3)=\"768\",\"\",RTD(\"cqg.rtd\", ,\"ContractData\",B171, \"MT_LastAskVolume\",, \"T\"))","v":1},{"$f":"IF(LEFT(RTD(\"cqg.rtd\", ,\"ContractData\",B171, \"LastTrade\",, \"T\"),3)=\"768\",\"\",RTD(\"cqg.rtd\", ,\"ContractData\",B171, \"T_CVol\",, \"T\"))","v":0},{"$f":"IF(LEFT(RTD(\"cqg.rtd\", ,\"ContractData\",B171, \"LastTrade\",, \"T\"),3)=\"768\",\"\",RTD(\"cqg.rtd\", ,\"ContractData\",B171, \"Y_CVol\",, \"T\"))","v":1},{"$f":"IF(LEFT(RTD(\"cqg.rtd\", ,\"ContractData\",B171, \"LastTrade\",, \"T\"),3)=\"768\",\"\",IFERROR(IF(I171>J171,\"+\"&I171-J171,I171-J171)*1,\"\"))","v":-1},{"$f":"IF(LEFT(RTD(\"cqg.rtd\", ,\"ContractData\",B171, \"LastTrade\",, \"T\"),3)=\"768\",\"\",RTD(\"cqg.rtd\",,\"StudyData\",B171,  \"Bar\",,  \"ContractOI\", \"D\", \"-1\",,,,,\"T\"))","v":1},{"$f":"IF(LEFT(RTD(\"cqg.rtd\", ,\"ContractData\",B171, \"LastTrade\",, \"T\"),3)=\"768\",\"\",RTD(\"cqg.rtd\",,\"StudyData\",B171,  \"Bar\",,  \"ContractOI\", \"D\", \"-2\",,,,,\"T\"))","v":""},{"$f":"IF(LEFT(RTD(\"cqg.rtd\", ,\"ContractData\",B171, \"LastTrade\",, \"T\"),3)=\"768\",\"\",IFERROR(IF(L171>M171,\"+\"&L171-M171,L171-M171)*1,\"\"))","v":""}]
[{"$f":"'Call Data'!A172","v":13150},{"$f":"\"P\"&RIGHT('Call Data'!B172,LEN('Call Data'!B172)-1)","v":"P.US.CLEJ2613150"},{"$f":"IF(LEFT(RTD(\"cqg.rtd\", ,\"ContractData\",B172, \"LastTrade\",, \"T\"),3)=\"768\",\"\",RTD(\"cqg.rtd\", ,\"ContractData\",B172, \"LastTrade\",, \"T\"))","v":""},{"$f":"IF(C172=\"\",\"\",RTD(\"cqg.rtd\", ,\"ContractData\",B172, \"NetLastTrade\",, \"T\"))","v":""},{"$f":"IF(LEFT(RTD(\"cqg.rtd\", ,\"ContractData\",B172, \"LastTrade\",, \"T\"),3)=\"768\",\"\",RTD(\"cqg.rtd\", ,\"ContractData\",B172, \"MT_LastBidVolume\",, \"T\"))","v":1},{"$f":"IF(LEFT(RTD(\"cqg.rtd\", ,\"ContractData\",B172, \"LastTrade\",, \"T\"),3)=\"768\",\"\",RTD(\"cqg.rtd\", ,\"ContractData\",B172, \"Bid\",, \"T\"))","v":40.450000000000003},{"$f":"IF(LEFT(RTD(\"cqg.rtd\", ,\"ContractData\",B172, \"LastTrade\",, \"T\"),3)=\"768\",\"\",RTD(\"cqg.rtd\", ,\"ContractData\",B172, \"Ask\",, \"T\"))","v":40.65},{"$f":"IF(LEFT(RTD(\"cqg.rtd\", ,\"ContractData\",B172, \"LastTrade\",, \"T\"),3)=\"768\",\"\",RTD(\"cqg.rtd\", ,\"ContractData\",B172, \"MT_LastAskVolume\",, \"T\"))","v":2},{"$f":"IF(LEFT(RTD(\"cqg.rtd\", ,\"ContractData\",B172, \"LastTrade\",, \"T\"),3)=\"768\",\"\",RTD(\"cqg.rtd\", ,\"ContractData\",B172, \"T_CVol\",, \"T\"))","v":0},{"$f":"IF(LEFT(RTD(\"cqg.rtd\", ,\"ContractData\",B172, \"LastTrade\",, \"T\"),3)=\"768\",\"\",RTD(\"cqg.rtd\", ,\"ContractData\",B172, \"Y_CVol\",, \"T\"))","v":0},{"$f":"IF(LEFT(RTD(\"cqg.rtd\", ,\"ContractData\",B172, \"LastTrade\",, \"T\"),3)=\"768\",\"\",IFERROR(IF(I172>J172,\"+\"&I172-J172,I172-J172)*1,\"\"))","v":0},{"$f":"IF(LEFT(RTD(\"cqg.rtd\", ,\"ContractData\",B172, \"LastTrade\",, \"T\"),3)=\"768\",\"\",RTD(\"cqg.rtd\",,\"StudyData\",B172,  \"Bar\",,  \"ContractOI\", \"D\", \"-1\",,,,,\"T\"))","v":""},{"$f":"IF(LEFT(RTD(\"cqg.rtd\", ,\"ContractData\",B172, \"LastTrade\",, \"T\"),3)=\"768\",\"\",RTD(\"cqg.rtd\",,\"StudyData\",B172,  \"Bar\",,  \"ContractOI\", \"D\", \"-2\",,,,,\"T\"))","v":""},{"$f":"IF(LEFT(RTD(\"cqg.rtd\", ,\"ContractData\",B172, \"LastTrade\",, \"T\"),3)=\"768\",\"\",IFERROR(IF(L172>M172,\"+\"&L172-M172,L172-M172)*1,\"\"))","v":""}]
[{"$f":"'Call Data'!A173","v":13200},{"$f":"\"P\"&RIGHT('Call Data'!B173,LEN('Call Data'!B173)-1)","v":"P.US.CLEJ2613200"},{"$f":"IF(LEFT(RTD(\"cqg.rtd\", ,\"ContractData\",B173, \"LastTrade\",, \"T\"),3)=\"768\",\"\",RTD(\"cqg.rtd\", ,\"ContractData\",B173, \"LastTrade\",, \"T\"))","v":""},{"$f":"IF(C173=\"\",\"\",RTD(\"cqg.rtd\", ,\"ContractData\",B173, \"NetLastTrade\",, \"T\"))","v":""},{"$f":"IF(LEFT(RTD(\"cqg.rtd\", ,\"ContractData\",B173, \"LastTrade\",, \"T\"),3)=\"768\",\"\",RTD(\"cqg.rtd\", ,\"ContractData\",B173, \"MT_LastBidVolume\",, \"T\"))","v":2},{"$f":"IF(LEFT(RTD(\"cqg.rtd\", ,\"ContractData\",B173, \"LastTrade\",, \"T\"),3)=\"768\",\"\",RTD(\"cqg.rtd\", ,\"ContractData\",B173, \"Bid\",, \"T\"))","v":40.92},{"$f":"IF(LEFT(RTD(\"cqg.rtd\", ,\"ContractData\",B173, \"LastTrade\",, \"T\"),3)=\"768\",\"\",RTD(\"cqg.rtd\", ,\"ContractData\",B173, \"Ask\",, \"T\"))","v":41.13},{"$f":"IF(LEFT(RTD(\"cqg.rtd\", ,\"ContractData\",B173, \"LastTrade\",, \"T\"),3)=\"768\",\"\",RTD(\"cqg.rtd\", ,\"ContractData\",B173, \"MT_LastAskVolume\",, \"T\"))","v":2},{"$f":"IF(LEFT(RTD(\"cqg.rtd\", ,\"ContractData\",B173, \"LastTrade\",, \"T\"),3)=\"768\",\"\",RTD(\"cqg.rtd\", ,\"ContractData\",B173, \"T_CVol\",, \"T\"))","v":0},{"$f":"IF(LEFT(RTD(\"cqg.rtd\", ,\"ContractData\",B173, \"LastTrade\",, \"T\"),3)=\"768\",\"\",RTD(\"cqg.rtd\", ,\"ContractData\",B173, \"Y_CVol\",, \"T\"))","v":0},{"$f":"IF(LEFT(RTD(\"cqg.rtd\", ,\"ContractData\",B173, \"LastTrade\",, \"T\"),3)=\"768\",\"\",IFERROR(IF(I173>J173,\"+\"&I173-J173,I173-J173)*1,\"\"))","v":0},{"$f":"IF(LEFT(RTD(\"cqg.rtd\", ,\"ContractData\",B173, \"LastTrade\",, \"T\"),3)=\"768\",\"\",RTD(\"cqg.rtd\",,\"StudyData\",B173,  \"Bar\",,  \"ContractOI\", \"D\", \"-1\",,,,,\"T\"))","v":""},{"$f":"IF(LEFT(RTD(\"cqg.rtd\", ,\"ContractData\",B173, \"LastTrade\",, \"T\"),3)=\"768\",\"\",RTD(\"cqg.rtd\",,\"StudyData\",B173,  \"Bar\",,  \"ContractOI\", \"D\", \"-2\",,,,,\"T\"))","v":""},{"$f":"IF(LEFT(RTD(\"cqg.rtd\", ,\"ContractData\",B173, \"LastTrade\",, \"T\"),3)=\"768\",\"\",IFERROR(IF(L173>M173,\"+\"&L173-M173,L173-M173)*1,\"\"))","v":""}]
[{"$f":"'Call Data'!A174","v":13250},{"$f":"\"P\"&RIGHT('Call Data'!B174,LEN('Call Data'!B174)-1)","v":"P.US.CLEJ2613250"},{"$f":"IF(LEFT(RTD(\"cqg.rtd\", ,\"ContractData\",B174, \"LastTrade\",, \"T\"),3)=\"768\",\"\",RTD(\"cqg.rtd\", ,\"ContractData\",B174, \"LastTrade\",, \"T\"))","v":46},{"$f":"IF(C174=\"\",\"\",RTD(\"cqg.rtd\", ,\"ContractData\",B174, \"NetLastTrade\",, \"T\"))","v":7.0000000000000284E-2},{"$f":"IF(LEFT(RTD(\"cqg.rtd\", ,\"ContractData\",B174, \"LastTrade\",, \"T\"),3)=\"768\",\"\",RTD(\"cqg.rtd\", ,\"ContractData\",B174, \"MT_LastBidVolume\",, \"T\"))","v":2},{"$f":"IF(LEFT(RTD(\"cqg.rtd\", ,\"ContractData\",B174, \"LastTrade\",, \"T\"),3)=\"768\",\"\",RTD(\"cqg.rtd\", ,\"ContractData\",B174, \"Bid\",, \"T\"))","v":41.4},{"$f":"IF(LEFT(RTD(\"cqg.rtd\", ,\"ContractData\",B174, \"LastTrade\",, \"T\"),3)=\"768\",\"\",RTD(\"cqg.rtd\", ,\"ContractData\",B174, \"Ask\",, \"T\"))","v":41.61},{"$f":"IF(LEFT(RTD(\"cqg.rtd\", ,\"ContractData\",B174, \"LastTrade\",, \"T\"),3)=\"768\",\"\",RTD(\"cqg.rtd\", ,\"ContractData\",B174, \"MT_LastAskVolume\",, \"T\"))","v":2},{"$f":"IF(LEFT(RTD(\"cqg.rtd\", ,\"ContractData\",B174, \"LastTrade\",, \"T\"),3)=\"768\",\"\",RTD(\"cqg.rtd\", ,\"ContractData\",B174, \"T_CVol\",, \"T\"))","v":0},{"$f":"IF(LEFT(RTD(\"cqg.rtd\", ,\"ContractData\",B174, \"LastTrade\",, \"T\"),3)=\"768\",\"\",RTD(\"cqg.rtd\", ,\"ContractData\",B174, \"Y_CVol\",, \"T\"))","v":1},{"$f":"IF(LEFT(RTD(\"cqg.rtd\", ,\"ContractData\",B174, \"LastTrade\",, \"T\"),3)=\"768\",\"\",IFERROR(IF(I174>J174,\"+\"&I174-J174,I174-J174)*1,\"\"))","v":-1},{"$f":"IF(LEFT(RTD(\"cqg.rtd\", ,\"ContractData\",B174, \"LastTrade\",, \"T\"),3)=\"768\",\"\",RTD(\"cqg.rtd\",,\"StudyData\",B174,  \"Bar\",,  \"ContractOI\", \"D\", \"-1\",,,,,\"T\"))","v":""},{"$f":"IF(LEFT(RTD(\"cqg.rtd\", ,\"ContractData\",B174, \"LastTrade\",, \"T\"),3)=\"768\",\"\",RTD(\"cqg.rtd\",,\"StudyData\",B174,  \"Bar\",,  \"ContractOI\", \"D\", \"-2\",,,,,\"T\"))","v":1},{"$f":"IF(LEFT(RTD(\"cqg.rtd\", ,\"ContractData\",B174, \"LastTrade\",, \"T\"),3)=\"768\",\"\",IFERROR(IF(L174>M174,\"+\"&L174-M174,L174-M174)*1,\"\"))","v":""}]
[{"$f":"'Call Data'!A175","v":13300},{"$f":"\"P\"&RIGHT('Call Data'!B175,LEN('Call Data'!B175)-1)","v":"P.US.CLEJ2613300"},{"$f":"IF(LEFT(RTD(\"cqg.rtd\", ,\"ContractData\",B175, \"LastTrade\",, \"T\"),3)=\"768\",\"\",RTD(\"cqg.rtd\", ,\"ContractData\",B175, \"LastTrade\",, \"T\"))","v":""},{"$f":"IF(C175=\"\",\"\",RTD(\"cqg.rtd\", ,\"ContractData\",B175, \"NetLastTrade\",, \"T\"))","v":""},{"$f":"IF(LEFT(RTD(\"cqg.rtd\", ,\"ContractData\",B175, \"LastTrade\",, \"T\"),3)=\"768\",\"\",RTD(\"cqg.rtd\", ,\"ContractData\",B175, \"MT_LastBidVolume\",, \"T\"))","v":1},{"$f":"IF(LEFT(RTD(\"cqg.rtd\", ,\"ContractData\",B175, \"LastTrade\",, \"T\"),3)=\"768\",\"\",RTD(\"cqg.rtd\", ,\"ContractData\",B175, \"Bid\",, \"T\"))","v":41.89},{"$f":"IF(LEFT(RTD(\"cqg.rtd\", ,\"ContractData\",B175, \"LastTrade\",, \"T\"),3)=\"768\",\"\",RTD(\"cqg.rtd\", ,\"ContractData\",B175, \"Ask\",, \"T\"))","v":42.09},{"$f":"IF(LEFT(RTD(\"cqg.rtd\", ,\"ContractData\",B175, \"LastTrade\",, \"T\"),3)=\"768\",\"\",RTD(\"cqg.rtd\", ,\"ContractData\",B175, \"MT_LastAskVolume\",, \"T\"))","v":1},{"$f":"IF(LEFT(RTD(\"cqg.rtd\", ,\"ContractData\",B175, \"LastTrade\",, \"T\"),3)=\"768\",\"\",RTD(\"cqg.rtd\", ,\"ContractData\",B175, \"T_CVol\",, \"T\"))","v":0},{"$f":"IF(LEFT(RTD(\"cqg.rtd\", ,\"ContractData\",B175, \"LastTrade\",, \"T\"),3)=\"768\",\"\",RTD(\"cqg.rtd\", ,\"ContractData\",B175, \"Y_CVol\",, \"T\"))","v":0},{"$f":"IF(LEFT(RTD(\"cqg.rtd\", ,\"ContractData\",B175, \"LastTrade\",, \"T\"),3)=\"768\",\"\",IFERROR(IF(I175>J175,\"+\"&I175-J175,I175-J175)*1,\"\"))","v":0},{"$f":"IF(LEFT(RTD(\"cqg.rtd\", ,\"ContractData\",B175, \"LastTrade\",, \"T\"),3)=\"768\",\"\",RTD(\"cqg.rtd\",,\"StudyData\",B175,  \"Bar\",,  \"ContractOI\", \"D\", \"-1\",,,,,\"T\"))","v":""},{"$f":"IF(LEFT(RTD(\"cqg.rtd\", ,\"ContractData\",B175, \"LastTrade\",, \"T\"),3)=\"768\",\"\",RTD(\"cqg.rtd\",,\"StudyData\",B175,  \"Bar\",,  \"ContractOI\", \"D\", \"-2\",,,,,\"T\"))","v":""},{"$f":"IF(LEFT(RTD(\"cqg.rtd\", ,\"ContractData\",B175, \"LastTrade\",, \"T\"),3)=\"768\",\"\",IFERROR(IF(L175>M175,\"+\"&L175-M175,L175-M175)*1,\"\"))","v":""}]