Workbook

Sheet Display
B2: Stocks Ranked by Performance Compared to the S&P 500 | L2: Stocks Ranked by Using the Volume Ratio (Volume/21-day Average Volume) | U2: =MOD(RTD("cqg.rtd", ,"SystemInfo", "Linetime"),1) -> 0.29399306
B3: Symbol | C3: Description | D3: Last | E3: NC | F3: %NC | G3: S&P | H3: Vol Ratio | I3: NC Ratio | J3: Z_Score | L3: Symbol | M3: Description | N3: Last | O3: NC | P3: %NC | Q3: Vol Ratio | R3: NC Ratio | S3: Z_Score | T3: S&P
B4: {=_xlfn.CHOOSECOLS(_xlfn.TAKE(_xlfn.SORTBY(Data!A2:F504,Data!F2:F504,-1),20),1)} -> S.A | C4: =VLOOKUP(B4,Data!$A$2:$E$504,2,FALSE) -> Agilent Technologies | D4: =VLOOKUP(B4,Data!$A$2:$E$504,3,FALSE) -> 172.79 | E4: =VLOOKUP(B4,Data!$A$2:$E$504,4,FALSE) -> 0 | F4: =VLOOKUP(B4,Data!$A$2:$E$504,5,FALSE) | G4: {=_xlfn.CHOOSECOLS(_xlfn.TAKE(_xlfn.SORTBY(Data!A2:F504,Data!F2:F504,-1),20),6)} | H4: =VLOOKUP(Display!B4,Data!$A$2:$O$504,15,FALSE) -> 8.965905e-05 | I4: =VLOOKUP(Display!B4,Data!$A$2:$P$504,16,FALSE) -> 0 | J4: =VLOOKUP(Display!B4,Data!$A$2:$S$504,19,FALSE) -> 1.8530145 | L4: {=_xlfn.CHOOSECOLS(_xlfn.TAKE(_xlfn.SORTBY(Data!A2:O504,Data!O2:O504,-1),20),1)} -> S.CPT | M4: =VLOOKUP(L4,Data!$A$2:$E$504,2,FALSE) -> Camden Property Trust | N4: =VLOOKUP(L4,Data!$A$2:$E$504,3,FALSE) -> 98.12 | O4: =VLOOKUP(L4,Data!$A$2:$E$504,4,FALSE) -> 0 | P4: =VLOOKUP(L4,Data!$A$2:$E$504,5,FALSE) | Q4: =VLOOKUP(L4,Data!$A$2:$O$504,15,FALSE) | R4: =VLOOKUP(Display!L4,Data!$A$2:$P$504,16,FALSE) -> 0 | S4: =VLOOKUP(Display!L4,Data!$A$2:$S$504,19,FALSE) -> -1.3262041 | T4: =VLOOKUP(Display!L4,Data!$A$2:$S$504,6,FALSE)
B5: S.AAPL | C5: =VLOOKUP(B5,Data!$A$2:$E$504,2,FALSE) -> Apple Inc. | D5: =VLOOKUP(B5,Data!$A$2:$E$504,3,FALSE) -> 341.07 | E5: =VLOOKUP(B5,Data!$A$2:$E$504,4,FALSE) -> 0 | F5: =VLOOKUP(B5,Data!$A$2:$E$504,5,FALSE) | H5: =VLOOKUP(Display!B5,Data!$A$2:$O$504,15,FALSE) -> 0.0047496074 | I5: =VLOOKUP(Display!B5,Data!$A$2:$P$504,16,FALSE) -> 0 | J5: =VLOOKUP(Display!B5,Data!$A$2:$S$504,19,FALSE) -> 1.332317 | L5: S.NDSN | M5: =VLOOKUP(L5,Data!$A$2:$E$504,2,FALSE) -> Nordson Corporation | N5: =VLOOKUP(L5,Data!$A$2:$E$504,3,FALSE) -> 325.77 | O5: =VLOOKUP(L5,Data!$A$2:$E$504,4,FALSE) -> 0 | P5: =VLOOKUP(L5,Data!$A$2:$E$504,5,FALSE) | Q5: =VLOOKUP(L5,Data!$A$2:$O$504,15,FALSE) | R5: =VLOOKUP(Display!L5,Data!$A$2:$P$504,16,FALSE) -> 0 | S5: =VLOOKUP(Display!L5,Data!$A$2:$S$504,19,FALSE) -> 1.6416201 | T5: =VLOOKUP(Display!L5,Data!$A$2:$S$504,6,FALSE)
B6: S.ABBV | C6: =VLOOKUP(B6,Data!$A$2:$E$504,2,FALSE) -> Abbvie Inc. | D6: =VLOOKUP(B6,Data!$A$2:$E$504,3,FALSE) -> 264.34 | E6: =VLOOKUP(B6,Data!$A$2:$E$504,4,FALSE) -> 0 | F6: =VLOOKUP(B6,Data!$A$2:$E$504,5,FALSE) | H6: =VLOOKUP(Display!B6,Data!$A$2:$O$504,15,FALSE) -> 0.0004799142 | I6: =VLOOKUP(Display!B6,Data!$A$2:$P$504,16,FALSE) -> 0 | J6: =VLOOKUP(Display!B6,Data!$A$2:$S$504,19,FALSE) -> 0.85168105 | L6: S.NVR | M6: =VLOOKUP(L6,Data!$A$2:$E$504,2,FALSE) -> Nvr Inc | N6: =VLOOKUP(L6,Data!$A$2:$E$504,3,FALSE) -> 6297.6 | O6: =VLOOKUP(L6,Data!$A$2:$E$504,4,FALSE) -> 0 | P6: =VLOOKUP(L6,Data!$A$2:$E$504,5,FALSE) | Q6: =VLOOKUP(L6,Data!$A$2:$O$504,15,FALSE) | R6: =VLOOKUP(Display!L6,Data!$A$2:$P$504,16,FALSE) -> 0 | S6: =VLOOKUP(Display!L6,Data!$A$2:$S$504,19,FALSE) -> 0.57014117 | T6: =VLOOKUP(Display!L6,Data!$A$2:$S$504,6,FALSE)
B7: S.ABNB | C7: =VLOOKUP(B7,Data!$A$2:$E$504,2,FALSE) -> Airbnb, Inc. Class A | D7: =VLOOKUP(B7,Data!$A$2:$E$504,3,FALSE) -> 157.47 | E7: =VLOOKUP(B7,Data!$A$2:$E$504,4,FALSE) -> 0 | F7: =VLOOKUP(B7,Data!$A$2:$E$504,5,FALSE) | H7: =VLOOKUP(Display!B7,Data!$A$2:$O$504,15,FALSE) -> 0.0022697066 | I7: =VLOOKUP(Display!B7,Data!$A$2:$P$504,16,FALSE) -> 0 | J7: =VLOOKUP(Display!B7,Data!$A$2:$S$504,19,FALSE) -> -1.1563594 | L7: S.PNW | M7: =VLOOKUP(L7,Data!$A$2:$E$504,2,FALSE) -> Pinnacle West Captl Corp | N7: =VLOOKUP(L7,Data!$A$2:$E$504,3,FALSE) -> 91.74 | O7: =VLOOKUP(L7,Data!$A$2:$E$504,4,FALSE) -> 0 | P7: =VLOOKUP(L7,Data!$A$2:$E$504,5,FALSE) | Q7: =VLOOKUP(L7,Data!$A$2:$O$504,15,FALSE) | R7: =VLOOKUP(Display!L7,Data!$A$2:$P$504,16,FALSE) -> 0 | S7: =VLOOKUP(Display!L7,Data!$A$2:$S$504,19,FALSE) -> -1.5670267 | T7: =VLOOKUP(Display!L7,Data!$A$2:$S$504,6,FALSE)
B8: S.ABT | C8: =VLOOKUP(B8,Data!$A$2:$E$504,2,FALSE) -> Abbott Laboratories | D8: =VLOOKUP(B8,Data!$A$2:$E$504,3,FALSE) -> 101.29 | E8: =VLOOKUP(B8,Data!$A$2:$E$504,4,FALSE) -> 0 | F8: =VLOOKUP(B8,Data!$A$2:$E$504,5,FALSE) | H8: =VLOOKUP(Display!B8,Data!$A$2:$O$504,15,FALSE) -> 0.00025403787 | I8: =VLOOKUP(Display!B8,Data!$A$2:$P$504,16,FALSE) -> 0 | J8: =VLOOKUP(Display!B8,Data!$A$2:$S$504,19,FALSE) -> -1.0255243 | L8: S.COIN | M8: =VLOOKUP(L8,Data!$A$2:$E$504,2,FALSE) -> Coinbase Glb Cl A Cm | N8: =VLOOKUP(L8,Data!$A$2:$E$504,3,FALSE) -> 195.11 | O8: =VLOOKUP(L8,Data!$A$2:$E$504,4,FALSE) -> 0 | P8: =VLOOKUP(L8,Data!$A$2:$E$504,5,FALSE) | Q8: =VLOOKUP(L8,Data!$A$2:$O$504,15,FALSE) -> 0.040123675 | R8: =VLOOKUP(Display!L8,Data!$A$2:$P$504,16,FALSE) -> 0 | S8: =VLOOKUP(Display!L8,Data!$A$2:$S$504,19,FALSE) -> 0.91595958 | T8: =VLOOKUP(Display!L8,Data!$A$2:$S$504,6,FALSE)
B9: S.ACGL | C9: =VLOOKUP(B9,Data!$A$2:$E$504,2,FALSE) -> Arch Capital Grp Ltd | D9: =VLOOKUP(B9,Data!$A$2:$E$504,3,FALSE) -> 94.66 | E9: =VLOOKUP(B9,Data!$A$2:$E$504,4,FALSE) -> 0 | F9: =VLOOKUP(B9,Data!$A$2:$E$504,5,FALSE) | H9: =VLOOKUP(Display!B9,Data!$A$2:$O$504,15,FALSE) -> 0.00013335151 | I9: =VLOOKUP(Display!B9,Data!$A$2:$P$504,16,FALSE) -> 0 | J9: =VLOOKUP(Display!B9,Data!$A$2:$S$504,19,FALSE) -> -1.4169803 | L9: S.NVDA | M9: =VLOOKUP(L9,Data!$A$2:$E$504,2,FALSE) -> Nvidia Corporation | N9: =VLOOKUP(L9,Data!$A$2:$E$504,3,FALSE) -> 225.07 | O9: =VLOOKUP(L9,Data!$A$2:$E$504,4,FALSE) -> 0 | P9: =VLOOKUP(L9,Data!$A$2:$E$504,5,FALSE) | Q9: =VLOOKUP(L9,Data!$A$2:$O$504,15,FALSE) -> 0.035464215 | R9: =VLOOKUP(Display!L9,Data!$A$2:$P$504,16,FALSE) -> 0 | S9: =VLOOKUP(Display!L9,Data!$A$2:$S$504,19,FALSE) -> 0.58675242 | T9: =VLOOKUP(Display!L9,Data!$A$2:$S$504,6,FALSE)
B10: S.ACN | C10: =VLOOKUP(B10,Data!$A$2:$E$504,2,FALSE) -> Accenture Plc Ireland | D10: =VLOOKUP(B10,Data!$A$2:$E$504,3,FALSE) -> 176.11 | E10: =VLOOKUP(B10,Data!$A$2:$E$504,4,FALSE) -> 0 | F10: =VLOOKUP(B10,Data!$A$2:$E$504,5,FALSE) | H10: =VLOOKUP(Display!B10,Data!$A$2:$O$504,15,FALSE) -> 0.0014574778 | I10: =VLOOKUP(Display!B10,Data!$A$2:$P$504,16,FALSE) -> 0 | J10: =VLOOKUP(Display!B10,Data!$A$2:$S$504,19,FALSE) -> -1.4756382 | L10: S.RCL | M10: =VLOOKUP(L10,Data!$A$2:$E$504,2,FALSE) -> Royal Caribbean Group | N10: =VLOOKUP(L10,Data!$A$2:$E$504,3,FALSE) -> 242.7 | O10: =VLOOKUP(L10,Data!$A$2:$E$504,4,FALSE) -> 0 | P10: =VLOOKUP(L10,Data!$A$2:$E$504,5,FALSE) | Q10: =VLOOKUP(L10,Data!$A$2:$O$504,15,FALSE) -> 0.033962183 | R10: =VLOOKUP(Display!L10,Data!$A$2:$P$504,16,FALSE) -> 0 | S10: =VLOOKUP(Display!L10,Data!$A$2:$S$504,19,FALSE) -> -0.97968019 | T10: =VLOOKUP(Display!L10,Data!$A$2:$S$504,6,FALSE)
B11: S.ADBE | C11: =VLOOKUP(B11,Data!$A$2:$E$504,2,FALSE) -> Adobe Inc. | D11: =VLOOKUP(B11,Data!$A$2:$E$504,3,FALSE) -> 235.47 | E11: =VLOOKUP(B11,Data!$A$2:$E$504,4,FALSE) -> 0 | F11: =VLOOKUP(B11,Data!$A$2:$E$504,5,FALSE) | H11: =VLOOKUP(Display!B11,Data!$A$2:$O$504,15,FALSE) -> 0.0046977434 | I11: =VLOOKUP(Display!B11,Data!$A$2:$P$504,16,FALSE) -> 0 | J11: =VLOOKUP(Display!B11,Data!$A$2:$S$504,19,FALSE) -> -1.2704209 | L11: S.BA | M11: =VLOOKUP(L11,Data!$A$2:$E$504,2,FALSE) -> Boeing Company | N11: =VLOOKUP(L11,Data!$A$2:$E$504,3,FALSE) -> 198.07 | O11: =VLOOKUP(L11,Data!$A$2:$E$504,4,FALSE) -> 0 | P11: =VLOOKUP(L11,Data!$A$2:$E$504,5,FALSE) | Q11: =VLOOKUP(L11,Data!$A$2:$O$504,15,FALSE) -> 0.031920864 | R11: =VLOOKUP(Display!L11,Data!$A$2:$P$504,16,FALSE) -> 0 | S11: =VLOOKUP(Display!L11,Data!$A$2:$S$504,19,FALSE) -> -1.201506 | T11: =VLOOKUP(Display!L11,Data!$A$2:$S$504,6,FALSE)
B12: S.ADI | C12: =VLOOKUP(B12,Data!$A$2:$E$504,2,FALSE) -> Analog Devices Inc | D12: =VLOOKUP(B12,Data!$A$2:$E$504,3,FALSE) -> 393.6 | E12: =VLOOKUP(B12,Data!$A$2:$E$504,4,FALSE) -> 0 | F12: =VLOOKUP(B12,Data!$A$2:$E$504,5,FALSE) | H12: =VLOOKUP(Display!B12,Data!$A$2:$O$504,15,FALSE) -> 0.0012175663 | I12: =VLOOKUP(Display!B12,Data!$A$2:$P$504,16,FALSE) -> 0 | J12: =VLOOKUP(Display!B12,Data!$A$2:$S$504,19,FALSE) -> 1.8366836 | L12: S.META | M12: =VLOOKUP(L12,Data!$A$2:$E$504,2,FALSE) -> Meta Platforms, Inc. | N12: =VLOOKUP(L12,Data!$A$2:$E$504,3,FALSE) -> 751.66 | O12: =VLOOKUP(L12,Data!$A$2:$E$504,4,FALSE) -> 0 | P12: =VLOOKUP(L12,Data!$A$2:$E$504,5,FALSE) | Q12: =VLOOKUP(L12,Data!$A$2:$O$504,15,FALSE) -> 0.028315086 | R12: =VLOOKUP(Display!L12,Data!$A$2:$P$504,16,FALSE) -> 0 | S12: =VLOOKUP(Display!L12,Data!$A$2:$S$504,19,FALSE) -> 1.3764409 | T12: =VLOOKUP(Display!L12,Data!$A$2:$S$504,6,FALSE)
B13: S.ADM | C13: =VLOOKUP(B13,Data!$A$2:$E$504,2,FALSE) -> Archer-Daniels-Midland | D13: =VLOOKUP(B13,Data!$A$2:$E$504,3,FALSE) -> 81.12 | E13: =VLOOKUP(B13,Data!$A$2:$E$504,4,FALSE) -> 0 | F13: =VLOOKUP(B13,Data!$A$2:$E$504,5,FALSE) | H13: =VLOOKUP(Display!B13,Data!$A$2:$O$504,15,FALSE) -> 0.0010384262 | I13: =VLOOKUP(Display!B13,Data!$A$2:$P$504,16,FALSE) -> 0 | J13: =VLOOKUP(Display!B13,Data!$A$2:$S$504,19,FALSE) -> -1.4694807 | L13: S.INTC | M13: =VLOOKUP(L13,Data!$A$2:$E$504,2,FALSE) -> Intel Corp | N13: =VLOOKUP(L13,Data!$A$2:$E$504,3,FALSE) -> 123 | O13: =VLOOKUP(L13,Data!$A$2:$E$504,4,FALSE) -> 0 | P13: =VLOOKUP(L13,Data!$A$2:$E$504,5,FALSE) | Q13: =VLOOKUP(L13,Data!$A$2:$O$504,15,FALSE) -> 0.027399577 | R13: =VLOOKUP(Display!L13,Data!$A$2:$P$504,16,FALSE) -> 0 | S13: =VLOOKUP(Display!L13,Data!$A$2:$S$504,19,FALSE) -> 1.3596377 | T13: =VLOOKUP(Display!L13,Data!$A$2:$S$504,6,FALSE)
B14: S.ADP | C14: =VLOOKUP(B14,Data!$A$2:$E$504,2,FALSE) -> Automatic Data Procs | D14: =VLOOKUP(B14,Data!$A$2:$E$504,3,FALSE) -> 263.67 | E14: =VLOOKUP(B14,Data!$A$2:$E$504,4,FALSE) -> 0 | F14: =VLOOKUP(B14,Data!$A$2:$E$504,5,FALSE) | H14: =VLOOKUP(Display!B14,Data!$A$2:$O$504,15,FALSE) -> 0.00011370989 | I14: =VLOOKUP(Display!B14,Data!$A$2:$P$504,16,FALSE) -> 0 | J14: =VLOOKUP(Display!B14,Data!$A$2:$S$504,19,FALSE) -> -1.2058057 | L14: S.ORCL | M14: =VLOOKUP(L14,Data!$A$2:$E$504,2,FALSE) -> Oracle Corporation | N14: =VLOOKUP(L14,Data!$A$2:$E$504,3,FALSE) -> 137.1 | O14: =VLOOKUP(L14,Data!$A$2:$E$504,4,FALSE) -> 0 | P14: =VLOOKUP(L14,Data!$A$2:$E$504,5,FALSE) | Q14: =VLOOKUP(L14,Data!$A$2:$O$504,15,FALSE) -> 0.026907898 | R14: =VLOOKUP(Display!L14,Data!$A$2:$P$504,16,FALSE) -> 0 | S14: =VLOOKUP(Display!L14,Data!$A$2:$S$504,19,FALSE) -> -1.5464209 | T14: =VLOOKUP(Display!L14,Data!$A$2:$S$504,6,FALSE)
B15: S.ADSK | C15: =VLOOKUP(B15,Data!$A$2:$E$504,2,FALSE) -> Autodesk Inc | D15: =VLOOKUP(B15,Data!$A$2:$E$504,3,FALSE) -> 209.4 | E15: =VLOOKUP(B15,Data!$A$2:$E$504,4,FALSE) -> 0 | F15: =VLOOKUP(B15,Data!$A$2:$E$504,5,FALSE) | H15: =VLOOKUP(Display!B15,Data!$A$2:$O$504,15,FALSE) -> 0.0027370105 | I15: =VLOOKUP(Display!B15,Data!$A$2:$P$504,16,FALSE) -> 0 | J15: =VLOOKUP(Display!B15,Data!$A$2:$S$504,19,FALSE) -> -0.93108084 | L15: S.CCL | M15: =VLOOKUP(L15,Data!$A$2:$E$504,2,FALSE) -> Carnival Corporation Ltd. | N15: =VLOOKUP(L15,Data!$A$2:$E$504,3,FALSE) -> 22.25 | O15: =VLOOKUP(L15,Data!$A$2:$E$504,4,FALSE) -> 0 | P15: =VLOOKUP(L15,Data!$A$2:$E$504,5,FALSE) | Q15: =VLOOKUP(L15,Data!$A$2:$O$504,15,FALSE) -> 0.026700783 | R15: =VLOOKUP(Display!L15,Data!$A$2:$P$504,16,FALSE) -> 0 | S15: =VLOOKUP(Display!L15,Data!$A$2:$S$504,19,FALSE) -> -0.63024455 | T15: =VLOOKUP(Display!L15,Data!$A$2:$S$504,6,FALSE)
B16: S.AEE | C16: =VLOOKUP(B16,Data!$A$2:$E$504,2,FALSE) -> Ameren Corp | D16: =VLOOKUP(B16,Data!$A$2:$E$504,3,FALSE) -> 99.39 | E16: =VLOOKUP(B16,Data!$A$2:$E$504,4,FALSE) -> 0 | F16: =VLOOKUP(B16,Data!$A$2:$E$504,5,FALSE) | H16: =VLOOKUP(Display!B16,Data!$A$2:$O$504,15,FALSE) -> 5.9836427e-07 | I16: =VLOOKUP(Display!B16,Data!$A$2:$P$504,16,FALSE) -> 0 | J16: =VLOOKUP(Display!B16,Data!$A$2:$S$504,19,FALSE) -> -1.6639835 | L16: S.SNDK | M16: =VLOOKUP(L16,Data!$A$2:$E$504,2,FALSE) -> Sandisk Cp Cmn | N16: =VLOOKUP(L16,Data!$A$2:$E$504,3,FALSE) -> 1777.8 | O16: =VLOOKUP(L16,Data!$A$2:$E$504,4,FALSE) -> 0 | P16: =VLOOKUP(L16,Data!$A$2:$E$504,5,FALSE) | Q16: =VLOOKUP(L16,Data!$A$2:$O$504,15,FALSE) -> 0.024219931 | R16: =VLOOKUP(Display!L16,Data!$A$2:$P$504,16,FALSE) -> 0 | S16: =VLOOKUP(Display!L16,Data!$A$2:$S$504,19,FALSE) -> 0.92151585 | T16: =VLOOKUP(Display!L16,Data!$A$2:$S$504,6,FALSE)
... B23: S.AKAM | C23: =VLOOKUP(B23,Data!$A$2:$E$504,2,FALSE) -> Akamai Technologies | D23: =VLOOKUP(B23,Data!$A$2:$E$504,3,FALSE) -> 113.94 | E23: =VLOOKUP(B23,Data!$A$2:$E$504,4,FALSE) -> 0 | F23: =VLOOKUP(B23,Data!$A$2:$E$504,5,FALSE) | H23: =VLOOKUP(Display!B23,Data!$A$2:$O$504,15,FALSE) -> 0.019763641 | I23: =VLOOKUP(Display!B23,Data!$A$2:$P$504,16,FALSE) -> 0 | J23: =VLOOKUP(Display!B23,Data!$A$2:$S$504,19,FALSE) -> 1.0842721 | L23: S.COHR | M23: =VLOOKUP(L23,Data!$A$2:$E$504,2,FALSE) -> Coherent Inc. | N23: =VLOOKUP(L23,Data!$A$2:$E$504,3,FALSE) -> 295.83 | O23: =VLOOKUP(L23,Data!$A$2:$E$504,4,FALSE) -> 0 | P23: =VLOOKUP(L23,Data!$A$2:$E$504,5,FALSE) | Q23: =VLOOKUP(L23,Data!$A$2:$O$504,15,FALSE) -> 0.019591159 | R23: =VLOOKUP(Display!L23,Data!$A$2:$P$504,16,FALSE) -> 0 | S23: =VLOOKUP(Display!L23,Data!$A$2:$S$504,19,FALSE) -> 0.31720015 | T23: =VLOOKUP(Display!L23,Data!$A$2:$S$504,6,FALSE)
B26: Stocks Ranked by Performance Using the NC Ratio (NC/21-day ATR) | L26: Stocks Ranked by Performance Using the Z Score Statisitic
B27: Symbol | C27: Description | D27: Last | E27: NC | F27: %NC | G27: NC Ratio | H27: Z_Score | I27: S&P | J27: Vol Ratio | L27: Symbol | M27: Description | N27: Last | O27: NC | P27: %NC | Q27: Z_Score | R27: S&P | S27: Vol Ratio | T27: NC Ratio
B28: {=_xlfn.CHOOSECOLS(_xlfn.TAKE(_xlfn.SORTBY(Data!A26:F528,Data!P26:P528,-1),20),1)} -> S.AMAT | C28: =VLOOKUP(B28,Data!$A$2:$E$504,2,FALSE) -> Applied Materials | D28: =VLOOKUP(B28,Data!$A$2:$E$504,3,FALSE) -> 485 | E28: =VLOOKUP(B28,Data!$A$2:$E$504,4,FALSE) -> 0 | F28: =VLOOKUP(B28,Data!$A$2:$E$504,5,FALSE) | G28: =VLOOKUP(Display!B28,Data!$A$2:$P$504,16,FALSE) -> 0 | H28: =VLOOKUP(Display!B28,Data!$A$2:$S$504,19,FALSE) -> 1.4904868 | I28: =VLOOKUP(B28,Data!$A$2:$S$504,6,FALSE) | J28: =VLOOKUP(B28,Data!$A$2:$O$504,15,FALSE) -> 0.010920046 | L28: {=_xlfn.CHOOSECOLS(_xlfn.TAKE(_xlfn.SORTBY(Data!A26:F528,Data!S26:S528,-1),20),1)} -> S.MCHP | M28: =VLOOKUP(L28,Data!$A$2:$E$504,2,FALSE) -> Microchip Technology | N28: =VLOOKUP(L28,Data!$A$2:$E$504,3,FALSE) -> 78.69 | O28: =VLOOKUP(L28,Data!$A$2:$E$504,4,FALSE) -> 0 | P28: =VLOOKUP(L28,Data!$A$2:$E$504,5,FALSE) | Q28: =VLOOKUP(L28,Data!$A$2:$S$504,19,FALSE) -> 2.2679886 | R28: =VLOOKUP(L28,Data!$A$2:$S$504,6,FALSE) | S28: =VLOOKUP(L28,Data!$A$2:$O$504,15,FALSE) -> 0.0011947217 | T28: =VLOOKUP(Display!L28,Data!$A$2:$P$504,16,FALSE) -> 0
B29: S.AMCR | C29: =VLOOKUP(B29,Data!$A$2:$E$504,2,FALSE) -> Amcor Plc | D29: =VLOOKUP(B29,Data!$A$2:$E$504,3,FALSE) -> 42.51 | E29: =VLOOKUP(B29,Data!$A$2:$E$504,4,FALSE) -> 0 | F29: =VLOOKUP(B29,Data!$A$2:$E$504,5,FALSE) | G29: =VLOOKUP(Display!B29,Data!$A$2:$P$504,16,FALSE) -> 0 | H29: =VLOOKUP(Display!B29,Data!$A$2:$S$504,19,FALSE) -> -0.64807044 | I29: =VLOOKUP(B29,Data!$A$2:$S$504,6,FALSE) | J29: =VLOOKUP(B29,Data!$A$2:$O$504,15,FALSE) -> 0.0018857794 | L29: S.VTRS | M29: =VLOOKUP(L29,Data!$A$2:$E$504,2,FALSE) -> Viatris Inc. Cmn Stk | N29: =VLOOKUP(L29,Data!$A$2:$E$504,3,FALSE) -> 17.83 | O29: =VLOOKUP(L29,Data!$A$2:$E$504,4,FALSE) -> 0 | P29: =VLOOKUP(L29,Data!$A$2:$E$504,5,FALSE) | Q29: =VLOOKUP(L29,Data!$A$2:$S$504,19,FALSE) -> 2.2045043 | R29: =VLOOKUP(L29,Data!$A$2:$S$504,6,FALSE) | S29: =VLOOKUP(L29,Data!$A$2:$O$504,15,FALSE) -> 0.00027190136 | T29: =VLOOKUP(Display!L29,Data!$A$2:$P$504,16,FALSE) -> 0
B30: S.AME | C30: =VLOOKUP(B30,Data!$A$2:$E$504,2,FALSE) -> Ametek Inc New | D30: =VLOOKUP(B30,Data!$A$2:$E$504,3,FALSE) -> 250.74 | E30: =VLOOKUP(B30,Data!$A$2:$E$504,4,FALSE) -> 0 | F30: =VLOOKUP(B30,Data!$A$2:$E$504,5,FALSE) | G30: =VLOOKUP(Display!B30,Data!$A$2:$P$504,16,FALSE) -> 0 | H30: =VLOOKUP(Display!B30,Data!$A$2:$S$504,19,FALSE) -> 2.0150511 | I30: =VLOOKUP(B30,Data!$A$2:$S$504,6,FALSE) | J30: =VLOOKUP(B30,Data!$A$2:$O$504,15,FALSE) -> 0.00030153616 | L30: S.P | M30: =VLOOKUP(L30,Data!$A$2:$E$504,2,FALSE) -> Everpure, Inc. | N30: =VLOOKUP(L30,Data!$A$2:$E$504,3,FALSE) -> 126 | O30: =VLOOKUP(L30,Data!$A$2:$E$504,4,FALSE) -> 0 | P30: =VLOOKUP(L30,Data!$A$2:$E$504,5,FALSE) | Q30: =VLOOKUP(L30,Data!$A$2:$S$504,19,FALSE) -> 2.1622525 | R30: =VLOOKUP(L30,Data!$A$2:$S$504,6,FALSE) | S30: =VLOOKUP(L30,Data!$A$2:$O$504,15,FALSE) -> 0.0027261619 | T30: =VLOOKUP(Display!L30,Data!$A$2:$P$504,16,FALSE) -> 0
B31: S.AMGN | C31: =VLOOKUP(B31,Data!$A$2:$E$504,2,FALSE) -> Amgen | D31: =VLOOKUP(B31,Data!$A$2:$E$504,3,FALSE) -> 414.61 | E31: =VLOOKUP(B31,Data!$A$2:$E$504,4,FALSE) -> 0 | F31: =VLOOKUP(B31,Data!$A$2:$E$504,5,FALSE) | G31: =VLOOKUP(Display!B31,Data!$A$2:$P$504,16,FALSE) -> 0 | H31: =VLOOKUP(Display!B31,Data!$A$2:$S$504,19,FALSE) -> 0.39247111 | I31: =VLOOKUP(B31,Data!$A$2:$S$504,6,FALSE) | J31: =VLOOKUP(B31,Data!$A$2:$O$504,15,FALSE) -> 0.00058104954 | L31: S.DAL | M31: =VLOOKUP(L31,Data!$A$2:$E$504,2,FALSE) -> Delta Airlines, Inc. | N31: =VLOOKUP(L31,Data!$A$2:$E$504,3,FALSE) -> 84.94 | O31: =VLOOKUP(L31,Data!$A$2:$E$504,4,FALSE) -> 0 | P31: =VLOOKUP(L31,Data!$A$2:$E$504,5,FALSE) | Q31: =VLOOKUP(L31,Data!$A$2:$S$504,19,FALSE) -> 2.0373493 | R31: =VLOOKUP(L31,Data!$A$2:$S$504,6,FALSE) | S31: =VLOOKUP(L31,Data!$A$2:$O$504,15,FALSE) -> 0.0023642692 | T31: =VLOOKUP(Display!L31,Data!$A$2:$P$504,16,FALSE) -> 0
B32: S.AMP | C32: =VLOOKUP(B32,Data!$A$2:$E$504,2,FALSE) -> Ameriprise Financial Inc | D32: =VLOOKUP(B32,Data!$A$2:$E$504,3,FALSE) -> 493 | E32: =VLOOKUP(B32,Data!$A$2:$E$504,4,FALSE) -> 0 | F32: =VLOOKUP(B32,Data!$A$2:$E$504,5,FALSE) | G32: =VLOOKUP(Display!B32,Data!$A$2:$P$504,16,FALSE) -> 0 | H32: =VLOOKUP(Display!B32,Data!$A$2:$S$504,19,FALSE) -> -1.8561944 | I32: =VLOOKUP(B32,Data!$A$2:$S$504,6,FALSE) | J32: =VLOOKUP(B32,Data!$A$2:$O$504,15,FALSE) -> 0.00011816646 | L32: S.TEL | M32: =VLOOKUP(L32,Data!$A$2:$E$504,2,FALSE) -> Te Connectivity Ltd. | N32: =VLOOKUP(L32,Data!$A$2:$E$504,3,FALSE) -> 218.59 | O32: =VLOOKUP(L32,Data!$A$2:$E$504,4,FALSE) -> 0 | P32: =VLOOKUP(L32,Data!$A$2:$E$504,5,FALSE) | Q32: =VLOOKUP(L32,Data!$A$2:$S$504,19,FALSE) -> 2.0356558 | R32: =VLOOKUP(L32,Data!$A$2:$S$504,6,FALSE) | S32: =VLOOKUP(L32,Data!$A$2:$O$504,15,FALSE) -> 0.00011895186 | T32: =VLOOKUP(Display!L32,Data!$A$2:$P$504,16,FALSE) -> 0
B33: S.AMT | C33: =VLOOKUP(B33,Data!$A$2:$E$504,2,FALSE) -> American Tower Corp Cla | D33: =VLOOKUP(B33,Data!$A$2:$E$504,3,FALSE) -> 169.03 | E33: =VLOOKUP(B33,Data!$A$2:$E$504,4,FALSE) -> 0 | F33: =VLOOKUP(B33,Data!$A$2:$E$504,5,FALSE) | G33: =VLOOKUP(Display!B33,Data!$A$2:$P$504,16,FALSE) -> 0 | H33: =VLOOKUP(Display!B33,Data!$A$2:$S$504,19,FALSE) -> -1.817235 | I33: =VLOOKUP(B33,Data!$A$2:$S$504,6,FALSE) | J33: =VLOOKUP(B33,Data!$A$2:$O$504,15,FALSE) -> 0.00037547079 | L33: S.DDOG | M33: =VLOOKUP(L33,Data!$A$2:$E$504,2,FALSE) -> Datadog Inc.L A Cmn | N33: =VLOOKUP(L33,Data!$A$2:$E$504,3,FALSE) -> 268.13 | O33: =VLOOKUP(L33,Data!$A$2:$E$504,4,FALSE) -> 0 | P33: =VLOOKUP(L33,Data!$A$2:$E$504,5,FALSE) | Q33: =VLOOKUP(L33,Data!$A$2:$S$504,19,FALSE) -> 2.033009 | R33: =VLOOKUP(L33,Data!$A$2:$S$504,6,FALSE) | S33: =VLOOKUP(L33,Data!$A$2:$O$504,15,FALSE) -> 0.0042885957 | T33: =VLOOKUP(Display!L33,Data!$A$2:$P$504,16,FALSE) -> 0
B34: S.AMZN | C34: =VLOOKUP(B34,Data!$A$2:$E$504,2,FALSE) -> Amazon.Com Inc | D34: =VLOOKUP(B34,Data!$A$2:$E$504,3,FALSE) -> 249.67 | E34: =VLOOKUP(B34,Data!$A$2:$E$504,4,FALSE) -> 0 | F34: =VLOOKUP(B34,Data!$A$2:$E$504,5,FALSE) | G34: =VLOOKUP(Display!B34,Data!$A$2:$P$504,16,FALSE) -> 0 | H34: =VLOOKUP(Display!B34,Data!$A$2:$S$504,19,FALSE) -> -0.93999884 | I34: =VLOOKUP(B34,Data!$A$2:$S$504,6,FALSE) | J34: =VLOOKUP(B34,Data!$A$2:$O$504,15,FALSE) -> 0.0074442826 | L34: S.AME | M34: =VLOOKUP(L34,Data!$A$2:$E$504,2,FALSE) -> Ametek Inc New | N34: =VLOOKUP(L34,Data!$A$2:$E$504,3,FALSE) -> 250.74 | O34: =VLOOKUP(L34,Data!$A$2:$E$504,4,FALSE) -> 0 | P34: =VLOOKUP(L34,Data!$A$2:$E$504,5,FALSE) | Q34: =VLOOKUP(L34,Data!$A$2:$S$504,19,FALSE) -> 2.0150511 | R34: =VLOOKUP(L34,Data!$A$2:$S$504,6,FALSE) | S34: =VLOOKUP(L34,Data!$A$2:$O$504,15,FALSE) -> 0.00030153616 | T34: =VLOOKUP(Display!L34,Data!$A$2:$P$504,16,FALSE) -> 0
B35: S.ANET | C35: =VLOOKUP(B35,Data!$A$2:$E$504,2,FALSE) -> Arista Networks, Inc. | D35: =VLOOKUP(B35,Data!$A$2:$E$504,3,FALSE) -> 206.55 | E35: =VLOOKUP(B35,Data!$A$2:$E$504,4,FALSE) -> 0 | F35: =VLOOKUP(B35,Data!$A$2:$E$504,5,FALSE) | G35: =VLOOKUP(Display!B35,Data!$A$2:$P$504,16,FALSE) -> 0 | H35: =VLOOKUP(Display!B35,Data!$A$2:$S$504,19,FALSE) -> 1.4772366 | I35: =VLOOKUP(B35,Data!$A$2:$S$504,6,FALSE) | J35: =VLOOKUP(B35,Data!$A$2:$O$504,15,FALSE) -> 0.0036573728 | L35: S.MSFT | M35: =VLOOKUP(L35,Data!$A$2:$E$504,2,FALSE) -> Microsoft Corp | N35: =VLOOKUP(L35,Data!$A$2:$E$504,3,FALSE) -> 516.17 | O35: =VLOOKUP(L35,Data!$A$2:$E$504,4,FALSE) -> 0 | P35: =VLOOKUP(L35,Data!$A$2:$E$504,5,FALSE) | Q35: =VLOOKUP(L35,Data!$A$2:$S$504,19,FALSE) -> 2.0086004 | R35: =VLOOKUP(L35,Data!$A$2:$S$504,6,FALSE) | S35: =VLOOKUP(L35,Data!$A$2:$O$504,15,FALSE) -> 0.011578588 | T35: =VLOOKUP(Display!L35,Data!$A$2:$P$504,16,FALSE) -> 0
B36: S.AON | C36: =VLOOKUP(B36,Data!$A$2:$E$504,2,FALSE) -> Aon Corporation | D36: =VLOOKUP(B36,Data!$A$2:$E$504,3,FALSE) -> 277.99 | E36: =VLOOKUP(B36,Data!$A$2:$E$504,4,FALSE) -> 0 | F36: =VLOOKUP(B36,Data!$A$2:$E$504,5,FALSE) | G36: =VLOOKUP(Display!B36,Data!$A$2:$P$504,16,FALSE) -> 0 | H36: =VLOOKUP(Display!B36,Data!$A$2:$S$504,19,FALSE) -> -1.3639458 | I36: =VLOOKUP(B36,Data!$A$2:$S$504,6,FALSE) | J36: =VLOOKUP(B36,Data!$A$2:$O$504,15,FALSE) -> 0.00058524945 | L36: S.MRNA | M36: =VLOOKUP(L36,Data!$A$2:$E$504,2,FALSE) -> Moderna Inc Cs | N36: =VLOOKUP(L36,Data!$A$2:$E$504,3,FALSE) -> 198.88 | O36: =VLOOKUP(L36,Data!$A$2:$E$504,4,FALSE) -> 0 | P36: =VLOOKUP(L36,Data!$A$2:$E$504,5,FALSE) | Q36: =VLOOKUP(L36,Data!$A$2:$S$504,19,FALSE) -> 1.9772001 | R36: =VLOOKUP(L36,Data!$A$2:$S$504,6,FALSE) | S36: =VLOOKUP(L36,Data!$A$2:$O$504,15,FALSE) -> 0.015289161 | T36: =VLOOKUP(Display!L36,Data!$A$2:$P$504,16,FALSE) -> 0
B37: S.AOS | C37: =VLOOKUP(B37,Data!$A$2:$E$504,2,FALSE) -> Ao Smith Corp | D37: =VLOOKUP(B37,Data!$A$2:$E$504,3,FALSE) -> 58.65 | E37: =VLOOKUP(B37,Data!$A$2:$E$504,4,FALSE) -> 0 | F37: =VLOOKUP(B37,Data!$A$2:$E$504,5,FALSE) | G37: =VLOOKUP(Display!B37,Data!$A$2:$P$504,16,FALSE) -> 0 | H37: =VLOOKUP(Display!B37,Data!$A$2:$S$504,19,FALSE) -> 0.37588713 | I37: =VLOOKUP(B37,Data!$A$2:$S$504,6,FALSE) | J37: =VLOOKUP(B37,Data!$A$2:$O$504,15,FALSE) -> 7.5298855e-06 | L37: S.TXN | M37: =VLOOKUP(L37,Data!$A$2:$E$504,2,FALSE) -> Texas Instruments | N37: =VLOOKUP(L37,Data!$A$2:$E$504,3,FALSE) -> 278.07 | O37: =VLOOKUP(L37,Data!$A$2:$E$504,4,FALSE) -> 0 | P37: =VLOOKUP(L37,Data!$A$2:$E$504,5,FALSE) | Q37: =VLOOKUP(L37,Data!$A$2:$S$504,19,FALSE) -> 1.9390416 | R37: =VLOOKUP(L37,Data!$A$2:$S$504,6,FALSE) | S37: =VLOOKUP(L37,Data!$A$2:$O$504,15,FALSE) -> 0.0026266376 | T37: =VLOOKUP(Display!L37,Data!$A$2:$P$504,16,FALSE) -> 0
B38: S.APA | C38: =VLOOKUP(B38,Data!$A$2:$E$504,2,FALSE) -> Apa Corporation Cmn | D38: =VLOOKUP(B38,Data!$A$2:$E$504,3,FALSE) -> 42.74 | E38: =VLOOKUP(B38,Data!$A$2:$E$504,4,FALSE) -> 0 | F38: =VLOOKUP(B38,Data!$A$2:$E$504,5,FALSE) | G38: =VLOOKUP(Display!B38,Data!$A$2:$P$504,16,FALSE) -> 0 | H38: =VLOOKUP(Display!B38,Data!$A$2:$S$504,19,FALSE) -> -1.1450313 | I38: =VLOOKUP(B38,Data!$A$2:$S$504,6,FALSE) | J38: =VLOOKUP(B38,Data!$A$2:$O$504,15,FALSE) -> 0.0018905846 | L38: S.KEYS | M38: =VLOOKUP(L38,Data!$A$2:$E$504,2,FALSE) -> Keysight Technologies Inc. | N38: =VLOOKUP(L38,Data!$A$2:$E$504,3,FALSE) -> 362.15 | O38: =VLOOKUP(L38,Data!$A$2:$E$504,4,FALSE) -> 0 | P38: =VLOOKUP(L38,Data!$A$2:$E$504,5,FALSE) | Q38: =VLOOKUP(L38,Data!$A$2:$S$504,19,FALSE) -> 1.9232451 | R38: =VLOOKUP(L38,Data!$A$2:$S$504,6,FALSE) | S38: =VLOOKUP(L38,Data!$A$2:$O$504,15,FALSE) -> 0.00049378868 | T38: =VLOOKUP(Display!L38,Data!$A$2:$P$504,16,FALSE) -> 0
B39: S.APD | C39: =VLOOKUP(B39,Data!$A$2:$E$504,2,FALSE) -> Air Products & Chems Inc | D39: =VLOOKUP(B39,Data!$A$2:$E$504,3,FALSE) -> 281.76 | E39: =VLOOKUP(B39,Data!$A$2:$E$504,4,FALSE) -> 0 | F39: =VLOOKUP(B39,Data!$A$2:$E$504,5,FALSE) | G39: =VLOOKUP(Display!B39,Data!$A$2:$P$504,16,FALSE) -> 0 | H39: =VLOOKUP(Display!B39,Data!$A$2:$S$504,19,FALSE) -> -1.1774169 | I39: =VLOOKUP(B39,Data!$A$2:$S$504,6,FALSE) | J39: =VLOOKUP(B39,Data!$A$2:$O$504,15,FALSE) -> 8.2206522e-05 | L39: S.GRMN | M39: =VLOOKUP(L39,Data!$A$2:$E$504,2,FALSE) -> Garmin Ltd | N39: =VLOOKUP(L39,Data!$A$2:$E$504,3,FALSE) -> 294.14 | O39: =VLOOKUP(L39,Data!$A$2:$E$504,4,FALSE) -> 0 | P39: =VLOOKUP(L39,Data!$A$2:$E$504,5,FALSE) | Q39: =VLOOKUP(L39,Data!$A$2:$S$504,19,FALSE) -> 1.9148191 | R39: =VLOOKUP(L39,Data!$A$2:$S$504,6,FALSE) | S39: =VLOOKUP(L39,Data!$A$2:$O$504,15,FALSE) -> 5.4310594e-05 | T39: =VLOOKUP(Display!L39,Data!$A$2:$P$504,16,FALSE) -> 0
B40: S.APH | C40: =VLOOKUP(B40,Data!$A$2:$E$504,2,FALSE) -> Amphenol | D40: =VLOOKUP(B40,Data!$A$2:$E$504,3,FALSE) -> 84.09 | E40: =VLOOKUP(B40,Data!$A$2:$E$504,4,FALSE) -> 0 | F40: =VLOOKUP(B40,Data!$A$2:$E$504,5,FALSE) | G40: =VLOOKUP(Display!B40,Data!$A$2:$P$504,16,FALSE) -> 0 | H40: =VLOOKUP(Display!B40,Data!$A$2:$S$504,19,FALSE) -> 1.4689417 | I40: =VLOOKUP(B40,Data!$A$2:$S$504,6,FALSE) | J40: =VLOOKUP(B40,Data!$A$2:$O$504,15,FALSE) -> 0.00061174607 | L40: S.EMR | M40: =VLOOKUP(L40,Data!$A$2:$E$504,2,FALSE) -> Emerson Electric Co | N40: =VLOOKUP(L40,Data!$A$2:$E$504,3,FALSE) -> 158.23 | O40: =VLOOKUP(L40,Data!$A$2:$E$504,4,FALSE) -> 0 | P40: =VLOOKUP(L40,Data!$A$2:$E$504,5,FALSE) | Q40: =VLOOKUP(L40,Data!$A$2:$S$504,19,FALSE) -> 1.9001744 | R40: =VLOOKUP(L40,Data!$A$2:$S$504,6,FALSE) | S40: =VLOOKUP(L40,Data!$A$2:$O$504,15,FALSE) -> 3.9785689e-05 | T40: =VLOOKUP(Display!L40,Data!$A$2:$P$504,16,FALSE) -> 0
... B47: S.AVGO | C47: =VLOOKUP(B47,Data!$A$2:$E$504,2,FALSE) -> Broadcom Inc. | D47: =VLOOKUP(B47,Data!$A$2:$E$504,3,FALSE) -> 352.81 | E47: =VLOOKUP(B47,Data!$A$2:$E$504,4,FALSE) -> 0 | F47: =VLOOKUP(B47,Data!$A$2:$E$504,5,FALSE) | G47: =VLOOKUP(Display!B47,Data!$A$2:$P$504,16,FALSE) -> 0 | H47: =VLOOKUP(Display!B47,Data!$A$2:$S$504,19,FALSE) -> -0.53185865 | I47: =VLOOKUP(B47,Data!$A$2:$S$504,6,FALSE) | J47: =VLOOKUP(B47,Data!$A$2:$O$504,15,FALSE) -> 0.0079121414 | L47: S.ON | M47: =VLOOKUP(L47,Data!$A$2:$E$504,2,FALSE) -> On Semiconductor | N47: =VLOOKUP(L47,Data!$A$2:$E$504,3,FALSE) -> 77.2 | O47: =VLOOKUP(L47,Data!$A$2:$E$504,4,FALSE) -> 0 | P47: =VLOOKUP(L47,Data!$A$2:$E$504,5,FALSE) | Q47: =VLOOKUP(L47,Data!$A$2:$S$504,19,FALSE) -> 1.783205 | R47: =VLOOKUP(L47,Data!$A$2:$S$504,6,FALSE) | S47: =VLOOKUP(L47,Data!$A$2:$O$504,15,FALSE) -> 0.0022156071 | T47: =VLOOKUP(Display!L47,Data!$A$2:$P$504,16,FALSE) -> 0

Sheet Data
A1: Symbol | B1: Company | C1: Last Trade | D1: NC | E1: %NC | F1: =IFERROR(RTD("cqg.rtd", ,"ContractData","X.SPC", "PerCentNetLastTrade",, "T")/100,"") | G1: Open | H1: High | I1: Low | J1: Weekly | K1: Monthly | L1: Qtrly | M1: Annual | N1: Volume | O1: Vol/MA | P1: NC/21 ATR | Q1: MA | R1: STDV | S1: Z-Score
A2: S.A | B2: =PROPER(RTD("cqg.rtd", ,"ContractData",A2, "LongDescription",, "T")) -> Agilent Technologies | C2: =RTD("cqg.rtd", ,"ContractData",A2, "LastTrade",, "T") -> 172.79 | D2: =RTD("cqg.rtd", ,"ContractData",A2, "NetLastTrade",, "T") -> 0 | E2: =IFERROR(RTD("cqg.rtd", ,"ContractData",A2, "PerCentNetLastTrade",, "T")/100,"") | F2: {=IFERROR(_xlfn.MAP(E2:E504,_xlfn.LAMBDA(_xlpm.x,_xlpm.x-$F$1)),"")} | G2: =RTD("cqg.rtd", ,"ContractData",A2, "Open",, "T") | H2: =RTD("cqg.rtd", ,"ContractData",A2, "High",, "T") | I2: =RTD("cqg.rtd", ,"ContractData",A2, "Low",, "T") | J2: =IFERROR(RTD("cqg.rtd",,"StudyData",A2, "PCB","BaseType=Index,Index=1", "Close", "W","0","all",,,,"T")/100,"") | K2: =IFERROR(RTD("cqg.rtd",,"StudyData",A2, "PCB","BaseType=Index,Index=1", "Close", "M","0","all",,,,"T")/100,"") -> 0.12522792 | L2: =IFERROR(RTD("cqg.rtd",,"StudyData",A2, "PCB","BaseType=Index,Index=1", "Close", "Q","0","all",,,,"T")/100,"") -> 0.30083565 | M2: =IFERROR(RTD("cqg.rtd",,"StudyData",A2, "PCB","BaseType=Index,Index=1", "Close", "A","0","all",,,,"T")/100,"") -> 0.2698611 | N2: =RTD("cqg.rtd", ,"ContractData",A2, "T_CVol",, "T") -> 232.97163 | O2: =IFERROR(N2/RTD("cqg.rtd",,"StudyData", $A2, "MA", "InputChoice=Vol,MAType=Sim,Period=21", "MA","D","-1","all",,,,"T"),"") -> 8.965905e-05 | P2: =IFERROR(D2/RTD("cqg.rtd",,"StudyData","ATR("&A2&",MAType:=Sim,Period:=21)","Bar",, "Close", "D",,,,,,"T"),"") -> 0 | Q2: =RTD("cqg.rtd",,"StudyData", $A2, "MA", "InputChoice=Close,MAType=Sim,Period=21", "MA","D",,"all",,,,"T") -> 155.60571 | R2: =RTD("cqg.rtd",,"StudyData",$A2, "StdDev", "InputChoice=Close,Period1=21", "STDDEV","D",,"all",,,,"T") -> 9.2736922 | S2: =IFERROR(STANDARDIZE(C2,Q2,R2),"") -> 1.8530145 | U2: Historical components of the S&P 500
A3: S.AAPL | B3: =PROPER(RTD("cqg.rtd", ,"ContractData",A3, "LongDescription",, "T")) -> Apple Inc. | C3: =RTD("cqg.rtd", ,"ContractData",A3, "LastTrade",, "T") -> 341.07 | D3: =RTD("cqg.rtd", ,"ContractData",A3, "NetLastTrade",, "T") -> 0 | E3: =IFERROR(RTD("cqg.rtd", ,"ContractData",A3, "PerCentNetLastTrade",, "T")/100,"") | G3: =RTD("cqg.rtd", ,"ContractData",A3, "Open",, "T") | H3: =RTD("cqg.rtd", ,"ContractData",A3, "High",, "T") | I3: =RTD("cqg.rtd", ,"ContractData",A3, "Low",, "T") | J3: =IFERROR(RTD("cqg.rtd",,"StudyData",A3, "PCB","BaseType=Index,Index=1", "Close", "W","0","all",,,,"T")/100,"") | K3: =IFERROR(RTD("cqg.rtd",,"StudyData",A3, "PCB","BaseType=Index,Index=1", "Close", "M","0","all",,,,"T")/100,"") -> 0.076439956 | L3: =IFERROR(RTD("cqg.rtd",,"StudyData",A3, "PCB","BaseType=Index,Index=1", "Close", "Q","0","all",,,,"T")/100,"") -> 0.17870473 | M3: =IFERROR(RTD("cqg.rtd",,"StudyData",A3, "PCB","BaseType=Index,Index=1", "Close", "A","0","all",,,,"T")/100,"") -> 0.25457956 | N3: =RTD("cqg.rtd", ,"ContractData",A3, "T_CVol",, "T") -> 201366.59 | O3: =IFERROR(N3/RTD("cqg.rtd",,"StudyData", $A3, "MA", "InputChoice=Vol,MAType=Sim,Period=21", "MA","D","-1","all",,,,"T"),"") -> 0.0047496074 | P3: =IFERROR(D3/RTD("cqg.rtd",,"StudyData","ATR("&A3&",MAType:=Sim,Period:=21)","Bar",, "Close", "D",,,,,,"T"),"") -> 0 | Q3: =RTD("cqg.rtd",,"StudyData", $A3, "MA", "InputChoice=Close,MAType=Sim,Period=21", "MA","D",,"all",,,,"T") -> 329.9519 | R3: =RTD("cqg.rtd",,"StudyData",$A3, "StdDev", "InputChoice=Close,Period1=21", "STDDEV","D",,"all",,,,"T") -> 8.3449321 | S3: =IFERROR(STANDARDIZE(C3,Q3,R3),"") -> 1.332317
A4: S.ABBV | B4: =PROPER(RTD("cqg.rtd", ,"ContractData",A4, "LongDescription",, "T")) -> Abbvie Inc. | C4: =RTD("cqg.rtd", ,"ContractData",A4, "LastTrade",, "T") -> 264.34 | D4: =RTD("cqg.rtd", ,"ContractData",A4, "NetLastTrade",, "T") -> 0 | E4: =IFERROR(RTD("cqg.rtd", ,"ContractData",A4, "PerCentNetLastTrade",, "T")/100,"") | G4: =RTD("cqg.rtd", ,"ContractData",A4, "Open",, "T") | H4: =RTD("cqg.rtd", ,"ContractData",A4, "High",, "T") | I4: =RTD("cqg.rtd", ,"ContractData",A4, "Low",, "T") | J4: =IFERROR(RTD("cqg.rtd",,"StudyData",A4, "PCB","BaseType=Index,Index=1", "Close", "W","0","all",,,,"T")/100,"") | K4: =IFERROR(RTD("cqg.rtd",,"StudyData",A4, "PCB","BaseType=Index,Index=1", "Close", "M","0","all",,,,"T")/100,"") -> 0.030886826 | L4: =IFERROR(RTD("cqg.rtd",,"StudyData",A4, "PCB","BaseType=Index,Index=1", "Close", "Q","0","all",,,,"T")/100,"") -> 0.050468924 | M4: =IFERROR(RTD("cqg.rtd",,"StudyData",A4, "PCB","BaseType=Index,Index=1", "Close", "A","0","all",,,,"T")/100,"") -> 0.15689965 | N4: =RTD("cqg.rtd", ,"ContractData",A4, "T_CVol",, "T") -> 1971.3628 | O4: =IFERROR(N4/RTD("cqg.rtd",,"StudyData", $A4, "MA", "InputChoice=Vol,MAType=Sim,Period=21", "MA","D","-1","all",,,,"T"),"") -> 0.0004799142 | P4: =IFERROR(D4/RTD("cqg.rtd",,"StudyData","ATR("&A4&",MAType:=Sim,Period:=21)","Bar",, "Close", "D",,,,,,"T"),"") -> 0 | Q4: =RTD("cqg.rtd",,"StudyData", $A4, "MA", "InputChoice=Close,MAType=Sim,Period=21", "MA","D",,"all",,,,"T") -> 260.28381 | R4: =RTD("cqg.rtd",,"StudyData",$A4, "StdDev", "InputChoice=Close,Period1=21", "STDDEV","D",,"all",,,,"T") -> 4.7625698 | S4: =IFERROR(STANDARDIZE(C4,Q4,R4),"") -> 0.85168105
A5: S.ABNB | B5: =PROPER(RTD("cqg.rtd", ,"ContractData",A5, "LongDescription",, "T")) -> Airbnb, Inc. Class A | C5: =RTD("cqg.rtd", ,"ContractData",A5, "LastTrade",, "T") -> 157.47 | D5: =RTD("cqg.rtd", ,"ContractData",A5, "NetLastTrade",, "T") -> 0 | E5: =IFERROR(RTD("cqg.rtd", ,"ContractData",A5, "PerCentNetLastTrade",, "T")/100,"") | G5: =RTD("cqg.rtd", ,"ContractData",A5, "Open",, "T") | H5: =RTD("cqg.rtd", ,"ContractData",A5, "High",, "T") | I5: =RTD("cqg.rtd", ,"ContractData",A5, "Low",, "T") | J5: =IFERROR(RTD("cqg.rtd",,"StudyData",A5, "PCB","BaseType=Index,Index=1", "Close", "W","0","all",,,,"T")/100,"") | K5: =IFERROR(RTD("cqg.rtd",,"StudyData",A5, "PCB","BaseType=Index,Index=1", "Close", "M","0","all",,,,"T")/100,"") -> -0.14054143 | L5: =IFERROR(RTD("cqg.rtd",,"StudyData",A5, "PCB","BaseType=Index,Index=1", "Close", "Q","0","all",,,,"T")/100,"") -> 0.10041929 | M5: =IFERROR(RTD("cqg.rtd",,"StudyData",A5, "PCB","BaseType=Index,Index=1", "Close", "A","0","all",,,,"T")/100,"") -> 0.16025641 | N5: =RTD("cqg.rtd", ,"ContractData",A5, "T_CVol",, "T") -> 11802.059 | O5: =IFERROR(N5/RTD("cqg.rtd",,"StudyData", $A5, "MA", "InputChoice=Vol,MAType=Sim,Period=21", "MA","D","-1","all",,,,"T"),"") -> 0.0022697066 | P5: =IFERROR(D5/RTD("cqg.rtd",,"StudyData","ATR("&A5&",MAType:=Sim,Period:=21)","Bar",, "Close", "D",,,,,,"T"),"") -> 0 | Q5: =RTD("cqg.rtd",,"StudyData", $A5, "MA", "InputChoice=Close,MAType=Sim,Period=21", "MA","D",,"all",,,,"T") -> 170.04 | R5: =RTD("cqg.rtd",,"StudyData",$A5, "StdDev", "InputChoice=Close,Period1=21", "STDDEV","D",,"all",,,,"T") -> 10.870323 | S5: =IFERROR(STANDARDIZE(C5,Q5,R5),"") -> -1.1563594
A6: S.ABT | B6: =PROPER(RTD("cqg.rtd", ,"ContractData",A6, "LongDescription",, "T")) -> Abbott Laboratories | C6: =RTD("cqg.rtd", ,"ContractData",A6, "LastTrade",, "T") -> 101.29 | D6: =RTD("cqg.rtd", ,"ContractData",A6, "NetLastTrade",, "T") -> 0 | E6: =IFERROR(RTD("cqg.rtd", ,"ContractData",A6, "PerCentNetLastTrade",, "T")/100,"") | G6: =RTD("cqg.rtd", ,"ContractData",A6, "Open",, "T") | H6: =RTD("cqg.rtd", ,"ContractData",A6, "High",, "T") | I6: =RTD("cqg.rtd", ,"ContractData",A6, "Low",, "T") | J6: =IFERROR(RTD("cqg.rtd",,"StudyData",A6, "PCB","BaseType=Index,Index=1", "Close", "W","0","all",,,,"T")/100,"") | K6: =IFERROR(RTD("cqg.rtd",,"StudyData",A6, "PCB","BaseType=Index,Index=1", "Close", "M","0","all",,,,"T")/100,"") -> -0.082185574 | L6: =IFERROR(RTD("cqg.rtd",,"StudyData",A6, "PCB","BaseType=Index,Index=1", "Close", "Q","0","all",,,,"T")/100,"") -> 0.11626626 | M6: =IFERROR(RTD("cqg.rtd",,"StudyData",A6, "PCB","BaseType=Index,Index=1", "Close", "A","0","all",,,,"T")/100,"") -> -0.19155559 | N6: =RTD("cqg.rtd", ,"ContractData",A6, "T_CVol",, "T") -> 2228.8832 | O6: =IFERROR(N6/RTD("cqg.rtd",,"StudyData", $A6, "MA", "InputChoice=Vol,MAType=Sim,Period=21", "MA","D","-1","all",,,,"T"),"") -> 0.00025403787 | P6: =IFERROR(D6/RTD("cqg.rtd",,"StudyData","ATR("&A6&",MAType:=Sim,Period:=21)","Bar",, "Close", "D",,,,,,"T"),"") -> 0 | Q6: =RTD("cqg.rtd",,"StudyData", $A6, "MA", "InputChoice=Close,MAType=Sim,Period=21", "MA","D",,"all",,,,"T") -> 104.83524 | R6: =RTD("cqg.rtd",,"StudyData",$A6, "StdDev", "InputChoice=Close,Period1=21", "STDDEV","D",,"all",,,,"T") -> 3.4570007 | S6: =IFERROR(STANDARDIZE(C6,Q6,R6),"") -> -1.0255243
A7: S.ACGL | B7: =PROPER(RTD("cqg.rtd", ,"ContractData",A7, "LongDescription",, "T")) -> Arch Capital Grp Ltd | C7: =RTD("cqg.rtd", ,"ContractData",A7, "LastTrade",, "T") -> 94.66 | D7: =RTD("cqg.rtd", ,"ContractData",A7, "NetLastTrade",, "T") -> 0 | E7: =IFERROR(RTD("cqg.rtd", ,"ContractData",A7, "PerCentNetLastTrade",, "T")/100,"") | G7: =RTD("cqg.rtd", ,"ContractData",A7, "Open",, "T") | H7: =RTD("cqg.rtd", ,"ContractData",A7, "High",, "T") | I7: =RTD("cqg.rtd", ,"ContractData",A7, "Low",, "T") | J7: =IFERROR(RTD("cqg.rtd",,"StudyData",A7, "PCB","BaseType=Index,Index=1", "Close", "W","0","all",,,,"T")/100,"") | K7: =IFERROR(RTD("cqg.rtd",,"StudyData",A7, "PCB","BaseType=Index,Index=1", "Close", "M","0","all",,,,"T")/100,"") -> -0.034771082 | L7: =IFERROR(RTD("cqg.rtd",,"StudyData",A7, "PCB","BaseType=Index,Index=1", "Close", "Q","0","all",,,,"T")/100,"") -> -0.024726973 | M7: =IFERROR(RTD("cqg.rtd",,"StudyData",A7, "PCB","BaseType=Index,Index=1", "Close", "A","0","all",,,,"T")/100,"") -> -0.013135947 | N7: =RTD("cqg.rtd", ,"ContractData",A7, "T_CVol",, "T") -> 568.238 | O7: =IFERROR(N7/RTD("cqg.rtd",,"StudyData", $A7, "MA", "InputChoice=Vol,MAType=Sim,Period=21", "MA","D","-1","all",,,,"T"),"") -> 0.00013335151 | P7: =IFERROR(D7/RTD("cqg.rtd",,"StudyData","ATR("&A7&",MAType:=Sim,Period:=21)","Bar",, "Close", "D",,,,,,"T"),"") -> 0 | Q7: =RTD("cqg.rtd",,"StudyData", $A7, "MA", "InputChoice=Close,MAType=Sim,Period=21", "MA","D",,"all",,,,"T") -> 96.740476 | R7: =RTD("cqg.rtd",,"StudyData",$A7, "StdDev", "InputChoice=Close,Period1=21", "STDDEV","D",,"all",,,,"T") -> 1.4682464 | S7: =IFERROR(STANDARDIZE(C7,Q7,R7),"") -> -1.4169803
A8: S.ACN | B8: =PROPER(RTD("cqg.rtd", ,"ContractData",A8, "LongDescription",, "T")) -> Accenture Plc Ireland | C8: =RTD("cqg.rtd", ,"ContractData",A8, "LastTrade",, "T") -> 176.11 | D8: =RTD("cqg.rtd", ,"ContractData",A8, "NetLastTrade",, "T") -> 0 | E8: =IFERROR(RTD("cqg.rtd", ,"ContractData",A8, "PerCentNetLastTrade",, "T")/100,"") | G8: =RTD("cqg.rtd", ,"ContractData",A8, "Open",, "T") | H8: =RTD("cqg.rtd", ,"ContractData",A8, "High",, "T") | I8: =RTD("cqg.rtd", ,"ContractData",A8, "Low",, "T") | J8: =IFERROR(RTD("cqg.rtd",,"StudyData",A8, "PCB","BaseType=Index,Index=1", "Close", "W","0","all",,,,"T")/100,"") | K8: =IFERROR(RTD("cqg.rtd",,"StudyData",A8, "PCB","BaseType=Index,Index=1", "Close", "M","0","all",,,,"T")/100,"") -> -0.071932968 | L8: =IFERROR(RTD("cqg.rtd",,"StudyData",A8, "PCB","BaseType=Index,Index=1", "Close", "Q","0","all",,,,"T")/100,"") -> 0.41522019 | M8: =IFERROR(RTD("cqg.rtd",,"StudyData",A8, "PCB","BaseType=Index,Index=1", "Close", "A","0","all",,,,"T")/100,"") -> -0.3436079 | N8: =RTD("cqg.rtd", ,"ContractData",A8, "T_CVol",, "T") -> 7053.3312 | O8: =IFERROR(N8/RTD("cqg.rtd",,"StudyData", $A8, "MA", "InputChoice=Vol,MAType=Sim,Period=21", "MA","D","-1","all",,,,"T"),"") -> 0.0014574778 | P8: =IFERROR(D8/RTD("cqg.rtd",,"StudyData","ATR("&A8&",MAType:=Sim,Period:=21)","Bar",, "Close", "D",,,,,,"T"),"") -> 0 | Q8: =RTD("cqg.rtd",,"StudyData", $A8, "MA", "InputChoice=Close,MAType=Sim,Period=21", "MA","D",,"all",,,,"T") -> 184.96286 | R8: =RTD("cqg.rtd",,"StudyData",$A8, "StdDev", "InputChoice=Close,Period1=21", "STDDEV","D",,"all",,,,"T") -> 5.9993413 | S8: =IFERROR(STANDARDIZE(C8,Q8,R8),"") -> -1.4756382
A9: S.ADBE | B9: =PROPER(RTD("cqg.rtd", ,"ContractData",A9, "LongDescription",, "T")) -> Adobe Inc. | C9: =RTD("cqg.rtd", ,"ContractData",A9, "LastTrade",, "T") -> 235.47 | D9: =RTD("cqg.rtd", ,"ContractData",A9, "NetLastTrade",, "T") -> 0 | E9: =IFERROR(RTD("cqg.rtd", ,"ContractData",A9, "PerCentNetLastTrade",, "T")/100,"") | G9: =RTD("cqg.rtd", ,"ContractData",A9, "Open",, "T") | H9: =RTD("cqg.rtd", ,"ContractData",A9, "High",, "T") | I9: =RTD("cqg.rtd", ,"ContractData",A9, "Low",, "T") | J9: =IFERROR(RTD("cqg.rtd",,"StudyData",A9, "PCB","BaseType=Index,Index=1", "Close", "W","0","all",,,,"T")/100,"") | K9: =IFERROR(RTD("cqg.rtd",,"StudyData",A9, "PCB","BaseType=Index,Index=1", "Close", "M","0","all",,,,"T")/100,"") -> -0.19577171 | L9: =IFERROR(RTD("cqg.rtd",,"StudyData",A9, "PCB","BaseType=Index,Index=1", "Close", "Q","0","all",,,,"T")/100,"") -> 0.1485221 | M9: =IFERROR(RTD("cqg.rtd",,"StudyData",A9, "PCB","BaseType=Index,Index=1", "Close", "A","0","all",,,,"T")/100,"") -> -0.32720935 | N9: =RTD("cqg.rtd", ,"ContractData",A9, "T_CVol",, "T") -> 26474.319 | O9: =IFERROR(N9/RTD("cqg.rtd",,"StudyData", $A9, "MA", "InputChoice=Vol,MAType=Sim,Period=21", "MA","D","-1","all",,,,"T"),"") -> 0.0046977434 | P9: =IFERROR(D9/RTD("cqg.rtd",,"StudyData","ATR("&A9&",MAType:=Sim,Period:=21)","Bar",, "Close", "D",,,,,,"T"),"") -> 0 | Q9: =RTD("cqg.rtd",,"StudyData", $A9, "MA", "InputChoice=Close,MAType=Sim,Period=21", "MA","D",,"all",,,,"T") -> 258.54286 | R9: =RTD("cqg.rtd",,"StudyData",$A9, "StdDev", "InputChoice=Close,Period1=21", "STDDEV","D",,"all",,,,"T") -> 18.161585 | S9: =IFERROR(STANDARDIZE(C9,Q9,R9),"") -> -1.2704209
A10: S.ADI | B10: =PROPER(RTD("cqg.rtd", ,"ContractData",A10, "LongDescription",, "T")) -> Analog Devices Inc | C10: =RTD("cqg.rtd", ,"ContractData",A10, "LastTrade",, "T") -> 393.6 | D10: =RTD("cqg.rtd", ,"ContractData",A10, "NetLastTrade",, "T") -> 0 | E10: =IFERROR(RTD("cqg.rtd", ,"ContractData",A10, "PerCentNetLastTrade",, "T")/100,"") | G10: =RTD("cqg.rtd", ,"ContractData",A10, "Open",, "T") | H10: =RTD("cqg.rtd", ,"ContractData",A10, "High",, "T") | I10: =RTD("cqg.rtd", ,"ContractData",A10, "Low",, "T") | J10: =IFERROR(RTD("cqg.rtd",,"StudyData",A10, "PCB","BaseType=Index,Index=1", "Close", "W","0","all",,,,"T")/100,"") | K10: =IFERROR(RTD("cqg.rtd",,"StudyData",A10, "PCB","BaseType=Index,Index=1", "Close", "M","0","all",,,,"T")/100,"") -> 0.08687248 | L10: =IFERROR(RTD("cqg.rtd",,"StudyData",A10, "PCB","BaseType=Index,Index=1", "Close", "Q","0","all",,,,"T")/100,"") -> -0.0089885943 | M10: =IFERROR(RTD("cqg.rtd",,"StudyData",A10, "PCB","BaseType=Index,Index=1", "Close", "A","0","all",,,,"T")/100,"") -> 0.45132743 | N10: =RTD("cqg.rtd", ,"ContractData",A10, "T_CVol",, "T") -> 4141.4493 | O10: =IFERROR(N10/RTD("cqg.rtd",,"StudyData", $A10, "MA", "InputChoice=Vol,MAType=Sim,Period=21", "MA","D","-1","all",,,,"T"),"") -> 0.0012175663 | P10: =IFERROR(D10/RTD("cqg.rtd",,"StudyData","ATR("&A10&",MAType:=Sim,Period:=21)","Bar",, "Close", "D",,,,,,"T"),"") -> 0 | Q10: =RTD("cqg.rtd",,"StudyData", $A10, "MA", "InputChoice=Close,MAType=Sim,Period=21", "MA","D",,"all",,,,"T") -> 370.11381 | R10: =RTD("cqg.rtd",,"StudyData",$A10, "StdDev", "InputChoice=Close,Period1=21", "STDDEV","D",,"all",,,,"T") -> 12.787282 | S10: =IFERROR(STANDARDIZE(C10,Q10,R10),"") -> 1.8366836
A11: S.ADM | B11: =PROPER(RTD("cqg.rtd", ,"ContractData",A11, "LongDescription",, "T")) -> Archer-Daniels-Midland | C11: =RTD("cqg.rtd", ,"ContractData",A11, "LastTrade",, "T") -> 81.12 | D11: =RTD("cqg.rtd", ,"ContractData",A11, "NetLastTrade",, "T") -> 0 | E11: =IFERROR(RTD("cqg.rtd", ,"ContractData",A11, "PerCentNetLastTrade",, "T")/100,"") | G11: =RTD("cqg.rtd", ,"ContractData",A11, "Open",, "T") | H11: =RTD("cqg.rtd", ,"ContractData",A11, "High",, "T") | I11: =RTD("cqg.rtd", ,"ContractData",A11, "Low",, "T") | J11: =IFERROR(RTD("cqg.rtd",,"StudyData",A11, "PCB","BaseType=Index,Index=1", "Close", "W","0","all",,,,"T")/100,"") | K11: =IFERROR(RTD("cqg.rtd",,"StudyData",A11, "PCB","BaseType=Index,Index=1", "Close", "M","0","all",,,,"T")/100,"") -> -0.0020912781 | L11: =IFERROR(RTD("cqg.rtd",,"StudyData",A11, "PCB","BaseType=Index,Index=1", "Close", "Q","0","all",,,,"T")/100,"") -> 0.061780105 | M11: =IFERROR(RTD("cqg.rtd",,"StudyData",A11, "PCB","BaseType=Index,Index=1", "Close", "A","0","all",,,,"T")/100,"") -> 0.411028 | N11: =RTD("cqg.rtd", ,"ContractData",A11, "T_CVol",, "T") -> 3989.0981 | O11: =IFERROR(N11/RTD("cqg.rtd",,"StudyData", $A11, "MA", "InputChoice=Vol,MAType=Sim,Period=21", "MA","D","-1","all",,,,"T"),"") -> 0.0010384262 | P11: =IFERROR(D11/RTD("cqg.rtd",,"StudyData","ATR("&A11&",MAType:=Sim,Period:=21)","Bar",, "Close", "D",,,,,,"T"),"") -> 0 | Q11: =RTD("cqg.rtd",,"StudyData", $A11, "MA", "InputChoice=Close,MAType=Sim,Period=21", "MA","D",,"all",,,,"T") -> 84.273333 | R11: =RTD("cqg.rtd",,"StudyData",$A11, "StdDev", "InputChoice=Close,Period1=21", "STDDEV","D",,"all",,,,"T") -> 2.1458827 | S11: =IFERROR(STANDARDIZE(C11,Q11,R11),"") -> -1.4694807
A12: S.ADP | B12: =PROPER(RTD("cqg.rtd", ,"ContractData",A12, "LongDescription",, "T")) -> Automatic Data Procs | C12: =RTD("cqg.rtd", ,"ContractData",A12, "LastTrade",, "T") -> 263.67 | D12: =RTD("cqg.rtd", ,"ContractData",A12, "NetLastTrade",, "T") -> 0 | E12: =IFERROR(RTD("cqg.rtd", ,"ContractData",A12, "PerCentNetLastTrade",, "T")/100,"") | G12: =RTD("cqg.rtd", ,"ContractData",A12, "Open",, "T") | H12: =RTD("cqg.rtd", ,"ContractData",A12, "High",, "T") | I12: =RTD("cqg.rtd", ,"ContractData",A12, "Low",, "T") | J12: =IFERROR(RTD("cqg.rtd",,"StudyData",A12, "PCB","BaseType=Index,Index=1", "Close", "W","0","all",,,,"T")/100,"") | K12: =IFERROR(RTD("cqg.rtd",,"StudyData",A12, "PCB","BaseType=Index,Index=1", "Close", "M","0","all",,,,"T")/100,"") -> -0.078592396 | L12: =IFERROR(RTD("cqg.rtd",,"StudyData",A12, "PCB","BaseType=Index,Index=1", "Close", "Q","0","all",,,,"T")/100,"") -> 0.17736102 | M12: =IFERROR(RTD("cqg.rtd",,"StudyData",A12, "PCB","BaseType=Index,Index=1", "Close", "A","0","all",,,,"T")/100,"") -> 0.02503596 | N12: =RTD("cqg.rtd", ,"ContractData",A12, "T_CVol",, "T") -> 251.01935 | O12: =IFERROR(N12/RTD("cqg.rtd",,"StudyData", $A12, "MA", "InputChoice=Vol,MAType=Sim,Period=21", "MA","D","-1","all",,,,"T"),"") -> 0.00011370989 | P12: =IFERROR(D12/RTD("cqg.rtd",,"StudyData","ATR("&A12&",MAType:=Sim,Period:=21)","Bar",, "Close", "D",,,,,,"T"),"") -> 0 | Q12: =RTD("cqg.rtd",,"StudyData", $A12, "MA", "InputChoice=Close,MAType=Sim,Period=21", "MA","D",,"all",,,,"T") -> 272.93952 | R12: =RTD("cqg.rtd",,"StudyData",$A12, "StdDev", "InputChoice=Close,Period1=21", "STDDEV","D",,"all",,,,"T") -> 7.6874112 | S12: =IFERROR(STANDARDIZE(C12,Q12,R12),"") -> -1.2058057
A13: S.ADSK | B13: =PROPER(RTD("cqg.rtd", ,"ContractData",A13, "LongDescription",, "T")) -> Autodesk Inc | C13: =RTD("cqg.rtd", ,"ContractData",A13, "LastTrade",, "T") -> 209.4 | D13: =RTD("cqg.rtd", ,"ContractData",A13, "NetLastTrade",, "T") -> 0 | E13: =IFERROR(RTD("cqg.rtd", ,"ContractData",A13, "PerCentNetLastTrade",, "T")/100,"") | G13: =RTD("cqg.rtd", ,"ContractData",A13, "Open",, "T") | H13: =RTD("cqg.rtd", ,"ContractData",A13, "High",, "T") | I13: =RTD("cqg.rtd", ,"ContractData",A13, "Low",, "T") | J13: =IFERROR(RTD("cqg.rtd",,"StudyData",A13, "PCB","BaseType=Index,Index=1", "Close", "W","0","all",,,,"T")/100,"") | K13: =IFERROR(RTD("cqg.rtd",,"StudyData",A13, "PCB","BaseType=Index,Index=1", "Close", "M","0","all",,,,"T")/100,"") -> -0.19003597 | L13: =IFERROR(RTD("cqg.rtd",,"StudyData",A13, "PCB","BaseType=Index,Index=1", "Close", "Q","0","all",,,,"T")/100,"") -> 0.077049686 | M13: =IFERROR(RTD("cqg.rtd",,"StudyData",A13, "PCB","BaseType=Index,Index=1", "Close", "A","0","all",,,,"T")/100,"") -> -0.29259147 | N13: =RTD("cqg.rtd", ,"ContractData",A13, "T_CVol",, "T") -> 6685.5051 | O13: =IFERROR(N13/RTD("cqg.rtd",,"StudyData", $A13, "MA", "InputChoice=Vol,MAType=Sim,Period=21", "MA","D","-1","all",,,,"T"),"") -> 0.0027370105 | P13: =IFERROR(D13/RTD("cqg.rtd",,"StudyData","ATR("&A13&",MAType:=Sim,Period:=21)","Bar",, "Close", "D",,,,,,"T"),"") -> 0 | Q13: =RTD("cqg.rtd",,"StudyData", $A13, "MA", "InputChoice=Close,MAType=Sim,Period=21", "MA","D",,"all",,,,"T") -> 223.99857 | R13: =RTD("cqg.rtd",,"StudyData",$A13, "StdDev", "InputChoice=Close,Period1=21", "STDDEV","D",,"all",,,,"T") -> 15.679166 | S13: =IFERROR(STANDARDIZE(C13,Q13,R13),"") -> -0.93108084
A14: S.AEE | B14: =PROPER(RTD("cqg.rtd", ,"ContractData",A14, "LongDescription",, "T")) -> Ameren Corp | C14: =RTD("cqg.rtd", ,"ContractData",A14, "LastTrade",, "T") -> 99.39 | D14: =RTD("cqg.rtd", ,"ContractData",A14, "NetLastTrade",, "T") -> 0 | E14: =IFERROR(RTD("cqg.rtd", ,"ContractData",A14, "PerCentNetLastTrade",, "T")/100,"") | G14: =RTD("cqg.rtd", ,"ContractData",A14, "Open",, "T") | H14: =RTD("cqg.rtd", ,"ContractData",A14, "High",, "T") | I14: =RTD("cqg.rtd", ,"ContractData",A14, "Low",, "T") | J14: =IFERROR(RTD("cqg.rtd",,"StudyData",A14, "PCB","BaseType=Index,Index=1", "Close", "W","0","all",,,,"T")/100,"") | K14: =IFERROR(RTD("cqg.rtd",,"StudyData",A14, "PCB","BaseType=Index,Index=1", "Close", "M","0","all",,,,"T")/100,"") -> -0.062446939 | L14: =IFERROR(RTD("cqg.rtd",,"StudyData",A14, "PCB","BaseType=Index,Index=1", "Close", "Q","0","all",,,,"T")/100,"") -> -0.12075372 | M14: =IFERROR(RTD("cqg.rtd",,"StudyData",A14, "PCB","BaseType=Index,Index=1", "Close", "A","0","all",,,,"T")/100,"") -> -0.0047065892 | N14: =RTD("cqg.rtd", ,"ContractData",A14, "T_CVol",, "T") -> 0.9631 | O14: =IFERROR(N14/RTD("cqg.rtd",,"StudyData", $A14, "MA", "InputChoice=Vol,MAType=Sim,Period=21", "MA","D","-1","all",,,,"T"),"") -> 5.9836427e-07 | P14: =IFERROR(D14/RTD("cqg.rtd",,"StudyData","ATR("&A14&",MAType:=Sim,Period:=21)","Bar",, "Close", "D",,,,,,"T"),"") -> 0 | Q14: =RTD("cqg.rtd",,"StudyData", $A14, "MA", "InputChoice=Close,MAType=Sim,Period=21", "MA","D",,"all",,,,"T") -> 103.67571 | R14: =RTD("cqg.rtd",,"StudyData",$A14, "StdDev", "InputChoice=Close,Period1=21", "STDDEV","D",,"all",,,,"T") -> 2.575575 | S14: =IFERROR(STANDARDIZE(C14,Q14,R14),"") -> -1.6639835
... A470: S.VMC | B470: =PROPER(RTD("cqg.rtd", ,"ContractData",A470, "LongDescription",, "T")) -> Vulcan Material Co | C470: =RTD("cqg.rtd", ,"ContractData",A470, "LastTrade",, "T") -> 245 | D470: =RTD("cqg.rtd", ,"ContractData",A470, "NetLastTrade",, "T") -> 0 | E470: =IFERROR(RTD("cqg.rtd", ,"ContractData",A470, "PerCentNetLastTrade",, "T")/100,"") | G470: =RTD("cqg.rtd", ,"ContractData",A470, "Open",, "T") | H470: =RTD("cqg.rtd", ,"ContractData",A470, "High",, "T") | I470: =RTD("cqg.rtd", ,"ContractData",A470, "Low",, "T") | J470: =IFERROR(RTD("cqg.rtd",,"StudyData",A470, "PCB","BaseType=Index,Index=1", "Close", "W","0","all",,,,"T")/100,"") | K470: =IFERROR(RTD("cqg.rtd",,"StudyData",A470, "PCB","BaseType=Index,Index=1", "Close", "M","0","all",,,,"T")/100,"") -> -0.091178871 | L470: =IFERROR(RTD("cqg.rtd",,"StudyData",A470, "PCB","BaseType=Index,Index=1", "Close", "Q","0","all",,,,"T")/100,"") -> -0.16951968 | M470: =IFERROR(RTD("cqg.rtd",,"StudyData",A470, "PCB","BaseType=Index,Index=1", "Close", "A","0","all",,,,"T")/100,"") -> -0.14101395 | N470: =RTD("cqg.rtd", ,"ContractData",A470, "T_CVol",, "T") -> 20.139 | O470: =IFERROR(N470/RTD("cqg.rtd",,"StudyData", $A470, "MA", "InputChoice=Vol,MAType=Sim,Period=21", "MA","D","-1","all",,,,"T"),"") -> 1.6972734e-05 | P470: =IFERROR(D470/RTD("cqg.rtd",,"StudyData","ATR("&A470&",MAType:=Sim,Period:=21)","Bar",, "Close", "D",,,,,,"T"),"") -> 0 | Q470: =RTD("cqg.rtd",,"StudyData", $A470, "MA", "InputChoice=Close,MAType=Sim,Period=21", "MA","D",,"all",,,,"T") -> 252.45905 | R470: =RTD("cqg.rtd",,"StudyData",$A470, "StdDev", "InputChoice=Close,Period1=21", "STDDEV","D",,"all",,,,"T") -> 9.2659108 | S470: =IFERROR(STANDARDIZE(C470,Q470,R470),"") -> -0.80499885
A471: S.VMRK | B471: =PROPER(RTD("cqg.rtd", ,"ContractData",A471, "LongDescription",, "T")) -> Equity Residential Properties Trust | C471: =RTD("cqg.rtd", ,"ContractData",A471, "LastTrade",, "T") -> 61.51 | D471: =RTD("cqg.rtd", ,"ContractData",A471, "NetLastTrade",, "T") -> 0 | E471: =IFERROR(RTD("cqg.rtd", ,"ContractData",A471, "PerCentNetLastTrade",, "T")/100,"") | G471: =RTD("cqg.rtd", ,"ContractData",A471, "Open",, "T") | H471: =RTD("cqg.rtd", ,"ContractData",A471, "High",, "T") | I471: =RTD("cqg.rtd", ,"ContractData",A471, "Low",, "T") | J471: =IFERROR(RTD("cqg.rtd",,"StudyData",A471, "PCB","BaseType=Index,Index=1", "Close", "W","0","all",,,,"T")/100,"") | K471: =IFERROR(RTD("cqg.rtd",,"StudyData",A471, "PCB","BaseType=Index,Index=1", "Close", "M","0","all",,,,"T")/100,"") -> -0.055726128 | L471: =IFERROR(RTD("cqg.rtd",,"StudyData",A471, "PCB","BaseType=Index,Index=1", "Close", "Q","0","all",,,,"T")/100,"") -> -0.094509053 | M471: =IFERROR(RTD("cqg.rtd",,"StudyData",A471, "PCB","BaseType=Index,Index=1", "Close", "A","0","all",,,,"T")/100,"") -> -0.024270305 | N471: =RTD("cqg.rtd", ,"ContractData",A471, "T_CVol",, "T") -> 23.981408 | O471: =IFERROR(N471/RTD("cqg.rtd",,"StudyData", $A471, "MA", "InputChoice=Vol,MAType=Sim,Period=21", "MA","D","-1","all",,,,"T"),"") -> 3.8135225e-06 | P471: =IFERROR(D471/RTD("cqg.rtd",,"StudyData","ATR("&A471&",MAType:=Sim,Period:=21)","Bar",, "Close", "D",,,,,,"T"),"") -> 0 | Q471: =RTD("cqg.rtd",,"StudyData", $A471, "MA", "InputChoice=Close,MAType=Sim,Period=21", "MA","D",,"all",,,,"T") -> 63.864286 | R471: =RTD("cqg.rtd",,"StudyData",$A471, "StdDev", "InputChoice=Close,Period1=21", "STDDEV","D",,"all",,,,"T") -> 1.8717234 | S471: =IFERROR(STANDARDIZE(C471,Q471,R471),"") -> -1.2578171 | T471: =RTD("cqg.rtd",,"StudyData",$A471,"MA","InputChoice=Vol,MAType=Sim,Period=21","MA","D","-1","all",,,,"T") -> 6288518.8
A472: S.VRSK | B472: =PROPER(RTD("cqg.rtd", ,"ContractData",A472, "LongDescription",, "T")) -> Verisk Analytics Inc | C472: =RTD("cqg.rtd", ,"ContractData",A472, "LastTrade",, "T") -> 169.21 | D472: =RTD("cqg.rtd", ,"ContractData",A472, "NetLastTrade",, "T") -> 0 | E472: =IFERROR(RTD("cqg.rtd", ,"ContractData",A472, "PerCentNetLastTrade",, "T")/100,"") | G472: =RTD("cqg.rtd", ,"ContractData",A472, "Open",, "T") | H472: =RTD("cqg.rtd", ,"ContractData",A472, "High",, "T") | I472: =RTD("cqg.rtd", ,"ContractData",A472, "Low",, "T") | J472: =IFERROR(RTD("cqg.rtd",,"StudyData",A472, "PCB","BaseType=Index,Index=1", "Close", "W","0","all",,,,"T")/100,"") | K472: =IFERROR(RTD("cqg.rtd",,"StudyData",A472, "PCB","BaseType=Index,Index=1", "Close", "M","0","all",,,,"T")/100,"") -> -0.12679327 | L472: =IFERROR(RTD("cqg.rtd",,"StudyData",A472, "PCB","BaseType=Index,Index=1", "Close", "Q","0","all",,,,"T")/100,"") -> -0.057483429 | M472: =IFERROR(RTD("cqg.rtd",,"StudyData",A472, "PCB","BaseType=Index,Index=1", "Close", "A","0","all",,,,"T")/100,"") -> -0.24355134 | N472: =RTD("cqg.rtd", ,"ContractData",A472, "T_CVol",, "T") -> 329.05197 | O472: =IFERROR(N472/RTD("cqg.rtd",,"StudyData", $A472, "MA", "InputChoice=Vol,MAType=Sim,Period=21", "MA","D","-1","all",,,,"T"),"") -> 0.00027100856 | P472: =IFERROR(D472/RTD("cqg.rtd",,"StudyData","ATR("&A472&",MAType:=Sim,Period:=21)","Bar",, "Close", "D",,,,,,"T"),"") -> 0 | Q472: =RTD("cqg.rtd",,"StudyData", $A472, "MA", "InputChoice=Close,MAType=Sim,Period=21", "MA","D",,"all",,,,"T") -> 179.69381 | R472: =RTD("cqg.rtd",,"StudyData",$A472, "StdDev", "InputChoice=Close,Period1=21", "STDDEV","D",,"all",,,,"T") -> 8.2931627 | S472: =IFERROR(STANDARDIZE(C472,Q472,R472),"") -> -1.264151
A473: S.VRSN | B473: =PROPER(RTD("cqg.rtd", ,"ContractData",A473, "LongDescription",, "T")) -> Verisign, Inc. | C473: =RTD("cqg.rtd", ,"ContractData",A473, "LastTrade",, "T") -> 287.25 | D473: =RTD("cqg.rtd", ,"ContractData",A473, "NetLastTrade",, "T") -> 0 | E473: =IFERROR(RTD("cqg.rtd", ,"ContractData",A473, "PerCentNetLastTrade",, "T")/100,"") | G473: =RTD("cqg.rtd", ,"ContractData",A473, "Open",, "T") | H473: =RTD("cqg.rtd", ,"ContractData",A473, "High",, "T") | I473: =RTD("cqg.rtd", ,"ContractData",A473, "Low",, "T") | J473: =IFERROR(RTD("cqg.rtd",,"StudyData",A473, "PCB","BaseType=Index,Index=1", "Close", "W","0","all",,,,"T")/100,"") | K473: =IFERROR(RTD("cqg.rtd",,"StudyData",A473, "PCB","BaseType=Index,Index=1", "Close", "M","0","all",,,,"T")/100,"") -> -0.0035729152 | L473: =IFERROR(RTD("cqg.rtd",,"StudyData",A473, "PCB","BaseType=Index,Index=1", "Close", "Q","0","all",,,,"T")/100,"") -> 0.1418747 | M473: =IFERROR(RTD("cqg.rtd",,"StudyData",A473, "PCB","BaseType=Index,Index=1", "Close", "A","0","all",,,,"T")/100,"") -> 0.18234205 | N473: =RTD("cqg.rtd", ,"ContractData",A473, "T_CVol",, "T") -> 90.017 | O473: =IFERROR(N473/RTD("cqg.rtd",,"StudyData", $A473, "MA", "InputChoice=Vol,MAType=Sim,Period=21", "MA","D","-1","all",,,,"T"),"") -> 0.00012212565 | P473: =IFERROR(D473/RTD("cqg.rtd",,"StudyData","ATR("&A473&",MAType:=Sim,Period:=21)","Bar",, "Close", "D",,,,,,"T"),"") -> 0 | Q473: =RTD("cqg.rtd",,"StudyData", $A473, "MA", "InputChoice=Close,MAType=Sim,Period=21", "MA","D",,"all",,,,"T") -> 293.40095 | R473: =RTD("cqg.rtd",,"StudyData",$A473, "StdDev", "InputChoice=Close,Period1=21", "STDDEV","D",,"all",,,,"T") -> 6.2682404 | S473: =IFERROR(STANDARDIZE(C473,Q473,R473),"") -> -0.98128853
A474: S.VRT | B474: =PROPER(RTD("cqg.rtd", ,"ContractData",A474, "LongDescription",, "T")) -> Vertiv Holdings, Llc | C474: =RTD("cqg.rtd", ,"ContractData",A474, "LastTrade",, "T") -> 253.28 | D474: =RTD("cqg.rtd", ,"ContractData",A474, "NetLastTrade",, "T") -> 0 | E474: =IFERROR(RTD("cqg.rtd", ,"ContractData",A474, "PerCentNetLastTrade",, "T")/100,"") | G474: =RTD("cqg.rtd", ,"ContractData",A474, "Open",, "T") | H474: =RTD("cqg.rtd", ,"ContractData",A474, "High",, "T") | I474: =RTD("cqg.rtd", ,"ContractData",A474, "Low",, "T") | J474: =IFERROR(RTD("cqg.rtd",,"StudyData",A474, "PCB","BaseType=Index,Index=1", "Close", "W","0","all",,,,"T")/100,"") | K474: =IFERROR(RTD("cqg.rtd",,"StudyData",A474, "PCB","BaseType=Index,Index=1", "Close", "M","0","all",,,,"T")/100,"") -> -0.021026592 | L474: =IFERROR(RTD("cqg.rtd",,"StudyData",A474, "PCB","BaseType=Index,Index=1", "Close", "Q","0","all",,,,"T")/100,"") -> -0.24353384 | M474: =IFERROR(RTD("cqg.rtd",,"StudyData",A474, "PCB","BaseType=Index,Index=1", "Close", "A","0","all",,,,"T")/100,"") -> 0.56336029 | N474: =RTD("cqg.rtd", ,"ContractData",A474, "T_CVol",, "T") -> 32321.695 | O474: =IFERROR(N474/RTD("cqg.rtd",,"StudyData", $A474, "MA", "InputChoice=Vol,MAType=Sim,Period=21", "MA","D","-1","all",,,,"T"),"") -> 0.0060621268 | P474: =IFERROR(D474/RTD("cqg.rtd",,"StudyData","ATR("&A474&",MAType:=Sim,Period:=21)","Bar",, "Close", "D",,,,,,"T"),"") -> 0 | Q474: =RTD("cqg.rtd",,"StudyData", $A474, "MA", "InputChoice=Close,MAType=Sim,Period=21", "MA","D",,"all",,,,"T") -> 254.47571 | R474: =RTD("cqg.rtd",,"StudyData",$A474, "StdDev", "InputChoice=Close,Period1=21", "STDDEV","D",,"all",,,,"T") -> 13.089191 | S474: =IFERROR(STANDARDIZE(C474,Q474,R474),"") -> -0.091351273
A475: S.VRTX | B475: =PROPER(RTD("cqg.rtd", ,"ContractData",A475, "LongDescription",, "T")) -> Vertex Pharmaceutic | C475: =RTD("cqg.rtd", ,"ContractData",A475, "LastTrade",, "T") -> 526.19 | D475: =RTD("cqg.rtd", ,"ContractData",A475, "NetLastTrade",, "T") -> 0 | E475: =IFERROR(RTD("cqg.rtd", ,"ContractData",A475, "PerCentNetLastTrade",, "T")/100,"") | G475: =RTD("cqg.rtd", ,"ContractData",A475, "Open",, "T") | H475: =RTD("cqg.rtd", ,"ContractData",A475, "High",, "T") | I475: =RTD("cqg.rtd", ,"ContractData",A475, "Low",, "T") | J475: =IFERROR(RTD("cqg.rtd",,"StudyData",A475, "PCB","BaseType=Index,Index=1", "Close", "W","0","all",,,,"T")/100,"") | K475: =IFERROR(RTD("cqg.rtd",,"StudyData",A475, "PCB","BaseType=Index,Index=1", "Close", "M","0","all",,,,"T")/100,"") -> -0.033662675 | L475: =IFERROR(RTD("cqg.rtd",,"StudyData",A475, "PCB","BaseType=Index,Index=1", "Close", "Q","0","all",,,,"T")/100,"") -> 0.059307873 | M475: =IFERROR(RTD("cqg.rtd",,"StudyData",A475, "PCB","BaseType=Index,Index=1", "Close", "A","0","all",,,,"T")/100,"") -> 0.16064496 | N475: =RTD("cqg.rtd", ,"ContractData",A475, "T_CVol",, "T") -> 595.70231 | O475: =IFERROR(N475/RTD("cqg.rtd",,"StudyData", $A475, "MA", "InputChoice=Vol,MAType=Sim,Period=21", "MA","D","-1","all",,,,"T"),"") -> 0.00057874715 | P475: =IFERROR(D475/RTD("cqg.rtd",,"StudyData","ATR("&A475&",MAType:=Sim,Period:=21)","Bar",, "Close", "D",,,,,,"T"),"") -> 0 | Q475: =RTD("cqg.rtd",,"StudyData", $A475, "MA", "InputChoice=Close,MAType=Sim,Period=21", "MA","D",,"all",,,,"T") -> 526.8381 | R475: =RTD("cqg.rtd",,"StudyData",$A475, "StdDev", "InputChoice=Close,Period1=21", "STDDEV","D",,"all",,,,"T") -> 15.259119 | S475: =IFERROR(STANDARDIZE(C475,Q475,R475),"") -> -0.04247265
